{"text_format":"1","workbook":"xlsx","n_sheets":14,"sheets":["Dashboard","Stake","Daily Diary","Deposit_Withdraw","Charts","Calendar","Daily Report","Weekly Report","Monthly Report","PIVOT2","Giorni Settimana","Pivot","Grafico Strategie Settimanali","Pivot Strategie"],"not_rendered":{"charts":5,"images":16,"macros":1,"external_links":0,"defined_names":14,"comments":1,"pivot_tables":5},"unopened":[],"bounds":{"document_bytes":16777216,"sheet_cells":100000,"rows_first":2000,"rows_last":500,"rows_between":2000,"halvings":0,"cell_chars":16384,"cell_head_chars":4096},"cells_cut":0,"cells_raw":0,"read":"whole","date_system":"1900"}

{"sheet":"Dashboard","index":0,"n_rows":56,"n_cols":18,"rows_kept":56,"cut":false,"hidden":false,"merged":[[60,7,63,8],[60,10,63,11],[60,13,63,14],[60,18,63,19],[52,23,52,24],[53,23,53,24],[53,9,57,13],[53,15,54,21],[55,15,56,21],[2,1,2,5],[3,1,3,5],[4,1,4,5],[5,1,5,5],[6,1,6,5],[32,9,32,13],[3,17,3,21],[5,17,5,21],[38,9,38,13],[48,1,51,21],[7,1,7,5],[26,16,26,19],[32,16,32,19],[26,9,26,13]]}
[]
[]
[]
[null,"REGISTER",null,null,null,null,null,null,null,null,null,null,null,null,null,null,null,"REGISTER"]
[]
[]
[]
[]
[]
[]
[]
[]
[]
[]
[]
[]
[]
[]
[]
[]
[]
[]
[]
[]
[]
[]
[null,null,null,null,null,null,null,null,null,"Insert the departure date",null,null,null,null,null,null,"2023-05-15"]
[]
[]
[]
[]
[]
[null,null,null,null,null,null,null,null,null,"Insert the starting amount",null,null,null,null,null,null,1000]
[]
[]
[]
[]
[]
[]
[]
[]
[]
[]
[]
[]
[]
[]
[]
[null,"After each row of the table in the \"Daily Diary\" sheet has been filled in correctly, to view the progress of the Charts in the \"Charts\" sheet, press the Refresh button."]
[]
[]
[]
[]
[null,null,null,null,null,null,null,null,null,"Useful links",null,null,null,null,null,"POWERED BY: AndreaVVF"]
[]
[null,null,null,null,null,null,null,null,null,null,null,null,null,null,null,"DESIGNED BY: Gianluca Landi"]

{"sheet":"Stake","index":1,"n_rows":31,"n_cols":21,"rows_kept":31,"cut":false,"hidden":false,"merged":[[24,1,24,4],[25,1,25,4],[18,1,18,4],[19,1,19,4],[16,1,17,4],[20,1,20,4],[21,1,21,4],[22,1,22,4],[23,1,23,4],[26,1,26,4],[27,1,27,4],[28,1,28,4],[29,1,29,4],[30,1,30,4]]}
[]
[]
[]
[]
[]
[]
[]
[]
[]
[]
[]
[]
[]
[]
[]
[]
[null,"MONTH",null,null,null,"Initial","Personal",null,null,null,null,null,null,null,null,"Total","Trading ","Trading ","Profit"]
[null,null,null,null,null,"Amount","Stake",2.5000000000000001E-3,5.0000000000000001E-3,7.4999999999999997E-3,0.01,1.2500000000000001E-2,1.4999999999999999E-2,1.7500000000000002E-2,0.02,"Amount","Difference (%)","Difference","?",null,"Cassa Iniziale + Cassa Trading Mensile"]
[null,{"$f":"'Daily Diary'!A3","v":"2023-05-15"},null,null,null,{"$f":"Dashboard!Q33","v":1000},null,{"$f":"F19*H18","v":2.5},{"$f":"F19*I18","v":5},{"$f":"F19*J18","v":7.5},{"$f":"F19*K18","v":10},{"$f":"F19*L18","v":12.5},{"$f":"F19*M18","v":15},{"$f":"F19*N18","v":17.5},{"$f":"F19*O18","v":20},{"$f":"F19+'Monthly Report'!V13","v":1000},{"$f":"(U19-F19)/F19","v":0},{"$f":"U19-F19","v":0},{"$f":"IF(R19=0,\"DRAW\",IF(R19>0,\"YES\",\"NO\"))","v":"DRAW"},null,{"$f":"F19+'Monthly Report'!R13","v":1000}]
[null,{"$f":"EDATE(B19,1)","v":"2023-06-15"},null,null,null,{"$f":"P19","v":1000},null,{"$f":"F20*H18","v":2.5},{"$f":"F20*I18","v":5},{"$f":"F20*J18","v":7.5},{"$f":"F20*K18","v":10},{"$f":"F20*L18","v":12.5},{"$f":"F20*M18","v":15},{"$f":"F20*N18","v":17.5},{"$f":"F20*O18","v":20},{"$f":"'Monthly Report'!V14+Stake!F20","v":1000},0,0,{"$f":"IF(R20=0,\"DRAW\",IF(R20>0,\"YES\",\"NO\"))","v":"DRAW"},null,{"$f":"F20+'Monthly Report'!R14","v":1000}]
[null,"2023-07-15",null,null,null,{"$f":"P20","v":1000},null,{"$f":"F21*H18","v":2.5},{"$f":"F21*I18","v":5},{"$f":"F21*J18","v":7.5},{"$f":"F21*K18","v":10},{"$f":"F21*L18","v":12.5},{"$f":"F21*M18","v":15},{"$f":"F21*N18","v":17.5},{"$f":"F21*O18","v":20},{"$f":"'Monthly Report'!V15+Stake!F21","v":1000},0,0,"DRAW",null,{"$f":"F21+'Monthly Report'!R15","v":1000}]
[null,"2023-08-15",null,null,null,1000,null,{"$f":"F22*H18","v":2.5},{"$f":"F22*I18","v":5},{"$f":"F22*J18","v":7.5},{"$f":"F22*K18","v":10},{"$f":"F22*L18","v":12.5},{"$f":"F22*M18","v":15},{"$f":"F22*N18","v":17.5},{"$f":"F22*O18","v":20},{"$f":"'Monthly Report'!V16+Stake!F22","v":1000},0,0,"DRAW",null,{"$f":"F22+'Monthly Report'!R16","v":1000}]
[null,"2023-09-15",null,null,null,1000,null,{"$f":"F23*H18","v":2.5},{"$f":"F23*I18","v":5},{"$f":"F23*J18","v":7.5},{"$f":"F23*K18","v":10},{"$f":"F23*L18","v":12.5},{"$f":"F23*M18","v":15},{"$f":"F23*N18","v":17.5},{"$f":"F23*O18","v":20},{"$f":"'Monthly Report'!V17+Stake!F23","v":1000},0,0,"DRAW",null,{"$f":"F23+'Monthly Report'!R17","v":1000}]
[null,"2023-10-15",null,null,null,1000,null,{"$f":"F24*H18","v":2.5},{"$f":"F24*I18","v":5},{"$f":"F24*J18","v":7.5},{"$f":"F24*K18","v":10},{"$f":"F24*L18","v":12.5},{"$f":"F24*M18","v":15},{"$f":"F24*N18","v":17.5},{"$f":"F24*O18","v":20},{"$f":"'Monthly Report'!V18+Stake!F24","v":1000},0,0,"DRAW",null,{"$f":"F24+'Monthly Report'!R18","v":1000}]
[null,"2023-11-15",null,null,null,1000,null,{"$f":"F25*H18","v":2.5},{"$f":"F25*I18","v":5},{"$f":"F25*J18","v":7.5},{"$f":"F25*K18","v":10},{"$f":"F25*L18","v":12.5},{"$f":"F25*M18","v":15},{"$f":"F25*N18","v":17.5},{"$f":"F25*O18","v":20},{"$f":"'Monthly Report'!V19+Stake!F25","v":1000},0,0,"DRAW",null,{"$f":"F25+'Monthly Report'!R19","v":1000}]
[null,"2023-12-15",null,null,null,1000,null,{"$f":"F26*H18","v":2.5},{"$f":"F26*I18","v":5},{"$f":"F26*J18","v":7.5},{"$f":"F26*K18","v":10},{"$f":"F26*L18","v":12.5},{"$f":"F26*M18","v":15},{"$f":"F26*N18","v":17.5},{"$f":"F26*O18","v":20},{"$f":"'Monthly Report'!V20+Stake!F26","v":1000},0,0,"DRAW",null,{"$f":"F26+'Monthly Report'!R20","v":1000}]
[null,"2024-01-15",null,null,null,1000,null,{"$f":"F27*H18","v":2.5},{"$f":"F27*I18","v":5},{"$f":"F27*J18","v":7.5},{"$f":"F27*K18","v":10},{"$f":"F27*L18","v":12.5},{"$f":"F27*M18","v":15},{"$f":"F27*N18","v":17.5},{"$f":"F27*O18","v":20},{"$f":"'Monthly Report'!V21+Stake!F27","v":1000},0,0,"DRAW",null,{"$f":"F27+'Monthly Report'!R21","v":1000}]
[null,"2024-02-15",null,null,null,1000,null,{"$f":"F28*H18","v":2.5},{"$f":"F28*I18","v":5},{"$f":"F28*J18","v":7.5},{"$f":"F28*K18","v":10},{"$f":"F28*L18","v":12.5},{"$f":"F28*M18","v":15},{"$f":"F28*N18","v":17.5},{"$f":"F28*O18","v":20},{"$f":"'Monthly Report'!V22+Stake!F28","v":1000},0,0,"DRAW",null,{"$f":"F28+'Monthly Report'!R22","v":1000}]
[null,"2024-03-15",null,null,null,1000,null,{"$f":"F29*H18","v":2.5},{"$f":"F29*I18","v":5},{"$f":"F29*J18","v":7.5},{"$f":"F29*K18","v":10},{"$f":"F29*L18","v":12.5},{"$f":"F29*M18","v":15},{"$f":"F29*N18","v":17.5},{"$f":"F29*O18","v":20},{"$f":"'Monthly Report'!V23+Stake!F29","v":1000},0,0,"DRAW",null,{"$f":"F29+'Monthly Report'!R23","v":1000}]
[null,"2024-04-15",null,null,null,1000,null,{"$f":"F30*H18","v":2.5},{"$f":"F30*I18","v":5},{"$f":"F30*J18","v":7.5},{"$f":"F30*K18","v":10},{"$f":"F30*L18","v":12.5},{"$f":"F30*M18","v":15},{"$f":"F30*N18","v":17.5},{"$f":"F30*O18","v":20},{"$f":"'Monthly Report'!V24+Stake!F30","v":1000},0,0,"DRAW",null,{"$f":"F30+'Monthly Report'!R24","v":1000}]
[null,"2024-05-15",null,null,null,1000,null,{"$f":"F31*H18","v":2.5},{"$f":"F31*I18","v":5},{"$f":"F31*J18","v":7.5},{"$f":"F31*K18","v":10},{"$f":"F31*L18","v":12.5},{"$f":"F31*M18","v":15},{"$f":"F31*N18","v":17.5},{"$f":"F31*O18","v":20},{"$f":"'Monthly Report'!V25+Stake!F31","v":1000},0,0,"DRAW",null,{"$f":"F31+'Monthly Report'!R25","v":1000}]

{"sheet":"Daily Diary","index":2,"n_rows":4000,"n_cols":16,"rows_kept":4000,"cut":false,"hidden":false,"merged":[]}
[]
["Date","Match","League","Exchange/Bookmaker","Strategy","Market","Back or Lay","Odds","Stake ","Number of Trades","Win/Lose","Profit/\nLoss","% TRADING AMOUNT","TOTAL TRADING AMOUNT","Note"]
[{"$f":"Dashboard!Q27","v":"2023-05-15"},null,null,null,null,null,null,null,null,null,null,null,{"$f":"IF(L3=\"\",\"\",L3/P3)","v":""},{"$f":"IF(L3=\"\",\"\",P3+L3)","v":""},null,{"$f":"Stake!F19","v":1000}]
[null,null,null,null,null,null,null,null,null,null,null,null,{"$f":"IF(L4=\"\",\"\",L4/N3)","v":""},{"$f":"IF(L4=\"\",\"\",L4+N3)","v":""},null,{"$f":"SUM(Stake!F19,'Daily Report'!C13:C378,'Daily Report'!F13:F378)","v":1000}]
[null,null,null,null,null,null,null,null,null,null,null,null,{"$f":"IF(L5=\"\",\"\",L5/N4)","v":""},{"$f":"IF(L5=\"\",\"\",L5+N4)","v":""}]
[null,null,null,null,null,null,null,null,null,null,null,null,"",""]
[null,null,null,null,null,null,null,null,null,null,null,null,"",""]
[null,null,null,null,null,null,null,null,null,null,null,null,"",""]
[null,null,null,null,null,null,null,null,null,null,null,null,"",""]
[null,null,null,null,null,null,null,null,null,null,null,null,"",""]
[null,null,null,null,null,null,null,null,null,null,null,null,"",""]
[null,null,null,null,null,null,null,null,null,null,null,null,"",""]
[null,null,null,null,null,null,null,null,null,null,null,null,"",""]
[null,null,null,null,null,null,null,null,null,null,null,null,"",""]
[null,null,null,null,null,null,null,null,null,null,null,null,"",""]
[null,null,null,null,null,null,null,null,null,null,null,null,"",""]
[null,null,null,null,null,null,null,null,null,null,null,null,"",""]
[null,null,null,null,null,null,null,null,null,null,null,null,"",""]
[null,null,null,null,null,null,null,null,null,null,null,null,"",""]
[null,null,null,null,null,null,null,null,null,null,null,null,"",""]
[null,null,null,null,null,null,null,null,null,null,null,null,"",""]
[null,null,null,null,null,null,null,null,null,null,null,null,"",""]
[null,null,null,null,null,null,null,null,null,null,null,null,"",""]
[null,null,null,null,null,null,null,null,null,null,null,null,"",""]
[null,null,null,null,null,null,null,null,null,null,null,null,"",""]
[null,null,null,null,null,null,null,null,null,null,null,null,"",""]
[null,null,null,null,null,null,null,null,null,null,null,null,"",""]
[null,null,null,null,null,null,null,null,null,null,null,null,"",""]
[null,null,null,null,null,null,null,null,null,null,null,null,"",""]
[null,null,null,null,null,null,null,null,null,null,null,null,"",""]
[null,null,null,null,null,null,null,null,null,null,null,null,"",""]
[null,null,null,null,null,null,null,null,null,null,null,null,"",""]
[null,null,null,null,null,null,null,null,null,null,null,null,"",""]
[null,null,null,null,null,null,null,null,null,null,null,null,"",""]
[null,null,null,null,null,null,null,null,null,null,null,null,"",""]
[null,null,null,null,null,null,null,null,null,null,null,null,"",""]
[null,null,null,null,null,null,null,null,null,null,null,null,"",""]
[null,null,null,null,null,null,null,null,null,null,null,null,"",""]
[null,null,null,null,null,null,null,null,null,null,null,null,"",""]
[null,null,null,null,null,null,null,null,null,null,null,null,"",""]
[null,null,null,null,null,null,null,null,null,null,null,null,"",""]
[null,null,null,null,null,null,null,null,null,null,null,null,"",""]
[null,null,null,null,null,null,null,null,null,null,null,null,"",""]
[null,null,null,null,null,null,null,null,null,null,null,null,"",""]
[null,null,null,null,null,null,null,null,null,null,null,null,"",""]
[null,null,null,null,null,null,null,null,null,null,null,null,"",""]
[null,null,null,null,null,null,null,null,null,null,null,null,"",""]
[null,null,null,null,null,null,null,null,null,null,null,null,"",""]
[null,null,null,null,null,null,null,null,null,null,null,null,"",""]
[null,null,null,null,null,null,null,null,null,null,null,null,"",""]
[null,null,null,null,null,null,null,null,null,null,null,null,"",""]
[null,null,null,null,null,null,null,null,null,null,null,null,"",""]
[null,null,null,null,null,null,null,null,null,null,null,null,"",""]
[null,null,null,null,null,null,null,null,null,null,null,null,"",""]
[null,null,null,null,null,null,null,null,null,null,null,null,"",""]
[null,null,null,null,null,null,null,null,null,null,null,null,"",""]
[null,null,null,null,null,null,null,null,null,null,null,null,"",""]
[null,null,null,null,null,null,null,null,null,null,null,null,"",""]
[null,null,null,null,null,null,null,null,null,null,null,null,"",""]
[null,null,null,null,null,null,null,null,null,null,null,null,"",""]
[null,null,null,null,null,null,null,null,null,null,null,null,"",""]
[null,null,null,null,null,null,null,null,null,null,null,null,"",""]
[null,null,null,null,null,null,null,null,null,null,null,null,"",""]
[null,null,null,null,null,null,null,null,null,null,null,null,"",""]
[null,null,null,null,null,null,null,null,null,null,null,null,"",""]
[null,null,null,null,null,null,null,null,null,null,null,null,"",""]
[null,null,null,null,null,null,null,null,null,null,null,null,"",""]
[null,null,null,null,null,null,null,null,null,null,null,null,"",""]
[null,null,null,null,null,null,null,null,null,null,null,null,{"$f":"IF(L69=\"\",\"\",L69/N68)","v":""},{"$f":"IF(L69=\"\",\"\",L69+N68)","v":""}]
[null,null,null,null,null,null,null,null,null,null,null,null,"",""]
[null,null,null,null,null,null,null,null,null,null,null,null,"",""]
[null,null,null,null,null,null,null,null,null,null,null,null,"",""]
[null,null,null,null,null,null,null,null,null,null,null,null,"",""]
[null,null,null,null,null,null,null,null,null,null,null,null,"",""]
[null,null,null,null,null,null,null,null,null,null,null,null,"",""]
[null,null,null,null,null,null,null,null,null,null,null,null,"",""]
[null,null,null,null,null,null,null,null,null,null,null,null,"",""]
[null,null,null,null,null,null,null,null,null,null,null,null,"",""]
[null,null,null,null,null,null,null,null,null,null,null,null,"",""]
[null,null,null,null,null,null,null,null,null,null,null,null,"",""]
[null,null,null,null,null,null,null,null,null,null,null,null,"",""]
[null,null,null,null,null,null,null,null,null,null,null,null,"",""]
[null,null,null,null,null,null,null,null,null,null,null,null,"",""]
[null,null,null,null,null,null,null,null,null,null,null,null,"",""]
[null,null,null,null,null,null,null,null,null,null,null,null,"",""]
[null,null,null,null,null,null,null,null,null,null,null,null,"",""]
[null,null,null,null,null,null,null,null,null,null,null,null,"",""]
[null,null,null,null,null,null,null,null,null,null,null,null,"",""]
[null,null,null,null,null,null,null,null,null,null,null,null,"",""]
[null,null,null,null,null,null,null,null,null,null,null,null,"",""]
[null,null,null,null,null,null,null,null,null,null,null,null,"",""]
[null,null,null,null,null,null,null,null,null,null,null,null,"",""]
[null,null,null,null,null,null,null,null,null,null,null,null,"",""]
[null,null,null,null,null,null,null,null,null,null,null,null,"",""]
[null,null,null,null,null,null,null,null,null,null,null,null,"",""]
[null,null,null,null,null,null,null,null,null,null,null,null,"",""]
[null,null,null,null,null,null,null,null,null,null,null,null,"",""]
[null,null,null,null,null,null,null,null,null,null,null,null,"",""]
[null,null,null,null,null,null,null,null,null,null,null,null,"",""]
[null,null,null,null,null,null,null,null,null,null,null,null,"",""]
[null,null,null,null,null,null,null,null,null,null,null,null,"",""]
[null,null,null,null,null,null,null,null,null,null,null,null,"",""]
[null,null,null,null,null,null,null,null,null,null,null,null,"",""]
[null,null,null,null,null,null,null,null,null,null,null,null,"",""]
[null,null,null,null,null,null,null,null,null,null,null,null,"",""]
[null,null,null,null,null,null,null,null,null,null,null,null,"",""]
[null,null,null,null,null,null,null,null,null,null,null,null,"",""]
[null,null,null,null,null,null,null,null,null,null,null,null,"",""]
[null,null,null,null,null,null,null,null,null,null,null,null,"",""]
[null,null,null,null,null,null,null,null,null,null,null,null,"",""]
[null,null,null,null,null,null,null,null,null,null,null,null,"",""]
[null,null,null,null,null,null,null,null,null,null,null,null,"",""]
[null,null,null,null,null,null,null,null,null,null,null,null,"",""]
[null,null,null,null,null,null,null,null,null,null,null,null,"",""]
[null,null,null,null,null,null,null,null,null,null,null,null,"",""]
[null,null,null,null,null,null,null,null,null,null,null,null,"",""]
[null,null,null,null,null,null,null,null,null,null,null,null,"",""]
[null,null,null,null,null,null,null,null,null,null,null,null,"",""]
[null,null,null,null,null,null,null,null,null,null,null,null,"",""]
[null,null,null,null,null,null,null,null,null,null,null,null,"",""]
[null,null,null,null,null,null,null,null,null,null,null,null,"",""]
[null,null,null,null,null,null,null,null,null,null,null,null,"",""]
[null,null,null,null,null,null,null,null,null,null,null,null,"",""]
[null,null,null,null,null,null,null,null,null,null,null,null,"",""]
[null,null,null,null,null,null,null,null,null,null,null,null,"",""]
[null,null,null,null,null,null,null,null,null,null,null,null,"",""]
[null,null,null,null,null,null,null,null,null,null,null,null,"",""]
[null,null,null,null,null,null,null,null,null,null,null,null,"",""]
[null,null,null,null,null,null,null,null,null,null,null,null,"",""]
[null,null,null,null,null,null,null,null,null,null,null,null,"",""]
[null,null,null,null,null,null,null,null,null,null,null,null,"",""]
[null,null,null,null,null,null,null,null,null,null,null,null,"",""]
[null,null,null,null,null,null,null,null,null,null,null,null,{"$f":"IF(L133=\"\",\"\",L133/N132)","v":""},{"$f":"IF(L133=\"\",\"\",L133+N132)","v":""}]
[null,null,null,null,null,null,null,null,null,null,null,null,"",""]
[null,null,null,null,null,null,null,null,null,null,null,null,"",""]
[null,null,null,null,null,null,null,null,null,null,null,null,"",""]
[null,null,null,null,null,null,null,null,null,null,null,null,"",""]
[null,null,null,null,null,null,null,null,null,null,null,null,"",""]
[null,null,null,null,null,null,null,null,null,null,null,null,"",""]
[null,null,null,null,null,null,null,null,null,null,null,null,"",""]
[null,null,null,null,null,null,null,null,null,null,null,null,"",""]
[null,null,null,null,null,null,null,null,null,null,null,null,"",""]
[null,null,null,null,null,null,null,null,null,null,null,null,"",""]
[null,null,null,null,null,null,null,null,null,null,null,null,"",""]
[null,null,null,null,null,null,null,null,null,null,null,null,"",""]
[null,null,null,null,null,null,null,null,null,null,null,null,"",""]
[null,null,null,null,null,null,null,null,null,null,null,null,"",""]
[null,null,null,null,null,null,null,null,null,null,null,null,"",""]
[null,null,null,null,null,null,null,null,null,null,null,null,"",""]
[null,null,null,null,null,null,null,null,null,null,null,null,"",""]
[null,null,null,null,null,null,null,null,null,null,null,null,"",""]
[null,null,null,null,null,null,null,null,null,null,null,null,"",""]
[null,null,null,null,null,null,null,null,null,null,null,null,"",""]
[null,null,null,null,null,null,null,null,null,null,null,null,"",""]
[null,null,null,null,null,null,null,null,null,null,null,null,"",""]
[null,null,null,null,null,null,null,null,null,null,null,null,"",""]
[null,null,null,null,null,null,null,null,null,null,null,null,"",""]
[null,null,null,null,null,null,null,null,null,null,null,null,"",""]
[null,null,null,null,null,null,null,null,null,null,null,null,"",""]
[null,null,null,null,null,null,null,null,null,null,null,null,"",""]
[null,null,null,null,null,null,null,null,null,null,null,null,"",""]
[null,null,null,null,null,null,null,null,null,null,null,null,"",""]
[null,null,null,null,null,null,null,null,null,null,null,null,"",""]
[null,null,null,null,null,null,null,null,null,null,null,null,"",""]
[null,null,null,null,null,null,null,null,null,null,null,null,"",""]
[null,null,null,null,null,null,null,null,null,null,null,null,"",""]
[null,null,null,null,null,null,null,null,null,null,null,null,"",""]
[null,null,null,null,null,null,null,null,null,null,null,null,"",""]
[null,null,null,null,null,null,null,null,null,null,null,null,"",""]
[null,null,null,null,null,null,null,null,null,null,null,null,"",""]
[null,null,null,null,null,null,null,null,null,null,null,null,"",""]
[null,null,null,null,null,null,null,null,null,null,null,null,"",""]
[null,null,null,null,null,null,null,null,null,null,null,null,"",""]
[null,null,null,null,null,null,null,null,null,null,null,null,"",""]
[null,null,null,null,null,null,null,null,null,null,null,null,"",""]
[null,null,null,null,null,null,null,null,null,null,null,null,"",""]
[null,null,null,null,null,null,null,null,null,null,null,null,"",""]
[null,null,null,null,null,null,null,null,null,null,null,null,"",""]
[null,null,null,null,null,null,null,null,null,null,null,null,"",""]
[null,null,null,null,null,null,null,null,null,null,null,null,"",""]
[null,null,null,null,null,null,null,null,null,null,null,null,"",""]
[null,null,null,null,null,null,null,null,null,null,null,null,"",""]
[null,null,null,null,null,null,null,null,null,null,null,null,"",""]
[null,null,null,null,null,null,null,null,null,null,null,null,"",""]
[null,null,null,null,null,null,null,null,null,null,null,null,"",""]
[null,null,null,null,null,null,null,null,null,null,null,null,"",""]
[null,null,null,null,null,null,null,null,null,null,null,null,"",""]
[null,null,null,null,null,null,null,null,null,null,null,null,"",""]
[null,null,null,null,null,null,null,null,null,null,null,null,"",""]
[null,null,null,null,null,null,null,null,null,null,null,null,"",""]
[null,null,null,null,null,null,null,null,null,null,null,null,"",""]
[null,null,null,null,null,null,null,null,null,null,null,null,"",""]
[null,null,null,null,null,null,null,null,null,null,null,null,"",""]
[null,null,null,null,null,null,null,null,null,null,null,null,"",""]
[null,null,null,null,null,null,null,null,null,null,null,null,"",""]
[null,null,null,null,null,null,null,null,null,null,null,null,"",""]
[null,null,null,null,null,null,null,null,null,null,null,null,{"$f":"IF(L197=\"\",\"\",L197/N196)","v":""},{"$f":"IF(L197=\"\",\"\",L197+N196)","v":""}]
[null,null,null,null,null,null,null,null,null,null,null,null,"",""]
[null,null,null,null,null,null,null,null,null,null,null,null,"",""]
[null,null,null,null,null,null,null,null,null,null,null,null,"",""]
[null,null,null,null,null,null,null,null,null,null,null,null,"",""]
[null,null,null,null,null,null,null,null,null,null,null,null,"",""]
[null,null,null,null,null,null,null,null,null,null,null,null,"",""]
[null,null,null,null,null,null,null,null,null,null,null,null,"",""]
[null,null,null,null,null,null,null,null,null,null,null,null,"",""]
[null,null,null,null,null,null,null,null,null,null,null,null,"",""]
[null,null,null,null,null,null,null,null,null,null,null,null,"",""]
[null,null,null,null,null,null,null,null,null,null,null,null,"",""]
[null,null,null,null,null,null,null,null,null,null,null,null,"",""]
[null,null,null,null,null,null,null,null,null,null,null,null,"",""]
[null,null,null,null,null,null,null,null,null,null,null,null,"",""]
[null,null,null,null,null,null,null,null,null,null,null,null,"",""]
[null,null,null,null,null,null,null,null,null,null,null,null,"",""]
[null,null,null,null,null,null,null,null,null,null,null,null,"",""]
[null,null,null,null,null,null,null,null,null,null,null,null,"",""]
[null,null,null,null,null,null,null,null,null,null,null,null,"",""]
[null,null,null,null,null,null,null,null,null,null,null,null,"",""]
[null,null,null,null,null,null,null,null,null,null,null,null,"",""]
[null,null,null,null,null,null,null,null,null,null,null,null,"",""]
[null,null,null,null,null,null,null,null,null,null,null,null,"",""]
[null,null,null,null,null,null,null,null,null,null,null,null,"",""]
[null,null,null,null,null,null,null,null,null,null,null,null,"",""]
[null,null,null,null,null,null,null,null,null,null,null,null,"",""]
[null,null,null,null,null,null,null,null,null,null,null,null,"",""]
[null,null,null,null,null,null,null,null,null,null,null,null,"",""]
[null,null,null,null,null,null,null,null,null,null,null,null,"",""]
[null,null,null,null,null,null,null,null,null,null,null,null,"",""]
[null,null,null,null,null,null,null,null,null,null,null,null,"",""]
[null,null,null,null,null,null,null,null,null,null,null,null,"",""]
[null,null,null,null,null,null,null,null,null,null,null,null,"",""]
[null,null,null,null,null,null,null,null,null,null,null,null,"",""]
[null,null,null,null,null,null,null,null,null,null,null,null,"",""]
[null,null,null,null,null,null,null,null,null,null,null,null,"",""]
[null,null,null,null,null,null,null,null,null,null,null,null,"",""]
[null,null,null,null,null,null,null,null,null,null,null,null,"",""]
[null,null,null,null,null,null,null,null,null,null,null,null,"",""]
[null,null,null,null,null,null,null,null,null,null,null,null,"",""]
[null,null,null,null,null,null,null,null,null,null,null,null,"",""]
[null,null,null,null,null,null,null,null,null,null,null,null,"",""]
[null,null,null,null,null,null,null,null,null,null,null,null,"",""]
[null,null,null,null,null,null,null,null,null,null,null,null,"",""]
[null,null,null,null,null,null,null,null,null,null,null,null,"",""]
[null,null,null,null,null,null,null,null,null,null,null,null,"",""]
[null,null,null,null,null,null,null,null,null,null,null,null,"",""]
[null,null,null,null,null,null,null,null,null,null,null,null,"",""]
[null,null,null,null,null,null,null,null,null,null,null,null,"",""]
[null,null,null,null,null,null,null,null,null,null,null,null,"",""]
[null,null,null,null,null,null,null,null,null,null,null,null,"",""]
[null,null,null,null,null,null,null,null,null,null,null,null,"",""]
[null,null,null,null,null,null,null,null,null,null,null,null,"",""]
[null,null,null,null,null,null,null,null,null,null,null,null,"",""]
[null,null,null,null,null,null,null,null,null,null,null,null,"",""]
[null,null,null,null,null,null,null,null,null,null,null,null,"",""]
[null,null,null,null,null,null,null,null,null,null,null,null,"",""]
[null,null,null,null,null,null,null,null,null,null,null,null,"",""]
[null,null,null,null,null,null,null,null,null,null,null,null,"",""]
[null,null,null,null,null,null,null,null,null,null,null,null,"",""]
[null,null,null,null,null,null,null,null,null,null,null,null,"",""]
[null,null,null,null,null,null,null,null,null,null,null,null,"",""]
[null,null,null,null,null,null,null,null,null,null,null,null,"",""]
[null,null,null,null,null,null,null,null,null,null,null,null,{"$f":"IF(L261=\"\",\"\",L261/N260)","v":""},{"$f":"IF(L261=\"\",\"\",L261+N260)","v":""}]
[null,null,null,null,null,null,null,null,null,null,null,null,"",""]
[null,null,null,null,null,null,null,null,null,null,null,null,"",""]
[null,null,null,null,null,null,null,null,null,null,null,null,"",""]
[null,null,null,null,null,null,null,null,null,null,null,null,"",""]
[null,null,null,null,null,null,null,null,null,null,null,null,"",""]
[null,null,null,null,null,null,null,null,null,null,null,null,"",""]
[null,null,null,null,null,null,null,null,null,null,null,null,"",""]
[null,null,null,null,null,null,null,null,null,null,null,null,"",""]
[null,null,null,null,null,null,null,null,null,null,null,null,"",""]
[null,null,null,null,null,null,null,null,null,null,null,null,"",""]
[null,null,null,null,null,null,null,null,null,null,null,null,"",""]
[null,null,null,null,null,null,null,null,null,null,null,null,"",""]
[null,null,null,null,null,null,null,null,null,null,null,null,"",""]
[null,null,null,null,null,null,null,null,null,null,null,null,"",""]
[null,null,null,null,null,null,null,null,null,null,null,null,"",""]
[null,null,null,null,null,null,null,null,null,null,null,null,"",""]
[null,null,null,null,null,null,null,null,null,null,null,null,"",""]
[null,null,null,null,null,null,null,null,null,null,null,null,"",""]
[null,null,null,null,null,null,null,null,null,null,null,null,"",""]
[null,null,null,null,null,null,null,null,null,null,null,null,"",""]
[null,null,null,null,null,null,null,null,null,null,null,null,"",""]
[null,null,null,null,null,null,null,null,null,null,null,null,"",""]
[null,null,null,null,null,null,null,null,null,null,null,null,"",""]
[null,null,null,null,null,null,null,null,null,null,null,null,"",""]
[null,null,null,null,null,null,null,null,null,null,null,null,"",""]
[null,null,null,null,null,null,null,null,null,null,null,null,"",""]
[null,null,null,null,null,null,null,null,null,null,null,null,"",""]
[null,null,null,null,null,null,null,null,null,null,null,null,"",""]
[null,null,null,null,null,null,null,null,null,null,null,null,"",""]
[null,null,null,null,null,null,null,null,null,null,null,null,"",""]
[null,null,null,null,null,null,null,null,null,null,null,null,"",""]
[null,null,null,null,null,null,null,null,null,null,null,null,"",""]
[null,null,null,null,null,null,null,null,null,null,null,null,"",""]
[null,null,null,null,null,null,null,null,null,null,null,null,"",""]
[null,null,null,null,null,null,null,null,null,null,null,null,"",""]
[null,null,null,null,null,null,null,null,null,null,null,null,"",""]
[null,null,null,null,null,null,null,null,null,null,null,null,"",""]
[null,null,null,null,null,null,null,null,null,null,null,null,"",""]
[null,null,null,null,null,null,null,null,null,null,null,null,"",""]
[null,null,null,null,null,null,null,null,null,null,null,null,"",""]
[null,null,null,null,null,null,null,null,null,null,null,null,"",""]
[null,null,null,null,null,null,null,null,null,null,null,null,"",""]
[null,null,null,null,null,null,null,null,null,null,null,null,"",""]
[null,null,null,null,null,null,null,null,null,null,null,null,"",""]
[null,null,null,null,null,null,null,null,null,null,null,null,"",""]
[null,null,null,null,null,null,null,null,null,null,null,null,"",""]
[null,null,null,null,null,null,null,null,null,null,null,null,"",""]
[null,null,null,null,null,null,null,null,null,null,null,null,"",""]
[null,null,null,null,null,null,null,null,null,null,null,null,"",""]
[null,null,null,null,null,null,null,null,null,null,null,null,"",""]
[null,null,null,null,null,null,null,null,null,null,null,null,"",""]
[null,null,null,null,null,null,null,null,null,null,null,null,"",""]
[null,null,null,null,null,null,null,null,null,null,null,null,"",""]
[null,null,null,null,null,null,null,null,null,null,null,null,"",""]
[null,null,null,null,null,null,null,null,null,null,null,null,"",""]
[null,null,null,null,null,null,null,null,null,null,null,null,"",""]
[null,null,null,null,null,null,null,null,null,null,null,null,"",""]
[null,null,null,null,null,null,null,null,null,null,null,null,"",""]
[null,null,null,null,null,null,null,null,null,null,null,null,"",""]
[null,null,null,null,null,null,null,null,null,null,null,null,"",""]
[null,null,null,null,null,null,null,null,null,null,null,null,"",""]
[null,null,null,null,null,null,null,null,null,null,null,null,"",""]
[null,null,null,null,null,null,null,null,null,null,null,null,"",""]
[null,null,null,null,null,null,null,null,null,null,null,null,{"$f":"IF(L325=\"\",\"\",L325/N324)","v":""},{"$f":"IF(L325=\"\",\"\",L325+N324)","v":""}]
[null,null,null,null,null,null,null,null,null,null,null,null,"",""]
[null,null,null,null,null,null,null,null,null,null,null,null,"",""]
[null,null,null,null,null,null,null,null,null,null,null,null,"",""]
[null,null,null,null,null,null,null,null,null,null,null,null,"",""]
[null,null,null,null,null,null,null,null,null,null,null,null,"",""]
[null,null,null,null,null,null,null,null,null,null,null,null,"",""]
[null,null,null,null,null,null,null,null,null,null,null,null,"",""]
[null,null,null,null,null,null,null,null,null,null,null,null,"",""]
[null,null,null,null,null,null,null,null,null,null,null,null,"",""]
[null,null,null,null,null,null,null,null,null,null,null,null,"",""]
[null,null,null,null,null,null,null,null,null,null,null,null,"",""]
[null,null,null,null,null,null,null,null,null,null,null,null,"",""]
[null,null,null,null,null,null,null,null,null,null,null,null,"",""]
[null,null,null,null,null,null,null,null,null,null,null,null,"",""]
[null,null,null,null,null,null,null,null,null,null,null,null,"",""]
[null,null,null,null,null,null,null,null,null,null,null,null,"",""]
[null,null,null,null,null,null,null,null,null,null,null,null,"",""]
[null,null,null,null,null,null,null,null,null,null,null,null,"",""]
[null,null,null,null,null,null,null,null,null,null,null,null,"",""]
[null,null,null,null,null,null,null,null,null,null,null,null,"",""]
[null,null,null,null,null,null,null,null,null,null,null,null,"",""]
[null,null,null,null,null,null,null,null,null,null,null,null,"",""]
[null,null,null,null,null,null,null,null,null,null,null,null,"",""]
[null,null,null,null,null,null,null,null,null,null,null,null,"",""]
[null,null,null,null,null,null,null,null,null,null,null,null,"",""]
[null,null,null,null,null,null,null,null,null,null,null,null,"",""]
[null,null,null,null,null,null,null,null,null,null,null,null,"",""]
[null,null,null,null,null,null,null,null,null,null,null,null,"",""]
[null,null,null,null,null,null,null,null,null,null,null,null,"",""]
[null,null,null,null,null,null,null,null,null,null,null,null,"",""]
[null,null,null,null,null,null,null,null,null,null,null,null,"",""]
[null,null,null,null,null,null,null,null,null,null,null,null,"",""]
[null,null,null,null,null,null,null,null,null,null,null,null,"",""]
[null,null,null,null,null,null,null,null,null,null,null,null,"",""]
[null,null,null,null,null,null,null,null,null,null,null,null,"",""]
[null,null,null,null,null,null,null,null,null,null,null,null,"",""]
[null,null,null,null,null,null,null,null,null,null,null,null,"",""]
[null,null,null,null,null,null,null,null,null,null,null,null,"",""]
[null,null,null,null,null,null,null,null,null,null,null,null,"",""]
[null,null,null,null,null,null,null,null,null,null,null,null,"",""]
[null,null,null,null,null,null,null,null,null,null,null,null,"",""]
[null,null,null,null,null,null,null,null,null,null,null,null,"",""]
[null,null,null,null,null,null,null,null,null,null,null,null,"",""]
[null,null,null,null,null,null,null,null,null,null,null,null,"",""]
[null,null,null,null,null,null,null,null,null,null,null,null,"",""]
[null,null,null,null,null,null,null,null,null,null,null,null,"",""]
[null,null,null,null,null,null,null,null,null,null,null,null,"",""]
[null,null,null,null,null,null,null,null,null,null,null,null,"",""]
[null,null,null,null,null,null,null,null,null,null,null,null,"",""]
[null,null,null,null,null,null,null,null,null,null,null,null,"",""]
[null,null,null,null,null,null,null,null,null,null,null,null,"",""]
[null,null,null,null,null,null,null,null,null,null,null,null,"",""]
[null,null,null,null,null,null,null,null,null,null,null,null,"",""]
[null,null,null,null,null,null,null,null,null,null,null,null,"",""]
[null,null,null,null,null,null,null,null,null,null,null,null,"",""]
[null,null,null,null,null,null,null,null,null,null,null,null,"",""]
[null,null,null,null,null,null,null,null,null,null,null,null,"",""]
[null,null,null,null,null,null,null,null,null,null,null,null,"",""]
[null,null,null,null,null,null,null,null,null,null,null,null,"",""]
[null,null,null,null,null,null,null,null,null,null,null,null,"",""]
[null,null,null,null,null,null,null,null,null,null,null,null,"",""]
[null,null,null,null,null,null,null,null,null,null,null,null,"",""]
[null,null,null,null,null,null,null,null,null,null,null,null,"",""]
[null,null,null,null,null,null,null,null,null,null,null,null,{"$f":"IF(L389=\"\",\"\",L389/N388)","v":""},{"$f":"IF(L389=\"\",\"\",L389+N388)","v":""}]
[null,null,null,null,null,null,null,null,null,null,null,null,"",""]
[null,null,null,null,null,null,null,null,null,null,null,null,"",""]
[null,null,null,null,null,null,null,null,null,null,null,null,"",""]
[null,null,null,null,null,null,null,null,null,null,null,null,"",""]
[null,null,null,null,null,null,null,null,null,null,null,null,"",""]
[null,null,null,null,null,null,null,null,null,null,null,null,"",""]
[null,null,null,null,null,null,null,null,null,null,null,null,"",""]
[null,null,null,null,null,null,null,null,null,null,null,null,"",""]
[null,null,null,null,null,null,null,null,null,null,null,null,"",""]
[null,null,null,null,null,null,null,null,null,null,null,null,"",""]
[null,null,null,null,null,null,null,null,null,null,null,null,"",""]
[null,null,null,null,null,null,null,null,null,null,null,null,"",""]
[null,null,null,null,null,null,null,null,null,null,null,null,"",""]
[null,null,null,null,null,null,null,null,null,null,null,null,"",""]
[null,null,null,null,null,null,null,null,null,null,null,null,"",""]
[null,null,null,null,null,null,null,null,null,null,null,null,"",""]
[null,null,null,null,null,null,null,null,null,null,null,null,"",""]
[null,null,null,null,null,null,null,null,null,null,null,null,"",""]
[null,null,null,null,null,null,null,null,null,null,null,null,"",""]
[null,null,null,null,null,null,null,null,null,null,null,null,"",""]
[null,null,null,null,null,null,null,null,null,null,null,null,"",""]
[null,null,null,null,null,null,null,null,null,null,null,null,"",""]
[null,null,null,null,null,null,null,null,null,null,null,null,"",""]
[null,null,null,null,null,null,null,null,null,null,null,null,"",""]
[null,null,null,null,null,null,null,null,null,null,null,null,"",""]
[null,null,null,null,null,null,null,null,null,null,null,null,"",""]
[null,null,null,null,null,null,null,null,null,null,null,null,"",""]
[null,null,null,null,null,null,null,null,null,null,null,null,"",""]
[null,null,null,null,null,null,null,null,null,null,null,null,"",""]
[null,null,null,null,null,null,null,null,null,null,null,null,"",""]
[null,null,null,null,null,null,null,null,null,null,null,null,"",""]
[null,null,null,null,null,null,null,null,null,null,null,null,"",""]
[null,null,null,null,null,null,null,null,null,null,null,null,"",""]
[null,null,null,null,null,null,null,null,null,null,null,null,"",""]
[null,null,null,null,null,null,null,null,null,null,null,null,"",""]
[null,null,null,null,null,null,null,null,null,null,null,null,"",""]
[null,null,null,null,null,null,null,null,null,null,null,null,"",""]
[null,null,null,null,null,null,null,null,null,null,null,null,"",""]
[null,null,null,null,null,null,null,null,null,null,null,null,"",""]
[null,null,null,null,null,null,null,null,null,null,null,null,"",""]
[null,null,null,null,null,null,null,null,null,null,null,null,"",""]
[null,null,null,null,null,null,null,null,null,null,null,null,"",""]
[null,null,null,null,null,null,null,null,null,null,null,null,"",""]
[null,null,null,null,null,null,null,null,null,null,null,null,"",""]
[null,null,null,null,null,null,null,null,null,null,null,null,"",""]
[null,null,null,null,null,null,null,null,null,null,null,null,"",""]
[null,null,null,null,null,null,null,null,null,null,null,null,"",""]
[null,null,null,null,null,null,null,null,null,null,null,null,"",""]
[null,null,null,null,null,null,null,null,null,null,null,null,"",""]
[null,null,null,null,null,null,null,null,null,null,null,null,"",""]
[null,null,null,null,null,null,null,null,null,null,null,null,"",""]
[null,null,null,null,null,null,null,null,null,null,null,null,"",""]
[null,null,null,null,null,null,null,null,null,null,null,null,"",""]
[null,null,null,null,null,null,null,null,null,null,null,null,"",""]
[null,null,null,null,null,null,null,null,null,null,null,null,"",""]
[null,null,null,null,null,null,null,null,null,null,null,null,"",""]
[null,null,null,null,null,null,null,null,null,null,null,null,"",""]
[null,null,null,null,null,null,null,null,null,null,null,null,"",""]
[null,null,null,null,null,null,null,null,null,null,null,null,"",""]
[null,null,null,null,null,null,null,null,null,null,null,null,"",""]
[null,null,null,null,null,null,null,null,null,null,null,null,"",""]
[null,null,null,null,null,null,null,null,null,null,null,null,"",""]
[null,null,null,null,null,null,null,null,null,null,null,null,"",""]
[null,null,null,null,null,null,null,null,null,null,null,null,{"$f":"IF(L453=\"\",\"\",L453/N452)","v":""},{"$f":"IF(L453=\"\",\"\",L453+N452)","v":""}]
[null,null,null,null,null,null,null,null,null,null,null,null,"",""]
[null,null,null,null,null,null,null,null,null,null,null,null,"",""]
[null,null,null,null,null,null,null,null,null,null,null,null,"",""]
[null,null,null,null,null,null,null,null,null,null,null,null,"",""]
[null,null,null,null,null,null,null,null,null,null,null,null,"",""]
[null,null,null,null,null,null,null,null,null,null,null,null,"",""]
[null,null,null,null,null,null,null,null,null,null,null,null,"",""]
[null,null,null,null,null,null,null,null,null,null,null,null,"",""]
[null,null,null,null,null,null,null,null,null,null,null,null,"",""]
[null,null,null,null,null,null,null,null,null,null,null,null,"",""]
[null,null,null,null,null,null,null,null,null,null,null,null,"",""]
[null,null,null,null,null,null,null,null,null,null,null,null,"",""]
[null,null,null,null,null,null,null,null,null,null,null,null,"",""]
[null,null,null,null,null,null,null,null,null,null,null,null,"",""]
[null,null,null,null,null,null,null,null,null,null,null,null,"",""]
[null,null,null,null,null,null,null,null,null,null,null,null,"",""]
[null,null,null,null,null,null,null,null,null,null,null,null,"",""]
[null,null,null,null,null,null,null,null,null,null,null,null,"",""]
[null,null,null,null,null,null,null,null,null,null,null,null,"",""]
[null,null,null,null,null,null,null,null,null,null,null,null,"",""]
[null,null,null,null,null,null,null,null,null,null,null,null,"",""]
[null,null,null,null,null,null,null,null,null,null,null,null,"",""]
[null,null,null,null,null,null,null,null,null,null,null,null,"",""]
[null,null,null,null,null,null,null,null,null,null,null,null,"",""]
[null,null,null,null,null,null,null,null,null,null,null,null,"",""]
[null,null,null,null,null,null,null,null,null,null,null,null,"",""]
[null,null,null,null,null,null,null,null,null,null,null,null,"",""]
[null,null,null,null,null,null,null,null,null,null,null,null,"",""]
[null,null,null,null,null,null,null,null,null,null,null,null,"",""]
[null,null,null,null,null,null,null,null,null,null,null,null,"",""]
[null,null,null,null,null,null,null,null,null,null,null,null,"",""]
[null,null,null,null,null,null,null,null,null,null,null,null,"",""]
[null,null,null,null,null,null,null,null,null,null,null,null,"",""]
[null,null,null,null,null,null,null,null,null,null,null,null,"",""]
[null,null,null,null,null,null,null,null,null,null,null,null,"",""]
[null,null,null,null,null,null,null,null,null,null,null,null,"",""]
[null,null,null,null,null,null,null,null,null,null,null,null,"",""]
[null,null,null,null,null,null,null,null,null,null,null,null,"",""]
[null,null,null,null,null,null,null,null,null,null,null,null,"",""]
[null,null,null,null,null,null,null,null,null,null,null,null,"",""]
[null,null,null,null,null,null,null,null,null,null,null,null,"",""]
[null,null,null,null,null,null,null,null,null,null,null,null,"",""]
[null,null,null,null,null,null,null,null,null,null,null,null,"",""]
[null,null,null,null,null,null,null,null,null,null,null,null,"",""]
[null,null,null,null,null,null,null,null,null,null,null,null,"",""]
[null,null,null,null,null,null,null,null,null,null,null,null,"",""]
[null,null,null,null,null,null,null,null,null,null,null,null,"",""]
[null,null,null,null,null,null,null,null,null,null,null,null,"",""]
[null,null,null,null,null,null,null,null,null,null,null,null,"",""]
[null,null,null,null,null,null,null,null,null,null,null,null,"",""]
[null,null,null,null,null,null,null,null,null,null,null,null,"",""]
[null,null,null,null,null,null,null,null,null,null,null,null,"",""]
[null,null,null,null,null,null,null,null,null,null,null,null,"",""]
[null,null,null,null,null,null,null,null,null,null,null,null,"",""]
[null,null,null,null,null,null,null,null,null,null,null,null,"",""]
[null,null,null,null,null,null,null,null,null,null,null,null,"",""]
[null,null,null,null,null,null,null,null,null,null,null,null,"",""]
[null,null,null,null,null,null,null,null,null,null,null,null,"",""]
[null,null,null,null,null,null,null,null,null,null,null,null,"",""]
[null,null,null,null,null,null,null,null,null,null,null,null,"",""]
[null,null,null,null,null,null,null,null,null,null,null,null,"",""]
[null,null,null,null,null,null,null,null,null,null,null,null,"",""]
[null,null,null,null,null,null,null,null,null,null,null,null,"",""]
[null,null,null,null,null,null,null,null,null,null,null,null,{"$f":"IF(L517=\"\",\"\",L517/N516)","v":""},{"$f":"IF(L517=\"\",\"\",L517+N516)","v":""}]
[null,null,null,null,null,null,null,null,null,null,null,null,"",""]
[null,null,null,null,null,null,null,null,null,null,null,null,"",""]
[null,null,null,null,null,null,null,null,null,null,null,null,"",""]
[null,null,null,null,null,null,null,null,null,null,null,null,"",""]
[null,null,null,null,null,null,null,null,null,null,null,null,"",""]
[null,null,null,null,null,null,null,null,null,null,null,null,"",""]
[null,null,null,null,null,null,null,null,null,null,null,null,"",""]
[null,null,null,null,null,null,null,null,null,null,null,null,"",""]
[null,null,null,null,null,null,null,null,null,null,null,null,"",""]
[null,null,null,null,null,null,null,null,null,null,null,null,"",""]
[null,null,null,null,null,null,null,null,null,null,null,null,"",""]
[null,null,null,null,null,null,null,null,null,null,null,null,"",""]
[null,null,null,null,null,null,null,null,null,null,null,null,"",""]
[null,null,null,null,null,null,null,null,null,null,null,null,"",""]
[null,null,null,null,null,null,null,null,null,null,null,null,"",""]
[null,null,null,null,null,null,null,null,null,null,null,null,"",""]
[null,null,null,null,null,null,null,null,null,null,null,null,"",""]
[null,null,null,null,null,null,null,null,null,null,null,null,"",""]
[null,null,null,null,null,null,null,null,null,null,null,null,"",""]
[null,null,null,null,null,null,null,null,null,null,null,null,"",""]
[null,null,null,null,null,null,null,null,null,null,null,null,"",""]
[null,null,null,null,null,null,null,null,null,null,null,null,"",""]
[null,null,null,null,null,null,null,null,null,null,null,null,"",""]
[null,null,null,null,null,null,null,null,null,null,null,null,"",""]
[null,null,null,null,null,null,null,null,null,null,null,null,"",""]
[null,null,null,null,null,null,null,null,null,null,null,null,"",""]
[null,null,null,null,null,null,null,null,null,null,null,null,"",""]
[null,null,null,null,null,null,null,null,null,null,null,null,"",""]
[null,null,null,null,null,null,null,null,null,null,null,null,"",""]
[null,null,null,null,null,null,null,null,null,null,null,null,"",""]
[null,null,null,null,null,null,null,null,null,null,null,null,"",""]
[null,null,null,null,null,null,null,null,null,null,null,null,"",""]
[null,null,null,null,null,null,null,null,null,null,null,null,"",""]
[null,null,null,null,null,null,null,null,null,null,null,null,"",""]
[null,null,null,null,null,null,null,null,null,null,null,null,"",""]
[null,null,null,null,null,null,null,null,null,null,null,null,"",""]
[null,null,null,null,null,null,null,null,null,null,null,null,"",""]
[null,null,null,null,null,null,null,null,null,null,null,null,"",""]
[null,null,null,null,null,null,null,null,null,null,null,null,"",""]
[null,null,null,null,null,null,null,null,null,null,null,null,"",""]
[null,null,null,null,null,null,null,null,null,null,null,null,"",""]
[null,null,null,null,null,null,null,null,null,null,null,null,"",""]
[null,null,null,null,null,null,null,null,null,null,null,null,"",""]
[null,null,null,null,null,null,null,null,null,null,null,null,"",""]
[null,null,null,null,null,null,null,null,null,null,null,null,"",""]
[null,null,null,null,null,null,null,null,null,null,null,null,"",""]
[null,null,null,null,null,null,null,null,null,null,null,null,"",""]
[null,null,null,null,null,null,null,null,null,null,null,null,"",""]
[null,null,null,null,null,null,null,null,null,null,null,null,"",""]
[null,null,null,null,null,null,null,null,null,null,null,null,"",""]
[null,null,null,null,null,null,null,null,null,null,null,null,"",""]
[null,null,null,null,null,null,null,null,null,null,null,null,"",""]
[null,null,null,null,null,null,null,null,null,null,null,null,"",""]
[null,null,null,null,null,null,null,null,null,null,null,null,"",""]
[null,null,null,null,null,null,null,null,null,null,null,null,"",""]
[null,null,null,null,null,null,null,null,null,null,null,null,"",""]
[null,null,null,null,null,null,null,null,null,null,null,null,"",""]
[null,null,null,null,null,null,null,null,null,null,null,null,"",""]
[null,null,null,null,null,null,null,null,null,null,null,null,"",""]
[null,null,null,null,null,null,null,null,null,null,null,null,"",""]
[null,null,null,null,null,null,null,null,null,null,null,null,"",""]
[null,null,null,null,null,null,null,null,null,null,null,null,"",""]
[null,null,null,null,null,null,null,null,null,null,null,null,"",""]
[null,null,null,null,null,null,null,null,null,null,null,null,{"$f":"IF(L581=\"\",\"\",L581/N580)","v":""},{"$f":"IF(L581=\"\",\"\",L581+N580)","v":""}]
[null,null,null,null,null,null,null,null,null,null,null,null,"",""]
[null,null,null,null,null,null,null,null,null,null,null,null,"",""]
[null,null,null,null,null,null,null,null,null,null,null,null,"",""]
[null,null,null,null,null,null,null,null,null,null,null,null,"",""]
[null,null,null,null,null,null,null,null,null,null,null,null,"",""]
[null,null,null,null,null,null,null,null,null,null,null,null,"",""]
[null,null,null,null,null,null,null,null,null,null,null,null,"",""]
[null,null,null,null,null,null,null,null,null,null,null,null,"",""]
[null,null,null,null,null,null,null,null,null,null,null,null,"",""]
[null,null,null,null,null,null,null,null,null,null,null,null,"",""]
[null,null,null,null,null,null,null,null,null,null,null,null,"",""]
[null,null,null,null,null,null,null,null,null,null,null,null,"",""]
[null,null,null,null,null,null,null,null,null,null,null,null,"",""]
[null,null,null,null,null,null,null,null,null,null,null,null,"",""]
[null,null,null,null,null,null,null,null,null,null,null,null,"",""]
[null,null,null,null,null,null,null,null,null,null,null,null,"",""]
[null,null,null,null,null,null,null,null,null,null,null,null,"",""]
[null,null,null,null,null,null,null,null,null,null,null,null,"",""]
[null,null,null,null,null,null,null,null,null,null,null,null,"",""]
[null,null,null,null,null,null,null,null,null,null,null,null,"",""]
[null,null,null,null,null,null,null,null,null,null,null,null,"",""]
[null,null,null,null,null,null,null,null,null,null,null,null,"",""]
[null,null,null,null,null,null,null,null,null,null,null,null,"",""]
[null,null,null,null,null,null,null,null,null,null,null,null,"",""]
[null,null,null,null,null,null,null,null,null,null,null,null,"",""]
[null,null,null,null,null,null,null,null,null,null,null,null,"",""]
[null,null,null,null,null,null,null,null,null,null,null,null,"",""]
[null,null,null,null,null,null,null,null,null,null,null,null,"",""]
[null,null,null,null,null,null,null,null,null,null,null,null,"",""]
[null,null,null,null,null,null,null,null,null,null,null,null,"",""]
[null,null,null,null,null,null,null,null,null,null,null,null,"",""]
[null,null,null,null,null,null,null,null,null,null,null,null,"",""]
[null,null,null,null,null,null,null,null,null,null,null,null,"",""]
[null,null,null,null,null,null,null,null,null,null,null,null,"",""]
[null,null,null,null,null,null,null,null,null,null,null,null,"",""]
[null,null,null,null,null,null,null,null,null,null,null,null,"",""]
[null,null,null,null,null,null,null,null,null,null,null,null,"",""]
[null,null,null,null,null,null,null,null,null,null,null,null,"",""]
[null,null,null,null,null,null,null,null,null,null,null,null,"",""]
[null,null,null,null,null,null,null,null,null,null,null,null,"",""]
[null,null,null,null,null,null,null,null,null,null,null,null,"",""]
[null,null,null,null,null,null,null,null,null,null,null,null,"",""]
[null,null,null,null,null,null,null,null,null,null,null,null,"",""]
[null,null,null,null,null,null,null,null,null,null,null,null,"",""]
[null,null,null,null,null,null,null,null,null,null,null,null,"",""]
[null,null,null,null,null,null,null,null,null,null,null,null,"",""]
[null,null,null,null,null,null,null,null,null,null,null,null,"",""]
[null,null,null,null,null,null,null,null,null,null,null,null,"",""]
[null,null,null,null,null,null,null,null,null,null,null,null,"",""]
[null,null,null,null,null,null,null,null,null,null,null,null,"",""]
[null,null,null,null,null,null,null,null,null,null,null,null,"",""]
[null,null,null,null,null,null,null,null,null,null,null,null,"",""]
[null,null,null,null,null,null,null,null,null,null,null,null,"",""]
[null,null,null,null,null,null,null,null,null,null,null,null,"",""]
[null,null,null,null,null,null,null,null,null,null,null,null,"",""]
[null,null,null,null,null,null,null,null,null,null,null,null,"",""]
[null,null,null,null,null,null,null,null,null,null,null,null,"",""]
[null,null,null,null,null,null,null,null,null,null,null,null,"",""]
[null,null,null,null,null,null,null,null,null,null,null,null,"",""]
[null,null,null,null,null,null,null,null,null,null,null,null,"",""]
[null,null,null,null,null,null,null,null,null,null,null,null,"",""]
[null,null,null,null,null,null,null,null,null,null,null,null,"",""]
[null,null,null,null,null,null,null,null,null,null,null,null,"",""]
[null,null,null,null,null,null,null,null,null,null,null,null,{"$f":"IF(L645=\"\",\"\",L645/N644)","v":""},{"$f":"IF(L645=\"\",\"\",L645+N644)","v":""}]
[null,null,null,null,null,null,null,null,null,null,null,null,"",""]
[null,null,null,null,null,null,null,null,null,null,null,null,"",""]
[null,null,null,null,null,null,null,null,null,null,null,null,"",""]
[null,null,null,null,null,null,null,null,null,null,null,null,"",""]
[null,null,null,null,null,null,null,null,null,null,null,null,"",""]
[null,null,null,null,null,null,null,null,null,null,null,null,"",""]
[null,null,null,null,null,null,null,null,null,null,null,null,"",""]
[null,null,null,null,null,null,null,null,null,null,null,null,"",""]
[null,null,null,null,null,null,null,null,null,null,null,null,"",""]
[null,null,null,null,null,null,null,null,null,null,null,null,"",""]
[null,null,null,null,null,null,null,null,null,null,null,null,"",""]
[null,null,null,null,null,null,null,null,null,null,null,null,"",""]
[null,null,null,null,null,null,null,null,null,null,null,null,"",""]
[null,null,null,null,null,null,null,null,null,null,null,null,"",""]
[null,null,null,null,null,null,null,null,null,null,null,null,"",""]
[null,null,null,null,null,null,null,null,null,null,null,null,"",""]
[null,null,null,null,null,null,null,null,null,null,null,null,"",""]
[null,null,null,null,null,null,null,null,null,null,null,null,"",""]
[null,null,null,null,null,null,null,null,null,null,null,null,"",""]
[null,null,null,null,null,null,null,null,null,null,null,null,"",""]
[null,null,null,null,null,null,null,null,null,null,null,null,"",""]
[null,null,null,null,null,null,null,null,null,null,null,null,"",""]
[null,null,null,null,null,null,null,null,null,null,null,null,"",""]
[null,null,null,null,null,null,null,null,null,null,null,null,"",""]
[null,null,null,null,null,null,null,null,null,null,null,null,"",""]
[null,null,null,null,null,null,null,null,null,null,null,null,"",""]
[null,null,null,null,null,null,null,null,null,null,null,null,"",""]
[null,null,null,null,null,null,null,null,null,null,null,null,"",""]
[null,null,null,null,null,null,null,null,null,null,null,null,"",""]
[null,null,null,null,null,null,null,null,null,null,null,null,"",""]
[null,null,null,null,null,null,null,null,null,null,null,null,"",""]
[null,null,null,null,null,null,null,null,null,null,null,null,"",""]
[null,null,null,null,null,null,null,null,null,null,null,null,"",""]
[null,null,null,null,null,null,null,null,null,null,null,null,"",""]
[null,null,null,null,null,null,null,null,null,null,null,null,"",""]
[null,null,null,null,null,null,null,null,null,null,null,null,"",""]
[null,null,null,null,null,null,null,null,null,null,null,null,"",""]
[null,null,null,null,null,null,null,null,null,null,null,null,"",""]
[null,null,null,null,null,null,null,null,null,null,null,null,"",""]
[null,null,null,null,null,null,null,null,null,null,null,null,"",""]
[null,null,null,null,null,null,null,null,null,null,null,null,"",""]
[null,null,null,null,null,null,null,null,null,null,null,null,"",""]
[null,null,null,null,null,null,null,null,null,null,null,null,"",""]
[null,null,null,null,null,null,null,null,null,null,null,null,"",""]
[null,null,null,null,null,null,null,null,null,null,null,null,"",""]
[null,null,null,null,null,null,null,null,null,null,null,null,"",""]
[null,null,null,null,null,null,null,null,null,null,null,null,"",""]
[null,null,null,null,null,null,null,null,null,null,null,null,"",""]
[null,null,null,null,null,null,null,null,null,null,null,null,"",""]
[null,null,null,null,null,null,null,null,null,null,null,null,"",""]
[null,null,null,null,null,null,null,null,null,null,null,null,"",""]
[null,null,null,null,null,null,null,null,null,null,null,null,"",""]
[null,null,null,null,null,null,null,null,null,null,null,null,"",""]
[null,null,null,null,null,null,null,null,null,null,null,null,"",""]
[null,null,null,null,null,null,null,null,null,null,null,null,"",""]
[null,null,null,null,null,null,null,null,null,null,null,null,"",""]
[null,null,null,null,null,null,null,null,null,null,null,null,"",""]
[null,null,null,null,null,null,null,null,null,null,null,null,"",""]
[null,null,null,null,null,null,null,null,null,null,null,null,"",""]
[null,null,null,null,null,null,null,null,null,null,null,null,"",""]
[null,null,null,null,null,null,null,null,null,null,null,null,"",""]
[null,null,null,null,null,null,null,null,null,null,null,null,"",""]
[null,null,null,null,null,null,null,null,null,null,null,null,"",""]
[null,null,null,null,null,null,null,null,null,null,null,null,{"$f":"IF(L709=\"\",\"\",L709/N708)","v":""},{"$f":"IF(L709=\"\",\"\",L709+N708)","v":""}]
[null,null,null,null,null,null,null,null,null,null,null,null,"",""]
[null,null,null,null,null,null,null,null,null,null,null,null,"",""]
[null,null,null,null,null,null,null,null,null,null,null,null,"",""]
[null,null,null,null,null,null,null,null,null,null,null,null,"",""]
[null,null,null,null,null,null,null,null,null,null,null,null,"",""]
[null,null,null,null,null,null,null,null,null,null,null,null,"",""]
[null,null,null,null,null,null,null,null,null,null,null,null,"",""]
[null,null,null,null,null,null,null,null,null,null,null,null,"",""]
[null,null,null,null,null,null,null,null,null,null,null,null,"",""]
[null,null,null,null,null,null,null,null,null,null,null,null,"",""]
[null,null,null,null,null,null,null,null,null,null,null,null,"",""]
[null,null,null,null,null,null,null,null,null,null,null,null,"",""]
[null,null,null,null,null,null,null,null,null,null,null,null,"",""]
[null,null,null,null,null,null,null,null,null,null,null,null,"",""]
[null,null,null,null,null,null,null,null,null,null,null,null,"",""]
[null,null,null,null,null,null,null,null,null,null,null,null,"",""]
[null,null,null,null,null,null,null,null,null,null,null,null,"",""]
[null,null,null,null,null,null,null,null,null,null,null,null,"",""]
[null,null,null,null,null,null,null,null,null,null,null,null,"",""]
[null,null,null,null,null,null,null,null,null,null,null,null,"",""]
[null,null,null,null,null,null,null,null,null,null,null,null,"",""]
[null,null,null,null,null,null,null,null,null,null,null,null,"",""]
[null,null,null,null,null,null,null,null,null,null,null,null,"",""]
[null,null,null,null,null,null,null,null,null,null,null,null,"",""]
[null,null,null,null,null,null,null,null,null,null,null,null,"",""]
[null,null,null,null,null,null,null,null,null,null,null,null,"",""]
[null,null,null,null,null,null,null,null,null,null,null,null,"",""]
[null,null,null,null,null,null,null,null,null,null,null,null,"",""]
[null,null,null,null,null,null,null,null,null,null,null,null,"",""]
[null,null,null,null,null,null,null,null,null,null,null,null,"",""]
[null,null,null,null,null,null,null,null,null,null,null,null,"",""]
[null,null,null,null,null,null,null,null,null,null,null,null,"",""]
[null,null,null,null,null,null,null,null,null,null,null,null,"",""]
[null,null,null,null,null,null,null,null,null,null,null,null,"",""]
[null,null,null,null,null,null,null,null,null,null,null,null,"",""]
[null,null,null,null,null,null,null,null,null,null,null,null,"",""]
[null,null,null,null,null,null,null,null,null,null,null,null,"",""]
[null,null,null,null,null,null,null,null,null,null,null,null,"",""]
[null,null,null,null,null,null,null,null,null,null,null,null,"",""]
[null,null,null,null,null,null,null,null,null,null,null,null,"",""]
[null,null,null,null,null,null,null,null,null,null,null,null,"",""]
[null,null,null,null,null,null,null,null,null,null,null,null,"",""]
[null,null,null,null,null,null,null,null,null,null,null,null,"",""]
[null,null,null,null,null,null,null,null,null,null,null,null,"",""]
[null,null,null,null,null,null,null,null,null,null,null,null,"",""]
[null,null,null,null,null,null,null,null,null,null,null,null,"",""]
[null,null,null,null,null,null,null,null,null,null,null,null,"",""]
[null,null,null,null,null,null,null,null,null,null,null,null,"",""]
[null,null,null,null,null,null,null,null,null,null,null,null,"",""]
[null,null,null,null,null,null,null,null,null,null,null,null,"",""]
[null,null,null,null,null,null,null,null,null,null,null,null,"",""]
[null,null,null,null,null,null,null,null,null,null,null,null,"",""]
[null,null,null,null,null,null,null,null,null,null,null,null,"",""]
[null,null,null,null,null,null,null,null,null,null,null,null,"",""]
[null,null,null,null,null,null,null,null,null,null,null,null,"",""]
[null,null,null,null,null,null,null,null,null,null,null,null,"",""]
[null,null,null,null,null,null,null,null,null,null,null,null,"",""]
[null,null,null,null,null,null,null,null,null,null,null,null,"",""]
[null,null,null,null,null,null,null,null,null,null,null,null,"",""]
[null,null,null,null,null,null,null,null,null,null,null,null,"",""]
[null,null,null,null,null,null,null,null,null,null,null,null,"",""]
[null,null,null,null,null,null,null,null,null,null,null,null,"",""]
[null,null,null,null,null,null,null,null,null,null,null,null,"",""]
[null,null,null,null,null,null,null,null,null,null,null,null,{"$f":"IF(L773=\"\",\"\",L773/N772)","v":""},{"$f":"IF(L773=\"\",\"\",L773+N772)","v":""}]
[null,null,null,null,null,null,null,null,null,null,null,null,"",""]
[null,null,null,null,null,null,null,null,null,null,null,null,"",""]
[null,null,null,null,null,null,null,null,null,null,null,null,"",""]
[null,null,null,null,null,null,null,null,null,null,null,null,"",""]
[null,null,null,null,null,null,null,null,null,null,null,null,"",""]
[null,null,null,null,null,null,null,null,null,null,null,null,"",""]
[null,null,null,null,null,null,null,null,null,null,null,null,"",""]
[null,null,null,null,null,null,null,null,null,null,null,null,"",""]
[null,null,null,null,null,null,null,null,null,null,null,null,"",""]
[null,null,null,null,null,null,null,null,null,null,null,null,"",""]
[null,null,null,null,null,null,null,null,null,null,null,null,"",""]
[null,null,null,null,null,null,null,null,null,null,null,null,"",""]
[null,null,null,null,null,null,null,null,null,null,null,null,"",""]
[null,null,null,null,null,null,null,null,null,null,null,null,"",""]
[null,null,null,null,null,null,null,null,null,null,null,null,"",""]
[null,null,null,null,null,null,null,null,null,null,null,null,"",""]
[null,null,null,null,null,null,null,null,null,null,null,null,"",""]
[null,null,null,null,null,null,null,null,null,null,null,null,"",""]
[null,null,null,null,null,null,null,null,null,null,null,null,"",""]
[null,null,null,null,null,null,null,null,null,null,null,null,"",""]
[null,null,null,null,null,null,null,null,null,null,null,null,"",""]
[null,null,null,null,null,null,null,null,null,null,null,null,"",""]
[null,null,null,null,null,null,null,null,null,null,null,null,"",""]
[null,null,null,null,null,null,null,null,null,null,null,null,"",""]
[null,null,null,null,null,null,null,null,null,null,null,null,"",""]
[null,null,null,null,null,null,null,null,null,null,null,null,"",""]
[null,null,null,null,null,null,null,null,null,null,null,null,"",""]
[null,null,null,null,null,null,null,null,null,null,null,null,"",""]
[null,null,null,null,null,null,null,null,null,null,null,null,"",""]
[null,null,null,null,null,null,null,null,null,null,null,null,"",""]
[null,null,null,null,null,null,null,null,null,null,null,null,"",""]
[null,null,null,null,null,null,null,null,null,null,null,null,"",""]
[null,null,null,null,null,null,null,null,null,null,null,null,"",""]
[null,null,null,null,null,null,null,null,null,null,null,null,"",""]
[null,null,null,null,null,null,null,null,null,null,null,null,"",""]
[null,null,null,null,null,null,null,null,null,null,null,null,"",""]
[null,null,null,null,null,null,null,null,null,null,null,null,"",""]
[null,null,null,null,null,null,null,null,null,null,null,null,"",""]
[null,null,null,null,null,null,null,null,null,null,null,null,"",""]
[null,null,null,null,null,null,null,null,null,null,null,null,"",""]
[null,null,null,null,null,null,null,null,null,null,null,null,"",""]
[null,null,null,null,null,null,null,null,null,null,null,null,"",""]
[null,null,null,null,null,null,null,null,null,null,null,null,"",""]
[null,null,null,null,null,null,null,null,null,null,null,null,"",""]
[null,null,null,null,null,null,null,null,null,null,null,null,"",""]
[null,null,null,null,null,null,null,null,null,null,null,null,"",""]
[null,null,null,null,null,null,null,null,null,null,null,null,"",""]
[null,null,null,null,null,null,null,null,null,null,null,null,"",""]
[null,null,null,null,null,null,null,null,null,null,null,null,"",""]
[null,null,null,null,null,null,null,null,null,null,null,null,"",""]
[null,null,null,null,null,null,null,null,null,null,null,null,"",""]
[null,null,null,null,null,null,null,null,null,null,null,null,"",""]
[null,null,null,null,null,null,null,null,null,null,null,null,"",""]
[null,null,null,null,null,null,null,null,null,null,null,null,"",""]
[null,null,null,null,null,null,null,null,null,null,null,null,"",""]
[null,null,null,null,null,null,null,null,null,null,null,null,"",""]
[null,null,null,null,null,null,null,null,null,null,null,null,"",""]
[null,null,null,null,null,null,null,null,null,null,null,null,"",""]
[null,null,null,null,null,null,null,null,null,null,null,null,"",""]
[null,null,null,null,null,null,null,null,null,null,null,null,"",""]
[null,null,null,null,null,null,null,null,null,null,null,null,"",""]
[null,null,null,null,null,null,null,null,null,null,null,null,"",""]
[null,null,null,null,null,null,null,null,null,null,null,null,"",""]
[null,null,null,null,null,null,null,null,null,null,null,null,{"$f":"IF(L837=\"\",\"\",L837/N836)","v":""},{"$f":"IF(L837=\"\",\"\",L837+N836)","v":""}]
[null,null,null,null,null,null,null,null,null,null,null,null,"",""]
[null,null,null,null,null,null,null,null,null,null,null,null,"",""]
[null,null,null,null,null,null,null,null,null,null,null,null,"",""]
[null,null,null,null,null,null,null,null,null,null,null,null,"",""]
[null,null,null,null,null,null,null,null,null,null,null,null,"",""]
[null,null,null,null,null,null,null,null,null,null,null,null,"",""]
[null,null,null,null,null,null,null,null,null,null,null,null,"",""]
[null,null,null,null,null,null,null,null,null,null,null,null,"",""]
[null,null,null,null,null,null,null,null,null,null,null,null,"",""]
[null,null,null,null,null,null,null,null,null,null,null,null,"",""]
[null,null,null,null,null,null,null,null,null,null,null,null,"",""]
[null,null,null,null,null,null,null,null,null,null,null,null,"",""]
[null,null,null,null,null,null,null,null,null,null,null,null,"",""]
[null,null,null,null,null,null,null,null,null,null,null,null,"",""]
[null,null,null,null,null,null,null,null,null,null,null,null,"",""]
[null,null,null,null,null,null,null,null,null,null,null,null,"",""]
[null,null,null,null,null,null,null,null,null,null,null,null,"",""]
[null,null,null,null,null,null,null,null,null,null,null,null,"",""]
[null,null,null,null,null,null,null,null,null,null,null,null,"",""]
[null,null,null,null,null,null,null,null,null,null,null,null,"",""]
[null,null,null,null,null,null,null,null,null,null,null,null,"",""]
[null,null,null,null,null,null,null,null,null,null,null,null,"",""]
[null,null,null,null,null,null,null,null,null,null,null,null,"",""]
[null,null,null,null,null,null,null,null,null,null,null,null,"",""]
[null,null,null,null,null,null,null,null,null,null,null,null,"",""]
[null,null,null,null,null,null,null,null,null,null,null,null,"",""]
[null,null,null,null,null,null,null,null,null,null,null,null,"",""]
[null,null,null,null,null,null,null,null,null,null,null,null,"",""]
[null,null,null,null,null,null,null,null,null,null,null,null,"",""]
[null,null,null,null,null,null,null,null,null,null,null,null,"",""]
[null,null,null,null,null,null,null,null,null,null,null,null,"",""]
[null,null,null,null,null,null,null,null,null,null,null,null,"",""]
[null,null,null,null,null,null,null,null,null,null,null,null,"",""]
[null,null,null,null,null,null,null,null,null,null,null,null,"",""]
[null,null,null,null,null,null,null,null,null,null,null,null,"",""]
[null,null,null,null,null,null,null,null,null,null,null,null,"",""]
[null,null,null,null,null,null,null,null,null,null,null,null,"",""]
[null,null,null,null,null,null,null,null,null,null,null,null,"",""]
[null,null,null,null,null,null,null,null,null,null,null,null,"",""]
[null,null,null,null,null,null,null,null,null,null,null,null,"",""]
[null,null,null,null,null,null,null,null,null,null,null,null,"",""]
[null,null,null,null,null,null,null,null,null,null,null,null,"",""]
[null,null,null,null,null,null,null,null,null,null,null,null,"",""]
[null,null,null,null,null,null,null,null,null,null,null,null,"",""]
[null,null,null,null,null,null,null,null,null,null,null,null,"",""]
[null,null,null,null,null,null,null,null,null,null,null,null,"",""]
[null,null,null,null,null,null,null,null,null,null,null,null,"",""]
[null,null,null,null,null,null,null,null,null,null,null,null,"",""]
[null,null,null,null,null,null,null,null,null,null,null,null,"",""]
[null,null,null,null,null,null,null,null,null,null,null,null,"",""]
[null,null,null,null,null,null,null,null,null,null,null,null,"",""]
[null,null,null,null,null,null,null,null,null,null,null,null,"",""]
[null,null,null,null,null,null,null,null,null,null,null,null,"",""]
[null,null,null,null,null,null,null,null,null,null,null,null,"",""]
[null,null,null,null,null,null,null,null,null,null,null,null,"",""]
[null,null,null,null,null,null,null,null,null,null,null,null,"",""]
[null,null,null,null,null,null,null,null,null,null,null,null,"",""]
[null,null,null,null,null,null,null,null,null,null,null,null,"",""]
[null,null,null,null,null,null,null,null,null,null,null,null,"",""]
[null,null,null,null,null,null,null,null,null,null,null,null,"",""]
[null,null,null,null,null,null,null,null,null,null,null,null,"",""]
[null,null,null,null,null,null,null,null,null,null,null,null,"",""]
[null,null,null,null,null,null,null,null,null,null,null,null,"",""]
[null,null,null,null,null,null,null,null,null,null,null,null,{"$f":"IF(L901=\"\",\"\",L901/N900)","v":""},{"$f":"IF(L901=\"\",\"\",L901+N900)","v":""}]
[null,null,null,null,null,null,null,null,null,null,null,null,"",""]
[null,null,null,null,null,null,null,null,null,null,null,null,"",""]
[null,null,null,null,null,null,null,null,null,null,null,null,"",""]
[null,null,null,null,null,null,null,null,null,null,null,null,"",""]
[null,null,null,null,null,null,null,null,null,null,null,null,"",""]
[null,null,null,null,null,null,null,null,null,null,null,null,"",""]
[null,null,null,null,null,null,null,null,null,null,null,null,"",""]
[null,null,null,null,null,null,null,null,null,null,null,null,"",""]
[null,null,null,null,null,null,null,null,null,null,null,null,"",""]
[null,null,null,null,null,null,null,null,null,null,null,null,"",""]
[null,null,null,null,null,null,null,null,null,null,null,null,"",""]
[null,null,null,null,null,null,null,null,null,null,null,null,"",""]
[null,null,null,null,null,null,null,null,null,null,null,null,"",""]
[null,null,null,null,null,null,null,null,null,null,null,null,"",""]
[null,null,null,null,null,null,null,null,null,null,null,null,"",""]
[null,null,null,null,null,null,null,null,null,null,null,null,"",""]
[null,null,null,null,null,null,null,null,null,null,null,null,"",""]
[null,null,null,null,null,null,null,null,null,null,null,null,"",""]
[null,null,null,null,null,null,null,null,null,null,null,null,"",""]
[null,null,null,null,null,null,null,null,null,null,null,null,"",""]
[null,null,null,null,null,null,null,null,null,null,null,null,"",""]
[null,null,null,null,null,null,null,null,null,null,null,null,"",""]
[null,null,null,null,null,null,null,null,null,null,null,null,"",""]
[null,null,null,null,null,null,null,null,null,null,null,null,"",""]
[null,null,null,null,null,null,null,null,null,null,null,null,"",""]
[null,null,null,null,null,null,null,null,null,null,null,null,"",""]
[null,null,null,null,null,null,null,null,null,null,null,null,"",""]
[null,null,null,null,null,null,null,null,null,null,null,null,"",""]
[null,null,null,null,null,null,null,null,null,null,null,null,"",""]
[null,null,null,null,null,null,null,null,null,null,null,null,"",""]
[null,null,null,null,null,null,null,null,null,null,null,null,"",""]
[null,null,null,null,null,null,null,null,null,null,null,null,"",""]
[null,null,null,null,null,null,null,null,null,null,null,null,"",""]
[null,null,null,null,null,null,null,null,null,null,null,null,"",""]
[null,null,null,null,null,null,null,null,null,null,null,null,"",""]
[null,null,null,null,null,null,null,null,null,null,null,null,"",""]
[null,null,null,null,null,null,null,null,null,null,null,null,"",""]
[null,null,null,null,null,null,null,null,null,null,null,null,"",""]
[null,null,null,null,null,null,null,null,null,null,null,null,"",""]
[null,null,null,null,null,null,null,null,null,null,null,null,"",""]
[null,null,null,null,null,null,null,null,null,null,null,null,"",""]
[null,null,null,null,null,null,null,null,null,null,null,null,"",""]
[null,null,null,null,null,null,null,null,null,null,null,null,"",""]
[null,null,null,null,null,null,null,null,null,null,null,null,"",""]
[null,null,null,null,null,null,null,null,null,null,null,null,"",""]
[null,null,null,null,null,null,null,null,null,null,null,null,"",""]
[null,null,null,null,null,null,null,null,null,null,null,null,"",""]
[null,null,null,null,null,null,null,null,null,null,null,null,"",""]
[null,null,null,null,null,null,null,null,null,null,null,null,"",""]
[null,null,null,null,null,null,null,null,null,null,null,null,"",""]
[null,null,null,null,null,null,null,null,null,null,null,null,"",""]
[null,null,null,null,null,null,null,null,null,null,null,null,"",""]
[null,null,null,null,null,null,null,null,null,null,null,null,"",""]
[null,null,null,null,null,null,null,null,null,null,null,null,"",""]
[null,null,null,null,null,null,null,null,null,null,null,null,"",""]
[null,null,null,null,null,null,null,null,null,null,null,null,"",""]
[null,null,null,null,null,null,null,null,null,null,null,null,"",""]
[null,null,null,null,null,null,null,null,null,null,null,null,"",""]
[null,null,null,null,null,null,null,null,null,null,null,null,"",""]
[null,null,null,null,null,null,null,null,null,null,null,null,"",""]
[null,null,null,null,null,null,null,null,null,null,null,null,"",""]
[null,null,null,null,null,null,null,null,null,null,null,null,"",""]
[null,null,null,null,null,null,null,null,null,null,null,null,"",""]
[null,null,null,null,null,null,null,null,null,null,null,null,{"$f":"IF(L965=\"\",\"\",L965/N964)","v":""},{"$f":"IF(L965=\"\",\"\",L965+N964)","v":""}]
[null,null,null,null,null,null,null,null,null,null,null,null,"",""]
[null,null,null,null,null,null,null,null,null,null,null,null,"",""]
[null,null,null,null,null,null,null,null,null,null,null,null,"",""]
[null,null,null,null,null,null,null,null,null,null,null,null,"",""]
[null,null,null,null,null,null,null,null,null,null,null,null,"",""]
[null,null,null,null,null,null,null,null,null,null,null,null,"",""]
[null,null,null,null,null,null,null,null,null,null,null,null,"",""]
[null,null,null,null,null,null,null,null,null,null,null,null,"",""]
[null,null,null,null,null,null,null,null,null,null,null,null,"",""]
[null,null,null,null,null,null,null,null,null,null,null,null,"",""]
[null,null,null,null,null,null,null,null,null,null,null,null,"",""]
[null,null,null,null,null,null,null,null,null,null,null,null,"",""]
[null,null,null,null,null,null,null,null,null,null,null,null,"",""]
[null,null,null,null,null,null,null,null,null,null,null,null,"",""]
[null,null,null,null,null,null,null,null,null,null,null,null,"",""]
[null,null,null,null,null,null,null,null,null,null,null,null,"",""]
[null,null,null,null,null,null,null,null,null,null,null,null,"",""]
[null,null,null,null,null,null,null,null,null,null,null,null,"",""]
[null,null,null,null,null,null,null,null,null,null,null,null,"",""]
[null,null,null,null,null,null,null,null,null,null,null,null,"",""]
[null,null,null,null,null,null,null,null,null,null,null,null,"",""]
[null,null,null,null,null,null,null,null,null,null,null,null,"",""]
[null,null,null,null,null,null,null,null,null,null,null,null,"",""]
[null,null,null,null,null,null,null,null,null,null,null,null,"",""]
[null,null,null,null,null,null,null,null,null,null,null,null,"",""]
[null,null,null,null,null,null,null,null,null,null,null,null,"",""]
[null,null,null,null,null,null,null,null,null,null,null,null,"",""]
[null,null,null,null,null,null,null,null,null,null,null,null,"",""]
[null,null,null,null,null,null,null,null,null,null,null,null,"",""]
[null,null,null,null,null,null,null,null,null,null,null,null,"",""]
[null,null,null,null,null,null,null,null,null,null,null,null,"",""]
[null,null,null,null,null,null,null,null,null,null,null,null,"",""]
[null,null,null,null,null,null,null,null,null,null,null,null,"",""]
[null,null,null,null,null,null,null,null,null,null,null,null,"",""]
[null,null,null,null,null,null,null,null,null,null,null,null,"",""]
[null,null,null,null,null,null,null,null,null,null,null,null,{"$f":"IF(L1001=\"\",\"\",L1001/N1000)","v":""},{"$f":"IF(L1001=\"\",\"\",L1001+N1000)","v":""}]
[null,null,null,null,null,null,null,null,null,null,null,null,"",""]
[null,null,null,null,null,null,null,null,null,null,null,null,{"$f":"IF(L1003=\"\",\"\",L1003/N1002)","v":""},{"$f":"IF(L1003=\"\",\"\",L1003+N1002)","v":""}]
[null,null,null,null,null,null,null,null,null,null,null,null,"",""]
[null,null,null,null,null,null,null,null,null,null,null,null,"",""]
[null,null,null,null,null,null,null,null,null,null,null,null,"",""]
[null,null,null,null,null,null,null,null,null,null,null,null,"",""]
[null,null,null,null,null,null,null,null,null,null,null,null,"",""]
[null,null,null,null,null,null,null,null,null,null,null,null,"",""]
[null,null,null,null,null,null,null,null,null,null,null,null,"",""]
[null,null,null,null,null,null,null,null,null,null,null,null,"",""]
[null,null,null,null,null,null,null,null,null,null,null,null,"",""]
[null,null,null,null,null,null,null,null,null,null,null,null,"",""]
[null,null,null,null,null,null,null,null,null,null,null,null,"",""]
[null,null,null,null,null,null,null,null,null,null,null,null,"",""]
[null,null,null,null,null,null,null,null,null,null,null,null,"",""]
[null,null,null,null,null,null,null,null,null,null,null,null,"",""]
[null,null,null,null,null,null,null,null,null,null,null,null,"",""]
[null,null,null,null,null,null,null,null,null,null,null,null,"",""]
[null,null,null,null,null,null,null,null,null,null,null,null,"",""]
[null,null,null,null,null,null,null,null,null,null,null,null,"",""]
[null,null,null,null,null,null,null,null,null,null,null,null,"",""]
[null,null,null,null,null,null,null,null,null,null,null,null,"",""]
[null,null,null,null,null,null,null,null,null,null,null,null,"",""]
[null,null,null,null,null,null,null,null,null,null,null,null,"",""]
[null,null,null,null,null,null,null,null,null,null,null,null,"",""]
[null,null,null,null,null,null,null,null,null,null,null,null,"",""]
[null,null,null,null,null,null,null,null,null,null,null,null,"",""]
[null,null,null,null,null,null,null,null,null,null,null,null,"",""]
[null,null,null,null,null,null,null,null,null,null,null,null,"",""]
[null,null,null,null,null,null,null,null,null,null,null,null,"",""]
[null,null,null,null,null,null,null,null,null,null,null,null,"",""]
[null,null,null,null,null,null,null,null,null,null,null,null,"",""]
[null,null,null,null,null,null,null,null,null,null,null,null,"",""]
[null,null,null,null,null,null,null,null,null,null,null,null,"",""]
[null,null,null,null,null,null,null,null,null,null,null,null,"",""]
[null,null,null,null,null,null,null,null,null,null,null,null,"",""]
[null,null,null,null,null,null,null,null,null,null,null,null,"",""]
[null,null,null,null,null,null,null,null,null,null,null,null,"",""]
[null,null,null,null,null,null,null,null,null,null,null,null,"",""]
[null,null,null,null,null,null,null,null,null,null,null,null,"",""]
[null,null,null,null,null,null,null,null,null,null,null,null,"",""]
[null,null,null,null,null,null,null,null,null,null,null,null,"",""]
[null,null,null,null,null,null,null,null,null,null,null,null,"",""]
[null,null,null,null,null,null,null,null,null,null,null,null,"",""]
[null,null,null,null,null,null,null,null,null,null,null,null,"",""]
[null,null,null,null,null,null,null,null,null,null,null,null,"",""]
[null,null,null,null,null,null,null,null,null,null,null,null,"",""]
[null,null,null,null,null,null,null,null,null,null,null,null,"",""]
[null,null,null,null,null,null,null,null,null,null,null,null,"",""]
[null,null,null,null,null,null,null,null,null,null,null,null,"",""]
[null,null,null,null,null,null,null,null,null,null,null,null,"",""]
[null,null,null,null,null,null,null,null,null,null,null,null,"",""]
[null,null,null,null,null,null,null,null,null,null,null,null,"",""]
[null,null,null,null,null,null,null,null,null,null,null,null,"",""]
[null,null,null,null,null,null,null,null,null,null,null,null,"",""]
[null,null,null,null,null,null,null,null,null,null,null,null,"",""]
[null,null,null,null,null,null,null,null,null,null,null,null,"",""]
[null,null,null,null,null,null,null,null,null,null,null,null,"",""]
[null,null,null,null,null,null,null,null,null,null,null,null,"",""]
[null,null,null,null,null,null,null,null,null,null,null,null,"",""]
[null,null,null,null,null,null,null,null,null,null,null,null,"",""]
[null,null,null,null,null,null,null,null,null,null,null,null,"",""]
[null,null,null,null,null,null,null,null,null,null,null,null,"",""]
[null,null,null,null,null,null,null,null,null,null,null,null,"",""]
[null,null,null,null,null,null,null,null,null,null,null,null,"",""]
[null,null,null,null,null,null,null,null,null,null,null,null,{"$f":"IF(L1067=\"\",\"\",L1067/N1066)","v":""},{"$f":"IF(L1067=\"\",\"\",L1067+N1066)","v":""}]
[null,null,null,null,null,null,null,null,null,null,null,null,"",""]
[null,null,null,null,null,null,null,null,null,null,null,null,"",""]
[null,null,null,null,null,null,null,null,null,null,null,null,"",""]
[null,null,null,null,null,null,null,null,null,null,null,null,"",""]
[null,null,null,null,null,null,null,null,null,null,null,null,"",""]
[null,null,null,null,null,null,null,null,null,null,null,null,"",""]
[null,null,null,null,null,null,null,null,null,null,null,null,"",""]
[null,null,null,null,null,null,null,null,null,null,null,null,"",""]
[null,null,null,null,null,null,null,null,null,null,null,null,"",""]
[null,null,null,null,null,null,null,null,null,null,null,null,"",""]
[null,null,null,null,null,null,null,null,null,null,null,null,"",""]
[null,null,null,null,null,null,null,null,null,null,null,null,"",""]
[null,null,null,null,null,null,null,null,null,null,null,null,"",""]
[null,null,null,null,null,null,null,null,null,null,null,null,"",""]
[null,null,null,null,null,null,null,null,null,null,null,null,"",""]
[null,null,null,null,null,null,null,null,null,null,null,null,"",""]
[null,null,null,null,null,null,null,null,null,null,null,null,"",""]
[null,null,null,null,null,null,null,null,null,null,null,null,"",""]
[null,null,null,null,null,null,null,null,null,null,null,null,"",""]
[null,null,null,null,null,null,null,null,null,null,null,null,"",""]
[null,null,null,null,null,null,null,null,null,null,null,null,"",""]
[null,null,null,null,null,null,null,null,null,null,null,null,"",""]
[null,null,null,null,null,null,null,null,null,null,null,null,"",""]
[null,null,null,null,null,null,null,null,null,null,null,null,"",""]
[null,null,null,null,null,null,null,null,null,null,null,null,"",""]
[null,null,null,null,null,null,null,null,null,null,null,null,"",""]
[null,null,null,null,null,null,null,null,null,null,null,null,"",""]
[null,null,null,null,null,null,null,null,null,null,null,null,"",""]
[null,null,null,null,null,null,null,null,null,null,null,null,"",""]
[null,null,null,null,null,null,null,null,null,null,null,null,"",""]
[null,null,null,null,null,null,null,null,null,null,null,null,"",""]
[null,null,null,null,null,null,null,null,null,null,null,null,"",""]
[null,null,null,null,null,null,null,null,null,null,null,null,"",""]
[null,null,null,null,null,null,null,null,null,null,null,null,"",""]
[null,null,null,null,null,null,null,null,null,null,null,null,"",""]
[null,null,null,null,null,null,null,null,null,null,null,null,"",""]
[null,null,null,null,null,null,null,null,null,null,null,null,"",""]
[null,null,null,null,null,null,null,null,null,null,null,null,"",""]
[null,null,null,null,null,null,null,null,null,null,null,null,"",""]
[null,null,null,null,null,null,null,null,null,null,null,null,"",""]
[null,null,null,null,null,null,null,null,null,null,null,null,"",""]
[null,null,null,null,null,null,null,null,null,null,null,null,"",""]
[null,null,null,null,null,null,null,null,null,null,null,null,"",""]
[null,null,null,null,null,null,null,null,null,null,null,null,"",""]
[null,null,null,null,null,null,null,null,null,null,null,null,"",""]
[null,null,null,null,null,null,null,null,null,null,null,null,"",""]
[null,null,null,null,null,null,null,null,null,null,null,null,"",""]
[null,null,null,null,null,null,null,null,null,null,null,null,"",""]
[null,null,null,null,null,null,null,null,null,null,null,null,"",""]
[null,null,null,null,null,null,null,null,null,null,null,null,"",""]
[null,null,null,null,null,null,null,null,null,null,null,null,"",""]
[null,null,null,null,null,null,null,null,null,null,null,null,"",""]
[null,null,null,null,null,null,null,null,null,null,null,null,"",""]
[null,null,null,null,null,null,null,null,null,null,null,null,"",""]
[null,null,null,null,null,null,null,null,null,null,null,null,"",""]
[null,null,null,null,null,null,null,null,null,null,null,null,"",""]
[null,null,null,null,null,null,null,null,null,null,null,null,"",""]
[null,null,null,null,null,null,null,null,null,null,null,null,"",""]
[null,null,null,null,null,null,null,null,null,null,null,null,"",""]
[null,null,null,null,null,null,null,null,null,null,null,null,"",""]
[null,null,null,null,null,null,null,null,null,null,null,null,"",""]
[null,null,null,null,null,null,null,null,null,null,null,null,"",""]
[null,null,null,null,null,null,null,null,null,null,null,null,"",""]
[null,null,null,null,null,null,null,null,null,null,null,null,{"$f":"IF(L1131=\"\",\"\",L1131/N1130)","v":""},{"$f":"IF(L1131=\"\",\"\",L1131+N1130)","v":""}]
[null,null,null,null,null,null,null,null,null,null,null,null,"",""]
[null,null,null,null,null,null,null,null,null,null,null,null,"",""]
[null,null,null,null,null,null,null,null,null,null,null,null,"",""]
[null,null,null,null,null,null,null,null,null,null,null,null,"",""]
[null,null,null,null,null,null,null,null,null,null,null,null,"",""]
[null,null,null,null,null,null,null,null,null,null,null,null,"",""]
[null,null,null,null,null,null,null,null,null,null,null,null,"",""]
[null,null,null,null,null,null,null,null,null,null,null,null,"",""]
[null,null,null,null,null,null,null,null,null,null,null,null,"",""]
[null,null,null,null,null,null,null,null,null,null,null,null,"",""]
[null,null,null,null,null,null,null,null,null,null,null,null,"",""]
[null,null,null,null,null,null,null,null,null,null,null,null,"",""]
[null,null,null,null,null,null,null,null,null,null,null,null,"",""]
[null,null,null,null,null,null,null,null,null,null,null,null,"",""]
[null,null,null,null,null,null,null,null,null,null,null,null,"",""]
[null,null,null,null,null,null,null,null,null,null,null,null,"",""]
[null,null,null,null,null,null,null,null,null,null,null,null,"",""]
[null,null,null,null,null,null,null,null,null,null,null,null,"",""]
[null,null,null,null,null,null,null,null,null,null,null,null,"",""]
[null,null,null,null,null,null,null,null,null,null,null,null,"",""]
[null,null,null,null,null,null,null,null,null,null,null,null,"",""]
[null,null,null,null,null,null,null,null,null,null,null,null,"",""]
[null,null,null,null,null,null,null,null,null,null,null,null,"",""]
[null,null,null,null,null,null,null,null,null,null,null,null,"",""]
[null,null,null,null,null,null,null,null,null,null,null,null,"",""]
[null,null,null,null,null,null,null,null,null,null,null,null,"",""]
[null,null,null,null,null,null,null,null,null,null,null,null,"",""]
[null,null,null,null,null,null,null,null,null,null,null,null,"",""]
[null,null,null,null,null,null,null,null,null,null,null,null,"",""]
[null,null,null,null,null,null,null,null,null,null,null,null,"",""]
[null,null,null,null,null,null,null,null,null,null,null,null,"",""]
[null,null,null,null,null,null,null,null,null,null,null,null,"",""]
[null,null,null,null,null,null,null,null,null,null,null,null,"",""]
[null,null,null,null,null,null,null,null,null,null,null,null,"",""]
[null,null,null,null,null,null,null,null,null,null,null,null,"",""]
[null,null,null,null,null,null,null,null,null,null,null,null,"",""]
[null,null,null,null,null,null,null,null,null,null,null,null,"",""]
[null,null,null,null,null,null,null,null,null,null,null,null,"",""]
[null,null,null,null,null,null,null,null,null,null,null,null,"",""]
[null,null,null,null,null,null,null,null,null,null,null,null,"",""]
[null,null,null,null,null,null,null,null,null,null,null,null,"",""]
[null,null,null,null,null,null,null,null,null,null,null,null,"",""]
[null,null,null,null,null,null,null,null,null,null,null,null,"",""]
[null,null,null,null,null,null,null,null,null,null,null,null,"",""]
[null,null,null,null,null,null,null,null,null,null,null,null,"",""]
[null,null,null,null,null,null,null,null,null,null,null,null,"",""]
[null,null,null,null,null,null,null,null,null,null,null,null,"",""]
[null,null,null,null,null,null,null,null,null,null,null,null,"",""]
[null,null,null,null,null,null,null,null,null,null,null,null,"",""]
[null,null,null,null,null,null,null,null,null,null,null,null,"",""]
[null,null,null,null,null,null,null,null,null,null,null,null,"",""]
[null,null,null,null,null,null,null,null,null,null,null,null,"",""]
[null,null,null,null,null,null,null,null,null,null,null,null,"",""]
[null,null,null,null,null,null,null,null,null,null,null,null,"",""]
[null,null,null,null,null,null,null,null,null,null,null,null,"",""]
[null,null,null,null,null,null,null,null,null,null,null,null,"",""]
[null,null,null,null,null,null,null,null,null,null,null,null,"",""]
[null,null,null,null,null,null,null,null,null,null,null,null,"",""]
[null,null,null,null,null,null,null,null,null,null,null,null,"",""]
[null,null,null,null,null,null,null,null,null,null,null,null,"",""]
[null,null,null,null,null,null,null,null,null,null,null,null,"",""]
[null,null,null,null,null,null,null,null,null,null,null,null,"",""]
[null,null,null,null,null,null,null,null,null,null,null,null,"",""]
[null,null,null,null,null,null,null,null,null,null,null,null,{"$f":"IF(L1195=\"\",\"\",L1195/N1194)","v":""},{"$f":"IF(L1195=\"\",\"\",L1195+N1194)","v":""}]
[null,null,null,null,null,null,null,null,null,null,null,null,"",""]
[null,null,null,null,null,null,null,null,null,null,null,null,"",""]
[null,null,null,null,null,null,null,null,null,null,null,null,"",""]
[null,null,null,null,null,null,null,null,null,null,null,null,"",""]
[null,null,null,null,null,null,null,null,null,null,null,null,"",""]
[null,null,null,null,null,null,null,null,null,null,null,null,"",""]
[null,null,null,null,null,null,null,null,null,null,null,null,"",""]
[null,null,null,null,null,null,null,null,null,null,null,null,"",""]
[null,null,null,null,null,null,null,null,null,null,null,null,"",""]
[null,null,null,null,null,null,null,null,null,null,null,null,"",""]
[null,null,null,null,null,null,null,null,null,null,null,null,"",""]
[null,null,null,null,null,null,null,null,null,null,null,null,"",""]
[null,null,null,null,null,null,null,null,null,null,null,null,"",""]
[null,null,null,null,null,null,null,null,null,null,null,null,"",""]
[null,null,null,null,null,null,null,null,null,null,null,null,"",""]
[null,null,null,null,null,null,null,null,null,null,null,null,"",""]
[null,null,null,null,null,null,null,null,null,null,null,null,"",""]
[null,null,null,null,null,null,null,null,null,null,null,null,"",""]
[null,null,null,null,null,null,null,null,null,null,null,null,"",""]
[null,null,null,null,null,null,null,null,null,null,null,null,"",""]
[null,null,null,null,null,null,null,null,null,null,null,null,"",""]
[null,null,null,null,null,null,null,null,null,null,null,null,"",""]
[null,null,null,null,null,null,null,null,null,null,null,null,"",""]
[null,null,null,null,null,null,null,null,null,null,null,null,"",""]
[null,null,null,null,null,null,null,null,null,null,null,null,"",""]
[null,null,null,null,null,null,null,null,null,null,null,null,"",""]
[null,null,null,null,null,null,null,null,null,null,null,null,"",""]
[null,null,null,null,null,null,null,null,null,null,null,null,"",""]
[null,null,null,null,null,null,null,null,null,null,null,null,"",""]
[null,null,null,null,null,null,null,null,null,null,null,null,"",""]
[null,null,null,null,null,null,null,null,null,null,null,null,"",""]
[null,null,null,null,null,null,null,null,null,null,null,null,"",""]
[null,null,null,null,null,null,null,null,null,null,null,null,"",""]
[null,null,null,null,null,null,null,null,null,null,null,null,"",""]
[null,null,null,null,null,null,null,null,null,null,null,null,"",""]
[null,null,null,null,null,null,null,null,null,null,null,null,"",""]
[null,null,null,null,null,null,null,null,null,null,null,null,"",""]
[null,null,null,null,null,null,null,null,null,null,null,null,"",""]
[null,null,null,null,null,null,null,null,null,null,null,null,"",""]
[null,null,null,null,null,null,null,null,null,null,null,null,"",""]
[null,null,null,null,null,null,null,null,null,null,null,null,"",""]
[null,null,null,null,null,null,null,null,null,null,null,null,"",""]
[null,null,null,null,null,null,null,null,null,null,null,null,"",""]
[null,null,null,null,null,null,null,null,null,null,null,null,"",""]
[null,null,null,null,null,null,null,null,null,null,null,null,"",""]
[null,null,null,null,null,null,null,null,null,null,null,null,"",""]
[null,null,null,null,null,null,null,null,null,null,null,null,"",""]
[null,null,null,null,null,null,null,null,null,null,null,null,"",""]
[null,null,null,null,null,null,null,null,null,null,null,null,"",""]
[null,null,null,null,null,null,null,null,null,null,null,null,"",""]
[null,null,null,null,null,null,null,null,null,null,null,null,"",""]
[null,null,null,null,null,null,null,null,null,null,null,null,"",""]
[null,null,null,null,null,null,null,null,null,null,null,null,"",""]
[null,null,null,null,null,null,null,null,null,null,null,null,"",""]
[null,null,null,null,null,null,null,null,null,null,null,null,"",""]
[null,null,null,null,null,null,null,null,null,null,null,null,"",""]
[null,null,null,null,null,null,null,null,null,null,null,null,"",""]
[null,null,null,null,null,null,null,null,null,null,null,null,"",""]
[null,null,null,null,null,null,null,null,null,null,null,null,"",""]
[null,null,null,null,null,null,null,null,null,null,null,null,"",""]
[null,null,null,null,null,null,null,null,null,null,null,null,"",""]
[null,null,null,null,null,null,null,null,null,null,null,null,"",""]
[null,null,null,null,null,null,null,null,null,null,null,null,"",""]
[null,null,null,null,null,null,null,null,null,null,null,null,{"$f":"IF(L1259=\"\",\"\",L1259/N1258)","v":""},{"$f":"IF(L1259=\"\",\"\",L1259+N1258)","v":""}]
[null,null,null,null,null,null,null,null,null,null,null,null,"",""]
[null,null,null,null,null,null,null,null,null,null,null,null,"",""]
[null,null,null,null,null,null,null,null,null,null,null,null,"",""]
[null,null,null,null,null,null,null,null,null,null,null,null,"",""]
[null,null,null,null,null,null,null,null,null,null,null,null,"",""]
[null,null,null,null,null,null,null,null,null,null,null,null,"",""]
[null,null,null,null,null,null,null,null,null,null,null,null,"",""]
[null,null,null,null,null,null,null,null,null,null,null,null,"",""]
[null,null,null,null,null,null,null,null,null,null,null,null,"",""]
[null,null,null,null,null,null,null,null,null,null,null,null,"",""]
[null,null,null,null,null,null,null,null,null,null,null,null,"",""]
[null,null,null,null,null,null,null,null,null,null,null,null,"",""]
[null,null,null,null,null,null,null,null,null,null,null,null,"",""]
[null,null,null,null,null,null,null,null,null,null,null,null,"",""]
[null,null,null,null,null,null,null,null,null,null,null,null,"",""]
[null,null,null,null,null,null,null,null,null,null,null,null,"",""]
[null,null,null,null,null,null,null,null,null,null,null,null,"",""]
[null,null,null,null,null,null,null,null,null,null,null,null,"",""]
[null,null,null,null,null,null,null,null,null,null,null,null,"",""]
[null,null,null,null,null,null,null,null,null,null,null,null,"",""]
[null,null,null,null,null,null,null,null,null,null,null,null,"",""]
[null,null,null,null,null,null,null,null,null,null,null,null,"",""]
[null,null,null,null,null,null,null,null,null,null,null,null,"",""]
[null,null,null,null,null,null,null,null,null,null,null,null,"",""]
[null,null,null,null,null,null,null,null,null,null,null,null,"",""]
[null,null,null,null,null,null,null,null,null,null,null,null,"",""]
[null,null,null,null,null,null,null,null,null,null,null,null,"",""]
[null,null,null,null,null,null,null,null,null,null,null,null,"",""]
[null,null,null,null,null,null,null,null,null,null,null,null,"",""]
[null,null,null,null,null,null,null,null,null,null,null,null,"",""]
[null,null,null,null,null,null,null,null,null,null,null,null,"",""]
[null,null,null,null,null,null,null,null,null,null,null,null,"",""]
[null,null,null,null,null,null,null,null,null,null,null,null,"",""]
[null,null,null,null,null,null,null,null,null,null,null,null,"",""]
[null,null,null,null,null,null,null,null,null,null,null,null,"",""]
[null,null,null,null,null,null,null,null,null,null,null,null,"",""]
[null,null,null,null,null,null,null,null,null,null,null,null,"",""]
[null,null,null,null,null,null,null,null,null,null,null,null,"",""]
[null,null,null,null,null,null,null,null,null,null,null,null,"",""]
[null,null,null,null,null,null,null,null,null,null,null,null,"",""]
[null,null,null,null,null,null,null,null,null,null,null,null,"",""]
[null,null,null,null,null,null,null,null,null,null,null,null,"",""]
[null,null,null,null,null,null,null,null,null,null,null,null,"",""]
[null,null,null,null,null,null,null,null,null,null,null,null,"",""]
[null,null,null,null,null,null,null,null,null,null,null,null,"",""]
[null,null,null,null,null,null,null,null,null,null,null,null,"",""]
[null,null,null,null,null,null,null,null,null,null,null,null,"",""]
[null,null,null,null,null,null,null,null,null,null,null,null,"",""]
[null,null,null,null,null,null,null,null,null,null,null,null,"",""]
[null,null,null,null,null,null,null,null,null,null,null,null,"",""]
[null,null,null,null,null,null,null,null,null,null,null,null,"",""]
[null,null,null,null,null,null,null,null,null,null,null,null,"",""]
[null,null,null,null,null,null,null,null,null,null,null,null,"",""]
[null,null,null,null,null,null,null,null,null,null,null,null,"",""]
[null,null,null,null,null,null,null,null,null,null,null,null,"",""]
[null,null,null,null,null,null,null,null,null,null,null,null,"",""]
[null,null,null,null,null,null,null,null,null,null,null,null,"",""]
[null,null,null,null,null,null,null,null,null,null,null,null,"",""]
[null,null,null,null,null,null,null,null,null,null,null,null,"",""]
[null,null,null,null,null,null,null,null,null,null,null,null,"",""]
[null,null,null,null,null,null,null,null,null,null,null,null,"",""]
[null,null,null,null,null,null,null,null,null,null,null,null,"",""]
[null,null,null,null,null,null,null,null,null,null,null,null,"",""]
[null,null,null,null,null,null,null,null,null,null,null,null,{"$f":"IF(L1323=\"\",\"\",L1323/N1322)","v":""},{"$f":"IF(L1323=\"\",\"\",L1323+N1322)","v":""}]
[null,null,null,null,null,null,null,null,null,null,null,null,"",""]
[null,null,null,null,null,null,null,null,null,null,null,null,"",""]
[null,null,null,null,null,null,null,null,null,null,null,null,"",""]
[null,null,null,null,null,null,null,null,null,null,null,null,"",""]
[null,null,null,null,null,null,null,null,null,null,null,null,"",""]
[null,null,null,null,null,null,null,null,null,null,null,null,"",""]
[null,null,null,null,null,null,null,null,null,null,null,null,"",""]
[null,null,null,null,null,null,null,null,null,null,null,null,"",""]
[null,null,null,null,null,null,null,null,null,null,null,null,"",""]
[null,null,null,null,null,null,null,null,null,null,null,null,"",""]
[null,null,null,null,null,null,null,null,null,null,null,null,"",""]
[null,null,null,null,null,null,null,null,null,null,null,null,"",""]
[null,null,null,null,null,null,null,null,null,null,null,null,"",""]
[null,null,null,null,null,null,null,null,null,null,null,null,"",""]
[null,null,null,null,null,null,null,null,null,null,null,null,"",""]
[null,null,null,null,null,null,null,null,null,null,null,null,"",""]
[null,null,null,null,null,null,null,null,null,null,null,null,"",""]
[null,null,null,null,null,null,null,null,null,null,null,null,"",""]
[null,null,null,null,null,null,null,null,null,null,null,null,"",""]
[null,null,null,null,null,null,null,null,null,null,null,null,"",""]
[null,null,null,null,null,null,null,null,null,null,null,null,"",""]
[null,null,null,null,null,null,null,null,null,null,null,null,"",""]
[null,null,null,null,null,null,null,null,null,null,null,null,"",""]
[null,null,null,null,null,null,null,null,null,null,null,null,"",""]
[null,null,null,null,null,null,null,null,null,null,null,null,"",""]
[null,null,null,null,null,null,null,null,null,null,null,null,"",""]
[null,null,null,null,null,null,null,null,null,null,null,null,"",""]
[null,null,null,null,null,null,null,null,null,null,null,null,"",""]
[null,null,null,null,null,null,null,null,null,null,null,null,"",""]
[null,null,null,null,null,null,null,null,null,null,null,null,"",""]
[null,null,null,null,null,null,null,null,null,null,null,null,"",""]
[null,null,null,null,null,null,null,null,null,null,null,null,"",""]
[null,null,null,null,null,null,null,null,null,null,null,null,"",""]
[null,null,null,null,null,null,null,null,null,null,null,null,"",""]
[null,null,null,null,null,null,null,null,null,null,null,null,"",""]
[null,null,null,null,null,null,null,null,null,null,null,null,"",""]
[null,null,null,null,null,null,null,null,null,null,null,null,"",""]
[null,null,null,null,null,null,null,null,null,null,null,null,"",""]
[null,null,null,null,null,null,null,null,null,null,null,null,"",""]
[null,null,null,null,null,null,null,null,null,null,null,null,"",""]
[null,null,null,null,null,null,null,null,null,null,null,null,"",""]
[null,null,null,null,null,null,null,null,null,null,null,null,"",""]
[null,null,null,null,null,null,null,null,null,null,null,null,"",""]
[null,null,null,null,null,null,null,null,null,null,null,null,"",""]
[null,null,null,null,null,null,null,null,null,null,null,null,"",""]
[null,null,null,null,null,null,null,null,null,null,null,null,"",""]
[null,null,null,null,null,null,null,null,null,null,null,null,"",""]
[null,null,null,null,null,null,null,null,null,null,null,null,"",""]
[null,null,null,null,null,null,null,null,null,null,null,null,"",""]
[null,null,null,null,null,null,null,null,null,null,null,null,"",""]
[null,null,null,null,null,null,null,null,null,null,null,null,"",""]
[null,null,null,null,null,null,null,null,null,null,null,null,"",""]
[null,null,null,null,null,null,null,null,null,null,null,null,"",""]
[null,null,null,null,null,null,null,null,null,null,null,null,"",""]
[null,null,null,null,null,null,null,null,null,null,null,null,"",""]
[null,null,null,null,null,null,null,null,null,null,null,null,"",""]
[null,null,null,null,null,null,null,null,null,null,null,null,"",""]
[null,null,null,null,null,null,null,null,null,null,null,null,"",""]
[null,null,null,null,null,null,null,null,null,null,null,null,"",""]
[null,null,null,null,null,null,null,null,null,null,null,null,"",""]
[null,null,null,null,null,null,null,null,null,null,null,null,"",""]
[null,null,null,null,null,null,null,null,null,null,null,null,"",""]
[null,null,null,null,null,null,null,null,null,null,null,null,"",""]
[null,null,null,null,null,null,null,null,null,null,null,null,{"$f":"IF(L1387=\"\",\"\",L1387/N1386)","v":""},{"$f":"IF(L1387=\"\",\"\",L1387+N1386)","v":""}]
[null,null,null,null,null,null,null,null,null,null,null,null,"",""]
[null,null,null,null,null,null,null,null,null,null,null,null,"",""]
[null,null,null,null,null,null,null,null,null,null,null,null,"",""]
[null,null,null,null,null,null,null,null,null,null,null,null,"",""]
[null,null,null,null,null,null,null,null,null,null,null,null,"",""]
[null,null,null,null,null,null,null,null,null,null,null,null,"",""]
[null,null,null,null,null,null,null,null,null,null,null,null,"",""]
[null,null,null,null,null,null,null,null,null,null,null,null,"",""]
[null,null,null,null,null,null,null,null,null,null,null,null,"",""]
[null,null,null,null,null,null,null,null,null,null,null,null,"",""]
[null,null,null,null,null,null,null,null,null,null,null,null,"",""]
[null,null,null,null,null,null,null,null,null,null,null,null,"",""]
[null,null,null,null,null,null,null,null,null,null,null,null,"",""]
[null,null,null,null,null,null,null,null,null,null,null,null,"",""]
[null,null,null,null,null,null,null,null,null,null,null,null,"",""]
[null,null,null,null,null,null,null,null,null,null,null,null,"",""]
[null,null,null,null,null,null,null,null,null,null,null,null,"",""]
[null,null,null,null,null,null,null,null,null,null,null,null,"",""]
[null,null,null,null,null,null,null,null,null,null,null,null,"",""]
[null,null,null,null,null,null,null,null,null,null,null,null,"",""]
[null,null,null,null,null,null,null,null,null,null,null,null,"",""]
[null,null,null,null,null,null,null,null,null,null,null,null,"",""]
[null,null,null,null,null,null,null,null,null,null,null,null,"",""]
[null,null,null,null,null,null,null,null,null,null,null,null,"",""]
[null,null,null,null,null,null,null,null,null,null,null,null,"",""]
[null,null,null,null,null,null,null,null,null,null,null,null,"",""]
[null,null,null,null,null,null,null,null,null,null,null,null,"",""]
[null,null,null,null,null,null,null,null,null,null,null,null,"",""]
[null,null,null,null,null,null,null,null,null,null,null,null,"",""]
[null,null,null,null,null,null,null,null,null,null,null,null,"",""]
[null,null,null,null,null,null,null,null,null,null,null,null,"",""]
[null,null,null,null,null,null,null,null,null,null,null,null,"",""]
[null,null,null,null,null,null,null,null,null,null,null,null,"",""]
[null,null,null,null,null,null,null,null,null,null,null,null,"",""]
[null,null,null,null,null,null,null,null,null,null,null,null,"",""]
[null,null,null,null,null,null,null,null,null,null,null,null,"",""]
[null,null,null,null,null,null,null,null,null,null,null,null,"",""]
[null,null,null,null,null,null,null,null,null,null,null,null,"",""]
[null,null,null,null,null,null,null,null,null,null,null,null,"",""]
[null,null,null,null,null,null,null,null,null,null,null,null,"",""]
[null,null,null,null,null,null,null,null,null,null,null,null,"",""]
[null,null,null,null,null,null,null,null,null,null,null,null,"",""]
[null,null,null,null,null,null,null,null,null,null,null,null,"",""]
[null,null,null,null,null,null,null,null,null,null,null,null,"",""]
[null,null,null,null,null,null,null,null,null,null,null,null,"",""]
[null,null,null,null,null,null,null,null,null,null,null,null,"",""]
[null,null,null,null,null,null,null,null,null,null,null,null,"",""]
[null,null,null,null,null,null,null,null,null,null,null,null,"",""]
[null,null,null,null,null,null,null,null,null,null,null,null,"",""]
[null,null,null,null,null,null,null,null,null,null,null,null,"",""]
[null,null,null,null,null,null,null,null,null,null,null,null,"",""]
[null,null,null,null,null,null,null,null,null,null,null,null,"",""]
[null,null,null,null,null,null,null,null,null,null,null,null,"",""]
[null,null,null,null,null,null,null,null,null,null,null,null,"",""]
[null,null,null,null,null,null,null,null,null,null,null,null,"",""]
[null,null,null,null,null,null,null,null,null,null,null,null,"",""]
[null,null,null,null,null,null,null,null,null,null,null,null,"",""]
[null,null,null,null,null,null,null,null,null,null,null,null,"",""]
[null,null,null,null,null,null,null,null,null,null,null,null,"",""]
[null,null,null,null,null,null,null,null,null,null,null,null,"",""]
[null,null,null,null,null,null,null,null,null,null,null,null,"",""]
[null,null,null,null,null,null,null,null,null,null,null,null,"",""]
[null,null,null,null,null,null,null,null,null,null,null,null,"",""]
[null,null,null,null,null,null,null,null,null,null,null,null,{"$f":"IF(L1451=\"\",\"\",L1451/N1450)","v":""},{"$f":"IF(L1451=\"\",\"\",L1451+N1450)","v":""}]
[null,null,null,null,null,null,null,null,null,null,null,null,"",""]
[null,null,null,null,null,null,null,null,null,null,null,null,"",""]
[null,null,null,null,null,null,null,null,null,null,null,null,"",""]
[null,null,null,null,null,null,null,null,null,null,null,null,"",""]
[null,null,null,null,null,null,null,null,null,null,null,null,"",""]
[null,null,null,null,null,null,null,null,null,null,null,null,"",""]
[null,null,null,null,null,null,null,null,null,null,null,null,"",""]
[null,null,null,null,null,null,null,null,null,null,null,null,"",""]
[null,null,null,null,null,null,null,null,null,null,null,null,"",""]
[null,null,null,null,null,null,null,null,null,null,null,null,"",""]
[null,null,null,null,null,null,null,null,null,null,null,null,"",""]
[null,null,null,null,null,null,null,null,null,null,null,null,"",""]
[null,null,null,null,null,null,null,null,null,null,null,null,"",""]
[null,null,null,null,null,null,null,null,null,null,null,null,"",""]
[null,null,null,null,null,null,null,null,null,null,null,null,"",""]
[null,null,null,null,null,null,null,null,null,null,null,null,"",""]
[null,null,null,null,null,null,null,null,null,null,null,null,"",""]
[null,null,null,null,null,null,null,null,null,null,null,null,"",""]
[null,null,null,null,null,null,null,null,null,null,null,null,"",""]
[null,null,null,null,null,null,null,null,null,null,null,null,"",""]
[null,null,null,null,null,null,null,null,null,null,null,null,"",""]
[null,null,null,null,null,null,null,null,null,null,null,null,"",""]
[null,null,null,null,null,null,null,null,null,null,null,null,"",""]
[null,null,null,null,null,null,null,null,null,null,null,null,"",""]
[null,null,null,null,null,null,null,null,null,null,null,null,"",""]
[null,null,null,null,null,null,null,null,null,null,null,null,"",""]
[null,null,null,null,null,null,null,null,null,null,null,null,"",""]
[null,null,null,null,null,null,null,null,null,null,null,null,"",""]
[null,null,null,null,null,null,null,null,null,null,null,null,"",""]
[null,null,null,null,null,null,null,null,null,null,null,null,"",""]
[null,null,null,null,null,null,null,null,null,null,null,null,"",""]
[null,null,null,null,null,null,null,null,null,null,null,null,"",""]
[null,null,null,null,null,null,null,null,null,null,null,null,"",""]
[null,null,null,null,null,null,null,null,null,null,null,null,"",""]
[null,null,null,null,null,null,null,null,null,null,null,null,"",""]
[null,null,null,null,null,null,null,null,null,null,null,null,"",""]
[null,null,null,null,null,null,null,null,null,null,null,null,"",""]
[null,null,null,null,null,null,null,null,null,null,null,null,"",""]
[null,null,null,null,null,null,null,null,null,null,null,null,"",""]
[null,null,null,null,null,null,null,null,null,null,null,null,"",""]
[null,null,null,null,null,null,null,null,null,null,null,null,"",""]
[null,null,null,null,null,null,null,null,null,null,null,null,"",""]
[null,null,null,null,null,null,null,null,null,null,null,null,"",""]
[null,null,null,null,null,null,null,null,null,null,null,null,"",""]
[null,null,null,null,null,null,null,null,null,null,null,null,"",""]
[null,null,null,null,null,null,null,null,null,null,null,null,"",""]
[null,null,null,null,null,null,null,null,null,null,null,null,"",""]
[null,null,null,null,null,null,null,null,null,null,null,null,"",""]
[null,null,null,null,null,null,null,null,null,null,null,null,"",""]
[null,null,null,null,null,null,null,null,null,null,null,null,"",""]
[null,null,null,null,null,null,null,null,null,null,null,null,"",""]
[null,null,null,null,null,null,null,null,null,null,null,null,"",""]
[null,null,null,null,null,null,null,null,null,null,null,null,"",""]
[null,null,null,null,null,null,null,null,null,null,null,null,"",""]
[null,null,null,null,null,null,null,null,null,null,null,null,"",""]
[null,null,null,null,null,null,null,null,null,null,null,null,"",""]
[null,null,null,null,null,null,null,null,null,null,null,null,"",""]
[null,null,null,null,null,null,null,null,null,null,null,null,"",""]
[null,null,null,null,null,null,null,null,null,null,null,null,"",""]
[null,null,null,null,null,null,null,null,null,null,null,null,"",""]
[null,null,null,null,null,null,null,null,null,null,null,null,"",""]
[null,null,null,null,null,null,null,null,null,null,null,null,"",""]
[null,null,null,null,null,null,null,null,null,null,null,null,"",""]
[null,null,null,null,null,null,null,null,null,null,null,null,{"$f":"IF(L1515=\"\",\"\",L1515/N1514)","v":""},{"$f":"IF(L1515=\"\",\"\",L1515+N1514)","v":""}]
[null,null,null,null,null,null,null,null,null,null,null,null,"",""]
[null,null,null,null,null,null,null,null,null,null,null,null,"",""]
[null,null,null,null,null,null,null,null,null,null,null,null,"",""]
[null,null,null,null,null,null,null,null,null,null,null,null,"",""]
[null,null,null,null,null,null,null,null,null,null,null,null,"",""]
[null,null,null,null,null,null,null,null,null,null,null,null,"",""]
[null,null,null,null,null,null,null,null,null,null,null,null,"",""]
[null,null,null,null,null,null,null,null,null,null,null,null,"",""]
[null,null,null,null,null,null,null,null,null,null,null,null,"",""]
[null,null,null,null,null,null,null,null,null,null,null,null,"",""]
[null,null,null,null,null,null,null,null,null,null,null,null,"",""]
[null,null,null,null,null,null,null,null,null,null,null,null,"",""]
[null,null,null,null,null,null,null,null,null,null,null,null,"",""]
[null,null,null,null,null,null,null,null,null,null,null,null,"",""]
[null,null,null,null,null,null,null,null,null,null,null,null,"",""]
[null,null,null,null,null,null,null,null,null,null,null,null,"",""]
[null,null,null,null,null,null,null,null,null,null,null,null,"",""]
[null,null,null,null,null,null,null,null,null,null,null,null,"",""]
[null,null,null,null,null,null,null,null,null,null,null,null,"",""]
[null,null,null,null,null,null,null,null,null,null,null,null,"",""]
[null,null,null,null,null,null,null,null,null,null,null,null,"",""]
[null,null,null,null,null,null,null,null,null,null,null,null,"",""]
[null,null,null,null,null,null,null,null,null,null,null,null,"",""]
[null,null,null,null,null,null,null,null,null,null,null,null,"",""]
[null,null,null,null,null,null,null,null,null,null,null,null,"",""]
[null,null,null,null,null,null,null,null,null,null,null,null,"",""]
[null,null,null,null,null,null,null,null,null,null,null,null,"",""]
[null,null,null,null,null,null,null,null,null,null,null,null,"",""]
[null,null,null,null,null,null,null,null,null,null,null,null,"",""]
[null,null,null,null,null,null,null,null,null,null,null,null,"",""]
[null,null,null,null,null,null,null,null,null,null,null,null,"",""]
[null,null,null,null,null,null,null,null,null,null,null,null,"",""]
[null,null,null,null,null,null,null,null,null,null,null,null,"",""]
[null,null,null,null,null,null,null,null,null,null,null,null,"",""]
[null,null,null,null,null,null,null,null,null,null,null,null,"",""]
[null,null,null,null,null,null,null,null,null,null,null,null,"",""]
[null,null,null,null,null,null,null,null,null,null,null,null,"",""]
[null,null,null,null,null,null,null,null,null,null,null,null,"",""]
[null,null,null,null,null,null,null,null,null,null,null,null,"",""]
[null,null,null,null,null,null,null,null,null,null,null,null,"",""]
[null,null,null,null,null,null,null,null,null,null,null,null,"",""]
[null,null,null,null,null,null,null,null,null,null,null,null,"",""]
[null,null,null,null,null,null,null,null,null,null,null,null,"",""]
[null,null,null,null,null,null,null,null,null,null,null,null,"",""]
[null,null,null,null,null,null,null,null,null,null,null,null,"",""]
[null,null,null,null,null,null,null,null,null,null,null,null,"",""]
[null,null,null,null,null,null,null,null,null,null,null,null,"",""]
[null,null,null,null,null,null,null,null,null,null,null,null,"",""]
[null,null,null,null,null,null,null,null,null,null,null,null,"",""]
[null,null,null,null,null,null,null,null,null,null,null,null,"",""]
[null,null,null,null,null,null,null,null,null,null,null,null,"",""]
[null,null,null,null,null,null,null,null,null,null,null,null,"",""]
[null,null,null,null,null,null,null,null,null,null,null,null,"",""]
[null,null,null,null,null,null,null,null,null,null,null,null,"",""]
[null,null,null,null,null,null,null,null,null,null,null,null,"",""]
[null,null,null,null,null,null,null,null,null,null,null,null,"",""]
[null,null,null,null,null,null,null,null,null,null,null,null,"",""]
[null,null,null,null,null,null,null,null,null,null,null,null,"",""]
[null,null,null,null,null,null,null,null,null,null,null,null,"",""]
[null,null,null,null,null,null,null,null,null,null,null,null,"",""]
[null,null,null,null,null,null,null,null,null,null,null,null,"",""]
[null,null,null,null,null,null,null,null,null,null,null,null,"",""]
[null,null,null,null,null,null,null,null,null,null,null,null,"",""]
[null,null,null,null,null,null,null,null,null,null,null,null,{"$f":"IF(L1579=\"\",\"\",L1579/N1578)","v":""},{"$f":"IF(L1579=\"\",\"\",L1579+N1578)","v":""}]
[null,null,null,null,null,null,null,null,null,null,null,null,"",""]
[null,null,null,null,null,null,null,null,null,null,null,null,"",""]
[null,null,null,null,null,null,null,null,null,null,null,null,"",""]
[null,null,null,null,null,null,null,null,null,null,null,null,"",""]
[null,null,null,null,null,null,null,null,null,null,null,null,"",""]
[null,null,null,null,null,null,null,null,null,null,null,null,"",""]
[null,null,null,null,null,null,null,null,null,null,null,null,"",""]
[null,null,null,null,null,null,null,null,null,null,null,null,"",""]
[null,null,null,null,null,null,null,null,null,null,null,null,"",""]
[null,null,null,null,null,null,null,null,null,null,null,null,"",""]
[null,null,null,null,null,null,null,null,null,null,null,null,"",""]
[null,null,null,null,null,null,null,null,null,null,null,null,"",""]
[null,null,null,null,null,null,null,null,null,null,null,null,"",""]
[null,null,null,null,null,null,null,null,null,null,null,null,"",""]
[null,null,null,null,null,null,null,null,null,null,null,null,"",""]
[null,null,null,null,null,null,null,null,null,null,null,null,"",""]
[null,null,null,null,null,null,null,null,null,null,null,null,"",""]
[null,null,null,null,null,null,null,null,null,null,null,null,"",""]
[null,null,null,null,null,null,null,null,null,null,null,null,"",""]
[null,null,null,null,null,null,null,null,null,null,null,null,"",""]
[null,null,null,null,null,null,null,null,null,null,null,null,"",""]
[null,null,null,null,null,null,null,null,null,null,null,null,"",""]
[null,null,null,null,null,null,null,null,null,null,null,null,"",""]
[null,null,null,null,null,null,null,null,null,null,null,null,"",""]
[null,null,null,null,null,null,null,null,null,null,null,null,"",""]
[null,null,null,null,null,null,null,null,null,null,null,null,"",""]
[null,null,null,null,null,null,null,null,null,null,null,null,"",""]
[null,null,null,null,null,null,null,null,null,null,null,null,"",""]
[null,null,null,null,null,null,null,null,null,null,null,null,"",""]
[null,null,null,null,null,null,null,null,null,null,null,null,"",""]
[null,null,null,null,null,null,null,null,null,null,null,null,"",""]
[null,null,null,null,null,null,null,null,null,null,null,null,"",""]
[null,null,null,null,null,null,null,null,null,null,null,null,"",""]
[null,null,null,null,null,null,null,null,null,null,null,null,"",""]
[null,null,null,null,null,null,null,null,null,null,null,null,"",""]
[null,null,null,null,null,null,null,null,null,null,null,null,"",""]
[null,null,null,null,null,null,null,null,null,null,null,null,"",""]
[null,null,null,null,null,null,null,null,null,null,null,null,"",""]
[null,null,null,null,null,null,null,null,null,null,null,null,"",""]
[null,null,null,null,null,null,null,null,null,null,null,null,"",""]
[null,null,null,null,null,null,null,null,null,null,null,null,"",""]
[null,null,null,null,null,null,null,null,null,null,null,null,"",""]
[null,null,null,null,null,null,null,null,null,null,null,null,"",""]
[null,null,null,null,null,null,null,null,null,null,null,null,"",""]
[null,null,null,null,null,null,null,null,null,null,null,null,"",""]
[null,null,null,null,null,null,null,null,null,null,null,null,"",""]
[null,null,null,null,null,null,null,null,null,null,null,null,"",""]
[null,null,null,null,null,null,null,null,null,null,null,null,"",""]
[null,null,null,null,null,null,null,null,null,null,null,null,"",""]
[null,null,null,null,null,null,null,null,null,null,null,null,"",""]
[null,null,null,null,null,null,null,null,null,null,null,null,"",""]
[null,null,null,null,null,null,null,null,null,null,null,null,"",""]
[null,null,null,null,null,null,null,null,null,null,null,null,"",""]
[null,null,null,null,null,null,null,null,null,null,null,null,"",""]
[null,null,null,null,null,null,null,null,null,null,null,null,"",""]
[null,null,null,null,null,null,null,null,null,null,null,null,"",""]
[null,null,null,null,null,null,null,null,null,null,null,null,"",""]
[null,null,null,null,null,null,null,null,null,null,null,null,"",""]
[null,null,null,null,null,null,null,null,null,null,null,null,"",""]
[null,null,null,null,null,null,null,null,null,null,null,null,"",""]
[null,null,null,null,null,null,null,null,null,null,null,null,"",""]
[null,null,null,null,null,null,null,null,null,null,null,null,"",""]
[null,null,null,null,null,null,null,null,null,null,null,null,"",""]
[null,null,null,null,null,null,null,null,null,null,null,null,{"$f":"IF(L1643=\"\",\"\",L1643/N1642)","v":""},{"$f":"IF(L1643=\"\",\"\",L1643+N1642)","v":""}]
[null,null,null,null,null,null,null,null,null,null,null,null,"",""]
[null,null,null,null,null,null,null,null,null,null,null,null,"",""]
[null,null,null,null,null,null,null,null,null,null,null,null,"",""]
[null,null,null,null,null,null,null,null,null,null,null,null,"",""]
[null,null,null,null,null,null,null,null,null,null,null,null,"",""]
[null,null,null,null,null,null,null,null,null,null,null,null,"",""]
[null,null,null,null,null,null,null,null,null,null,null,null,"",""]
[null,null,null,null,null,null,null,null,null,null,null,null,"",""]
[null,null,null,null,null,null,null,null,null,null,null,null,"",""]
[null,null,null,null,null,null,null,null,null,null,null,null,"",""]
[null,null,null,null,null,null,null,null,null,null,null,null,"",""]
[null,null,null,null,null,null,null,null,null,null,null,null,"",""]
[null,null,null,null,null,null,null,null,null,null,null,null,"",""]
[null,null,null,null,null,null,null,null,null,null,null,null,"",""]
[null,null,null,null,null,null,null,null,null,null,null,null,"",""]
[null,null,null,null,null,null,null,null,null,null,null,null,"",""]
[null,null,null,null,null,null,null,null,null,null,null,null,"",""]
[null,null,null,null,null,null,null,null,null,null,null,null,"",""]
[null,null,null,null,null,null,null,null,null,null,null,null,"",""]
[null,null,null,null,null,null,null,null,null,null,null,null,"",""]
[null,null,null,null,null,null,null,null,null,null,null,null,"",""]
[null,null,null,null,null,null,null,null,null,null,null,null,"",""]
[null,null,null,null,null,null,null,null,null,null,null,null,"",""]
[null,null,null,null,null,null,null,null,null,null,null,null,"",""]
[null,null,null,null,null,null,null,null,null,null,null,null,"",""]
[null,null,null,null,null,null,null,null,null,null,null,null,"",""]
[null,null,null,null,null,null,null,null,null,null,null,null,"",""]
[null,null,null,null,null,null,null,null,null,null,null,null,"",""]
[null,null,null,null,null,null,null,null,null,null,null,null,"",""]
[null,null,null,null,null,null,null,null,null,null,null,null,"",""]
[null,null,null,null,null,null,null,null,null,null,null,null,"",""]
[null,null,null,null,null,null,null,null,null,null,null,null,"",""]
[null,null,null,null,null,null,null,null,null,null,null,null,"",""]
[null,null,null,null,null,null,null,null,null,null,null,null,"",""]
[null,null,null,null,null,null,null,null,null,null,null,null,"",""]
[null,null,null,null,null,null,null,null,null,null,null,null,"",""]
[null,null,null,null,null,null,null,null,null,null,null,null,"",""]
[null,null,null,null,null,null,null,null,null,null,null,null,"",""]
[null,null,null,null,null,null,null,null,null,null,null,null,"",""]
[null,null,null,null,null,null,null,null,null,null,null,null,"",""]
[null,null,null,null,null,null,null,null,null,null,null,null,"",""]
[null,null,null,null,null,null,null,null,null,null,null,null,"",""]
[null,null,null,null,null,null,null,null,null,null,null,null,"",""]
[null,null,null,null,null,null,null,null,null,null,null,null,"",""]
[null,null,null,null,null,null,null,null,null,null,null,null,"",""]
[null,null,null,null,null,null,null,null,null,null,null,null,"",""]
[null,null,null,null,null,null,null,null,null,null,null,null,"",""]
[null,null,null,null,null,null,null,null,null,null,null,null,"",""]
[null,null,null,null,null,null,null,null,null,null,null,null,"",""]
[null,null,null,null,null,null,null,null,null,null,null,null,"",""]
[null,null,null,null,null,null,null,null,null,null,null,null,"",""]
[null,null,null,null,null,null,null,null,null,null,null,null,"",""]
[null,null,null,null,null,null,null,null,null,null,null,null,"",""]
[null,null,null,null,null,null,null,null,null,null,null,null,"",""]
[null,null,null,null,null,null,null,null,null,null,null,null,"",""]
[null,null,null,null,null,null,null,null,null,null,null,null,"",""]
[null,null,null,null,null,null,null,null,null,null,null,null,"",""]
[null,null,null,null,null,null,null,null,null,null,null,null,"",""]
[null,null,null,null,null,null,null,null,null,null,null,null,"",""]
[null,null,null,null,null,null,null,null,null,null,null,null,"",""]
[null,null,null,null,null,null,null,null,null,null,null,null,"",""]
[null,null,null,null,null,null,null,null,null,null,null,null,"",""]
[null,null,null,null,null,null,null,null,null,null,null,null,"",""]
[null,null,null,null,null,null,null,null,null,null,null,null,{"$f":"IF(L1707=\"\",\"\",L1707/N1706)","v":""},{"$f":"IF(L1707=\"\",\"\",L1707+N1706)","v":""}]
[null,null,null,null,null,null,null,null,null,null,null,null,"",""]
[null,null,null,null,null,null,null,null,null,null,null,null,"",""]
[null,null,null,null,null,null,null,null,null,null,null,null,"",""]
[null,null,null,null,null,null,null,null,null,null,null,null,"",""]
[null,null,null,null,null,null,null,null,null,null,null,null,"",""]
[null,null,null,null,null,null,null,null,null,null,null,null,"",""]
[null,null,null,null,null,null,null,null,null,null,null,null,"",""]
[null,null,null,null,null,null,null,null,null,null,null,null,"",""]
[null,null,null,null,null,null,null,null,null,null,null,null,"",""]
[null,null,null,null,null,null,null,null,null,null,null,null,"",""]
[null,null,null,null,null,null,null,null,null,null,null,null,"",""]
[null,null,null,null,null,null,null,null,null,null,null,null,"",""]
[null,null,null,null,null,null,null,null,null,null,null,null,"",""]
[null,null,null,null,null,null,null,null,null,null,null,null,"",""]
[null,null,null,null,null,null,null,null,null,null,null,null,"",""]
[null,null,null,null,null,null,null,null,null,null,null,null,"",""]
[null,null,null,null,null,null,null,null,null,null,null,null,"",""]
[null,null,null,null,null,null,null,null,null,null,null,null,"",""]
[null,null,null,null,null,null,null,null,null,null,null,null,"",""]
[null,null,null,null,null,null,null,null,null,null,null,null,"",""]
[null,null,null,null,null,null,null,null,null,null,null,null,"",""]
[null,null,null,null,null,null,null,null,null,null,null,null,"",""]
[null,null,null,null,null,null,null,null,null,null,null,null,"",""]
[null,null,null,null,null,null,null,null,null,null,null,null,"",""]
[null,null,null,null,null,null,null,null,null,null,null,null,"",""]
[null,null,null,null,null,null,null,null,null,null,null,null,"",""]
[null,null,null,null,null,null,null,null,null,null,null,null,"",""]
[null,null,null,null,null,null,null,null,null,null,null,null,"",""]
[null,null,null,null,null,null,null,null,null,null,null,null,"",""]
[null,null,null,null,null,null,null,null,null,null,null,null,"",""]
[null,null,null,null,null,null,null,null,null,null,null,null,"",""]
[null,null,null,null,null,null,null,null,null,null,null,null,"",""]
[null,null,null,null,null,null,null,null,null,null,null,null,"",""]
[null,null,null,null,null,null,null,null,null,null,null,null,"",""]
[null,null,null,null,null,null,null,null,null,null,null,null,"",""]
[null,null,null,null,null,null,null,null,null,null,null,null,"",""]
[null,null,null,null,null,null,null,null,null,null,null,null,"",""]
[null,null,null,null,null,null,null,null,null,null,null,null,"",""]
[null,null,null,null,null,null,null,null,null,null,null,null,"",""]
[null,null,null,null,null,null,null,null,null,null,null,null,"",""]
[null,null,null,null,null,null,null,null,null,null,null,null,"",""]
[null,null,null,null,null,null,null,null,null,null,null,null,"",""]
[null,null,null,null,null,null,null,null,null,null,null,null,"",""]
[null,null,null,null,null,null,null,null,null,null,null,null,"",""]
[null,null,null,null,null,null,null,null,null,null,null,null,"",""]
[null,null,null,null,null,null,null,null,null,null,null,null,"",""]
[null,null,null,null,null,null,null,null,null,null,null,null,"",""]
[null,null,null,null,null,null,null,null,null,null,null,null,"",""]
[null,null,null,null,null,null,null,null,null,null,null,null,"",""]
[null,null,null,null,null,null,null,null,null,null,null,null,"",""]
[null,null,null,null,null,null,null,null,null,null,null,null,"",""]
[null,null,null,null,null,null,null,null,null,null,null,null,"",""]
[null,null,null,null,null,null,null,null,null,null,null,null,"",""]
[null,null,null,null,null,null,null,null,null,null,null,null,"",""]
[null,null,null,null,null,null,null,null,null,null,null,null,"",""]
[null,null,null,null,null,null,null,null,null,null,null,null,"",""]
[null,null,null,null,null,null,null,null,null,null,null,null,"",""]
[null,null,null,null,null,null,null,null,null,null,null,null,"",""]
[null,null,null,null,null,null,null,null,null,null,null,null,"",""]
[null,null,null,null,null,null,null,null,null,null,null,null,"",""]
[null,null,null,null,null,null,null,null,null,null,null,null,"",""]
[null,null,null,null,null,null,null,null,null,null,null,null,"",""]
[null,null,null,null,null,null,null,null,null,null,null,null,"",""]
[null,null,null,null,null,null,null,null,null,null,null,null,{"$f":"IF(L1771=\"\",\"\",L1771/N1770)","v":""},{"$f":"IF(L1771=\"\",\"\",L1771+N1770)","v":""}]
[null,null,null,null,null,null,null,null,null,null,null,null,"",""]
[null,null,null,null,null,null,null,null,null,null,null,null,"",""]
[null,null,null,null,null,null,null,null,null,null,null,null,"",""]
[null,null,null,null,null,null,null,null,null,null,null,null,"",""]
[null,null,null,null,null,null,null,null,null,null,null,null,"",""]
[null,null,null,null,null,null,null,null,null,null,null,null,"",""]
[null,null,null,null,null,null,null,null,null,null,null,null,"",""]
[null,null,null,null,null,null,null,null,null,null,null,null,"",""]
[null,null,null,null,null,null,null,null,null,null,null,null,"",""]
[null,null,null,null,null,null,null,null,null,null,null,null,"",""]
[null,null,null,null,null,null,null,null,null,null,null,null,"",""]
[null,null,null,null,null,null,null,null,null,null,null,null,"",""]
[null,null,null,null,null,null,null,null,null,null,null,null,"",""]
[null,null,null,null,null,null,null,null,null,null,null,null,"",""]
[null,null,null,null,null,null,null,null,null,null,null,null,"",""]
[null,null,null,null,null,null,null,null,null,null,null,null,"",""]
[null,null,null,null,null,null,null,null,null,null,null,null,"",""]
[null,null,null,null,null,null,null,null,null,null,null,null,"",""]
[null,null,null,null,null,null,null,null,null,null,null,null,"",""]
[null,null,null,null,null,null,null,null,null,null,null,null,"",""]
[null,null,null,null,null,null,null,null,null,null,null,null,"",""]
[null,null,null,null,null,null,null,null,null,null,null,null,"",""]
[null,null,null,null,null,null,null,null,null,null,null,null,"",""]
[null,null,null,null,null,null,null,null,null,null,null,null,"",""]
[null,null,null,null,null,null,null,null,null,null,null,null,"",""]
[null,null,null,null,null,null,null,null,null,null,null,null,"",""]
[null,null,null,null,null,null,null,null,null,null,null,null,"",""]
[null,null,null,null,null,null,null,null,null,null,null,null,"",""]
[null,null,null,null,null,null,null,null,null,null,null,null,"",""]
[null,null,null,null,null,null,null,null,null,null,null,null,"",""]
[null,null,null,null,null,null,null,null,null,null,null,null,"",""]
[null,null,null,null,null,null,null,null,null,null,null,null,"",""]
[null,null,null,null,null,null,null,null,null,null,null,null,"",""]
[null,null,null,null,null,null,null,null,null,null,null,null,"",""]
[null,null,null,null,null,null,null,null,null,null,null,null,"",""]
[null,null,null,null,null,null,null,null,null,null,null,null,"",""]
[null,null,null,null,null,null,null,null,null,null,null,null,"",""]
[null,null,null,null,null,null,null,null,null,null,null,null,"",""]
[null,null,null,null,null,null,null,null,null,null,null,null,"",""]
[null,null,null,null,null,null,null,null,null,null,null,null,"",""]
[null,null,null,null,null,null,null,null,null,null,null,null,"",""]
[null,null,null,null,null,null,null,null,null,null,null,null,"",""]
[null,null,null,null,null,null,null,null,null,null,null,null,"",""]
[null,null,null,null,null,null,null,null,null,null,null,null,"",""]
[null,null,null,null,null,null,null,null,null,null,null,null,"",""]
[null,null,null,null,null,null,null,null,null,null,null,null,"",""]
[null,null,null,null,null,null,null,null,null,null,null,null,"",""]
[null,null,null,null,null,null,null,null,null,null,null,null,"",""]
[null,null,null,null,null,null,null,null,null,null,null,null,"",""]
[null,null,null,null,null,null,null,null,null,null,null,null,"",""]
[null,null,null,null,null,null,null,null,null,null,null,null,"",""]
[null,null,null,null,null,null,null,null,null,null,null,null,"",""]
[null,null,null,null,null,null,null,null,null,null,null,null,"",""]
[null,null,null,null,null,null,null,null,null,null,null,null,"",""]
[null,null,null,null,null,null,null,null,null,null,null,null,"",""]
[null,null,null,null,null,null,null,null,null,null,null,null,"",""]
[null,null,null,null,null,null,null,null,null,null,null,null,"",""]
[null,null,null,null,null,null,null,null,null,null,null,null,"",""]
[null,null,null,null,null,null,null,null,null,null,null,null,"",""]
[null,null,null,null,null,null,null,null,null,null,null,null,"",""]
[null,null,null,null,null,null,null,null,null,null,null,null,"",""]
[null,null,null,null,null,null,null,null,null,null,null,null,"",""]
[null,null,null,null,null,null,null,null,null,null,null,null,"",""]
[null,null,null,null,null,null,null,null,null,null,null,null,{"$f":"IF(L1835=\"\",\"\",L1835/N1834)","v":""},{"$f":"IF(L1835=\"\",\"\",L1835+N1834)","v":""}]
[null,null,null,null,null,null,null,null,null,null,null,null,"",""]
[null,null,null,null,null,null,null,null,null,null,null,null,"",""]
[null,null,null,null,null,null,null,null,null,null,null,null,"",""]
[null,null,null,null,null,null,null,null,null,null,null,null,"",""]
[null,null,null,null,null,null,null,null,null,null,null,null,"",""]
[null,null,null,null,null,null,null,null,null,null,null,null,"",""]
[null,null,null,null,null,null,null,null,null,null,null,null,"",""]
[null,null,null,null,null,null,null,null,null,null,null,null,"",""]
[null,null,null,null,null,null,null,null,null,null,null,null,"",""]
[null,null,null,null,null,null,null,null,null,null,null,null,"",""]
[null,null,null,null,null,null,null,null,null,null,null,null,"",""]
[null,null,null,null,null,null,null,null,null,null,null,null,"",""]
[null,null,null,null,null,null,null,null,null,null,null,null,"",""]
[null,null,null,null,null,null,null,null,null,null,null,null,"",""]
[null,null,null,null,null,null,null,null,null,null,null,null,"",""]
[null,null,null,null,null,null,null,null,null,null,null,null,"",""]
[null,null,null,null,null,null,null,null,null,null,null,null,"",""]
[null,null,null,null,null,null,null,null,null,null,null,null,"",""]
[null,null,null,null,null,null,null,null,null,null,null,null,"",""]
[null,null,null,null,null,null,null,null,null,null,null,null,"",""]
[null,null,null,null,null,null,null,null,null,null,null,null,"",""]
[null,null,null,null,null,null,null,null,null,null,null,null,"",""]
[null,null,null,null,null,null,null,null,null,null,null,null,"",""]
[null,null,null,null,null,null,null,null,null,null,null,null,"",""]
[null,null,null,null,null,null,null,null,null,null,null,null,"",""]
[null,null,null,null,null,null,null,null,null,null,null,null,"",""]
[null,null,null,null,null,null,null,null,null,null,null,null,"",""]
[null,null,null,null,null,null,null,null,null,null,null,null,"",""]
[null,null,null,null,null,null,null,null,null,null,null,null,"",""]
[null,null,null,null,null,null,null,null,null,null,null,null,"",""]
[null,null,null,null,null,null,null,null,null,null,null,null,"",""]
[null,null,null,null,null,null,null,null,null,null,null,null,"",""]
[null,null,null,null,null,null,null,null,null,null,null,null,"",""]
[null,null,null,null,null,null,null,null,null,null,null,null,"",""]
[null,null,null,null,null,null,null,null,null,null,null,null,"",""]
[null,null,null,null,null,null,null,null,null,null,null,null,"",""]
[null,null,null,null,null,null,null,null,null,null,null,null,"",""]
[null,null,null,null,null,null,null,null,null,null,null,null,"",""]
[null,null,null,null,null,null,null,null,null,null,null,null,"",""]
[null,null,null,null,null,null,null,null,null,null,null,null,"",""]
[null,null,null,null,null,null,null,null,null,null,null,null,"",""]
[null,null,null,null,null,null,null,null,null,null,null,null,"",""]
[null,null,null,null,null,null,null,null,null,null,null,null,"",""]
[null,null,null,null,null,null,null,null,null,null,null,null,"",""]
[null,null,null,null,null,null,null,null,null,null,null,null,"",""]
[null,null,null,null,null,null,null,null,null,null,null,null,"",""]
[null,null,null,null,null,null,null,null,null,null,null,null,"",""]
[null,null,null,null,null,null,null,null,null,null,null,null,"",""]
[null,null,null,null,null,null,null,null,null,null,null,null,"",""]
[null,null,null,null,null,null,null,null,null,null,null,null,"",""]
[null,null,null,null,null,null,null,null,null,null,null,null,"",""]
[null,null,null,null,null,null,null,null,null,null,null,null,"",""]
[null,null,null,null,null,null,null,null,null,null,null,null,"",""]
[null,null,null,null,null,null,null,null,null,null,null,null,"",""]
[null,null,null,null,null,null,null,null,null,null,null,null,"",""]
[null,null,null,null,null,null,null,null,null,null,null,null,"",""]
[null,null,null,null,null,null,null,null,null,null,null,null,"",""]
[null,null,null,null,null,null,null,null,null,null,null,null,"",""]
[null,null,null,null,null,null,null,null,null,null,null,null,"",""]
[null,null,null,null,null,null,null,null,null,null,null,null,"",""]
[null,null,null,null,null,null,null,null,null,null,null,null,"",""]
[null,null,null,null,null,null,null,null,null,null,null,null,"",""]
[null,null,null,null,null,null,null,null,null,null,null,null,"",""]
[null,null,null,null,null,null,null,null,null,null,null,null,{"$f":"IF(L1899=\"\",\"\",L1899/N1898)","v":""},{"$f":"IF(L1899=\"\",\"\",L1899+N1898)","v":""}]
[null,null,null,null,null,null,null,null,null,null,null,null,"",""]
[null,null,null,null,null,null,null,null,null,null,null,null,"",""]
[null,null,null,null,null,null,null,null,null,null,null,null,"",""]
[null,null,null,null,null,null,null,null,null,null,null,null,"",""]
[null,null,null,null,null,null,null,null,null,null,null,null,"",""]
[null,null,null,null,null,null,null,null,null,null,null,null,"",""]
[null,null,null,null,null,null,null,null,null,null,null,null,"",""]
[null,null,null,null,null,null,null,null,null,null,null,null,"",""]
[null,null,null,null,null,null,null,null,null,null,null,null,"",""]
[null,null,null,null,null,null,null,null,null,null,null,null,"",""]
[null,null,null,null,null,null,null,null,null,null,null,null,"",""]
[null,null,null,null,null,null,null,null,null,null,null,null,"",""]
[null,null,null,null,null,null,null,null,null,null,null,null,"",""]
[null,null,null,null,null,null,null,null,null,null,null,null,"",""]
[null,null,null,null,null,null,null,null,null,null,null,null,"",""]
[null,null,null,null,null,null,null,null,null,null,null,null,"",""]
[null,null,null,null,null,null,null,null,null,null,null,null,"",""]
[null,null,null,null,null,null,null,null,null,null,null,null,"",""]
[null,null,null,null,null,null,null,null,null,null,null,null,"",""]
[null,null,null,null,null,null,null,null,null,null,null,null,"",""]
[null,null,null,null,null,null,null,null,null,null,null,null,"",""]
[null,null,null,null,null,null,null,null,null,null,null,null,"",""]
[null,null,null,null,null,null,null,null,null,null,null,null,"",""]
[null,null,null,null,null,null,null,null,null,null,null,null,"",""]
[null,null,null,null,null,null,null,null,null,null,null,null,"",""]
[null,null,null,null,null,null,null,null,null,null,null,null,"",""]
[null,null,null,null,null,null,null,null,null,null,null,null,"",""]
[null,null,null,null,null,null,null,null,null,null,null,null,"",""]
[null,null,null,null,null,null,null,null,null,null,null,null,"",""]
[null,null,null,null,null,null,null,null,null,null,null,null,"",""]
[null,null,null,null,null,null,null,null,null,null,null,null,"",""]
[null,null,null,null,null,null,null,null,null,null,null,null,"",""]
[null,null,null,null,null,null,null,null,null,null,null,null,"",""]
[null,null,null,null,null,null,null,null,null,null,null,null,"",""]
[null,null,null,null,null,null,null,null,null,null,null,null,"",""]
[null,null,null,null,null,null,null,null,null,null,null,null,"",""]
[null,null,null,null,null,null,null,null,null,null,null,null,"",""]
[null,null,null,null,null,null,null,null,null,null,null,null,"",""]
[null,null,null,null,null,null,null,null,null,null,null,null,"",""]
[null,null,null,null,null,null,null,null,null,null,null,null,"",""]
[null,null,null,null,null,null,null,null,null,null,null,null,"",""]
[null,null,null,null,null,null,null,null,null,null,null,null,"",""]
[null,null,null,null,null,null,null,null,null,null,null,null,"",""]
[null,null,null,null,null,null,null,null,null,null,null,null,"",""]
[null,null,null,null,null,null,null,null,null,null,null,null,"",""]
[null,null,null,null,null,null,null,null,null,null,null,null,"",""]
[null,null,null,null,null,null,null,null,null,null,null,null,"",""]
[null,null,null,null,null,null,null,null,null,null,null,null,"",""]
[null,null,null,null,null,null,null,null,null,null,null,null,"",""]
[null,null,null,null,null,null,null,null,null,null,null,null,"",""]
[null,null,null,null,null,null,null,null,null,null,null,null,"",""]
[null,null,null,null,null,null,null,null,null,null,null,null,"",""]
[null,null,null,null,null,null,null,null,null,null,null,null,"",""]
[null,null,null,null,null,null,null,null,null,null,null,null,"",""]
[null,null,null,null,null,null,null,null,null,null,null,null,"",""]
[null,null,null,null,null,null,null,null,null,null,null,null,"",""]
[null,null,null,null,null,null,null,null,null,null,null,null,"",""]
[null,null,null,null,null,null,null,null,null,null,null,null,"",""]
[null,null,null,null,null,null,null,null,null,null,null,null,"",""]
[null,null,null,null,null,null,null,null,null,null,null,null,"",""]
[null,null,null,null,null,null,null,null,null,null,null,null,"",""]
[null,null,null,null,null,null,null,null,null,null,null,null,"",""]
[null,null,null,null,null,null,null,null,null,null,null,null,"",""]
[null,null,null,null,null,null,null,null,null,null,null,null,{"$f":"IF(L1963=\"\",\"\",L1963/N1962)","v":""},{"$f":"IF(L1963=\"\",\"\",L1963+N1962)","v":""}]
[null,null,null,null,null,null,null,null,null,null,null,null,"",""]
[null,null,null,null,null,null,null,null,null,null,null,null,"",""]
[null,null,null,null,null,null,null,null,null,null,null,null,"",""]
[null,null,null,null,null,null,null,null,null,null,null,null,"",""]
[null,null,null,null,null,null,null,null,null,null,null,null,"",""]
[null,null,null,null,null,null,null,null,null,null,null,null,"",""]
[null,null,null,null,null,null,null,null,null,null,null,null,"",""]
[null,null,null,null,null,null,null,null,null,null,null,null,"",""]
[null,null,null,null,null,null,null,null,null,null,null,null,"",""]
[null,null,null,null,null,null,null,null,null,null,null,null,"",""]
[null,null,null,null,null,null,null,null,null,null,null,null,"",""]
[null,null,null,null,null,null,null,null,null,null,null,null,"",""]
[null,null,null,null,null,null,null,null,null,null,null,null,"",""]
[null,null,null,null,null,null,null,null,null,null,null,null,"",""]
[null,null,null,null,null,null,null,null,null,null,null,null,"",""]
[null,null,null,null,null,null,null,null,null,null,null,null,"",""]
[null,null,null,null,null,null,null,null,null,null,null,null,"",""]
[null,null,null,null,null,null,null,null,null,null,null,null,"",""]
[null,null,null,null,null,null,null,null,null,null,null,null,"",""]
[null,null,null,null,null,null,null,null,null,null,null,null,"",""]
[null,null,null,null,null,null,null,null,null,null,null,null,"",""]
[null,null,null,null,null,null,null,null,null,null,null,null,"",""]
[null,null,null,null,null,null,null,null,null,null,null,null,"",""]
[null,null,null,null,null,null,null,null,null,null,null,null,"",""]
[null,null,null,null,null,null,null,null,null,null,null,null,"",""]
[null,null,null,null,null,null,null,null,null,null,null,null,"",""]
[null,null,null,null,null,null,null,null,null,null,null,null,"",""]
[null,null,null,null,null,null,null,null,null,null,null,null,"",""]
[null,null,null,null,null,null,null,null,null,null,null,null,"",""]
[null,null,null,null,null,null,null,null,null,null,null,null,"",""]
[null,null,null,null,null,null,null,null,null,null,null,null,"",""]
[null,null,null,null,null,null,null,null,null,null,null,null,"",""]
[null,null,null,null,null,null,null,null,null,null,null,null,"",""]
[null,null,null,null,null,null,null,null,null,null,null,null,"",""]
[null,null,null,null,null,null,null,null,null,null,null,null,"",""]
[null,null,null,null,null,null,null,null,null,null,null,null,"",""]
[null,null,null,null,null,null,null,null,null,null,null,null,"",""]
[null,null,null,null,null,null,null,null,null,null,null,null,"",""]
[null,null,null,null,null,null,null,null,null,null,null,null,"",""]
[null,null,null,null,null,null,null,null,null,null,null,null,"",""]
[null,null,null,null,null,null,null,null,null,null,null,null,"",""]
[null,null,null,null,null,null,null,null,null,null,null,null,"",""]
[null,null,null,null,null,null,null,null,null,null,null,null,"",""]
[null,null,null,null,null,null,null,null,null,null,null,null,"",""]
[null,null,null,null,null,null,null,null,null,null,null,null,"",""]
[null,null,null,null,null,null,null,null,null,null,null,null,"",""]
[null,null,null,null,null,null,null,null,null,null,null,null,"",""]
[null,null,null,null,null,null,null,null,null,null,null,null,"",""]
[null,null,null,null,null,null,null,null,null,null,null,null,"",""]
[null,null,null,null,null,null,null,null,null,null,null,null,"",""]
[null,null,null,null,null,null,null,null,null,null,null,null,"",""]
[null,null,null,null,null,null,null,null,null,null,null,null,"",""]
[null,null,null,null,null,null,null,null,null,null,null,null,"",""]
[null,null,null,null,null,null,null,null,null,null,null,null,"",""]
[null,null,null,null,null,null,null,null,null,null,null,null,"",""]
[null,null,null,null,null,null,null,null,null,null,null,null,"",""]
[null,null,null,null,null,null,null,null,null,null,null,null,"",""]
[null,null,null,null,null,null,null,null,null,null,null,null,"",""]
[null,null,null,null,null,null,null,null,null,null,null,null,"",""]
[null,null,null,null,null,null,null,null,null,null,null,null,"",""]
[null,null,null,null,null,null,null,null,null,null,null,null,"",""]
[null,null,null,null,null,null,null,null,null,null,null,null,"",""]
[null,null,null,null,null,null,null,null,null,null,null,null,"",""]
[null,null,null,null,null,null,null,null,null,null,null,null,{"$f":"IF(L2027=\"\",\"\",L2027/N2026)","v":""},{"$f":"IF(L2027=\"\",\"\",L2027+N2026)","v":""}]
[null,null,null,null,null,null,null,null,null,null,null,null,"",""]
[null,null,null,null,null,null,null,null,null,null,null,null,"",""]
[null,null,null,null,null,null,null,null,null,null,null,null,"",""]
[null,null,null,null,null,null,null,null,null,null,null,null,"",""]
[null,null,null,null,null,null,null,null,null,null,null,null,"",""]
[null,null,null,null,null,null,null,null,null,null,null,null,"",""]
[null,null,null,null,null,null,null,null,null,null,null,null,"",""]
[null,null,null,null,null,null,null,null,null,null,null,null,"",""]
[null,null,null,null,null,null,null,null,null,null,null,null,"",""]
[null,null,null,null,null,null,null,null,null,null,null,null,"",""]
[null,null,null,null,null,null,null,null,null,null,null,null,"",""]
[null,null,null,null,null,null,null,null,null,null,null,null,"",""]
[null,null,null,null,null,null,null,null,null,null,null,null,"",""]
[null,null,null,null,null,null,null,null,null,null,null,null,"",""]
[null,null,null,null,null,null,null,null,null,null,null,null,"",""]
[null,null,null,null,null,null,null,null,null,null,null,null,"",""]
[null,null,null,null,null,null,null,null,null,null,null,null,"",""]
[null,null,null,null,null,null,null,null,null,null,null,null,"",""]
[null,null,null,null,null,null,null,null,null,null,null,null,"",""]
[null,null,null,null,null,null,null,null,null,null,null,null,"",""]
[null,null,null,null,null,null,null,null,null,null,null,null,"",""]
[null,null,null,null,null,null,null,null,null,null,null,null,"",""]
[null,null,null,null,null,null,null,null,null,null,null,null,"",""]
[null,null,null,null,null,null,null,null,null,null,null,null,"",""]
[null,null,null,null,null,null,null,null,null,null,null,null,"",""]
[null,null,null,null,null,null,null,null,null,null,null,null,"",""]
[null,null,null,null,null,null,null,null,null,null,null,null,"",""]
[null,null,null,null,null,null,null,null,null,null,null,null,"",""]
[null,null,null,null,null,null,null,null,null,null,null,null,"",""]
[null,null,null,null,null,null,null,null,null,null,null,null,"",""]
[null,null,null,null,null,null,null,null,null,null,null,null,"",""]
[null,null,null,null,null,null,null,null,null,null,null,null,"",""]
[null,null,null,null,null,null,null,null,null,null,null,null,"",""]
[null,null,null,null,null,null,null,null,null,null,null,null,"",""]
[null,null,null,null,null,null,null,null,null,null,null,null,"",""]
[null,null,null,null,null,null,null,null,null,null,null,null,"",""]
[null,null,null,null,null,null,null,null,null,null,null,null,"",""]
[null,null,null,null,null,null,null,null,null,null,null,null,"",""]
[null,null,null,null,null,null,null,null,null,null,null,null,"",""]
[null,null,null,null,null,null,null,null,null,null,null,null,"",""]
[null,null,null,null,null,null,null,null,null,null,null,null,"",""]
[null,null,null,null,null,null,null,null,null,null,null,null,"",""]
[null,null,null,null,null,null,null,null,null,null,null,null,"",""]
[null,null,null,null,null,null,null,null,null,null,null,null,"",""]
[null,null,null,null,null,null,null,null,null,null,null,null,"",""]
[null,null,null,null,null,null,null,null,null,null,null,null,"",""]
[null,null,null,null,null,null,null,null,null,null,null,null,"",""]
[null,null,null,null,null,null,null,null,null,null,null,null,"",""]
[null,null,null,null,null,null,null,null,null,null,null,null,"",""]
[null,null,null,null,null,null,null,null,null,null,null,null,"",""]
[null,null,null,null,null,null,null,null,null,null,null,null,"",""]
[null,null,null,null,null,null,null,null,null,null,null,null,"",""]
[null,null,null,null,null,null,null,null,null,null,null,null,"",""]
[null,null,null,null,null,null,null,null,null,null,null,null,"",""]
[null,null,null,null,null,null,null,null,null,null,null,null,"",""]
[null,null,null,null,null,null,null,null,null,null,null,null,"",""]
[null,null,null,null,null,null,null,null,null,null,null,null,"",""]
[null,null,null,null,null,null,null,null,null,null,null,null,"",""]
[null,null,null,null,null,null,null,null,null,null,null,null,"",""]
[null,null,null,null,null,null,null,null,null,null,null,null,"",""]
[null,null,null,null,null,null,null,null,null,null,null,null,"",""]
[null,null,null,null,null,null,null,null,null,null,null,null,"",""]
[null,null,null,null,null,null,null,null,null,null,null,null,"",""]
[null,null,null,null,null,null,null,null,null,null,null,null,{"$f":"IF(L2091=\"\",\"\",L2091/N2090)","v":""},{"$f":"IF(L2091=\"\",\"\",L2091+N2090)","v":""}]
[null,null,null,null,null,null,null,null,null,null,null,null,"",""]
[null,null,null,null,null,null,null,null,null,null,null,null,"",""]
[null,null,null,null,null,null,null,null,null,null,null,null,"",""]
[null,null,null,null,null,null,null,null,null,null,null,null,"",""]
[null,null,null,null,null,null,null,null,null,null,null,null,"",""]
[null,null,null,null,null,null,null,null,null,null,null,null,"",""]
[null,null,null,null,null,null,null,null,null,null,null,null,"",""]
[null,null,null,null,null,null,null,null,null,null,null,null,"",""]
[null,null,null,null,null,null,null,null,null,null,null,null,"",""]
[null,null,null,null,null,null,null,null,null,null,null,null,"",""]
[null,null,null,null,null,null,null,null,null,null,null,null,"",""]
[null,null,null,null,null,null,null,null,null,null,null,null,"",""]
[null,null,null,null,null,null,null,null,null,null,null,null,"",""]
[null,null,null,null,null,null,null,null,null,null,null,null,"",""]
[null,null,null,null,null,null,null,null,null,null,null,null,"",""]
[null,null,null,null,null,null,null,null,null,null,null,null,"",""]
[null,null,null,null,null,null,null,null,null,null,null,null,"",""]
[null,null,null,null,null,null,null,null,null,null,null,null,"",""]
[null,null,null,null,null,null,null,null,null,null,null,null,"",""]
[null,null,null,null,null,null,null,null,null,null,null,null,"",""]
[null,null,null,null,null,null,null,null,null,null,null,null,"",""]
[null,null,null,null,null,null,null,null,null,null,null,null,"",""]
[null,null,null,null,null,null,null,null,null,null,null,null,"",""]
[null,null,null,null,null,null,null,null,null,null,null,null,"",""]
[null,null,null,null,null,null,null,null,null,null,null,null,"",""]
[null,null,null,null,null,null,null,null,null,null,null,null,"",""]
[null,null,null,null,null,null,null,null,null,null,null,null,"",""]
[null,null,null,null,null,null,null,null,null,null,null,null,"",""]
[null,null,null,null,null,null,null,null,null,null,null,null,"",""]
[null,null,null,null,null,null,null,null,null,null,null,null,"",""]
[null,null,null,null,null,null,null,null,null,null,null,null,"",""]
[null,null,null,null,null,null,null,null,null,null,null,null,"",""]
[null,null,null,null,null,null,null,null,null,null,null,null,"",""]
[null,null,null,null,null,null,null,null,null,null,null,null,"",""]
[null,null,null,null,null,null,null,null,null,null,null,null,"",""]
[null,null,null,null,null,null,null,null,null,null,null,null,"",""]
[null,null,null,null,null,null,null,null,null,null,null,null,"",""]
[null,null,null,null,null,null,null,null,null,null,null,null,"",""]
[null,null,null,null,null,null,null,null,null,null,null,null,"",""]
[null,null,null,null,null,null,null,null,null,null,null,null,"",""]
[null,null,null,null,null,null,null,null,null,null,null,null,"",""]
[null,null,null,null,null,null,null,null,null,null,null,null,"",""]
[null,null,null,null,null,null,null,null,null,null,null,null,"",""]
[null,null,null,null,null,null,null,null,null,null,null,null,"",""]
[null,null,null,null,null,null,null,null,null,null,null,null,"",""]
[null,null,null,null,null,null,null,null,null,null,null,null,"",""]
[null,null,null,null,null,null,null,null,null,null,null,null,"",""]
[null,null,null,null,null,null,null,null,null,null,null,null,"",""]
[null,null,null,null,null,null,null,null,null,null,null,null,"",""]
[null,null,null,null,null,null,null,null,null,null,null,null,"",""]
[null,null,null,null,null,null,null,null,null,null,null,null,"",""]
[null,null,null,null,null,null,null,null,null,null,null,null,"",""]
[null,null,null,null,null,null,null,null,null,null,null,null,"",""]
[null,null,null,null,null,null,null,null,null,null,null,null,"",""]
[null,null,null,null,null,null,null,null,null,null,null,null,"",""]
[null,null,null,null,null,null,null,null,null,null,null,null,"",""]
[null,null,null,null,null,null,null,null,null,null,null,null,"",""]
[null,null,null,null,null,null,null,null,null,null,null,null,"",""]
[null,null,null,null,null,null,null,null,null,null,null,null,"",""]
[null,null,null,null,null,null,null,null,null,null,null,null,"",""]
[null,null,null,null,null,null,null,null,null,null,null,null,"",""]
[null,null,null,null,null,null,null,null,null,null,null,null,"",""]
[null,null,null,null,null,null,null,null,null,null,null,null,"",""]
[null,null,null,null,null,null,null,null,null,null,null,null,{"$f":"IF(L2155=\"\",\"\",L2155/N2154)","v":""},{"$f":"IF(L2155=\"\",\"\",L2155+N2154)","v":""}]
[null,null,null,null,null,null,null,null,null,null,null,null,"",""]
[null,null,null,null,null,null,null,null,null,null,null,null,"",""]
[null,null,null,null,null,null,null,null,null,null,null,null,"",""]
[null,null,null,null,null,null,null,null,null,null,null,null,"",""]
[null,null,null,null,null,null,null,null,null,null,null,null,"",""]
[null,null,null,null,null,null,null,null,null,null,null,null,"",""]
[null,null,null,null,null,null,null,null,null,null,null,null,"",""]
[null,null,null,null,null,null,null,null,null,null,null,null,"",""]
[null,null,null,null,null,null,null,null,null,null,null,null,"",""]
[null,null,null,null,null,null,null,null,null,null,null,null,"",""]
[null,null,null,null,null,null,null,null,null,null,null,null,"",""]
[null,null,null,null,null,null,null,null,null,null,null,null,"",""]
[null,null,null,null,null,null,null,null,null,null,null,null,"",""]
[null,null,null,null,null,null,null,null,null,null,null,null,"",""]
[null,null,null,null,null,null,null,null,null,null,null,null,"",""]
[null,null,null,null,null,null,null,null,null,null,null,null,"",""]
[null,null,null,null,null,null,null,null,null,null,null,null,"",""]
[null,null,null,null,null,null,null,null,null,null,null,null,"",""]
[null,null,null,null,null,null,null,null,null,null,null,null,"",""]
[null,null,null,null,null,null,null,null,null,null,null,null,"",""]
[null,null,null,null,null,null,null,null,null,null,null,null,"",""]
[null,null,null,null,null,null,null,null,null,null,null,null,"",""]
[null,null,null,null,null,null,null,null,null,null,null,null,"",""]
[null,null,null,null,null,null,null,null,null,null,null,null,"",""]
[null,null,null,null,null,null,null,null,null,null,null,null,"",""]
[null,null,null,null,null,null,null,null,null,null,null,null,"",""]
[null,null,null,null,null,null,null,null,null,null,null,null,"",""]
[null,null,null,null,null,null,null,null,null,null,null,null,"",""]
[null,null,null,null,null,null,null,null,null,null,null,null,"",""]
[null,null,null,null,null,null,null,null,null,null,null,null,"",""]
[null,null,null,null,null,null,null,null,null,null,null,null,"",""]
[null,null,null,null,null,null,null,null,null,null,null,null,"",""]
[null,null,null,null,null,null,null,null,null,null,null,null,"",""]
[null,null,null,null,null,null,null,null,null,null,null,null,"",""]
[null,null,null,null,null,null,null,null,null,null,null,null,"",""]
[null,null,null,null,null,null,null,null,null,null,null,null,"",""]
[null,null,null,null,null,null,null,null,null,null,null,null,"",""]
[null,null,null,null,null,null,null,null,null,null,null,null,"",""]
[null,null,null,null,null,null,null,null,null,null,null,null,"",""]
[null,null,null,null,null,null,null,null,null,null,null,null,"",""]
[null,null,null,null,null,null,null,null,null,null,null,null,"",""]
[null,null,null,null,null,null,null,null,null,null,null,null,"",""]
[null,null,null,null,null,null,null,null,null,null,null,null,"",""]
[null,null,null,null,null,null,null,null,null,null,null,null,"",""]
[null,null,null,null,null,null,null,null,null,null,null,null,"",""]
[null,null,null,null,null,null,null,null,null,null,null,null,"",""]
[null,null,null,null,null,null,null,null,null,null,null,null,"",""]
[null,null,null,null,null,null,null,null,null,null,null,null,"",""]
[null,null,null,null,null,null,null,null,null,null,null,null,"",""]
[null,null,null,null,null,null,null,null,null,null,null,null,"",""]
[null,null,null,null,null,null,null,null,null,null,null,null,"",""]
[null,null,null,null,null,null,null,null,null,null,null,null,"",""]
[null,null,null,null,null,null,null,null,null,null,null,null,"",""]
[null,null,null,null,null,null,null,null,null,null,null,null,"",""]
[null,null,null,null,null,null,null,null,null,null,null,null,"",""]
[null,null,null,null,null,null,null,null,null,null,null,null,"",""]
[null,null,null,null,null,null,null,null,null,null,null,null,"",""]
[null,null,null,null,null,null,null,null,null,null,null,null,"",""]
[null,null,null,null,null,null,null,null,null,null,null,null,"",""]
[null,null,null,null,null,null,null,null,null,null,null,null,"",""]
[null,null,null,null,null,null,null,null,null,null,null,null,"",""]
[null,null,null,null,null,null,null,null,null,null,null,null,"",""]
[null,null,null,null,null,null,null,null,null,null,null,null,"",""]
[null,null,null,null,null,null,null,null,null,null,null,null,{"$f":"IF(L2219=\"\",\"\",L2219/N2218)","v":""},{"$f":"IF(L2219=\"\",\"\",L2219+N2218)","v":""}]
[null,null,null,null,null,null,null,null,null,null,null,null,"",""]
[null,null,null,null,null,null,null,null,null,null,null,null,"",""]
[null,null,null,null,null,null,null,null,null,null,null,null,"",""]
[null,null,null,null,null,null,null,null,null,null,null,null,"",""]
[null,null,null,null,null,null,null,null,null,null,null,null,"",""]
[null,null,null,null,null,null,null,null,null,null,null,null,"",""]
[null,null,null,null,null,null,null,null,null,null,null,null,"",""]
[null,null,null,null,null,null,null,null,null,null,null,null,"",""]
[null,null,null,null,null,null,null,null,null,null,null,null,"",""]
[null,null,null,null,null,null,null,null,null,null,null,null,"",""]
[null,null,null,null,null,null,null,null,null,null,null,null,"",""]
[null,null,null,null,null,null,null,null,null,null,null,null,"",""]
[null,null,null,null,null,null,null,null,null,null,null,null,"",""]
[null,null,null,null,null,null,null,null,null,null,null,null,"",""]
[null,null,null,null,null,null,null,null,null,null,null,null,"",""]
[null,null,null,null,null,null,null,null,null,null,null,null,"",""]
[null,null,null,null,null,null,null,null,null,null,null,null,"",""]
[null,null,null,null,null,null,null,null,null,null,null,null,"",""]
[null,null,null,null,null,null,null,null,null,null,null,null,"",""]
[null,null,null,null,null,null,null,null,null,null,null,null,"",""]
[null,null,null,null,null,null,null,null,null,null,null,null,"",""]
[null,null,null,null,null,null,null,null,null,null,null,null,"",""]
[null,null,null,null,null,null,null,null,null,null,null,null,"",""]
[null,null,null,null,null,null,null,null,null,null,null,null,"",""]
[null,null,null,null,null,null,null,null,null,null,null,null,"",""]
[null,null,null,null,null,null,null,null,null,null,null,null,"",""]
[null,null,null,null,null,null,null,null,null,null,null,null,"",""]
[null,null,null,null,null,null,null,null,null,null,null,null,"",""]
[null,null,null,null,null,null,null,null,null,null,null,null,"",""]
[null,null,null,null,null,null,null,null,null,null,null,null,"",""]
[null,null,null,null,null,null,null,null,null,null,null,null,"",""]
[null,null,null,null,null,null,null,null,null,null,null,null,"",""]
[null,null,null,null,null,null,null,null,null,null,null,null,"",""]
[null,null,null,null,null,null,null,null,null,null,null,null,"",""]
[null,null,null,null,null,null,null,null,null,null,null,null,"",""]
[null,null,null,null,null,null,null,null,null,null,null,null,"",""]
[null,null,null,null,null,null,null,null,null,null,null,null,"",""]
[null,null,null,null,null,null,null,null,null,null,null,null,"",""]
[null,null,null,null,null,null,null,null,null,null,null,null,"",""]
[null,null,null,null,null,null,null,null,null,null,null,null,"",""]
[null,null,null,null,null,null,null,null,null,null,null,null,"",""]
[null,null,null,null,null,null,null,null,null,null,null,null,"",""]
[null,null,null,null,null,null,null,null,null,null,null,null,"",""]
[null,null,null,null,null,null,null,null,null,null,null,null,"",""]
[null,null,null,null,null,null,null,null,null,null,null,null,"",""]
[null,null,null,null,null,null,null,null,null,null,null,null,"",""]
[null,null,null,null,null,null,null,null,null,null,null,null,"",""]
[null,null,null,null,null,null,null,null,null,null,null,null,"",""]
[null,null,null,null,null,null,null,null,null,null,null,null,"",""]
[null,null,null,null,null,null,null,null,null,null,null,null,"",""]
[null,null,null,null,null,null,null,null,null,null,null,null,"",""]
[null,null,null,null,null,null,null,null,null,null,null,null,"",""]
[null,null,null,null,null,null,null,null,null,null,null,null,"",""]
[null,null,null,null,null,null,null,null,null,null,null,null,"",""]
[null,null,null,null,null,null,null,null,null,null,null,null,"",""]
[null,null,null,null,null,null,null,null,null,null,null,null,"",""]
[null,null,null,null,null,null,null,null,null,null,null,null,"",""]
[null,null,null,null,null,null,null,null,null,null,null,null,"",""]
[null,null,null,null,null,null,null,null,null,null,null,null,"",""]
[null,null,null,null,null,null,null,null,null,null,null,null,"",""]
[null,null,null,null,null,null,null,null,null,null,null,null,"",""]
[null,null,null,null,null,null,null,null,null,null,null,null,"",""]
[null,null,null,null,null,null,null,null,null,null,null,null,"",""]
[null,null,null,null,null,null,null,null,null,null,null,null,{"$f":"IF(L2283=\"\",\"\",L2283/N2282)","v":""},{"$f":"IF(L2283=\"\",\"\",L2283+N2282)","v":""}]
[null,null,null,null,null,null,null,null,null,null,null,null,"",""]
[null,null,null,null,null,null,null,null,null,null,null,null,"",""]
[null,null,null,null,null,null,null,null,null,null,null,null,"",""]
[null,null,null,null,null,null,null,null,null,null,null,null,"",""]
[null,null,null,null,null,null,null,null,null,null,null,null,"",""]
[null,null,null,null,null,null,null,null,null,null,null,null,"",""]
[null,null,null,null,null,null,null,null,null,null,null,null,"",""]
[null,null,null,null,null,null,null,null,null,null,null,null,"",""]
[null,null,null,null,null,null,null,null,null,null,null,null,"",""]
[null,null,null,null,null,null,null,null,null,null,null,null,"",""]
[null,null,null,null,null,null,null,null,null,null,null,null,"",""]
[null,null,null,null,null,null,null,null,null,null,null,null,"",""]
[null,null,null,null,null,null,null,null,null,null,null,null,"",""]
[null,null,null,null,null,null,null,null,null,null,null,null,"",""]
[null,null,null,null,null,null,null,null,null,null,null,null,"",""]
[null,null,null,null,null,null,null,null,null,null,null,null,"",""]
[null,null,null,null,null,null,null,null,null,null,null,null,"",""]
[null,null,null,null,null,null,null,null,null,null,null,null,"",""]
[null,null,null,null,null,null,null,null,null,null,null,null,"",""]
[null,null,null,null,null,null,null,null,null,null,null,null,"",""]
[null,null,null,null,null,null,null,null,null,null,null,null,"",""]
[null,null,null,null,null,null,null,null,null,null,null,null,"",""]
[null,null,null,null,null,null,null,null,null,null,null,null,"",""]
[null,null,null,null,null,null,null,null,null,null,null,null,"",""]
[null,null,null,null,null,null,null,null,null,null,null,null,"",""]
[null,null,null,null,null,null,null,null,null,null,null,null,"",""]
[null,null,null,null,null,null,null,null,null,null,null,null,"",""]
[null,null,null,null,null,null,null,null,null,null,null,null,"",""]
[null,null,null,null,null,null,null,null,null,null,null,null,"",""]
[null,null,null,null,null,null,null,null,null,null,null,null,"",""]
[null,null,null,null,null,null,null,null,null,null,null,null,"",""]
[null,null,null,null,null,null,null,null,null,null,null,null,"",""]
[null,null,null,null,null,null,null,null,null,null,null,null,"",""]
[null,null,null,null,null,null,null,null,null,null,null,null,"",""]
[null,null,null,null,null,null,null,null,null,null,null,null,"",""]
[null,null,null,null,null,null,null,null,null,null,null,null,"",""]
[null,null,null,null,null,null,null,null,null,null,null,null,"",""]
[null,null,null,null,null,null,null,null,null,null,null,null,"",""]
[null,null,null,null,null,null,null,null,null,null,null,null,"",""]
[null,null,null,null,null,null,null,null,null,null,null,null,"",""]
[null,null,null,null,null,null,null,null,null,null,null,null,"",""]
[null,null,null,null,null,null,null,null,null,null,null,null,"",""]
[null,null,null,null,null,null,null,null,null,null,null,null,"",""]
[null,null,null,null,null,null,null,null,null,null,null,null,"",""]
[null,null,null,null,null,null,null,null,null,null,null,null,"",""]
[null,null,null,null,null,null,null,null,null,null,null,null,"",""]
[null,null,null,null,null,null,null,null,null,null,null,null,"",""]
[null,null,null,null,null,null,null,null,null,null,null,null,"",""]
[null,null,null,null,null,null,null,null,null,null,null,null,"",""]
[null,null,null,null,null,null,null,null,null,null,null,null,"",""]
[null,null,null,null,null,null,null,null,null,null,null,null,"",""]
[null,null,null,null,null,null,null,null,null,null,null,null,"",""]
[null,null,null,null,null,null,null,null,null,null,null,null,"",""]
[null,null,null,null,null,null,null,null,null,null,null,null,"",""]
[null,null,null,null,null,null,null,null,null,null,null,null,"",""]
[null,null,null,null,null,null,null,null,null,null,null,null,"",""]
[null,null,null,null,null,null,null,null,null,null,null,null,"",""]
[null,null,null,null,null,null,null,null,null,null,null,null,"",""]
[null,null,null,null,null,null,null,null,null,null,null,null,"",""]
[null,null,null,null,null,null,null,null,null,null,null,null,"",""]
[null,null,null,null,null,null,null,null,null,null,null,null,"",""]
[null,null,null,null,null,null,null,null,null,null,null,null,"",""]
[null,null,null,null,null,null,null,null,null,null,null,null,"",""]
[null,null,null,null,null,null,null,null,null,null,null,null,{"$f":"IF(L2347=\"\",\"\",L2347/N2346)","v":""},{"$f":"IF(L2347=\"\",\"\",L2347+N2346)","v":""}]
[null,null,null,null,null,null,null,null,null,null,null,null,"",""]
[null,null,null,null,null,null,null,null,null,null,null,null,"",""]
[null,null,null,null,null,null,null,null,null,null,null,null,"",""]
[null,null,null,null,null,null,null,null,null,null,null,null,"",""]
[null,null,null,null,null,null,null,null,null,null,null,null,"",""]
[null,null,null,null,null,null,null,null,null,null,null,null,"",""]
[null,null,null,null,null,null,null,null,null,null,null,null,"",""]
[null,null,null,null,null,null,null,null,null,null,null,null,"",""]
[null,null,null,null,null,null,null,null,null,null,null,null,"",""]
[null,null,null,null,null,null,null,null,null,null,null,null,"",""]
[null,null,null,null,null,null,null,null,null,null,null,null,"",""]
[null,null,null,null,null,null,null,null,null,null,null,null,"",""]
[null,null,null,null,null,null,null,null,null,null,null,null,"",""]
[null,null,null,null,null,null,null,null,null,null,null,null,"",""]
[null,null,null,null,null,null,null,null,null,null,null,null,"",""]
[null,null,null,null,null,null,null,null,null,null,null,null,"",""]
[null,null,null,null,null,null,null,null,null,null,null,null,"",""]
[null,null,null,null,null,null,null,null,null,null,null,null,"",""]
[null,null,null,null,null,null,null,null,null,null,null,null,"",""]
[null,null,null,null,null,null,null,null,null,null,null,null,"",""]
[null,null,null,null,null,null,null,null,null,null,null,null,"",""]
[null,null,null,null,null,null,null,null,null,null,null,null,"",""]
[null,null,null,null,null,null,null,null,null,null,null,null,"",""]
[null,null,null,null,null,null,null,null,null,null,null,null,"",""]
[null,null,null,null,null,null,null,null,null,null,null,null,"",""]
[null,null,null,null,null,null,null,null,null,null,null,null,"",""]
[null,null,null,null,null,null,null,null,null,null,null,null,"",""]
[null,null,null,null,null,null,null,null,null,null,null,null,"",""]
[null,null,null,null,null,null,null,null,null,null,null,null,"",""]
[null,null,null,null,null,null,null,null,null,null,null,null,"",""]
[null,null,null,null,null,null,null,null,null,null,null,null,"",""]
[null,null,null,null,null,null,null,null,null,null,null,null,"",""]
[null,null,null,null,null,null,null,null,null,null,null,null,"",""]
[null,null,null,null,null,null,null,null,null,null,null,null,"",""]
[null,null,null,null,null,null,null,null,null,null,null,null,"",""]
[null,null,null,null,null,null,null,null,null,null,null,null,"",""]
[null,null,null,null,null,null,null,null,null,null,null,null,"",""]
[null,null,null,null,null,null,null,null,null,null,null,null,"",""]
[null,null,null,null,null,null,null,null,null,null,null,null,"",""]
[null,null,null,null,null,null,null,null,null,null,null,null,"",""]
[null,null,null,null,null,null,null,null,null,null,null,null,"",""]
[null,null,null,null,null,null,null,null,null,null,null,null,"",""]
[null,null,null,null,null,null,null,null,null,null,null,null,"",""]
[null,null,null,null,null,null,null,null,null,null,null,null,"",""]
[null,null,null,null,null,null,null,null,null,null,null,null,"",""]
[null,null,null,null,null,null,null,null,null,null,null,null,"",""]
[null,null,null,null,null,null,null,null,null,null,null,null,"",""]
[null,null,null,null,null,null,null,null,null,null,null,null,"",""]
[null,null,null,null,null,null,null,null,null,null,null,null,"",""]
[null,null,null,null,null,null,null,null,null,null,null,null,"",""]
[null,null,null,null,null,null,null,null,null,null,null,null,"",""]
[null,null,null,null,null,null,null,null,null,null,null,null,"",""]
[null,null,null,null,null,null,null,null,null,null,null,null,"",""]
[null,null,null,null,null,null,null,null,null,null,null,null,"",""]
[null,null,null,null,null,null,null,null,null,null,null,null,"",""]
[null,null,null,null,null,null,null,null,null,null,null,null,"",""]
[null,null,null,null,null,null,null,null,null,null,null,null,"",""]
[null,null,null,null,null,null,null,null,null,null,null,null,"",""]
[null,null,null,null,null,null,null,null,null,null,null,null,"",""]
[null,null,null,null,null,null,null,null,null,null,null,null,"",""]
[null,null,null,null,null,null,null,null,null,null,null,null,"",""]
[null,null,null,null,null,null,null,null,null,null,null,null,"",""]
[null,null,null,null,null,null,null,null,null,null,null,null,"",""]
[null,null,null,null,null,null,null,null,null,null,null,null,{"$f":"IF(L2411=\"\",\"\",L2411/N2410)","v":""},{"$f":"IF(L2411=\"\",\"\",L2411+N2410)","v":""}]
[null,null,null,null,null,null,null,null,null,null,null,null,"",""]
[null,null,null,null,null,null,null,null,null,null,null,null,"",""]
[null,null,null,null,null,null,null,null,null,null,null,null,"",""]
[null,null,null,null,null,null,null,null,null,null,null,null,"",""]
[null,null,null,null,null,null,null,null,null,null,null,null,"",""]
[null,null,null,null,null,null,null,null,null,null,null,null,"",""]
[null,null,null,null,null,null,null,null,null,null,null,null,"",""]
[null,null,null,null,null,null,null,null,null,null,null,null,"",""]
[null,null,null,null,null,null,null,null,null,null,null,null,"",""]
[null,null,null,null,null,null,null,null,null,null,null,null,"",""]
[null,null,null,null,null,null,null,null,null,null,null,null,"",""]
[null,null,null,null,null,null,null,null,null,null,null,null,"",""]
[null,null,null,null,null,null,null,null,null,null,null,null,"",""]
[null,null,null,null,null,null,null,null,null,null,null,null,"",""]
[null,null,null,null,null,null,null,null,null,null,null,null,"",""]
[null,null,null,null,null,null,null,null,null,null,null,null,"",""]
[null,null,null,null,null,null,null,null,null,null,null,null,"",""]
[null,null,null,null,null,null,null,null,null,null,null,null,"",""]
[null,null,null,null,null,null,null,null,null,null,null,null,"",""]
[null,null,null,null,null,null,null,null,null,null,null,null,"",""]
[null,null,null,null,null,null,null,null,null,null,null,null,"",""]
[null,null,null,null,null,null,null,null,null,null,null,null,"",""]
[null,null,null,null,null,null,null,null,null,null,null,null,"",""]
[null,null,null,null,null,null,null,null,null,null,null,null,"",""]
[null,null,null,null,null,null,null,null,null,null,null,null,"",""]
[null,null,null,null,null,null,null,null,null,null,null,null,"",""]
[null,null,null,null,null,null,null,null,null,null,null,null,"",""]
[null,null,null,null,null,null,null,null,null,null,null,null,"",""]
[null,null,null,null,null,null,null,null,null,null,null,null,"",""]
[null,null,null,null,null,null,null,null,null,null,null,null,"",""]
[null,null,null,null,null,null,null,null,null,null,null,null,"",""]
[null,null,null,null,null,null,null,null,null,null,null,null,"",""]
[null,null,null,null,null,null,null,null,null,null,null,null,"",""]
[null,null,null,null,null,null,null,null,null,null,null,null,"",""]
[null,null,null,null,null,null,null,null,null,null,null,null,"",""]
[null,null,null,null,null,null,null,null,null,null,null,null,"",""]
[null,null,null,null,null,null,null,null,null,null,null,null,"",""]
[null,null,null,null,null,null,null,null,null,null,null,null,"",""]
[null,null,null,null,null,null,null,null,null,null,null,null,"",""]
[null,null,null,null,null,null,null,null,null,null,null,null,"",""]
[null,null,null,null,null,null,null,null,null,null,null,null,"",""]
[null,null,null,null,null,null,null,null,null,null,null,null,"",""]
[null,null,null,null,null,null,null,null,null,null,null,null,"",""]
[null,null,null,null,null,null,null,null,null,null,null,null,"",""]
[null,null,null,null,null,null,null,null,null,null,null,null,"",""]
[null,null,null,null,null,null,null,null,null,null,null,null,"",""]
[null,null,null,null,null,null,null,null,null,null,null,null,"",""]
[null,null,null,null,null,null,null,null,null,null,null,null,"",""]
[null,null,null,null,null,null,null,null,null,null,null,null,"",""]
[null,null,null,null,null,null,null,null,null,null,null,null,"",""]
[null,null,null,null,null,null,null,null,null,null,null,null,"",""]
[null,null,null,null,null,null,null,null,null,null,null,null,"",""]
[null,null,null,null,null,null,null,null,null,null,null,null,"",""]
[null,null,null,null,null,null,null,null,null,null,null,null,"",""]
[null,null,null,null,null,null,null,null,null,null,null,null,"",""]
[null,null,null,null,null,null,null,null,null,null,null,null,"",""]
[null,null,null,null,null,null,null,null,null,null,null,null,"",""]
[null,null,null,null,null,null,null,null,null,null,null,null,"",""]
[null,null,null,null,null,null,null,null,null,null,null,null,"",""]
[null,null,null,null,null,null,null,null,null,null,null,null,"",""]
[null,null,null,null,null,null,null,null,null,null,null,null,"",""]
[null,null,null,null,null,null,null,null,null,null,null,null,"",""]
[null,null,null,null,null,null,null,null,null,null,null,null,"",""]
[null,null,null,null,null,null,null,null,null,null,null,null,{"$f":"IF(L2475=\"\",\"\",L2475/N2474)","v":""},{"$f":"IF(L2475=\"\",\"\",L2475+N2474)","v":""}]
[null,null,null,null,null,null,null,null,null,null,null,null,"",""]
[null,null,null,null,null,null,null,null,null,null,null,null,"",""]
[null,null,null,null,null,null,null,null,null,null,null,null,"",""]
[null,null,null,null,null,null,null,null,null,null,null,null,"",""]
[null,null,null,null,null,null,null,null,null,null,null,null,"",""]
[null,null,null,null,null,null,null,null,null,null,null,null,"",""]
[null,null,null,null,null,null,null,null,null,null,null,null,"",""]
[null,null,null,null,null,null,null,null,null,null,null,null,"",""]
[null,null,null,null,null,null,null,null,null,null,null,null,"",""]
[null,null,null,null,null,null,null,null,null,null,null,null,"",""]
[null,null,null,null,null,null,null,null,null,null,null,null,"",""]
[null,null,null,null,null,null,null,null,null,null,null,null,"",""]
[null,null,null,null,null,null,null,null,null,null,null,null,"",""]
[null,null,null,null,null,null,null,null,null,null,null,null,"",""]
[null,null,null,null,null,null,null,null,null,null,null,null,"",""]
[null,null,null,null,null,null,null,null,null,null,null,null,"",""]
[null,null,null,null,null,null,null,null,null,null,null,null,"",""]
[null,null,null,null,null,null,null,null,null,null,null,null,"",""]
[null,null,null,null,null,null,null,null,null,null,null,null,"",""]
[null,null,null,null,null,null,null,null,null,null,null,null,"",""]
[null,null,null,null,null,null,null,null,null,null,null,null,"",""]
[null,null,null,null,null,null,null,null,null,null,null,null,"",""]
[null,null,null,null,null,null,null,null,null,null,null,null,"",""]
[null,null,null,null,null,null,null,null,null,null,null,null,"",""]
[null,null,null,null,null,null,null,null,null,null,null,null,"",""]
[null,null,null,null,null,null,null,null,null,null,null,null,"",""]
[null,null,null,null,null,null,null,null,null,null,null,null,"",""]
[null,null,null,null,null,null,null,null,null,null,null,null,"",""]
[null,null,null,null,null,null,null,null,null,null,null,null,"",""]
[null,null,null,null,null,null,null,null,null,null,null,null,"",""]
[null,null,null,null,null,null,null,null,null,null,null,null,"",""]
[null,null,null,null,null,null,null,null,null,null,null,null,"",""]
[null,null,null,null,null,null,null,null,null,null,null,null,"",""]
[null,null,null,null,null,null,null,null,null,null,null,null,"",""]
[null,null,null,null,null,null,null,null,null,null,null,null,"",""]
[null,null,null,null,null,null,null,null,null,null,null,null,"",""]
[null,null,null,null,null,null,null,null,null,null,null,null,"",""]
[null,null,null,null,null,null,null,null,null,null,null,null,"",""]
[null,null,null,null,null,null,null,null,null,null,null,null,"",""]
[null,null,null,null,null,null,null,null,null,null,null,null,"",""]
[null,null,null,null,null,null,null,null,null,null,null,null,"",""]
[null,null,null,null,null,null,null,null,null,null,null,null,"",""]
[null,null,null,null,null,null,null,null,null,null,null,null,"",""]
[null,null,null,null,null,null,null,null,null,null,null,null,"",""]
[null,null,null,null,null,null,null,null,null,null,null,null,"",""]
[null,null,null,null,null,null,null,null,null,null,null,null,"",""]
[null,null,null,null,null,null,null,null,null,null,null,null,"",""]
[null,null,null,null,null,null,null,null,null,null,null,null,"",""]
[null,null,null,null,null,null,null,null,null,null,null,null,"",""]
[null,null,null,null,null,null,null,null,null,null,null,null,"",""]
[null,null,null,null,null,null,null,null,null,null,null,null,"",""]
[null,null,null,null,null,null,null,null,null,null,null,null,"",""]
[null,null,null,null,null,null,null,null,null,null,null,null,"",""]
[null,null,null,null,null,null,null,null,null,null,null,null,"",""]
[null,null,null,null,null,null,null,null,null,null,null,null,"",""]
[null,null,null,null,null,null,null,null,null,null,null,null,"",""]
[null,null,null,null,null,null,null,null,null,null,null,null,"",""]
[null,null,null,null,null,null,null,null,null,null,null,null,"",""]
[null,null,null,null,null,null,null,null,null,null,null,null,"",""]
[null,null,null,null,null,null,null,null,null,null,null,null,"",""]
[null,null,null,null,null,null,null,null,null,null,null,null,"",""]
[null,null,null,null,null,null,null,null,null,null,null,null,"",""]
[null,null,null,null,null,null,null,null,null,null,null,null,"",""]
[null,null,null,null,null,null,null,null,null,null,null,null,{"$f":"IF(L2539=\"\",\"\",L2539/N2538)","v":""},{"$f":"IF(L2539=\"\",\"\",L2539+N2538)","v":""}]
[null,null,null,null,null,null,null,null,null,null,null,null,"",""]
[null,null,null,null,null,null,null,null,null,null,null,null,"",""]
[null,null,null,null,null,null,null,null,null,null,null,null,"",""]
[null,null,null,null,null,null,null,null,null,null,null,null,"",""]
[null,null,null,null,null,null,null,null,null,null,null,null,"",""]
[null,null,null,null,null,null,null,null,null,null,null,null,"",""]
[null,null,null,null,null,null,null,null,null,null,null,null,"",""]
[null,null,null,null,null,null,null,null,null,null,null,null,"",""]
[null,null,null,null,null,null,null,null,null,null,null,null,"",""]
[null,null,null,null,null,null,null,null,null,null,null,null,"",""]
[null,null,null,null,null,null,null,null,null,null,null,null,"",""]
[null,null,null,null,null,null,null,null,null,null,null,null,"",""]
[null,null,null,null,null,null,null,null,null,null,null,null,"",""]
[null,null,null,null,null,null,null,null,null,null,null,null,"",""]
[null,null,null,null,null,null,null,null,null,null,null,null,"",""]
[null,null,null,null,null,null,null,null,null,null,null,null,"",""]
[null,null,null,null,null,null,null,null,null,null,null,null,"",""]
[null,null,null,null,null,null,null,null,null,null,null,null,"",""]
[null,null,null,null,null,null,null,null,null,null,null,null,"",""]
[null,null,null,null,null,null,null,null,null,null,null,null,"",""]
[null,null,null,null,null,null,null,null,null,null,null,null,"",""]
[null,null,null,null,null,null,null,null,null,null,null,null,"",""]
[null,null,null,null,null,null,null,null,null,null,null,null,"",""]
[null,null,null,null,null,null,null,null,null,null,null,null,"",""]
[null,null,null,null,null,null,null,null,null,null,null,null,"",""]
[null,null,null,null,null,null,null,null,null,null,null,null,"",""]
[null,null,null,null,null,null,null,null,null,null,null,null,"",""]
[null,null,null,null,null,null,null,null,null,null,null,null,"",""]
[null,null,null,null,null,null,null,null,null,null,null,null,"",""]
[null,null,null,null,null,null,null,null,null,null,null,null,"",""]
[null,null,null,null,null,null,null,null,null,null,null,null,"",""]
[null,null,null,null,null,null,null,null,null,null,null,null,"",""]
[null,null,null,null,null,null,null,null,null,null,null,null,"",""]
[null,null,null,null,null,null,null,null,null,null,null,null,"",""]
[null,null,null,null,null,null,null,null,null,null,null,null,"",""]
[null,null,null,null,null,null,null,null,null,null,null,null,"",""]
[null,null,null,null,null,null,null,null,null,null,null,null,"",""]
[null,null,null,null,null,null,null,null,null,null,null,null,"",""]
[null,null,null,null,null,null,null,null,null,null,null,null,"",""]
[null,null,null,null,null,null,null,null,null,null,null,null,"",""]
[null,null,null,null,null,null,null,null,null,null,null,null,"",""]
[null,null,null,null,null,null,null,null,null,null,null,null,"",""]
[null,null,null,null,null,null,null,null,null,null,null,null,"",""]
[null,null,null,null,null,null,null,null,null,null,null,null,"",""]
[null,null,null,null,null,null,null,null,null,null,null,null,"",""]
[null,null,null,null,null,null,null,null,null,null,null,null,"",""]
[null,null,null,null,null,null,null,null,null,null,null,null,"",""]
[null,null,null,null,null,null,null,null,null,null,null,null,"",""]
[null,null,null,null,null,null,null,null,null,null,null,null,"",""]
[null,null,null,null,null,null,null,null,null,null,null,null,"",""]
[null,null,null,null,null,null,null,null,null,null,null,null,"",""]
[null,null,null,null,null,null,null,null,null,null,null,null,"",""]
[null,null,null,null,null,null,null,null,null,null,null,null,"",""]
[null,null,null,null,null,null,null,null,null,null,null,null,"",""]
[null,null,null,null,null,null,null,null,null,null,null,null,"",""]
[null,null,null,null,null,null,null,null,null,null,null,null,"",""]
[null,null,null,null,null,null,null,null,null,null,null,null,"",""]
[null,null,null,null,null,null,null,null,null,null,null,null,"",""]
[null,null,null,null,null,null,null,null,null,null,null,null,"",""]
[null,null,null,null,null,null,null,null,null,null,null,null,"",""]
[null,null,null,null,null,null,null,null,null,null,null,null,"",""]
[null,null,null,null,null,null,null,null,null,null,null,null,"",""]
[null,null,null,null,null,null,null,null,null,null,null,null,"",""]
[null,null,null,null,null,null,null,null,null,null,null,null,{"$f":"IF(L2603=\"\",\"\",L2603/N2602)","v":""},{"$f":"IF(L2603=\"\",\"\",L2603+N2602)","v":""}]
[null,null,null,null,null,null,null,null,null,null,null,null,"",""]
[null,null,null,null,null,null,null,null,null,null,null,null,"",""]
[null,null,null,null,null,null,null,null,null,null,null,null,"",""]
[null,null,null,null,null,null,null,null,null,null,null,null,"",""]
[null,null,null,null,null,null,null,null,null,null,null,null,"",""]
[null,null,null,null,null,null,null,null,null,null,null,null,"",""]
[null,null,null,null,null,null,null,null,null,null,null,null,"",""]
[null,null,null,null,null,null,null,null,null,null,null,null,"",""]
[null,null,null,null,null,null,null,null,null,null,null,null,"",""]
[null,null,null,null,null,null,null,null,null,null,null,null,"",""]
[null,null,null,null,null,null,null,null,null,null,null,null,"",""]
[null,null,null,null,null,null,null,null,null,null,null,null,"",""]
[null,null,null,null,null,null,null,null,null,null,null,null,"",""]
[null,null,null,null,null,null,null,null,null,null,null,null,"",""]
[null,null,null,null,null,null,null,null,null,null,null,null,"",""]
[null,null,null,null,null,null,null,null,null,null,null,null,"",""]
[null,null,null,null,null,null,null,null,null,null,null,null,"",""]
[null,null,null,null,null,null,null,null,null,null,null,null,"",""]
[null,null,null,null,null,null,null,null,null,null,null,null,"",""]
[null,null,null,null,null,null,null,null,null,null,null,null,"",""]
[null,null,null,null,null,null,null,null,null,null,null,null,"",""]
[null,null,null,null,null,null,null,null,null,null,null,null,"",""]
[null,null,null,null,null,null,null,null,null,null,null,null,"",""]
[null,null,null,null,null,null,null,null,null,null,null,null,"",""]
[null,null,null,null,null,null,null,null,null,null,null,null,"",""]
[null,null,null,null,null,null,null,null,null,null,null,null,"",""]
[null,null,null,null,null,null,null,null,null,null,null,null,"",""]
[null,null,null,null,null,null,null,null,null,null,null,null,"",""]
[null,null,null,null,null,null,null,null,null,null,null,null,"",""]
[null,null,null,null,null,null,null,null,null,null,null,null,"",""]
[null,null,null,null,null,null,null,null,null,null,null,null,"",""]
[null,null,null,null,null,null,null,null,null,null,null,null,"",""]
[null,null,null,null,null,null,null,null,null,null,null,null,"",""]
[null,null,null,null,null,null,null,null,null,null,null,null,"",""]
[null,null,null,null,null,null,null,null,null,null,null,null,"",""]
[null,null,null,null,null,null,null,null,null,null,null,null,"",""]
[null,null,null,null,null,null,null,null,null,null,null,null,"",""]
[null,null,null,null,null,null,null,null,null,null,null,null,"",""]
[null,null,null,null,null,null,null,null,null,null,null,null,"",""]
[null,null,null,null,null,null,null,null,null,null,null,null,"",""]
[null,null,null,null,null,null,null,null,null,null,null,null,"",""]
[null,null,null,null,null,null,null,null,null,null,null,null,"",""]
[null,null,null,null,null,null,null,null,null,null,null,null,"",""]
[null,null,null,null,null,null,null,null,null,null,null,null,"",""]
[null,null,null,null,null,null,null,null,null,null,null,null,"",""]
[null,null,null,null,null,null,null,null,null,null,null,null,"",""]
[null,null,null,null,null,null,null,null,null,null,null,null,"",""]
[null,null,null,null,null,null,null,null,null,null,null,null,"",""]
[null,null,null,null,null,null,null,null,null,null,null,null,"",""]
[null,null,null,null,null,null,null,null,null,null,null,null,"",""]
[null,null,null,null,null,null,null,null,null,null,null,null,"",""]
[null,null,null,null,null,null,null,null,null,null,null,null,"",""]
[null,null,null,null,null,null,null,null,null,null,null,null,"",""]
[null,null,null,null,null,null,null,null,null,null,null,null,"",""]
[null,null,null,null,null,null,null,null,null,null,null,null,"",""]
[null,null,null,null,null,null,null,null,null,null,null,null,"",""]
[null,null,null,null,null,null,null,null,null,null,null,null,"",""]
[null,null,null,null,null,null,null,null,null,null,null,null,"",""]
[null,null,null,null,null,null,null,null,null,null,null,null,"",""]
[null,null,null,null,null,null,null,null,null,null,null,null,"",""]
[null,null,null,null,null,null,null,null,null,null,null,null,"",""]
[null,null,null,null,null,null,null,null,null,null,null,null,"",""]
[null,null,null,null,null,null,null,null,null,null,null,null,"",""]
[null,null,null,null,null,null,null,null,null,null,null,null,{"$f":"IF(L2667=\"\",\"\",L2667/N2666)","v":""},{"$f":"IF(L2667=\"\",\"\",L2667+N2666)","v":""}]
[null,null,null,null,null,null,null,null,null,null,null,null,"",""]
[null,null,null,null,null,null,null,null,null,null,null,null,"",""]
[null,null,null,null,null,null,null,null,null,null,null,null,"",""]
[null,null,null,null,null,null,null,null,null,null,null,null,"",""]
[null,null,null,null,null,null,null,null,null,null,null,null,"",""]
[null,null,null,null,null,null,null,null,null,null,null,null,"",""]
[null,null,null,null,null,null,null,null,null,null,null,null,"",""]
[null,null,null,null,null,null,null,null,null,null,null,null,"",""]
[null,null,null,null,null,null,null,null,null,null,null,null,"",""]
[null,null,null,null,null,null,null,null,null,null,null,null,"",""]
[null,null,null,null,null,null,null,null,null,null,null,null,"",""]
[null,null,null,null,null,null,null,null,null,null,null,null,"",""]
[null,null,null,null,null,null,null,null,null,null,null,null,"",""]
[null,null,null,null,null,null,null,null,null,null,null,null,"",""]
[null,null,null,null,null,null,null,null,null,null,null,null,"",""]
[null,null,null,null,null,null,null,null,null,null,null,null,"",""]
[null,null,null,null,null,null,null,null,null,null,null,null,"",""]
[null,null,null,null,null,null,null,null,null,null,null,null,"",""]
[null,null,null,null,null,null,null,null,null,null,null,null,"",""]
[null,null,null,null,null,null,null,null,null,null,null,null,"",""]
[null,null,null,null,null,null,null,null,null,null,null,null,"",""]
[null,null,null,null,null,null,null,null,null,null,null,null,"",""]
[null,null,null,null,null,null,null,null,null,null,null,null,"",""]
[null,null,null,null,null,null,null,null,null,null,null,null,"",""]
[null,null,null,null,null,null,null,null,null,null,null,null,"",""]
[null,null,null,null,null,null,null,null,null,null,null,null,"",""]
[null,null,null,null,null,null,null,null,null,null,null,null,"",""]
[null,null,null,null,null,null,null,null,null,null,null,null,"",""]
[null,null,null,null,null,null,null,null,null,null,null,null,"",""]
[null,null,null,null,null,null,null,null,null,null,null,null,"",""]
[null,null,null,null,null,null,null,null,null,null,null,null,"",""]
[null,null,null,null,null,null,null,null,null,null,null,null,"",""]
[null,null,null,null,null,null,null,null,null,null,null,null,"",""]
[null,null,null,null,null,null,null,null,null,null,null,null,"",""]
[null,null,null,null,null,null,null,null,null,null,null,null,"",""]
[null,null,null,null,null,null,null,null,null,null,null,null,"",""]
[null,null,null,null,null,null,null,null,null,null,null,null,"",""]
[null,null,null,null,null,null,null,null,null,null,null,null,"",""]
[null,null,null,null,null,null,null,null,null,null,null,null,"",""]
[null,null,null,null,null,null,null,null,null,null,null,null,"",""]
[null,null,null,null,null,null,null,null,null,null,null,null,"",""]
[null,null,null,null,null,null,null,null,null,null,null,null,"",""]
[null,null,null,null,null,null,null,null,null,null,null,null,"",""]
[null,null,null,null,null,null,null,null,null,null,null,null,"",""]
[null,null,null,null,null,null,null,null,null,null,null,null,"",""]
[null,null,null,null,null,null,null,null,null,null,null,null,"",""]
[null,null,null,null,null,null,null,null,null,null,null,null,"",""]
[null,null,null,null,null,null,null,null,null,null,null,null,"",""]
[null,null,null,null,null,null,null,null,null,null,null,null,"",""]
[null,null,null,null,null,null,null,null,null,null,null,null,"",""]
[null,null,null,null,null,null,null,null,null,null,null,null,"",""]
[null,null,null,null,null,null,null,null,null,null,null,null,"",""]
[null,null,null,null,null,null,null,null,null,null,null,null,"",""]
[null,null,null,null,null,null,null,null,null,null,null,null,"",""]
[null,null,null,null,null,null,null,null,null,null,null,null,"",""]
[null,null,null,null,null,null,null,null,null,null,null,null,"",""]
[null,null,null,null,null,null,null,null,null,null,null,null,"",""]
[null,null,null,null,null,null,null,null,null,null,null,null,"",""]
[null,null,null,null,null,null,null,null,null,null,null,null,"",""]
[null,null,null,null,null,null,null,null,null,null,null,null,"",""]
[null,null,null,null,null,null,null,null,null,null,null,null,"",""]
[null,null,null,null,null,null,null,null,null,null,null,null,"",""]
[null,null,null,null,null,null,null,null,null,null,null,null,"",""]
[null,null,null,null,null,null,null,null,null,null,null,null,{"$f":"IF(L2731=\"\",\"\",L2731/N2730)","v":""},{"$f":"IF(L2731=\"\",\"\",L2731+N2730)","v":""}]
[null,null,null,null,null,null,null,null,null,null,null,null,"",""]
[null,null,null,null,null,null,null,null,null,null,null,null,"",""]
[null,null,null,null,null,null,null,null,null,null,null,null,"",""]
[null,null,null,null,null,null,null,null,null,null,null,null,"",""]
[null,null,null,null,null,null,null,null,null,null,null,null,"",""]
[null,null,null,null,null,null,null,null,null,null,null,null,"",""]
[null,null,null,null,null,null,null,null,null,null,null,null,"",""]
[null,null,null,null,null,null,null,null,null,null,null,null,"",""]
[null,null,null,null,null,null,null,null,null,null,null,null,"",""]
[null,null,null,null,null,null,null,null,null,null,null,null,"",""]
[null,null,null,null,null,null,null,null,null,null,null,null,"",""]
[null,null,null,null,null,null,null,null,null,null,null,null,"",""]
[null,null,null,null,null,null,null,null,null,null,null,null,"",""]
[null,null,null,null,null,null,null,null,null,null,null,null,"",""]
[null,null,null,null,null,null,null,null,null,null,null,null,"",""]
[null,null,null,null,null,null,null,null,null,null,null,null,"",""]
[null,null,null,null,null,null,null,null,null,null,null,null,"",""]
[null,null,null,null,null,null,null,null,null,null,null,null,"",""]
[null,null,null,null,null,null,null,null,null,null,null,null,"",""]
[null,null,null,null,null,null,null,null,null,null,null,null,"",""]
[null,null,null,null,null,null,null,null,null,null,null,null,"",""]
[null,null,null,null,null,null,null,null,null,null,null,null,"",""]
[null,null,null,null,null,null,null,null,null,null,null,null,"",""]
[null,null,null,null,null,null,null,null,null,null,null,null,"",""]
[null,null,null,null,null,null,null,null,null,null,null,null,"",""]
[null,null,null,null,null,null,null,null,null,null,null,null,"",""]
[null,null,null,null,null,null,null,null,null,null,null,null,"",""]
[null,null,null,null,null,null,null,null,null,null,null,null,"",""]
[null,null,null,null,null,null,null,null,null,null,null,null,"",""]
[null,null,null,null,null,null,null,null,null,null,null,null,"",""]
[null,null,null,null,null,null,null,null,null,null,null,null,"",""]
[null,null,null,null,null,null,null,null,null,null,null,null,"",""]
[null,null,null,null,null,null,null,null,null,null,null,null,"",""]
[null,null,null,null,null,null,null,null,null,null,null,null,"",""]
[null,null,null,null,null,null,null,null,null,null,null,null,"",""]
[null,null,null,null,null,null,null,null,null,null,null,null,"",""]
[null,null,null,null,null,null,null,null,null,null,null,null,"",""]
[null,null,null,null,null,null,null,null,null,null,null,null,"",""]
[null,null,null,null,null,null,null,null,null,null,null,null,"",""]
[null,null,null,null,null,null,null,null,null,null,null,null,"",""]
[null,null,null,null,null,null,null,null,null,null,null,null,"",""]
[null,null,null,null,null,null,null,null,null,null,null,null,"",""]
[null,null,null,null,null,null,null,null,null,null,null,null,"",""]
[null,null,null,null,null,null,null,null,null,null,null,null,"",""]
[null,null,null,null,null,null,null,null,null,null,null,null,"",""]
[null,null,null,null,null,null,null,null,null,null,null,null,"",""]
[null,null,null,null,null,null,null,null,null,null,null,null,"",""]
[null,null,null,null,null,null,null,null,null,null,null,null,"",""]
[null,null,null,null,null,null,null,null,null,null,null,null,"",""]
[null,null,null,null,null,null,null,null,null,null,null,null,"",""]
[null,null,null,null,null,null,null,null,null,null,null,null,"",""]
[null,null,null,null,null,null,null,null,null,null,null,null,"",""]
[null,null,null,null,null,null,null,null,null,null,null,null,"",""]
[null,null,null,null,null,null,null,null,null,null,null,null,"",""]
[null,null,null,null,null,null,null,null,null,null,null,null,"",""]
[null,null,null,null,null,null,null,null,null,null,null,null,"",""]
[null,null,null,null,null,null,null,null,null,null,null,null,"",""]
[null,null,null,null,null,null,null,null,null,null,null,null,"",""]
[null,null,null,null,null,null,null,null,null,null,null,null,"",""]
[null,null,null,null,null,null,null,null,null,null,null,null,"",""]
[null,null,null,null,null,null,null,null,null,null,null,null,"",""]
[null,null,null,null,null,null,null,null,null,null,null,null,"",""]
[null,null,null,null,null,null,null,null,null,null,null,null,"",""]
[null,null,null,null,null,null,null,null,null,null,null,null,{"$f":"IF(L2795=\"\",\"\",L2795/N2794)","v":""},{"$f":"IF(L2795=\"\",\"\",L2795+N2794)","v":""}]
[null,null,null,null,null,null,null,null,null,null,null,null,"",""]
[null,null,null,null,null,null,null,null,null,null,null,null,"",""]
[null,null,null,null,null,null,null,null,null,null,null,null,"",""]
[null,null,null,null,null,null,null,null,null,null,null,null,"",""]
[null,null,null,null,null,null,null,null,null,null,null,null,"",""]
[null,null,null,null,null,null,null,null,null,null,null,null,"",""]
[null,null,null,null,null,null,null,null,null,null,null,null,"",""]
[null,null,null,null,null,null,null,null,null,null,null,null,"",""]
[null,null,null,null,null,null,null,null,null,null,null,null,"",""]
[null,null,null,null,null,null,null,null,null,null,null,null,"",""]
[null,null,null,null,null,null,null,null,null,null,null,null,"",""]
[null,null,null,null,null,null,null,null,null,null,null,null,"",""]
[null,null,null,null,null,null,null,null,null,null,null,null,"",""]
[null,null,null,null,null,null,null,null,null,null,null,null,"",""]
[null,null,null,null,null,null,null,null,null,null,null,null,"",""]
[null,null,null,null,null,null,null,null,null,null,null,null,"",""]
[null,null,null,null,null,null,null,null,null,null,null,null,"",""]
[null,null,null,null,null,null,null,null,null,null,null,null,"",""]
[null,null,null,null,null,null,null,null,null,null,null,null,"",""]
[null,null,null,null,null,null,null,null,null,null,null,null,"",""]
[null,null,null,null,null,null,null,null,null,null,null,null,"",""]
[null,null,null,null,null,null,null,null,null,null,null,null,"",""]
[null,null,null,null,null,null,null,null,null,null,null,null,"",""]
[null,null,null,null,null,null,null,null,null,null,null,null,"",""]
[null,null,null,null,null,null,null,null,null,null,null,null,"",""]
[null,null,null,null,null,null,null,null,null,null,null,null,"",""]
[null,null,null,null,null,null,null,null,null,null,null,null,"",""]
[null,null,null,null,null,null,null,null,null,null,null,null,"",""]
[null,null,null,null,null,null,null,null,null,null,null,null,"",""]
[null,null,null,null,null,null,null,null,null,null,null,null,"",""]
[null,null,null,null,null,null,null,null,null,null,null,null,"",""]
[null,null,null,null,null,null,null,null,null,null,null,null,"",""]
[null,null,null,null,null,null,null,null,null,null,null,null,"",""]
[null,null,null,null,null,null,null,null,null,null,null,null,"",""]
[null,null,null,null,null,null,null,null,null,null,null,null,"",""]
[null,null,null,null,null,null,null,null,null,null,null,null,"",""]
[null,null,null,null,null,null,null,null,null,null,null,null,"",""]
[null,null,null,null,null,null,null,null,null,null,null,null,"",""]
[null,null,null,null,null,null,null,null,null,null,null,null,"",""]
[null,null,null,null,null,null,null,null,null,null,null,null,"",""]
[null,null,null,null,null,null,null,null,null,null,null,null,"",""]
[null,null,null,null,null,null,null,null,null,null,null,null,"",""]
[null,null,null,null,null,null,null,null,null,null,null,null,"",""]
[null,null,null,null,null,null,null,null,null,null,null,null,"",""]
[null,null,null,null,null,null,null,null,null,null,null,null,"",""]
[null,null,null,null,null,null,null,null,null,null,null,null,"",""]
[null,null,null,null,null,null,null,null,null,null,null,null,"",""]
[null,null,null,null,null,null,null,null,null,null,null,null,"",""]
[null,null,null,null,null,null,null,null,null,null,null,null,"",""]
[null,null,null,null,null,null,null,null,null,null,null,null,"",""]
[null,null,null,null,null,null,null,null,null,null,null,null,"",""]
[null,null,null,null,null,null,null,null,null,null,null,null,"",""]
[null,null,null,null,null,null,null,null,null,null,null,null,"",""]
[null,null,null,null,null,null,null,null,null,null,null,null,"",""]
[null,null,null,null,null,null,null,null,null,null,null,null,"",""]
[null,null,null,null,null,null,null,null,null,null,null,null,"",""]
[null,null,null,null,null,null,null,null,null,null,null,null,"",""]
[null,null,null,null,null,null,null,null,null,null,null,null,"",""]
[null,null,null,null,null,null,null,null,null,null,null,null,"",""]
[null,null,null,null,null,null,null,null,null,null,null,null,"",""]
[null,null,null,null,null,null,null,null,null,null,null,null,"",""]
[null,null,null,null,null,null,null,null,null,null,null,null,"",""]
[null,null,null,null,null,null,null,null,null,null,null,null,"",""]
[null,null,null,null,null,null,null,null,null,null,null,null,{"$f":"IF(L2859=\"\",\"\",L2859/N2858)","v":""},{"$f":"IF(L2859=\"\",\"\",L2859+N2858)","v":""}]
[null,null,null,null,null,null,null,null,null,null,null,null,"",""]
[null,null,null,null,null,null,null,null,null,null,null,null,"",""]
[null,null,null,null,null,null,null,null,null,null,null,null,"",""]
[null,null,null,null,null,null,null,null,null,null,null,null,"",""]
[null,null,null,null,null,null,null,null,null,null,null,null,"",""]
[null,null,null,null,null,null,null,null,null,null,null,null,"",""]
[null,null,null,null,null,null,null,null,null,null,null,null,"",""]
[null,null,null,null,null,null,null,null,null,null,null,null,"",""]
[null,null,null,null,null,null,null,null,null,null,null,null,"",""]
[null,null,null,null,null,null,null,null,null,null,null,null,"",""]
[null,null,null,null,null,null,null,null,null,null,null,null,"",""]
[null,null,null,null,null,null,null,null,null,null,null,null,"",""]
[null,null,null,null,null,null,null,null,null,null,null,null,"",""]
[null,null,null,null,null,null,null,null,null,null,null,null,"",""]
[null,null,null,null,null,null,null,null,null,null,null,null,"",""]
[null,null,null,null,null,null,null,null,null,null,null,null,"",""]
[null,null,null,null,null,null,null,null,null,null,null,null,"",""]
[null,null,null,null,null,null,null,null,null,null,null,null,"",""]
[null,null,null,null,null,null,null,null,null,null,null,null,"",""]
[null,null,null,null,null,null,null,null,null,null,null,null,"",""]
[null,null,null,null,null,null,null,null,null,null,null,null,"",""]
[null,null,null,null,null,null,null,null,null,null,null,null,"",""]
[null,null,null,null,null,null,null,null,null,null,null,null,"",""]
[null,null,null,null,null,null,null,null,null,null,null,null,"",""]
[null,null,null,null,null,null,null,null,null,null,null,null,"",""]
[null,null,null,null,null,null,null,null,null,null,null,null,"",""]
[null,null,null,null,null,null,null,null,null,null,null,null,"",""]
[null,null,null,null,null,null,null,null,null,null,null,null,"",""]
[null,null,null,null,null,null,null,null,null,null,null,null,"",""]
[null,null,null,null,null,null,null,null,null,null,null,null,"",""]
[null,null,null,null,null,null,null,null,null,null,null,null,"",""]
[null,null,null,null,null,null,null,null,null,null,null,null,"",""]
[null,null,null,null,null,null,null,null,null,null,null,null,"",""]
[null,null,null,null,null,null,null,null,null,null,null,null,"",""]
[null,null,null,null,null,null,null,null,null,null,null,null,"",""]
[null,null,null,null,null,null,null,null,null,null,null,null,"",""]
[null,null,null,null,null,null,null,null,null,null,null,null,"",""]
[null,null,null,null,null,null,null,null,null,null,null,null,"",""]
[null,null,null,null,null,null,null,null,null,null,null,null,"",""]
[null,null,null,null,null,null,null,null,null,null,null,null,"",""]
[null,null,null,null,null,null,null,null,null,null,null,null,"",""]
[null,null,null,null,null,null,null,null,null,null,null,null,"",""]
[null,null,null,null,null,null,null,null,null,null,null,null,"",""]
[null,null,null,null,null,null,null,null,null,null,null,null,"",""]
[null,null,null,null,null,null,null,null,null,null,null,null,"",""]
[null,null,null,null,null,null,null,null,null,null,null,null,"",""]
[null,null,null,null,null,null,null,null,null,null,null,null,"",""]
[null,null,null,null,null,null,null,null,null,null,null,null,"",""]
[null,null,null,null,null,null,null,null,null,null,null,null,"",""]
[null,null,null,null,null,null,null,null,null,null,null,null,"",""]
[null,null,null,null,null,null,null,null,null,null,null,null,"",""]
[null,null,null,null,null,null,null,null,null,null,null,null,"",""]
[null,null,null,null,null,null,null,null,null,null,null,null,"",""]
[null,null,null,null,null,null,null,null,null,null,null,null,"",""]
[null,null,null,null,null,null,null,null,null,null,null,null,"",""]
[null,null,null,null,null,null,null,null,null,null,null,null,"",""]
[null,null,null,null,null,null,null,null,null,null,null,null,"",""]
[null,null,null,null,null,null,null,null,null,null,null,null,"",""]
[null,null,null,null,null,null,null,null,null,null,null,null,"",""]
[null,null,null,null,null,null,null,null,null,null,null,null,"",""]
[null,null,null,null,null,null,null,null,null,null,null,null,"",""]
[null,null,null,null,null,null,null,null,null,null,null,null,"",""]
[null,null,null,null,null,null,null,null,null,null,null,null,"",""]
[null,null,null,null,null,null,null,null,null,null,null,null,{"$f":"IF(L2923=\"\",\"\",L2923/N2922)","v":""},{"$f":"IF(L2923=\"\",\"\",L2923+N2922)","v":""}]
[null,null,null,null,null,null,null,null,null,null,null,null,"",""]
[null,null,null,null,null,null,null,null,null,null,null,null,"",""]
[null,null,null,null,null,null,null,null,null,null,null,null,"",""]
[null,null,null,null,null,null,null,null,null,null,null,null,"",""]
[null,null,null,null,null,null,null,null,null,null,null,null,"",""]
[null,null,null,null,null,null,null,null,null,null,null,null,"",""]
[null,null,null,null,null,null,null,null,null,null,null,null,"",""]
[null,null,null,null,null,null,null,null,null,null,null,null,"",""]
[null,null,null,null,null,null,null,null,null,null,null,null,"",""]
[null,null,null,null,null,null,null,null,null,null,null,null,"",""]
[null,null,null,null,null,null,null,null,null,null,null,null,"",""]
[null,null,null,null,null,null,null,null,null,null,null,null,"",""]
[null,null,null,null,null,null,null,null,null,null,null,null,"",""]
[null,null,null,null,null,null,null,null,null,null,null,null,"",""]
[null,null,null,null,null,null,null,null,null,null,null,null,"",""]
[null,null,null,null,null,null,null,null,null,null,null,null,"",""]
[null,null,null,null,null,null,null,null,null,null,null,null,"",""]
[null,null,null,null,null,null,null,null,null,null,null,null,"",""]
[null,null,null,null,null,null,null,null,null,null,null,null,"",""]
[null,null,null,null,null,null,null,null,null,null,null,null,"",""]
[null,null,null,null,null,null,null,null,null,null,null,null,"",""]
[null,null,null,null,null,null,null,null,null,null,null,null,"",""]
[null,null,null,null,null,null,null,null,null,null,null,null,"",""]
[null,null,null,null,null,null,null,null,null,null,null,null,"",""]
[null,null,null,null,null,null,null,null,null,null,null,null,"",""]
[null,null,null,null,null,null,null,null,null,null,null,null,"",""]
[null,null,null,null,null,null,null,null,null,null,null,null,"",""]
[null,null,null,null,null,null,null,null,null,null,null,null,"",""]
[null,null,null,null,null,null,null,null,null,null,null,null,"",""]
[null,null,null,null,null,null,null,null,null,null,null,null,"",""]
[null,null,null,null,null,null,null,null,null,null,null,null,"",""]
[null,null,null,null,null,null,null,null,null,null,null,null,"",""]
[null,null,null,null,null,null,null,null,null,null,null,null,"",""]
[null,null,null,null,null,null,null,null,null,null,null,null,"",""]
[null,null,null,null,null,null,null,null,null,null,null,null,"",""]
[null,null,null,null,null,null,null,null,null,null,null,null,"",""]
[null,null,null,null,null,null,null,null,null,null,null,null,"",""]
[null,null,null,null,null,null,null,null,null,null,null,null,"",""]
[null,null,null,null,null,null,null,null,null,null,null,null,"",""]
[null,null,null,null,null,null,null,null,null,null,null,null,"",""]
[null,null,null,null,null,null,null,null,null,null,null,null,"",""]
[null,null,null,null,null,null,null,null,null,null,null,null,"",""]
[null,null,null,null,null,null,null,null,null,null,null,null,"",""]
[null,null,null,null,null,null,null,null,null,null,null,null,"",""]
[null,null,null,null,null,null,null,null,null,null,null,null,"",""]
[null,null,null,null,null,null,null,null,null,null,null,null,"",""]
[null,null,null,null,null,null,null,null,null,null,null,null,"",""]
[null,null,null,null,null,null,null,null,null,null,null,null,"",""]
[null,null,null,null,null,null,null,null,null,null,null,null,"",""]
[null,null,null,null,null,null,null,null,null,null,null,null,"",""]
[null,null,null,null,null,null,null,null,null,null,null,null,"",""]
[null,null,null,null,null,null,null,null,null,null,null,null,"",""]
[null,null,null,null,null,null,null,null,null,null,null,null,"",""]
[null,null,null,null,null,null,null,null,null,null,null,null,"",""]
[null,null,null,null,null,null,null,null,null,null,null,null,"",""]
[null,null,null,null,null,null,null,null,null,null,null,null,"",""]
[null,null,null,null,null,null,null,null,null,null,null,null,"",""]
[null,null,null,null,null,null,null,null,null,null,null,null,"",""]
[null,null,null,null,null,null,null,null,null,null,null,null,"",""]
[null,null,null,null,null,null,null,null,null,null,null,null,"",""]
[null,null,null,null,null,null,null,null,null,null,null,null,"",""]
[null,null,null,null,null,null,null,null,null,null,null,null,"",""]
[null,null,null,null,null,null,null,null,null,null,null,null,"",""]
[null,null,null,null,null,null,null,null,null,null,null,null,{"$f":"IF(L2987=\"\",\"\",L2987/N2986)","v":""},{"$f":"IF(L2987=\"\",\"\",L2987+N2986)","v":""}]
[null,null,null,null,null,null,null,null,null,null,null,null,"",""]
[null,null,null,null,null,null,null,null,null,null,null,null,"",""]
[null,null,null,null,null,null,null,null,null,null,null,null,"",""]
[null,null,null,null,null,null,null,null,null,null,null,null,"",""]
[null,null,null,null,null,null,null,null,null,null,null,null,"",""]
[null,null,null,null,null,null,null,null,null,null,null,null,"",""]
[null,null,null,null,null,null,null,null,null,null,null,null,"",""]
[null,null,null,null,null,null,null,null,null,null,null,null,"",""]
[null,null,null,null,null,null,null,null,null,null,null,null,"",""]
[null,null,null,null,null,null,null,null,null,null,null,null,"",""]
[null,null,null,null,null,null,null,null,null,null,null,null,"",""]
[null,null,null,null,null,null,null,null,null,null,null,null,"",""]
[null,null,null,null,null,null,null,null,null,null,null,null,"",""]
[null,null,null,null,null,null,null,null,null,null,null,null,"",""]
[null,null,null,null,null,null,null,null,null,null,null,null,"",""]
[null,null,null,null,null,null,null,null,null,null,null,null,"",""]
[null,null,null,null,null,null,null,null,null,null,null,null,"",""]
[null,null,null,null,null,null,null,null,null,null,null,null,"",""]
[null,null,null,null,null,null,null,null,null,null,null,null,"",""]
[null,null,null,null,null,null,null,null,null,null,null,null,"",""]
[null,null,null,null,null,null,null,null,null,null,null,null,"",""]
[null,null,null,null,null,null,null,null,null,null,null,null,"",""]
[null,null,null,null,null,null,null,null,null,null,null,null,"",""]
[null,null,null,null,null,null,null,null,null,null,null,null,"",""]
[null,null,null,null,null,null,null,null,null,null,null,null,"",""]
[null,null,null,null,null,null,null,null,null,null,null,null,"",""]
[null,null,null,null,null,null,null,null,null,null,null,null,"",""]
[null,null,null,null,null,null,null,null,null,null,null,null,"",""]
[null,null,null,null,null,null,null,null,null,null,null,null,"",""]
[null,null,null,null,null,null,null,null,null,null,null,null,"",""]
[null,null,null,null,null,null,null,null,null,null,null,null,"",""]
[null,null,null,null,null,null,null,null,null,null,null,null,"",""]
[null,null,null,null,null,null,null,null,null,null,null,null,"",""]
[null,null,null,null,null,null,null,null,null,null,null,null,"",""]
[null,null,null,null,null,null,null,null,null,null,null,null,"",""]
[null,null,null,null,null,null,null,null,null,null,null,null,"",""]
[null,null,null,null,null,null,null,null,null,null,null,null,"",""]
[null,null,null,null,null,null,null,null,null,null,null,null,"",""]
[null,null,null,null,null,null,null,null,null,null,null,null,"",""]
[null,null,null,null,null,null,null,null,null,null,null,null,"",""]
[null,null,null,null,null,null,null,null,null,null,null,null,"",""]
[null,null,null,null,null,null,null,null,null,null,null,null,"",""]
[null,null,null,null,null,null,null,null,null,null,null,null,"",""]
[null,null,null,null,null,null,null,null,null,null,null,null,"",""]
[null,null,null,null,null,null,null,null,null,null,null,null,"",""]
[null,null,null,null,null,null,null,null,null,null,null,null,"",""]
[null,null,null,null,null,null,null,null,null,null,null,null,"",""]
[null,null,null,null,null,null,null,null,null,null,null,null,"",""]
[null,null,null,null,null,null,null,null,null,null,null,null,"",""]
[null,null,null,null,null,null,null,null,null,null,null,null,"",""]
[null,null,null,null,null,null,null,null,null,null,null,null,"",""]
[null,null,null,null,null,null,null,null,null,null,null,null,"",""]
[null,null,null,null,null,null,null,null,null,null,null,null,"",""]
[null,null,null,null,null,null,null,null,null,null,null,null,"",""]
[null,null,null,null,null,null,null,null,null,null,null,null,"",""]
[null,null,null,null,null,null,null,null,null,null,null,null,"",""]
[null,null,null,null,null,null,null,null,null,null,null,null,"",""]
[null,null,null,null,null,null,null,null,null,null,null,null,"",""]
[null,null,null,null,null,null,null,null,null,null,null,null,"",""]
[null,null,null,null,null,null,null,null,null,null,null,null,"",""]
[null,null,null,null,null,null,null,null,null,null,null,null,"",""]
[null,null,null,null,null,null,null,null,null,null,null,null,"",""]
[null,null,null,null,null,null,null,null,null,null,null,null,"",""]
[null,null,null,null,null,null,null,null,null,null,null,null,{"$f":"IF(L3051=\"\",\"\",L3051/N3050)","v":""},{"$f":"IF(L3051=\"\",\"\",L3051+N3050)","v":""}]
[null,null,null,null,null,null,null,null,null,null,null,null,"",""]
[null,null,null,null,null,null,null,null,null,null,null,null,"",""]
[null,null,null,null,null,null,null,null,null,null,null,null,"",""]
[null,null,null,null,null,null,null,null,null,null,null,null,"",""]
[null,null,null,null,null,null,null,null,null,null,null,null,"",""]
[null,null,null,null,null,null,null,null,null,null,null,null,"",""]
[null,null,null,null,null,null,null,null,null,null,null,null,"",""]
[null,null,null,null,null,null,null,null,null,null,null,null,"",""]
[null,null,null,null,null,null,null,null,null,null,null,null,"",""]
[null,null,null,null,null,null,null,null,null,null,null,null,"",""]
[null,null,null,null,null,null,null,null,null,null,null,null,"",""]
[null,null,null,null,null,null,null,null,null,null,null,null,"",""]
[null,null,null,null,null,null,null,null,null,null,null,null,"",""]
[null,null,null,null,null,null,null,null,null,null,null,null,"",""]
[null,null,null,null,null,null,null,null,null,null,null,null,"",""]
[null,null,null,null,null,null,null,null,null,null,null,null,"",""]
[null,null,null,null,null,null,null,null,null,null,null,null,"",""]
[null,null,null,null,null,null,null,null,null,null,null,null,"",""]
[null,null,null,null,null,null,null,null,null,null,null,null,"",""]
[null,null,null,null,null,null,null,null,null,null,null,null,"",""]
[null,null,null,null,null,null,null,null,null,null,null,null,"",""]
[null,null,null,null,null,null,null,null,null,null,null,null,"",""]
[null,null,null,null,null,null,null,null,null,null,null,null,"",""]
[null,null,null,null,null,null,null,null,null,null,null,null,"",""]
[null,null,null,null,null,null,null,null,null,null,null,null,"",""]
[null,null,null,null,null,null,null,null,null,null,null,null,"",""]
[null,null,null,null,null,null,null,null,null,null,null,null,"",""]
[null,null,null,null,null,null,null,null,null,null,null,null,"",""]
[null,null,null,null,null,null,null,null,null,null,null,null,"",""]
[null,null,null,null,null,null,null,null,null,null,null,null,"",""]
[null,null,null,null,null,null,null,null,null,null,null,null,"",""]
[null,null,null,null,null,null,null,null,null,null,null,null,"",""]
[null,null,null,null,null,null,null,null,null,null,null,null,"",""]
[null,null,null,null,null,null,null,null,null,null,null,null,"",""]
[null,null,null,null,null,null,null,null,null,null,null,null,"",""]
[null,null,null,null,null,null,null,null,null,null,null,null,"",""]
[null,null,null,null,null,null,null,null,null,null,null,null,"",""]
[null,null,null,null,null,null,null,null,null,null,null,null,"",""]
[null,null,null,null,null,null,null,null,null,null,null,null,"",""]
[null,null,null,null,null,null,null,null,null,null,null,null,"",""]
[null,null,null,null,null,null,null,null,null,null,null,null,"",""]
[null,null,null,null,null,null,null,null,null,null,null,null,"",""]
[null,null,null,null,null,null,null,null,null,null,null,null,"",""]
[null,null,null,null,null,null,null,null,null,null,null,null,"",""]
[null,null,null,null,null,null,null,null,null,null,null,null,"",""]
[null,null,null,null,null,null,null,null,null,null,null,null,"",""]
[null,null,null,null,null,null,null,null,null,null,null,null,"",""]
[null,null,null,null,null,null,null,null,null,null,null,null,"",""]
[null,null,null,null,null,null,null,null,null,null,null,null,"",""]
[null,null,null,null,null,null,null,null,null,null,null,null,"",""]
[null,null,null,null,null,null,null,null,null,null,null,null,"",""]
[null,null,null,null,null,null,null,null,null,null,null,null,"",""]
[null,null,null,null,null,null,null,null,null,null,null,null,"",""]
[null,null,null,null,null,null,null,null,null,null,null,null,"",""]
[null,null,null,null,null,null,null,null,null,null,null,null,"",""]
[null,null,null,null,null,null,null,null,null,null,null,null,"",""]
[null,null,null,null,null,null,null,null,null,null,null,null,"",""]
[null,null,null,null,null,null,null,null,null,null,null,null,"",""]
[null,null,null,null,null,null,null,null,null,null,null,null,"",""]
[null,null,null,null,null,null,null,null,null,null,null,null,"",""]
[null,null,null,null,null,null,null,null,null,null,null,null,"",""]
[null,null,null,null,null,null,null,null,null,null,null,null,"",""]
[null,null,null,null,null,null,null,null,null,null,null,null,"",""]
[null,null,null,null,null,null,null,null,null,null,null,null,{"$f":"IF(L3115=\"\",\"\",L3115/N3114)","v":""},{"$f":"IF(L3115=\"\",\"\",L3115+N3114)","v":""}]
[null,null,null,null,null,null,null,null,null,null,null,null,"",""]
[null,null,null,null,null,null,null,null,null,null,null,null,"",""]
[null,null,null,null,null,null,null,null,null,null,null,null,"",""]
[null,null,null,null,null,null,null,null,null,null,null,null,"",""]
[null,null,null,null,null,null,null,null,null,null,null,null,"",""]
[null,null,null,null,null,null,null,null,null,null,null,null,"",""]
[null,null,null,null,null,null,null,null,null,null,null,null,"",""]
[null,null,null,null,null,null,null,null,null,null,null,null,"",""]
[null,null,null,null,null,null,null,null,null,null,null,null,"",""]
[null,null,null,null,null,null,null,null,null,null,null,null,"",""]
[null,null,null,null,null,null,null,null,null,null,null,null,"",""]
[null,null,null,null,null,null,null,null,null,null,null,null,"",""]
[null,null,null,null,null,null,null,null,null,null,null,null,"",""]
[null,null,null,null,null,null,null,null,null,null,null,null,"",""]
[null,null,null,null,null,null,null,null,null,null,null,null,"",""]
[null,null,null,null,null,null,null,null,null,null,null,null,"",""]
[null,null,null,null,null,null,null,null,null,null,null,null,"",""]
[null,null,null,null,null,null,null,null,null,null,null,null,"",""]
[null,null,null,null,null,null,null,null,null,null,null,null,"",""]
[null,null,null,null,null,null,null,null,null,null,null,null,"",""]
[null,null,null,null,null,null,null,null,null,null,null,null,"",""]
[null,null,null,null,null,null,null,null,null,null,null,null,"",""]
[null,null,null,null,null,null,null,null,null,null,null,null,"",""]
[null,null,null,null,null,null,null,null,null,null,null,null,"",""]
[null,null,null,null,null,null,null,null,null,null,null,null,"",""]
[null,null,null,null,null,null,null,null,null,null,null,null,"",""]
[null,null,null,null,null,null,null,null,null,null,null,null,"",""]
[null,null,null,null,null,null,null,null,null,null,null,null,"",""]
[null,null,null,null,null,null,null,null,null,null,null,null,"",""]
[null,null,null,null,null,null,null,null,null,null,null,null,"",""]
[null,null,null,null,null,null,null,null,null,null,null,null,"",""]
[null,null,null,null,null,null,null,null,null,null,null,null,"",""]
[null,null,null,null,null,null,null,null,null,null,null,null,"",""]
[null,null,null,null,null,null,null,null,null,null,null,null,"",""]
[null,null,null,null,null,null,null,null,null,null,null,null,"",""]
[null,null,null,null,null,null,null,null,null,null,null,null,"",""]
[null,null,null,null,null,null,null,null,null,null,null,null,"",""]
[null,null,null,null,null,null,null,null,null,null,null,null,"",""]
[null,null,null,null,null,null,null,null,null,null,null,null,"",""]
[null,null,null,null,null,null,null,null,null,null,null,null,"",""]
[null,null,null,null,null,null,null,null,null,null,null,null,"",""]
[null,null,null,null,null,null,null,null,null,null,null,null,"",""]
[null,null,null,null,null,null,null,null,null,null,null,null,"",""]
[null,null,null,null,null,null,null,null,null,null,null,null,"",""]
[null,null,null,null,null,null,null,null,null,null,null,null,"",""]
[null,null,null,null,null,null,null,null,null,null,null,null,"",""]
[null,null,null,null,null,null,null,null,null,null,null,null,"",""]
[null,null,null,null,null,null,null,null,null,null,null,null,"",""]
[null,null,null,null,null,null,null,null,null,null,null,null,"",""]
[null,null,null,null,null,null,null,null,null,null,null,null,"",""]
[null,null,null,null,null,null,null,null,null,null,null,null,"",""]
[null,null,null,null,null,null,null,null,null,null,null,null,"",""]
[null,null,null,null,null,null,null,null,null,null,null,null,"",""]
[null,null,null,null,null,null,null,null,null,null,null,null,"",""]
[null,null,null,null,null,null,null,null,null,null,null,null,"",""]
[null,null,null,null,null,null,null,null,null,null,null,null,"",""]
[null,null,null,null,null,null,null,null,null,null,null,null,"",""]
[null,null,null,null,null,null,null,null,null,null,null,null,"",""]
[null,null,null,null,null,null,null,null,null,null,null,null,"",""]
[null,null,null,null,null,null,null,null,null,null,null,null,"",""]
[null,null,null,null,null,null,null,null,null,null,null,null,"",""]
[null,null,null,null,null,null,null,null,null,null,null,null,"",""]
[null,null,null,null,null,null,null,null,null,null,null,null,"",""]
[null,null,null,null,null,null,null,null,null,null,null,null,{"$f":"IF(L3179=\"\",\"\",L3179/N3178)","v":""},{"$f":"IF(L3179=\"\",\"\",L3179+N3178)","v":""}]
[null,null,null,null,null,null,null,null,null,null,null,null,"",""]
[null,null,null,null,null,null,null,null,null,null,null,null,"",""]
[null,null,null,null,null,null,null,null,null,null,null,null,"",""]
[null,null,null,null,null,null,null,null,null,null,null,null,"",""]
[null,null,null,null,null,null,null,null,null,null,null,null,"",""]
[null,null,null,null,null,null,null,null,null,null,null,null,"",""]
[null,null,null,null,null,null,null,null,null,null,null,null,"",""]
[null,null,null,null,null,null,null,null,null,null,null,null,"",""]
[null,null,null,null,null,null,null,null,null,null,null,null,"",""]
[null,null,null,null,null,null,null,null,null,null,null,null,"",""]
[null,null,null,null,null,null,null,null,null,null,null,null,"",""]
[null,null,null,null,null,null,null,null,null,null,null,null,"",""]
[null,null,null,null,null,null,null,null,null,null,null,null,"",""]
[null,null,null,null,null,null,null,null,null,null,null,null,"",""]
[null,null,null,null,null,null,null,null,null,null,null,null,"",""]
[null,null,null,null,null,null,null,null,null,null,null,null,"",""]
[null,null,null,null,null,null,null,null,null,null,null,null,"",""]
[null,null,null,null,null,null,null,null,null,null,null,null,"",""]
[null,null,null,null,null,null,null,null,null,null,null,null,"",""]
[null,null,null,null,null,null,null,null,null,null,null,null,"",""]
[null,null,null,null,null,null,null,null,null,null,null,null,"",""]
[null,null,null,null,null,null,null,null,null,null,null,null,"",""]
[null,null,null,null,null,null,null,null,null,null,null,null,"",""]
[null,null,null,null,null,null,null,null,null,null,null,null,"",""]
[null,null,null,null,null,null,null,null,null,null,null,null,"",""]
[null,null,null,null,null,null,null,null,null,null,null,null,"",""]
[null,null,null,null,null,null,null,null,null,null,null,null,"",""]
[null,null,null,null,null,null,null,null,null,null,null,null,"",""]
[null,null,null,null,null,null,null,null,null,null,null,null,"",""]
[null,null,null,null,null,null,null,null,null,null,null,null,"",""]
[null,null,null,null,null,null,null,null,null,null,null,null,"",""]
[null,null,null,null,null,null,null,null,null,null,null,null,"",""]
[null,null,null,null,null,null,null,null,null,null,null,null,"",""]
[null,null,null,null,null,null,null,null,null,null,null,null,"",""]
[null,null,null,null,null,null,null,null,null,null,null,null,"",""]
[null,null,null,null,null,null,null,null,null,null,null,null,"",""]
[null,null,null,null,null,null,null,null,null,null,null,null,"",""]
[null,null,null,null,null,null,null,null,null,null,null,null,"",""]
[null,null,null,null,null,null,null,null,null,null,null,null,"",""]
[null,null,null,null,null,null,null,null,null,null,null,null,"",""]
[null,null,null,null,null,null,null,null,null,null,null,null,"",""]
[null,null,null,null,null,null,null,null,null,null,null,null,"",""]
[null,null,null,null,null,null,null,null,null,null,null,null,"",""]
[null,null,null,null,null,null,null,null,null,null,null,null,"",""]
[null,null,null,null,null,null,null,null,null,null,null,null,"",""]
[null,null,null,null,null,null,null,null,null,null,null,null,"",""]
[null,null,null,null,null,null,null,null,null,null,null,null,"",""]
[null,null,null,null,null,null,null,null,null,null,null,null,"",""]
[null,null,null,null,null,null,null,null,null,null,null,null,"",""]
[null,null,null,null,null,null,null,null,null,null,null,null,"",""]
[null,null,null,null,null,null,null,null,null,null,null,null,"",""]
[null,null,null,null,null,null,null,null,null,null,null,null,"",""]
[null,null,null,null,null,null,null,null,null,null,null,null,"",""]
[null,null,null,null,null,null,null,null,null,null,null,null,"",""]
[null,null,null,null,null,null,null,null,null,null,null,null,"",""]
[null,null,null,null,null,null,null,null,null,null,null,null,"",""]
[null,null,null,null,null,null,null,null,null,null,null,null,"",""]
[null,null,null,null,null,null,null,null,null,null,null,null,"",""]
[null,null,null,null,null,null,null,null,null,null,null,null,"",""]
[null,null,null,null,null,null,null,null,null,null,null,null,"",""]
[null,null,null,null,null,null,null,null,null,null,null,null,"",""]
[null,null,null,null,null,null,null,null,null,null,null,null,"",""]
[null,null,null,null,null,null,null,null,null,null,null,null,"",""]
[null,null,null,null,null,null,null,null,null,null,null,null,{"$f":"IF(L3243=\"\",\"\",L3243/N3242)","v":""},{"$f":"IF(L3243=\"\",\"\",L3243+N3242)","v":""}]
[null,null,null,null,null,null,null,null,null,null,null,null,"",""]
[null,null,null,null,null,null,null,null,null,null,null,null,"",""]
[null,null,null,null,null,null,null,null,null,null,null,null,"",""]
[null,null,null,null,null,null,null,null,null,null,null,null,"",""]
[null,null,null,null,null,null,null,null,null,null,null,null,"",""]
[null,null,null,null,null,null,null,null,null,null,null,null,"",""]
[null,null,null,null,null,null,null,null,null,null,null,null,"",""]
[null,null,null,null,null,null,null,null,null,null,null,null,"",""]
[null,null,null,null,null,null,null,null,null,null,null,null,"",""]
[null,null,null,null,null,null,null,null,null,null,null,null,"",""]
[null,null,null,null,null,null,null,null,null,null,null,null,"",""]
[null,null,null,null,null,null,null,null,null,null,null,null,"",""]
[null,null,null,null,null,null,null,null,null,null,null,null,"",""]
[null,null,null,null,null,null,null,null,null,null,null,null,"",""]
[null,null,null,null,null,null,null,null,null,null,null,null,"",""]
[null,null,null,null,null,null,null,null,null,null,null,null,"",""]
[null,null,null,null,null,null,null,null,null,null,null,null,"",""]
[null,null,null,null,null,null,null,null,null,null,null,null,"",""]
[null,null,null,null,null,null,null,null,null,null,null,null,"",""]
[null,null,null,null,null,null,null,null,null,null,null,null,"",""]
[null,null,null,null,null,null,null,null,null,null,null,null,"",""]
[null,null,null,null,null,null,null,null,null,null,null,null,"",""]
[null,null,null,null,null,null,null,null,null,null,null,null,"",""]
[null,null,null,null,null,null,null,null,null,null,null,null,"",""]
[null,null,null,null,null,null,null,null,null,null,null,null,"",""]
[null,null,null,null,null,null,null,null,null,null,null,null,"",""]
[null,null,null,null,null,null,null,null,null,null,null,null,"",""]
[null,null,null,null,null,null,null,null,null,null,null,null,"",""]
[null,null,null,null,null,null,null,null,null,null,null,null,"",""]
[null,null,null,null,null,null,null,null,null,null,null,null,"",""]
[null,null,null,null,null,null,null,null,null,null,null,null,"",""]
[null,null,null,null,null,null,null,null,null,null,null,null,"",""]
[null,null,null,null,null,null,null,null,null,null,null,null,"",""]
[null,null,null,null,null,null,null,null,null,null,null,null,"",""]
[null,null,null,null,null,null,null,null,null,null,null,null,"",""]
[null,null,null,null,null,null,null,null,null,null,null,null,"",""]
[null,null,null,null,null,null,null,null,null,null,null,null,"",""]
[null,null,null,null,null,null,null,null,null,null,null,null,"",""]
[null,null,null,null,null,null,null,null,null,null,null,null,"",""]
[null,null,null,null,null,null,null,null,null,null,null,null,"",""]
[null,null,null,null,null,null,null,null,null,null,null,null,"",""]
[null,null,null,null,null,null,null,null,null,null,null,null,"",""]
[null,null,null,null,null,null,null,null,null,null,null,null,"",""]
[null,null,null,null,null,null,null,null,null,null,null,null,"",""]
[null,null,null,null,null,null,null,null,null,null,null,null,"",""]
[null,null,null,null,null,null,null,null,null,null,null,null,"",""]
[null,null,null,null,null,null,null,null,null,null,null,null,"",""]
[null,null,null,null,null,null,null,null,null,null,null,null,"",""]
[null,null,null,null,null,null,null,null,null,null,null,null,"",""]
[null,null,null,null,null,null,null,null,null,null,null,null,"",""]
[null,null,null,null,null,null,null,null,null,null,null,null,"",""]
[null,null,null,null,null,null,null,null,null,null,null,null,"",""]
[null,null,null,null,null,null,null,null,null,null,null,null,"",""]
[null,null,null,null,null,null,null,null,null,null,null,null,"",""]
[null,null,null,null,null,null,null,null,null,null,null,null,"",""]
[null,null,null,null,null,null,null,null,null,null,null,null,"",""]
[null,null,null,null,null,null,null,null,null,null,null,null,"",""]
[null,null,null,null,null,null,null,null,null,null,null,null,"",""]
[null,null,null,null,null,null,null,null,null,null,null,null,"",""]
[null,null,null,null,null,null,null,null,null,null,null,null,"",""]
[null,null,null,null,null,null,null,null,null,null,null,null,"",""]
[null,null,null,null,null,null,null,null,null,null,null,null,"",""]
[null,null,null,null,null,null,null,null,null,null,null,null,"",""]
[null,null,null,null,null,null,null,null,null,null,null,null,{"$f":"IF(L3307=\"\",\"\",L3307/N3306)","v":""},{"$f":"IF(L3307=\"\",\"\",L3307+N3306)","v":""}]
[null,null,null,null,null,null,null,null,null,null,null,null,"",""]
[null,null,null,null,null,null,null,null,null,null,null,null,"",""]
[null,null,null,null,null,null,null,null,null,null,null,null,"",""]
[null,null,null,null,null,null,null,null,null,null,null,null,"",""]
[null,null,null,null,null,null,null,null,null,null,null,null,"",""]
[null,null,null,null,null,null,null,null,null,null,null,null,"",""]
[null,null,null,null,null,null,null,null,null,null,null,null,"",""]
[null,null,null,null,null,null,null,null,null,null,null,null,"",""]
[null,null,null,null,null,null,null,null,null,null,null,null,"",""]
[null,null,null,null,null,null,null,null,null,null,null,null,"",""]
[null,null,null,null,null,null,null,null,null,null,null,null,"",""]
[null,null,null,null,null,null,null,null,null,null,null,null,"",""]
[null,null,null,null,null,null,null,null,null,null,null,null,"",""]
[null,null,null,null,null,null,null,null,null,null,null,null,"",""]
[null,null,null,null,null,null,null,null,null,null,null,null,"",""]
[null,null,null,null,null,null,null,null,null,null,null,null,"",""]
[null,null,null,null,null,null,null,null,null,null,null,null,"",""]
[null,null,null,null,null,null,null,null,null,null,null,null,"",""]
[null,null,null,null,null,null,null,null,null,null,null,null,"",""]
[null,null,null,null,null,null,null,null,null,null,null,null,"",""]
[null,null,null,null,null,null,null,null,null,null,null,null,"",""]
[null,null,null,null,null,null,null,null,null,null,null,null,"",""]
[null,null,null,null,null,null,null,null,null,null,null,null,"",""]
[null,null,null,null,null,null,null,null,null,null,null,null,"",""]
[null,null,null,null,null,null,null,null,null,null,null,null,"",""]
[null,null,null,null,null,null,null,null,null,null,null,null,"",""]
[null,null,null,null,null,null,null,null,null,null,null,null,"",""]
[null,null,null,null,null,null,null,null,null,null,null,null,"",""]
[null,null,null,null,null,null,null,null,null,null,null,null,"",""]
[null,null,null,null,null,null,null,null,null,null,null,null,"",""]
[null,null,null,null,null,null,null,null,null,null,null,null,"",""]
[null,null,null,null,null,null,null,null,null,null,null,null,"",""]
[null,null,null,null,null,null,null,null,null,null,null,null,"",""]
[null,null,null,null,null,null,null,null,null,null,null,null,"",""]
[null,null,null,null,null,null,null,null,null,null,null,null,"",""]
[null,null,null,null,null,null,null,null,null,null,null,null,"",""]
[null,null,null,null,null,null,null,null,null,null,null,null,"",""]
[null,null,null,null,null,null,null,null,null,null,null,null,"",""]
[null,null,null,null,null,null,null,null,null,null,null,null,"",""]
[null,null,null,null,null,null,null,null,null,null,null,null,"",""]
[null,null,null,null,null,null,null,null,null,null,null,null,"",""]
[null,null,null,null,null,null,null,null,null,null,null,null,"",""]
[null,null,null,null,null,null,null,null,null,null,null,null,"",""]
[null,null,null,null,null,null,null,null,null,null,null,null,"",""]
[null,null,null,null,null,null,null,null,null,null,null,null,"",""]
[null,null,null,null,null,null,null,null,null,null,null,null,"",""]
[null,null,null,null,null,null,null,null,null,null,null,null,"",""]
[null,null,null,null,null,null,null,null,null,null,null,null,"",""]
[null,null,null,null,null,null,null,null,null,null,null,null,"",""]
[null,null,null,null,null,null,null,null,null,null,null,null,"",""]
[null,null,null,null,null,null,null,null,null,null,null,null,"",""]
[null,null,null,null,null,null,null,null,null,null,null,null,"",""]
[null,null,null,null,null,null,null,null,null,null,null,null,"",""]
[null,null,null,null,null,null,null,null,null,null,null,null,"",""]
[null,null,null,null,null,null,null,null,null,null,null,null,"",""]
[null,null,null,null,null,null,null,null,null,null,null,null,"",""]
[null,null,null,null,null,null,null,null,null,null,null,null,"",""]
[null,null,null,null,null,null,null,null,null,null,null,null,"",""]
[null,null,null,null,null,null,null,null,null,null,null,null,"",""]
[null,null,null,null,null,null,null,null,null,null,null,null,"",""]
[null,null,null,null,null,null,null,null,null,null,null,null,"",""]
[null,null,null,null,null,null,null,null,null,null,null,null,"",""]
[null,null,null,null,null,null,null,null,null,null,null,null,"",""]
[null,null,null,null,null,null,null,null,null,null,null,null,{"$f":"IF(L3371=\"\",\"\",L3371/N3370)","v":""},{"$f":"IF(L3371=\"\",\"\",L3371+N3370)","v":""}]
[null,null,null,null,null,null,null,null,null,null,null,null,"",""]
[null,null,null,null,null,null,null,null,null,null,null,null,"",""]
[null,null,null,null,null,null,null,null,null,null,null,null,"",""]
[null,null,null,null,null,null,null,null,null,null,null,null,"",""]
[null,null,null,null,null,null,null,null,null,null,null,null,"",""]
[null,null,null,null,null,null,null,null,null,null,null,null,"",""]
[null,null,null,null,null,null,null,null,null,null,null,null,"",""]
[null,null,null,null,null,null,null,null,null,null,null,null,"",""]
[null,null,null,null,null,null,null,null,null,null,null,null,"",""]
[null,null,null,null,null,null,null,null,null,null,null,null,"",""]
[null,null,null,null,null,null,null,null,null,null,null,null,"",""]
[null,null,null,null,null,null,null,null,null,null,null,null,"",""]
[null,null,null,null,null,null,null,null,null,null,null,null,"",""]
[null,null,null,null,null,null,null,null,null,null,null,null,"",""]
[null,null,null,null,null,null,null,null,null,null,null,null,"",""]
[null,null,null,null,null,null,null,null,null,null,null,null,"",""]
[null,null,null,null,null,null,null,null,null,null,null,null,"",""]
[null,null,null,null,null,null,null,null,null,null,null,null,"",""]
[null,null,null,null,null,null,null,null,null,null,null,null,"",""]
[null,null,null,null,null,null,null,null,null,null,null,null,"",""]
[null,null,null,null,null,null,null,null,null,null,null,null,"",""]
[null,null,null,null,null,null,null,null,null,null,null,null,"",""]
[null,null,null,null,null,null,null,null,null,null,null,null,"",""]
[null,null,null,null,null,null,null,null,null,null,null,null,"",""]
[null,null,null,null,null,null,null,null,null,null,null,null,"",""]
[null,null,null,null,null,null,null,null,null,null,null,null,"",""]
[null,null,null,null,null,null,null,null,null,null,null,null,"",""]
[null,null,null,null,null,null,null,null,null,null,null,null,"",""]
[null,null,null,null,null,null,null,null,null,null,null,null,"",""]
[null,null,null,null,null,null,null,null,null,null,null,null,"",""]
[null,null,null,null,null,null,null,null,null,null,null,null,"",""]
[null,null,null,null,null,null,null,null,null,null,null,null,"",""]
[null,null,null,null,null,null,null,null,null,null,null,null,"",""]
[null,null,null,null,null,null,null,null,null,null,null,null,"",""]
[null,null,null,null,null,null,null,null,null,null,null,null,"",""]
[null,null,null,null,null,null,null,null,null,null,null,null,"",""]
[null,null,null,null,null,null,null,null,null,null,null,null,"",""]
[null,null,null,null,null,null,null,null,null,null,null,null,"",""]
[null,null,null,null,null,null,null,null,null,null,null,null,"",""]
[null,null,null,null,null,null,null,null,null,null,null,null,"",""]
[null,null,null,null,null,null,null,null,null,null,null,null,"",""]
[null,null,null,null,null,null,null,null,null,null,null,null,"",""]
[null,null,null,null,null,null,null,null,null,null,null,null,"",""]
[null,null,null,null,null,null,null,null,null,null,null,null,"",""]
[null,null,null,null,null,null,null,null,null,null,null,null,"",""]
[null,null,null,null,null,null,null,null,null,null,null,null,"",""]
[null,null,null,null,null,null,null,null,null,null,null,null,"",""]
[null,null,null,null,null,null,null,null,null,null,null,null,"",""]
[null,null,null,null,null,null,null,null,null,null,null,null,"",""]
[null,null,null,null,null,null,null,null,null,null,null,null,"",""]
[null,null,null,null,null,null,null,null,null,null,null,null,"",""]
[null,null,null,null,null,null,null,null,null,null,null,null,"",""]
[null,null,null,null,null,null,null,null,null,null,null,null,"",""]
[null,null,null,null,null,null,null,null,null,null,null,null,"",""]
[null,null,null,null,null,null,null,null,null,null,null,null,"",""]
[null,null,null,null,null,null,null,null,null,null,null,null,"",""]
[null,null,null,null,null,null,null,null,null,null,null,null,"",""]
[null,null,null,null,null,null,null,null,null,null,null,null,"",""]
[null,null,null,null,null,null,null,null,null,null,null,null,"",""]
[null,null,null,null,null,null,null,null,null,null,null,null,"",""]
[null,null,null,null,null,null,null,null,null,null,null,null,"",""]
[null,null,null,null,null,null,null,null,null,null,null,null,"",""]
[null,null,null,null,null,null,null,null,null,null,null,null,"",""]
[null,null,null,null,null,null,null,null,null,null,null,null,{"$f":"IF(L3435=\"\",\"\",L3435/N3434)","v":""},{"$f":"IF(L3435=\"\",\"\",L3435+N3434)","v":""}]
[null,null,null,null,null,null,null,null,null,null,null,null,"",""]
[null,null,null,null,null,null,null,null,null,null,null,null,"",""]
[null,null,null,null,null,null,null,null,null,null,null,null,"",""]
[null,null,null,null,null,null,null,null,null,null,null,null,"",""]
[null,null,null,null,null,null,null,null,null,null,null,null,"",""]
[null,null,null,null,null,null,null,null,null,null,null,null,"",""]
[null,null,null,null,null,null,null,null,null,null,null,null,"",""]
[null,null,null,null,null,null,null,null,null,null,null,null,"",""]
[null,null,null,null,null,null,null,null,null,null,null,null,"",""]
[null,null,null,null,null,null,null,null,null,null,null,null,"",""]
[null,null,null,null,null,null,null,null,null,null,null,null,"",""]
[null,null,null,null,null,null,null,null,null,null,null,null,"",""]
[null,null,null,null,null,null,null,null,null,null,null,null,"",""]
[null,null,null,null,null,null,null,null,null,null,null,null,"",""]
[null,null,null,null,null,null,null,null,null,null,null,null,"",""]
[null,null,null,null,null,null,null,null,null,null,null,null,"",""]
[null,null,null,null,null,null,null,null,null,null,null,null,"",""]
[null,null,null,null,null,null,null,null,null,null,null,null,"",""]
[null,null,null,null,null,null,null,null,null,null,null,null,"",""]
[null,null,null,null,null,null,null,null,null,null,null,null,"",""]
[null,null,null,null,null,null,null,null,null,null,null,null,"",""]
[null,null,null,null,null,null,null,null,null,null,null,null,"",""]
[null,null,null,null,null,null,null,null,null,null,null,null,"",""]
[null,null,null,null,null,null,null,null,null,null,null,null,"",""]
[null,null,null,null,null,null,null,null,null,null,null,null,"",""]
[null,null,null,null,null,null,null,null,null,null,null,null,"",""]
[null,null,null,null,null,null,null,null,null,null,null,null,"",""]
[null,null,null,null,null,null,null,null,null,null,null,null,"",""]
[null,null,null,null,null,null,null,null,null,null,null,null,"",""]
[null,null,null,null,null,null,null,null,null,null,null,null,"",""]
[null,null,null,null,null,null,null,null,null,null,null,null,"",""]
[null,null,null,null,null,null,null,null,null,null,null,null,"",""]
[null,null,null,null,null,null,null,null,null,null,null,null,"",""]
[null,null,null,null,null,null,null,null,null,null,null,null,"",""]
[null,null,null,null,null,null,null,null,null,null,null,null,"",""]
[null,null,null,null,null,null,null,null,null,null,null,null,"",""]
[null,null,null,null,null,null,null,null,null,null,null,null,"",""]
[null,null,null,null,null,null,null,null,null,null,null,null,"",""]
[null,null,null,null,null,null,null,null,null,null,null,null,"",""]
[null,null,null,null,null,null,null,null,null,null,null,null,"",""]
[null,null,null,null,null,null,null,null,null,null,null,null,"",""]
[null,null,null,null,null,null,null,null,null,null,null,null,"",""]
[null,null,null,null,null,null,null,null,null,null,null,null,"",""]
[null,null,null,null,null,null,null,null,null,null,null,null,"",""]
[null,null,null,null,null,null,null,null,null,null,null,null,"",""]
[null,null,null,null,null,null,null,null,null,null,null,null,"",""]
[null,null,null,null,null,null,null,null,null,null,null,null,"",""]
[null,null,null,null,null,null,null,null,null,null,null,null,"",""]
[null,null,null,null,null,null,null,null,null,null,null,null,"",""]
[null,null,null,null,null,null,null,null,null,null,null,null,"",""]
[null,null,null,null,null,null,null,null,null,null,null,null,"",""]
[null,null,null,null,null,null,null,null,null,null,null,null,"",""]
[null,null,null,null,null,null,null,null,null,null,null,null,"",""]
[null,null,null,null,null,null,null,null,null,null,null,null,"",""]
[null,null,null,null,null,null,null,null,null,null,null,null,"",""]
[null,null,null,null,null,null,null,null,null,null,null,null,"",""]
[null,null,null,null,null,null,null,null,null,null,null,null,"",""]
[null,null,null,null,null,null,null,null,null,null,null,null,"",""]
[null,null,null,null,null,null,null,null,null,null,null,null,"",""]
[null,null,null,null,null,null,null,null,null,null,null,null,"",""]
[null,null,null,null,null,null,null,null,null,null,null,null,"",""]
[null,null,null,null,null,null,null,null,null,null,null,null,"",""]
[null,null,null,null,null,null,null,null,null,null,null,null,"",""]
[null,null,null,null,null,null,null,null,null,null,null,null,{"$f":"IF(L3499=\"\",\"\",L3499/N3498)","v":""},{"$f":"IF(L3499=\"\",\"\",L3499+N3498)","v":""}]
[null,null,null,null,null,null,null,null,null,null,null,null,"",""]
[null,null,null,null,null,null,null,null,null,null,null,null,"",""]
[null,null,null,null,null,null,null,null,null,null,null,null,"",""]
[null,null,null,null,null,null,null,null,null,null,null,null,"",""]
[null,null,null,null,null,null,null,null,null,null,null,null,"",""]
[null,null,null,null,null,null,null,null,null,null,null,null,"",""]
[null,null,null,null,null,null,null,null,null,null,null,null,"",""]
[null,null,null,null,null,null,null,null,null,null,null,null,"",""]
[null,null,null,null,null,null,null,null,null,null,null,null,"",""]
[null,null,null,null,null,null,null,null,null,null,null,null,"",""]
[null,null,null,null,null,null,null,null,null,null,null,null,"",""]
[null,null,null,null,null,null,null,null,null,null,null,null,"",""]
[null,null,null,null,null,null,null,null,null,null,null,null,"",""]
[null,null,null,null,null,null,null,null,null,null,null,null,"",""]
[null,null,null,null,null,null,null,null,null,null,null,null,"",""]
[null,null,null,null,null,null,null,null,null,null,null,null,"",""]
[null,null,null,null,null,null,null,null,null,null,null,null,"",""]
[null,null,null,null,null,null,null,null,null,null,null,null,"",""]
[null,null,null,null,null,null,null,null,null,null,null,null,"",""]
[null,null,null,null,null,null,null,null,null,null,null,null,"",""]
[null,null,null,null,null,null,null,null,null,null,null,null,"",""]
[null,null,null,null,null,null,null,null,null,null,null,null,"",""]
[null,null,null,null,null,null,null,null,null,null,null,null,"",""]
[null,null,null,null,null,null,null,null,null,null,null,null,"",""]
[null,null,null,null,null,null,null,null,null,null,null,null,"",""]
[null,null,null,null,null,null,null,null,null,null,null,null,"",""]
[null,null,null,null,null,null,null,null,null,null,null,null,"",""]
[null,null,null,null,null,null,null,null,null,null,null,null,"",""]
[null,null,null,null,null,null,null,null,null,null,null,null,"",""]
[null,null,null,null,null,null,null,null,null,null,null,null,"",""]
[null,null,null,null,null,null,null,null,null,null,null,null,"",""]
[null,null,null,null,null,null,null,null,null,null,null,null,"",""]
[null,null,null,null,null,null,null,null,null,null,null,null,"",""]
[null,null,null,null,null,null,null,null,null,null,null,null,"",""]
[null,null,null,null,null,null,null,null,null,null,null,null,"",""]
[null,null,null,null,null,null,null,null,null,null,null,null,"",""]
[null,null,null,null,null,null,null,null,null,null,null,null,"",""]
[null,null,null,null,null,null,null,null,null,null,null,null,"",""]
[null,null,null,null,null,null,null,null,null,null,null,null,"",""]
[null,null,null,null,null,null,null,null,null,null,null,null,"",""]
[null,null,null,null,null,null,null,null,null,null,null,null,"",""]
[null,null,null,null,null,null,null,null,null,null,null,null,"",""]
[null,null,null,null,null,null,null,null,null,null,null,null,"",""]
[null,null,null,null,null,null,null,null,null,null,null,null,"",""]
[null,null,null,null,null,null,null,null,null,null,null,null,"",""]
[null,null,null,null,null,null,null,null,null,null,null,null,"",""]
[null,null,null,null,null,null,null,null,null,null,null,null,"",""]
[null,null,null,null,null,null,null,null,null,null,null,null,"",""]
[null,null,null,null,null,null,null,null,null,null,null,null,"",""]
[null,null,null,null,null,null,null,null,null,null,null,null,"",""]
[null,null,null,null,null,null,null,null,null,null,null,null,"",""]
[null,null,null,null,null,null,null,null,null,null,null,null,"",""]
[null,null,null,null,null,null,null,null,null,null,null,null,"",""]
[null,null,null,null,null,null,null,null,null,null,null,null,"",""]
[null,null,null,null,null,null,null,null,null,null,null,null,"",""]
[null,null,null,null,null,null,null,null,null,null,null,null,"",""]
[null,null,null,null,null,null,null,null,null,null,null,null,"",""]
[null,null,null,null,null,null,null,null,null,null,null,null,"",""]
[null,null,null,null,null,null,null,null,null,null,null,null,"",""]
[null,null,null,null,null,null,null,null,null,null,null,null,"",""]
[null,null,null,null,null,null,null,null,null,null,null,null,"",""]
[null,null,null,null,null,null,null,null,null,null,null,null,"",""]
[null,null,null,null,null,null,null,null,null,null,null,null,"",""]
[null,null,null,null,null,null,null,null,null,null,null,null,{"$f":"IF(L3563=\"\",\"\",L3563/N3562)","v":""},{"$f":"IF(L3563=\"\",\"\",L3563+N3562)","v":""}]
[null,null,null,null,null,null,null,null,null,null,null,null,"",""]
[null,null,null,null,null,null,null,null,null,null,null,null,"",""]
[null,null,null,null,null,null,null,null,null,null,null,null,"",""]
[null,null,null,null,null,null,null,null,null,null,null,null,"",""]
[null,null,null,null,null,null,null,null,null,null,null,null,"",""]
[null,null,null,null,null,null,null,null,null,null,null,null,"",""]
[null,null,null,null,null,null,null,null,null,null,null,null,"",""]
[null,null,null,null,null,null,null,null,null,null,null,null,"",""]
[null,null,null,null,null,null,null,null,null,null,null,null,"",""]
[null,null,null,null,null,null,null,null,null,null,null,null,"",""]
[null,null,null,null,null,null,null,null,null,null,null,null,"",""]
[null,null,null,null,null,null,null,null,null,null,null,null,"",""]
[null,null,null,null,null,null,null,null,null,null,null,null,"",""]
[null,null,null,null,null,null,null,null,null,null,null,null,"",""]
[null,null,null,null,null,null,null,null,null,null,null,null,"",""]
[null,null,null,null,null,null,null,null,null,null,null,null,"",""]
[null,null,null,null,null,null,null,null,null,null,null,null,"",""]
[null,null,null,null,null,null,null,null,null,null,null,null,"",""]
[null,null,null,null,null,null,null,null,null,null,null,null,"",""]
[null,null,null,null,null,null,null,null,null,null,null,null,"",""]
[null,null,null,null,null,null,null,null,null,null,null,null,"",""]
[null,null,null,null,null,null,null,null,null,null,null,null,"",""]
[null,null,null,null,null,null,null,null,null,null,null,null,"",""]
[null,null,null,null,null,null,null,null,null,null,null,null,"",""]
[null,null,null,null,null,null,null,null,null,null,null,null,"",""]
[null,null,null,null,null,null,null,null,null,null,null,null,"",""]
[null,null,null,null,null,null,null,null,null,null,null,null,"",""]
[null,null,null,null,null,null,null,null,null,null,null,null,"",""]
[null,null,null,null,null,null,null,null,null,null,null,null,"",""]
[null,null,null,null,null,null,null,null,null,null,null,null,"",""]
[null,null,null,null,null,null,null,null,null,null,null,null,"",""]
[null,null,null,null,null,null,null,null,null,null,null,null,"",""]
[null,null,null,null,null,null,null,null,null,null,null,null,"",""]
[null,null,null,null,null,null,null,null,null,null,null,null,"",""]
[null,null,null,null,null,null,null,null,null,null,null,null,"",""]
[null,null,null,null,null,null,null,null,null,null,null,null,"",""]
[null,null,null,null,null,null,null,null,null,null,null,null,"",""]
[null,null,null,null,null,null,null,null,null,null,null,null,"",""]
[null,null,null,null,null,null,null,null,null,null,null,null,"",""]
[null,null,null,null,null,null,null,null,null,null,null,null,"",""]
[null,null,null,null,null,null,null,null,null,null,null,null,"",""]
[null,null,null,null,null,null,null,null,null,null,null,null,"",""]
[null,null,null,null,null,null,null,null,null,null,null,null,"",""]
[null,null,null,null,null,null,null,null,null,null,null,null,"",""]
[null,null,null,null,null,null,null,null,null,null,null,null,"",""]
[null,null,null,null,null,null,null,null,null,null,null,null,"",""]
[null,null,null,null,null,null,null,null,null,null,null,null,"",""]
[null,null,null,null,null,null,null,null,null,null,null,null,"",""]
[null,null,null,null,null,null,null,null,null,null,null,null,"",""]
[null,null,null,null,null,null,null,null,null,null,null,null,"",""]
[null,null,null,null,null,null,null,null,null,null,null,null,"",""]
[null,null,null,null,null,null,null,null,null,null,null,null,"",""]
[null,null,null,null,null,null,null,null,null,null,null,null,"",""]
[null,null,null,null,null,null,null,null,null,null,null,null,"",""]
[null,null,null,null,null,null,null,null,null,null,null,null,"",""]
[null,null,null,null,null,null,null,null,null,null,null,null,"",""]
[null,null,null,null,null,null,null,null,null,null,null,null,"",""]
[null,null,null,null,null,null,null,null,null,null,null,null,"",""]
[null,null,null,null,null,null,null,null,null,null,null,null,"",""]
[null,null,null,null,null,null,null,null,null,null,null,null,"",""]
[null,null,null,null,null,null,null,null,null,null,null,null,"",""]
[null,null,null,null,null,null,null,null,null,null,null,null,"",""]
[null,null,null,null,null,null,null,null,null,null,null,null,"",""]
[null,null,null,null,null,null,null,null,null,null,null,null,{"$f":"IF(L3627=\"\",\"\",L3627/N3626)","v":""},{"$f":"IF(L3627=\"\",\"\",L3627+N3626)","v":""}]
[null,null,null,null,null,null,null,null,null,null,null,null,"",""]
[null,null,null,null,null,null,null,null,null,null,null,null,"",""]
[null,null,null,null,null,null,null,null,null,null,null,null,"",""]
[null,null,null,null,null,null,null,null,null,null,null,null,"",""]
[null,null,null,null,null,null,null,null,null,null,null,null,"",""]
[null,null,null,null,null,null,null,null,null,null,null,null,"",""]
[null,null,null,null,null,null,null,null,null,null,null,null,"",""]
[null,null,null,null,null,null,null,null,null,null,null,null,"",""]
[null,null,null,null,null,null,null,null,null,null,null,null,"",""]
[null,null,null,null,null,null,null,null,null,null,null,null,"",""]
[null,null,null,null,null,null,null,null,null,null,null,null,"",""]
[null,null,null,null,null,null,null,null,null,null,null,null,"",""]
[null,null,null,null,null,null,null,null,null,null,null,null,"",""]
[null,null,null,null,null,null,null,null,null,null,null,null,"",""]
[null,null,null,null,null,null,null,null,null,null,null,null,"",""]
[null,null,null,null,null,null,null,null,null,null,null,null,"",""]
[null,null,null,null,null,null,null,null,null,null,null,null,"",""]
[null,null,null,null,null,null,null,null,null,null,null,null,"",""]
[null,null,null,null,null,null,null,null,null,null,null,null,"",""]
[null,null,null,null,null,null,null,null,null,null,null,null,"",""]
[null,null,null,null,null,null,null,null,null,null,null,null,"",""]
[null,null,null,null,null,null,null,null,null,null,null,null,"",""]
[null,null,null,null,null,null,null,null,null,null,null,null,"",""]
[null,null,null,null,null,null,null,null,null,null,null,null,"",""]
[null,null,null,null,null,null,null,null,null,null,null,null,"",""]
[null,null,null,null,null,null,null,null,null,null,null,null,"",""]
[null,null,null,null,null,null,null,null,null,null,null,null,"",""]
[null,null,null,null,null,null,null,null,null,null,null,null,"",""]
[null,null,null,null,null,null,null,null,null,null,null,null,"",""]
[null,null,null,null,null,null,null,null,null,null,null,null,"",""]
[null,null,null,null,null,null,null,null,null,null,null,null,"",""]
[null,null,null,null,null,null,null,null,null,null,null,null,"",""]
[null,null,null,null,null,null,null,null,null,null,null,null,"",""]
[null,null,null,null,null,null,null,null,null,null,null,null,"",""]
[null,null,null,null,null,null,null,null,null,null,null,null,"",""]
[null,null,null,null,null,null,null,null,null,null,null,null,"",""]
[null,null,null,null,null,null,null,null,null,null,null,null,"",""]
[null,null,null,null,null,null,null,null,null,null,null,null,"",""]
[null,null,null,null,null,null,null,null,null,null,null,null,"",""]
[null,null,null,null,null,null,null,null,null,null,null,null,"",""]
[null,null,null,null,null,null,null,null,null,null,null,null,"",""]
[null,null,null,null,null,null,null,null,null,null,null,null,"",""]
[null,null,null,null,null,null,null,null,null,null,null,null,"",""]
[null,null,null,null,null,null,null,null,null,null,null,null,"",""]
[null,null,null,null,null,null,null,null,null,null,null,null,"",""]
[null,null,null,null,null,null,null,null,null,null,null,null,"",""]
[null,null,null,null,null,null,null,null,null,null,null,null,"",""]
[null,null,null,null,null,null,null,null,null,null,null,null,"",""]
[null,null,null,null,null,null,null,null,null,null,null,null,"",""]
[null,null,null,null,null,null,null,null,null,null,null,null,"",""]
[null,null,null,null,null,null,null,null,null,null,null,null,"",""]
[null,null,null,null,null,null,null,null,null,null,null,null,"",""]
[null,null,null,null,null,null,null,null,null,null,null,null,"",""]
[null,null,null,null,null,null,null,null,null,null,null,null,"",""]
[null,null,null,null,null,null,null,null,null,null,null,null,"",""]
[null,null,null,null,null,null,null,null,null,null,null,null,"",""]
[null,null,null,null,null,null,null,null,null,null,null,null,"",""]
[null,null,null,null,null,null,null,null,null,null,null,null,"",""]
[null,null,null,null,null,null,null,null,null,null,null,null,"",""]
[null,null,null,null,null,null,null,null,null,null,null,null,"",""]
[null,null,null,null,null,null,null,null,null,null,null,null,"",""]
[null,null,null,null,null,null,null,null,null,null,null,null,"",""]
[null,null,null,null,null,null,null,null,null,null,null,null,"",""]
[null,null,null,null,null,null,null,null,null,null,null,null,{"$f":"IF(L3691=\"\",\"\",L3691/N3690)","v":""},{"$f":"IF(L3691=\"\",\"\",L3691+N3690)","v":""}]
[null,null,null,null,null,null,null,null,null,null,null,null,"",""]
[null,null,null,null,null,null,null,null,null,null,null,null,"",""]
[null,null,null,null,null,null,null,null,null,null,null,null,"",""]
[null,null,null,null,null,null,null,null,null,null,null,null,"",""]
[null,null,null,null,null,null,null,null,null,null,null,null,"",""]
[null,null,null,null,null,null,null,null,null,null,null,null,"",""]
[null,null,null,null,null,null,null,null,null,null,null,null,"",""]
[null,null,null,null,null,null,null,null,null,null,null,null,"",""]
[null,null,null,null,null,null,null,null,null,null,null,null,"",""]
[null,null,null,null,null,null,null,null,null,null,null,null,"",""]
[null,null,null,null,null,null,null,null,null,null,null,null,"",""]
[null,null,null,null,null,null,null,null,null,null,null,null,"",""]
[null,null,null,null,null,null,null,null,null,null,null,null,"",""]
[null,null,null,null,null,null,null,null,null,null,null,null,"",""]
[null,null,null,null,null,null,null,null,null,null,null,null,"",""]
[null,null,null,null,null,null,null,null,null,null,null,null,"",""]
[null,null,null,null,null,null,null,null,null,null,null,null,"",""]
[null,null,null,null,null,null,null,null,null,null,null,null,"",""]
[null,null,null,null,null,null,null,null,null,null,null,null,"",""]
[null,null,null,null,null,null,null,null,null,null,null,null,"",""]
[null,null,null,null,null,null,null,null,null,null,null,null,"",""]
[null,null,null,null,null,null,null,null,null,null,null,null,"",""]
[null,null,null,null,null,null,null,null,null,null,null,null,"",""]
[null,null,null,null,null,null,null,null,null,null,null,null,"",""]
[null,null,null,null,null,null,null,null,null,null,null,null,"",""]
[null,null,null,null,null,null,null,null,null,null,null,null,"",""]
[null,null,null,null,null,null,null,null,null,null,null,null,"",""]
[null,null,null,null,null,null,null,null,null,null,null,null,"",""]
[null,null,null,null,null,null,null,null,null,null,null,null,"",""]
[null,null,null,null,null,null,null,null,null,null,null,null,"",""]
[null,null,null,null,null,null,null,null,null,null,null,null,"",""]
[null,null,null,null,null,null,null,null,null,null,null,null,"",""]
[null,null,null,null,null,null,null,null,null,null,null,null,"",""]
[null,null,null,null,null,null,null,null,null,null,null,null,"",""]
[null,null,null,null,null,null,null,null,null,null,null,null,"",""]
[null,null,null,null,null,null,null,null,null,null,null,null,"",""]
[null,null,null,null,null,null,null,null,null,null,null,null,"",""]
[null,null,null,null,null,null,null,null,null,null,null,null,"",""]
[null,null,null,null,null,null,null,null,null,null,null,null,"",""]
[null,null,null,null,null,null,null,null,null,null,null,null,"",""]
[null,null,null,null,null,null,null,null,null,null,null,null,"",""]
[null,null,null,null,null,null,null,null,null,null,null,null,"",""]
[null,null,null,null,null,null,null,null,null,null,null,null,"",""]
[null,null,null,null,null,null,null,null,null,null,null,null,"",""]
[null,null,null,null,null,null,null,null,null,null,null,null,"",""]
[null,null,null,null,null,null,null,null,null,null,null,null,"",""]
[null,null,null,null,null,null,null,null,null,null,null,null,"",""]
[null,null,null,null,null,null,null,null,null,null,null,null,"",""]
[null,null,null,null,null,null,null,null,null,null,null,null,"",""]
[null,null,null,null,null,null,null,null,null,null,null,null,"",""]
[null,null,null,null,null,null,null,null,null,null,null,null,"",""]
[null,null,null,null,null,null,null,null,null,null,null,null,"",""]
[null,null,null,null,null,null,null,null,null,null,null,null,"",""]
[null,null,null,null,null,null,null,null,null,null,null,null,"",""]
[null,null,null,null,null,null,null,null,null,null,null,null,"",""]
[null,null,null,null,null,null,null,null,null,null,null,null,"",""]
[null,null,null,null,null,null,null,null,null,null,null,null,"",""]
[null,null,null,null,null,null,null,null,null,null,null,null,"",""]
[null,null,null,null,null,null,null,null,null,null,null,null,"",""]
[null,null,null,null,null,null,null,null,null,null,null,null,"",""]
[null,null,null,null,null,null,null,null,null,null,null,null,"",""]
[null,null,null,null,null,null,null,null,null,null,null,null,"",""]
[null,null,null,null,null,null,null,null,null,null,null,null,"",""]
[null,null,null,null,null,null,null,null,null,null,null,null,{"$f":"IF(L3755=\"\",\"\",L3755/N3754)","v":""},{"$f":"IF(L3755=\"\",\"\",L3755+N3754)","v":""}]
[null,null,null,null,null,null,null,null,null,null,null,null,"",""]
[null,null,null,null,null,null,null,null,null,null,null,null,"",""]
[null,null,null,null,null,null,null,null,null,null,null,null,"",""]
[null,null,null,null,null,null,null,null,null,null,null,null,"",""]
[null,null,null,null,null,null,null,null,null,null,null,null,"",""]
[null,null,null,null,null,null,null,null,null,null,null,null,"",""]
[null,null,null,null,null,null,null,null,null,null,null,null,"",""]
[null,null,null,null,null,null,null,null,null,null,null,null,"",""]
[null,null,null,null,null,null,null,null,null,null,null,null,"",""]
[null,null,null,null,null,null,null,null,null,null,null,null,"",""]
[null,null,null,null,null,null,null,null,null,null,null,null,"",""]
[null,null,null,null,null,null,null,null,null,null,null,null,"",""]
[null,null,null,null,null,null,null,null,null,null,null,null,"",""]
[null,null,null,null,null,null,null,null,null,null,null,null,"",""]
[null,null,null,null,null,null,null,null,null,null,null,null,"",""]
[null,null,null,null,null,null,null,null,null,null,null,null,"",""]
[null,null,null,null,null,null,null,null,null,null,null,null,"",""]
[null,null,null,null,null,null,null,null,null,null,null,null,"",""]
[null,null,null,null,null,null,null,null,null,null,null,null,"",""]
[null,null,null,null,null,null,null,null,null,null,null,null,"",""]
[null,null,null,null,null,null,null,null,null,null,null,null,"",""]
[null,null,null,null,null,null,null,null,null,null,null,null,"",""]
[null,null,null,null,null,null,null,null,null,null,null,null,"",""]
[null,null,null,null,null,null,null,null,null,null,null,null,"",""]
[null,null,null,null,null,null,null,null,null,null,null,null,"",""]
[null,null,null,null,null,null,null,null,null,null,null,null,"",""]
[null,null,null,null,null,null,null,null,null,null,null,null,"",""]
[null,null,null,null,null,null,null,null,null,null,null,null,"",""]
[null,null,null,null,null,null,null,null,null,null,null,null,"",""]
[null,null,null,null,null,null,null,null,null,null,null,null,"",""]
[null,null,null,null,null,null,null,null,null,null,null,null,"",""]
[null,null,null,null,null,null,null,null,null,null,null,null,"",""]
[null,null,null,null,null,null,null,null,null,null,null,null,"",""]
[null,null,null,null,null,null,null,null,null,null,null,null,"",""]
[null,null,null,null,null,null,null,null,null,null,null,null,"",""]
[null,null,null,null,null,null,null,null,null,null,null,null,"",""]
[null,null,null,null,null,null,null,null,null,null,null,null,"",""]
[null,null,null,null,null,null,null,null,null,null,null,null,"",""]
[null,null,null,null,null,null,null,null,null,null,null,null,"",""]
[null,null,null,null,null,null,null,null,null,null,null,null,"",""]
[null,null,null,null,null,null,null,null,null,null,null,null,"",""]
[null,null,null,null,null,null,null,null,null,null,null,null,"",""]
[null,null,null,null,null,null,null,null,null,null,null,null,"",""]
[null,null,null,null,null,null,null,null,null,null,null,null,"",""]
[null,null,null,null,null,null,null,null,null,null,null,null,"",""]
[null,null,null,null,null,null,null,null,null,null,null,null,"",""]
[null,null,null,null,null,null,null,null,null,null,null,null,"",""]
[null,null,null,null,null,null,null,null,null,null,null,null,"",""]
[null,null,null,null,null,null,null,null,null,null,null,null,"",""]
[null,null,null,null,null,null,null,null,null,null,null,null,"",""]
[null,null,null,null,null,null,null,null,null,null,null,null,"",""]
[null,null,null,null,null,null,null,null,null,null,null,null,"",""]
[null,null,null,null,null,null,null,null,null,null,null,null,"",""]
[null,null,null,null,null,null,null,null,null,null,null,null,"",""]
[null,null,null,null,null,null,null,null,null,null,null,null,"",""]
[null,null,null,null,null,null,null,null,null,null,null,null,"",""]
[null,null,null,null,null,null,null,null,null,null,null,null,"",""]
[null,null,null,null,null,null,null,null,null,null,null,null,"",""]
[null,null,null,null,null,null,null,null,null,null,null,null,"",""]
[null,null,null,null,null,null,null,null,null,null,null,null,"",""]
[null,null,null,null,null,null,null,null,null,null,null,null,"",""]
[null,null,null,null,null,null,null,null,null,null,null,null,"",""]
[null,null,null,null,null,null,null,null,null,null,null,null,"",""]
[null,null,null,null,null,null,null,null,null,null,null,null,{"$f":"IF(L3819=\"\",\"\",L3819/N3818)","v":""},{"$f":"IF(L3819=\"\",\"\",L3819+N3818)","v":""}]
[null,null,null,null,null,null,null,null,null,null,null,null,"",""]
[null,null,null,null,null,null,null,null,null,null,null,null,"",""]
[null,null,null,null,null,null,null,null,null,null,null,null,"",""]
[null,null,null,null,null,null,null,null,null,null,null,null,"",""]
[null,null,null,null,null,null,null,null,null,null,null,null,"",""]
[null,null,null,null,null,null,null,null,null,null,null,null,"",""]
[null,null,null,null,null,null,null,null,null,null,null,null,"",""]
[null,null,null,null,null,null,null,null,null,null,null,null,"",""]
[null,null,null,null,null,null,null,null,null,null,null,null,"",""]
[null,null,null,null,null,null,null,null,null,null,null,null,"",""]
[null,null,null,null,null,null,null,null,null,null,null,null,"",""]
[null,null,null,null,null,null,null,null,null,null,null,null,"",""]
[null,null,null,null,null,null,null,null,null,null,null,null,"",""]
[null,null,null,null,null,null,null,null,null,null,null,null,"",""]
[null,null,null,null,null,null,null,null,null,null,null,null,"",""]
[null,null,null,null,null,null,null,null,null,null,null,null,"",""]
[null,null,null,null,null,null,null,null,null,null,null,null,"",""]
[null,null,null,null,null,null,null,null,null,null,null,null,"",""]
[null,null,null,null,null,null,null,null,null,null,null,null,"",""]
[null,null,null,null,null,null,null,null,null,null,null,null,"",""]
[null,null,null,null,null,null,null,null,null,null,null,null,"",""]
[null,null,null,null,null,null,null,null,null,null,null,null,"",""]
[null,null,null,null,null,null,null,null,null,null,null,null,"",""]
[null,null,null,null,null,null,null,null,null,null,null,null,"",""]
[null,null,null,null,null,null,null,null,null,null,null,null,"",""]
[null,null,null,null,null,null,null,null,null,null,null,null,"",""]
[null,null,null,null,null,null,null,null,null,null,null,null,"",""]
[null,null,null,null,null,null,null,null,null,null,null,null,"",""]
[null,null,null,null,null,null,null,null,null,null,null,null,"",""]
[null,null,null,null,null,null,null,null,null,null,null,null,"",""]
[null,null,null,null,null,null,null,null,null,null,null,null,"",""]
[null,null,null,null,null,null,null,null,null,null,null,null,"",""]
[null,null,null,null,null,null,null,null,null,null,null,null,"",""]
[null,null,null,null,null,null,null,null,null,null,null,null,"",""]
[null,null,null,null,null,null,null,null,null,null,null,null,"",""]
[null,null,null,null,null,null,null,null,null,null,null,null,"",""]
[null,null,null,null,null,null,null,null,null,null,null,null,"",""]
[null,null,null,null,null,null,null,null,null,null,null,null,"",""]
[null,null,null,null,null,null,null,null,null,null,null,null,"",""]
[null,null,null,null,null,null,null,null,null,null,null,null,"",""]
[null,null,null,null,null,null,null,null,null,null,null,null,"",""]
[null,null,null,null,null,null,null,null,null,null,null,null,"",""]
[null,null,null,null,null,null,null,null,null,null,null,null,"",""]
[null,null,null,null,null,null,null,null,null,null,null,null,"",""]
[null,null,null,null,null,null,null,null,null,null,null,null,"",""]
[null,null,null,null,null,null,null,null,null,null,null,null,"",""]
[null,null,null,null,null,null,null,null,null,null,null,null,"",""]
[null,null,null,null,null,null,null,null,null,null,null,null,"",""]
[null,null,null,null,null,null,null,null,null,null,null,null,"",""]
[null,null,null,null,null,null,null,null,null,null,null,null,"",""]
[null,null,null,null,null,null,null,null,null,null,null,null,"",""]
[null,null,null,null,null,null,null,null,null,null,null,null,"",""]
[null,null,null,null,null,null,null,null,null,null,null,null,"",""]
[null,null,null,null,null,null,null,null,null,null,null,null,"",""]
[null,null,null,null,null,null,null,null,null,null,null,null,"",""]
[null,null,null,null,null,null,null,null,null,null,null,null,"",""]
[null,null,null,null,null,null,null,null,null,null,null,null,"",""]
[null,null,null,null,null,null,null,null,null,null,null,null,"",""]
[null,null,null,null,null,null,null,null,null,null,null,null,"",""]
[null,null,null,null,null,null,null,null,null,null,null,null,"",""]
[null,null,null,null,null,null,null,null,null,null,null,null,"",""]
[null,null,null,null,null,null,null,null,null,null,null,null,"",""]
[null,null,null,null,null,null,null,null,null,null,null,null,"",""]
[null,null,null,null,null,null,null,null,null,null,null,null,{"$f":"IF(L3883=\"\",\"\",L3883/N3882)","v":""},{"$f":"IF(L3883=\"\",\"\",L3883+N3882)","v":""}]
[null,null,null,null,null,null,null,null,null,null,null,null,"",""]
[null,null,null,null,null,null,null,null,null,null,null,null,"",""]
[null,null,null,null,null,null,null,null,null,null,null,null,"",""]
[null,null,null,null,null,null,null,null,null,null,null,null,"",""]
[null,null,null,null,null,null,null,null,null,null,null,null,"",""]
[null,null,null,null,null,null,null,null,null,null,null,null,"",""]
[null,null,null,null,null,null,null,null,null,null,null,null,"",""]
[null,null,null,null,null,null,null,null,null,null,null,null,"",""]
[null,null,null,null,null,null,null,null,null,null,null,null,"",""]
[null,null,null,null,null,null,null,null,null,null,null,null,"",""]
[null,null,null,null,null,null,null,null,null,null,null,null,"",""]
[null,null,null,null,null,null,null,null,null,null,null,null,"",""]
[null,null,null,null,null,null,null,null,null,null,null,null,"",""]
[null,null,null,null,null,null,null,null,null,null,null,null,"",""]
[null,null,null,null,null,null,null,null,null,null,null,null,"",""]
[null,null,null,null,null,null,null,null,null,null,null,null,"",""]
[null,null,null,null,null,null,null,null,null,null,null,null,"",""]
[null,null,null,null,null,null,null,null,null,null,null,null,"",""]
[null,null,null,null,null,null,null,null,null,null,null,null,"",""]
[null,null,null,null,null,null,null,null,null,null,null,null,"",""]
[null,null,null,null,null,null,null,null,null,null,null,null,"",""]
[null,null,null,null,null,null,null,null,null,null,null,null,"",""]
[null,null,null,null,null,null,null,null,null,null,null,null,"",""]
[null,null,null,null,null,null,null,null,null,null,null,null,"",""]
[null,null,null,null,null,null,null,null,null,null,null,null,"",""]
[null,null,null,null,null,null,null,null,null,null,null,null,"",""]
[null,null,null,null,null,null,null,null,null,null,null,null,"",""]
[null,null,null,null,null,null,null,null,null,null,null,null,"",""]
[null,null,null,null,null,null,null,null,null,null,null,null,"",""]
[null,null,null,null,null,null,null,null,null,null,null,null,"",""]
[null,null,null,null,null,null,null,null,null,null,null,null,"",""]
[null,null,null,null,null,null,null,null,null,null,null,null,"",""]
[null,null,null,null,null,null,null,null,null,null,null,null,"",""]
[null,null,null,null,null,null,null,null,null,null,null,null,"",""]
[null,null,null,null,null,null,null,null,null,null,null,null,"",""]
[null,null,null,null,null,null,null,null,null,null,null,null,"",""]
[null,null,null,null,null,null,null,null,null,null,null,null,"",""]
[null,null,null,null,null,null,null,null,null,null,null,null,"",""]
[null,null,null,null,null,null,null,null,null,null,null,null,"",""]
[null,null,null,null,null,null,null,null,null,null,null,null,"",""]
[null,null,null,null,null,null,null,null,null,null,null,null,"",""]
[null,null,null,null,null,null,null,null,null,null,null,null,"",""]
[null,null,null,null,null,null,null,null,null,null,null,null,"",""]
[null,null,null,null,null,null,null,null,null,null,null,null,"",""]
[null,null,null,null,null,null,null,null,null,null,null,null,"",""]
[null,null,null,null,null,null,null,null,null,null,null,null,"",""]
[null,null,null,null,null,null,null,null,null,null,null,null,"",""]
[null,null,null,null,null,null,null,null,null,null,null,null,"",""]
[null,null,null,null,null,null,null,null,null,null,null,null,"",""]
[null,null,null,null,null,null,null,null,null,null,null,null,"",""]
[null,null,null,null,null,null,null,null,null,null,null,null,"",""]
[null,null,null,null,null,null,null,null,null,null,null,null,"",""]
[null,null,null,null,null,null,null,null,null,null,null,null,"",""]
[null,null,null,null,null,null,null,null,null,null,null,null,"",""]
[null,null,null,null,null,null,null,null,null,null,null,null,"",""]
[null,null,null,null,null,null,null,null,null,null,null,null,"",""]
[null,null,null,null,null,null,null,null,null,null,null,null,"",""]
[null,null,null,null,null,null,null,null,null,null,null,null,"",""]
[null,null,null,null,null,null,null,null,null,null,null,null,"",""]
[null,null,null,null,null,null,null,null,null,null,null,null,"",""]
[null,null,null,null,null,null,null,null,null,null,null,null,"",""]
[null,null,null,null,null,null,null,null,null,null,null,null,"",""]
[null,null,null,null,null,null,null,null,null,null,null,null,"",""]
[null,null,null,null,null,null,null,null,null,null,null,null,{"$f":"IF(L3947=\"\",\"\",L3947/N3946)","v":""},{"$f":"IF(L3947=\"\",\"\",L3947+N3946)","v":""}]
[null,null,null,null,null,null,null,null,null,null,null,null,"",""]
[null,null,null,null,null,null,null,null,null,null,null,null,"",""]
[null,null,null,null,null,null,null,null,null,null,null,null,"",""]
[null,null,null,null,null,null,null,null,null,null,null,null,"",""]
[null,null,null,null,null,null,null,null,null,null,null,null,"",""]
[null,null,null,null,null,null,null,null,null,null,null,null,"",""]
[null,null,null,null,null,null,null,null,null,null,null,null,"",""]
[null,null,null,null,null,null,null,null,null,null,null,null,"",""]
[null,null,null,null,null,null,null,null,null,null,null,null,"",""]
[null,null,null,null,null,null,null,null,null,null,null,null,"",""]
[null,null,null,null,null,null,null,null,null,null,null,null,"",""]
[null,null,null,null,null,null,null,null,null,null,null,null,"",""]
[null,null,null,null,null,null,null,null,null,null,null,null,"",""]
[null,null,null,null,null,null,null,null,null,null,null,null,"",""]
[null,null,null,null,null,null,null,null,null,null,null,null,"",""]
[null,null,null,null,null,null,null,null,null,null,null,null,"",""]
[null,null,null,null,null,null,null,null,null,null,null,null,"",""]
[null,null,null,null,null,null,null,null,null,null,null,null,"",""]
[null,null,null,null,null,null,null,null,null,null,null,null,"",""]
[null,null,null,null,null,null,null,null,null,null,null,null,"",""]
[null,null,null,null,null,null,null,null,null,null,null,null,"",""]
[null,null,null,null,null,null,null,null,null,null,null,null,"",""]
[null,null,null,null,null,null,null,null,null,null,null,null,"",""]
[null,null,null,null,null,null,null,null,null,null,null,null,"",""]
[null,null,null,null,null,null,null,null,null,null,null,null,"",""]
[null,null,null,null,null,null,null,null,null,null,null,null,"",""]
[null,null,null,null,null,null,null,null,null,null,null,null,"",""]
[null,null,null,null,null,null,null,null,null,null,null,null,"",""]
[null,null,null,null,null,null,null,null,null,null,null,null,"",""]
[null,null,null,null,null,null,null,null,null,null,null,null,"",""]
[null,null,null,null,null,null,null,null,null,null,null,null,"",""]
[null,null,null,null,null,null,null,null,null,null,null,null,"",""]
[null,null,null,null,null,null,null,null,null,null,null,null,"",""]
[null,null,null,null,null,null,null,null,null,null,null,null,"",""]
[null,null,null,null,null,null,null,null,null,null,null,null,"",""]
[null,null,null,null,null,null,null,null,null,null,null,null,"",""]
[null,null,null,null,null,null,null,null,null,null,null,null,"",""]
[null,null,null,null,null,null,null,null,null,null,null,null,"",""]
[null,null,null,null,null,null,null,null,null,null,null,null,"",""]
[null,null,null,null,null,null,null,null,null,null,null,null,"",""]
[null,null,null,null,null,null,null,null,null,null,null,null,"",""]
[null,null,null,null,null,null,null,null,null,null,null,null,"",""]
[null,null,null,null,null,null,null,null,null,null,null,null,"",""]
[null,null,null,null,null,null,null,null,null,null,null,null,"",""]
[null,null,null,null,null,null,null,null,null,null,null,null,"",""]
[null,null,null,null,null,null,null,null,null,null,null,null,"",""]
[null,null,null,null,null,null,null,null,null,null,null,null,"",""]
[null,null,null,null,null,null,null,null,null,null,null,null,"",""]
[null,null,null,null,null,null,null,null,null,null,null,null,"",""]
[null,null,null,null,null,null,null,null,null,null,null,null,"",""]
[null,null,null,null,null,null,null,null,null,null,null,null,"",""]
[null,null,null,null,null,null,null,null,null,null,null,null,"",""]
[null,null,null,null,null,null,null,null,null,null,null,null,"",""]

{"sheet":"Deposit_Withdraw","index":3,"n_rows":370,"n_cols":24,"rows_kept":370,"cut":false,"hidden":false,"merged":[[3,2,3,6],[4,2,4,6],[8,2,8,6],[9,2,9,6],[10,2,10,6],[5,2,5,6],[6,2,6,6],[7,2,7,6],[14,2,14,6],[15,2,15,6],[16,2,16,6],[11,2,11,6],[12,2,12,6],[13,2,13,6],[20,2,20,6],[21,2,21,6],[22,2,22,6],[17,2,17,6],[18,2,18,6],[19,2,19,6],[26,2,26,6],[27,2,27,6],[28,2,28,6],[23,2,23,6],[24,2,24,6],[25,2,25,6],[32,2,32,6],[33,2,33,6],[34,2,34,6],[29,2,29,6],[30,2,30,6],[31,2,31,6],[38,2,38,6],[39,2,39,6],[40,2,40,6],[35,2,35,6],[36,2,36,6],[37,2,37,6],[44,2,44,6],[45,2,45,6],[46,2,46,6],[41,2,41,6],[42,2,42,6],[43,2,43,6],[50,2,50,6],[51,2,51,6],[52,2,52,6],[47,2,47,6],[48,2,48,6],[49,2,49,6],[56,2,56,6],[57,2,57,6],[58,2,58,6],[53,2,53,6],[54,2,54,6],[55,2,55,6],[62,2,62,6],[63,2,63,6],[64,2,64,6],[59,2,59,6],[60,2,60,6],[61,2,61,6],[68,2,68,6],[69,2,69,6],[70,2,70,6],[65,2,65,6],[66,2,66,6],[67,2,67,6],[74,2,74,6],[75,2,75,6],[76,2,76,6],[71,2,71,6],[72,2,72,6],[73,2,73,6],[80,2,80,6],[81,2,81,6],[82,2,82,6],[77,2,77,6],[78,2,78,6],[79,2,79,6],[86,2,86,6],[87,2,87,6],[88,2,88,6],[83,2,83,6],[84,2,84,6],[85,2,85,6],[92,2,92,6],[93,2,93,6],[94,2,94,6],[89,2,89,6],[90,2,90,6],[91,2,91,6],[98,2,98,6],[99,2,99,6],[100,2,100,6],[95,2,95,6],[96,2,96,6],[97,2,97,6],[104,2,104,6],[105,2,105,6],[106,2,106,6],[101,2,101,6],[102,2,102,6],[103,2,103,6],[110,2,110,6],[111,2,111,6],[112,2,112,6],[107,2,107,6],[108,2,108,6],[109,2,109,6],[116,2,116,6],[117,2,117,6],[118,2,118,6],[113,2,113,6],[114,2,114,6],[115,2,115,6],[122,2,122,6],[123,2,123,6],[124,2,124,6],[119,2,119,6],[120,2,120,6],[121,2,121,6],[128,2,128,6],[129,2,129,6],[130,2,130,6],[125,2,125,6],[126,2,126,6],[127,2,127,6],[134,2,134,6],[135,2,135,6],[136,2,136,6],[131,2,131,6],[132,2,132,6],[133,2,133,6],[140,2,140,6],[141,2,141,6],[142,2,142,6],[137,2,137,6],[138,2,138,6],[139,2,139,6],[146,2,146,6],[147,2,147,6],[148,2,148,6],[143,2,143,6],[144,2,144,6],[145,2,145,6],[152,2,152,6],[153,2,153,6],[154,2,154,6],[149,2,149,6],[150,2,150,6],[151,2,151,6],[158,2,158,6],[159,2,159,6],[160,2,160,6],[155,2,155,6],[156,2,156,6],[157,2,157,6],[164,2,164,6],[165,2,165,6],[166,2,166,6],[161,2,161,6],[162,2,162,6],[163,2,163,6],[170,2,170,6],[171,2,171,6],[172,2,172,6],[167,2,167,6],[168,2,168,6],[169,2,169,6],[176,2,176,6],[177,2,177,6],[178,2,178,6],[173,2,173,6],[174,2,174,6],[175,2,175,6],[182,2,182,6],[183,2,183,6],[184,2,184,6],[179,2,179,6],[180,2,180,6],[181,2,181,6],[188,2,188,6],[189,2,189,6],[190,2,190,6],[185,2,185,6],[186,2,186,6],[187,2,187,6],[194,2,194,6],[195,2,195,6],[196,2,196,6],[191,2,191,6],[192,2,192,6],[193,2,193,6],[200,2,200,6],[201,2,201,6],[202,2,202,6],[197,2,197,6],[198,2,198,6],[199,2,199,6],[206,2,206,6],[207,2,207,6],[208,2,208,6],[203,2,203,6],[204,2,204,6],[205,2,205,6],[212,2,212,6],[213,2,213,6],[214,2,214,6],[209,2,209,6],[210,2,210,6],[211,2,211,6],[218,2,218,6],[219,2,219,6],[220,2,220,6],[215,2,215,6],[216,2,216,6],[217,2,217,6],[224,2,224,6],[225,2,225,6],[226,2,226,6],[221,2,221,6],[222,2,222,6],[223,2,223,6],[230,2,230,6],[231,2,231,6],[232,2,232,6],[227,2,227,6],[228,2,228,6],[229,2,229,6],[236,2,236,6],[237,2,237,6],[238,2,238,6],[233,2,233,6],[234,2,234,6],[235,2,235,6],[242,2,242,6],[243,2,243,6],[244,2,244,6],[239,2,239,6],[240,2,240,6],[241,2,241,6],[248,2,248,6],[249,2,249,6],[250,2,250,6],[245,2,245,6],[246,2,246,6],[247,2,247,6],[254,2,254,6],[255,2,255,6],[256,2,256,6],[251,2,251,6],[252,2,252,6],[253,2,253,6],[260,2,260,6],[261,2,261,6],[262,2,262,6],[257,2,257,6],[258,2,258,6],[259,2,259,6],[266,2,266,6],[267,2,267,6],[268,2,268,6],[263,2,263,6],[264,2,264,6],[265,2,265,6],[272,2,272,6],[273,2,273,6],[274,2,274,6],[269,2,269,6],[270,2,270,6],[271,2,271,6],[278,2,278,6],[279,2,279,6],[280,2,280,6],[275,2,275,6],[276,2,276,6],[277,2,277,6],[284,2,284,6],[285,2,285,6],[286,2,286,6],[281,2,281,6],[282,2,282,6],[283,2,283,6],[290,2,290,6],[291,2,291,6],[292,2,292,6],[287,2,287,6],[288,2,288,6],[289,2,289,6],[296,2,296,6],[297,2,297,6],[298,2,298,6],[293,2,293,6],[294,2,294,6],[295,2,295,6],[302,2,302,6],[303,2,303,6],[304,2,304,6],[299,2,299,6],[300,2,300,6],[301,2,301,6],[308,2,308,6],[309,2,309,6],[310,2,310,6],[305,2,305,6],[306,2,306,6],[307,2,307,6],[314,2,314,6],[315,2,315,6],[316,2,316,6],[311,2,311,6],[312,2,312,6],[313,2,313,6],[320,2,320,6],[321,2,321,6],[322,2,322,6],[317,2,317,6],[318,2,318,6],[319,2,319,6],[326,2,326,6],[327,2,327,6],[328,2,328,6],[323,2,323,6],[324,2,324,6],[325,2,325,6],[332,2,332,6],[333,2,333,6],[334,2,334,6],[329,2,329,6],[330,2,330,6],[331,2,331,6],[355,2,355,6],[338,2,338,6],[339,2,339,6],[340,2,340,6],[335,2,335,6],[336,2,336,6],[337,2,337,6],[344,2,344,6],[345,2,345,6],[346,2,346,6],[341,2,341,6],[342,2,342,6],[343,2,343,6],[0,1,0,6],[1,1,1,6],[368,2,368,6],[369,2,369,6],[365,2,365,6],[366,2,366,6],[367,2,367,6],[362,2,362,6],[363,2,363,6],[364,2,364,6],[359,2,359,6],[360,2,360,6],[361,2,361,6],[350,2,350,6],[351,2,351,6],[352,2,352,6],[347,2,347,6],[348,2,348,6],[349,2,349,6],[356,2,356,6],[357,2,357,6],[358,2,358,6],[353,2,353,6],[354,2,354,6]]}
[]
[null,null,null,null,null,null,null,null,null,null,null,null,null,null,null,null,null,null,null,null,null,null,"Etichette di riga","Somma di Prelievi/Versamenti "]
[null,null,null,null,null,null,null,null,null,null,null,null,null,null,null,null,null,null,null,null,null,null,"2023-05-12",0]
[null,"DATE","MOVEMENT",null,null,null,null,"AMOUNT",null,null,null,null,null,null,null,null,null,null,null,null,null,null,"2023-06-12",0]
[{"$f":"B5","v":"2023-05-15"},{"$f":"'Daily Diary'!A3","v":"2023-05-15"},null,null,null,null,null,null,null,{"$f":"IF(C5=\"\",\"\",IF(C5=\"DEPOSIT\",1,IF(C5=\"WITHDRAW\",2)))","v":""},null,null,null,null,null,null,null,null,null,null,null,null,"2023-07-12",0]
[{"$f":"B6","v":"2023-05-16"},{"$f":"B5+1","v":"2023-05-16"},null,null,null,null,null,null,null,{"$f":"IF(C6=\"\",\"\",IF(C6=\"DEPOSIT\",1,IF(C6=\"WITHDRAW\",2)))","v":""},null,null,null,null,null,null,null,null,null,null,null,null,"2023-08-12",0]
["2023-05-17",{"$f":"B6+1","v":"2023-05-17"},null,null,null,null,null,null,null,"",null,null,null,null,null,null,null,null,null,null,null,null,"2023-09-12",0]
["2023-05-18","2023-05-18",null,null,null,null,null,null,null,"",null,null,null,null,null,null,null,null,null,null,null,null,"2023-10-12",0]
["2023-05-19","2023-05-19",null,null,null,null,null,null,null,"",null,null,null,null,null,null,null,null,null,null,null,null,"2023-11-12",0]
["2023-05-20","2023-05-20",null,null,null,null,null,null,null,"",null,null,null,null,null,null,null,null,null,null,null,null,"2023-12-12",0]
["2023-05-21","2023-05-21",null,null,null,null,null,null,null,"",null,null,null,null,null,null,null,null,null,null,null,null,"2024-01-12",0]
["2023-05-22","2023-05-22",null,null,null,null,null,null,null,"",null,null,null,null,null,null,null,null,null,null,null,null,"2024-02-12",0]
["2023-05-23","2023-05-23",null,null,null,null,null,null,null,"",null,null,null,null,null,null,null,null,null,null,null,null,"2024-03-12",0]
["2023-05-24","2023-05-24",null,null,null,null,null,null,null,"",null,null,null,null,null,null,null,null,null,null,null,null,"2024-04-12",0]
["2023-05-25","2023-05-25",null,null,null,null,null,null,null,"",null,null,null,null,null,null,null,null,null,null,null,null,"2024-05-12",0]
["2023-05-26","2023-05-26",null,null,null,null,null,null,null,"",null,null,null,null,null,null,null,null,null,null,null,null,"MOVIMENTI",0]
["2023-05-27","2023-05-27",null,null,null,null,null,null,null,""]
["2023-05-28","2023-05-28",null,null,null,null,null,null,null,""]
["2023-05-29","2023-05-29",null,null,null,null,null,null,null,""]
["2023-05-30","2023-05-30",null,null,null,null,null,null,null,""]
["2023-05-31","2023-05-31",null,null,null,null,null,null,null,""]
["2023-06-01","2023-06-01",null,null,null,null,null,null,null,""]
["2023-06-02","2023-06-02",null,null,null,null,null,null,null,""]
["2023-06-03","2023-06-03",null,null,null,null,null,null,null,""]
["2023-06-04","2023-06-04",null,null,null,null,null,null,null,""]
["2023-06-05","2023-06-05",null,null,null,null,null,null,null,""]
["2023-06-06","2023-06-06",null,null,null,null,null,null,null,""]
["2023-06-07","2023-06-07",null,null,null,null,null,null,null,""]
["2023-06-08","2023-06-08",null,null,null,null,null,null,null,""]
["2023-06-09","2023-06-09",null,null,null,null,null,null,null,""]
["2023-06-10","2023-06-10",null,null,null,null,null,null,null,""]
["2023-06-11","2023-06-11",null,null,null,null,null,null,null,""]
["2023-06-12","2023-06-12",null,null,null,null,null,null,null,""]
["2023-06-13","2023-06-13",null,null,null,null,null,null,null,""]
["2023-06-14","2023-06-14",null,null,null,null,null,null,null,""]
["2023-06-15","2023-06-15",null,null,null,null,null,null,null,""]
["2023-06-16","2023-06-16",null,null,null,null,null,null,null,""]
["2023-06-17","2023-06-17",null,null,null,null,null,null,null,""]
["2023-06-18","2023-06-18",null,null,null,null,null,null,null,""]
["2023-06-19","2023-06-19",null,null,null,null,null,null,null,""]
["2023-06-20","2023-06-20",null,null,null,null,null,null,null,""]
["2023-06-21","2023-06-21",null,null,null,null,null,null,null,""]
["2023-06-22","2023-06-22",null,null,null,null,null,null,null,""]
["2023-06-23","2023-06-23",null,null,null,null,null,null,null,""]
["2023-06-24","2023-06-24",null,null,null,null,null,null,null,""]
["2023-06-25","2023-06-25",null,null,null,null,null,null,null,""]
["2023-06-26","2023-06-26",null,null,null,null,null,null,null,""]
["2023-06-27","2023-06-27",null,null,null,null,null,null,null,""]
["2023-06-28","2023-06-28",null,null,null,null,null,null,null,""]
["2023-06-29","2023-06-29",null,null,null,null,null,null,null,""]
["2023-06-30","2023-06-30",null,null,null,null,null,null,null,""]
["2023-07-01","2023-07-01",null,null,null,null,null,null,null,""]
["2023-07-02","2023-07-02",null,null,null,null,null,null,null,""]
["2023-07-03","2023-07-03",null,null,null,null,null,null,null,""]
["2023-07-04","2023-07-04",null,null,null,null,null,null,null,""]
["2023-07-05","2023-07-05",null,null,null,null,null,null,null,""]
["2023-07-06","2023-07-06",null,null,null,null,null,null,null,""]
["2023-07-07","2023-07-07",null,null,null,null,null,null,null,""]
["2023-07-08","2023-07-08",null,null,null,null,null,null,null,""]
["2023-07-09","2023-07-09",null,null,null,null,null,null,null,""]
["2023-07-10","2023-07-10",null,null,null,null,null,null,null,""]
["2023-07-11","2023-07-11",null,null,null,null,null,null,null,""]
["2023-07-12","2023-07-12",null,null,null,null,null,null,null,""]
["2023-07-13","2023-07-13",null,null,null,null,null,null,null,""]
["2023-07-14","2023-07-14",null,null,null,null,null,null,null,""]
["2023-07-15","2023-07-15",null,null,null,null,null,null,null,""]
["2023-07-16","2023-07-16",null,null,null,null,null,null,null,""]
["2023-07-17","2023-07-17",null,null,null,null,null,null,null,""]
["2023-07-18","2023-07-18",null,null,null,null,null,null,null,""]
[{"$f":"B70","v":"2023-07-19"},"2023-07-19",null,null,null,null,null,null,null,{"$f":"IF(C70=\"\",\"\",IF(C70=\"DEPOSIT\",1,IF(C70=\"WITHDRAW\",2)))","v":""}]
["2023-07-20",{"$f":"B70+1","v":"2023-07-20"},null,null,null,null,null,null,null,""]
["2023-07-21","2023-07-21",null,null,null,null,null,null,null,""]
["2023-07-22","2023-07-22",null,null,null,null,null,null,null,""]
["2023-07-23","2023-07-23",null,null,null,null,null,null,null,""]
["2023-07-24","2023-07-24",null,null,null,null,null,null,null,""]
["2023-07-25","2023-07-25",null,null,null,null,null,null,null,""]
["2023-07-26","2023-07-26",null,null,null,null,null,null,null,""]
["2023-07-27","2023-07-27",null,null,null,null,null,null,null,""]
["2023-07-28","2023-07-28",null,null,null,null,null,null,null,""]
["2023-07-29","2023-07-29",null,null,null,null,null,null,null,""]
["2023-07-30","2023-07-30",null,null,null,null,null,null,null,""]
["2023-07-31","2023-07-31",null,null,null,null,null,null,null,""]
["2023-08-01","2023-08-01",null,null,null,null,null,null,null,""]
["2023-08-02","2023-08-02",null,null,null,null,null,null,null,""]
["2023-08-03","2023-08-03",null,null,null,null,null,null,null,""]
["2023-08-04","2023-08-04",null,null,null,null,null,null,null,""]
["2023-08-05","2023-08-05",null,null,null,null,null,null,null,""]
["2023-08-06","2023-08-06",null,null,null,null,null,null,null,""]
["2023-08-07","2023-08-07",null,null,null,null,null,null,null,""]
["2023-08-08","2023-08-08",null,null,null,null,null,null,null,""]
["2023-08-09","2023-08-09",null,null,null,null,null,null,null,""]
["2023-08-10","2023-08-10",null,null,null,null,null,null,null,""]
["2023-08-11","2023-08-11",null,null,null,null,null,null,null,""]
["2023-08-12","2023-08-12",null,null,null,null,null,null,null,""]
["2023-08-13","2023-08-13",null,null,null,null,null,null,null,""]
["2023-08-14","2023-08-14",null,null,null,null,null,null,null,""]
["2023-08-15","2023-08-15",null,null,null,null,null,null,null,""]
["2023-08-16","2023-08-16",null,null,null,null,null,null,null,""]
["2023-08-17","2023-08-17",null,null,null,null,null,null,null,""]
["2023-08-18","2023-08-18",null,null,null,null,null,null,null,""]
["2023-08-19","2023-08-19",null,null,null,null,null,null,null,""]
["2023-08-20","2023-08-20",null,null,null,null,null,null,null,""]
["2023-08-21","2023-08-21",null,null,null,null,null,null,null,""]
["2023-08-22","2023-08-22",null,null,null,null,null,null,null,""]
["2023-08-23","2023-08-23",null,null,null,null,null,null,null,""]
["2023-08-24","2023-08-24",null,null,null,null,null,null,null,""]
["2023-08-25","2023-08-25",null,null,null,null,null,null,null,""]
["2023-08-26","2023-08-26",null,null,null,null,null,null,null,""]
["2023-08-27","2023-08-27",null,null,null,null,null,null,null,""]
["2023-08-28","2023-08-28",null,null,null,null,null,null,null,""]
["2023-08-29","2023-08-29",null,null,null,null,null,null,null,""]
["2023-08-30","2023-08-30",null,null,null,null,null,null,null,""]
["2023-08-31","2023-08-31",null,null,null,null,null,null,null,""]
["2023-09-01","2023-09-01",null,null,null,null,null,null,null,""]
["2023-09-02","2023-09-02",null,null,null,null,null,null,null,""]
["2023-09-03","2023-09-03",null,null,null,null,null,null,null,""]
["2023-09-04","2023-09-04",null,null,null,null,null,null,null,""]
["2023-09-05","2023-09-05",null,null,null,null,null,null,null,""]
["2023-09-06","2023-09-06",null,null,null,null,null,null,null,""]
["2023-09-07","2023-09-07",null,null,null,null,null,null,null,""]
["2023-09-08","2023-09-08",null,null,null,null,null,null,null,""]
["2023-09-09","2023-09-09",null,null,null,null,null,null,null,""]
["2023-09-10","2023-09-10",null,null,null,null,null,null,null,""]
["2023-09-11","2023-09-11",null,null,null,null,null,null,null,""]
["2023-09-12","2023-09-12",null,null,null,null,null,null,null,""]
["2023-09-13","2023-09-13",null,null,null,null,null,null,null,""]
["2023-09-14","2023-09-14",null,null,null,null,null,null,null,""]
["2023-09-15","2023-09-15",null,null,null,null,null,null,null,""]
["2023-09-16","2023-09-16",null,null,null,null,null,null,null,""]
["2023-09-17","2023-09-17",null,null,null,null,null,null,null,""]
["2023-09-18","2023-09-18",null,null,null,null,null,null,null,""]
["2023-09-19","2023-09-19",null,null,null,null,null,null,null,""]
["2023-09-20","2023-09-20",null,null,null,null,null,null,null,""]
[{"$f":"B134","v":"2023-09-21"},"2023-09-21",null,null,null,null,null,null,null,{"$f":"IF(C134=\"\",\"\",IF(C134=\"DEPOSIT\",1,IF(C134=\"WITHDRAW\",2)))","v":""}]
["2023-09-22",{"$f":"B134+1","v":"2023-09-22"},null,null,null,null,null,null,null,""]
["2023-09-23","2023-09-23",null,null,null,null,null,null,null,""]
["2023-09-24","2023-09-24",null,null,null,null,null,null,null,""]
["2023-09-25","2023-09-25",null,null,null,null,null,null,null,""]
["2023-09-26","2023-09-26",null,null,null,null,null,null,null,""]
["2023-09-27","2023-09-27",null,null,null,null,null,null,null,""]
["2023-09-28","2023-09-28",null,null,null,null,null,null,null,""]
["2023-09-29","2023-09-29",null,null,null,null,null,null,null,""]
["2023-09-30","2023-09-30",null,null,null,null,null,null,null,""]
["2023-10-01","2023-10-01",null,null,null,null,null,null,null,""]
["2023-10-02","2023-10-02",null,null,null,null,null,null,null,""]
["2023-10-03","2023-10-03",null,null,null,null,null,null,null,""]
["2023-10-04","2023-10-04",null,null,null,null,null,null,null,""]
["2023-10-05","2023-10-05",null,null,null,null,null,null,null,""]
["2023-10-06","2023-10-06",null,null,null,null,null,null,null,""]
["2023-10-07","2023-10-07",null,null,null,null,null,null,null,""]
["2023-10-08","2023-10-08",null,null,null,null,null,null,null,""]
["2023-10-09","2023-10-09",null,null,null,null,null,null,null,""]
["2023-10-10","2023-10-10",null,null,null,null,null,null,null,""]
["2023-10-11","2023-10-11",null,null,null,null,null,null,null,""]
["2023-10-12","2023-10-12",null,null,null,null,null,null,null,""]
["2023-10-13","2023-10-13",null,null,null,null,null,null,null,""]
["2023-10-14","2023-10-14",null,null,null,null,null,null,null,""]
["2023-10-15","2023-10-15",null,null,null,null,null,null,null,""]
["2023-10-16","2023-10-16",null,null,null,null,null,null,null,""]
["2023-10-17","2023-10-17",null,null,null,null,null,null,null,""]
["2023-10-18","2023-10-18",null,null,null,null,null,null,null,""]
["2023-10-19","2023-10-19",null,null,null,null,null,null,null,""]
["2023-10-20","2023-10-20",null,null,null,null,null,null,null,""]
["2023-10-21","2023-10-21",null,null,null,null,null,null,null,""]
["2023-10-22","2023-10-22",null,null,null,null,null,null,null,""]
["2023-10-23","2023-10-23",null,null,null,null,null,null,null,""]
["2023-10-24","2023-10-24",null,null,null,null,null,null,null,""]
["2023-10-25","2023-10-25",null,null,null,null,null,null,null,""]
["2023-10-26","2023-10-26",null,null,null,null,null,null,null,""]
["2023-10-27","2023-10-27",null,null,null,null,null,null,null,""]
["2023-10-28","2023-10-28",null,null,null,null,null,null,null,""]
["2023-10-29","2023-10-29",null,null,null,null,null,null,null,""]
["2023-10-30","2023-10-30",null,null,null,null,null,null,null,""]
["2023-10-31","2023-10-31",null,null,null,null,null,null,null,""]
["2023-11-01","2023-11-01",null,null,null,null,null,null,null,""]
["2023-11-02","2023-11-02",null,null,null,null,null,null,null,""]
["2023-11-03","2023-11-03",null,null,null,null,null,null,null,""]
["2023-11-04","2023-11-04",null,null,null,null,null,null,null,""]
["2023-11-05","2023-11-05",null,null,null,null,null,null,null,""]
["2023-11-06","2023-11-06",null,null,null,null,null,null,null,""]
["2023-11-07","2023-11-07",null,null,null,null,null,null,null,""]
["2023-11-08","2023-11-08",null,null,null,null,null,null,null,""]
["2023-11-09","2023-11-09",null,null,null,null,null,null,null,""]
["2023-11-10","2023-11-10",null,null,null,null,null,null,null,""]
["2023-11-11","2023-11-11",null,null,null,null,null,null,null,""]
["2023-11-12","2023-11-12",null,null,null,null,null,null,null,""]
["2023-11-13","2023-11-13",null,null,null,null,null,null,null,""]
["2023-11-14","2023-11-14",null,null,null,null,null,null,null,""]
["2023-11-15","2023-11-15",null,null,null,null,null,null,null,""]
["2023-11-16","2023-11-16",null,null,null,null,null,null,null,""]
["2023-11-17","2023-11-17",null,null,null,null,null,null,null,""]
["2023-11-18","2023-11-18",null,null,null,null,null,null,null,""]
["2023-11-19","2023-11-19",null,null,null,null,null,null,null,""]
["2023-11-20","2023-11-20",null,null,null,null,null,null,null,""]
["2023-11-21","2023-11-21",null,null,null,null,null,null,null,""]
["2023-11-22","2023-11-22",null,null,null,null,null,null,null,""]
["2023-11-23","2023-11-23",null,null,null,null,null,null,null,""]
[{"$f":"B198","v":"2023-11-24"},"2023-11-24",null,null,null,null,null,null,null,{"$f":"IF(C198=\"\",\"\",IF(C198=\"DEPOSIT\",1,IF(C198=\"WITHDRAW\",2)))","v":""}]
["2023-11-25",{"$f":"B198+1","v":"2023-11-25"},null,null,null,null,null,null,null,""]
["2023-11-26","2023-11-26",null,null,null,null,null,null,null,""]
["2023-11-27","2023-11-27",null,null,null,null,null,null,null,""]
["2023-11-28","2023-11-28",null,null,null,null,null,null,null,""]
["2023-11-29","2023-11-29",null,null,null,null,null,null,null,""]
["2023-11-30","2023-11-30",null,null,null,null,null,null,null,""]
["2023-12-01","2023-12-01",null,null,null,null,null,null,null,""]
["2023-12-02","2023-12-02",null,null,null,null,null,null,null,""]
["2023-12-03","2023-12-03",null,null,null,null,null,null,null,""]
["2023-12-04","2023-12-04",null,null,null,null,null,null,null,""]
["2023-12-05","2023-12-05",null,null,null,null,null,null,null,""]
["2023-12-06","2023-12-06",null,null,null,null,null,null,null,""]
["2023-12-07","2023-12-07",null,null,null,null,null,null,null,""]
["2023-12-08","2023-12-08",null,null,null,null,null,null,null,""]
["2023-12-09","2023-12-09",null,null,null,null,null,null,null,""]
["2023-12-10","2023-12-10",null,null,null,null,null,null,null,""]
["2023-12-11","2023-12-11",null,null,null,null,null,null,null,""]
["2023-12-12","2023-12-12",null,null,null,null,null,null,null,""]
["2023-12-13","2023-12-13",null,null,null,null,null,null,null,""]
["2023-12-14","2023-12-14",null,null,null,null,null,null,null,""]
["2023-12-15","2023-12-15",null,null,null,null,null,null,null,""]
["2023-12-16","2023-12-16",null,null,null,null,null,null,null,""]
["2023-12-17","2023-12-17",null,null,null,null,null,null,null,""]
["2023-12-18","2023-12-18",null,null,null,null,null,null,null,""]
["2023-12-19","2023-12-19",null,null,null,null,null,null,null,""]
["2023-12-20","2023-12-20",null,null,null,null,null,null,null,""]
["2023-12-21","2023-12-21",null,null,null,null,null,null,null,""]
["2023-12-22","2023-12-22",null,null,null,null,null,null,null,""]
["2023-12-23","2023-12-23",null,null,null,null,null,null,null,""]
["2023-12-24","2023-12-24",null,null,null,null,null,null,null,""]
["2023-12-25","2023-12-25",null,null,null,null,null,null,null,""]
["2023-12-26","2023-12-26",null,null,null,null,null,null,null,""]
["2023-12-27","2023-12-27",null,null,null,null,null,null,null,""]
["2023-12-28","2023-12-28",null,null,null,null,null,null,null,""]
["2023-12-29","2023-12-29",null,null,null,null,null,null,null,""]
["2023-12-30","2023-12-30",null,null,null,null,null,null,null,""]
["2023-12-31","2023-12-31",null,null,null,null,null,null,null,""]
["2024-01-01","2024-01-01",null,null,null,null,null,null,null,""]
["2024-01-02","2024-01-02",null,null,null,null,null,null,null,""]
["2024-01-03","2024-01-03",null,null,null,null,null,null,null,""]
["2024-01-04","2024-01-04",null,null,null,null,null,null,null,""]
["2024-01-05","2024-01-05",null,null,null,null,null,null,null,""]
["2024-01-06","2024-01-06",null,null,null,null,null,null,null,""]
["2024-01-07","2024-01-07",null,null,null,null,null,null,null,""]
["2024-01-08","2024-01-08",null,null,null,null,null,null,null,""]
["2024-01-09","2024-01-09",null,null,null,null,null,null,null,""]
["2024-01-10","2024-01-10",null,null,null,null,null,null,null,""]
["2024-01-11","2024-01-11",null,null,null,null,null,null,null,""]
["2024-01-12","2024-01-12",null,null,null,null,null,null,null,""]
["2024-01-13","2024-01-13",null,null,null,null,null,null,null,""]
["2024-01-14","2024-01-14",null,null,null,null,null,null,null,""]
["2024-01-15","2024-01-15",null,null,null,null,null,null,null,""]
["2024-01-16","2024-01-16",null,null,null,null,null,null,null,""]
["2024-01-17","2024-01-17",null,null,null,null,null,null,null,""]
["2024-01-18","2024-01-18",null,null,null,null,null,null,null,""]
["2024-01-19","2024-01-19",null,null,null,null,null,null,null,""]
["2024-01-20","2024-01-20",null,null,null,null,null,null,null,""]
["2024-01-21","2024-01-21",null,null,null,null,null,null,null,""]
["2024-01-22","2024-01-22",null,null,null,null,null,null,null,""]
["2024-01-23","2024-01-23",null,null,null,null,null,null,null,""]
["2024-01-24","2024-01-24",null,null,null,null,null,null,null,""]
["2024-01-25","2024-01-25",null,null,null,null,null,null,null,""]
["2024-01-26","2024-01-26",null,null,null,null,null,null,null,""]
[{"$f":"B262","v":"2024-01-27"},"2024-01-27",null,null,null,null,null,null,null,{"$f":"IF(C262=\"\",\"\",IF(C262=\"DEPOSIT\",1,IF(C262=\"WITHDRAW\",2)))","v":""}]
["2024-01-28",{"$f":"B262+1","v":"2024-01-28"},null,null,null,null,null,null,null,""]
["2024-01-29","2024-01-29",null,null,null,null,null,null,null,""]
["2024-01-30","2024-01-30",null,null,null,null,null,null,null,""]
["2024-01-31","2024-01-31",null,null,null,null,null,null,null,""]
["2024-02-01","2024-02-01",null,null,null,null,null,null,null,""]
["2024-02-02","2024-02-02",null,null,null,null,null,null,null,""]
["2024-02-03","2024-02-03",null,null,null,null,null,null,null,""]
["2024-02-04","2024-02-04",null,null,null,null,null,null,null,""]
["2024-02-05","2024-02-05",null,null,null,null,null,null,null,""]
["2024-02-06","2024-02-06",null,null,null,null,null,null,null,""]
["2024-02-07","2024-02-07",null,null,null,null,null,null,null,""]
["2024-02-08","2024-02-08",null,null,null,null,null,null,null,""]
["2024-02-09","2024-02-09",null,null,null,null,null,null,null,""]
["2024-02-10","2024-02-10",null,null,null,null,null,null,null,""]
["2024-02-11","2024-02-11",null,null,null,null,null,null,null,""]
["2024-02-12","2024-02-12",null,null,null,null,null,null,null,""]
["2024-02-13","2024-02-13",null,null,null,null,null,null,null,""]
["2024-02-14","2024-02-14",null,null,null,null,null,null,null,""]
["2024-02-15","2024-02-15",null,null,null,null,null,null,null,""]
["2024-02-16","2024-02-16",null,null,null,null,null,null,null,""]
["2024-02-17","2024-02-17",null,null,null,null,null,null,null,""]
["2024-02-18","2024-02-18",null,null,null,null,null,null,null,""]
["2024-02-19","2024-02-19",null,null,null,null,null,null,null,""]
["2024-02-20","2024-02-20",null,null,null,null,null,null,null,""]
["2024-02-21","2024-02-21",null,null,null,null,null,null,null,""]
["2024-02-22","2024-02-22",null,null,null,null,null,null,null,""]
["2024-02-23","2024-02-23",null,null,null,null,null,null,null,""]
["2024-02-24","2024-02-24",null,null,null,null,null,null,null,""]
["2024-02-25","2024-02-25",null,null,null,null,null,null,null,""]
["2024-02-26","2024-02-26",null,null,null,null,null,null,null,""]
["2024-02-27","2024-02-27",null,null,null,null,null,null,null,""]
["2024-02-28","2024-02-28",null,null,null,null,null,null,null,""]
["2024-02-29","2024-02-29",null,null,null,null,null,null,null,""]
["2024-03-01","2024-03-01",null,null,null,null,null,null,null,""]
["2024-03-02","2024-03-02",null,null,null,null,null,null,null,""]
["2024-03-03","2024-03-03",null,null,null,null,null,null,null,""]
["2024-03-04","2024-03-04",null,null,null,null,null,null,null,""]
["2024-03-05","2024-03-05",null,null,null,null,null,null,null,""]
["2024-03-06","2024-03-06",null,null,null,null,null,null,null,""]
["2024-03-07","2024-03-07",null,null,null,null,null,null,null,""]
["2024-03-08","2024-03-08",null,null,null,null,null,null,null,""]
["2024-03-09","2024-03-09",null,null,null,null,null,null,null,""]
["2024-03-10","2024-03-10",null,null,null,null,null,null,null,""]
["2024-03-11","2024-03-11",null,null,null,null,null,null,null,""]
["2024-03-12","2024-03-12",null,null,null,null,null,null,null,""]
["2024-03-13","2024-03-13",null,null,null,null,null,null,null,""]
["2024-03-14","2024-03-14",null,null,null,null,null,null,null,""]
["2024-03-15","2024-03-15",null,null,null,null,null,null,null,""]
["2024-03-16","2024-03-16",null,null,null,null,null,null,null,""]
["2024-03-17","2024-03-17",null,null,null,null,null,null,null,""]
["2024-03-18","2024-03-18",null,null,null,null,null,null,null,""]
["2024-03-19","2024-03-19",null,null,null,null,null,null,null,""]
["2024-03-20","2024-03-20",null,null,null,null,null,null,null,""]
["2024-03-21","2024-03-21",null,null,null,null,null,null,null,""]
["2024-03-22","2024-03-22",null,null,null,null,null,null,null,""]
["2024-03-23","2024-03-23",null,null,null,null,null,null,null,""]
["2024-03-24","2024-03-24",null,null,null,null,null,null,null,""]
["2024-03-25","2024-03-25",null,null,null,null,null,null,null,""]
["2024-03-26","2024-03-26",null,null,null,null,null,null,null,""]
["2024-03-27","2024-03-27",null,null,null,null,null,null,null,""]
["2024-03-28","2024-03-28",null,null,null,null,null,null,null,""]
["2024-03-29","2024-03-29",null,null,null,null,null,null,null,""]
["2024-03-30","2024-03-30",null,null,null,null,null,null,null,""]
[{"$f":"B326","v":"2024-03-31"},"2024-03-31",null,null,null,null,null,null,null,{"$f":"IF(C326=\"\",\"\",IF(C326=\"DEPOSIT\",1,IF(C326=\"WITHDRAW\",2)))","v":""}]
["2024-04-01",{"$f":"B326+1","v":"2024-04-01"},null,null,null,null,null,null,null,""]
["2024-04-02","2024-04-02",null,null,null,null,null,null,null,""]
["2024-04-03","2024-04-03",null,null,null,null,null,null,null,""]
["2024-04-04","2024-04-04",null,null,null,null,null,null,null,""]
["2024-04-05","2024-04-05",null,null,null,null,null,null,null,""]
["2024-04-06","2024-04-06",null,null,null,null,null,null,null,""]
["2024-04-07","2024-04-07",null,null,null,null,null,null,null,""]
["2024-04-08","2024-04-08",null,null,null,null,null,null,null,""]
["2024-04-09","2024-04-09",null,null,null,null,null,null,null,""]
["2024-04-10","2024-04-10",null,null,null,null,null,null,null,""]
["2024-04-11","2024-04-11",null,null,null,null,null,null,null,""]
["2024-04-12","2024-04-12",null,null,null,null,null,null,null,""]
["2024-04-13","2024-04-13",null,null,null,null,null,null,null,""]
["2024-04-14","2024-04-14",null,null,null,null,null,null,null,""]
["2024-04-15","2024-04-15",null,null,null,null,null,null,null,""]
["2024-04-16","2024-04-16",null,null,null,null,null,null,null,""]
["2024-04-17","2024-04-17",null,null,null,null,null,null,null,""]
["2024-04-18","2024-04-18",null,null,null,null,null,null,null,""]
["2024-04-19","2024-04-19",null,null,null,null,null,null,null,""]
["2024-04-20","2024-04-20",null,null,null,null,null,null,null,""]
["2024-04-21","2024-04-21",null,null,null,null,null,null,null,""]
["2024-04-22","2024-04-22",null,null,null,null,null,null,null,""]
["2024-04-23","2024-04-23",null,null,null,null,null,null,null,""]
["2024-04-24","2024-04-24",null,null,null,null,null,null,null,""]
["2024-04-25","2024-04-25",null,null,null,null,null,null,null,""]
["2024-04-26","2024-04-26",null,null,null,null,null,null,null,""]
["2024-04-27","2024-04-27",null,null,null,null,null,null,null,""]
["2024-04-28","2024-04-28",null,null,null,null,null,null,null,""]
["2024-04-29","2024-04-29",null,null,null,null,null,null,null,""]
["2024-04-30","2024-04-30",null,null,null,null,null,null,null,""]
["2024-05-01","2024-05-01",null,null,null,null,null,null,null,""]
["2024-05-02","2024-05-02",null,null,null,null,null,null,null,""]
["2024-05-03","2024-05-03",null,null,null,null,null,null,null,""]
["2024-05-04","2024-05-04",null,null,null,null,null,null,null,""]
["2024-05-05","2024-05-05",null,null,null,null,null,null,null,""]
["2024-05-06","2024-05-06",null,null,null,null,null,null,null,""]
["2024-05-07","2024-05-07",null,null,null,null,null,null,null,""]
["2024-05-08","2024-05-08",null,null,null,null,null,null,null,""]
["2024-05-09","2024-05-09",null,null,null,null,null,null,null,""]
["2024-05-10","2024-05-10",null,null,null,null,null,null,null,""]
["2024-05-11","2024-05-11",null,null,null,null,null,null,null,""]
["2024-05-12","2024-05-12",null,null,null,null,null,null,null,""]
["2024-05-13","2024-05-13",null,null,null,null,null,null,null,""]
["2024-05-14","2024-05-14",null,null,null,null,null,null,null,""]

{"sheet":"Charts","index":4,"n_rows":0,"n_cols":0,"rows_kept":0,"cut":false,"hidden":false,"merged":[]}

{"sheet":"Calendar","index":5,"n_rows":0,"n_cols":0,"rows_kept":0,"cut":false,"hidden":false,"merged":[]}

{"sheet":"Daily Report","index":6,"n_rows":378,"n_cols":19,"rows_kept":378,"cut":false,"hidden":false,"merged":[[10,11,10,12],[10,13,10,14],[377,11,377,12],[377,13,377,14],[374,11,374,12],[374,13,374,14],[375,11,375,12],[375,13,375,14],[376,11,376,12],[376,13,376,14],[371,11,371,12],[371,13,371,14],[372,11,372,12],[372,13,372,14],[373,11,373,12],[373,13,373,14],[368,11,368,12],[368,13,368,14],[369,11,369,12],[369,13,369,14],[370,11,370,12],[370,13,370,14],[365,11,365,12],[365,13,365,14],[366,11,366,12],[366,13,366,14],[367,11,367,12],[367,13,367,14],[362,11,362,12],[362,13,362,14],[363,11,363,12],[363,13,363,14],[364,11,364,12],[364,13,364,14],[359,11,359,12],[359,13,359,14],[360,11,360,12],[360,13,360,14],[361,11,361,12],[361,13,361,14],[356,11,356,12],[356,13,356,14],[357,11,357,12],[357,13,357,14],[358,11,358,12],[358,13,358,14],[353,11,353,12],[353,13,353,14],[354,11,354,12],[354,13,354,14],[355,11,355,12],[355,13,355,14],[350,11,350,12],[350,13,350,14],[351,11,351,12],[351,13,351,14],[352,11,352,12],[352,13,352,14],[347,11,347,12],[347,13,347,14],[348,11,348,12],[348,13,348,14],[349,11,349,12],[349,13,349,14],[344,11,344,12],[344,13,344,14],[345,11,345,12],[345,13,345,14],[346,11,346,12],[346,13,346,14],[341,11,341,12],[341,13,341,14],[342,11,342,12],[342,13,342,14],[343,11,343,12],[343,13,343,14],[338,11,338,12],[338,13,338,14],[339,11,339,12],[339,13,339,14],[340,11,340,12],[340,13,340,14],[335,11,335,12],[335,13,335,14],[336,11,336,12],[336,13,336,14],[337,11,337,12],[337,13,337,14],[332,11,332,12],[332,13,332,14],[333,11,333,12],[333,13,333,14],[334,11,334,12],[334,13,334,14],[329,11,329,12],[329,13,329,14],[330,11,330,12],[330,13,330,14],[331,11,331,12],[331,13,331,14],[326,11,326,12],[326,13,326,14],[327,11,327,12],[327,13,327,14],[328,11,328,12],[328,13,328,14],[323,11,323,12],[323,13,323,14],[324,11,324,12],[324,13,324,14],[325,11,325,12],[325,13,325,14],[320,11,320,12],[320,13,320,14],[321,11,321,12],[321,13,321,14],[322,11,322,12],[322,13,322,14],[317,11,317,12],[317,13,317,14],[318,11,318,12],[318,13,318,14],[319,11,319,12],[319,13,319,14],[314,11,314,12],[314,13,314,14],[315,11,315,12],[315,13,315,14],[316,11,316,12],[316,13,316,14],[311,11,311,12],[311,13,311,14],[312,11,312,12],[312,13,312,14],[313,11,313,12],[313,13,313,14],[308,11,308,12],[308,13,308,14],[309,11,309,12],[309,13,309,14],[310,11,310,12],[310,13,310,14],[305,11,305,12],[305,13,305,14],[306,11,306,12],[306,13,306,14],[307,11,307,12],[307,13,307,14],[302,11,302,12],[302,13,302,14],[303,11,303,12],[303,13,303,14],[304,11,304,12],[304,13,304,14],[299,11,299,12],[299,13,299,14],[300,11,300,12],[300,13,300,14],[301,11,301,12],[301,13,301,14],[296,11,296,12],[296,13,296,14],[297,11,297,12],[297,13,297,14],[298,11,298,12],[298,13,298,14],[293,11,293,12],[293,13,293,14],[294,11,294,12],[294,13,294,14],[295,11,295,12],[295,13,295,14],[290,11,290,12],[290,13,290,14],[291,11,291,12],[291,13,291,14],[292,11,292,12],[292,13,292,14],[287,11,287,12],[287,13,287,14],[288,11,288,12],[288,13,288,14],[289,11,289,12],[289,13,289,14],[284,11,284,12],[284,13,284,14],[285,11,285,12],[285,13,285,14],[286,11,286,12],[286,13,286,14],[281,11,281,12],[281,13,281,14],[282,11,282,12],[282,13,282,14],[283,11,283,12],[283,13,283,14],[278,11,278,12],[278,13,278,14],[279,11,279,12],[279,13,279,14],[280,11,280,12],[280,13,280,14],[275,11,275,12],[275,13,275,14],[276,11,276,12],[276,13,276,14],[277,11,277,12],[277,13,277,14],[272,11,272,12],[272,13,272,14],[273,11,273,12],[273,13,273,14],[274,11,274,12],[274,13,274,14],[269,11,269,12],[269,13,269,14],[270,11,270,12],[270,13,270,14],[271,11,271,12],[271,13,271,14],[266,11,266,12],[266,13,266,14],[267,11,267,12],[267,13,267,14],[268,11,268,12],[268,13,268,14],[263,11,263,12],[263,13,263,14],[264,11,264,12],[264,13,264,14],[265,11,265,12],[265,13,265,14],[260,11,260,12],[260,13,260,14],[261,11,261,12],[261,13,261,14],[262,11,262,12],[262,13,262,14],[257,11,257,12],[257,13,257,14],[258,11,258,12],[258,13,258,14],[259,11,259,12],[259,13,259,14],[254,11,254,12],[254,13,254,14],[255,11,255,12],[255,13,255,14],[256,11,256,12],[256,13,256,14],[251,11,251,12],[251,13,251,14],[252,11,252,12],[252,13,252,14],[253,11,253,12],[253,13,253,14],[248,11,248,12],[248,13,248,14],[249,11,249,12],[249,13,249,14],[250,11,250,12],[250,13,250,14],[245,11,245,12],[245,13,245,14],[246,11,246,12],[246,13,246,14],[247,11,247,12],[247,13,247,14],[242,11,242,12],[242,13,242,14],[243,11,243,12],[243,13,243,14],[244,11,244,12],[244,13,244,14],[239,11,239,12],[239,13,239,14],[240,11,240,12],[240,13,240,14],[241,11,241,12],[241,13,241,14],[236,11,236,12],[236,13,236,14],[237,11,237,12],[237,13,237,14],[238,11,238,12],[238,13,238,14],[233,11,233,12],[233,13,233,14],[234,11,234,12],[234,13,234,14],[235,11,235,12],[235,13,235,14],[230,11,230,12],[230,13,230,14],[231,11,231,12],[231,13,231,14],[232,11,232,12],[232,13,232,14],[227,11,227,12],[227,13,227,14],[228,11,228,12],[228,13,228,14],[229,11,229,12],[229,13,229,14],[224,11,224,12],[224,13,224,14],[225,11,225,12],[225,13,225,14],[226,11,226,12],[226,13,226,14],[221,11,221,12],[221,13,221,14],[222,11,222,12],[222,13,222,14],[223,11,223,12],[223,13,223,14],[218,11,218,12],[218,13,218,14],[219,11,219,12],[219,13,219,14],[220,11,220,12],[220,13,220,14],[215,11,215,12],[215,13,215,14],[216,11,216,12],[216,13,216,14],[217,11,217,12],[217,13,217,14],[212,11,212,12],[212,13,212,14],[213,11,213,12],[213,13,213,14],[214,11,214,12],[214,13,214,14],[209,11,209,12],[209,13,209,14],[210,11,210,12],[210,13,210,14],[211,11,211,12],[211,13,211,14],[206,11,206,12],[206,13,206,14],[207,11,207,12],[207,13,207,14],[208,11,208,12],[208,13,208,14],[203,11,203,12],[203,13,203,14],[204,11,204,12],[204,13,204,14],[205,11,205,12],[205,13,205,14],[200,11,200,12],[200,13,200,14],[201,11,201,12],[201,13,201,14],[202,11,202,12],[202,13,202,14],[197,11,197,12],[197,13,197,14],[198,11,198,12],[198,13,198,14],[199,11,199,12],[199,13,199,14],[194,11,194,12],[194,13,194,14],[195,11,195,12],[195,13,195,14],[196,11,196,12],[196,13,196,14],[191,11,191,12],[191,13,191,14],[192,11,192,12],[192,13,192,14],[193,11,193,12],[193,13,193,14],[188,11,188,12],[188,13,188,14],[189,11,189,12],[189,13,189,14],[190,11,190,12],[190,13,190,14],[185,11,185,12],[185,13,185,14],[186,11,186,12],[186,13,186,14],[187,11,187,12],[187,13,187,14],[182,11,182,12],[182,13,182,14],[183,11,183,12],[183,13,183,14],[184,11,184,12],[184,13,184,14],[179,11,179,12],[179,13,179,14],[180,11,180,12],[180,13,180,14],[181,11,181,12],[181,13,181,14],[176,11,176,12],[176,13,176,14],[177,11,177,12],[177,13,177,14],[178,11,178,12],[178,13,178,14],[173,11,173,12],[173,13,173,14],[174,11,174,12],[174,13,174,14],[175,11,175,12],[175,13,175,14],[170,11,170,12],[170,13,170,14],[171,11,171,12],[171,13,171,14],[172,11,172,12],[172,13,172,14],[167,11,167,12],[167,13,167,14],[168,11,168,12],[168,13,168,14],[169,11,169,12],[169,13,169,14],[164,11,164,12],[164,13,164,14],[165,11,165,12],[165,13,165,14],[166,11,166,12],[166,13,166,14],[161,11,161,12],[161,13,161,14],[162,11,162,12],[162,13,162,14],[163,11,163,12],[163,13,163,14],[158,11,158,12],[158,13,158,14],[159,11,159,12],[159,13,159,14],[160,11,160,12],[160,13,160,14],[155,11,155,12],[155,13,155,14],[156,11,156,12],[156,13,156,14],[157,11,157,12],[157,13,157,14],[152,11,152,12],[152,13,152,14],[153,11,153,12],[153,13,153,14],[154,11,154,12],[154,13,154,14],[149,11,149,12],[149,13,149,14],[150,11,150,12],[150,13,150,14],[151,11,151,12],[151,13,151,14],[146,11,146,12],[146,13,146,14],[147,11,147,12],[147,13,147,14],[148,11,148,12],[148,13,148,14],[143,11,143,12],[143,13,143,14],[144,11,144,12],[144,13,144,14],[145,11,145,12],[145,13,145,14],[140,11,140,12],[140,13,140,14],[141,11,141,12],[141,13,141,14],[142,11,142,12],[142,13,142,14],[137,11,137,12],[137,13,137,14],[138,11,138,12],[138,13,138,14],[139,11,139,12],[139,13,139,14],[134,11,134,12],[134,13,134,14],[135,11,135,12],[135,13,135,14],[136,11,136,12],[136,13,136,14],[131,11,131,12],[131,13,131,14],[132,11,132,12],[132,13,132,14],[133,11,133,12],[133,13,133,14],[128,11,128,12],[128,13,128,14],[129,11,129,12],[129,13,129,14],[130,11,130,12],[130,13,130,14],[125,11,125,12],[125,13,125,14],[126,11,126,12],[126,13,126,14],[127,11,127,12],[127,13,127,14],[122,11,122,12],[122,13,122,14],[123,11,123,12],[123,13,123,14],[124,11,124,12],[124,13,124,14],[119,11,119,12],[119,13,119,14],[120,11,120,12],[120,13,120,14],[121,11,121,12],[121,13,121,14],[116,11,116,12],[116,13,116,14],[117,11,117,12],[117,13,117,14],[118,11,118,12],[118,13,118,14],[113,11,113,12],[113,13,113,14],[114,11,114,12],[114,13,114,14],[115,11,115,12],[115,13,115,14],[110,11,110,12],[110,13,110,14],[111,11,111,12],[111,13,111,14],[112,11,112,12],[112,13,112,14],[107,11,107,12],[107,13,107,14],[108,11,108,12],[108,13,108,14],[109,11,109,12],[109,13,109,14],[104,11,104,12],[104,13,104,14],[105,11,105,12],[105,13,105,14],[106,11,106,12],[106,13,106,14],[101,11,101,12],[101,13,101,14],[102,11,102,12],[102,13,102,14],[103,11,103,12],[103,13,103,14],[98,11,98,12],[98,13,98,14],[99,11,99,12],[99,13,99,14],[100,11,100,12],[100,13,100,14],[95,11,95,12],[95,13,95,14],[96,11,96,12],[96,13,96,14],[97,11,97,12],[97,13,97,14],[92,11,92,12],[92,13,92,14],[93,11,93,12],[93,13,93,14],[94,11,94,12],[94,13,94,14],[89,11,89,12],[89,13,89,14],[90,11,90,12],[90,13,90,14],[91,11,91,12],[91,13,91,14],[86,11,86,12],[86,13,86,14],[87,11,87,12],[87,13,87,14],[88,11,88,12],[88,13,88,14],[83,11,83,12],[83,13,83,14],[84,11,84,12],[84,13,84,14],[85,11,85,12],[85,13,85,14],[80,11,80,12],[80,13,80,14],[81,11,81,12],[81,13,81,14],[82,11,82,12],[82,13,82,14],[77,11,77,12],[77,13,77,14],[78,11,78,12],[78,13,78,14],[79,11,79,12],[79,13,79,14],[74,11,74,12],[74,13,74,14],[75,11,75,12],[75,13,75,14],[76,11,76,12],[76,13,76,14],[71,11,71,12],[71,13,71,14],[72,11,72,12],[72,13,72,14],[73,11,73,12],[73,13,73,14],[68,11,68,12],[68,13,68,14],[69,11,69,12],[69,13,69,14],[70,11,70,12],[70,13,70,14],[65,11,65,12],[65,13,65,14],[66,11,66,12],[66,13,66,14],[67,11,67,12],[67,13,67,14],[62,11,62,12],[62,13,62,14],[63,11,63,12],[63,13,63,14],[64,11,64,12],[64,13,64,14],[59,11,59,12],[59,13,59,14],[60,11,60,12],[60,13,60,14],[61,11,61,12],[61,13,61,14],[56,11,56,12],[56,13,56,14],[57,11,57,12],[57,13,57,14],[58,11,58,12],[58,13,58,14],[53,11,53,12],[53,13,53,14],[54,11,54,12],[54,13,54,14],[55,11,55,12],[55,13,55,14],[50,11,50,12],[50,13,50,14],[51,11,51,12],[51,13,51,14],[52,11,52,12],[52,13,52,14],[47,11,47,12],[47,13,47,14],[48,11,48,12],[48,13,48,14],[49,11,49,12],[49,13,49,14],[44,11,44,12],[44,13,44,14],[45,11,45,12],[45,13,45,14],[46,11,46,12],[46,13,46,14],[41,11,41,12],[41,13,41,14],[42,11,42,12],[42,13,42,14],[43,11,43,12],[43,13,43,14],[38,11,38,12],[38,13,38,14],[39,11,39,12],[39,13,39,14],[40,11,40,12],[40,13,40,14],[35,11,35,12],[35,13,35,14],[36,11,36,12],[36,13,36,14],[37,11,37,12],[37,13,37,14],[32,11,32,12],[32,13,32,14],[33,11,33,12],[33,13,33,14],[34,11,34,12],[34,13,34,14],[29,11,29,12],[29,13,29,14],[30,11,30,12],[30,13,30,14],[31,11,31,12],[31,13,31,14],[26,11,26,12],[26,13,26,14],[27,11,27,12],[27,13,27,14],[28,11,28,12],[28,13,28,14],[24,11,24,12],[24,13,24,14],[25,11,25,12],[25,13,25,14],[20,11,20,12],[20,13,20,14],[21,11,21,12],[21,13,21,14],[22,11,22,12],[22,13,22,14],[11,11,11,12],[11,13,11,14],[12,11,12,12],[12,13,12,14],[13,11,13,12],[13,13,13,14],[17,11,17,12],[17,13,17,14],[18,11,18,12],[18,13,18,14],[19,11,19,12],[19,13,19,14],[14,11,14,12],[14,13,14,14],[15,11,15,12],[15,13,15,14],[16,11,16,12],[16,13,16,14],[23,11,23,12],[23,13,23,14]]}
[]
[]
[]
[]
[]
[]
[]
[]
[]
[]
[null,null,"Daily",null,"Trading","Deposit","Total",null,null,null,"Success","Take",null,"Stop"]
[null,"Day","Profits","%","Amount","Withdraw","Amount","Trade","Win","Lose","Rate %","Profit",null,"Loss"]
[{"$f":"EOMONTH(B13,0)","v":"2023-05-31"},{"$f":"'Daily Diary'!A3","v":"2023-05-15"},{"$f":"SUMIF('Daily Diary'!$A:$A,$B13,'Daily Diary'!$L:$L)","v":0},{"$f":"IF(C13=0,\"\",IF(F13=0,C13/Stake!F19,C13/G13))","v":""},{"$f":"Stake!F19+'Daily Report'!C13","v":1000},{"$f":"Deposit_Withdraw!H5","v":0},{"$f":"E13+F13","v":1000},{"$f":"SUM(I13:J13)","v":0},{"$f":"COUNTIFS('Daily Diary'!$A:$A,'Daily Report'!$B13,'Daily Diary'!$K:$K,'Daily Report'!I$12)","v":0},{"$f":"COUNTIFS('Daily Diary'!$A:$A,'Daily Report'!$B13,'Daily Diary'!$K:$K,'Daily Report'!J$12)","v":0},{"$f":"IF(H13=0,\"\",IF(I13=I13,(I13/H13),IF(I13>J13,(I13/H13),(J13/H13))))","v":""},0.04,null,0.03,null,{"$f":"IF(D13=\"\",\"\",IF(D13<=-N13,\"STOP LOSS\",IF(D13>=L13,\"TAKE PROFIT\",\"\")))","v":""},null,{"$f":"IF(P13=\"TAKE PROFIT\",1,\"\")","v":""},{"$f":"IF(P13=\"STOP LOSS\",1,\"\")","v":""}]
["2023-05-31",{"$f":"B13+1","v":"2023-05-16"},{"$f":"SUMIF('Daily Diary'!$A:$A,$B14,'Daily Diary'!$L:$L)","v":0},{"$f":"IF(C14=0,\"\",C14/G14)","v":""},{"$f":"C14+E13","v":1000},{"$f":"Deposit_Withdraw!H6","v":0},{"$f":"G13+F14+C14","v":1000},0,{"$f":"COUNTIFS('Daily Diary'!$A:$A,'Daily Report'!$B14,'Daily Diary'!$K:$K,'Daily Report'!I$12)","v":0},{"$f":"COUNTIFS('Daily Diary'!$A:$A,'Daily Report'!$B14,'Daily Diary'!$K:$K,'Daily Report'!J$12)","v":0},"",0.04,null,0.03,null,"",null,"",""]
["2023-05-31","2023-05-17",{"$f":"SUMIF('Daily Diary'!$A:$A,$B15,'Daily Diary'!$L:$L)","v":0},"",1000,{"$f":"Deposit_Withdraw!H7","v":0},1000,0,{"$f":"COUNTIFS('Daily Diary'!$A:$A,'Daily Report'!$B15,'Daily Diary'!$K:$K,'Daily Report'!I$12)","v":0},{"$f":"COUNTIFS('Daily Diary'!$A:$A,'Daily Report'!$B15,'Daily Diary'!$K:$K,'Daily Report'!J$12)","v":0},"",0.04,null,0.03,null,"",null,"",""]
["2023-05-31","2023-05-18",{"$f":"SUMIF('Daily Diary'!$A:$A,$B16,'Daily Diary'!$L:$L)","v":0},"",1000,{"$f":"Deposit_Withdraw!H8","v":0},1000,0,{"$f":"COUNTIFS('Daily Diary'!$A:$A,'Daily Report'!$B16,'Daily Diary'!$K:$K,'Daily Report'!I$12)","v":0},{"$f":"COUNTIFS('Daily Diary'!$A:$A,'Daily Report'!$B16,'Daily Diary'!$K:$K,'Daily Report'!J$12)","v":0},"",0.04,null,0.03,null,"",null,"",""]
["2023-05-31","2023-05-19",{"$f":"SUMIF('Daily Diary'!$A:$A,$B17,'Daily Diary'!$L:$L)","v":0},"",1000,{"$f":"Deposit_Withdraw!H9","v":0},1000,0,{"$f":"COUNTIFS('Daily Diary'!$A:$A,'Daily Report'!$B17,'Daily Diary'!$K:$K,'Daily Report'!I$12)","v":0},{"$f":"COUNTIFS('Daily Diary'!$A:$A,'Daily Report'!$B17,'Daily Diary'!$K:$K,'Daily Report'!J$12)","v":0},"",0.04,null,0.03,null,"",null,"",""]
["2023-05-31","2023-05-20",{"$f":"SUMIF('Daily Diary'!$A:$A,$B18,'Daily Diary'!$L:$L)","v":0},"",1000,{"$f":"Deposit_Withdraw!H10","v":0},1000,0,{"$f":"COUNTIFS('Daily Diary'!$A:$A,'Daily Report'!$B18,'Daily Diary'!$K:$K,'Daily Report'!I$12)","v":0},{"$f":"COUNTIFS('Daily Diary'!$A:$A,'Daily Report'!$B18,'Daily Diary'!$K:$K,'Daily Report'!J$12)","v":0},"",0.04,null,0.03,null,"",null,"",""]
["2023-05-31","2023-05-21",{"$f":"SUMIF('Daily Diary'!$A:$A,$B19,'Daily Diary'!$L:$L)","v":0},"",1000,{"$f":"Deposit_Withdraw!H11","v":0},1000,0,{"$f":"COUNTIFS('Daily Diary'!$A:$A,'Daily Report'!$B19,'Daily Diary'!$K:$K,'Daily Report'!I$12)","v":0},{"$f":"COUNTIFS('Daily Diary'!$A:$A,'Daily Report'!$B19,'Daily Diary'!$K:$K,'Daily Report'!J$12)","v":0},"",0.04,null,0.03,null,"",null,"",""]
["2023-05-31","2023-05-22",{"$f":"SUMIF('Daily Diary'!$A:$A,$B20,'Daily Diary'!$L:$L)","v":0},"",1000,{"$f":"Deposit_Withdraw!H12","v":0},1000,0,{"$f":"COUNTIFS('Daily Diary'!$A:$A,'Daily Report'!$B20,'Daily Diary'!$K:$K,'Daily Report'!I$12)","v":0},{"$f":"COUNTIFS('Daily Diary'!$A:$A,'Daily Report'!$B20,'Daily Diary'!$K:$K,'Daily Report'!J$12)","v":0},"",0.04,null,0.03,null,"",null,"",""]
["2023-05-31","2023-05-23",{"$f":"SUMIF('Daily Diary'!$A:$A,$B21,'Daily Diary'!$L:$L)","v":0},"",1000,{"$f":"Deposit_Withdraw!H13","v":0},1000,0,{"$f":"COUNTIFS('Daily Diary'!$A:$A,'Daily Report'!$B21,'Daily Diary'!$K:$K,'Daily Report'!I$12)","v":0},{"$f":"COUNTIFS('Daily Diary'!$A:$A,'Daily Report'!$B21,'Daily Diary'!$K:$K,'Daily Report'!J$12)","v":0},"",0.04,null,0.03,null,"",null,"",""]
["2023-05-31","2023-05-24",{"$f":"SUMIF('Daily Diary'!$A:$A,$B22,'Daily Diary'!$L:$L)","v":0},"",1000,{"$f":"Deposit_Withdraw!H14","v":0},1000,0,{"$f":"COUNTIFS('Daily Diary'!$A:$A,'Daily Report'!$B22,'Daily Diary'!$K:$K,'Daily Report'!I$12)","v":0},{"$f":"COUNTIFS('Daily Diary'!$A:$A,'Daily Report'!$B22,'Daily Diary'!$K:$K,'Daily Report'!J$12)","v":0},"",0.04,null,0.03,null,"",null,"",""]
["2023-05-31","2023-05-25",{"$f":"SUMIF('Daily Diary'!$A:$A,$B23,'Daily Diary'!$L:$L)","v":0},"",1000,{"$f":"Deposit_Withdraw!H15","v":0},1000,0,{"$f":"COUNTIFS('Daily Diary'!$A:$A,'Daily Report'!$B23,'Daily Diary'!$K:$K,'Daily Report'!I$12)","v":0},{"$f":"COUNTIFS('Daily Diary'!$A:$A,'Daily Report'!$B23,'Daily Diary'!$K:$K,'Daily Report'!J$12)","v":0},"",0.04,null,0.03,null,"",null,"",""]
["2023-05-31","2023-05-26",{"$f":"SUMIF('Daily Diary'!$A:$A,$B24,'Daily Diary'!$L:$L)","v":0},"",1000,{"$f":"Deposit_Withdraw!H16","v":0},1000,0,{"$f":"COUNTIFS('Daily Diary'!$A:$A,'Daily Report'!$B24,'Daily Diary'!$K:$K,'Daily Report'!I$12)","v":0},{"$f":"COUNTIFS('Daily Diary'!$A:$A,'Daily Report'!$B24,'Daily Diary'!$K:$K,'Daily Report'!J$12)","v":0},"",0.04,null,0.03,null,"",null,"",""]
["2023-05-31","2023-05-27",{"$f":"SUMIF('Daily Diary'!$A:$A,$B25,'Daily Diary'!$L:$L)","v":0},"",1000,{"$f":"Deposit_Withdraw!H17","v":0},1000,0,{"$f":"COUNTIFS('Daily Diary'!$A:$A,'Daily Report'!$B25,'Daily Diary'!$K:$K,'Daily Report'!I$12)","v":0},{"$f":"COUNTIFS('Daily Diary'!$A:$A,'Daily Report'!$B25,'Daily Diary'!$K:$K,'Daily Report'!J$12)","v":0},"",0.04,null,0.03,null,"",null,"",""]
["2023-05-31","2023-05-28",{"$f":"SUMIF('Daily Diary'!$A:$A,$B26,'Daily Diary'!$L:$L)","v":0},"",1000,{"$f":"Deposit_Withdraw!H18","v":0},1000,0,{"$f":"COUNTIFS('Daily Diary'!$A:$A,'Daily Report'!$B26,'Daily Diary'!$K:$K,'Daily Report'!I$12)","v":0},{"$f":"COUNTIFS('Daily Diary'!$A:$A,'Daily Report'!$B26,'Daily Diary'!$K:$K,'Daily Report'!J$12)","v":0},"",0.04,null,0.03,null,"",null,"",""]
["2023-05-31","2023-05-29",{"$f":"SUMIF('Daily Diary'!$A:$A,$B27,'Daily Diary'!$L:$L)","v":0},"",1000,{"$f":"Deposit_Withdraw!H19","v":0},1000,0,{"$f":"COUNTIFS('Daily Diary'!$A:$A,'Daily Report'!$B27,'Daily Diary'!$K:$K,'Daily Report'!I$12)","v":0},{"$f":"COUNTIFS('Daily Diary'!$A:$A,'Daily Report'!$B27,'Daily Diary'!$K:$K,'Daily Report'!J$12)","v":0},"",0.04,null,0.03,null,"",null,"",""]
["2023-05-31","2023-05-30",{"$f":"SUMIF('Daily Diary'!$A:$A,$B28,'Daily Diary'!$L:$L)","v":0},"",1000,{"$f":"Deposit_Withdraw!H20","v":0},1000,0,{"$f":"COUNTIFS('Daily Diary'!$A:$A,'Daily Report'!$B28,'Daily Diary'!$K:$K,'Daily Report'!I$12)","v":0},{"$f":"COUNTIFS('Daily Diary'!$A:$A,'Daily Report'!$B28,'Daily Diary'!$K:$K,'Daily Report'!J$12)","v":0},"",0.04,null,0.03,null,"",null,"",""]
["2023-05-31","2023-05-31",{"$f":"SUMIF('Daily Diary'!$A:$A,$B29,'Daily Diary'!$L:$L)","v":0},"",1000,{"$f":"Deposit_Withdraw!H21","v":0},1000,0,{"$f":"COUNTIFS('Daily Diary'!$A:$A,'Daily Report'!$B29,'Daily Diary'!$K:$K,'Daily Report'!I$12)","v":0},{"$f":"COUNTIFS('Daily Diary'!$A:$A,'Daily Report'!$B29,'Daily Diary'!$K:$K,'Daily Report'!J$12)","v":0},"",0.04,null,0.03,null,"",null,"",""]
["2023-06-30","2023-06-01",{"$f":"SUMIF('Daily Diary'!$A:$A,$B30,'Daily Diary'!$L:$L)","v":0},"",1000,{"$f":"Deposit_Withdraw!H22","v":0},1000,0,{"$f":"COUNTIFS('Daily Diary'!$A:$A,'Daily Report'!$B30,'Daily Diary'!$K:$K,'Daily Report'!I$12)","v":0},{"$f":"COUNTIFS('Daily Diary'!$A:$A,'Daily Report'!$B30,'Daily Diary'!$K:$K,'Daily Report'!J$12)","v":0},"",0.04,null,0.03,null,"",null,"",""]
["2023-06-30","2023-06-02",{"$f":"SUMIF('Daily Diary'!$A:$A,$B31,'Daily Diary'!$L:$L)","v":0},"",1000,{"$f":"Deposit_Withdraw!H23","v":0},1000,0,{"$f":"COUNTIFS('Daily Diary'!$A:$A,'Daily Report'!$B31,'Daily Diary'!$K:$K,'Daily Report'!I$12)","v":0},{"$f":"COUNTIFS('Daily Diary'!$A:$A,'Daily Report'!$B31,'Daily Diary'!$K:$K,'Daily Report'!J$12)","v":0},"",0.04,null,0.03,null,"",null,"",""]
["2023-06-30","2023-06-03",{"$f":"SUMIF('Daily Diary'!$A:$A,$B32,'Daily Diary'!$L:$L)","v":0},"",1000,{"$f":"Deposit_Withdraw!H24","v":0},1000,0,{"$f":"COUNTIFS('Daily Diary'!$A:$A,'Daily Report'!$B32,'Daily Diary'!$K:$K,'Daily Report'!I$12)","v":0},{"$f":"COUNTIFS('Daily Diary'!$A:$A,'Daily Report'!$B32,'Daily Diary'!$K:$K,'Daily Report'!J$12)","v":0},"",0.04,null,0.03,null,"",null,"",""]
["2023-06-30","2023-06-04",{"$f":"SUMIF('Daily Diary'!$A:$A,$B33,'Daily Diary'!$L:$L)","v":0},"",1000,{"$f":"Deposit_Withdraw!H25","v":0},1000,0,{"$f":"COUNTIFS('Daily Diary'!$A:$A,'Daily Report'!$B33,'Daily Diary'!$K:$K,'Daily Report'!I$12)","v":0},{"$f":"COUNTIFS('Daily Diary'!$A:$A,'Daily Report'!$B33,'Daily Diary'!$K:$K,'Daily Report'!J$12)","v":0},"",0.04,null,0.03,null,"",null,"",""]
["2023-06-30","2023-06-05",{"$f":"SUMIF('Daily Diary'!$A:$A,$B34,'Daily Diary'!$L:$L)","v":0},"",1000,{"$f":"Deposit_Withdraw!H26","v":0},1000,0,{"$f":"COUNTIFS('Daily Diary'!$A:$A,'Daily Report'!$B34,'Daily Diary'!$K:$K,'Daily Report'!I$12)","v":0},{"$f":"COUNTIFS('Daily Diary'!$A:$A,'Daily Report'!$B34,'Daily Diary'!$K:$K,'Daily Report'!J$12)","v":0},"",0.04,null,0.03,null,"",null,"",""]
["2023-06-30","2023-06-06",{"$f":"SUMIF('Daily Diary'!$A:$A,$B35,'Daily Diary'!$L:$L)","v":0},"",1000,{"$f":"Deposit_Withdraw!H27","v":0},1000,0,{"$f":"COUNTIFS('Daily Diary'!$A:$A,'Daily Report'!$B35,'Daily Diary'!$K:$K,'Daily Report'!I$12)","v":0},{"$f":"COUNTIFS('Daily Diary'!$A:$A,'Daily Report'!$B35,'Daily Diary'!$K:$K,'Daily Report'!J$12)","v":0},"",0.04,null,0.03,null,"",null,"",""]
["2023-06-30","2023-06-07",{"$f":"SUMIF('Daily Diary'!$A:$A,$B36,'Daily Diary'!$L:$L)","v":0},"",1000,{"$f":"Deposit_Withdraw!H28","v":0},1000,0,{"$f":"COUNTIFS('Daily Diary'!$A:$A,'Daily Report'!$B36,'Daily Diary'!$K:$K,'Daily Report'!I$12)","v":0},{"$f":"COUNTIFS('Daily Diary'!$A:$A,'Daily Report'!$B36,'Daily Diary'!$K:$K,'Daily Report'!J$12)","v":0},"",0.04,null,0.03,null,"",null,"",""]
["2023-06-30","2023-06-08",{"$f":"SUMIF('Daily Diary'!$A:$A,$B37,'Daily Diary'!$L:$L)","v":0},"",1000,{"$f":"Deposit_Withdraw!H29","v":0},1000,0,{"$f":"COUNTIFS('Daily Diary'!$A:$A,'Daily Report'!$B37,'Daily Diary'!$K:$K,'Daily Report'!I$12)","v":0},{"$f":"COUNTIFS('Daily Diary'!$A:$A,'Daily Report'!$B37,'Daily Diary'!$K:$K,'Daily Report'!J$12)","v":0},"",0.04,null,0.03,null,"",null,"",""]
["2023-06-30","2023-06-09",{"$f":"SUMIF('Daily Diary'!$A:$A,$B38,'Daily Diary'!$L:$L)","v":0},"",1000,{"$f":"Deposit_Withdraw!H30","v":0},1000,0,{"$f":"COUNTIFS('Daily Diary'!$A:$A,'Daily Report'!$B38,'Daily Diary'!$K:$K,'Daily Report'!I$12)","v":0},{"$f":"COUNTIFS('Daily Diary'!$A:$A,'Daily Report'!$B38,'Daily Diary'!$K:$K,'Daily Report'!J$12)","v":0},"",0.04,null,0.03,null,"",null,"",""]
["2023-06-30","2023-06-10",{"$f":"SUMIF('Daily Diary'!$A:$A,$B39,'Daily Diary'!$L:$L)","v":0},"",1000,{"$f":"Deposit_Withdraw!H31","v":0},1000,0,{"$f":"COUNTIFS('Daily Diary'!$A:$A,'Daily Report'!$B39,'Daily Diary'!$K:$K,'Daily Report'!I$12)","v":0},{"$f":"COUNTIFS('Daily Diary'!$A:$A,'Daily Report'!$B39,'Daily Diary'!$K:$K,'Daily Report'!J$12)","v":0},"",0.04,null,0.03,null,"",null,"",""]
["2023-06-30","2023-06-11",{"$f":"SUMIF('Daily Diary'!$A:$A,$B40,'Daily Diary'!$L:$L)","v":0},"",1000,{"$f":"Deposit_Withdraw!H32","v":0},1000,0,{"$f":"COUNTIFS('Daily Diary'!$A:$A,'Daily Report'!$B40,'Daily Diary'!$K:$K,'Daily Report'!I$12)","v":0},{"$f":"COUNTIFS('Daily Diary'!$A:$A,'Daily Report'!$B40,'Daily Diary'!$K:$K,'Daily Report'!J$12)","v":0},"",0.04,null,0.03,null,"",null,"",""]
["2023-06-30","2023-06-12",{"$f":"SUMIF('Daily Diary'!$A:$A,$B41,'Daily Diary'!$L:$L)","v":0},"",1000,{"$f":"Deposit_Withdraw!H33","v":0},1000,0,{"$f":"COUNTIFS('Daily Diary'!$A:$A,'Daily Report'!$B41,'Daily Diary'!$K:$K,'Daily Report'!I$12)","v":0},{"$f":"COUNTIFS('Daily Diary'!$A:$A,'Daily Report'!$B41,'Daily Diary'!$K:$K,'Daily Report'!J$12)","v":0},"",0.04,null,0.03,null,"",null,"",""]
["2023-06-30","2023-06-13",{"$f":"SUMIF('Daily Diary'!$A:$A,$B42,'Daily Diary'!$L:$L)","v":0},"",1000,{"$f":"Deposit_Withdraw!H34","v":0},1000,0,{"$f":"COUNTIFS('Daily Diary'!$A:$A,'Daily Report'!$B42,'Daily Diary'!$K:$K,'Daily Report'!I$12)","v":0},{"$f":"COUNTIFS('Daily Diary'!$A:$A,'Daily Report'!$B42,'Daily Diary'!$K:$K,'Daily Report'!J$12)","v":0},"",0.04,null,0.03,null,"",null,"",""]
["2023-06-30","2023-06-14",{"$f":"SUMIF('Daily Diary'!$A:$A,$B43,'Daily Diary'!$L:$L)","v":0},"",1000,{"$f":"Deposit_Withdraw!H35","v":0},1000,0,{"$f":"COUNTIFS('Daily Diary'!$A:$A,'Daily Report'!$B43,'Daily Diary'!$K:$K,'Daily Report'!I$12)","v":0},{"$f":"COUNTIFS('Daily Diary'!$A:$A,'Daily Report'!$B43,'Daily Diary'!$K:$K,'Daily Report'!J$12)","v":0},"",0.04,null,0.03,null,"",null,"",""]
["2023-06-30","2023-06-15",{"$f":"SUMIF('Daily Diary'!$A:$A,$B44,'Daily Diary'!$L:$L)","v":0},"",1000,{"$f":"Deposit_Withdraw!H36","v":0},1000,0,{"$f":"COUNTIFS('Daily Diary'!$A:$A,'Daily Report'!$B44,'Daily Diary'!$K:$K,'Daily Report'!I$12)","v":0},{"$f":"COUNTIFS('Daily Diary'!$A:$A,'Daily Report'!$B44,'Daily Diary'!$K:$K,'Daily Report'!J$12)","v":0},"",0.04,null,0.03,null,"",null,"",""]
["2023-06-30","2023-06-16",{"$f":"SUMIF('Daily Diary'!$A:$A,$B45,'Daily Diary'!$L:$L)","v":0},"",1000,{"$f":"Deposit_Withdraw!H37","v":0},1000,0,{"$f":"COUNTIFS('Daily Diary'!$A:$A,'Daily Report'!$B45,'Daily Diary'!$K:$K,'Daily Report'!I$12)","v":0},{"$f":"COUNTIFS('Daily Diary'!$A:$A,'Daily Report'!$B45,'Daily Diary'!$K:$K,'Daily Report'!J$12)","v":0},"",0.04,null,0.03,null,"",null,"",""]
["2023-06-30","2023-06-17",{"$f":"SUMIF('Daily Diary'!$A:$A,$B46,'Daily Diary'!$L:$L)","v":0},"",1000,{"$f":"Deposit_Withdraw!H38","v":0},1000,0,{"$f":"COUNTIFS('Daily Diary'!$A:$A,'Daily Report'!$B46,'Daily Diary'!$K:$K,'Daily Report'!I$12)","v":0},{"$f":"COUNTIFS('Daily Diary'!$A:$A,'Daily Report'!$B46,'Daily Diary'!$K:$K,'Daily Report'!J$12)","v":0},"",0.04,null,0.03,null,"",null,"",""]
["2023-06-30","2023-06-18",{"$f":"SUMIF('Daily Diary'!$A:$A,$B47,'Daily Diary'!$L:$L)","v":0},"",1000,{"$f":"Deposit_Withdraw!H39","v":0},1000,0,{"$f":"COUNTIFS('Daily Diary'!$A:$A,'Daily Report'!$B47,'Daily Diary'!$K:$K,'Daily Report'!I$12)","v":0},{"$f":"COUNTIFS('Daily Diary'!$A:$A,'Daily Report'!$B47,'Daily Diary'!$K:$K,'Daily Report'!J$12)","v":0},"",0.04,null,0.03,null,"",null,"",""]
["2023-06-30","2023-06-19",{"$f":"SUMIF('Daily Diary'!$A:$A,$B48,'Daily Diary'!$L:$L)","v":0},"",1000,{"$f":"Deposit_Withdraw!H40","v":0},1000,0,{"$f":"COUNTIFS('Daily Diary'!$A:$A,'Daily Report'!$B48,'Daily Diary'!$K:$K,'Daily Report'!I$12)","v":0},{"$f":"COUNTIFS('Daily Diary'!$A:$A,'Daily Report'!$B48,'Daily Diary'!$K:$K,'Daily Report'!J$12)","v":0},"",0.04,null,0.03,null,"",null,"",""]
["2023-06-30","2023-06-20",{"$f":"SUMIF('Daily Diary'!$A:$A,$B49,'Daily Diary'!$L:$L)","v":0},"",1000,{"$f":"Deposit_Withdraw!H41","v":0},1000,0,{"$f":"COUNTIFS('Daily Diary'!$A:$A,'Daily Report'!$B49,'Daily Diary'!$K:$K,'Daily Report'!I$12)","v":0},{"$f":"COUNTIFS('Daily Diary'!$A:$A,'Daily Report'!$B49,'Daily Diary'!$K:$K,'Daily Report'!J$12)","v":0},"",0.04,null,0.03,null,"",null,"",""]
["2023-06-30","2023-06-21",{"$f":"SUMIF('Daily Diary'!$A:$A,$B50,'Daily Diary'!$L:$L)","v":0},"",1000,{"$f":"Deposit_Withdraw!H42","v":0},1000,0,{"$f":"COUNTIFS('Daily Diary'!$A:$A,'Daily Report'!$B50,'Daily Diary'!$K:$K,'Daily Report'!I$12)","v":0},{"$f":"COUNTIFS('Daily Diary'!$A:$A,'Daily Report'!$B50,'Daily Diary'!$K:$K,'Daily Report'!J$12)","v":0},"",0.04,null,0.03,null,"",null,"",""]
["2023-06-30","2023-06-22",{"$f":"SUMIF('Daily Diary'!$A:$A,$B51,'Daily Diary'!$L:$L)","v":0},"",1000,{"$f":"Deposit_Withdraw!H43","v":0},1000,0,{"$f":"COUNTIFS('Daily Diary'!$A:$A,'Daily Report'!$B51,'Daily Diary'!$K:$K,'Daily Report'!I$12)","v":0},{"$f":"COUNTIFS('Daily Diary'!$A:$A,'Daily Report'!$B51,'Daily Diary'!$K:$K,'Daily Report'!J$12)","v":0},"",0.04,null,0.03,null,"",null,"",""]
["2023-06-30","2023-06-23",{"$f":"SUMIF('Daily Diary'!$A:$A,$B52,'Daily Diary'!$L:$L)","v":0},"",1000,{"$f":"Deposit_Withdraw!H44","v":0},1000,0,{"$f":"COUNTIFS('Daily Diary'!$A:$A,'Daily Report'!$B52,'Daily Diary'!$K:$K,'Daily Report'!I$12)","v":0},{"$f":"COUNTIFS('Daily Diary'!$A:$A,'Daily Report'!$B52,'Daily Diary'!$K:$K,'Daily Report'!J$12)","v":0},"",0.04,null,0.03,null,"",null,"",""]
["2023-06-30","2023-06-24",{"$f":"SUMIF('Daily Diary'!$A:$A,$B53,'Daily Diary'!$L:$L)","v":0},"",1000,{"$f":"Deposit_Withdraw!H45","v":0},1000,0,{"$f":"COUNTIFS('Daily Diary'!$A:$A,'Daily Report'!$B53,'Daily Diary'!$K:$K,'Daily Report'!I$12)","v":0},{"$f":"COUNTIFS('Daily Diary'!$A:$A,'Daily Report'!$B53,'Daily Diary'!$K:$K,'Daily Report'!J$12)","v":0},"",0.04,null,0.03,null,"",null,"",""]
["2023-06-30","2023-06-25",{"$f":"SUMIF('Daily Diary'!$A:$A,$B54,'Daily Diary'!$L:$L)","v":0},"",1000,{"$f":"Deposit_Withdraw!H46","v":0},1000,0,{"$f":"COUNTIFS('Daily Diary'!$A:$A,'Daily Report'!$B54,'Daily Diary'!$K:$K,'Daily Report'!I$12)","v":0},{"$f":"COUNTIFS('Daily Diary'!$A:$A,'Daily Report'!$B54,'Daily Diary'!$K:$K,'Daily Report'!J$12)","v":0},"",0.04,null,0.03,null,"",null,"",""]
["2023-06-30","2023-06-26",{"$f":"SUMIF('Daily Diary'!$A:$A,$B55,'Daily Diary'!$L:$L)","v":0},"",1000,{"$f":"Deposit_Withdraw!H47","v":0},1000,0,{"$f":"COUNTIFS('Daily Diary'!$A:$A,'Daily Report'!$B55,'Daily Diary'!$K:$K,'Daily Report'!I$12)","v":0},{"$f":"COUNTIFS('Daily Diary'!$A:$A,'Daily Report'!$B55,'Daily Diary'!$K:$K,'Daily Report'!J$12)","v":0},"",0.04,null,0.03,null,"",null,"",""]
["2023-06-30","2023-06-27",{"$f":"SUMIF('Daily Diary'!$A:$A,$B56,'Daily Diary'!$L:$L)","v":0},"",1000,{"$f":"Deposit_Withdraw!H48","v":0},1000,0,{"$f":"COUNTIFS('Daily Diary'!$A:$A,'Daily Report'!$B56,'Daily Diary'!$K:$K,'Daily Report'!I$12)","v":0},{"$f":"COUNTIFS('Daily Diary'!$A:$A,'Daily Report'!$B56,'Daily Diary'!$K:$K,'Daily Report'!J$12)","v":0},"",0.04,null,0.03,null,"",null,"",""]
["2023-06-30","2023-06-28",{"$f":"SUMIF('Daily Diary'!$A:$A,$B57,'Daily Diary'!$L:$L)","v":0},"",1000,{"$f":"Deposit_Withdraw!H49","v":0},1000,0,{"$f":"COUNTIFS('Daily Diary'!$A:$A,'Daily Report'!$B57,'Daily Diary'!$K:$K,'Daily Report'!I$12)","v":0},{"$f":"COUNTIFS('Daily Diary'!$A:$A,'Daily Report'!$B57,'Daily Diary'!$K:$K,'Daily Report'!J$12)","v":0},"",0.04,null,0.03,null,"",null,"",""]
["2023-06-30","2023-06-29",{"$f":"SUMIF('Daily Diary'!$A:$A,$B58,'Daily Diary'!$L:$L)","v":0},"",1000,{"$f":"Deposit_Withdraw!H50","v":0},1000,0,{"$f":"COUNTIFS('Daily Diary'!$A:$A,'Daily Report'!$B58,'Daily Diary'!$K:$K,'Daily Report'!I$12)","v":0},{"$f":"COUNTIFS('Daily Diary'!$A:$A,'Daily Report'!$B58,'Daily Diary'!$K:$K,'Daily Report'!J$12)","v":0},"",0.04,null,0.03,null,"",null,"",""]
["2023-06-30","2023-06-30",{"$f":"SUMIF('Daily Diary'!$A:$A,$B59,'Daily Diary'!$L:$L)","v":0},"",1000,{"$f":"Deposit_Withdraw!H51","v":0},1000,0,{"$f":"COUNTIFS('Daily Diary'!$A:$A,'Daily Report'!$B59,'Daily Diary'!$K:$K,'Daily Report'!I$12)","v":0},{"$f":"COUNTIFS('Daily Diary'!$A:$A,'Daily Report'!$B59,'Daily Diary'!$K:$K,'Daily Report'!J$12)","v":0},"",0.04,null,0.03,null,"",null,"",""]
["2023-07-31","2023-07-01",{"$f":"SUMIF('Daily Diary'!$A:$A,$B60,'Daily Diary'!$L:$L)","v":0},"",1000,{"$f":"Deposit_Withdraw!H52","v":0},1000,0,{"$f":"COUNTIFS('Daily Diary'!$A:$A,'Daily Report'!$B60,'Daily Diary'!$K:$K,'Daily Report'!I$12)","v":0},{"$f":"COUNTIFS('Daily Diary'!$A:$A,'Daily Report'!$B60,'Daily Diary'!$K:$K,'Daily Report'!J$12)","v":0},"",0.04,null,0.03,null,"",null,"",""]
["2023-07-31","2023-07-02",{"$f":"SUMIF('Daily Diary'!$A:$A,$B61,'Daily Diary'!$L:$L)","v":0},"",1000,{"$f":"Deposit_Withdraw!H53","v":0},1000,0,{"$f":"COUNTIFS('Daily Diary'!$A:$A,'Daily Report'!$B61,'Daily Diary'!$K:$K,'Daily Report'!I$12)","v":0},{"$f":"COUNTIFS('Daily Diary'!$A:$A,'Daily Report'!$B61,'Daily Diary'!$K:$K,'Daily Report'!J$12)","v":0},"",0.04,null,0.03,null,"",null,"",""]
["2023-07-31","2023-07-03",{"$f":"SUMIF('Daily Diary'!$A:$A,$B62,'Daily Diary'!$L:$L)","v":0},"",1000,{"$f":"Deposit_Withdraw!H54","v":0},1000,0,{"$f":"COUNTIFS('Daily Diary'!$A:$A,'Daily Report'!$B62,'Daily Diary'!$K:$K,'Daily Report'!I$12)","v":0},{"$f":"COUNTIFS('Daily Diary'!$A:$A,'Daily Report'!$B62,'Daily Diary'!$K:$K,'Daily Report'!J$12)","v":0},"",0.04,null,0.03,null,"",null,"",""]
["2023-07-31","2023-07-04",{"$f":"SUMIF('Daily Diary'!$A:$A,$B63,'Daily Diary'!$L:$L)","v":0},"",1000,{"$f":"Deposit_Withdraw!H55","v":0},1000,0,{"$f":"COUNTIFS('Daily Diary'!$A:$A,'Daily Report'!$B63,'Daily Diary'!$K:$K,'Daily Report'!I$12)","v":0},{"$f":"COUNTIFS('Daily Diary'!$A:$A,'Daily Report'!$B63,'Daily Diary'!$K:$K,'Daily Report'!J$12)","v":0},"",0.04,null,0.03,null,"",null,"",""]
["2023-07-31","2023-07-05",{"$f":"SUMIF('Daily Diary'!$A:$A,$B64,'Daily Diary'!$L:$L)","v":0},"",1000,{"$f":"Deposit_Withdraw!H56","v":0},1000,0,{"$f":"COUNTIFS('Daily Diary'!$A:$A,'Daily Report'!$B64,'Daily Diary'!$K:$K,'Daily Report'!I$12)","v":0},{"$f":"COUNTIFS('Daily Diary'!$A:$A,'Daily Report'!$B64,'Daily Diary'!$K:$K,'Daily Report'!J$12)","v":0},"",0.04,null,0.03,null,"",null,"",""]
["2023-07-31","2023-07-06",{"$f":"SUMIF('Daily Diary'!$A:$A,$B65,'Daily Diary'!$L:$L)","v":0},"",1000,{"$f":"Deposit_Withdraw!H57","v":0},1000,0,{"$f":"COUNTIFS('Daily Diary'!$A:$A,'Daily Report'!$B65,'Daily Diary'!$K:$K,'Daily Report'!I$12)","v":0},{"$f":"COUNTIFS('Daily Diary'!$A:$A,'Daily Report'!$B65,'Daily Diary'!$K:$K,'Daily Report'!J$12)","v":0},"",0.04,null,0.03,null,"",null,"",""]
["2023-07-31","2023-07-07",{"$f":"SUMIF('Daily Diary'!$A:$A,$B66,'Daily Diary'!$L:$L)","v":0},"",1000,{"$f":"Deposit_Withdraw!H58","v":0},1000,0,{"$f":"COUNTIFS('Daily Diary'!$A:$A,'Daily Report'!$B66,'Daily Diary'!$K:$K,'Daily Report'!I$12)","v":0},{"$f":"COUNTIFS('Daily Diary'!$A:$A,'Daily Report'!$B66,'Daily Diary'!$K:$K,'Daily Report'!J$12)","v":0},"",0.04,null,0.03,null,"",null,"",""]
["2023-07-31","2023-07-08",{"$f":"SUMIF('Daily Diary'!$A:$A,$B67,'Daily Diary'!$L:$L)","v":0},"",1000,{"$f":"Deposit_Withdraw!H59","v":0},1000,0,{"$f":"COUNTIFS('Daily Diary'!$A:$A,'Daily Report'!$B67,'Daily Diary'!$K:$K,'Daily Report'!I$12)","v":0},{"$f":"COUNTIFS('Daily Diary'!$A:$A,'Daily Report'!$B67,'Daily Diary'!$K:$K,'Daily Report'!J$12)","v":0},"",0.04,null,0.03,null,"",null,"",""]
["2023-07-31","2023-07-09",{"$f":"SUMIF('Daily Diary'!$A:$A,$B68,'Daily Diary'!$L:$L)","v":0},"",1000,{"$f":"Deposit_Withdraw!H60","v":0},1000,0,{"$f":"COUNTIFS('Daily Diary'!$A:$A,'Daily Report'!$B68,'Daily Diary'!$K:$K,'Daily Report'!I$12)","v":0},{"$f":"COUNTIFS('Daily Diary'!$A:$A,'Daily Report'!$B68,'Daily Diary'!$K:$K,'Daily Report'!J$12)","v":0},"",0.04,null,0.03,null,"",null,"",""]
["2023-07-31","2023-07-10",{"$f":"SUMIF('Daily Diary'!$A:$A,$B69,'Daily Diary'!$L:$L)","v":0},"",1000,{"$f":"Deposit_Withdraw!H61","v":0},1000,0,{"$f":"COUNTIFS('Daily Diary'!$A:$A,'Daily Report'!$B69,'Daily Diary'!$K:$K,'Daily Report'!I$12)","v":0},{"$f":"COUNTIFS('Daily Diary'!$A:$A,'Daily Report'!$B69,'Daily Diary'!$K:$K,'Daily Report'!J$12)","v":0},"",0.04,null,0.03,null,"",null,"",""]
["2023-07-31","2023-07-11",{"$f":"SUMIF('Daily Diary'!$A:$A,$B70,'Daily Diary'!$L:$L)","v":0},"",1000,{"$f":"Deposit_Withdraw!H62","v":0},1000,0,{"$f":"COUNTIFS('Daily Diary'!$A:$A,'Daily Report'!$B70,'Daily Diary'!$K:$K,'Daily Report'!I$12)","v":0},{"$f":"COUNTIFS('Daily Diary'!$A:$A,'Daily Report'!$B70,'Daily Diary'!$K:$K,'Daily Report'!J$12)","v":0},"",0.04,null,0.03,null,"",null,"",""]
["2023-07-31","2023-07-12",{"$f":"SUMIF('Daily Diary'!$A:$A,$B71,'Daily Diary'!$L:$L)","v":0},"",1000,{"$f":"Deposit_Withdraw!H63","v":0},1000,0,{"$f":"COUNTIFS('Daily Diary'!$A:$A,'Daily Report'!$B71,'Daily Diary'!$K:$K,'Daily Report'!I$12)","v":0},{"$f":"COUNTIFS('Daily Diary'!$A:$A,'Daily Report'!$B71,'Daily Diary'!$K:$K,'Daily Report'!J$12)","v":0},"",0.04,null,0.03,null,"",null,"",""]
["2023-07-31","2023-07-13",{"$f":"SUMIF('Daily Diary'!$A:$A,$B72,'Daily Diary'!$L:$L)","v":0},"",1000,{"$f":"Deposit_Withdraw!H64","v":0},1000,0,{"$f":"COUNTIFS('Daily Diary'!$A:$A,'Daily Report'!$B72,'Daily Diary'!$K:$K,'Daily Report'!I$12)","v":0},{"$f":"COUNTIFS('Daily Diary'!$A:$A,'Daily Report'!$B72,'Daily Diary'!$K:$K,'Daily Report'!J$12)","v":0},"",0.04,null,0.03,null,"",null,"",""]
["2023-07-31","2023-07-14",{"$f":"SUMIF('Daily Diary'!$A:$A,$B73,'Daily Diary'!$L:$L)","v":0},"",1000,{"$f":"Deposit_Withdraw!H65","v":0},1000,0,{"$f":"COUNTIFS('Daily Diary'!$A:$A,'Daily Report'!$B73,'Daily Diary'!$K:$K,'Daily Report'!I$12)","v":0},{"$f":"COUNTIFS('Daily Diary'!$A:$A,'Daily Report'!$B73,'Daily Diary'!$K:$K,'Daily Report'!J$12)","v":0},"",0.04,null,0.03,null,"",null,"",""]
["2023-07-31","2023-07-15",{"$f":"SUMIF('Daily Diary'!$A:$A,$B74,'Daily Diary'!$L:$L)","v":0},"",1000,{"$f":"Deposit_Withdraw!H66","v":0},1000,0,{"$f":"COUNTIFS('Daily Diary'!$A:$A,'Daily Report'!$B74,'Daily Diary'!$K:$K,'Daily Report'!I$12)","v":0},{"$f":"COUNTIFS('Daily Diary'!$A:$A,'Daily Report'!$B74,'Daily Diary'!$K:$K,'Daily Report'!J$12)","v":0},"",0.04,null,0.03,null,"",null,"",""]
["2023-07-31","2023-07-16",{"$f":"SUMIF('Daily Diary'!$A:$A,$B75,'Daily Diary'!$L:$L)","v":0},"",1000,{"$f":"Deposit_Withdraw!H67","v":0},1000,0,{"$f":"COUNTIFS('Daily Diary'!$A:$A,'Daily Report'!$B75,'Daily Diary'!$K:$K,'Daily Report'!I$12)","v":0},{"$f":"COUNTIFS('Daily Diary'!$A:$A,'Daily Report'!$B75,'Daily Diary'!$K:$K,'Daily Report'!J$12)","v":0},"",0.04,null,0.03,null,"",null,"",""]
["2023-07-31","2023-07-17",{"$f":"SUMIF('Daily Diary'!$A:$A,$B76,'Daily Diary'!$L:$L)","v":0},"",1000,{"$f":"Deposit_Withdraw!H68","v":0},1000,0,{"$f":"COUNTIFS('Daily Diary'!$A:$A,'Daily Report'!$B76,'Daily Diary'!$K:$K,'Daily Report'!I$12)","v":0},{"$f":"COUNTIFS('Daily Diary'!$A:$A,'Daily Report'!$B76,'Daily Diary'!$K:$K,'Daily Report'!J$12)","v":0},"",0.04,null,0.03,null,"",null,"",""]
[{"$f":"EOMONTH(B77,0)","v":"2023-07-31"},"2023-07-18",{"$f":"SUMIF('Daily Diary'!$A:$A,$B77,'Daily Diary'!$L:$L)","v":0},"",1000,{"$f":"Deposit_Withdraw!H69","v":0},1000,{"$f":"SUM(I77:J77)","v":0},{"$f":"COUNTIFS('Daily Diary'!$A:$A,'Daily Report'!$B77,'Daily Diary'!$K:$K,'Daily Report'!I$12)","v":0},{"$f":"COUNTIFS('Daily Diary'!$A:$A,'Daily Report'!$B77,'Daily Diary'!$K:$K,'Daily Report'!J$12)","v":0},{"$f":"IF(H77=0,\"\",IF(I77=I77,(I77/H77),IF(I77>J77,(I77/H77),(J77/H77))))","v":""},0.04,null,0.03,null,{"$f":"IF(D77=\"\",\"\",IF(D77<=-N77,\"STOP LOSS\",IF(D77>=L77,\"TAKE PROFIT\",\"\")))","v":""},null,{"$f":"IF(P77=\"TAKE PROFIT\",1,\"\")","v":""},{"$f":"IF(P77=\"STOP LOSS\",1,\"\")","v":""}]
["2023-07-31",{"$f":"B77+1","v":"2023-07-19"},{"$f":"SUMIF('Daily Diary'!$A:$A,$B78,'Daily Diary'!$L:$L)","v":0},{"$f":"IF(C78=0,\"\",C78/G78)","v":""},{"$f":"C78+E77","v":1000},{"$f":"Deposit_Withdraw!H70","v":0},{"$f":"G77+F78+C78","v":1000},0,{"$f":"COUNTIFS('Daily Diary'!$A:$A,'Daily Report'!$B78,'Daily Diary'!$K:$K,'Daily Report'!I$12)","v":0},{"$f":"COUNTIFS('Daily Diary'!$A:$A,'Daily Report'!$B78,'Daily Diary'!$K:$K,'Daily Report'!J$12)","v":0},"",0.04,null,0.03,null,"",null,"",""]
["2023-07-31","2023-07-20",{"$f":"SUMIF('Daily Diary'!$A:$A,$B79,'Daily Diary'!$L:$L)","v":0},"",1000,{"$f":"Deposit_Withdraw!H71","v":0},1000,0,{"$f":"COUNTIFS('Daily Diary'!$A:$A,'Daily Report'!$B79,'Daily Diary'!$K:$K,'Daily Report'!I$12)","v":0},{"$f":"COUNTIFS('Daily Diary'!$A:$A,'Daily Report'!$B79,'Daily Diary'!$K:$K,'Daily Report'!J$12)","v":0},"",0.04,null,0.03,null,"",null,"",""]
["2023-07-31","2023-07-21",{"$f":"SUMIF('Daily Diary'!$A:$A,$B80,'Daily Diary'!$L:$L)","v":0},"",1000,{"$f":"Deposit_Withdraw!H72","v":0},1000,0,{"$f":"COUNTIFS('Daily Diary'!$A:$A,'Daily Report'!$B80,'Daily Diary'!$K:$K,'Daily Report'!I$12)","v":0},{"$f":"COUNTIFS('Daily Diary'!$A:$A,'Daily Report'!$B80,'Daily Diary'!$K:$K,'Daily Report'!J$12)","v":0},"",0.04,null,0.03,null,"",null,"",""]
["2023-07-31","2023-07-22",{"$f":"SUMIF('Daily Diary'!$A:$A,$B81,'Daily Diary'!$L:$L)","v":0},"",1000,{"$f":"Deposit_Withdraw!H73","v":0},1000,0,{"$f":"COUNTIFS('Daily Diary'!$A:$A,'Daily Report'!$B81,'Daily Diary'!$K:$K,'Daily Report'!I$12)","v":0},{"$f":"COUNTIFS('Daily Diary'!$A:$A,'Daily Report'!$B81,'Daily Diary'!$K:$K,'Daily Report'!J$12)","v":0},"",0.04,null,0.03,null,"",null,"",""]
["2023-07-31","2023-07-23",{"$f":"SUMIF('Daily Diary'!$A:$A,$B82,'Daily Diary'!$L:$L)","v":0},"",1000,{"$f":"Deposit_Withdraw!H74","v":0},1000,0,{"$f":"COUNTIFS('Daily Diary'!$A:$A,'Daily Report'!$B82,'Daily Diary'!$K:$K,'Daily Report'!I$12)","v":0},{"$f":"COUNTIFS('Daily Diary'!$A:$A,'Daily Report'!$B82,'Daily Diary'!$K:$K,'Daily Report'!J$12)","v":0},"",0.04,null,0.03,null,"",null,"",""]
["2023-07-31","2023-07-24",{"$f":"SUMIF('Daily Diary'!$A:$A,$B83,'Daily Diary'!$L:$L)","v":0},"",1000,{"$f":"Deposit_Withdraw!H75","v":0},1000,0,{"$f":"COUNTIFS('Daily Diary'!$A:$A,'Daily Report'!$B83,'Daily Diary'!$K:$K,'Daily Report'!I$12)","v":0},{"$f":"COUNTIFS('Daily Diary'!$A:$A,'Daily Report'!$B83,'Daily Diary'!$K:$K,'Daily Report'!J$12)","v":0},"",0.04,null,0.03,null,"",null,"",""]
["2023-07-31","2023-07-25",{"$f":"SUMIF('Daily Diary'!$A:$A,$B84,'Daily Diary'!$L:$L)","v":0},"",1000,{"$f":"Deposit_Withdraw!H76","v":0},1000,0,{"$f":"COUNTIFS('Daily Diary'!$A:$A,'Daily Report'!$B84,'Daily Diary'!$K:$K,'Daily Report'!I$12)","v":0},{"$f":"COUNTIFS('Daily Diary'!$A:$A,'Daily Report'!$B84,'Daily Diary'!$K:$K,'Daily Report'!J$12)","v":0},"",0.04,null,0.03,null,"",null,"",""]
["2023-07-31","2023-07-26",{"$f":"SUMIF('Daily Diary'!$A:$A,$B85,'Daily Diary'!$L:$L)","v":0},"",1000,{"$f":"Deposit_Withdraw!H77","v":0},1000,0,{"$f":"COUNTIFS('Daily Diary'!$A:$A,'Daily Report'!$B85,'Daily Diary'!$K:$K,'Daily Report'!I$12)","v":0},{"$f":"COUNTIFS('Daily Diary'!$A:$A,'Daily Report'!$B85,'Daily Diary'!$K:$K,'Daily Report'!J$12)","v":0},"",0.04,null,0.03,null,"",null,"",""]
["2023-07-31","2023-07-27",{"$f":"SUMIF('Daily Diary'!$A:$A,$B86,'Daily Diary'!$L:$L)","v":0},"",1000,{"$f":"Deposit_Withdraw!H78","v":0},1000,0,{"$f":"COUNTIFS('Daily Diary'!$A:$A,'Daily Report'!$B86,'Daily Diary'!$K:$K,'Daily Report'!I$12)","v":0},{"$f":"COUNTIFS('Daily Diary'!$A:$A,'Daily Report'!$B86,'Daily Diary'!$K:$K,'Daily Report'!J$12)","v":0},"",0.04,null,0.03,null,"",null,"",""]
["2023-07-31","2023-07-28",{"$f":"SUMIF('Daily Diary'!$A:$A,$B87,'Daily Diary'!$L:$L)","v":0},"",1000,{"$f":"Deposit_Withdraw!H79","v":0},1000,0,{"$f":"COUNTIFS('Daily Diary'!$A:$A,'Daily Report'!$B87,'Daily Diary'!$K:$K,'Daily Report'!I$12)","v":0},{"$f":"COUNTIFS('Daily Diary'!$A:$A,'Daily Report'!$B87,'Daily Diary'!$K:$K,'Daily Report'!J$12)","v":0},"",0.04,null,0.03,null,"",null,"",""]
["2023-07-31","2023-07-29",{"$f":"SUMIF('Daily Diary'!$A:$A,$B88,'Daily Diary'!$L:$L)","v":0},"",1000,{"$f":"Deposit_Withdraw!H80","v":0},1000,0,{"$f":"COUNTIFS('Daily Diary'!$A:$A,'Daily Report'!$B88,'Daily Diary'!$K:$K,'Daily Report'!I$12)","v":0},{"$f":"COUNTIFS('Daily Diary'!$A:$A,'Daily Report'!$B88,'Daily Diary'!$K:$K,'Daily Report'!J$12)","v":0},"",0.04,null,0.03,null,"",null,"",""]
["2023-07-31","2023-07-30",{"$f":"SUMIF('Daily Diary'!$A:$A,$B89,'Daily Diary'!$L:$L)","v":0},"",1000,{"$f":"Deposit_Withdraw!H81","v":0},1000,0,{"$f":"COUNTIFS('Daily Diary'!$A:$A,'Daily Report'!$B89,'Daily Diary'!$K:$K,'Daily Report'!I$12)","v":0},{"$f":"COUNTIFS('Daily Diary'!$A:$A,'Daily Report'!$B89,'Daily Diary'!$K:$K,'Daily Report'!J$12)","v":0},"",0.04,null,0.03,null,"",null,"",""]
["2023-07-31","2023-07-31",{"$f":"SUMIF('Daily Diary'!$A:$A,$B90,'Daily Diary'!$L:$L)","v":0},"",1000,{"$f":"Deposit_Withdraw!H82","v":0},1000,0,{"$f":"COUNTIFS('Daily Diary'!$A:$A,'Daily Report'!$B90,'Daily Diary'!$K:$K,'Daily Report'!I$12)","v":0},{"$f":"COUNTIFS('Daily Diary'!$A:$A,'Daily Report'!$B90,'Daily Diary'!$K:$K,'Daily Report'!J$12)","v":0},"",0.04,null,0.03,null,"",null,"",""]
["2023-08-31","2023-08-01",{"$f":"SUMIF('Daily Diary'!$A:$A,$B91,'Daily Diary'!$L:$L)","v":0},"",1000,{"$f":"Deposit_Withdraw!H83","v":0},1000,0,{"$f":"COUNTIFS('Daily Diary'!$A:$A,'Daily Report'!$B91,'Daily Diary'!$K:$K,'Daily Report'!I$12)","v":0},{"$f":"COUNTIFS('Daily Diary'!$A:$A,'Daily Report'!$B91,'Daily Diary'!$K:$K,'Daily Report'!J$12)","v":0},"",0.04,null,0.03,null,"",null,"",""]
["2023-08-31","2023-08-02",{"$f":"SUMIF('Daily Diary'!$A:$A,$B92,'Daily Diary'!$L:$L)","v":0},"",1000,{"$f":"Deposit_Withdraw!H84","v":0},1000,0,{"$f":"COUNTIFS('Daily Diary'!$A:$A,'Daily Report'!$B92,'Daily Diary'!$K:$K,'Daily Report'!I$12)","v":0},{"$f":"COUNTIFS('Daily Diary'!$A:$A,'Daily Report'!$B92,'Daily Diary'!$K:$K,'Daily Report'!J$12)","v":0},"",0.04,null,0.03,null,"",null,"",""]
["2023-08-31","2023-08-03",{"$f":"SUMIF('Daily Diary'!$A:$A,$B93,'Daily Diary'!$L:$L)","v":0},"",1000,{"$f":"Deposit_Withdraw!H85","v":0},1000,0,{"$f":"COUNTIFS('Daily Diary'!$A:$A,'Daily Report'!$B93,'Daily Diary'!$K:$K,'Daily Report'!I$12)","v":0},{"$f":"COUNTIFS('Daily Diary'!$A:$A,'Daily Report'!$B93,'Daily Diary'!$K:$K,'Daily Report'!J$12)","v":0},"",0.04,null,0.03,null,"",null,"",""]
["2023-08-31","2023-08-04",{"$f":"SUMIF('Daily Diary'!$A:$A,$B94,'Daily Diary'!$L:$L)","v":0},"",1000,{"$f":"Deposit_Withdraw!H86","v":0},1000,0,{"$f":"COUNTIFS('Daily Diary'!$A:$A,'Daily Report'!$B94,'Daily Diary'!$K:$K,'Daily Report'!I$12)","v":0},{"$f":"COUNTIFS('Daily Diary'!$A:$A,'Daily Report'!$B94,'Daily Diary'!$K:$K,'Daily Report'!J$12)","v":0},"",0.04,null,0.03,null,"",null,"",""]
["2023-08-31","2023-08-05",{"$f":"SUMIF('Daily Diary'!$A:$A,$B95,'Daily Diary'!$L:$L)","v":0},"",1000,{"$f":"Deposit_Withdraw!H87","v":0},1000,0,{"$f":"COUNTIFS('Daily Diary'!$A:$A,'Daily Report'!$B95,'Daily Diary'!$K:$K,'Daily Report'!I$12)","v":0},{"$f":"COUNTIFS('Daily Diary'!$A:$A,'Daily Report'!$B95,'Daily Diary'!$K:$K,'Daily Report'!J$12)","v":0},"",0.04,null,0.03,null,"",null,"",""]
["2023-08-31","2023-08-06",{"$f":"SUMIF('Daily Diary'!$A:$A,$B96,'Daily Diary'!$L:$L)","v":0},"",1000,{"$f":"Deposit_Withdraw!H88","v":0},1000,0,{"$f":"COUNTIFS('Daily Diary'!$A:$A,'Daily Report'!$B96,'Daily Diary'!$K:$K,'Daily Report'!I$12)","v":0},{"$f":"COUNTIFS('Daily Diary'!$A:$A,'Daily Report'!$B96,'Daily Diary'!$K:$K,'Daily Report'!J$12)","v":0},"",0.04,null,0.03,null,"",null,"",""]
["2023-08-31","2023-08-07",{"$f":"SUMIF('Daily Diary'!$A:$A,$B97,'Daily Diary'!$L:$L)","v":0},"",1000,{"$f":"Deposit_Withdraw!H89","v":0},1000,0,{"$f":"COUNTIFS('Daily Diary'!$A:$A,'Daily Report'!$B97,'Daily Diary'!$K:$K,'Daily Report'!I$12)","v":0},{"$f":"COUNTIFS('Daily Diary'!$A:$A,'Daily Report'!$B97,'Daily Diary'!$K:$K,'Daily Report'!J$12)","v":0},"",0.04,null,0.03,null,"",null,"",""]
["2023-08-31","2023-08-08",{"$f":"SUMIF('Daily Diary'!$A:$A,$B98,'Daily Diary'!$L:$L)","v":0},"",1000,{"$f":"Deposit_Withdraw!H90","v":0},1000,0,{"$f":"COUNTIFS('Daily Diary'!$A:$A,'Daily Report'!$B98,'Daily Diary'!$K:$K,'Daily Report'!I$12)","v":0},{"$f":"COUNTIFS('Daily Diary'!$A:$A,'Daily Report'!$B98,'Daily Diary'!$K:$K,'Daily Report'!J$12)","v":0},"",0.04,null,0.03,null,"",null,"",""]
["2023-08-31","2023-08-09",{"$f":"SUMIF('Daily Diary'!$A:$A,$B99,'Daily Diary'!$L:$L)","v":0},"",1000,{"$f":"Deposit_Withdraw!H91","v":0},1000,0,{"$f":"COUNTIFS('Daily Diary'!$A:$A,'Daily Report'!$B99,'Daily Diary'!$K:$K,'Daily Report'!I$12)","v":0},{"$f":"COUNTIFS('Daily Diary'!$A:$A,'Daily Report'!$B99,'Daily Diary'!$K:$K,'Daily Report'!J$12)","v":0},"",0.04,null,0.03,null,"",null,"",""]
["2023-08-31","2023-08-10",{"$f":"SUMIF('Daily Diary'!$A:$A,$B100,'Daily Diary'!$L:$L)","v":0},"",1000,{"$f":"Deposit_Withdraw!H92","v":0},1000,0,{"$f":"COUNTIFS('Daily Diary'!$A:$A,'Daily Report'!$B100,'Daily Diary'!$K:$K,'Daily Report'!I$12)","v":0},{"$f":"COUNTIFS('Daily Diary'!$A:$A,'Daily Report'!$B100,'Daily Diary'!$K:$K,'Daily Report'!J$12)","v":0},"",0.04,null,0.03,null,"",null,"",""]
["2023-08-31","2023-08-11",{"$f":"SUMIF('Daily Diary'!$A:$A,$B101,'Daily Diary'!$L:$L)","v":0},"",1000,{"$f":"Deposit_Withdraw!H93","v":0},1000,0,{"$f":"COUNTIFS('Daily Diary'!$A:$A,'Daily Report'!$B101,'Daily Diary'!$K:$K,'Daily Report'!I$12)","v":0},{"$f":"COUNTIFS('Daily Diary'!$A:$A,'Daily Report'!$B101,'Daily Diary'!$K:$K,'Daily Report'!J$12)","v":0},"",0.04,null,0.03,null,"",null,"",""]
["2023-08-31","2023-08-12",{"$f":"SUMIF('Daily Diary'!$A:$A,$B102,'Daily Diary'!$L:$L)","v":0},"",1000,{"$f":"Deposit_Withdraw!H94","v":0},1000,0,{"$f":"COUNTIFS('Daily Diary'!$A:$A,'Daily Report'!$B102,'Daily Diary'!$K:$K,'Daily Report'!I$12)","v":0},{"$f":"COUNTIFS('Daily Diary'!$A:$A,'Daily Report'!$B102,'Daily Diary'!$K:$K,'Daily Report'!J$12)","v":0},"",0.04,null,0.03,null,"",null,"",""]
["2023-08-31","2023-08-13",{"$f":"SUMIF('Daily Diary'!$A:$A,$B103,'Daily Diary'!$L:$L)","v":0},"",1000,{"$f":"Deposit_Withdraw!H95","v":0},1000,0,{"$f":"COUNTIFS('Daily Diary'!$A:$A,'Daily Report'!$B103,'Daily Diary'!$K:$K,'Daily Report'!I$12)","v":0},{"$f":"COUNTIFS('Daily Diary'!$A:$A,'Daily Report'!$B103,'Daily Diary'!$K:$K,'Daily Report'!J$12)","v":0},"",0.04,null,0.03,null,"",null,"",""]
["2023-08-31","2023-08-14",{"$f":"SUMIF('Daily Diary'!$A:$A,$B104,'Daily Diary'!$L:$L)","v":0},"",1000,{"$f":"Deposit_Withdraw!H96","v":0},1000,0,{"$f":"COUNTIFS('Daily Diary'!$A:$A,'Daily Report'!$B104,'Daily Diary'!$K:$K,'Daily Report'!I$12)","v":0},{"$f":"COUNTIFS('Daily Diary'!$A:$A,'Daily Report'!$B104,'Daily Diary'!$K:$K,'Daily Report'!J$12)","v":0},"",0.04,null,0.03,null,"",null,"",""]
["2023-08-31","2023-08-15",{"$f":"SUMIF('Daily Diary'!$A:$A,$B105,'Daily Diary'!$L:$L)","v":0},"",1000,{"$f":"Deposit_Withdraw!H97","v":0},1000,0,{"$f":"COUNTIFS('Daily Diary'!$A:$A,'Daily Report'!$B105,'Daily Diary'!$K:$K,'Daily Report'!I$12)","v":0},{"$f":"COUNTIFS('Daily Diary'!$A:$A,'Daily Report'!$B105,'Daily Diary'!$K:$K,'Daily Report'!J$12)","v":0},"",0.04,null,0.03,null,"",null,"",""]
["2023-08-31","2023-08-16",{"$f":"SUMIF('Daily Diary'!$A:$A,$B106,'Daily Diary'!$L:$L)","v":0},"",1000,{"$f":"Deposit_Withdraw!H98","v":0},1000,0,{"$f":"COUNTIFS('Daily Diary'!$A:$A,'Daily Report'!$B106,'Daily Diary'!$K:$K,'Daily Report'!I$12)","v":0},{"$f":"COUNTIFS('Daily Diary'!$A:$A,'Daily Report'!$B106,'Daily Diary'!$K:$K,'Daily Report'!J$12)","v":0},"",0.04,null,0.03,null,"",null,"",""]
["2023-08-31","2023-08-17",{"$f":"SUMIF('Daily Diary'!$A:$A,$B107,'Daily Diary'!$L:$L)","v":0},"",1000,{"$f":"Deposit_Withdraw!H99","v":0},1000,0,{"$f":"COUNTIFS('Daily Diary'!$A:$A,'Daily Report'!$B107,'Daily Diary'!$K:$K,'Daily Report'!I$12)","v":0},{"$f":"COUNTIFS('Daily Diary'!$A:$A,'Daily Report'!$B107,'Daily Diary'!$K:$K,'Daily Report'!J$12)","v":0},"",0.04,null,0.03,null,"",null,"",""]
["2023-08-31","2023-08-18",{"$f":"SUMIF('Daily Diary'!$A:$A,$B108,'Daily Diary'!$L:$L)","v":0},"",1000,{"$f":"Deposit_Withdraw!H100","v":0},1000,0,{"$f":"COUNTIFS('Daily Diary'!$A:$A,'Daily Report'!$B108,'Daily Diary'!$K:$K,'Daily Report'!I$12)","v":0},{"$f":"COUNTIFS('Daily Diary'!$A:$A,'Daily Report'!$B108,'Daily Diary'!$K:$K,'Daily Report'!J$12)","v":0},"",0.04,null,0.03,null,"",null,"",""]
["2023-08-31","2023-08-19",{"$f":"SUMIF('Daily Diary'!$A:$A,$B109,'Daily Diary'!$L:$L)","v":0},"",1000,{"$f":"Deposit_Withdraw!H101","v":0},1000,0,{"$f":"COUNTIFS('Daily Diary'!$A:$A,'Daily Report'!$B109,'Daily Diary'!$K:$K,'Daily Report'!I$12)","v":0},{"$f":"COUNTIFS('Daily Diary'!$A:$A,'Daily Report'!$B109,'Daily Diary'!$K:$K,'Daily Report'!J$12)","v":0},"",0.04,null,0.03,null,"",null,"",""]
["2023-08-31","2023-08-20",{"$f":"SUMIF('Daily Diary'!$A:$A,$B110,'Daily Diary'!$L:$L)","v":0},"",1000,{"$f":"Deposit_Withdraw!H102","v":0},1000,0,{"$f":"COUNTIFS('Daily Diary'!$A:$A,'Daily Report'!$B110,'Daily Diary'!$K:$K,'Daily Report'!I$12)","v":0},{"$f":"COUNTIFS('Daily Diary'!$A:$A,'Daily Report'!$B110,'Daily Diary'!$K:$K,'Daily Report'!J$12)","v":0},"",0.04,null,0.03,null,"",null,"",""]
["2023-08-31","2023-08-21",{"$f":"SUMIF('Daily Diary'!$A:$A,$B111,'Daily Diary'!$L:$L)","v":0},"",1000,{"$f":"Deposit_Withdraw!H103","v":0},1000,0,{"$f":"COUNTIFS('Daily Diary'!$A:$A,'Daily Report'!$B111,'Daily Diary'!$K:$K,'Daily Report'!I$12)","v":0},{"$f":"COUNTIFS('Daily Diary'!$A:$A,'Daily Report'!$B111,'Daily Diary'!$K:$K,'Daily Report'!J$12)","v":0},"",0.04,null,0.03,null,"",null,"",""]
["2023-08-31","2023-08-22",{"$f":"SUMIF('Daily Diary'!$A:$A,$B112,'Daily Diary'!$L:$L)","v":0},"",1000,{"$f":"Deposit_Withdraw!H104","v":0},1000,0,{"$f":"COUNTIFS('Daily Diary'!$A:$A,'Daily Report'!$B112,'Daily Diary'!$K:$K,'Daily Report'!I$12)","v":0},{"$f":"COUNTIFS('Daily Diary'!$A:$A,'Daily Report'!$B112,'Daily Diary'!$K:$K,'Daily Report'!J$12)","v":0},"",0.04,null,0.03,null,"",null,"",""]
["2023-08-31","2023-08-23",{"$f":"SUMIF('Daily Diary'!$A:$A,$B113,'Daily Diary'!$L:$L)","v":0},"",1000,{"$f":"Deposit_Withdraw!H105","v":0},1000,0,{"$f":"COUNTIFS('Daily Diary'!$A:$A,'Daily Report'!$B113,'Daily Diary'!$K:$K,'Daily Report'!I$12)","v":0},{"$f":"COUNTIFS('Daily Diary'!$A:$A,'Daily Report'!$B113,'Daily Diary'!$K:$K,'Daily Report'!J$12)","v":0},"",0.04,null,0.03,null,"",null,"",""]
["2023-08-31","2023-08-24",{"$f":"SUMIF('Daily Diary'!$A:$A,$B114,'Daily Diary'!$L:$L)","v":0},"",1000,{"$f":"Deposit_Withdraw!H106","v":0},1000,0,{"$f":"COUNTIFS('Daily Diary'!$A:$A,'Daily Report'!$B114,'Daily Diary'!$K:$K,'Daily Report'!I$12)","v":0},{"$f":"COUNTIFS('Daily Diary'!$A:$A,'Daily Report'!$B114,'Daily Diary'!$K:$K,'Daily Report'!J$12)","v":0},"",0.04,null,0.03,null,"",null,"",""]
["2023-08-31","2023-08-25",{"$f":"SUMIF('Daily Diary'!$A:$A,$B115,'Daily Diary'!$L:$L)","v":0},"",1000,{"$f":"Deposit_Withdraw!H107","v":0},1000,0,{"$f":"COUNTIFS('Daily Diary'!$A:$A,'Daily Report'!$B115,'Daily Diary'!$K:$K,'Daily Report'!I$12)","v":0},{"$f":"COUNTIFS('Daily Diary'!$A:$A,'Daily Report'!$B115,'Daily Diary'!$K:$K,'Daily Report'!J$12)","v":0},"",0.04,null,0.03,null,"",null,"",""]
["2023-08-31","2023-08-26",{"$f":"SUMIF('Daily Diary'!$A:$A,$B116,'Daily Diary'!$L:$L)","v":0},"",1000,{"$f":"Deposit_Withdraw!H108","v":0},1000,0,{"$f":"COUNTIFS('Daily Diary'!$A:$A,'Daily Report'!$B116,'Daily Diary'!$K:$K,'Daily Report'!I$12)","v":0},{"$f":"COUNTIFS('Daily Diary'!$A:$A,'Daily Report'!$B116,'Daily Diary'!$K:$K,'Daily Report'!J$12)","v":0},"",0.04,null,0.03,null,"",null,"",""]
["2023-08-31","2023-08-27",{"$f":"SUMIF('Daily Diary'!$A:$A,$B117,'Daily Diary'!$L:$L)","v":0},"",1000,{"$f":"Deposit_Withdraw!H109","v":0},1000,0,{"$f":"COUNTIFS('Daily Diary'!$A:$A,'Daily Report'!$B117,'Daily Diary'!$K:$K,'Daily Report'!I$12)","v":0},{"$f":"COUNTIFS('Daily Diary'!$A:$A,'Daily Report'!$B117,'Daily Diary'!$K:$K,'Daily Report'!J$12)","v":0},"",0.04,null,0.03,null,"",null,"",""]
["2023-08-31","2023-08-28",{"$f":"SUMIF('Daily Diary'!$A:$A,$B118,'Daily Diary'!$L:$L)","v":0},"",1000,{"$f":"Deposit_Withdraw!H110","v":0},1000,0,{"$f":"COUNTIFS('Daily Diary'!$A:$A,'Daily Report'!$B118,'Daily Diary'!$K:$K,'Daily Report'!I$12)","v":0},{"$f":"COUNTIFS('Daily Diary'!$A:$A,'Daily Report'!$B118,'Daily Diary'!$K:$K,'Daily Report'!J$12)","v":0},"",0.04,null,0.03,null,"",null,"",""]
["2023-08-31","2023-08-29",{"$f":"SUMIF('Daily Diary'!$A:$A,$B119,'Daily Diary'!$L:$L)","v":0},"",1000,{"$f":"Deposit_Withdraw!H111","v":0},1000,0,{"$f":"COUNTIFS('Daily Diary'!$A:$A,'Daily Report'!$B119,'Daily Diary'!$K:$K,'Daily Report'!I$12)","v":0},{"$f":"COUNTIFS('Daily Diary'!$A:$A,'Daily Report'!$B119,'Daily Diary'!$K:$K,'Daily Report'!J$12)","v":0},"",0.04,null,0.03,null,"",null,"",""]
["2023-08-31","2023-08-30",{"$f":"SUMIF('Daily Diary'!$A:$A,$B120,'Daily Diary'!$L:$L)","v":0},"",1000,{"$f":"Deposit_Withdraw!H112","v":0},1000,0,{"$f":"COUNTIFS('Daily Diary'!$A:$A,'Daily Report'!$B120,'Daily Diary'!$K:$K,'Daily Report'!I$12)","v":0},{"$f":"COUNTIFS('Daily Diary'!$A:$A,'Daily Report'!$B120,'Daily Diary'!$K:$K,'Daily Report'!J$12)","v":0},"",0.04,null,0.03,null,"",null,"",""]
["2023-08-31","2023-08-31",{"$f":"SUMIF('Daily Diary'!$A:$A,$B121,'Daily Diary'!$L:$L)","v":0},"",1000,{"$f":"Deposit_Withdraw!H113","v":0},1000,0,{"$f":"COUNTIFS('Daily Diary'!$A:$A,'Daily Report'!$B121,'Daily Diary'!$K:$K,'Daily Report'!I$12)","v":0},{"$f":"COUNTIFS('Daily Diary'!$A:$A,'Daily Report'!$B121,'Daily Diary'!$K:$K,'Daily Report'!J$12)","v":0},"",0.04,null,0.03,null,"",null,"",""]
["2023-09-30","2023-09-01",{"$f":"SUMIF('Daily Diary'!$A:$A,$B122,'Daily Diary'!$L:$L)","v":0},"",1000,{"$f":"Deposit_Withdraw!H114","v":0},1000,0,{"$f":"COUNTIFS('Daily Diary'!$A:$A,'Daily Report'!$B122,'Daily Diary'!$K:$K,'Daily Report'!I$12)","v":0},{"$f":"COUNTIFS('Daily Diary'!$A:$A,'Daily Report'!$B122,'Daily Diary'!$K:$K,'Daily Report'!J$12)","v":0},"",0.04,null,0.03,null,"",null,"",""]
["2023-09-30","2023-09-02",{"$f":"SUMIF('Daily Diary'!$A:$A,$B123,'Daily Diary'!$L:$L)","v":0},"",1000,{"$f":"Deposit_Withdraw!H115","v":0},1000,0,{"$f":"COUNTIFS('Daily Diary'!$A:$A,'Daily Report'!$B123,'Daily Diary'!$K:$K,'Daily Report'!I$12)","v":0},{"$f":"COUNTIFS('Daily Diary'!$A:$A,'Daily Report'!$B123,'Daily Diary'!$K:$K,'Daily Report'!J$12)","v":0},"",0.04,null,0.03,null,"",null,"",""]
["2023-09-30","2023-09-03",{"$f":"SUMIF('Daily Diary'!$A:$A,$B124,'Daily Diary'!$L:$L)","v":0},"",1000,{"$f":"Deposit_Withdraw!H116","v":0},1000,0,{"$f":"COUNTIFS('Daily Diary'!$A:$A,'Daily Report'!$B124,'Daily Diary'!$K:$K,'Daily Report'!I$12)","v":0},{"$f":"COUNTIFS('Daily Diary'!$A:$A,'Daily Report'!$B124,'Daily Diary'!$K:$K,'Daily Report'!J$12)","v":0},"",0.04,null,0.03,null,"",null,"",""]
["2023-09-30","2023-09-04",{"$f":"SUMIF('Daily Diary'!$A:$A,$B125,'Daily Diary'!$L:$L)","v":0},"",1000,{"$f":"Deposit_Withdraw!H117","v":0},1000,0,{"$f":"COUNTIFS('Daily Diary'!$A:$A,'Daily Report'!$B125,'Daily Diary'!$K:$K,'Daily Report'!I$12)","v":0},{"$f":"COUNTIFS('Daily Diary'!$A:$A,'Daily Report'!$B125,'Daily Diary'!$K:$K,'Daily Report'!J$12)","v":0},"",0.04,null,0.03,null,"",null,"",""]
["2023-09-30","2023-09-05",{"$f":"SUMIF('Daily Diary'!$A:$A,$B126,'Daily Diary'!$L:$L)","v":0},"",1000,{"$f":"Deposit_Withdraw!H118","v":0},1000,0,{"$f":"COUNTIFS('Daily Diary'!$A:$A,'Daily Report'!$B126,'Daily Diary'!$K:$K,'Daily Report'!I$12)","v":0},{"$f":"COUNTIFS('Daily Diary'!$A:$A,'Daily Report'!$B126,'Daily Diary'!$K:$K,'Daily Report'!J$12)","v":0},"",0.04,null,0.03,null,"",null,"",""]
["2023-09-30","2023-09-06",{"$f":"SUMIF('Daily Diary'!$A:$A,$B127,'Daily Diary'!$L:$L)","v":0},"",1000,{"$f":"Deposit_Withdraw!H119","v":0},1000,0,{"$f":"COUNTIFS('Daily Diary'!$A:$A,'Daily Report'!$B127,'Daily Diary'!$K:$K,'Daily Report'!I$12)","v":0},{"$f":"COUNTIFS('Daily Diary'!$A:$A,'Daily Report'!$B127,'Daily Diary'!$K:$K,'Daily Report'!J$12)","v":0},"",0.04,null,0.03,null,"",null,"",""]
["2023-09-30","2023-09-07",{"$f":"SUMIF('Daily Diary'!$A:$A,$B128,'Daily Diary'!$L:$L)","v":0},"",1000,{"$f":"Deposit_Withdraw!H120","v":0},1000,0,{"$f":"COUNTIFS('Daily Diary'!$A:$A,'Daily Report'!$B128,'Daily Diary'!$K:$K,'Daily Report'!I$12)","v":0},{"$f":"COUNTIFS('Daily Diary'!$A:$A,'Daily Report'!$B128,'Daily Diary'!$K:$K,'Daily Report'!J$12)","v":0},"",0.04,null,0.03,null,"",null,"",""]
["2023-09-30","2023-09-08",{"$f":"SUMIF('Daily Diary'!$A:$A,$B129,'Daily Diary'!$L:$L)","v":0},"",1000,{"$f":"Deposit_Withdraw!H121","v":0},1000,0,{"$f":"COUNTIFS('Daily Diary'!$A:$A,'Daily Report'!$B129,'Daily Diary'!$K:$K,'Daily Report'!I$12)","v":0},{"$f":"COUNTIFS('Daily Diary'!$A:$A,'Daily Report'!$B129,'Daily Diary'!$K:$K,'Daily Report'!J$12)","v":0},"",0.04,null,0.03,null,"",null,"",""]
["2023-09-30","2023-09-09",{"$f":"SUMIF('Daily Diary'!$A:$A,$B130,'Daily Diary'!$L:$L)","v":0},"",1000,{"$f":"Deposit_Withdraw!H122","v":0},1000,0,{"$f":"COUNTIFS('Daily Diary'!$A:$A,'Daily Report'!$B130,'Daily Diary'!$K:$K,'Daily Report'!I$12)","v":0},{"$f":"COUNTIFS('Daily Diary'!$A:$A,'Daily Report'!$B130,'Daily Diary'!$K:$K,'Daily Report'!J$12)","v":0},"",0.04,null,0.03,null,"",null,"",""]
["2023-09-30","2023-09-10",{"$f":"SUMIF('Daily Diary'!$A:$A,$B131,'Daily Diary'!$L:$L)","v":0},"",1000,{"$f":"Deposit_Withdraw!H123","v":0},1000,0,{"$f":"COUNTIFS('Daily Diary'!$A:$A,'Daily Report'!$B131,'Daily Diary'!$K:$K,'Daily Report'!I$12)","v":0},{"$f":"COUNTIFS('Daily Diary'!$A:$A,'Daily Report'!$B131,'Daily Diary'!$K:$K,'Daily Report'!J$12)","v":0},"",0.04,null,0.03,null,"",null,"",""]
["2023-09-30","2023-09-11",{"$f":"SUMIF('Daily Diary'!$A:$A,$B132,'Daily Diary'!$L:$L)","v":0},"",1000,{"$f":"Deposit_Withdraw!H124","v":0},1000,0,{"$f":"COUNTIFS('Daily Diary'!$A:$A,'Daily Report'!$B132,'Daily Diary'!$K:$K,'Daily Report'!I$12)","v":0},{"$f":"COUNTIFS('Daily Diary'!$A:$A,'Daily Report'!$B132,'Daily Diary'!$K:$K,'Daily Report'!J$12)","v":0},"",0.04,null,0.03,null,"",null,"",""]
["2023-09-30","2023-09-12",{"$f":"SUMIF('Daily Diary'!$A:$A,$B133,'Daily Diary'!$L:$L)","v":0},"",1000,{"$f":"Deposit_Withdraw!H125","v":0},1000,0,{"$f":"COUNTIFS('Daily Diary'!$A:$A,'Daily Report'!$B133,'Daily Diary'!$K:$K,'Daily Report'!I$12)","v":0},{"$f":"COUNTIFS('Daily Diary'!$A:$A,'Daily Report'!$B133,'Daily Diary'!$K:$K,'Daily Report'!J$12)","v":0},"",0.04,null,0.03,null,"",null,"",""]
["2023-09-30","2023-09-13",{"$f":"SUMIF('Daily Diary'!$A:$A,$B134,'Daily Diary'!$L:$L)","v":0},"",1000,{"$f":"Deposit_Withdraw!H126","v":0},1000,0,{"$f":"COUNTIFS('Daily Diary'!$A:$A,'Daily Report'!$B134,'Daily Diary'!$K:$K,'Daily Report'!I$12)","v":0},{"$f":"COUNTIFS('Daily Diary'!$A:$A,'Daily Report'!$B134,'Daily Diary'!$K:$K,'Daily Report'!J$12)","v":0},"",0.04,null,0.03,null,"",null,"",""]
["2023-09-30","2023-09-14",{"$f":"SUMIF('Daily Diary'!$A:$A,$B135,'Daily Diary'!$L:$L)","v":0},"",1000,{"$f":"Deposit_Withdraw!H127","v":0},1000,0,{"$f":"COUNTIFS('Daily Diary'!$A:$A,'Daily Report'!$B135,'Daily Diary'!$K:$K,'Daily Report'!I$12)","v":0},{"$f":"COUNTIFS('Daily Diary'!$A:$A,'Daily Report'!$B135,'Daily Diary'!$K:$K,'Daily Report'!J$12)","v":0},"",0.04,null,0.03,null,"",null,"",""]
["2023-09-30","2023-09-15",{"$f":"SUMIF('Daily Diary'!$A:$A,$B136,'Daily Diary'!$L:$L)","v":0},"",1000,{"$f":"Deposit_Withdraw!H128","v":0},1000,0,{"$f":"COUNTIFS('Daily Diary'!$A:$A,'Daily Report'!$B136,'Daily Diary'!$K:$K,'Daily Report'!I$12)","v":0},{"$f":"COUNTIFS('Daily Diary'!$A:$A,'Daily Report'!$B136,'Daily Diary'!$K:$K,'Daily Report'!J$12)","v":0},"",0.04,null,0.03,null,"",null,"",""]
["2023-09-30","2023-09-16",{"$f":"SUMIF('Daily Diary'!$A:$A,$B137,'Daily Diary'!$L:$L)","v":0},"",1000,{"$f":"Deposit_Withdraw!H129","v":0},1000,0,{"$f":"COUNTIFS('Daily Diary'!$A:$A,'Daily Report'!$B137,'Daily Diary'!$K:$K,'Daily Report'!I$12)","v":0},{"$f":"COUNTIFS('Daily Diary'!$A:$A,'Daily Report'!$B137,'Daily Diary'!$K:$K,'Daily Report'!J$12)","v":0},"",0.04,null,0.03,null,"",null,"",""]
["2023-09-30","2023-09-17",{"$f":"SUMIF('Daily Diary'!$A:$A,$B138,'Daily Diary'!$L:$L)","v":0},"",1000,{"$f":"Deposit_Withdraw!H130","v":0},1000,0,{"$f":"COUNTIFS('Daily Diary'!$A:$A,'Daily Report'!$B138,'Daily Diary'!$K:$K,'Daily Report'!I$12)","v":0},{"$f":"COUNTIFS('Daily Diary'!$A:$A,'Daily Report'!$B138,'Daily Diary'!$K:$K,'Daily Report'!J$12)","v":0},"",0.04,null,0.03,null,"",null,"",""]
["2023-09-30","2023-09-18",{"$f":"SUMIF('Daily Diary'!$A:$A,$B139,'Daily Diary'!$L:$L)","v":0},"",1000,{"$f":"Deposit_Withdraw!H131","v":0},1000,0,{"$f":"COUNTIFS('Daily Diary'!$A:$A,'Daily Report'!$B139,'Daily Diary'!$K:$K,'Daily Report'!I$12)","v":0},{"$f":"COUNTIFS('Daily Diary'!$A:$A,'Daily Report'!$B139,'Daily Diary'!$K:$K,'Daily Report'!J$12)","v":0},"",0.04,null,0.03,null,"",null,"",""]
["2023-09-30","2023-09-19",{"$f":"SUMIF('Daily Diary'!$A:$A,$B140,'Daily Diary'!$L:$L)","v":0},"",1000,{"$f":"Deposit_Withdraw!H132","v":0},1000,0,{"$f":"COUNTIFS('Daily Diary'!$A:$A,'Daily Report'!$B140,'Daily Diary'!$K:$K,'Daily Report'!I$12)","v":0},{"$f":"COUNTIFS('Daily Diary'!$A:$A,'Daily Report'!$B140,'Daily Diary'!$K:$K,'Daily Report'!J$12)","v":0},"",0.04,null,0.03,null,"",null,"",""]
[{"$f":"EOMONTH(B141,0)","v":"2023-09-30"},"2023-09-20",{"$f":"SUMIF('Daily Diary'!$A:$A,$B141,'Daily Diary'!$L:$L)","v":0},"",1000,{"$f":"Deposit_Withdraw!H133","v":0},1000,{"$f":"SUM(I141:J141)","v":0},{"$f":"COUNTIFS('Daily Diary'!$A:$A,'Daily Report'!$B141,'Daily Diary'!$K:$K,'Daily Report'!I$12)","v":0},{"$f":"COUNTIFS('Daily Diary'!$A:$A,'Daily Report'!$B141,'Daily Diary'!$K:$K,'Daily Report'!J$12)","v":0},{"$f":"IF(H141=0,\"\",IF(I141=I141,(I141/H141),IF(I141>J141,(I141/H141),(J141/H141))))","v":""},0.04,null,0.03,null,{"$f":"IF(D141=\"\",\"\",IF(D141<=-N141,\"STOP LOSS\",IF(D141>=L141,\"TAKE PROFIT\",\"\")))","v":""},null,{"$f":"IF(P141=\"TAKE PROFIT\",1,\"\")","v":""},{"$f":"IF(P141=\"STOP LOSS\",1,\"\")","v":""}]
["2023-09-30",{"$f":"B141+1","v":"2023-09-21"},{"$f":"SUMIF('Daily Diary'!$A:$A,$B142,'Daily Diary'!$L:$L)","v":0},{"$f":"IF(C142=0,\"\",C142/G142)","v":""},{"$f":"C142+E141","v":1000},{"$f":"Deposit_Withdraw!H134","v":0},{"$f":"G141+F142+C142","v":1000},0,{"$f":"COUNTIFS('Daily Diary'!$A:$A,'Daily Report'!$B142,'Daily Diary'!$K:$K,'Daily Report'!I$12)","v":0},{"$f":"COUNTIFS('Daily Diary'!$A:$A,'Daily Report'!$B142,'Daily Diary'!$K:$K,'Daily Report'!J$12)","v":0},"",0.04,null,0.03,null,"",null,"",""]
["2023-09-30","2023-09-22",{"$f":"SUMIF('Daily Diary'!$A:$A,$B143,'Daily Diary'!$L:$L)","v":0},"",1000,{"$f":"Deposit_Withdraw!H135","v":0},1000,0,{"$f":"COUNTIFS('Daily Diary'!$A:$A,'Daily Report'!$B143,'Daily Diary'!$K:$K,'Daily Report'!I$12)","v":0},{"$f":"COUNTIFS('Daily Diary'!$A:$A,'Daily Report'!$B143,'Daily Diary'!$K:$K,'Daily Report'!J$12)","v":0},"",0.04,null,0.03,null,"",null,"",""]
["2023-09-30","2023-09-23",{"$f":"SUMIF('Daily Diary'!$A:$A,$B144,'Daily Diary'!$L:$L)","v":0},"",1000,{"$f":"Deposit_Withdraw!H136","v":0},1000,0,{"$f":"COUNTIFS('Daily Diary'!$A:$A,'Daily Report'!$B144,'Daily Diary'!$K:$K,'Daily Report'!I$12)","v":0},{"$f":"COUNTIFS('Daily Diary'!$A:$A,'Daily Report'!$B144,'Daily Diary'!$K:$K,'Daily Report'!J$12)","v":0},"",0.04,null,0.03,null,"",null,"",""]
["2023-09-30","2023-09-24",{"$f":"SUMIF('Daily Diary'!$A:$A,$B145,'Daily Diary'!$L:$L)","v":0},"",1000,{"$f":"Deposit_Withdraw!H137","v":0},1000,0,{"$f":"COUNTIFS('Daily Diary'!$A:$A,'Daily Report'!$B145,'Daily Diary'!$K:$K,'Daily Report'!I$12)","v":0},{"$f":"COUNTIFS('Daily Diary'!$A:$A,'Daily Report'!$B145,'Daily Diary'!$K:$K,'Daily Report'!J$12)","v":0},"",0.04,null,0.03,null,"",null,"",""]
["2023-09-30","2023-09-25",{"$f":"SUMIF('Daily Diary'!$A:$A,$B146,'Daily Diary'!$L:$L)","v":0},"",1000,{"$f":"Deposit_Withdraw!H138","v":0},1000,0,{"$f":"COUNTIFS('Daily Diary'!$A:$A,'Daily Report'!$B146,'Daily Diary'!$K:$K,'Daily Report'!I$12)","v":0},{"$f":"COUNTIFS('Daily Diary'!$A:$A,'Daily Report'!$B146,'Daily Diary'!$K:$K,'Daily Report'!J$12)","v":0},"",0.04,null,0.03,null,"",null,"",""]
["2023-09-30","2023-09-26",{"$f":"SUMIF('Daily Diary'!$A:$A,$B147,'Daily Diary'!$L:$L)","v":0},"",1000,{"$f":"Deposit_Withdraw!H139","v":0},1000,0,{"$f":"COUNTIFS('Daily Diary'!$A:$A,'Daily Report'!$B147,'Daily Diary'!$K:$K,'Daily Report'!I$12)","v":0},{"$f":"COUNTIFS('Daily Diary'!$A:$A,'Daily Report'!$B147,'Daily Diary'!$K:$K,'Daily Report'!J$12)","v":0},"",0.04,null,0.03,null,"",null,"",""]
["2023-09-30","2023-09-27",{"$f":"SUMIF('Daily Diary'!$A:$A,$B148,'Daily Diary'!$L:$L)","v":0},"",1000,{"$f":"Deposit_Withdraw!H140","v":0},1000,0,{"$f":"COUNTIFS('Daily Diary'!$A:$A,'Daily Report'!$B148,'Daily Diary'!$K:$K,'Daily Report'!I$12)","v":0},{"$f":"COUNTIFS('Daily Diary'!$A:$A,'Daily Report'!$B148,'Daily Diary'!$K:$K,'Daily Report'!J$12)","v":0},"",0.04,null,0.03,null,"",null,"",""]
["2023-09-30","2023-09-28",{"$f":"SUMIF('Daily Diary'!$A:$A,$B149,'Daily Diary'!$L:$L)","v":0},"",1000,{"$f":"Deposit_Withdraw!H141","v":0},1000,0,{"$f":"COUNTIFS('Daily Diary'!$A:$A,'Daily Report'!$B149,'Daily Diary'!$K:$K,'Daily Report'!I$12)","v":0},{"$f":"COUNTIFS('Daily Diary'!$A:$A,'Daily Report'!$B149,'Daily Diary'!$K:$K,'Daily Report'!J$12)","v":0},"",0.04,null,0.03,null,"",null,"",""]
["2023-09-30","2023-09-29",{"$f":"SUMIF('Daily Diary'!$A:$A,$B150,'Daily Diary'!$L:$L)","v":0},"",1000,{"$f":"Deposit_Withdraw!H142","v":0},1000,0,{"$f":"COUNTIFS('Daily Diary'!$A:$A,'Daily Report'!$B150,'Daily Diary'!$K:$K,'Daily Report'!I$12)","v":0},{"$f":"COUNTIFS('Daily Diary'!$A:$A,'Daily Report'!$B150,'Daily Diary'!$K:$K,'Daily Report'!J$12)","v":0},"",0.04,null,0.03,null,"",null,"",""]
["2023-09-30","2023-09-30",{"$f":"SUMIF('Daily Diary'!$A:$A,$B151,'Daily Diary'!$L:$L)","v":0},"",1000,{"$f":"Deposit_Withdraw!H143","v":0},1000,0,{"$f":"COUNTIFS('Daily Diary'!$A:$A,'Daily Report'!$B151,'Daily Diary'!$K:$K,'Daily Report'!I$12)","v":0},{"$f":"COUNTIFS('Daily Diary'!$A:$A,'Daily Report'!$B151,'Daily Diary'!$K:$K,'Daily Report'!J$12)","v":0},"",0.04,null,0.03,null,"",null,"",""]
["2023-10-31","2023-10-01",{"$f":"SUMIF('Daily Diary'!$A:$A,$B152,'Daily Diary'!$L:$L)","v":0},"",1000,{"$f":"Deposit_Withdraw!H144","v":0},1000,0,{"$f":"COUNTIFS('Daily Diary'!$A:$A,'Daily Report'!$B152,'Daily Diary'!$K:$K,'Daily Report'!I$12)","v":0},{"$f":"COUNTIFS('Daily Diary'!$A:$A,'Daily Report'!$B152,'Daily Diary'!$K:$K,'Daily Report'!J$12)","v":0},"",0.04,null,0.03,null,"",null,"",""]
["2023-10-31","2023-10-02",{"$f":"SUMIF('Daily Diary'!$A:$A,$B153,'Daily Diary'!$L:$L)","v":0},"",1000,{"$f":"Deposit_Withdraw!H145","v":0},1000,0,{"$f":"COUNTIFS('Daily Diary'!$A:$A,'Daily Report'!$B153,'Daily Diary'!$K:$K,'Daily Report'!I$12)","v":0},{"$f":"COUNTIFS('Daily Diary'!$A:$A,'Daily Report'!$B153,'Daily Diary'!$K:$K,'Daily Report'!J$12)","v":0},"",0.04,null,0.03,null,"",null,"",""]
["2023-10-31","2023-10-03",{"$f":"SUMIF('Daily Diary'!$A:$A,$B154,'Daily Diary'!$L:$L)","v":0},"",1000,{"$f":"Deposit_Withdraw!H146","v":0},1000,0,{"$f":"COUNTIFS('Daily Diary'!$A:$A,'Daily Report'!$B154,'Daily Diary'!$K:$K,'Daily Report'!I$12)","v":0},{"$f":"COUNTIFS('Daily Diary'!$A:$A,'Daily Report'!$B154,'Daily Diary'!$K:$K,'Daily Report'!J$12)","v":0},"",0.04,null,0.03,null,"",null,"",""]
["2023-10-31","2023-10-04",{"$f":"SUMIF('Daily Diary'!$A:$A,$B155,'Daily Diary'!$L:$L)","v":0},"",1000,{"$f":"Deposit_Withdraw!H147","v":0},1000,0,{"$f":"COUNTIFS('Daily Diary'!$A:$A,'Daily Report'!$B155,'Daily Diary'!$K:$K,'Daily Report'!I$12)","v":0},{"$f":"COUNTIFS('Daily Diary'!$A:$A,'Daily Report'!$B155,'Daily Diary'!$K:$K,'Daily Report'!J$12)","v":0},"",0.04,null,0.03,null,"",null,"",""]
["2023-10-31","2023-10-05",{"$f":"SUMIF('Daily Diary'!$A:$A,$B156,'Daily Diary'!$L:$L)","v":0},"",1000,{"$f":"Deposit_Withdraw!H148","v":0},1000,0,{"$f":"COUNTIFS('Daily Diary'!$A:$A,'Daily Report'!$B156,'Daily Diary'!$K:$K,'Daily Report'!I$12)","v":0},{"$f":"COUNTIFS('Daily Diary'!$A:$A,'Daily Report'!$B156,'Daily Diary'!$K:$K,'Daily Report'!J$12)","v":0},"",0.04,null,0.03,null,"",null,"",""]
["2023-10-31","2023-10-06",{"$f":"SUMIF('Daily Diary'!$A:$A,$B157,'Daily Diary'!$L:$L)","v":0},"",1000,{"$f":"Deposit_Withdraw!H149","v":0},1000,0,{"$f":"COUNTIFS('Daily Diary'!$A:$A,'Daily Report'!$B157,'Daily Diary'!$K:$K,'Daily Report'!I$12)","v":0},{"$f":"COUNTIFS('Daily Diary'!$A:$A,'Daily Report'!$B157,'Daily Diary'!$K:$K,'Daily Report'!J$12)","v":0},"",0.04,null,0.03,null,"",null,"",""]
["2023-10-31","2023-10-07",{"$f":"SUMIF('Daily Diary'!$A:$A,$B158,'Daily Diary'!$L:$L)","v":0},"",1000,{"$f":"Deposit_Withdraw!H150","v":0},1000,0,{"$f":"COUNTIFS('Daily Diary'!$A:$A,'Daily Report'!$B158,'Daily Diary'!$K:$K,'Daily Report'!I$12)","v":0},{"$f":"COUNTIFS('Daily Diary'!$A:$A,'Daily Report'!$B158,'Daily Diary'!$K:$K,'Daily Report'!J$12)","v":0},"",0.04,null,0.03,null,"",null,"",""]
["2023-10-31","2023-10-08",{"$f":"SUMIF('Daily Diary'!$A:$A,$B159,'Daily Diary'!$L:$L)","v":0},"",1000,{"$f":"Deposit_Withdraw!H151","v":0},1000,0,{"$f":"COUNTIFS('Daily Diary'!$A:$A,'Daily Report'!$B159,'Daily Diary'!$K:$K,'Daily Report'!I$12)","v":0},{"$f":"COUNTIFS('Daily Diary'!$A:$A,'Daily Report'!$B159,'Daily Diary'!$K:$K,'Daily Report'!J$12)","v":0},"",0.04,null,0.03,null,"",null,"",""]
["2023-10-31","2023-10-09",{"$f":"SUMIF('Daily Diary'!$A:$A,$B160,'Daily Diary'!$L:$L)","v":0},"",1000,{"$f":"Deposit_Withdraw!H152","v":0},1000,0,{"$f":"COUNTIFS('Daily Diary'!$A:$A,'Daily Report'!$B160,'Daily Diary'!$K:$K,'Daily Report'!I$12)","v":0},{"$f":"COUNTIFS('Daily Diary'!$A:$A,'Daily Report'!$B160,'Daily Diary'!$K:$K,'Daily Report'!J$12)","v":0},"",0.04,null,0.03,null,"",null,"",""]
["2023-10-31","2023-10-10",{"$f":"SUMIF('Daily Diary'!$A:$A,$B161,'Daily Diary'!$L:$L)","v":0},"",1000,{"$f":"Deposit_Withdraw!H153","v":0},1000,0,{"$f":"COUNTIFS('Daily Diary'!$A:$A,'Daily Report'!$B161,'Daily Diary'!$K:$K,'Daily Report'!I$12)","v":0},{"$f":"COUNTIFS('Daily Diary'!$A:$A,'Daily Report'!$B161,'Daily Diary'!$K:$K,'Daily Report'!J$12)","v":0},"",0.04,null,0.03,null,"",null,"",""]
["2023-10-31","2023-10-11",{"$f":"SUMIF('Daily Diary'!$A:$A,$B162,'Daily Diary'!$L:$L)","v":0},"",1000,{"$f":"Deposit_Withdraw!H154","v":0},1000,0,{"$f":"COUNTIFS('Daily Diary'!$A:$A,'Daily Report'!$B162,'Daily Diary'!$K:$K,'Daily Report'!I$12)","v":0},{"$f":"COUNTIFS('Daily Diary'!$A:$A,'Daily Report'!$B162,'Daily Diary'!$K:$K,'Daily Report'!J$12)","v":0},"",0.04,null,0.03,null,"",null,"",""]
["2023-10-31","2023-10-12",{"$f":"SUMIF('Daily Diary'!$A:$A,$B163,'Daily Diary'!$L:$L)","v":0},"",1000,{"$f":"Deposit_Withdraw!H155","v":0},1000,0,{"$f":"COUNTIFS('Daily Diary'!$A:$A,'Daily Report'!$B163,'Daily Diary'!$K:$K,'Daily Report'!I$12)","v":0},{"$f":"COUNTIFS('Daily Diary'!$A:$A,'Daily Report'!$B163,'Daily Diary'!$K:$K,'Daily Report'!J$12)","v":0},"",0.04,null,0.03,null,"",null,"",""]
["2023-10-31","2023-10-13",{"$f":"SUMIF('Daily Diary'!$A:$A,$B164,'Daily Diary'!$L:$L)","v":0},"",1000,{"$f":"Deposit_Withdraw!H156","v":0},1000,0,{"$f":"COUNTIFS('Daily Diary'!$A:$A,'Daily Report'!$B164,'Daily Diary'!$K:$K,'Daily Report'!I$12)","v":0},{"$f":"COUNTIFS('Daily Diary'!$A:$A,'Daily Report'!$B164,'Daily Diary'!$K:$K,'Daily Report'!J$12)","v":0},"",0.04,null,0.03,null,"",null,"",""]
["2023-10-31","2023-10-14",{"$f":"SUMIF('Daily Diary'!$A:$A,$B165,'Daily Diary'!$L:$L)","v":0},"",1000,{"$f":"Deposit_Withdraw!H157","v":0},1000,0,{"$f":"COUNTIFS('Daily Diary'!$A:$A,'Daily Report'!$B165,'Daily Diary'!$K:$K,'Daily Report'!I$12)","v":0},{"$f":"COUNTIFS('Daily Diary'!$A:$A,'Daily Report'!$B165,'Daily Diary'!$K:$K,'Daily Report'!J$12)","v":0},"",0.04,null,0.03,null,"",null,"",""]
["2023-10-31","2023-10-15",{"$f":"SUMIF('Daily Diary'!$A:$A,$B166,'Daily Diary'!$L:$L)","v":0},"",1000,{"$f":"Deposit_Withdraw!H158","v":0},1000,0,{"$f":"COUNTIFS('Daily Diary'!$A:$A,'Daily Report'!$B166,'Daily Diary'!$K:$K,'Daily Report'!I$12)","v":0},{"$f":"COUNTIFS('Daily Diary'!$A:$A,'Daily Report'!$B166,'Daily Diary'!$K:$K,'Daily Report'!J$12)","v":0},"",0.04,null,0.03,null,"",null,"",""]
["2023-10-31","2023-10-16",{"$f":"SUMIF('Daily Diary'!$A:$A,$B167,'Daily Diary'!$L:$L)","v":0},"",1000,{"$f":"Deposit_Withdraw!H159","v":0},1000,0,{"$f":"COUNTIFS('Daily Diary'!$A:$A,'Daily Report'!$B167,'Daily Diary'!$K:$K,'Daily Report'!I$12)","v":0},{"$f":"COUNTIFS('Daily Diary'!$A:$A,'Daily Report'!$B167,'Daily Diary'!$K:$K,'Daily Report'!J$12)","v":0},"",0.04,null,0.03,null,"",null,"",""]
["2023-10-31","2023-10-17",{"$f":"SUMIF('Daily Diary'!$A:$A,$B168,'Daily Diary'!$L:$L)","v":0},"",1000,{"$f":"Deposit_Withdraw!H160","v":0},1000,0,{"$f":"COUNTIFS('Daily Diary'!$A:$A,'Daily Report'!$B168,'Daily Diary'!$K:$K,'Daily Report'!I$12)","v":0},{"$f":"COUNTIFS('Daily Diary'!$A:$A,'Daily Report'!$B168,'Daily Diary'!$K:$K,'Daily Report'!J$12)","v":0},"",0.04,null,0.03,null,"",null,"",""]
["2023-10-31","2023-10-18",{"$f":"SUMIF('Daily Diary'!$A:$A,$B169,'Daily Diary'!$L:$L)","v":0},"",1000,{"$f":"Deposit_Withdraw!H161","v":0},1000,0,{"$f":"COUNTIFS('Daily Diary'!$A:$A,'Daily Report'!$B169,'Daily Diary'!$K:$K,'Daily Report'!I$12)","v":0},{"$f":"COUNTIFS('Daily Diary'!$A:$A,'Daily Report'!$B169,'Daily Diary'!$K:$K,'Daily Report'!J$12)","v":0},"",0.04,null,0.03,null,"",null,"",""]
["2023-10-31","2023-10-19",{"$f":"SUMIF('Daily Diary'!$A:$A,$B170,'Daily Diary'!$L:$L)","v":0},"",1000,{"$f":"Deposit_Withdraw!H162","v":0},1000,0,{"$f":"COUNTIFS('Daily Diary'!$A:$A,'Daily Report'!$B170,'Daily Diary'!$K:$K,'Daily Report'!I$12)","v":0},{"$f":"COUNTIFS('Daily Diary'!$A:$A,'Daily Report'!$B170,'Daily Diary'!$K:$K,'Daily Report'!J$12)","v":0},"",0.04,null,0.03,null,"",null,"",""]
["2023-10-31","2023-10-20",{"$f":"SUMIF('Daily Diary'!$A:$A,$B171,'Daily Diary'!$L:$L)","v":0},"",1000,{"$f":"Deposit_Withdraw!H163","v":0},1000,0,{"$f":"COUNTIFS('Daily Diary'!$A:$A,'Daily Report'!$B171,'Daily Diary'!$K:$K,'Daily Report'!I$12)","v":0},{"$f":"COUNTIFS('Daily Diary'!$A:$A,'Daily Report'!$B171,'Daily Diary'!$K:$K,'Daily Report'!J$12)","v":0},"",0.04,null,0.03,null,"",null,"",""]
["2023-10-31","2023-10-21",{"$f":"SUMIF('Daily Diary'!$A:$A,$B172,'Daily Diary'!$L:$L)","v":0},"",1000,{"$f":"Deposit_Withdraw!H164","v":0},1000,0,{"$f":"COUNTIFS('Daily Diary'!$A:$A,'Daily Report'!$B172,'Daily Diary'!$K:$K,'Daily Report'!I$12)","v":0},{"$f":"COUNTIFS('Daily Diary'!$A:$A,'Daily Report'!$B172,'Daily Diary'!$K:$K,'Daily Report'!J$12)","v":0},"",0.04,null,0.03,null,"",null,"",""]
["2023-10-31","2023-10-22",{"$f":"SUMIF('Daily Diary'!$A:$A,$B173,'Daily Diary'!$L:$L)","v":0},"",1000,{"$f":"Deposit_Withdraw!H165","v":0},1000,0,{"$f":"COUNTIFS('Daily Diary'!$A:$A,'Daily Report'!$B173,'Daily Diary'!$K:$K,'Daily Report'!I$12)","v":0},{"$f":"COUNTIFS('Daily Diary'!$A:$A,'Daily Report'!$B173,'Daily Diary'!$K:$K,'Daily Report'!J$12)","v":0},"",0.04,null,0.03,null,"",null,"",""]
["2023-10-31","2023-10-23",{"$f":"SUMIF('Daily Diary'!$A:$A,$B174,'Daily Diary'!$L:$L)","v":0},"",1000,{"$f":"Deposit_Withdraw!H166","v":0},1000,0,{"$f":"COUNTIFS('Daily Diary'!$A:$A,'Daily Report'!$B174,'Daily Diary'!$K:$K,'Daily Report'!I$12)","v":0},{"$f":"COUNTIFS('Daily Diary'!$A:$A,'Daily Report'!$B174,'Daily Diary'!$K:$K,'Daily Report'!J$12)","v":0},"",0.04,null,0.03,null,"",null,"",""]
["2023-10-31","2023-10-24",{"$f":"SUMIF('Daily Diary'!$A:$A,$B175,'Daily Diary'!$L:$L)","v":0},"",1000,{"$f":"Deposit_Withdraw!H167","v":0},1000,0,{"$f":"COUNTIFS('Daily Diary'!$A:$A,'Daily Report'!$B175,'Daily Diary'!$K:$K,'Daily Report'!I$12)","v":0},{"$f":"COUNTIFS('Daily Diary'!$A:$A,'Daily Report'!$B175,'Daily Diary'!$K:$K,'Daily Report'!J$12)","v":0},"",0.04,null,0.03,null,"",null,"",""]
["2023-10-31","2023-10-25",{"$f":"SUMIF('Daily Diary'!$A:$A,$B176,'Daily Diary'!$L:$L)","v":0},"",1000,{"$f":"Deposit_Withdraw!H168","v":0},1000,0,{"$f":"COUNTIFS('Daily Diary'!$A:$A,'Daily Report'!$B176,'Daily Diary'!$K:$K,'Daily Report'!I$12)","v":0},{"$f":"COUNTIFS('Daily Diary'!$A:$A,'Daily Report'!$B176,'Daily Diary'!$K:$K,'Daily Report'!J$12)","v":0},"",0.04,null,0.03,null,"",null,"",""]
["2023-10-31","2023-10-26",{"$f":"SUMIF('Daily Diary'!$A:$A,$B177,'Daily Diary'!$L:$L)","v":0},"",1000,{"$f":"Deposit_Withdraw!H169","v":0},1000,0,{"$f":"COUNTIFS('Daily Diary'!$A:$A,'Daily Report'!$B177,'Daily Diary'!$K:$K,'Daily Report'!I$12)","v":0},{"$f":"COUNTIFS('Daily Diary'!$A:$A,'Daily Report'!$B177,'Daily Diary'!$K:$K,'Daily Report'!J$12)","v":0},"",0.04,null,0.03,null,"",null,"",""]
["2023-10-31","2023-10-27",{"$f":"SUMIF('Daily Diary'!$A:$A,$B178,'Daily Diary'!$L:$L)","v":0},"",1000,{"$f":"Deposit_Withdraw!H170","v":0},1000,0,{"$f":"COUNTIFS('Daily Diary'!$A:$A,'Daily Report'!$B178,'Daily Diary'!$K:$K,'Daily Report'!I$12)","v":0},{"$f":"COUNTIFS('Daily Diary'!$A:$A,'Daily Report'!$B178,'Daily Diary'!$K:$K,'Daily Report'!J$12)","v":0},"",0.04,null,0.03,null,"",null,"",""]
["2023-10-31","2023-10-28",{"$f":"SUMIF('Daily Diary'!$A:$A,$B179,'Daily Diary'!$L:$L)","v":0},"",1000,{"$f":"Deposit_Withdraw!H171","v":0},1000,0,{"$f":"COUNTIFS('Daily Diary'!$A:$A,'Daily Report'!$B179,'Daily Diary'!$K:$K,'Daily Report'!I$12)","v":0},{"$f":"COUNTIFS('Daily Diary'!$A:$A,'Daily Report'!$B179,'Daily Diary'!$K:$K,'Daily Report'!J$12)","v":0},"",0.04,null,0.03,null,"",null,"",""]
["2023-10-31","2023-10-29",{"$f":"SUMIF('Daily Diary'!$A:$A,$B180,'Daily Diary'!$L:$L)","v":0},"",1000,{"$f":"Deposit_Withdraw!H172","v":0},1000,0,{"$f":"COUNTIFS('Daily Diary'!$A:$A,'Daily Report'!$B180,'Daily Diary'!$K:$K,'Daily Report'!I$12)","v":0},{"$f":"COUNTIFS('Daily Diary'!$A:$A,'Daily Report'!$B180,'Daily Diary'!$K:$K,'Daily Report'!J$12)","v":0},"",0.04,null,0.03,null,"",null,"",""]
["2023-10-31","2023-10-30",{"$f":"SUMIF('Daily Diary'!$A:$A,$B181,'Daily Diary'!$L:$L)","v":0},"",1000,{"$f":"Deposit_Withdraw!H173","v":0},1000,0,{"$f":"COUNTIFS('Daily Diary'!$A:$A,'Daily Report'!$B181,'Daily Diary'!$K:$K,'Daily Report'!I$12)","v":0},{"$f":"COUNTIFS('Daily Diary'!$A:$A,'Daily Report'!$B181,'Daily Diary'!$K:$K,'Daily Report'!J$12)","v":0},"",0.04,null,0.03,null,"",null,"",""]
["2023-10-31","2023-10-31",{"$f":"SUMIF('Daily Diary'!$A:$A,$B182,'Daily Diary'!$L:$L)","v":0},"",1000,{"$f":"Deposit_Withdraw!H174","v":0},1000,0,{"$f":"COUNTIFS('Daily Diary'!$A:$A,'Daily Report'!$B182,'Daily Diary'!$K:$K,'Daily Report'!I$12)","v":0},{"$f":"COUNTIFS('Daily Diary'!$A:$A,'Daily Report'!$B182,'Daily Diary'!$K:$K,'Daily Report'!J$12)","v":0},"",0.04,null,0.03,null,"",null,"",""]
["2023-11-30","2023-11-01",{"$f":"SUMIF('Daily Diary'!$A:$A,$B183,'Daily Diary'!$L:$L)","v":0},"",1000,{"$f":"Deposit_Withdraw!H175","v":0},1000,0,{"$f":"COUNTIFS('Daily Diary'!$A:$A,'Daily Report'!$B183,'Daily Diary'!$K:$K,'Daily Report'!I$12)","v":0},{"$f":"COUNTIFS('Daily Diary'!$A:$A,'Daily Report'!$B183,'Daily Diary'!$K:$K,'Daily Report'!J$12)","v":0},"",0.04,null,0.03,null,"",null,"",""]
["2023-11-30","2023-11-02",{"$f":"SUMIF('Daily Diary'!$A:$A,$B184,'Daily Diary'!$L:$L)","v":0},"",1000,{"$f":"Deposit_Withdraw!H176","v":0},1000,0,{"$f":"COUNTIFS('Daily Diary'!$A:$A,'Daily Report'!$B184,'Daily Diary'!$K:$K,'Daily Report'!I$12)","v":0},{"$f":"COUNTIFS('Daily Diary'!$A:$A,'Daily Report'!$B184,'Daily Diary'!$K:$K,'Daily Report'!J$12)","v":0},"",0.04,null,0.03,null,"",null,"",""]
["2023-11-30","2023-11-03",{"$f":"SUMIF('Daily Diary'!$A:$A,$B185,'Daily Diary'!$L:$L)","v":0},"",1000,{"$f":"Deposit_Withdraw!H177","v":0},1000,0,{"$f":"COUNTIFS('Daily Diary'!$A:$A,'Daily Report'!$B185,'Daily Diary'!$K:$K,'Daily Report'!I$12)","v":0},{"$f":"COUNTIFS('Daily Diary'!$A:$A,'Daily Report'!$B185,'Daily Diary'!$K:$K,'Daily Report'!J$12)","v":0},"",0.04,null,0.03,null,"",null,"",""]
["2023-11-30","2023-11-04",{"$f":"SUMIF('Daily Diary'!$A:$A,$B186,'Daily Diary'!$L:$L)","v":0},"",1000,{"$f":"Deposit_Withdraw!H178","v":0},1000,0,{"$f":"COUNTIFS('Daily Diary'!$A:$A,'Daily Report'!$B186,'Daily Diary'!$K:$K,'Daily Report'!I$12)","v":0},{"$f":"COUNTIFS('Daily Diary'!$A:$A,'Daily Report'!$B186,'Daily Diary'!$K:$K,'Daily Report'!J$12)","v":0},"",0.04,null,0.03,null,"",null,"",""]
["2023-11-30","2023-11-05",{"$f":"SUMIF('Daily Diary'!$A:$A,$B187,'Daily Diary'!$L:$L)","v":0},"",1000,{"$f":"Deposit_Withdraw!H179","v":0},1000,0,{"$f":"COUNTIFS('Daily Diary'!$A:$A,'Daily Report'!$B187,'Daily Diary'!$K:$K,'Daily Report'!I$12)","v":0},{"$f":"COUNTIFS('Daily Diary'!$A:$A,'Daily Report'!$B187,'Daily Diary'!$K:$K,'Daily Report'!J$12)","v":0},"",0.04,null,0.03,null,"",null,"",""]
["2023-11-30","2023-11-06",{"$f":"SUMIF('Daily Diary'!$A:$A,$B188,'Daily Diary'!$L:$L)","v":0},"",1000,{"$f":"Deposit_Withdraw!H180","v":0},1000,0,{"$f":"COUNTIFS('Daily Diary'!$A:$A,'Daily Report'!$B188,'Daily Diary'!$K:$K,'Daily Report'!I$12)","v":0},{"$f":"COUNTIFS('Daily Diary'!$A:$A,'Daily Report'!$B188,'Daily Diary'!$K:$K,'Daily Report'!J$12)","v":0},"",0.04,null,0.03,null,"",null,"",""]
["2023-11-30","2023-11-07",{"$f":"SUMIF('Daily Diary'!$A:$A,$B189,'Daily Diary'!$L:$L)","v":0},"",1000,{"$f":"Deposit_Withdraw!H181","v":0},1000,0,{"$f":"COUNTIFS('Daily Diary'!$A:$A,'Daily Report'!$B189,'Daily Diary'!$K:$K,'Daily Report'!I$12)","v":0},{"$f":"COUNTIFS('Daily Diary'!$A:$A,'Daily Report'!$B189,'Daily Diary'!$K:$K,'Daily Report'!J$12)","v":0},"",0.04,null,0.03,null,"",null,"",""]
["2023-11-30","2023-11-08",{"$f":"SUMIF('Daily Diary'!$A:$A,$B190,'Daily Diary'!$L:$L)","v":0},"",1000,{"$f":"Deposit_Withdraw!H182","v":0},1000,0,{"$f":"COUNTIFS('Daily Diary'!$A:$A,'Daily Report'!$B190,'Daily Diary'!$K:$K,'Daily Report'!I$12)","v":0},{"$f":"COUNTIFS('Daily Diary'!$A:$A,'Daily Report'!$B190,'Daily Diary'!$K:$K,'Daily Report'!J$12)","v":0},"",0.04,null,0.03,null,"",null,"",""]
["2023-11-30","2023-11-09",{"$f":"SUMIF('Daily Diary'!$A:$A,$B191,'Daily Diary'!$L:$L)","v":0},"",1000,{"$f":"Deposit_Withdraw!H183","v":0},1000,0,{"$f":"COUNTIFS('Daily Diary'!$A:$A,'Daily Report'!$B191,'Daily Diary'!$K:$K,'Daily Report'!I$12)","v":0},{"$f":"COUNTIFS('Daily Diary'!$A:$A,'Daily Report'!$B191,'Daily Diary'!$K:$K,'Daily Report'!J$12)","v":0},"",0.04,null,0.03,null,"",null,"",""]
["2023-11-30","2023-11-10",{"$f":"SUMIF('Daily Diary'!$A:$A,$B192,'Daily Diary'!$L:$L)","v":0},"",1000,{"$f":"Deposit_Withdraw!H184","v":0},1000,0,{"$f":"COUNTIFS('Daily Diary'!$A:$A,'Daily Report'!$B192,'Daily Diary'!$K:$K,'Daily Report'!I$12)","v":0},{"$f":"COUNTIFS('Daily Diary'!$A:$A,'Daily Report'!$B192,'Daily Diary'!$K:$K,'Daily Report'!J$12)","v":0},"",0.04,null,0.03,null,"",null,"",""]
["2023-11-30","2023-11-11",{"$f":"SUMIF('Daily Diary'!$A:$A,$B193,'Daily Diary'!$L:$L)","v":0},"",1000,{"$f":"Deposit_Withdraw!H185","v":0},1000,0,{"$f":"COUNTIFS('Daily Diary'!$A:$A,'Daily Report'!$B193,'Daily Diary'!$K:$K,'Daily Report'!I$12)","v":0},{"$f":"COUNTIFS('Daily Diary'!$A:$A,'Daily Report'!$B193,'Daily Diary'!$K:$K,'Daily Report'!J$12)","v":0},"",0.04,null,0.03,null,"",null,"",""]
["2023-11-30","2023-11-12",{"$f":"SUMIF('Daily Diary'!$A:$A,$B194,'Daily Diary'!$L:$L)","v":0},"",1000,{"$f":"Deposit_Withdraw!H186","v":0},1000,0,{"$f":"COUNTIFS('Daily Diary'!$A:$A,'Daily Report'!$B194,'Daily Diary'!$K:$K,'Daily Report'!I$12)","v":0},{"$f":"COUNTIFS('Daily Diary'!$A:$A,'Daily Report'!$B194,'Daily Diary'!$K:$K,'Daily Report'!J$12)","v":0},"",0.04,null,0.03,null,"",null,"",""]
["2023-11-30","2023-11-13",{"$f":"SUMIF('Daily Diary'!$A:$A,$B195,'Daily Diary'!$L:$L)","v":0},"",1000,{"$f":"Deposit_Withdraw!H187","v":0},1000,0,{"$f":"COUNTIFS('Daily Diary'!$A:$A,'Daily Report'!$B195,'Daily Diary'!$K:$K,'Daily Report'!I$12)","v":0},{"$f":"COUNTIFS('Daily Diary'!$A:$A,'Daily Report'!$B195,'Daily Diary'!$K:$K,'Daily Report'!J$12)","v":0},"",0.04,null,0.03,null,"",null,"",""]
["2023-11-30","2023-11-14",{"$f":"SUMIF('Daily Diary'!$A:$A,$B196,'Daily Diary'!$L:$L)","v":0},"",1000,{"$f":"Deposit_Withdraw!H188","v":0},1000,0,{"$f":"COUNTIFS('Daily Diary'!$A:$A,'Daily Report'!$B196,'Daily Diary'!$K:$K,'Daily Report'!I$12)","v":0},{"$f":"COUNTIFS('Daily Diary'!$A:$A,'Daily Report'!$B196,'Daily Diary'!$K:$K,'Daily Report'!J$12)","v":0},"",0.04,null,0.03,null,"",null,"",""]
["2023-11-30","2023-11-15",{"$f":"SUMIF('Daily Diary'!$A:$A,$B197,'Daily Diary'!$L:$L)","v":0},"",1000,{"$f":"Deposit_Withdraw!H189","v":0},1000,0,{"$f":"COUNTIFS('Daily Diary'!$A:$A,'Daily Report'!$B197,'Daily Diary'!$K:$K,'Daily Report'!I$12)","v":0},{"$f":"COUNTIFS('Daily Diary'!$A:$A,'Daily Report'!$B197,'Daily Diary'!$K:$K,'Daily Report'!J$12)","v":0},"",0.04,null,0.03,null,"",null,"",""]
["2023-11-30","2023-11-16",{"$f":"SUMIF('Daily Diary'!$A:$A,$B198,'Daily Diary'!$L:$L)","v":0},"",1000,{"$f":"Deposit_Withdraw!H190","v":0},1000,0,{"$f":"COUNTIFS('Daily Diary'!$A:$A,'Daily Report'!$B198,'Daily Diary'!$K:$K,'Daily Report'!I$12)","v":0},{"$f":"COUNTIFS('Daily Diary'!$A:$A,'Daily Report'!$B198,'Daily Diary'!$K:$K,'Daily Report'!J$12)","v":0},"",0.04,null,0.03,null,"",null,"",""]
["2023-11-30","2023-11-17",{"$f":"SUMIF('Daily Diary'!$A:$A,$B199,'Daily Diary'!$L:$L)","v":0},"",1000,{"$f":"Deposit_Withdraw!H191","v":0},1000,0,{"$f":"COUNTIFS('Daily Diary'!$A:$A,'Daily Report'!$B199,'Daily Diary'!$K:$K,'Daily Report'!I$12)","v":0},{"$f":"COUNTIFS('Daily Diary'!$A:$A,'Daily Report'!$B199,'Daily Diary'!$K:$K,'Daily Report'!J$12)","v":0},"",0.04,null,0.03,null,"",null,"",""]
["2023-11-30","2023-11-18",{"$f":"SUMIF('Daily Diary'!$A:$A,$B200,'Daily Diary'!$L:$L)","v":0},"",1000,{"$f":"Deposit_Withdraw!H192","v":0},1000,0,{"$f":"COUNTIFS('Daily Diary'!$A:$A,'Daily Report'!$B200,'Daily Diary'!$K:$K,'Daily Report'!I$12)","v":0},{"$f":"COUNTIFS('Daily Diary'!$A:$A,'Daily Report'!$B200,'Daily Diary'!$K:$K,'Daily Report'!J$12)","v":0},"",0.04,null,0.03,null,"",null,"",""]
["2023-11-30","2023-11-19",{"$f":"SUMIF('Daily Diary'!$A:$A,$B201,'Daily Diary'!$L:$L)","v":0},"",1000,{"$f":"Deposit_Withdraw!H193","v":0},1000,0,{"$f":"COUNTIFS('Daily Diary'!$A:$A,'Daily Report'!$B201,'Daily Diary'!$K:$K,'Daily Report'!I$12)","v":0},{"$f":"COUNTIFS('Daily Diary'!$A:$A,'Daily Report'!$B201,'Daily Diary'!$K:$K,'Daily Report'!J$12)","v":0},"",0.04,null,0.03,null,"",null,"",""]
["2023-11-30","2023-11-20",{"$f":"SUMIF('Daily Diary'!$A:$A,$B202,'Daily Diary'!$L:$L)","v":0},"",1000,{"$f":"Deposit_Withdraw!H194","v":0},1000,0,{"$f":"COUNTIFS('Daily Diary'!$A:$A,'Daily Report'!$B202,'Daily Diary'!$K:$K,'Daily Report'!I$12)","v":0},{"$f":"COUNTIFS('Daily Diary'!$A:$A,'Daily Report'!$B202,'Daily Diary'!$K:$K,'Daily Report'!J$12)","v":0},"",0.04,null,0.03,null,"",null,"",""]
["2023-11-30","2023-11-21",{"$f":"SUMIF('Daily Diary'!$A:$A,$B203,'Daily Diary'!$L:$L)","v":0},"",1000,{"$f":"Deposit_Withdraw!H195","v":0},1000,0,{"$f":"COUNTIFS('Daily Diary'!$A:$A,'Daily Report'!$B203,'Daily Diary'!$K:$K,'Daily Report'!I$12)","v":0},{"$f":"COUNTIFS('Daily Diary'!$A:$A,'Daily Report'!$B203,'Daily Diary'!$K:$K,'Daily Report'!J$12)","v":0},"",0.04,null,0.03,null,"",null,"",""]
["2023-11-30","2023-11-22",{"$f":"SUMIF('Daily Diary'!$A:$A,$B204,'Daily Diary'!$L:$L)","v":0},"",1000,{"$f":"Deposit_Withdraw!H196","v":0},1000,0,{"$f":"COUNTIFS('Daily Diary'!$A:$A,'Daily Report'!$B204,'Daily Diary'!$K:$K,'Daily Report'!I$12)","v":0},{"$f":"COUNTIFS('Daily Diary'!$A:$A,'Daily Report'!$B204,'Daily Diary'!$K:$K,'Daily Report'!J$12)","v":0},"",0.04,null,0.03,null,"",null,"",""]
[{"$f":"EOMONTH(B205,0)","v":"2023-11-30"},"2023-11-23",{"$f":"SUMIF('Daily Diary'!$A:$A,$B205,'Daily Diary'!$L:$L)","v":0},"",1000,{"$f":"Deposit_Withdraw!H197","v":0},1000,{"$f":"SUM(I205:J205)","v":0},{"$f":"COUNTIFS('Daily Diary'!$A:$A,'Daily Report'!$B205,'Daily Diary'!$K:$K,'Daily Report'!I$12)","v":0},{"$f":"COUNTIFS('Daily Diary'!$A:$A,'Daily Report'!$B205,'Daily Diary'!$K:$K,'Daily Report'!J$12)","v":0},{"$f":"IF(H205=0,\"\",IF(I205=I205,(I205/H205),IF(I205>J205,(I205/H205),(J205/H205))))","v":""},0.04,null,0.03,null,{"$f":"IF(D205=\"\",\"\",IF(D205<=-N205,\"STOP LOSS\",IF(D205>=L205,\"TAKE PROFIT\",\"\")))","v":""},null,{"$f":"IF(P205=\"TAKE PROFIT\",1,\"\")","v":""},{"$f":"IF(P205=\"STOP LOSS\",1,\"\")","v":""}]
["2023-11-30",{"$f":"B205+1","v":"2023-11-24"},{"$f":"SUMIF('Daily Diary'!$A:$A,$B206,'Daily Diary'!$L:$L)","v":0},{"$f":"IF(C206=0,\"\",C206/G206)","v":""},{"$f":"C206+E205","v":1000},{"$f":"Deposit_Withdraw!H198","v":0},{"$f":"G205+F206+C206","v":1000},0,{"$f":"COUNTIFS('Daily Diary'!$A:$A,'Daily Report'!$B206,'Daily Diary'!$K:$K,'Daily Report'!I$12)","v":0},{"$f":"COUNTIFS('Daily Diary'!$A:$A,'Daily Report'!$B206,'Daily Diary'!$K:$K,'Daily Report'!J$12)","v":0},"",0.04,null,0.03,null,"",null,"",""]
["2023-11-30","2023-11-25",{"$f":"SUMIF('Daily Diary'!$A:$A,$B207,'Daily Diary'!$L:$L)","v":0},"",1000,{"$f":"Deposit_Withdraw!H199","v":0},1000,0,{"$f":"COUNTIFS('Daily Diary'!$A:$A,'Daily Report'!$B207,'Daily Diary'!$K:$K,'Daily Report'!I$12)","v":0},{"$f":"COUNTIFS('Daily Diary'!$A:$A,'Daily Report'!$B207,'Daily Diary'!$K:$K,'Daily Report'!J$12)","v":0},"",0.04,null,0.03,null,"",null,"",""]
["2023-11-30","2023-11-26",{"$f":"SUMIF('Daily Diary'!$A:$A,$B208,'Daily Diary'!$L:$L)","v":0},"",1000,{"$f":"Deposit_Withdraw!H200","v":0},1000,0,{"$f":"COUNTIFS('Daily Diary'!$A:$A,'Daily Report'!$B208,'Daily Diary'!$K:$K,'Daily Report'!I$12)","v":0},{"$f":"COUNTIFS('Daily Diary'!$A:$A,'Daily Report'!$B208,'Daily Diary'!$K:$K,'Daily Report'!J$12)","v":0},"",0.04,null,0.03,null,"",null,"",""]
["2023-11-30","2023-11-27",{"$f":"SUMIF('Daily Diary'!$A:$A,$B209,'Daily Diary'!$L:$L)","v":0},"",1000,{"$f":"Deposit_Withdraw!H201","v":0},1000,0,{"$f":"COUNTIFS('Daily Diary'!$A:$A,'Daily Report'!$B209,'Daily Diary'!$K:$K,'Daily Report'!I$12)","v":0},{"$f":"COUNTIFS('Daily Diary'!$A:$A,'Daily Report'!$B209,'Daily Diary'!$K:$K,'Daily Report'!J$12)","v":0},"",0.04,null,0.03,null,"",null,"",""]
["2023-11-30","2023-11-28",{"$f":"SUMIF('Daily Diary'!$A:$A,$B210,'Daily Diary'!$L:$L)","v":0},"",1000,{"$f":"Deposit_Withdraw!H202","v":0},1000,0,{"$f":"COUNTIFS('Daily Diary'!$A:$A,'Daily Report'!$B210,'Daily Diary'!$K:$K,'Daily Report'!I$12)","v":0},{"$f":"COUNTIFS('Daily Diary'!$A:$A,'Daily Report'!$B210,'Daily Diary'!$K:$K,'Daily Report'!J$12)","v":0},"",0.04,null,0.03,null,"",null,"",""]
["2023-11-30","2023-11-29",{"$f":"SUMIF('Daily Diary'!$A:$A,$B211,'Daily Diary'!$L:$L)","v":0},"",1000,{"$f":"Deposit_Withdraw!H203","v":0},1000,0,{"$f":"COUNTIFS('Daily Diary'!$A:$A,'Daily Report'!$B211,'Daily Diary'!$K:$K,'Daily Report'!I$12)","v":0},{"$f":"COUNTIFS('Daily Diary'!$A:$A,'Daily Report'!$B211,'Daily Diary'!$K:$K,'Daily Report'!J$12)","v":0},"",0.04,null,0.03,null,"",null,"",""]
["2023-11-30","2023-11-30",{"$f":"SUMIF('Daily Diary'!$A:$A,$B212,'Daily Diary'!$L:$L)","v":0},"",1000,{"$f":"Deposit_Withdraw!H204","v":0},1000,0,{"$f":"COUNTIFS('Daily Diary'!$A:$A,'Daily Report'!$B212,'Daily Diary'!$K:$K,'Daily Report'!I$12)","v":0},{"$f":"COUNTIFS('Daily Diary'!$A:$A,'Daily Report'!$B212,'Daily Diary'!$K:$K,'Daily Report'!J$12)","v":0},"",0.04,null,0.03,null,"",null,"",""]
["2023-12-31","2023-12-01",{"$f":"SUMIF('Daily Diary'!$A:$A,$B213,'Daily Diary'!$L:$L)","v":0},"",1000,{"$f":"Deposit_Withdraw!H205","v":0},1000,0,{"$f":"COUNTIFS('Daily Diary'!$A:$A,'Daily Report'!$B213,'Daily Diary'!$K:$K,'Daily Report'!I$12)","v":0},{"$f":"COUNTIFS('Daily Diary'!$A:$A,'Daily Report'!$B213,'Daily Diary'!$K:$K,'Daily Report'!J$12)","v":0},"",0.04,null,0.03,null,"",null,"",""]
["2023-12-31","2023-12-02",{"$f":"SUMIF('Daily Diary'!$A:$A,$B214,'Daily Diary'!$L:$L)","v":0},"",1000,{"$f":"Deposit_Withdraw!H206","v":0},1000,0,{"$f":"COUNTIFS('Daily Diary'!$A:$A,'Daily Report'!$B214,'Daily Diary'!$K:$K,'Daily Report'!I$12)","v":0},{"$f":"COUNTIFS('Daily Diary'!$A:$A,'Daily Report'!$B214,'Daily Diary'!$K:$K,'Daily Report'!J$12)","v":0},"",0.04,null,0.03,null,"",null,"",""]
["2023-12-31","2023-12-03",{"$f":"SUMIF('Daily Diary'!$A:$A,$B215,'Daily Diary'!$L:$L)","v":0},"",1000,{"$f":"Deposit_Withdraw!H207","v":0},1000,0,{"$f":"COUNTIFS('Daily Diary'!$A:$A,'Daily Report'!$B215,'Daily Diary'!$K:$K,'Daily Report'!I$12)","v":0},{"$f":"COUNTIFS('Daily Diary'!$A:$A,'Daily Report'!$B215,'Daily Diary'!$K:$K,'Daily Report'!J$12)","v":0},"",0.04,null,0.03,null,"",null,"",""]
["2023-12-31","2023-12-04",{"$f":"SUMIF('Daily Diary'!$A:$A,$B216,'Daily Diary'!$L:$L)","v":0},"",1000,{"$f":"Deposit_Withdraw!H208","v":0},1000,0,{"$f":"COUNTIFS('Daily Diary'!$A:$A,'Daily Report'!$B216,'Daily Diary'!$K:$K,'Daily Report'!I$12)","v":0},{"$f":"COUNTIFS('Daily Diary'!$A:$A,'Daily Report'!$B216,'Daily Diary'!$K:$K,'Daily Report'!J$12)","v":0},"",0.04,null,0.03,null,"",null,"",""]
["2023-12-31","2023-12-05",{"$f":"SUMIF('Daily Diary'!$A:$A,$B217,'Daily Diary'!$L:$L)","v":0},"",1000,{"$f":"Deposit_Withdraw!H209","v":0},1000,0,{"$f":"COUNTIFS('Daily Diary'!$A:$A,'Daily Report'!$B217,'Daily Diary'!$K:$K,'Daily Report'!I$12)","v":0},{"$f":"COUNTIFS('Daily Diary'!$A:$A,'Daily Report'!$B217,'Daily Diary'!$K:$K,'Daily Report'!J$12)","v":0},"",0.04,null,0.03,null,"",null,"",""]
["2023-12-31","2023-12-06",{"$f":"SUMIF('Daily Diary'!$A:$A,$B218,'Daily Diary'!$L:$L)","v":0},"",1000,{"$f":"Deposit_Withdraw!H210","v":0},1000,0,{"$f":"COUNTIFS('Daily Diary'!$A:$A,'Daily Report'!$B218,'Daily Diary'!$K:$K,'Daily Report'!I$12)","v":0},{"$f":"COUNTIFS('Daily Diary'!$A:$A,'Daily Report'!$B218,'Daily Diary'!$K:$K,'Daily Report'!J$12)","v":0},"",0.04,null,0.03,null,"",null,"",""]
["2023-12-31","2023-12-07",{"$f":"SUMIF('Daily Diary'!$A:$A,$B219,'Daily Diary'!$L:$L)","v":0},"",1000,{"$f":"Deposit_Withdraw!H211","v":0},1000,0,{"$f":"COUNTIFS('Daily Diary'!$A:$A,'Daily Report'!$B219,'Daily Diary'!$K:$K,'Daily Report'!I$12)","v":0},{"$f":"COUNTIFS('Daily Diary'!$A:$A,'Daily Report'!$B219,'Daily Diary'!$K:$K,'Daily Report'!J$12)","v":0},"",0.04,null,0.03,null,"",null,"",""]
["2023-12-31","2023-12-08",{"$f":"SUMIF('Daily Diary'!$A:$A,$B220,'Daily Diary'!$L:$L)","v":0},"",1000,{"$f":"Deposit_Withdraw!H212","v":0},1000,0,{"$f":"COUNTIFS('Daily Diary'!$A:$A,'Daily Report'!$B220,'Daily Diary'!$K:$K,'Daily Report'!I$12)","v":0},{"$f":"COUNTIFS('Daily Diary'!$A:$A,'Daily Report'!$B220,'Daily Diary'!$K:$K,'Daily Report'!J$12)","v":0},"",0.04,null,0.03,null,"",null,"",""]
["2023-12-31","2023-12-09",{"$f":"SUMIF('Daily Diary'!$A:$A,$B221,'Daily Diary'!$L:$L)","v":0},"",1000,{"$f":"Deposit_Withdraw!H213","v":0},1000,0,{"$f":"COUNTIFS('Daily Diary'!$A:$A,'Daily Report'!$B221,'Daily Diary'!$K:$K,'Daily Report'!I$12)","v":0},{"$f":"COUNTIFS('Daily Diary'!$A:$A,'Daily Report'!$B221,'Daily Diary'!$K:$K,'Daily Report'!J$12)","v":0},"",0.04,null,0.03,null,"",null,"",""]
["2023-12-31","2023-12-10",{"$f":"SUMIF('Daily Diary'!$A:$A,$B222,'Daily Diary'!$L:$L)","v":0},"",1000,{"$f":"Deposit_Withdraw!H214","v":0},1000,0,{"$f":"COUNTIFS('Daily Diary'!$A:$A,'Daily Report'!$B222,'Daily Diary'!$K:$K,'Daily Report'!I$12)","v":0},{"$f":"COUNTIFS('Daily Diary'!$A:$A,'Daily Report'!$B222,'Daily Diary'!$K:$K,'Daily Report'!J$12)","v":0},"",0.04,null,0.03,null,"",null,"",""]
["2023-12-31","2023-12-11",{"$f":"SUMIF('Daily Diary'!$A:$A,$B223,'Daily Diary'!$L:$L)","v":0},"",1000,{"$f":"Deposit_Withdraw!H215","v":0},1000,0,{"$f":"COUNTIFS('Daily Diary'!$A:$A,'Daily Report'!$B223,'Daily Diary'!$K:$K,'Daily Report'!I$12)","v":0},{"$f":"COUNTIFS('Daily Diary'!$A:$A,'Daily Report'!$B223,'Daily Diary'!$K:$K,'Daily Report'!J$12)","v":0},"",0.04,null,0.03,null,"",null,"",""]
["2023-12-31","2023-12-12",{"$f":"SUMIF('Daily Diary'!$A:$A,$B224,'Daily Diary'!$L:$L)","v":0},"",1000,{"$f":"Deposit_Withdraw!H216","v":0},1000,0,{"$f":"COUNTIFS('Daily Diary'!$A:$A,'Daily Report'!$B224,'Daily Diary'!$K:$K,'Daily Report'!I$12)","v":0},{"$f":"COUNTIFS('Daily Diary'!$A:$A,'Daily Report'!$B224,'Daily Diary'!$K:$K,'Daily Report'!J$12)","v":0},"",0.04,null,0.03,null,"",null,"",""]
["2023-12-31","2023-12-13",{"$f":"SUMIF('Daily Diary'!$A:$A,$B225,'Daily Diary'!$L:$L)","v":0},"",1000,{"$f":"Deposit_Withdraw!H217","v":0},1000,0,{"$f":"COUNTIFS('Daily Diary'!$A:$A,'Daily Report'!$B225,'Daily Diary'!$K:$K,'Daily Report'!I$12)","v":0},{"$f":"COUNTIFS('Daily Diary'!$A:$A,'Daily Report'!$B225,'Daily Diary'!$K:$K,'Daily Report'!J$12)","v":0},"",0.04,null,0.03,null,"",null,"",""]
["2023-12-31","2023-12-14",{"$f":"SUMIF('Daily Diary'!$A:$A,$B226,'Daily Diary'!$L:$L)","v":0},"",1000,{"$f":"Deposit_Withdraw!H218","v":0},1000,0,{"$f":"COUNTIFS('Daily Diary'!$A:$A,'Daily Report'!$B226,'Daily Diary'!$K:$K,'Daily Report'!I$12)","v":0},{"$f":"COUNTIFS('Daily Diary'!$A:$A,'Daily Report'!$B226,'Daily Diary'!$K:$K,'Daily Report'!J$12)","v":0},"",0.04,null,0.03,null,"",null,"",""]
["2023-12-31","2023-12-15",{"$f":"SUMIF('Daily Diary'!$A:$A,$B227,'Daily Diary'!$L:$L)","v":0},"",1000,{"$f":"Deposit_Withdraw!H219","v":0},1000,0,{"$f":"COUNTIFS('Daily Diary'!$A:$A,'Daily Report'!$B227,'Daily Diary'!$K:$K,'Daily Report'!I$12)","v":0},{"$f":"COUNTIFS('Daily Diary'!$A:$A,'Daily Report'!$B227,'Daily Diary'!$K:$K,'Daily Report'!J$12)","v":0},"",0.04,null,0.03,null,"",null,"",""]
["2023-12-31","2023-12-16",{"$f":"SUMIF('Daily Diary'!$A:$A,$B228,'Daily Diary'!$L:$L)","v":0},"",1000,{"$f":"Deposit_Withdraw!H220","v":0},1000,0,{"$f":"COUNTIFS('Daily Diary'!$A:$A,'Daily Report'!$B228,'Daily Diary'!$K:$K,'Daily Report'!I$12)","v":0},{"$f":"COUNTIFS('Daily Diary'!$A:$A,'Daily Report'!$B228,'Daily Diary'!$K:$K,'Daily Report'!J$12)","v":0},"",0.04,null,0.03,null,"",null,"",""]
["2023-12-31","2023-12-17",{"$f":"SUMIF('Daily Diary'!$A:$A,$B229,'Daily Diary'!$L:$L)","v":0},"",1000,{"$f":"Deposit_Withdraw!H221","v":0},1000,0,{"$f":"COUNTIFS('Daily Diary'!$A:$A,'Daily Report'!$B229,'Daily Diary'!$K:$K,'Daily Report'!I$12)","v":0},{"$f":"COUNTIFS('Daily Diary'!$A:$A,'Daily Report'!$B229,'Daily Diary'!$K:$K,'Daily Report'!J$12)","v":0},"",0.04,null,0.03,null,"",null,"",""]
["2023-12-31","2023-12-18",{"$f":"SUMIF('Daily Diary'!$A:$A,$B230,'Daily Diary'!$L:$L)","v":0},"",1000,{"$f":"Deposit_Withdraw!H222","v":0},1000,0,{"$f":"COUNTIFS('Daily Diary'!$A:$A,'Daily Report'!$B230,'Daily Diary'!$K:$K,'Daily Report'!I$12)","v":0},{"$f":"COUNTIFS('Daily Diary'!$A:$A,'Daily Report'!$B230,'Daily Diary'!$K:$K,'Daily Report'!J$12)","v":0},"",0.04,null,0.03,null,"",null,"",""]
["2023-12-31","2023-12-19",{"$f":"SUMIF('Daily Diary'!$A:$A,$B231,'Daily Diary'!$L:$L)","v":0},"",1000,{"$f":"Deposit_Withdraw!H223","v":0},1000,0,{"$f":"COUNTIFS('Daily Diary'!$A:$A,'Daily Report'!$B231,'Daily Diary'!$K:$K,'Daily Report'!I$12)","v":0},{"$f":"COUNTIFS('Daily Diary'!$A:$A,'Daily Report'!$B231,'Daily Diary'!$K:$K,'Daily Report'!J$12)","v":0},"",0.04,null,0.03,null,"",null,"",""]
["2023-12-31","2023-12-20",{"$f":"SUMIF('Daily Diary'!$A:$A,$B232,'Daily Diary'!$L:$L)","v":0},"",1000,{"$f":"Deposit_Withdraw!H224","v":0},1000,0,{"$f":"COUNTIFS('Daily Diary'!$A:$A,'Daily Report'!$B232,'Daily Diary'!$K:$K,'Daily Report'!I$12)","v":0},{"$f":"COUNTIFS('Daily Diary'!$A:$A,'Daily Report'!$B232,'Daily Diary'!$K:$K,'Daily Report'!J$12)","v":0},"",0.04,null,0.03,null,"",null,"",""]
["2023-12-31","2023-12-21",{"$f":"SUMIF('Daily Diary'!$A:$A,$B233,'Daily Diary'!$L:$L)","v":0},"",1000,{"$f":"Deposit_Withdraw!H225","v":0},1000,0,{"$f":"COUNTIFS('Daily Diary'!$A:$A,'Daily Report'!$B233,'Daily Diary'!$K:$K,'Daily Report'!I$12)","v":0},{"$f":"COUNTIFS('Daily Diary'!$A:$A,'Daily Report'!$B233,'Daily Diary'!$K:$K,'Daily Report'!J$12)","v":0},"",0.04,null,0.03,null,"",null,"",""]
["2023-12-31","2023-12-22",{"$f":"SUMIF('Daily Diary'!$A:$A,$B234,'Daily Diary'!$L:$L)","v":0},"",1000,{"$f":"Deposit_Withdraw!H226","v":0},1000,0,{"$f":"COUNTIFS('Daily Diary'!$A:$A,'Daily Report'!$B234,'Daily Diary'!$K:$K,'Daily Report'!I$12)","v":0},{"$f":"COUNTIFS('Daily Diary'!$A:$A,'Daily Report'!$B234,'Daily Diary'!$K:$K,'Daily Report'!J$12)","v":0},"",0.04,null,0.03,null,"",null,"",""]
["2023-12-31","2023-12-23",{"$f":"SUMIF('Daily Diary'!$A:$A,$B235,'Daily Diary'!$L:$L)","v":0},"",1000,{"$f":"Deposit_Withdraw!H227","v":0},1000,0,{"$f":"COUNTIFS('Daily Diary'!$A:$A,'Daily Report'!$B235,'Daily Diary'!$K:$K,'Daily Report'!I$12)","v":0},{"$f":"COUNTIFS('Daily Diary'!$A:$A,'Daily Report'!$B235,'Daily Diary'!$K:$K,'Daily Report'!J$12)","v":0},"",0.04,null,0.03,null,"",null,"",""]
["2023-12-31","2023-12-24",{"$f":"SUMIF('Daily Diary'!$A:$A,$B236,'Daily Diary'!$L:$L)","v":0},"",1000,{"$f":"Deposit_Withdraw!H228","v":0},1000,0,{"$f":"COUNTIFS('Daily Diary'!$A:$A,'Daily Report'!$B236,'Daily Diary'!$K:$K,'Daily Report'!I$12)","v":0},{"$f":"COUNTIFS('Daily Diary'!$A:$A,'Daily Report'!$B236,'Daily Diary'!$K:$K,'Daily Report'!J$12)","v":0},"",0.04,null,0.03,null,"",null,"",""]
["2023-12-31","2023-12-25",{"$f":"SUMIF('Daily Diary'!$A:$A,$B237,'Daily Diary'!$L:$L)","v":0},"",1000,{"$f":"Deposit_Withdraw!H229","v":0},1000,0,{"$f":"COUNTIFS('Daily Diary'!$A:$A,'Daily Report'!$B237,'Daily Diary'!$K:$K,'Daily Report'!I$12)","v":0},{"$f":"COUNTIFS('Daily Diary'!$A:$A,'Daily Report'!$B237,'Daily Diary'!$K:$K,'Daily Report'!J$12)","v":0},"",0.04,null,0.03,null,"",null,"",""]
["2023-12-31","2023-12-26",{"$f":"SUMIF('Daily Diary'!$A:$A,$B238,'Daily Diary'!$L:$L)","v":0},"",1000,{"$f":"Deposit_Withdraw!H230","v":0},1000,0,{"$f":"COUNTIFS('Daily Diary'!$A:$A,'Daily Report'!$B238,'Daily Diary'!$K:$K,'Daily Report'!I$12)","v":0},{"$f":"COUNTIFS('Daily Diary'!$A:$A,'Daily Report'!$B238,'Daily Diary'!$K:$K,'Daily Report'!J$12)","v":0},"",0.04,null,0.03,null,"",null,"",""]
["2023-12-31","2023-12-27",{"$f":"SUMIF('Daily Diary'!$A:$A,$B239,'Daily Diary'!$L:$L)","v":0},"",1000,{"$f":"Deposit_Withdraw!H231","v":0},1000,0,{"$f":"COUNTIFS('Daily Diary'!$A:$A,'Daily Report'!$B239,'Daily Diary'!$K:$K,'Daily Report'!I$12)","v":0},{"$f":"COUNTIFS('Daily Diary'!$A:$A,'Daily Report'!$B239,'Daily Diary'!$K:$K,'Daily Report'!J$12)","v":0},"",0.04,null,0.03,null,"",null,"",""]
["2023-12-31","2023-12-28",{"$f":"SUMIF('Daily Diary'!$A:$A,$B240,'Daily Diary'!$L:$L)","v":0},"",1000,{"$f":"Deposit_Withdraw!H232","v":0},1000,0,{"$f":"COUNTIFS('Daily Diary'!$A:$A,'Daily Report'!$B240,'Daily Diary'!$K:$K,'Daily Report'!I$12)","v":0},{"$f":"COUNTIFS('Daily Diary'!$A:$A,'Daily Report'!$B240,'Daily Diary'!$K:$K,'Daily Report'!J$12)","v":0},"",0.04,null,0.03,null,"",null,"",""]
["2023-12-31","2023-12-29",{"$f":"SUMIF('Daily Diary'!$A:$A,$B241,'Daily Diary'!$L:$L)","v":0},"",1000,{"$f":"Deposit_Withdraw!H233","v":0},1000,0,{"$f":"COUNTIFS('Daily Diary'!$A:$A,'Daily Report'!$B241,'Daily Diary'!$K:$K,'Daily Report'!I$12)","v":0},{"$f":"COUNTIFS('Daily Diary'!$A:$A,'Daily Report'!$B241,'Daily Diary'!$K:$K,'Daily Report'!J$12)","v":0},"",0.04,null,0.03,null,"",null,"",""]
["2023-12-31","2023-12-30",{"$f":"SUMIF('Daily Diary'!$A:$A,$B242,'Daily Diary'!$L:$L)","v":0},"",1000,{"$f":"Deposit_Withdraw!H234","v":0},1000,0,{"$f":"COUNTIFS('Daily Diary'!$A:$A,'Daily Report'!$B242,'Daily Diary'!$K:$K,'Daily Report'!I$12)","v":0},{"$f":"COUNTIFS('Daily Diary'!$A:$A,'Daily Report'!$B242,'Daily Diary'!$K:$K,'Daily Report'!J$12)","v":0},"",0.04,null,0.03,null,"",null,"",""]
["2023-12-31","2023-12-31",{"$f":"SUMIF('Daily Diary'!$A:$A,$B243,'Daily Diary'!$L:$L)","v":0},"",1000,{"$f":"Deposit_Withdraw!H235","v":0},1000,0,{"$f":"COUNTIFS('Daily Diary'!$A:$A,'Daily Report'!$B243,'Daily Diary'!$K:$K,'Daily Report'!I$12)","v":0},{"$f":"COUNTIFS('Daily Diary'!$A:$A,'Daily Report'!$B243,'Daily Diary'!$K:$K,'Daily Report'!J$12)","v":0},"",0.04,null,0.03,null,"",null,"",""]
["2024-01-31","2024-01-01",{"$f":"SUMIF('Daily Diary'!$A:$A,$B244,'Daily Diary'!$L:$L)","v":0},"",1000,{"$f":"Deposit_Withdraw!H236","v":0},1000,0,{"$f":"COUNTIFS('Daily Diary'!$A:$A,'Daily Report'!$B244,'Daily Diary'!$K:$K,'Daily Report'!I$12)","v":0},{"$f":"COUNTIFS('Daily Diary'!$A:$A,'Daily Report'!$B244,'Daily Diary'!$K:$K,'Daily Report'!J$12)","v":0},"",0.04,null,0.03,null,"",null,"",""]
["2024-01-31","2024-01-02",{"$f":"SUMIF('Daily Diary'!$A:$A,$B245,'Daily Diary'!$L:$L)","v":0},"",1000,{"$f":"Deposit_Withdraw!H237","v":0},1000,0,{"$f":"COUNTIFS('Daily Diary'!$A:$A,'Daily Report'!$B245,'Daily Diary'!$K:$K,'Daily Report'!I$12)","v":0},{"$f":"COUNTIFS('Daily Diary'!$A:$A,'Daily Report'!$B245,'Daily Diary'!$K:$K,'Daily Report'!J$12)","v":0},"",0.04,null,0.03,null,"",null,"",""]
["2024-01-31","2024-01-03",{"$f":"SUMIF('Daily Diary'!$A:$A,$B246,'Daily Diary'!$L:$L)","v":0},"",1000,{"$f":"Deposit_Withdraw!H238","v":0},1000,0,{"$f":"COUNTIFS('Daily Diary'!$A:$A,'Daily Report'!$B246,'Daily Diary'!$K:$K,'Daily Report'!I$12)","v":0},{"$f":"COUNTIFS('Daily Diary'!$A:$A,'Daily Report'!$B246,'Daily Diary'!$K:$K,'Daily Report'!J$12)","v":0},"",0.04,null,0.03,null,"",null,"",""]
["2024-01-31","2024-01-04",{"$f":"SUMIF('Daily Diary'!$A:$A,$B247,'Daily Diary'!$L:$L)","v":0},"",1000,{"$f":"Deposit_Withdraw!H239","v":0},1000,0,{"$f":"COUNTIFS('Daily Diary'!$A:$A,'Daily Report'!$B247,'Daily Diary'!$K:$K,'Daily Report'!I$12)","v":0},{"$f":"COUNTIFS('Daily Diary'!$A:$A,'Daily Report'!$B247,'Daily Diary'!$K:$K,'Daily Report'!J$12)","v":0},"",0.04,null,0.03,null,"",null,"",""]
["2024-01-31","2024-01-05",{"$f":"SUMIF('Daily Diary'!$A:$A,$B248,'Daily Diary'!$L:$L)","v":0},"",1000,{"$f":"Deposit_Withdraw!H240","v":0},1000,0,{"$f":"COUNTIFS('Daily Diary'!$A:$A,'Daily Report'!$B248,'Daily Diary'!$K:$K,'Daily Report'!I$12)","v":0},{"$f":"COUNTIFS('Daily Diary'!$A:$A,'Daily Report'!$B248,'Daily Diary'!$K:$K,'Daily Report'!J$12)","v":0},"",0.04,null,0.03,null,"",null,"",""]
["2024-01-31","2024-01-06",{"$f":"SUMIF('Daily Diary'!$A:$A,$B249,'Daily Diary'!$L:$L)","v":0},"",1000,{"$f":"Deposit_Withdraw!H241","v":0},1000,0,{"$f":"COUNTIFS('Daily Diary'!$A:$A,'Daily Report'!$B249,'Daily Diary'!$K:$K,'Daily Report'!I$12)","v":0},{"$f":"COUNTIFS('Daily Diary'!$A:$A,'Daily Report'!$B249,'Daily Diary'!$K:$K,'Daily Report'!J$12)","v":0},"",0.04,null,0.03,null,"",null,"",""]
["2024-01-31","2024-01-07",{"$f":"SUMIF('Daily Diary'!$A:$A,$B250,'Daily Diary'!$L:$L)","v":0},"",1000,{"$f":"Deposit_Withdraw!H242","v":0},1000,0,{"$f":"COUNTIFS('Daily Diary'!$A:$A,'Daily Report'!$B250,'Daily Diary'!$K:$K,'Daily Report'!I$12)","v":0},{"$f":"COUNTIFS('Daily Diary'!$A:$A,'Daily Report'!$B250,'Daily Diary'!$K:$K,'Daily Report'!J$12)","v":0},"",0.04,null,0.03,null,"",null,"",""]
["2024-01-31","2024-01-08",{"$f":"SUMIF('Daily Diary'!$A:$A,$B251,'Daily Diary'!$L:$L)","v":0},"",1000,{"$f":"Deposit_Withdraw!H243","v":0},1000,0,{"$f":"COUNTIFS('Daily Diary'!$A:$A,'Daily Report'!$B251,'Daily Diary'!$K:$K,'Daily Report'!I$12)","v":0},{"$f":"COUNTIFS('Daily Diary'!$A:$A,'Daily Report'!$B251,'Daily Diary'!$K:$K,'Daily Report'!J$12)","v":0},"",0.04,null,0.03,null,"",null,"",""]
["2024-01-31","2024-01-09",{"$f":"SUMIF('Daily Diary'!$A:$A,$B252,'Daily Diary'!$L:$L)","v":0},"",1000,{"$f":"Deposit_Withdraw!H244","v":0},1000,0,{"$f":"COUNTIFS('Daily Diary'!$A:$A,'Daily Report'!$B252,'Daily Diary'!$K:$K,'Daily Report'!I$12)","v":0},{"$f":"COUNTIFS('Daily Diary'!$A:$A,'Daily Report'!$B252,'Daily Diary'!$K:$K,'Daily Report'!J$12)","v":0},"",0.04,null,0.03,null,"",null,"",""]
["2024-01-31","2024-01-10",{"$f":"SUMIF('Daily Diary'!$A:$A,$B253,'Daily Diary'!$L:$L)","v":0},"",1000,{"$f":"Deposit_Withdraw!H245","v":0},1000,0,{"$f":"COUNTIFS('Daily Diary'!$A:$A,'Daily Report'!$B253,'Daily Diary'!$K:$K,'Daily Report'!I$12)","v":0},{"$f":"COUNTIFS('Daily Diary'!$A:$A,'Daily Report'!$B253,'Daily Diary'!$K:$K,'Daily Report'!J$12)","v":0},"",0.04,null,0.03,null,"",null,"",""]
["2024-01-31","2024-01-11",{"$f":"SUMIF('Daily Diary'!$A:$A,$B254,'Daily Diary'!$L:$L)","v":0},"",1000,{"$f":"Deposit_Withdraw!H246","v":0},1000,0,{"$f":"COUNTIFS('Daily Diary'!$A:$A,'Daily Report'!$B254,'Daily Diary'!$K:$K,'Daily Report'!I$12)","v":0},{"$f":"COUNTIFS('Daily Diary'!$A:$A,'Daily Report'!$B254,'Daily Diary'!$K:$K,'Daily Report'!J$12)","v":0},"",0.04,null,0.03,null,"",null,"",""]
["2024-01-31","2024-01-12",{"$f":"SUMIF('Daily Diary'!$A:$A,$B255,'Daily Diary'!$L:$L)","v":0},"",1000,{"$f":"Deposit_Withdraw!H247","v":0},1000,0,{"$f":"COUNTIFS('Daily Diary'!$A:$A,'Daily Report'!$B255,'Daily Diary'!$K:$K,'Daily Report'!I$12)","v":0},{"$f":"COUNTIFS('Daily Diary'!$A:$A,'Daily Report'!$B255,'Daily Diary'!$K:$K,'Daily Report'!J$12)","v":0},"",0.04,null,0.03,null,"",null,"",""]
["2024-01-31","2024-01-13",{"$f":"SUMIF('Daily Diary'!$A:$A,$B256,'Daily Diary'!$L:$L)","v":0},"",1000,{"$f":"Deposit_Withdraw!H248","v":0},1000,0,{"$f":"COUNTIFS('Daily Diary'!$A:$A,'Daily Report'!$B256,'Daily Diary'!$K:$K,'Daily Report'!I$12)","v":0},{"$f":"COUNTIFS('Daily Diary'!$A:$A,'Daily Report'!$B256,'Daily Diary'!$K:$K,'Daily Report'!J$12)","v":0},"",0.04,null,0.03,null,"",null,"",""]
["2024-01-31","2024-01-14",{"$f":"SUMIF('Daily Diary'!$A:$A,$B257,'Daily Diary'!$L:$L)","v":0},"",1000,{"$f":"Deposit_Withdraw!H249","v":0},1000,0,{"$f":"COUNTIFS('Daily Diary'!$A:$A,'Daily Report'!$B257,'Daily Diary'!$K:$K,'Daily Report'!I$12)","v":0},{"$f":"COUNTIFS('Daily Diary'!$A:$A,'Daily Report'!$B257,'Daily Diary'!$K:$K,'Daily Report'!J$12)","v":0},"",0.04,null,0.03,null,"",null,"",""]
["2024-01-31","2024-01-15",{"$f":"SUMIF('Daily Diary'!$A:$A,$B258,'Daily Diary'!$L:$L)","v":0},"",1000,{"$f":"Deposit_Withdraw!H250","v":0},1000,0,{"$f":"COUNTIFS('Daily Diary'!$A:$A,'Daily Report'!$B258,'Daily Diary'!$K:$K,'Daily Report'!I$12)","v":0},{"$f":"COUNTIFS('Daily Diary'!$A:$A,'Daily Report'!$B258,'Daily Diary'!$K:$K,'Daily Report'!J$12)","v":0},"",0.04,null,0.03,null,"",null,"",""]
["2024-01-31","2024-01-16",{"$f":"SUMIF('Daily Diary'!$A:$A,$B259,'Daily Diary'!$L:$L)","v":0},"",1000,{"$f":"Deposit_Withdraw!H251","v":0},1000,0,{"$f":"COUNTIFS('Daily Diary'!$A:$A,'Daily Report'!$B259,'Daily Diary'!$K:$K,'Daily Report'!I$12)","v":0},{"$f":"COUNTIFS('Daily Diary'!$A:$A,'Daily Report'!$B259,'Daily Diary'!$K:$K,'Daily Report'!J$12)","v":0},"",0.04,null,0.03,null,"",null,"",""]
["2024-01-31","2024-01-17",{"$f":"SUMIF('Daily Diary'!$A:$A,$B260,'Daily Diary'!$L:$L)","v":0},"",1000,{"$f":"Deposit_Withdraw!H252","v":0},1000,0,{"$f":"COUNTIFS('Daily Diary'!$A:$A,'Daily Report'!$B260,'Daily Diary'!$K:$K,'Daily Report'!I$12)","v":0},{"$f":"COUNTIFS('Daily Diary'!$A:$A,'Daily Report'!$B260,'Daily Diary'!$K:$K,'Daily Report'!J$12)","v":0},"",0.04,null,0.03,null,"",null,"",""]
["2024-01-31","2024-01-18",{"$f":"SUMIF('Daily Diary'!$A:$A,$B261,'Daily Diary'!$L:$L)","v":0},"",1000,{"$f":"Deposit_Withdraw!H253","v":0},1000,0,{"$f":"COUNTIFS('Daily Diary'!$A:$A,'Daily Report'!$B261,'Daily Diary'!$K:$K,'Daily Report'!I$12)","v":0},{"$f":"COUNTIFS('Daily Diary'!$A:$A,'Daily Report'!$B261,'Daily Diary'!$K:$K,'Daily Report'!J$12)","v":0},"",0.04,null,0.03,null,"",null,"",""]
["2024-01-31","2024-01-19",{"$f":"SUMIF('Daily Diary'!$A:$A,$B262,'Daily Diary'!$L:$L)","v":0},"",1000,{"$f":"Deposit_Withdraw!H254","v":0},1000,0,{"$f":"COUNTIFS('Daily Diary'!$A:$A,'Daily Report'!$B262,'Daily Diary'!$K:$K,'Daily Report'!I$12)","v":0},{"$f":"COUNTIFS('Daily Diary'!$A:$A,'Daily Report'!$B262,'Daily Diary'!$K:$K,'Daily Report'!J$12)","v":0},"",0.04,null,0.03,null,"",null,"",""]
["2024-01-31","2024-01-20",{"$f":"SUMIF('Daily Diary'!$A:$A,$B263,'Daily Diary'!$L:$L)","v":0},"",1000,{"$f":"Deposit_Withdraw!H255","v":0},1000,0,{"$f":"COUNTIFS('Daily Diary'!$A:$A,'Daily Report'!$B263,'Daily Diary'!$K:$K,'Daily Report'!I$12)","v":0},{"$f":"COUNTIFS('Daily Diary'!$A:$A,'Daily Report'!$B263,'Daily Diary'!$K:$K,'Daily Report'!J$12)","v":0},"",0.04,null,0.03,null,"",null,"",""]
["2024-01-31","2024-01-21",{"$f":"SUMIF('Daily Diary'!$A:$A,$B264,'Daily Diary'!$L:$L)","v":0},"",1000,{"$f":"Deposit_Withdraw!H256","v":0},1000,0,{"$f":"COUNTIFS('Daily Diary'!$A:$A,'Daily Report'!$B264,'Daily Diary'!$K:$K,'Daily Report'!I$12)","v":0},{"$f":"COUNTIFS('Daily Diary'!$A:$A,'Daily Report'!$B264,'Daily Diary'!$K:$K,'Daily Report'!J$12)","v":0},"",0.04,null,0.03,null,"",null,"",""]
["2024-01-31","2024-01-22",{"$f":"SUMIF('Daily Diary'!$A:$A,$B265,'Daily Diary'!$L:$L)","v":0},"",1000,{"$f":"Deposit_Withdraw!H257","v":0},1000,0,{"$f":"COUNTIFS('Daily Diary'!$A:$A,'Daily Report'!$B265,'Daily Diary'!$K:$K,'Daily Report'!I$12)","v":0},{"$f":"COUNTIFS('Daily Diary'!$A:$A,'Daily Report'!$B265,'Daily Diary'!$K:$K,'Daily Report'!J$12)","v":0},"",0.04,null,0.03,null,"",null,"",""]
["2024-01-31","2024-01-23",{"$f":"SUMIF('Daily Diary'!$A:$A,$B266,'Daily Diary'!$L:$L)","v":0},"",1000,{"$f":"Deposit_Withdraw!H258","v":0},1000,0,{"$f":"COUNTIFS('Daily Diary'!$A:$A,'Daily Report'!$B266,'Daily Diary'!$K:$K,'Daily Report'!I$12)","v":0},{"$f":"COUNTIFS('Daily Diary'!$A:$A,'Daily Report'!$B266,'Daily Diary'!$K:$K,'Daily Report'!J$12)","v":0},"",0.04,null,0.03,null,"",null,"",""]
["2024-01-31","2024-01-24",{"$f":"SUMIF('Daily Diary'!$A:$A,$B267,'Daily Diary'!$L:$L)","v":0},"",1000,{"$f":"Deposit_Withdraw!H259","v":0},1000,0,{"$f":"COUNTIFS('Daily Diary'!$A:$A,'Daily Report'!$B267,'Daily Diary'!$K:$K,'Daily Report'!I$12)","v":0},{"$f":"COUNTIFS('Daily Diary'!$A:$A,'Daily Report'!$B267,'Daily Diary'!$K:$K,'Daily Report'!J$12)","v":0},"",0.04,null,0.03,null,"",null,"",""]
["2024-01-31","2024-01-25",{"$f":"SUMIF('Daily Diary'!$A:$A,$B268,'Daily Diary'!$L:$L)","v":0},"",1000,{"$f":"Deposit_Withdraw!H260","v":0},1000,0,{"$f":"COUNTIFS('Daily Diary'!$A:$A,'Daily Report'!$B268,'Daily Diary'!$K:$K,'Daily Report'!I$12)","v":0},{"$f":"COUNTIFS('Daily Diary'!$A:$A,'Daily Report'!$B268,'Daily Diary'!$K:$K,'Daily Report'!J$12)","v":0},"",0.04,null,0.03,null,"",null,"",""]
[{"$f":"EOMONTH(B269,0)","v":"2024-01-31"},"2024-01-26",{"$f":"SUMIF('Daily Diary'!$A:$A,$B269,'Daily Diary'!$L:$L)","v":0},"",1000,{"$f":"Deposit_Withdraw!H261","v":0},1000,{"$f":"SUM(I269:J269)","v":0},{"$f":"COUNTIFS('Daily Diary'!$A:$A,'Daily Report'!$B269,'Daily Diary'!$K:$K,'Daily Report'!I$12)","v":0},{"$f":"COUNTIFS('Daily Diary'!$A:$A,'Daily Report'!$B269,'Daily Diary'!$K:$K,'Daily Report'!J$12)","v":0},{"$f":"IF(H269=0,\"\",IF(I269=I269,(I269/H269),IF(I269>J269,(I269/H269),(J269/H269))))","v":""},0.04,null,0.03,null,{"$f":"IF(D269=\"\",\"\",IF(D269<=-N269,\"STOP LOSS\",IF(D269>=L269,\"TAKE PROFIT\",\"\")))","v":""},null,{"$f":"IF(P269=\"TAKE PROFIT\",1,\"\")","v":""},{"$f":"IF(P269=\"STOP LOSS\",1,\"\")","v":""}]
["2024-01-31",{"$f":"B269+1","v":"2024-01-27"},{"$f":"SUMIF('Daily Diary'!$A:$A,$B270,'Daily Diary'!$L:$L)","v":0},{"$f":"IF(C270=0,\"\",C270/G270)","v":""},{"$f":"C270+E269","v":1000},{"$f":"Deposit_Withdraw!H262","v":0},{"$f":"G269+F270+C270","v":1000},0,{"$f":"COUNTIFS('Daily Diary'!$A:$A,'Daily Report'!$B270,'Daily Diary'!$K:$K,'Daily Report'!I$12)","v":0},{"$f":"COUNTIFS('Daily Diary'!$A:$A,'Daily Report'!$B270,'Daily Diary'!$K:$K,'Daily Report'!J$12)","v":0},"",0.04,null,0.03,null,"",null,"",""]
["2024-01-31","2024-01-28",{"$f":"SUMIF('Daily Diary'!$A:$A,$B271,'Daily Diary'!$L:$L)","v":0},"",1000,{"$f":"Deposit_Withdraw!H263","v":0},1000,0,{"$f":"COUNTIFS('Daily Diary'!$A:$A,'Daily Report'!$B271,'Daily Diary'!$K:$K,'Daily Report'!I$12)","v":0},{"$f":"COUNTIFS('Daily Diary'!$A:$A,'Daily Report'!$B271,'Daily Diary'!$K:$K,'Daily Report'!J$12)","v":0},"",0.04,null,0.03,null,"",null,"",""]
["2024-01-31","2024-01-29",{"$f":"SUMIF('Daily Diary'!$A:$A,$B272,'Daily Diary'!$L:$L)","v":0},"",1000,{"$f":"Deposit_Withdraw!H264","v":0},1000,0,{"$f":"COUNTIFS('Daily Diary'!$A:$A,'Daily Report'!$B272,'Daily Diary'!$K:$K,'Daily Report'!I$12)","v":0},{"$f":"COUNTIFS('Daily Diary'!$A:$A,'Daily Report'!$B272,'Daily Diary'!$K:$K,'Daily Report'!J$12)","v":0},"",0.04,null,0.03,null,"",null,"",""]
["2024-01-31","2024-01-30",{"$f":"SUMIF('Daily Diary'!$A:$A,$B273,'Daily Diary'!$L:$L)","v":0},"",1000,{"$f":"Deposit_Withdraw!H265","v":0},1000,0,{"$f":"COUNTIFS('Daily Diary'!$A:$A,'Daily Report'!$B273,'Daily Diary'!$K:$K,'Daily Report'!I$12)","v":0},{"$f":"COUNTIFS('Daily Diary'!$A:$A,'Daily Report'!$B273,'Daily Diary'!$K:$K,'Daily Report'!J$12)","v":0},"",0.04,null,0.03,null,"",null,"",""]
["2024-01-31","2024-01-31",{"$f":"SUMIF('Daily Diary'!$A:$A,$B274,'Daily Diary'!$L:$L)","v":0},"",1000,{"$f":"Deposit_Withdraw!H266","v":0},1000,0,{"$f":"COUNTIFS('Daily Diary'!$A:$A,'Daily Report'!$B274,'Daily Diary'!$K:$K,'Daily Report'!I$12)","v":0},{"$f":"COUNTIFS('Daily Diary'!$A:$A,'Daily Report'!$B274,'Daily Diary'!$K:$K,'Daily Report'!J$12)","v":0},"",0.04,null,0.03,null,"",null,"",""]
["2024-02-29","2024-02-01",{"$f":"SUMIF('Daily Diary'!$A:$A,$B275,'Daily Diary'!$L:$L)","v":0},"",1000,{"$f":"Deposit_Withdraw!H267","v":0},1000,0,{"$f":"COUNTIFS('Daily Diary'!$A:$A,'Daily Report'!$B275,'Daily Diary'!$K:$K,'Daily Report'!I$12)","v":0},{"$f":"COUNTIFS('Daily Diary'!$A:$A,'Daily Report'!$B275,'Daily Diary'!$K:$K,'Daily Report'!J$12)","v":0},"",0.04,null,0.03,null,"",null,"",""]
["2024-02-29","2024-02-02",{"$f":"SUMIF('Daily Diary'!$A:$A,$B276,'Daily Diary'!$L:$L)","v":0},"",1000,{"$f":"Deposit_Withdraw!H268","v":0},1000,0,{"$f":"COUNTIFS('Daily Diary'!$A:$A,'Daily Report'!$B276,'Daily Diary'!$K:$K,'Daily Report'!I$12)","v":0},{"$f":"COUNTIFS('Daily Diary'!$A:$A,'Daily Report'!$B276,'Daily Diary'!$K:$K,'Daily Report'!J$12)","v":0},"",0.04,null,0.03,null,"",null,"",""]
["2024-02-29","2024-02-03",{"$f":"SUMIF('Daily Diary'!$A:$A,$B277,'Daily Diary'!$L:$L)","v":0},"",1000,{"$f":"Deposit_Withdraw!H269","v":0},1000,0,{"$f":"COUNTIFS('Daily Diary'!$A:$A,'Daily Report'!$B277,'Daily Diary'!$K:$K,'Daily Report'!I$12)","v":0},{"$f":"COUNTIFS('Daily Diary'!$A:$A,'Daily Report'!$B277,'Daily Diary'!$K:$K,'Daily Report'!J$12)","v":0},"",0.04,null,0.03,null,"",null,"",""]
["2024-02-29","2024-02-04",{"$f":"SUMIF('Daily Diary'!$A:$A,$B278,'Daily Diary'!$L:$L)","v":0},"",1000,{"$f":"Deposit_Withdraw!H270","v":0},1000,0,{"$f":"COUNTIFS('Daily Diary'!$A:$A,'Daily Report'!$B278,'Daily Diary'!$K:$K,'Daily Report'!I$12)","v":0},{"$f":"COUNTIFS('Daily Diary'!$A:$A,'Daily Report'!$B278,'Daily Diary'!$K:$K,'Daily Report'!J$12)","v":0},"",0.04,null,0.03,null,"",null,"",""]
["2024-02-29","2024-02-05",{"$f":"SUMIF('Daily Diary'!$A:$A,$B279,'Daily Diary'!$L:$L)","v":0},"",1000,{"$f":"Deposit_Withdraw!H271","v":0},1000,0,{"$f":"COUNTIFS('Daily Diary'!$A:$A,'Daily Report'!$B279,'Daily Diary'!$K:$K,'Daily Report'!I$12)","v":0},{"$f":"COUNTIFS('Daily Diary'!$A:$A,'Daily Report'!$B279,'Daily Diary'!$K:$K,'Daily Report'!J$12)","v":0},"",0.04,null,0.03,null,"",null,"",""]
["2024-02-29","2024-02-06",{"$f":"SUMIF('Daily Diary'!$A:$A,$B280,'Daily Diary'!$L:$L)","v":0},"",1000,{"$f":"Deposit_Withdraw!H272","v":0},1000,0,{"$f":"COUNTIFS('Daily Diary'!$A:$A,'Daily Report'!$B280,'Daily Diary'!$K:$K,'Daily Report'!I$12)","v":0},{"$f":"COUNTIFS('Daily Diary'!$A:$A,'Daily Report'!$B280,'Daily Diary'!$K:$K,'Daily Report'!J$12)","v":0},"",0.04,null,0.03,null,"",null,"",""]
["2024-02-29","2024-02-07",{"$f":"SUMIF('Daily Diary'!$A:$A,$B281,'Daily Diary'!$L:$L)","v":0},"",1000,{"$f":"Deposit_Withdraw!H273","v":0},1000,0,{"$f":"COUNTIFS('Daily Diary'!$A:$A,'Daily Report'!$B281,'Daily Diary'!$K:$K,'Daily Report'!I$12)","v":0},{"$f":"COUNTIFS('Daily Diary'!$A:$A,'Daily Report'!$B281,'Daily Diary'!$K:$K,'Daily Report'!J$12)","v":0},"",0.04,null,0.03,null,"",null,"",""]
["2024-02-29","2024-02-08",{"$f":"SUMIF('Daily Diary'!$A:$A,$B282,'Daily Diary'!$L:$L)","v":0},"",1000,{"$f":"Deposit_Withdraw!H274","v":0},1000,0,{"$f":"COUNTIFS('Daily Diary'!$A:$A,'Daily Report'!$B282,'Daily Diary'!$K:$K,'Daily Report'!I$12)","v":0},{"$f":"COUNTIFS('Daily Diary'!$A:$A,'Daily Report'!$B282,'Daily Diary'!$K:$K,'Daily Report'!J$12)","v":0},"",0.04,null,0.03,null,"",null,"",""]
["2024-02-29","2024-02-09",{"$f":"SUMIF('Daily Diary'!$A:$A,$B283,'Daily Diary'!$L:$L)","v":0},"",1000,{"$f":"Deposit_Withdraw!H275","v":0},1000,0,{"$f":"COUNTIFS('Daily Diary'!$A:$A,'Daily Report'!$B283,'Daily Diary'!$K:$K,'Daily Report'!I$12)","v":0},{"$f":"COUNTIFS('Daily Diary'!$A:$A,'Daily Report'!$B283,'Daily Diary'!$K:$K,'Daily Report'!J$12)","v":0},"",0.04,null,0.03,null,"",null,"",""]
["2024-02-29","2024-02-10",{"$f":"SUMIF('Daily Diary'!$A:$A,$B284,'Daily Diary'!$L:$L)","v":0},"",1000,{"$f":"Deposit_Withdraw!H276","v":0},1000,0,{"$f":"COUNTIFS('Daily Diary'!$A:$A,'Daily Report'!$B284,'Daily Diary'!$K:$K,'Daily Report'!I$12)","v":0},{"$f":"COUNTIFS('Daily Diary'!$A:$A,'Daily Report'!$B284,'Daily Diary'!$K:$K,'Daily Report'!J$12)","v":0},"",0.04,null,0.03,null,"",null,"",""]
["2024-02-29","2024-02-11",{"$f":"SUMIF('Daily Diary'!$A:$A,$B285,'Daily Diary'!$L:$L)","v":0},"",1000,{"$f":"Deposit_Withdraw!H277","v":0},1000,0,{"$f":"COUNTIFS('Daily Diary'!$A:$A,'Daily Report'!$B285,'Daily Diary'!$K:$K,'Daily Report'!I$12)","v":0},{"$f":"COUNTIFS('Daily Diary'!$A:$A,'Daily Report'!$B285,'Daily Diary'!$K:$K,'Daily Report'!J$12)","v":0},"",0.04,null,0.03,null,"",null,"",""]
["2024-02-29","2024-02-12",{"$f":"SUMIF('Daily Diary'!$A:$A,$B286,'Daily Diary'!$L:$L)","v":0},"",1000,{"$f":"Deposit_Withdraw!H278","v":0},1000,0,{"$f":"COUNTIFS('Daily Diary'!$A:$A,'Daily Report'!$B286,'Daily Diary'!$K:$K,'Daily Report'!I$12)","v":0},{"$f":"COUNTIFS('Daily Diary'!$A:$A,'Daily Report'!$B286,'Daily Diary'!$K:$K,'Daily Report'!J$12)","v":0},"",0.04,null,0.03,null,"",null,"",""]
["2024-02-29","2024-02-13",{"$f":"SUMIF('Daily Diary'!$A:$A,$B287,'Daily Diary'!$L:$L)","v":0},"",1000,{"$f":"Deposit_Withdraw!H279","v":0},1000,0,{"$f":"COUNTIFS('Daily Diary'!$A:$A,'Daily Report'!$B287,'Daily Diary'!$K:$K,'Daily Report'!I$12)","v":0},{"$f":"COUNTIFS('Daily Diary'!$A:$A,'Daily Report'!$B287,'Daily Diary'!$K:$K,'Daily Report'!J$12)","v":0},"",0.04,null,0.03,null,"",null,"",""]
["2024-02-29","2024-02-14",{"$f":"SUMIF('Daily Diary'!$A:$A,$B288,'Daily Diary'!$L:$L)","v":0},"",1000,{"$f":"Deposit_Withdraw!H280","v":0},1000,0,{"$f":"COUNTIFS('Daily Diary'!$A:$A,'Daily Report'!$B288,'Daily Diary'!$K:$K,'Daily Report'!I$12)","v":0},{"$f":"COUNTIFS('Daily Diary'!$A:$A,'Daily Report'!$B288,'Daily Diary'!$K:$K,'Daily Report'!J$12)","v":0},"",0.04,null,0.03,null,"",null,"",""]
["2024-02-29","2024-02-15",{"$f":"SUMIF('Daily Diary'!$A:$A,$B289,'Daily Diary'!$L:$L)","v":0},"",1000,{"$f":"Deposit_Withdraw!H281","v":0},1000,0,{"$f":"COUNTIFS('Daily Diary'!$A:$A,'Daily Report'!$B289,'Daily Diary'!$K:$K,'Daily Report'!I$12)","v":0},{"$f":"COUNTIFS('Daily Diary'!$A:$A,'Daily Report'!$B289,'Daily Diary'!$K:$K,'Daily Report'!J$12)","v":0},"",0.04,null,0.03,null,"",null,"",""]
["2024-02-29","2024-02-16",{"$f":"SUMIF('Daily Diary'!$A:$A,$B290,'Daily Diary'!$L:$L)","v":0},"",1000,{"$f":"Deposit_Withdraw!H282","v":0},1000,0,{"$f":"COUNTIFS('Daily Diary'!$A:$A,'Daily Report'!$B290,'Daily Diary'!$K:$K,'Daily Report'!I$12)","v":0},{"$f":"COUNTIFS('Daily Diary'!$A:$A,'Daily Report'!$B290,'Daily Diary'!$K:$K,'Daily Report'!J$12)","v":0},"",0.04,null,0.03,null,"",null,"",""]
["2024-02-29","2024-02-17",{"$f":"SUMIF('Daily Diary'!$A:$A,$B291,'Daily Diary'!$L:$L)","v":0},"",1000,{"$f":"Deposit_Withdraw!H283","v":0},1000,0,{"$f":"COUNTIFS('Daily Diary'!$A:$A,'Daily Report'!$B291,'Daily Diary'!$K:$K,'Daily Report'!I$12)","v":0},{"$f":"COUNTIFS('Daily Diary'!$A:$A,'Daily Report'!$B291,'Daily Diary'!$K:$K,'Daily Report'!J$12)","v":0},"",0.04,null,0.03,null,"",null,"",""]
["2024-02-29","2024-02-18",{"$f":"SUMIF('Daily Diary'!$A:$A,$B292,'Daily Diary'!$L:$L)","v":0},"",1000,{"$f":"Deposit_Withdraw!H284","v":0},1000,0,{"$f":"COUNTIFS('Daily Diary'!$A:$A,'Daily Report'!$B292,'Daily Diary'!$K:$K,'Daily Report'!I$12)","v":0},{"$f":"COUNTIFS('Daily Diary'!$A:$A,'Daily Report'!$B292,'Daily Diary'!$K:$K,'Daily Report'!J$12)","v":0},"",0.04,null,0.03,null,"",null,"",""]
["2024-02-29","2024-02-19",{"$f":"SUMIF('Daily Diary'!$A:$A,$B293,'Daily Diary'!$L:$L)","v":0},"",1000,{"$f":"Deposit_Withdraw!H285","v":0},1000,0,{"$f":"COUNTIFS('Daily Diary'!$A:$A,'Daily Report'!$B293,'Daily Diary'!$K:$K,'Daily Report'!I$12)","v":0},{"$f":"COUNTIFS('Daily Diary'!$A:$A,'Daily Report'!$B293,'Daily Diary'!$K:$K,'Daily Report'!J$12)","v":0},"",0.04,null,0.03,null,"",null,"",""]
["2024-02-29","2024-02-20",{"$f":"SUMIF('Daily Diary'!$A:$A,$B294,'Daily Diary'!$L:$L)","v":0},"",1000,{"$f":"Deposit_Withdraw!H286","v":0},1000,0,{"$f":"COUNTIFS('Daily Diary'!$A:$A,'Daily Report'!$B294,'Daily Diary'!$K:$K,'Daily Report'!I$12)","v":0},{"$f":"COUNTIFS('Daily Diary'!$A:$A,'Daily Report'!$B294,'Daily Diary'!$K:$K,'Daily Report'!J$12)","v":0},"",0.04,null,0.03,null,"",null,"",""]
["2024-02-29","2024-02-21",{"$f":"SUMIF('Daily Diary'!$A:$A,$B295,'Daily Diary'!$L:$L)","v":0},"",1000,{"$f":"Deposit_Withdraw!H287","v":0},1000,0,{"$f":"COUNTIFS('Daily Diary'!$A:$A,'Daily Report'!$B295,'Daily Diary'!$K:$K,'Daily Report'!I$12)","v":0},{"$f":"COUNTIFS('Daily Diary'!$A:$A,'Daily Report'!$B295,'Daily Diary'!$K:$K,'Daily Report'!J$12)","v":0},"",0.04,null,0.03,null,"",null,"",""]
["2024-02-29","2024-02-22",{"$f":"SUMIF('Daily Diary'!$A:$A,$B296,'Daily Diary'!$L:$L)","v":0},"",1000,{"$f":"Deposit_Withdraw!H288","v":0},1000,0,{"$f":"COUNTIFS('Daily Diary'!$A:$A,'Daily Report'!$B296,'Daily Diary'!$K:$K,'Daily Report'!I$12)","v":0},{"$f":"COUNTIFS('Daily Diary'!$A:$A,'Daily Report'!$B296,'Daily Diary'!$K:$K,'Daily Report'!J$12)","v":0},"",0.04,null,0.03,null,"",null,"",""]
["2024-02-29","2024-02-23",{"$f":"SUMIF('Daily Diary'!$A:$A,$B297,'Daily Diary'!$L:$L)","v":0},"",1000,{"$f":"Deposit_Withdraw!H289","v":0},1000,0,{"$f":"COUNTIFS('Daily Diary'!$A:$A,'Daily Report'!$B297,'Daily Diary'!$K:$K,'Daily Report'!I$12)","v":0},{"$f":"COUNTIFS('Daily Diary'!$A:$A,'Daily Report'!$B297,'Daily Diary'!$K:$K,'Daily Report'!J$12)","v":0},"",0.04,null,0.03,null,"",null,"",""]
["2024-02-29","2024-02-24",{"$f":"SUMIF('Daily Diary'!$A:$A,$B298,'Daily Diary'!$L:$L)","v":0},"",1000,{"$f":"Deposit_Withdraw!H290","v":0},1000,0,{"$f":"COUNTIFS('Daily Diary'!$A:$A,'Daily Report'!$B298,'Daily Diary'!$K:$K,'Daily Report'!I$12)","v":0},{"$f":"COUNTIFS('Daily Diary'!$A:$A,'Daily Report'!$B298,'Daily Diary'!$K:$K,'Daily Report'!J$12)","v":0},"",0.04,null,0.03,null,"",null,"",""]
["2024-02-29","2024-02-25",{"$f":"SUMIF('Daily Diary'!$A:$A,$B299,'Daily Diary'!$L:$L)","v":0},"",1000,{"$f":"Deposit_Withdraw!H291","v":0},1000,0,{"$f":"COUNTIFS('Daily Diary'!$A:$A,'Daily Report'!$B299,'Daily Diary'!$K:$K,'Daily Report'!I$12)","v":0},{"$f":"COUNTIFS('Daily Diary'!$A:$A,'Daily Report'!$B299,'Daily Diary'!$K:$K,'Daily Report'!J$12)","v":0},"",0.04,null,0.03,null,"",null,"",""]
["2024-02-29","2024-02-26",{"$f":"SUMIF('Daily Diary'!$A:$A,$B300,'Daily Diary'!$L:$L)","v":0},"",1000,{"$f":"Deposit_Withdraw!H292","v":0},1000,0,{"$f":"COUNTIFS('Daily Diary'!$A:$A,'Daily Report'!$B300,'Daily Diary'!$K:$K,'Daily Report'!I$12)","v":0},{"$f":"COUNTIFS('Daily Diary'!$A:$A,'Daily Report'!$B300,'Daily Diary'!$K:$K,'Daily Report'!J$12)","v":0},"",0.04,null,0.03,null,"",null,"",""]
["2024-02-29","2024-02-27",{"$f":"SUMIF('Daily Diary'!$A:$A,$B301,'Daily Diary'!$L:$L)","v":0},"",1000,{"$f":"Deposit_Withdraw!H293","v":0},1000,0,{"$f":"COUNTIFS('Daily Diary'!$A:$A,'Daily Report'!$B301,'Daily Diary'!$K:$K,'Daily Report'!I$12)","v":0},{"$f":"COUNTIFS('Daily Diary'!$A:$A,'Daily Report'!$B301,'Daily Diary'!$K:$K,'Daily Report'!J$12)","v":0},"",0.04,null,0.03,null,"",null,"",""]
["2024-02-29","2024-02-28",{"$f":"SUMIF('Daily Diary'!$A:$A,$B302,'Daily Diary'!$L:$L)","v":0},"",1000,{"$f":"Deposit_Withdraw!H294","v":0},1000,0,{"$f":"COUNTIFS('Daily Diary'!$A:$A,'Daily Report'!$B302,'Daily Diary'!$K:$K,'Daily Report'!I$12)","v":0},{"$f":"COUNTIFS('Daily Diary'!$A:$A,'Daily Report'!$B302,'Daily Diary'!$K:$K,'Daily Report'!J$12)","v":0},"",0.04,null,0.03,null,"",null,"",""]
["2024-02-29","2024-02-29",{"$f":"SUMIF('Daily Diary'!$A:$A,$B303,'Daily Diary'!$L:$L)","v":0},"",1000,{"$f":"Deposit_Withdraw!H295","v":0},1000,0,{"$f":"COUNTIFS('Daily Diary'!$A:$A,'Daily Report'!$B303,'Daily Diary'!$K:$K,'Daily Report'!I$12)","v":0},{"$f":"COUNTIFS('Daily Diary'!$A:$A,'Daily Report'!$B303,'Daily Diary'!$K:$K,'Daily Report'!J$12)","v":0},"",0.04,null,0.03,null,"",null,"",""]
["2024-03-31","2024-03-01",{"$f":"SUMIF('Daily Diary'!$A:$A,$B304,'Daily Diary'!$L:$L)","v":0},"",1000,{"$f":"Deposit_Withdraw!H296","v":0},1000,0,{"$f":"COUNTIFS('Daily Diary'!$A:$A,'Daily Report'!$B304,'Daily Diary'!$K:$K,'Daily Report'!I$12)","v":0},{"$f":"COUNTIFS('Daily Diary'!$A:$A,'Daily Report'!$B304,'Daily Diary'!$K:$K,'Daily Report'!J$12)","v":0},"",0.04,null,0.03,null,"",null,"",""]
["2024-03-31","2024-03-02",{"$f":"SUMIF('Daily Diary'!$A:$A,$B305,'Daily Diary'!$L:$L)","v":0},"",1000,{"$f":"Deposit_Withdraw!H297","v":0},1000,0,{"$f":"COUNTIFS('Daily Diary'!$A:$A,'Daily Report'!$B305,'Daily Diary'!$K:$K,'Daily Report'!I$12)","v":0},{"$f":"COUNTIFS('Daily Diary'!$A:$A,'Daily Report'!$B305,'Daily Diary'!$K:$K,'Daily Report'!J$12)","v":0},"",0.04,null,0.03,null,"",null,"",""]
["2024-03-31","2024-03-03",{"$f":"SUMIF('Daily Diary'!$A:$A,$B306,'Daily Diary'!$L:$L)","v":0},"",1000,{"$f":"Deposit_Withdraw!H298","v":0},1000,0,{"$f":"COUNTIFS('Daily Diary'!$A:$A,'Daily Report'!$B306,'Daily Diary'!$K:$K,'Daily Report'!I$12)","v":0},{"$f":"COUNTIFS('Daily Diary'!$A:$A,'Daily Report'!$B306,'Daily Diary'!$K:$K,'Daily Report'!J$12)","v":0},"",0.04,null,0.03,null,"",null,"",""]
["2024-03-31","2024-03-04",{"$f":"SUMIF('Daily Diary'!$A:$A,$B307,'Daily Diary'!$L:$L)","v":0},"",1000,{"$f":"Deposit_Withdraw!H299","v":0},1000,0,{"$f":"COUNTIFS('Daily Diary'!$A:$A,'Daily Report'!$B307,'Daily Diary'!$K:$K,'Daily Report'!I$12)","v":0},{"$f":"COUNTIFS('Daily Diary'!$A:$A,'Daily Report'!$B307,'Daily Diary'!$K:$K,'Daily Report'!J$12)","v":0},"",0.04,null,0.03,null,"",null,"",""]
["2024-03-31","2024-03-05",{"$f":"SUMIF('Daily Diary'!$A:$A,$B308,'Daily Diary'!$L:$L)","v":0},"",1000,{"$f":"Deposit_Withdraw!H300","v":0},1000,0,{"$f":"COUNTIFS('Daily Diary'!$A:$A,'Daily Report'!$B308,'Daily Diary'!$K:$K,'Daily Report'!I$12)","v":0},{"$f":"COUNTIFS('Daily Diary'!$A:$A,'Daily Report'!$B308,'Daily Diary'!$K:$K,'Daily Report'!J$12)","v":0},"",0.04,null,0.03,null,"",null,"",""]
["2024-03-31","2024-03-06",{"$f":"SUMIF('Daily Diary'!$A:$A,$B309,'Daily Diary'!$L:$L)","v":0},"",1000,{"$f":"Deposit_Withdraw!H301","v":0},1000,0,{"$f":"COUNTIFS('Daily Diary'!$A:$A,'Daily Report'!$B309,'Daily Diary'!$K:$K,'Daily Report'!I$12)","v":0},{"$f":"COUNTIFS('Daily Diary'!$A:$A,'Daily Report'!$B309,'Daily Diary'!$K:$K,'Daily Report'!J$12)","v":0},"",0.04,null,0.03,null,"",null,"",""]
["2024-03-31","2024-03-07",{"$f":"SUMIF('Daily Diary'!$A:$A,$B310,'Daily Diary'!$L:$L)","v":0},"",1000,{"$f":"Deposit_Withdraw!H302","v":0},1000,0,{"$f":"COUNTIFS('Daily Diary'!$A:$A,'Daily Report'!$B310,'Daily Diary'!$K:$K,'Daily Report'!I$12)","v":0},{"$f":"COUNTIFS('Daily Diary'!$A:$A,'Daily Report'!$B310,'Daily Diary'!$K:$K,'Daily Report'!J$12)","v":0},"",0.04,null,0.03,null,"",null,"",""]
["2024-03-31","2024-03-08",{"$f":"SUMIF('Daily Diary'!$A:$A,$B311,'Daily Diary'!$L:$L)","v":0},"",1000,{"$f":"Deposit_Withdraw!H303","v":0},1000,0,{"$f":"COUNTIFS('Daily Diary'!$A:$A,'Daily Report'!$B311,'Daily Diary'!$K:$K,'Daily Report'!I$12)","v":0},{"$f":"COUNTIFS('Daily Diary'!$A:$A,'Daily Report'!$B311,'Daily Diary'!$K:$K,'Daily Report'!J$12)","v":0},"",0.04,null,0.03,null,"",null,"",""]
["2024-03-31","2024-03-09",{"$f":"SUMIF('Daily Diary'!$A:$A,$B312,'Daily Diary'!$L:$L)","v":0},"",1000,{"$f":"Deposit_Withdraw!H304","v":0},1000,0,{"$f":"COUNTIFS('Daily Diary'!$A:$A,'Daily Report'!$B312,'Daily Diary'!$K:$K,'Daily Report'!I$12)","v":0},{"$f":"COUNTIFS('Daily Diary'!$A:$A,'Daily Report'!$B312,'Daily Diary'!$K:$K,'Daily Report'!J$12)","v":0},"",0.04,null,0.03,null,"",null,"",""]
["2024-03-31","2024-03-10",{"$f":"SUMIF('Daily Diary'!$A:$A,$B313,'Daily Diary'!$L:$L)","v":0},"",1000,{"$f":"Deposit_Withdraw!H305","v":0},1000,0,{"$f":"COUNTIFS('Daily Diary'!$A:$A,'Daily Report'!$B313,'Daily Diary'!$K:$K,'Daily Report'!I$12)","v":0},{"$f":"COUNTIFS('Daily Diary'!$A:$A,'Daily Report'!$B313,'Daily Diary'!$K:$K,'Daily Report'!J$12)","v":0},"",0.04,null,0.03,null,"",null,"",""]
["2024-03-31","2024-03-11",{"$f":"SUMIF('Daily Diary'!$A:$A,$B314,'Daily Diary'!$L:$L)","v":0},"",1000,{"$f":"Deposit_Withdraw!H306","v":0},1000,0,{"$f":"COUNTIFS('Daily Diary'!$A:$A,'Daily Report'!$B314,'Daily Diary'!$K:$K,'Daily Report'!I$12)","v":0},{"$f":"COUNTIFS('Daily Diary'!$A:$A,'Daily Report'!$B314,'Daily Diary'!$K:$K,'Daily Report'!J$12)","v":0},"",0.04,null,0.03,null,"",null,"",""]
["2024-03-31","2024-03-12",{"$f":"SUMIF('Daily Diary'!$A:$A,$B315,'Daily Diary'!$L:$L)","v":0},"",1000,{"$f":"Deposit_Withdraw!H307","v":0},1000,0,{"$f":"COUNTIFS('Daily Diary'!$A:$A,'Daily Report'!$B315,'Daily Diary'!$K:$K,'Daily Report'!I$12)","v":0},{"$f":"COUNTIFS('Daily Diary'!$A:$A,'Daily Report'!$B315,'Daily Diary'!$K:$K,'Daily Report'!J$12)","v":0},"",0.04,null,0.03,null,"",null,"",""]
["2024-03-31","2024-03-13",{"$f":"SUMIF('Daily Diary'!$A:$A,$B316,'Daily Diary'!$L:$L)","v":0},"",1000,{"$f":"Deposit_Withdraw!H308","v":0},1000,0,{"$f":"COUNTIFS('Daily Diary'!$A:$A,'Daily Report'!$B316,'Daily Diary'!$K:$K,'Daily Report'!I$12)","v":0},{"$f":"COUNTIFS('Daily Diary'!$A:$A,'Daily Report'!$B316,'Daily Diary'!$K:$K,'Daily Report'!J$12)","v":0},"",0.04,null,0.03,null,"",null,"",""]
["2024-03-31","2024-03-14",{"$f":"SUMIF('Daily Diary'!$A:$A,$B317,'Daily Diary'!$L:$L)","v":0},"",1000,{"$f":"Deposit_Withdraw!H309","v":0},1000,0,{"$f":"COUNTIFS('Daily Diary'!$A:$A,'Daily Report'!$B317,'Daily Diary'!$K:$K,'Daily Report'!I$12)","v":0},{"$f":"COUNTIFS('Daily Diary'!$A:$A,'Daily Report'!$B317,'Daily Diary'!$K:$K,'Daily Report'!J$12)","v":0},"",0.04,null,0.03,null,"",null,"",""]
["2024-03-31","2024-03-15",{"$f":"SUMIF('Daily Diary'!$A:$A,$B318,'Daily Diary'!$L:$L)","v":0},"",1000,{"$f":"Deposit_Withdraw!H310","v":0},1000,0,{"$f":"COUNTIFS('Daily Diary'!$A:$A,'Daily Report'!$B318,'Daily Diary'!$K:$K,'Daily Report'!I$12)","v":0},{"$f":"COUNTIFS('Daily Diary'!$A:$A,'Daily Report'!$B318,'Daily Diary'!$K:$K,'Daily Report'!J$12)","v":0},"",0.04,null,0.03,null,"",null,"",""]
["2024-03-31","2024-03-16",{"$f":"SUMIF('Daily Diary'!$A:$A,$B319,'Daily Diary'!$L:$L)","v":0},"",1000,{"$f":"Deposit_Withdraw!H311","v":0},1000,0,{"$f":"COUNTIFS('Daily Diary'!$A:$A,'Daily Report'!$B319,'Daily Diary'!$K:$K,'Daily Report'!I$12)","v":0},{"$f":"COUNTIFS('Daily Diary'!$A:$A,'Daily Report'!$B319,'Daily Diary'!$K:$K,'Daily Report'!J$12)","v":0},"",0.04,null,0.03,null,"",null,"",""]
["2024-03-31","2024-03-17",{"$f":"SUMIF('Daily Diary'!$A:$A,$B320,'Daily Diary'!$L:$L)","v":0},"",1000,{"$f":"Deposit_Withdraw!H312","v":0},1000,0,{"$f":"COUNTIFS('Daily Diary'!$A:$A,'Daily Report'!$B320,'Daily Diary'!$K:$K,'Daily Report'!I$12)","v":0},{"$f":"COUNTIFS('Daily Diary'!$A:$A,'Daily Report'!$B320,'Daily Diary'!$K:$K,'Daily Report'!J$12)","v":0},"",0.04,null,0.03,null,"",null,"",""]
["2024-03-31","2024-03-18",{"$f":"SUMIF('Daily Diary'!$A:$A,$B321,'Daily Diary'!$L:$L)","v":0},"",1000,{"$f":"Deposit_Withdraw!H313","v":0},1000,0,{"$f":"COUNTIFS('Daily Diary'!$A:$A,'Daily Report'!$B321,'Daily Diary'!$K:$K,'Daily Report'!I$12)","v":0},{"$f":"COUNTIFS('Daily Diary'!$A:$A,'Daily Report'!$B321,'Daily Diary'!$K:$K,'Daily Report'!J$12)","v":0},"",0.04,null,0.03,null,"",null,"",""]
["2024-03-31","2024-03-19",{"$f":"SUMIF('Daily Diary'!$A:$A,$B322,'Daily Diary'!$L:$L)","v":0},"",1000,{"$f":"Deposit_Withdraw!H314","v":0},1000,0,{"$f":"COUNTIFS('Daily Diary'!$A:$A,'Daily Report'!$B322,'Daily Diary'!$K:$K,'Daily Report'!I$12)","v":0},{"$f":"COUNTIFS('Daily Diary'!$A:$A,'Daily Report'!$B322,'Daily Diary'!$K:$K,'Daily Report'!J$12)","v":0},"",0.04,null,0.03,null,"",null,"",""]
["2024-03-31","2024-03-20",{"$f":"SUMIF('Daily Diary'!$A:$A,$B323,'Daily Diary'!$L:$L)","v":0},"",1000,{"$f":"Deposit_Withdraw!H315","v":0},1000,0,{"$f":"COUNTIFS('Daily Diary'!$A:$A,'Daily Report'!$B323,'Daily Diary'!$K:$K,'Daily Report'!I$12)","v":0},{"$f":"COUNTIFS('Daily Diary'!$A:$A,'Daily Report'!$B323,'Daily Diary'!$K:$K,'Daily Report'!J$12)","v":0},"",0.04,null,0.03,null,"",null,"",""]
["2024-03-31","2024-03-21",{"$f":"SUMIF('Daily Diary'!$A:$A,$B324,'Daily Diary'!$L:$L)","v":0},"",1000,{"$f":"Deposit_Withdraw!H316","v":0},1000,0,{"$f":"COUNTIFS('Daily Diary'!$A:$A,'Daily Report'!$B324,'Daily Diary'!$K:$K,'Daily Report'!I$12)","v":0},{"$f":"COUNTIFS('Daily Diary'!$A:$A,'Daily Report'!$B324,'Daily Diary'!$K:$K,'Daily Report'!J$12)","v":0},"",0.04,null,0.03,null,"",null,"",""]
["2024-03-31","2024-03-22",{"$f":"SUMIF('Daily Diary'!$A:$A,$B325,'Daily Diary'!$L:$L)","v":0},"",1000,{"$f":"Deposit_Withdraw!H317","v":0},1000,0,{"$f":"COUNTIFS('Daily Diary'!$A:$A,'Daily Report'!$B325,'Daily Diary'!$K:$K,'Daily Report'!I$12)","v":0},{"$f":"COUNTIFS('Daily Diary'!$A:$A,'Daily Report'!$B325,'Daily Diary'!$K:$K,'Daily Report'!J$12)","v":0},"",0.04,null,0.03,null,"",null,"",""]
["2024-03-31","2024-03-23",{"$f":"SUMIF('Daily Diary'!$A:$A,$B326,'Daily Diary'!$L:$L)","v":0},"",1000,{"$f":"Deposit_Withdraw!H318","v":0},1000,0,{"$f":"COUNTIFS('Daily Diary'!$A:$A,'Daily Report'!$B326,'Daily Diary'!$K:$K,'Daily Report'!I$12)","v":0},{"$f":"COUNTIFS('Daily Diary'!$A:$A,'Daily Report'!$B326,'Daily Diary'!$K:$K,'Daily Report'!J$12)","v":0},"",0.04,null,0.03,null,"",null,"",""]
["2024-03-31","2024-03-24",{"$f":"SUMIF('Daily Diary'!$A:$A,$B327,'Daily Diary'!$L:$L)","v":0},"",1000,{"$f":"Deposit_Withdraw!H319","v":0},1000,0,{"$f":"COUNTIFS('Daily Diary'!$A:$A,'Daily Report'!$B327,'Daily Diary'!$K:$K,'Daily Report'!I$12)","v":0},{"$f":"COUNTIFS('Daily Diary'!$A:$A,'Daily Report'!$B327,'Daily Diary'!$K:$K,'Daily Report'!J$12)","v":0},"",0.04,null,0.03,null,"",null,"",""]
["2024-03-31","2024-03-25",{"$f":"SUMIF('Daily Diary'!$A:$A,$B328,'Daily Diary'!$L:$L)","v":0},"",1000,{"$f":"Deposit_Withdraw!H320","v":0},1000,0,{"$f":"COUNTIFS('Daily Diary'!$A:$A,'Daily Report'!$B328,'Daily Diary'!$K:$K,'Daily Report'!I$12)","v":0},{"$f":"COUNTIFS('Daily Diary'!$A:$A,'Daily Report'!$B328,'Daily Diary'!$K:$K,'Daily Report'!J$12)","v":0},"",0.04,null,0.03,null,"",null,"",""]
["2024-03-31","2024-03-26",{"$f":"SUMIF('Daily Diary'!$A:$A,$B329,'Daily Diary'!$L:$L)","v":0},"",1000,{"$f":"Deposit_Withdraw!H321","v":0},1000,0,{"$f":"COUNTIFS('Daily Diary'!$A:$A,'Daily Report'!$B329,'Daily Diary'!$K:$K,'Daily Report'!I$12)","v":0},{"$f":"COUNTIFS('Daily Diary'!$A:$A,'Daily Report'!$B329,'Daily Diary'!$K:$K,'Daily Report'!J$12)","v":0},"",0.04,null,0.03,null,"",null,"",""]
["2024-03-31","2024-03-27",{"$f":"SUMIF('Daily Diary'!$A:$A,$B330,'Daily Diary'!$L:$L)","v":0},"",1000,{"$f":"Deposit_Withdraw!H322","v":0},1000,0,{"$f":"COUNTIFS('Daily Diary'!$A:$A,'Daily Report'!$B330,'Daily Diary'!$K:$K,'Daily Report'!I$12)","v":0},{"$f":"COUNTIFS('Daily Diary'!$A:$A,'Daily Report'!$B330,'Daily Diary'!$K:$K,'Daily Report'!J$12)","v":0},"",0.04,null,0.03,null,"",null,"",""]
["2024-03-31","2024-03-28",{"$f":"SUMIF('Daily Diary'!$A:$A,$B331,'Daily Diary'!$L:$L)","v":0},"",1000,{"$f":"Deposit_Withdraw!H323","v":0},1000,0,{"$f":"COUNTIFS('Daily Diary'!$A:$A,'Daily Report'!$B331,'Daily Diary'!$K:$K,'Daily Report'!I$12)","v":0},{"$f":"COUNTIFS('Daily Diary'!$A:$A,'Daily Report'!$B331,'Daily Diary'!$K:$K,'Daily Report'!J$12)","v":0},"",0.04,null,0.03,null,"",null,"",""]
["2024-03-31","2024-03-29",{"$f":"SUMIF('Daily Diary'!$A:$A,$B332,'Daily Diary'!$L:$L)","v":0},"",1000,{"$f":"Deposit_Withdraw!H324","v":0},1000,0,{"$f":"COUNTIFS('Daily Diary'!$A:$A,'Daily Report'!$B332,'Daily Diary'!$K:$K,'Daily Report'!I$12)","v":0},{"$f":"COUNTIFS('Daily Diary'!$A:$A,'Daily Report'!$B332,'Daily Diary'!$K:$K,'Daily Report'!J$12)","v":0},"",0.04,null,0.03,null,"",null,"",""]
[{"$f":"EOMONTH(B333,0)","v":"2024-03-31"},"2024-03-30",{"$f":"SUMIF('Daily Diary'!$A:$A,$B333,'Daily Diary'!$L:$L)","v":0},"",1000,{"$f":"Deposit_Withdraw!H325","v":0},1000,{"$f":"SUM(I333:J333)","v":0},{"$f":"COUNTIFS('Daily Diary'!$A:$A,'Daily Report'!$B333,'Daily Diary'!$K:$K,'Daily Report'!I$12)","v":0},{"$f":"COUNTIFS('Daily Diary'!$A:$A,'Daily Report'!$B333,'Daily Diary'!$K:$K,'Daily Report'!J$12)","v":0},{"$f":"IF(H333=0,\"\",IF(I333=I333,(I333/H333),IF(I333>J333,(I333/H333),(J333/H333))))","v":""},0.04,null,0.03,null,{"$f":"IF(D333=\"\",\"\",IF(D333<=-N333,\"STOP LOSS\",IF(D333>=L333,\"TAKE PROFIT\",\"\")))","v":""},null,{"$f":"IF(P333=\"TAKE PROFIT\",1,\"\")","v":""},{"$f":"IF(P333=\"STOP LOSS\",1,\"\")","v":""}]
["2024-03-31",{"$f":"B333+1","v":"2024-03-31"},{"$f":"SUMIF('Daily Diary'!$A:$A,$B334,'Daily Diary'!$L:$L)","v":0},{"$f":"IF(C334=0,\"\",C334/G334)","v":""},{"$f":"C334+E333","v":1000},{"$f":"Deposit_Withdraw!H326","v":0},{"$f":"G333+F334+C334","v":1000},0,{"$f":"COUNTIFS('Daily Diary'!$A:$A,'Daily Report'!$B334,'Daily Diary'!$K:$K,'Daily Report'!I$12)","v":0},{"$f":"COUNTIFS('Daily Diary'!$A:$A,'Daily Report'!$B334,'Daily Diary'!$K:$K,'Daily Report'!J$12)","v":0},"",0.04,null,0.03,null,"",null,"",""]
["2024-04-30","2024-04-01",{"$f":"SUMIF('Daily Diary'!$A:$A,$B335,'Daily Diary'!$L:$L)","v":0},"",1000,{"$f":"Deposit_Withdraw!H327","v":0},1000,0,{"$f":"COUNTIFS('Daily Diary'!$A:$A,'Daily Report'!$B335,'Daily Diary'!$K:$K,'Daily Report'!I$12)","v":0},{"$f":"COUNTIFS('Daily Diary'!$A:$A,'Daily Report'!$B335,'Daily Diary'!$K:$K,'Daily Report'!J$12)","v":0},"",0.04,null,0.03,null,"",null,"",""]
["2024-04-30","2024-04-02",{"$f":"SUMIF('Daily Diary'!$A:$A,$B336,'Daily Diary'!$L:$L)","v":0},"",1000,{"$f":"Deposit_Withdraw!H328","v":0},1000,0,{"$f":"COUNTIFS('Daily Diary'!$A:$A,'Daily Report'!$B336,'Daily Diary'!$K:$K,'Daily Report'!I$12)","v":0},{"$f":"COUNTIFS('Daily Diary'!$A:$A,'Daily Report'!$B336,'Daily Diary'!$K:$K,'Daily Report'!J$12)","v":0},"",0.04,null,0.03,null,"",null,"",""]
["2024-04-30","2024-04-03",{"$f":"SUMIF('Daily Diary'!$A:$A,$B337,'Daily Diary'!$L:$L)","v":0},"",1000,{"$f":"Deposit_Withdraw!H329","v":0},1000,0,{"$f":"COUNTIFS('Daily Diary'!$A:$A,'Daily Report'!$B337,'Daily Diary'!$K:$K,'Daily Report'!I$12)","v":0},{"$f":"COUNTIFS('Daily Diary'!$A:$A,'Daily Report'!$B337,'Daily Diary'!$K:$K,'Daily Report'!J$12)","v":0},"",0.04,null,0.03,null,"",null,"",""]
["2024-04-30","2024-04-04",{"$f":"SUMIF('Daily Diary'!$A:$A,$B338,'Daily Diary'!$L:$L)","v":0},"",1000,{"$f":"Deposit_Withdraw!H330","v":0},1000,0,{"$f":"COUNTIFS('Daily Diary'!$A:$A,'Daily Report'!$B338,'Daily Diary'!$K:$K,'Daily Report'!I$12)","v":0},{"$f":"COUNTIFS('Daily Diary'!$A:$A,'Daily Report'!$B338,'Daily Diary'!$K:$K,'Daily Report'!J$12)","v":0},"",0.04,null,0.03,null,"",null,"",""]
["2024-04-30","2024-04-05",{"$f":"SUMIF('Daily Diary'!$A:$A,$B339,'Daily Diary'!$L:$L)","v":0},"",1000,{"$f":"Deposit_Withdraw!H331","v":0},1000,0,{"$f":"COUNTIFS('Daily Diary'!$A:$A,'Daily Report'!$B339,'Daily Diary'!$K:$K,'Daily Report'!I$12)","v":0},{"$f":"COUNTIFS('Daily Diary'!$A:$A,'Daily Report'!$B339,'Daily Diary'!$K:$K,'Daily Report'!J$12)","v":0},"",0.04,null,0.03,null,"",null,"",""]
["2024-04-30","2024-04-06",{"$f":"SUMIF('Daily Diary'!$A:$A,$B340,'Daily Diary'!$L:$L)","v":0},"",1000,{"$f":"Deposit_Withdraw!H332","v":0},1000,0,{"$f":"COUNTIFS('Daily Diary'!$A:$A,'Daily Report'!$B340,'Daily Diary'!$K:$K,'Daily Report'!I$12)","v":0},{"$f":"COUNTIFS('Daily Diary'!$A:$A,'Daily Report'!$B340,'Daily Diary'!$K:$K,'Daily Report'!J$12)","v":0},"",0.04,null,0.03,null,"",null,"",""]
["2024-04-30","2024-04-07",{"$f":"SUMIF('Daily Diary'!$A:$A,$B341,'Daily Diary'!$L:$L)","v":0},"",1000,{"$f":"Deposit_Withdraw!H333","v":0},1000,0,{"$f":"COUNTIFS('Daily Diary'!$A:$A,'Daily Report'!$B341,'Daily Diary'!$K:$K,'Daily Report'!I$12)","v":0},{"$f":"COUNTIFS('Daily Diary'!$A:$A,'Daily Report'!$B341,'Daily Diary'!$K:$K,'Daily Report'!J$12)","v":0},"",0.04,null,0.03,null,"",null,"",""]
["2024-04-30","2024-04-08",{"$f":"SUMIF('Daily Diary'!$A:$A,$B342,'Daily Diary'!$L:$L)","v":0},"",1000,{"$f":"Deposit_Withdraw!H334","v":0},1000,0,{"$f":"COUNTIFS('Daily Diary'!$A:$A,'Daily Report'!$B342,'Daily Diary'!$K:$K,'Daily Report'!I$12)","v":0},{"$f":"COUNTIFS('Daily Diary'!$A:$A,'Daily Report'!$B342,'Daily Diary'!$K:$K,'Daily Report'!J$12)","v":0},"",0.04,null,0.03,null,"",null,"",""]
["2024-04-30","2024-04-09",{"$f":"SUMIF('Daily Diary'!$A:$A,$B343,'Daily Diary'!$L:$L)","v":0},"",1000,{"$f":"Deposit_Withdraw!H335","v":0},1000,0,{"$f":"COUNTIFS('Daily Diary'!$A:$A,'Daily Report'!$B343,'Daily Diary'!$K:$K,'Daily Report'!I$12)","v":0},{"$f":"COUNTIFS('Daily Diary'!$A:$A,'Daily Report'!$B343,'Daily Diary'!$K:$K,'Daily Report'!J$12)","v":0},"",0.04,null,0.03,null,"",null,"",""]
["2024-04-30","2024-04-10",{"$f":"SUMIF('Daily Diary'!$A:$A,$B344,'Daily Diary'!$L:$L)","v":0},"",1000,{"$f":"Deposit_Withdraw!H336","v":0},1000,0,{"$f":"COUNTIFS('Daily Diary'!$A:$A,'Daily Report'!$B344,'Daily Diary'!$K:$K,'Daily Report'!I$12)","v":0},{"$f":"COUNTIFS('Daily Diary'!$A:$A,'Daily Report'!$B344,'Daily Diary'!$K:$K,'Daily Report'!J$12)","v":0},"",0.04,null,0.03,null,"",null,"",""]
["2024-04-30","2024-04-11",{"$f":"SUMIF('Daily Diary'!$A:$A,$B345,'Daily Diary'!$L:$L)","v":0},"",1000,{"$f":"Deposit_Withdraw!H337","v":0},1000,0,{"$f":"COUNTIFS('Daily Diary'!$A:$A,'Daily Report'!$B345,'Daily Diary'!$K:$K,'Daily Report'!I$12)","v":0},{"$f":"COUNTIFS('Daily Diary'!$A:$A,'Daily Report'!$B345,'Daily Diary'!$K:$K,'Daily Report'!J$12)","v":0},"",0.04,null,0.03,null,"",null,"",""]
["2024-04-30","2024-04-12",{"$f":"SUMIF('Daily Diary'!$A:$A,$B346,'Daily Diary'!$L:$L)","v":0},"",1000,{"$f":"Deposit_Withdraw!H338","v":0},1000,0,{"$f":"COUNTIFS('Daily Diary'!$A:$A,'Daily Report'!$B346,'Daily Diary'!$K:$K,'Daily Report'!I$12)","v":0},{"$f":"COUNTIFS('Daily Diary'!$A:$A,'Daily Report'!$B346,'Daily Diary'!$K:$K,'Daily Report'!J$12)","v":0},"",0.04,null,0.03,null,"",null,"",""]
["2024-04-30","2024-04-13",{"$f":"SUMIF('Daily Diary'!$A:$A,$B347,'Daily Diary'!$L:$L)","v":0},"",1000,{"$f":"Deposit_Withdraw!H339","v":0},1000,0,{"$f":"COUNTIFS('Daily Diary'!$A:$A,'Daily Report'!$B347,'Daily Diary'!$K:$K,'Daily Report'!I$12)","v":0},{"$f":"COUNTIFS('Daily Diary'!$A:$A,'Daily Report'!$B347,'Daily Diary'!$K:$K,'Daily Report'!J$12)","v":0},"",0.04,null,0.03,null,"",null,"",""]
["2024-04-30","2024-04-14",{"$f":"SUMIF('Daily Diary'!$A:$A,$B348,'Daily Diary'!$L:$L)","v":0},"",1000,{"$f":"Deposit_Withdraw!H340","v":0},1000,0,{"$f":"COUNTIFS('Daily Diary'!$A:$A,'Daily Report'!$B348,'Daily Diary'!$K:$K,'Daily Report'!I$12)","v":0},{"$f":"COUNTIFS('Daily Diary'!$A:$A,'Daily Report'!$B348,'Daily Diary'!$K:$K,'Daily Report'!J$12)","v":0},"",0.04,null,0.03,null,"",null,"",""]
["2024-04-30","2024-04-15",{"$f":"SUMIF('Daily Diary'!$A:$A,$B349,'Daily Diary'!$L:$L)","v":0},"",1000,{"$f":"Deposit_Withdraw!H341","v":0},1000,0,{"$f":"COUNTIFS('Daily Diary'!$A:$A,'Daily Report'!$B349,'Daily Diary'!$K:$K,'Daily Report'!I$12)","v":0},{"$f":"COUNTIFS('Daily Diary'!$A:$A,'Daily Report'!$B349,'Daily Diary'!$K:$K,'Daily Report'!J$12)","v":0},"",0.04,null,0.03,null,"",null,"",""]
["2024-04-30","2024-04-16",{"$f":"SUMIF('Daily Diary'!$A:$A,$B350,'Daily Diary'!$L:$L)","v":0},"",1000,{"$f":"Deposit_Withdraw!H342","v":0},1000,0,{"$f":"COUNTIFS('Daily Diary'!$A:$A,'Daily Report'!$B350,'Daily Diary'!$K:$K,'Daily Report'!I$12)","v":0},{"$f":"COUNTIFS('Daily Diary'!$A:$A,'Daily Report'!$B350,'Daily Diary'!$K:$K,'Daily Report'!J$12)","v":0},"",0.04,null,0.03,null,"",null,"",""]
["2024-04-30","2024-04-17",{"$f":"SUMIF('Daily Diary'!$A:$A,$B351,'Daily Diary'!$L:$L)","v":0},"",1000,{"$f":"Deposit_Withdraw!H343","v":0},1000,0,{"$f":"COUNTIFS('Daily Diary'!$A:$A,'Daily Report'!$B351,'Daily Diary'!$K:$K,'Daily Report'!I$12)","v":0},{"$f":"COUNTIFS('Daily Diary'!$A:$A,'Daily Report'!$B351,'Daily Diary'!$K:$K,'Daily Report'!J$12)","v":0},"",0.04,null,0.03,null,"",null,"",""]
["2024-04-30","2024-04-18",{"$f":"SUMIF('Daily Diary'!$A:$A,$B352,'Daily Diary'!$L:$L)","v":0},"",1000,{"$f":"Deposit_Withdraw!H344","v":0},1000,0,{"$f":"COUNTIFS('Daily Diary'!$A:$A,'Daily Report'!$B352,'Daily Diary'!$K:$K,'Daily Report'!I$12)","v":0},{"$f":"COUNTIFS('Daily Diary'!$A:$A,'Daily Report'!$B352,'Daily Diary'!$K:$K,'Daily Report'!J$12)","v":0},"",0.04,null,0.03,null,"",null,"",""]
["2024-04-30","2024-04-19",{"$f":"SUMIF('Daily Diary'!$A:$A,$B353,'Daily Diary'!$L:$L)","v":0},"",1000,{"$f":"Deposit_Withdraw!H345","v":0},1000,0,{"$f":"COUNTIFS('Daily Diary'!$A:$A,'Daily Report'!$B353,'Daily Diary'!$K:$K,'Daily Report'!I$12)","v":0},{"$f":"COUNTIFS('Daily Diary'!$A:$A,'Daily Report'!$B353,'Daily Diary'!$K:$K,'Daily Report'!J$12)","v":0},"",0.04,null,0.03,null,"",null,"",""]
["2024-04-30","2024-04-20",{"$f":"SUMIF('Daily Diary'!$A:$A,$B354,'Daily Diary'!$L:$L)","v":0},"",1000,{"$f":"Deposit_Withdraw!H346","v":0},1000,0,{"$f":"COUNTIFS('Daily Diary'!$A:$A,'Daily Report'!$B354,'Daily Diary'!$K:$K,'Daily Report'!I$12)","v":0},{"$f":"COUNTIFS('Daily Diary'!$A:$A,'Daily Report'!$B354,'Daily Diary'!$K:$K,'Daily Report'!J$12)","v":0},"",0.04,null,0.03,null,"",null,"",""]
["2024-04-30","2024-04-21",{"$f":"SUMIF('Daily Diary'!$A:$A,$B355,'Daily Diary'!$L:$L)","v":0},"",1000,{"$f":"Deposit_Withdraw!H347","v":0},1000,0,{"$f":"COUNTIFS('Daily Diary'!$A:$A,'Daily Report'!$B355,'Daily Diary'!$K:$K,'Daily Report'!I$12)","v":0},{"$f":"COUNTIFS('Daily Diary'!$A:$A,'Daily Report'!$B355,'Daily Diary'!$K:$K,'Daily Report'!J$12)","v":0},"",0.04,null,0.03,null,"",null,"",""]
["2024-04-30","2024-04-22",{"$f":"SUMIF('Daily Diary'!$A:$A,$B356,'Daily Diary'!$L:$L)","v":0},"",1000,{"$f":"Deposit_Withdraw!H348","v":0},1000,0,{"$f":"COUNTIFS('Daily Diary'!$A:$A,'Daily Report'!$B356,'Daily Diary'!$K:$K,'Daily Report'!I$12)","v":0},{"$f":"COUNTIFS('Daily Diary'!$A:$A,'Daily Report'!$B356,'Daily Diary'!$K:$K,'Daily Report'!J$12)","v":0},"",0.04,null,0.03,null,"",null,"",""]
["2024-04-30","2024-04-23",{"$f":"SUMIF('Daily Diary'!$A:$A,$B357,'Daily Diary'!$L:$L)","v":0},"",1000,{"$f":"Deposit_Withdraw!H349","v":0},1000,0,{"$f":"COUNTIFS('Daily Diary'!$A:$A,'Daily Report'!$B357,'Daily Diary'!$K:$K,'Daily Report'!I$12)","v":0},{"$f":"COUNTIFS('Daily Diary'!$A:$A,'Daily Report'!$B357,'Daily Diary'!$K:$K,'Daily Report'!J$12)","v":0},"",0.04,null,0.03,null,"",null,"",""]
["2024-04-30","2024-04-24",{"$f":"SUMIF('Daily Diary'!$A:$A,$B358,'Daily Diary'!$L:$L)","v":0},"",1000,{"$f":"Deposit_Withdraw!H350","v":0},1000,0,{"$f":"COUNTIFS('Daily Diary'!$A:$A,'Daily Report'!$B358,'Daily Diary'!$K:$K,'Daily Report'!I$12)","v":0},{"$f":"COUNTIFS('Daily Diary'!$A:$A,'Daily Report'!$B358,'Daily Diary'!$K:$K,'Daily Report'!J$12)","v":0},"",0.04,null,0.03,null,"",null,"",""]
["2024-04-30","2024-04-25",{"$f":"SUMIF('Daily Diary'!$A:$A,$B359,'Daily Diary'!$L:$L)","v":0},"",1000,{"$f":"Deposit_Withdraw!H351","v":0},1000,0,{"$f":"COUNTIFS('Daily Diary'!$A:$A,'Daily Report'!$B359,'Daily Diary'!$K:$K,'Daily Report'!I$12)","v":0},{"$f":"COUNTIFS('Daily Diary'!$A:$A,'Daily Report'!$B359,'Daily Diary'!$K:$K,'Daily Report'!J$12)","v":0},"",0.04,null,0.03,null,"",null,"",""]
["2024-04-30","2024-04-26",{"$f":"SUMIF('Daily Diary'!$A:$A,$B360,'Daily Diary'!$L:$L)","v":0},"",1000,{"$f":"Deposit_Withdraw!H352","v":0},1000,0,{"$f":"COUNTIFS('Daily Diary'!$A:$A,'Daily Report'!$B360,'Daily Diary'!$K:$K,'Daily Report'!I$12)","v":0},{"$f":"COUNTIFS('Daily Diary'!$A:$A,'Daily Report'!$B360,'Daily Diary'!$K:$K,'Daily Report'!J$12)","v":0},"",0.04,null,0.03,null,"",null,"",""]
["2024-04-30","2024-04-27",{"$f":"SUMIF('Daily Diary'!$A:$A,$B361,'Daily Diary'!$L:$L)","v":0},"",1000,{"$f":"Deposit_Withdraw!H353","v":0},1000,0,{"$f":"COUNTIFS('Daily Diary'!$A:$A,'Daily Report'!$B361,'Daily Diary'!$K:$K,'Daily Report'!I$12)","v":0},{"$f":"COUNTIFS('Daily Diary'!$A:$A,'Daily Report'!$B361,'Daily Diary'!$K:$K,'Daily Report'!J$12)","v":0},"",0.04,null,0.03,null,"",null,"",""]
["2024-04-30","2024-04-28",{"$f":"SUMIF('Daily Diary'!$A:$A,$B362,'Daily Diary'!$L:$L)","v":0},"",1000,{"$f":"Deposit_Withdraw!H354","v":0},1000,0,{"$f":"COUNTIFS('Daily Diary'!$A:$A,'Daily Report'!$B362,'Daily Diary'!$K:$K,'Daily Report'!I$12)","v":0},{"$f":"COUNTIFS('Daily Diary'!$A:$A,'Daily Report'!$B362,'Daily Diary'!$K:$K,'Daily Report'!J$12)","v":0},"",0.04,null,0.03,null,"",null,"",""]
["2024-04-30","2024-04-29",{"$f":"SUMIF('Daily Diary'!$A:$A,$B363,'Daily Diary'!$L:$L)","v":0},"",1000,{"$f":"Deposit_Withdraw!H355","v":0},1000,0,{"$f":"COUNTIFS('Daily Diary'!$A:$A,'Daily Report'!$B363,'Daily Diary'!$K:$K,'Daily Report'!I$12)","v":0},{"$f":"COUNTIFS('Daily Diary'!$A:$A,'Daily Report'!$B363,'Daily Diary'!$K:$K,'Daily Report'!J$12)","v":0},"",0.04,null,0.03,null,"",null,"",""]
["2024-04-30","2024-04-30",{"$f":"SUMIF('Daily Diary'!$A:$A,$B364,'Daily Diary'!$L:$L)","v":0},"",1000,{"$f":"Deposit_Withdraw!H356","v":0},1000,0,{"$f":"COUNTIFS('Daily Diary'!$A:$A,'Daily Report'!$B364,'Daily Diary'!$K:$K,'Daily Report'!I$12)","v":0},{"$f":"COUNTIFS('Daily Diary'!$A:$A,'Daily Report'!$B364,'Daily Diary'!$K:$K,'Daily Report'!J$12)","v":0},"",0.04,null,0.03,null,"",null,"",""]
["2024-05-31","2024-05-01",{"$f":"SUMIF('Daily Diary'!$A:$A,$B365,'Daily Diary'!$L:$L)","v":0},"",1000,{"$f":"Deposit_Withdraw!H357","v":0},1000,0,{"$f":"COUNTIFS('Daily Diary'!$A:$A,'Daily Report'!$B365,'Daily Diary'!$K:$K,'Daily Report'!I$12)","v":0},{"$f":"COUNTIFS('Daily Diary'!$A:$A,'Daily Report'!$B365,'Daily Diary'!$K:$K,'Daily Report'!J$12)","v":0},"",0.04,null,0.03,null,"",null,"",""]
["2024-05-31","2024-05-02",{"$f":"SUMIF('Daily Diary'!$A:$A,$B366,'Daily Diary'!$L:$L)","v":0},"",1000,{"$f":"Deposit_Withdraw!H358","v":0},1000,0,{"$f":"COUNTIFS('Daily Diary'!$A:$A,'Daily Report'!$B366,'Daily Diary'!$K:$K,'Daily Report'!I$12)","v":0},{"$f":"COUNTIFS('Daily Diary'!$A:$A,'Daily Report'!$B366,'Daily Diary'!$K:$K,'Daily Report'!J$12)","v":0},"",0.04,null,0.03,null,"",null,"",""]
["2024-05-31","2024-05-03",{"$f":"SUMIF('Daily Diary'!$A:$A,$B367,'Daily Diary'!$L:$L)","v":0},"",1000,{"$f":"Deposit_Withdraw!H359","v":0},1000,0,{"$f":"COUNTIFS('Daily Diary'!$A:$A,'Daily Report'!$B367,'Daily Diary'!$K:$K,'Daily Report'!I$12)","v":0},{"$f":"COUNTIFS('Daily Diary'!$A:$A,'Daily Report'!$B367,'Daily Diary'!$K:$K,'Daily Report'!J$12)","v":0},"",0.04,null,0.03,null,"",null,"",""]
["2024-05-31","2024-05-04",{"$f":"SUMIF('Daily Diary'!$A:$A,$B368,'Daily Diary'!$L:$L)","v":0},"",1000,{"$f":"Deposit_Withdraw!H360","v":0},1000,0,{"$f":"COUNTIFS('Daily Diary'!$A:$A,'Daily Report'!$B368,'Daily Diary'!$K:$K,'Daily Report'!I$12)","v":0},{"$f":"COUNTIFS('Daily Diary'!$A:$A,'Daily Report'!$B368,'Daily Diary'!$K:$K,'Daily Report'!J$12)","v":0},"",0.04,null,0.03,null,"",null,"",""]
["2024-05-31","2024-05-05",{"$f":"SUMIF('Daily Diary'!$A:$A,$B369,'Daily Diary'!$L:$L)","v":0},"",1000,{"$f":"Deposit_Withdraw!H361","v":0},1000,0,{"$f":"COUNTIFS('Daily Diary'!$A:$A,'Daily Report'!$B369,'Daily Diary'!$K:$K,'Daily Report'!I$12)","v":0},{"$f":"COUNTIFS('Daily Diary'!$A:$A,'Daily Report'!$B369,'Daily Diary'!$K:$K,'Daily Report'!J$12)","v":0},"",0.04,null,0.03,null,"",null,"",""]
["2024-05-31","2024-05-06",{"$f":"SUMIF('Daily Diary'!$A:$A,$B370,'Daily Diary'!$L:$L)","v":0},"",1000,{"$f":"Deposit_Withdraw!H362","v":0},1000,0,{"$f":"COUNTIFS('Daily Diary'!$A:$A,'Daily Report'!$B370,'Daily Diary'!$K:$K,'Daily Report'!I$12)","v":0},{"$f":"COUNTIFS('Daily Diary'!$A:$A,'Daily Report'!$B370,'Daily Diary'!$K:$K,'Daily Report'!J$12)","v":0},"",0.04,null,0.03,null,"",null,"",""]
["2024-05-31","2024-05-07",{"$f":"SUMIF('Daily Diary'!$A:$A,$B371,'Daily Diary'!$L:$L)","v":0},"",1000,{"$f":"Deposit_Withdraw!H363","v":0},1000,0,{"$f":"COUNTIFS('Daily Diary'!$A:$A,'Daily Report'!$B371,'Daily Diary'!$K:$K,'Daily Report'!I$12)","v":0},{"$f":"COUNTIFS('Daily Diary'!$A:$A,'Daily Report'!$B371,'Daily Diary'!$K:$K,'Daily Report'!J$12)","v":0},"",0.04,null,0.03,null,"",null,"",""]
["2024-05-31","2024-05-08",{"$f":"SUMIF('Daily Diary'!$A:$A,$B372,'Daily Diary'!$L:$L)","v":0},"",1000,{"$f":"Deposit_Withdraw!H364","v":0},1000,0,{"$f":"COUNTIFS('Daily Diary'!$A:$A,'Daily Report'!$B372,'Daily Diary'!$K:$K,'Daily Report'!I$12)","v":0},{"$f":"COUNTIFS('Daily Diary'!$A:$A,'Daily Report'!$B372,'Daily Diary'!$K:$K,'Daily Report'!J$12)","v":0},"",0.04,null,0.03,null,"",null,"",""]
["2024-05-31","2024-05-09",{"$f":"SUMIF('Daily Diary'!$A:$A,$B373,'Daily Diary'!$L:$L)","v":0},"",1000,{"$f":"Deposit_Withdraw!H365","v":0},1000,0,{"$f":"COUNTIFS('Daily Diary'!$A:$A,'Daily Report'!$B373,'Daily Diary'!$K:$K,'Daily Report'!I$12)","v":0},{"$f":"COUNTIFS('Daily Diary'!$A:$A,'Daily Report'!$B373,'Daily Diary'!$K:$K,'Daily Report'!J$12)","v":0},"",0.04,null,0.03,null,"",null,"",""]
["2024-05-31","2024-05-10",{"$f":"SUMIF('Daily Diary'!$A:$A,$B374,'Daily Diary'!$L:$L)","v":0},"",1000,{"$f":"Deposit_Withdraw!H366","v":0},1000,0,{"$f":"COUNTIFS('Daily Diary'!$A:$A,'Daily Report'!$B374,'Daily Diary'!$K:$K,'Daily Report'!I$12)","v":0},{"$f":"COUNTIFS('Daily Diary'!$A:$A,'Daily Report'!$B374,'Daily Diary'!$K:$K,'Daily Report'!J$12)","v":0},"",0.04,null,0.03,null,"",null,"",""]
["2024-05-31","2024-05-11",{"$f":"SUMIF('Daily Diary'!$A:$A,$B375,'Daily Diary'!$L:$L)","v":0},"",1000,{"$f":"Deposit_Withdraw!H367","v":0},1000,0,{"$f":"COUNTIFS('Daily Diary'!$A:$A,'Daily Report'!$B375,'Daily Diary'!$K:$K,'Daily Report'!I$12)","v":0},{"$f":"COUNTIFS('Daily Diary'!$A:$A,'Daily Report'!$B375,'Daily Diary'!$K:$K,'Daily Report'!J$12)","v":0},"",0.04,null,0.03,null,"",null,"",""]
["2024-05-31","2024-05-12",{"$f":"SUMIF('Daily Diary'!$A:$A,$B376,'Daily Diary'!$L:$L)","v":0},"",1000,{"$f":"Deposit_Withdraw!H368","v":0},1000,0,{"$f":"COUNTIFS('Daily Diary'!$A:$A,'Daily Report'!$B376,'Daily Diary'!$K:$K,'Daily Report'!I$12)","v":0},{"$f":"COUNTIFS('Daily Diary'!$A:$A,'Daily Report'!$B376,'Daily Diary'!$K:$K,'Daily Report'!J$12)","v":0},"",0.04,null,0.03,null,"",null,"",""]
["2024-05-31","2024-05-13",{"$f":"SUMIF('Daily Diary'!$A:$A,$B377,'Daily Diary'!$L:$L)","v":0},"",1000,{"$f":"Deposit_Withdraw!H369","v":0},1000,0,{"$f":"COUNTIFS('Daily Diary'!$A:$A,'Daily Report'!$B377,'Daily Diary'!$K:$K,'Daily Report'!I$12)","v":0},{"$f":"COUNTIFS('Daily Diary'!$A:$A,'Daily Report'!$B377,'Daily Diary'!$K:$K,'Daily Report'!J$12)","v":0},"",0.04,null,0.03,null,"",null,"",""]
["2024-05-31","2024-05-14",{"$f":"SUMIF('Daily Diary'!$A:$A,$B378,'Daily Diary'!$L:$L)","v":0},"",1000,{"$f":"Deposit_Withdraw!H370","v":0},1000,0,{"$f":"COUNTIFS('Daily Diary'!$A:$A,'Daily Report'!$B378,'Daily Diary'!$K:$K,'Daily Report'!I$12)","v":0},{"$f":"COUNTIFS('Daily Diary'!$A:$A,'Daily Report'!$B378,'Daily Diary'!$K:$K,'Daily Report'!J$12)","v":0},"",0.04,null,0.03,null,"",null,"",""]

{"sheet":"Weekly Report","index":7,"n_rows":65,"n_cols":11,"rows_kept":65,"cut":false,"hidden":false,"merged":[]}
[]
[]
[]
[]
[]
[]
[]
[]
[]
[]
[null,null,"Weekly",null,"Total",null,null,null,"Success","number of days","number of days"]
[null,"Week","Profits","%","Amount","Trade","Win","Lose","Rate %","Take Profit","Stop Loss"]
[null,{"$f":"'Daily Report'!B13","v":"2023-05-15"},{"$f":"SUM('Daily Report'!C13:C19)","v":0},{"$f":"IFERROR(IF(C13=0,\"\",C13/E13),\"\")","v":""},{"$f":"'Daily Report'!G19","v":1000},{"$f":"SUM(G13:H13)","v":0},{"$f":"SUM('Daily Report'!I13:I19)","v":0},{"$f":"SUM('Daily Report'!J13:J19)","v":0},{"$f":"IF(F13=0,\"\",IF(G13=G13,(G13/F13),IF(G13>H13,(G13/F13),(H13/F13))))","v":""},{"$f":"COUNTIF('Daily Report'!P13:P19,\"TAKE PROFIT\")","v":0},{"$f":"COUNTIF('Daily Report'!P13:P19,\"STOP LOSS\")","v":0}]
[null,{"$f":"B13+7","v":"2023-05-22"},{"$f":"SUM('Daily Report'!C20:C26)","v":0},"",{"$f":"'Daily Report'!G26","v":1000},0,{"$f":"SUM('Daily Report'!I20:I26)","v":0},{"$f":"SUM('Daily Report'!J20:J26)","v":0},"",{"$f":"COUNTIF('Daily Report'!P20:P26,\"TAKE PROFIT\")","v":0},{"$f":"COUNTIF('Daily Report'!P20:P26,\"STOP LOSS\")","v":0}]
[null,{"$f":"B14+7","v":"2023-05-29"},{"$f":"SUM('Daily Report'!C27:C33)","v":0},"",{"$f":"'Daily Report'!G33","v":1000},0,{"$f":"SUM('Daily Report'!I27:I33)","v":0},{"$f":"SUM('Daily Report'!J27:J33)","v":0},"",{"$f":"COUNTIF('Daily Report'!P27:P33,\"TAKE PROFIT\")","v":0},{"$f":"COUNTIF('Daily Report'!P27:P33,\"STOP LOSS\")","v":0}]
[null,"2023-06-05",{"$f":"SUM('Daily Report'!C34:C40)","v":0},"",{"$f":"'Daily Report'!G40","v":1000},0,{"$f":"SUM('Daily Report'!I34:I40)","v":0},{"$f":"SUM('Daily Report'!J34:J40)","v":0},"",{"$f":"COUNTIF('Daily Report'!P34:P40,\"TAKE PROFIT\")","v":0},{"$f":"COUNTIF('Daily Report'!P34:P40,\"STOP LOSS\")","v":0}]
[null,"2023-06-12",{"$f":"SUM('Daily Report'!C41:C47)","v":0},"",{"$f":"'Daily Report'!G47","v":1000},0,{"$f":"SUM('Daily Report'!I41:I47)","v":0},{"$f":"SUM('Daily Report'!J41:J47)","v":0},"",{"$f":"COUNTIF('Daily Report'!P41:P47,\"TAKE PROFIT\")","v":0},{"$f":"COUNTIF('Daily Report'!P41:P47,\"STOP LOSS\")","v":0}]
[null,"2023-06-19",{"$f":"SUM('Daily Report'!C48:C54)","v":0},"",{"$f":"'Daily Report'!G54","v":1000},0,{"$f":"SUM('Daily Report'!I48:I54)","v":0},{"$f":"SUM('Daily Report'!J48:J54)","v":0},"",{"$f":"COUNTIF('Daily Report'!P48:P54,\"TAKE PROFIT\")","v":0},{"$f":"COUNTIF('Daily Report'!Q48:Q54,\"TAKE PROFIT\")","v":0}]
[null,"2023-06-26",{"$f":"SUM('Daily Report'!C55:C61)","v":0},"",{"$f":"'Daily Report'!G61","v":1000},0,{"$f":"SUM('Daily Report'!I55:I61)","v":0},{"$f":"SUM('Daily Report'!J55:J61)","v":0},"",{"$f":"COUNTIF('Daily Report'!P55:P61,\"TAKE PROFIT\")","v":0},{"$f":"COUNTIF('Daily Report'!P55:P61,\"STOP LOSS\")","v":0}]
[null,"2023-07-03",{"$f":"SUM('Daily Report'!C62:C68)","v":0},"",{"$f":"'Daily Report'!G68","v":1000},0,{"$f":"SUM('Daily Report'!I62:I68)","v":0},{"$f":"SUM('Daily Report'!J62:J68)","v":0},"",{"$f":"COUNTIF('Daily Report'!P62:P68,\"TAKE PROFIT\")","v":0},{"$f":"COUNTIF('Daily Report'!P62:P68,\"STOP LOSS\")","v":0}]
[null,"2023-07-10",{"$f":"SUM('Daily Report'!C69:C75)","v":0},"",{"$f":"'Daily Report'!G75","v":1000},0,{"$f":"SUM('Daily Report'!I69:I75)","v":0},{"$f":"SUM('Daily Report'!J69:J75)","v":0},"",{"$f":"COUNTIF('Daily Report'!P69:P75,\"TAKE PROFIT\")","v":0},{"$f":"COUNTIF('Daily Report'!P69:P75,\"STOP LOSS\")","v":0}]
[null,"2023-07-17",{"$f":"SUM('Daily Report'!C76:C82)","v":0},"",{"$f":"'Daily Report'!G81","v":1000},0,{"$f":"SUM('Daily Report'!I76:I82)","v":0},{"$f":"SUM('Daily Report'!J76:J82)","v":0},"",{"$f":"COUNTIF('Daily Report'!P76:P82,\"TAKE PROFIT\")","v":0},{"$f":"COUNTIF('Daily Report'!P76:P82,\"STOP LOSS\")","v":0}]
[null,"2023-07-24",{"$f":"SUM('Daily Report'!C83:C89)","v":0},"",{"$f":"'Daily Report'!G88","v":1000},0,{"$f":"SUM('Daily Report'!I83:I89)","v":0},{"$f":"SUM('Daily Report'!J83:J89)","v":0},"",{"$f":"COUNTIF('Daily Report'!P83:P89,\"TAKE PROFIT\")","v":0},{"$f":"COUNTIF('Daily Report'!P83:P89,\"STOP LOSS\")","v":0}]
[null,"2023-07-31",{"$f":"SUM('Daily Report'!C90:C96)","v":0},"",{"$f":"'Daily Report'!G95","v":1000},0,{"$f":"SUM('Daily Report'!I90:I96)","v":0},{"$f":"SUM('Daily Report'!J90:J96)","v":0},"",{"$f":"COUNTIF('Daily Report'!P90:P96,\"TAKE PROFIT\")","v":0},{"$f":"COUNTIF('Daily Report'!P90:P96,\"STOP LOSS\")","v":0}]
[null,"2023-08-07",{"$f":"SUM('Daily Report'!C97:C103)","v":0},"",{"$f":"'Daily Report'!G102","v":1000},0,{"$f":"SUM('Daily Report'!I97:I103)","v":0},{"$f":"SUM('Daily Report'!J97:J103)","v":0},"",{"$f":"COUNTIF('Daily Report'!P97:P103,\"TAKE PROFIT\")","v":0},{"$f":"COUNTIF('Daily Report'!P97:P103,\"STOP LOSS\")","v":0}]
[null,"2023-08-14",{"$f":"SUM('Daily Report'!C104:C110)","v":0},"",{"$f":"'Daily Report'!G109","v":1000},0,{"$f":"SUM('Daily Report'!I104:I110)","v":0},{"$f":"SUM('Daily Report'!J104:J110)","v":0},"",{"$f":"COUNTIF('Daily Report'!P104:P110,\"TAKE PROFIT\")","v":0},{"$f":"COUNTIF('Daily Report'!P104:P110,\"STOP LOSS\")","v":0}]
[null,"2023-08-21",{"$f":"SUM('Daily Report'!C111:C117)","v":0},"",{"$f":"'Daily Report'!G116","v":1000},0,{"$f":"SUM('Daily Report'!I111:I117)","v":0},{"$f":"SUM('Daily Report'!J111:J117)","v":0},"",{"$f":"COUNTIF('Daily Report'!P111:P117,\"TAKE PROFIT\")","v":0},{"$f":"COUNTIF('Daily Report'!P111:P117,\"STOP LOSS\")","v":0}]
[null,"2023-08-28",{"$f":"SUM('Daily Report'!C118:C124)","v":0},"",{"$f":"'Daily Report'!G123","v":1000},0,{"$f":"SUM('Daily Report'!I118:I124)","v":0},{"$f":"SUM('Daily Report'!J118:J124)","v":0},"",{"$f":"COUNTIF('Daily Report'!P118:P124,\"TAKE PROFIT\")","v":0},{"$f":"COUNTIF('Daily Report'!P118:P124,\"STOP LOSS\")","v":0}]
[null,"2023-09-04",{"$f":"SUM('Daily Report'!C125:C131)","v":0},"",{"$f":"'Daily Report'!G139","v":1000},0,{"$f":"SUM('Daily Report'!I125:I131)","v":0},{"$f":"SUM('Daily Report'!J125:J131)","v":0},"",{"$f":"COUNTIF('Daily Report'!P125:P131,\"TAKE PROFIT\")","v":0},{"$f":"COUNTIF('Daily Report'!P125:P131,\"STOP LOSS\")","v":0}]
[null,"2023-09-11",{"$f":"SUM('Daily Report'!C132:C138)","v":0},"",{"$f":"'Daily Report'!G137","v":1000},0,{"$f":"SUM('Daily Report'!I132:I138)","v":0},{"$f":"SUM('Daily Report'!J132:J138)","v":0},"",{"$f":"COUNTIF('Daily Report'!P132:P138,\"TAKE PROFIT\")","v":0},{"$f":"COUNTIF('Daily Report'!P132:P138,\"STOP LOSS\")","v":0}]
[null,"2023-09-18",{"$f":"SUM('Daily Report'!C139:C145)","v":0},"",{"$f":"'Daily Report'!G144","v":1000},0,{"$f":"SUM('Daily Report'!I139:I145)","v":0},{"$f":"SUM('Daily Report'!J139:J145)","v":0},"",{"$f":"COUNTIF('Daily Report'!P139:P145,\"TAKE PROFIT\")","v":0},{"$f":"COUNTIF('Daily Report'!P139:P145,\"STOP LOSS\")","v":0}]
[null,"2023-09-25",{"$f":"SUM('Daily Report'!C146:C152)","v":0},"",{"$f":"'Daily Report'!G151","v":1000},0,{"$f":"SUM('Daily Report'!I146:I152)","v":0},{"$f":"SUM('Daily Report'!J146:J152)","v":0},"",{"$f":"COUNTIF('Daily Report'!P146:P152,\"TAKE PROFIT\")","v":0},{"$f":"COUNTIF('Daily Report'!P146:P152,\"STOP LOSS\")","v":0}]
[null,"2023-10-02",{"$f":"SUM('Daily Report'!C153:C159)","v":0},"",{"$f":"'Daily Report'!G158","v":1000},0,{"$f":"SUM('Daily Report'!I153:I159)","v":0},{"$f":"SUM('Daily Report'!J153:J159)","v":0},"",{"$f":"COUNTIF('Daily Report'!P153:P159,\"TAKE PROFIT\")","v":0},{"$f":"COUNTIF('Daily Report'!P153:P159,\"STOP LOSS\")","v":0}]
[null,"2023-10-09",{"$f":"SUM('Daily Report'!C160:C166)","v":0},"",{"$f":"'Daily Report'!G165","v":1000},0,{"$f":"SUM('Daily Report'!I160:I166)","v":0},{"$f":"SUM('Daily Report'!J160:J166)","v":0},"",{"$f":"COUNTIF('Daily Report'!P160:P166,\"TAKE PROFIT\")","v":0},{"$f":"COUNTIF('Daily Report'!P160:P166,\"STOP LOSS\")","v":0}]
[null,"2023-10-16",{"$f":"SUM('Daily Report'!C167:C173)","v":0},"",{"$f":"'Daily Report'!G172","v":1000},0,{"$f":"SUM('Daily Report'!I167:I173)","v":0},{"$f":"SUM('Daily Report'!J167:J173)","v":0},"",{"$f":"COUNTIF('Daily Report'!P167:P173,\"TAKE PROFIT\")","v":0},{"$f":"COUNTIF('Daily Report'!P167:P173,\"STOP LOSS\")","v":0}]
[null,"2023-10-23",{"$f":"SUM('Daily Report'!C174:C180)","v":0},"",{"$f":"'Daily Report'!G179","v":1000},0,{"$f":"SUM('Daily Report'!I174:I180)","v":0},{"$f":"SUM('Daily Report'!J174:J180)","v":0},"",{"$f":"COUNTIF('Daily Report'!P174:P180,\"TAKE PROFIT\")","v":0},{"$f":"COUNTIF('Daily Report'!P174:P180,\"STOP LOSS\")","v":0}]
[null,"2023-10-30",{"$f":"SUM('Daily Report'!C181:C187)","v":0},"",{"$f":"'Daily Report'!G186","v":1000},0,{"$f":"SUM('Daily Report'!I181:I187)","v":0},{"$f":"SUM('Daily Report'!J181:J187)","v":0},"",{"$f":"COUNTIF('Daily Report'!P181:P187,\"TAKE PROFIT\")","v":0},{"$f":"COUNTIF('Daily Report'!P181:P187,\"STOP LOSS\")","v":0}]
[null,"2023-11-06",{"$f":"SUM('Daily Report'!C188:C194)","v":0},"",{"$f":"'Daily Report'!G193","v":1000},0,{"$f":"SUM('Daily Report'!I188:I194)","v":0},{"$f":"SUM('Daily Report'!J188:J194)","v":0},"",{"$f":"COUNTIF('Daily Report'!P188:P194,\"TAKE PROFIT\")","v":0},{"$f":"COUNTIF('Daily Report'!P188:P194,\"STOP LOSS\")","v":0}]
[null,"2023-11-13",{"$f":"SUM('Daily Report'!C195:C201)","v":0},"",{"$f":"'Daily Report'!G200","v":1000},0,{"$f":"SUM('Daily Report'!I195:I201)","v":0},{"$f":"SUM('Daily Report'!J195:J201)","v":0},"",{"$f":"COUNTIF('Daily Report'!P195:P201,\"TAKE PROFIT\")","v":0},{"$f":"COUNTIF('Daily Report'!P195:P201,\"STOP LOSS\")","v":0}]
[null,"2023-11-20",{"$f":"SUM('Daily Report'!C202:C208)","v":0},"",{"$f":"'Daily Report'!G207","v":1000},0,{"$f":"SUM('Daily Report'!I202:I208)","v":0},{"$f":"SUM('Daily Report'!J202:J208)","v":0},"",{"$f":"COUNTIF('Daily Report'!P202:P208,\"TAKE PROFIT\")","v":0},{"$f":"COUNTIF('Daily Report'!P202:P208,\"STOP LOSS\")","v":0}]
[null,"2023-11-27",{"$f":"SUM('Daily Report'!C209:C215)","v":0},"",{"$f":"'Daily Report'!G214","v":1000},0,{"$f":"SUM('Daily Report'!I209:I215)","v":0},{"$f":"SUM('Daily Report'!J209:J215)","v":0},"",{"$f":"COUNTIF('Daily Report'!P209:P215,\"TAKE PROFIT\")","v":0},{"$f":"COUNTIF('Daily Report'!P209:P215,\"STOP LOSS\")","v":0}]
[null,"2023-12-04",{"$f":"SUM('Daily Report'!C216:C222)","v":0},"",{"$f":"'Daily Report'!G221","v":1000},0,{"$f":"SUM('Daily Report'!I216:I222)","v":0},{"$f":"SUM('Daily Report'!J216:J222)","v":0},"",{"$f":"COUNTIF('Daily Report'!P216:P222,\"TAKE PROFIT\")","v":0},{"$f":"COUNTIF('Daily Report'!P216:P222,\"STOP LOSS\")","v":0}]
[null,"2023-12-11",{"$f":"SUM('Daily Report'!C223:C229)","v":0},"",{"$f":"'Daily Report'!G228","v":1000},0,{"$f":"SUM('Daily Report'!I223:I229)","v":0},{"$f":"SUM('Daily Report'!J223:J229)","v":0},"",{"$f":"COUNTIF('Daily Report'!P223:P229,\"TAKE PROFIT\")","v":0},{"$f":"COUNTIF('Daily Report'!P223:P229,\"STOP LOSS\")","v":0}]
[null,"2023-12-18",{"$f":"SUM('Daily Report'!C230:C236)","v":0},"",{"$f":"'Daily Report'!G235","v":1000},0,{"$f":"SUM('Daily Report'!I230:I236)","v":0},{"$f":"SUM('Daily Report'!J230:J236)","v":0},"",{"$f":"COUNTIF('Daily Report'!P230:P236,\"TAKE PROFIT\")","v":0},{"$f":"COUNTIF('Daily Report'!P230:P236,\"STOP LOSS\")","v":0}]
[null,"2023-12-25",{"$f":"SUM('Daily Report'!C237:C243)","v":0},{"$f":"IFERROR(IF(C45=0,\"\",C45/E45),\"\")","v":""},{"$f":"'Daily Report'!G242","v":1000},{"$f":"SUM(G45:H45)","v":0},{"$f":"SUM('Daily Report'!I237:I243)","v":0},{"$f":"SUM('Daily Report'!J237:J243)","v":0},{"$f":"IF(F45=0,\"\",IF(G45=G45,(G45/F45),IF(G45>H45,(G45/F45),(H45/F45))))","v":""},{"$f":"COUNTIF('Daily Report'!P237:P243,\"TAKE PROFIT\")","v":0},{"$f":"COUNTIF('Daily Report'!P237:P243,\"STOP LOSS\")","v":0}]
[null,"2024-01-01",{"$f":"SUM('Daily Report'!C244:C250)","v":0},"",{"$f":"'Daily Report'!G249","v":1000},0,{"$f":"SUM('Daily Report'!I244:I250)","v":0},{"$f":"SUM('Daily Report'!J244:J250)","v":0},"",{"$f":"COUNTIF('Daily Report'!P244:P250,\"TAKE PROFIT\")","v":0},{"$f":"COUNTIF('Daily Report'!P244:P250,\"STOP LOSS\")","v":0}]
[null,"2024-01-08",{"$f":"SUM('Daily Report'!C251:C257)","v":0},"",{"$f":"'Daily Report'!G256","v":1000},0,{"$f":"SUM('Daily Report'!I251:I257)","v":0},{"$f":"SUM('Daily Report'!J251:J257)","v":0},"",{"$f":"COUNTIF('Daily Report'!P251:P257,\"TAKE PROFIT\")","v":0},{"$f":"COUNTIF('Daily Report'!P251:P257,\"STOP LOSS\")","v":0}]
[null,"2024-01-15",{"$f":"SUM('Daily Report'!C258:C264)","v":0},"",{"$f":"'Daily Report'!G263","v":1000},0,{"$f":"SUM('Daily Report'!I258:I264)","v":0},{"$f":"SUM('Daily Report'!J258:J264)","v":0},"",{"$f":"COUNTIF('Daily Report'!P258:P264,\"TAKE PROFIT\")","v":0},{"$f":"COUNTIF('Daily Report'!P258:P264,\"STOP LOSS\")","v":0}]
[null,"2024-01-22",{"$f":"SUM('Daily Report'!C265:C271)","v":0},"",{"$f":"'Daily Report'!G270","v":1000},0,{"$f":"SUM('Daily Report'!I265:I271)","v":0},{"$f":"SUM('Daily Report'!J265:J271)","v":0},"",{"$f":"COUNTIF('Daily Report'!P265:P271,\"TAKE PROFIT\")","v":0},{"$f":"COUNTIF('Daily Report'!P265:P271,\"STOP LOSS\")","v":0}]
[null,"2024-01-29",{"$f":"SUM('Daily Report'!C272:C278)","v":0},"",{"$f":"'Daily Report'!G277","v":1000},0,{"$f":"SUM('Daily Report'!I272:I278)","v":0},{"$f":"SUM('Daily Report'!J272:J278)","v":0},"",{"$f":"COUNTIF('Daily Report'!P272:P278,\"TAKE PROFIT\")","v":0},{"$f":"COUNTIF('Daily Report'!P272:P278,\"STOP LOSS\")","v":0}]
[null,"2024-02-05",{"$f":"SUM('Daily Report'!C279:C285)","v":0},"",{"$f":"'Daily Report'!G284","v":1000},0,{"$f":"SUM('Daily Report'!I279:I285)","v":0},{"$f":"SUM('Daily Report'!J279:J285)","v":0},"",{"$f":"COUNTIF('Daily Report'!P279:P285,\"TAKE PROFIT\")","v":0},{"$f":"COUNTIF('Daily Report'!P279:P285,\"STOP LOSS\")","v":0}]
[null,"2024-02-12",{"$f":"SUM('Daily Report'!C286:C292)","v":0},"",{"$f":"'Daily Report'!G291","v":1000},0,{"$f":"SUM('Daily Report'!I286:I292)","v":0},{"$f":"SUM('Daily Report'!J286:J292)","v":0},"",{"$f":"COUNTIF('Daily Report'!P286:P292,\"TAKE PROFIT\")","v":0},{"$f":"COUNTIF('Daily Report'!P286:P292,\"STOP LOSS\")","v":0}]
[null,"2024-02-19",{"$f":"SUM('Daily Report'!C293:C299)","v":0},"",{"$f":"'Daily Report'!G298","v":1000},0,{"$f":"SUM('Daily Report'!I293:I299)","v":0},{"$f":"SUM('Daily Report'!J293:J299)","v":0},"",{"$f":"COUNTIF('Daily Report'!P293:P299,\"TAKE PROFIT\")","v":0},{"$f":"COUNTIF('Daily Report'!P293:P299,\"STOP LOSS\")","v":0}]
[null,"2024-02-26",{"$f":"SUM('Daily Report'!C300:C306)","v":0},"",{"$f":"'Daily Report'!G305","v":1000},0,{"$f":"SUM('Daily Report'!I300:I306)","v":0},{"$f":"SUM('Daily Report'!J300:J306)","v":0},"",{"$f":"COUNTIF('Daily Report'!P300:P306,\"TAKE PROFIT\")","v":0},{"$f":"COUNTIF('Daily Report'!P300:P306,\"STOP LOSS\")","v":0}]
[null,"2024-03-04",{"$f":"SUM('Daily Report'!C307:C313)","v":0},"",{"$f":"'Daily Report'!G312","v":1000},0,{"$f":"SUM('Daily Report'!I307:I313)","v":0},{"$f":"SUM('Daily Report'!J307:J313)","v":0},"",{"$f":"COUNTIF('Daily Report'!P307:P313,\"TAKE PROFIT\")","v":0},{"$f":"COUNTIF('Daily Report'!P307:P313,\"STOP LOSS\")","v":0}]
[null,"2024-03-11",{"$f":"SUM('Daily Report'!C314:C320)","v":0},"",{"$f":"'Daily Report'!G319","v":1000},0,{"$f":"SUM('Daily Report'!I314:I320)","v":0},{"$f":"SUM('Daily Report'!J314:J320)","v":0},"",{"$f":"COUNTIF('Daily Report'!P314:P320,\"TAKE PROFIT\")","v":0},{"$f":"COUNTIF('Daily Report'!P314:P320,\"STOP LOSS\")","v":0}]
[null,"2024-03-18",{"$f":"SUM('Daily Report'!C321:C327)","v":0},"",{"$f":"'Daily Report'!G326","v":1000},0,{"$f":"SUM('Daily Report'!I321:I327)","v":0},{"$f":"SUM('Daily Report'!J321:J327)","v":0},"",{"$f":"COUNTIF('Daily Report'!P321:P327,\"TAKE PROFIT\")","v":0},{"$f":"COUNTIF('Daily Report'!P321:P327,\"STOP LOSS\")","v":0}]
[null,"2024-03-25",{"$f":"SUM('Daily Report'!C328:C334)","v":0},"",{"$f":"'Daily Report'!G333","v":1000},0,{"$f":"SUM('Daily Report'!I328:I334)","v":0},{"$f":"SUM('Daily Report'!J328:J334)","v":0},"",{"$f":"COUNTIF('Daily Report'!P328:P334,\"TAKE PROFIT\")","v":0},{"$f":"COUNTIF('Daily Report'!P328:P334,\"STOP LOSS\")","v":0}]
[null,"2024-04-01",{"$f":"SUM('Daily Report'!C335:C341)","v":0},"",{"$f":"'Daily Report'!G340","v":1000},0,{"$f":"SUM('Daily Report'!I335:I341)","v":0},{"$f":"SUM('Daily Report'!J335:J341)","v":0},"",{"$f":"COUNTIF('Daily Report'!P335:P341,\"TAKE PROFIT\")","v":0},{"$f":"COUNTIF('Daily Report'!P335:P341,\"STOP LOSS\")","v":0}]
[null,"2024-04-08",{"$f":"SUM('Daily Report'!C342:C348)","v":0},"",{"$f":"'Daily Report'!G347","v":1000},0,{"$f":"SUM('Daily Report'!I342:I348)","v":0},{"$f":"SUM('Daily Report'!J342:J348)","v":0},"",{"$f":"COUNTIF('Daily Report'!P342:P348,\"TAKE PROFIT\")","v":0},{"$f":"COUNTIF('Daily Report'!P342:P348,\"STOP LOSS\")","v":0}]
[null,"2024-04-15",{"$f":"SUM('Daily Report'!C349:C355)","v":0},"",{"$f":"'Daily Report'!G354","v":1000},0,{"$f":"SUM('Daily Report'!I349:I355)","v":0},{"$f":"SUM('Daily Report'!J349:J355)","v":0},"",{"$f":"COUNTIF('Daily Report'!P349:P355,\"TAKE PROFIT\")","v":0},{"$f":"COUNTIF('Daily Report'!P349:P355,\"STOP LOSS\")","v":0}]
[null,"2024-04-22",{"$f":"SUM('Daily Report'!C356:C362)","v":0},"",{"$f":"'Daily Report'!G361","v":1000},0,{"$f":"SUM('Daily Report'!I356:I362)","v":0},{"$f":"SUM('Daily Report'!J356:J362)","v":0},"",{"$f":"COUNTIF('Daily Report'!P356:P362,\"TAKE PROFIT\")","v":0},{"$f":"COUNTIF('Daily Report'!P356:P362,\"STOP LOSS\")","v":0}]
[null,"2024-04-29",{"$f":"SUM('Daily Report'!C363:C369)","v":0},"",{"$f":"'Daily Report'!G368","v":1000},0,{"$f":"SUM('Daily Report'!I363:I369)","v":0},{"$f":"SUM('Daily Report'!J363:J369)","v":0},"",{"$f":"COUNTIF('Daily Report'!P363:P369,\"TAKE PROFIT\")","v":0},{"$f":"COUNTIF('Daily Report'!P363:P369,\"STOP LOSS\")","v":0}]
[null,"2024-05-06",{"$f":"SUM('Daily Report'!C370:C376)","v":0},"",{"$f":"'Daily Report'!G375","v":1000},0,{"$f":"SUM('Daily Report'!I370:I376)","v":0},{"$f":"SUM('Daily Report'!J370:J376)","v":0},"",{"$f":"COUNTIF('Daily Report'!P370:P376,\"TAKE PROFIT\")","v":0},{"$f":"COUNTIF('Daily Report'!P370:P376,\"STOP LOSS\")","v":0}]
[null,"2024-05-13",{"$f":"SUM('Daily Report'!C377:C378)","v":0},"",{"$f":"'Daily Report'!G378","v":1000},0,{"$f":"SUM('Daily Report'!I377:I378)","v":0},{"$f":"SUM('Daily Report'!J377:J378)","v":0},"",{"$f":"COUNTIF('Daily Report'!P377:P378,\"TAKE PROFIT\")","v":0},{"$f":"COUNTIF('Daily Report'!P377:P378,\"STOP LOSS\")","v":0}]

{"sheet":"Monthly Report","index":8,"n_rows":25,"n_cols":22,"rows_kept":25,"cut":false,"hidden":false,"merged":[]}
[]
[]
[]
[]
[]
[]
[]
[]
[]
[]
[null,null,"Monthly",null,"Totale",null,null,null,"Success","number of days","number of days"]
[null,"Month","Profits","%","Amount","Trade","Win","Lose","Rate %","Take Profit","Stop Loss",null,null,null,null,"Mese","Fine Mese","Cassa Trading","Prelievi/Versamenti ","Versamenti","Prelievi","Cassa Totale Trading + Prelievi-versamenti"]
[null,{"$f":"'Daily Diary'!A3","v":"2023-05-15"},{"$f":"R13","v":0},{"$f":"IF(C13=0,\"\",C13/E13)","v":""},{"$f":"Stake!F19+'Monthly Report'!S13+'Monthly Report'!R13","v":1000},{"$f":"SUM($G13:$H13)","v":0},{"$f":"SUMIF('Daily Report'!$A:$A,'Monthly Report'!Q13,'Daily Report'!$I:$I)","v":0},{"$f":"SUMIF('Daily Report'!$A:$A,'Monthly Report'!Q13,'Daily Report'!$J:$J)","v":0},{"$f":"IF(F13=0,\"\",IF(G13=G13,(G13/F13),IF(G13>H13,(G13/F13),(H13/F13))))","v":""},{"$f":"SUMIF('Daily Report'!$A:$A,'Monthly Report'!Q13,'Daily Report'!$R:$R)","v":0},{"$f":"SUMIF('Daily Report'!$A:$A,'Monthly Report'!Q13,'Daily Report'!$S:$S)","v":0},null,null,null,null,{"$f":"B13","v":"2023-05-15"},{"$f":"EOMONTH('Daily Diary'!A3,0)","v":"2023-05-31"},{"$f":"SUMIF('Daily Report'!$A:$A,'Monthly Report'!Q13,'Daily Report'!$C:$C)","v":0},{"$f":"SUMIF('Daily Report'!$A:$A,'Monthly Report'!Q13,'Daily Report'!$F:$F)","v":0},null,null,{"$f":"R13+S13","v":0}]
[null,{"$f":"EDATE(B13,1)","v":"2023-06-15"},{"$f":"R14","v":0},{"$f":"IF(C14=0,\"\",C14/E13)","v":""},{"$f":"V14+E13","v":1000},{"$f":"SUM($G14:$H14)","v":0},{"$f":"SUMIF('Daily Report'!$A:$A,'Monthly Report'!Q14,'Daily Report'!$I:$I)","v":0},{"$f":"SUMIF('Daily Report'!$A:$A,'Monthly Report'!Q14,'Daily Report'!$J:$J)","v":0},{"$f":"IF(F14=0,\"\",IF(G14=G14,(G14/F14),IF(G14>H14,(G14/F14),(H14/F14))))","v":""},{"$f":"SUMIF('Daily Report'!$A:$A,'Monthly Report'!Q14,'Daily Report'!$R:$R)","v":0},{"$f":"SUMIF('Daily Report'!$A:$A,'Monthly Report'!Q14,'Daily Report'!$S:$S)","v":0},null,null,null,null,{"$f":"B14","v":"2023-06-15"},{"$f":"EOMONTH(EDATE(Q13,1),0)","v":"2023-06-30"},{"$f":"SUMIF('Daily Report'!$A:$A,'Monthly Report'!Q14,'Daily Report'!$C:$C)","v":0},{"$f":"SUMIF('Daily Report'!$A:$A,'Monthly Report'!Q14,'Daily Report'!$F:$F)","v":0},null,null,{"$f":"R14+S14","v":0}]
[null,{"$f":"EDATE(B14,1)","v":"2023-07-15"},0,{"$f":"IF(C15=0,\"\",C15/E14)","v":""},{"$f":"V15+E14","v":1000},0,{"$f":"SUMIF('Daily Report'!$A:$A,'Monthly Report'!Q15,'Daily Report'!$I:$I)","v":0},{"$f":"SUMIF('Daily Report'!$A:$A,'Monthly Report'!Q15,'Daily Report'!$J:$J)","v":0},"",{"$f":"SUMIF('Daily Report'!$A:$A,'Monthly Report'!Q15,'Daily Report'!$R:$R)","v":0},{"$f":"SUMIF('Daily Report'!$A:$A,'Monthly Report'!Q15,'Daily Report'!$S:$S)","v":0},null,null,null,null,"2023-07-15",{"$f":"EOMONTH(EDATE(Q14,1),0)","v":"2023-07-31"},{"$f":"SUMIF('Daily Report'!$A:$A,'Monthly Report'!Q15,'Daily Report'!$C:$C)","v":0},{"$f":"SUMIF('Daily Report'!$A:$A,'Monthly Report'!Q15,'Daily Report'!$F:$F)","v":0},null,null,0]
[null,"2023-08-15",0,"",1000,0,{"$f":"SUMIF('Daily Report'!$A:$A,'Monthly Report'!Q16,'Daily Report'!$I:$I)","v":0},{"$f":"SUMIF('Daily Report'!$A:$A,'Monthly Report'!Q16,'Daily Report'!$J:$J)","v":0},"",{"$f":"SUMIF('Daily Report'!$A:$A,'Monthly Report'!Q16,'Daily Report'!$R:$R)","v":0},{"$f":"SUMIF('Daily Report'!$A:$A,'Monthly Report'!Q16,'Daily Report'!$S:$S)","v":0},null,null,null,null,"2023-08-15","2023-08-31",{"$f":"SUMIF('Daily Report'!$A:$A,'Monthly Report'!Q16,'Daily Report'!$C:$C)","v":0},{"$f":"SUMIF('Daily Report'!$A:$A,'Monthly Report'!Q16,'Daily Report'!$F:$F)","v":0},null,null,0]
[null,"2023-09-15",0,"",1000,0,{"$f":"SUMIF('Daily Report'!$A:$A,'Monthly Report'!Q17,'Daily Report'!$I:$I)","v":0},{"$f":"SUMIF('Daily Report'!$A:$A,'Monthly Report'!Q17,'Daily Report'!$J:$J)","v":0},"",{"$f":"SUMIF('Daily Report'!$A:$A,'Monthly Report'!Q17,'Daily Report'!$R:$R)","v":0},{"$f":"SUMIF('Daily Report'!$A:$A,'Monthly Report'!Q17,'Daily Report'!$S:$S)","v":0},null,null,null,null,"2023-09-15","2023-09-30",{"$f":"SUMIF('Daily Report'!$A:$A,'Monthly Report'!Q17,'Daily Report'!$C:$C)","v":0},{"$f":"SUMIF('Daily Report'!$A:$A,'Monthly Report'!Q17,'Daily Report'!$F:$F)","v":0},null,null,0]
[null,"2023-10-15",0,"",1000,0,{"$f":"SUMIF('Daily Report'!$A:$A,'Monthly Report'!Q18,'Daily Report'!$I:$I)","v":0},{"$f":"SUMIF('Daily Report'!$A:$A,'Monthly Report'!Q18,'Daily Report'!$J:$J)","v":0},"",{"$f":"SUMIF('Daily Report'!$A:$A,'Monthly Report'!Q18,'Daily Report'!$R:$R)","v":0},{"$f":"SUMIF('Daily Report'!$A:$A,'Monthly Report'!Q18,'Daily Report'!$S:$S)","v":0},null,null,null,null,"2023-10-15","2023-10-31",{"$f":"SUMIF('Daily Report'!$A:$A,'Monthly Report'!Q18,'Daily Report'!$C:$C)","v":0},{"$f":"SUMIF('Daily Report'!$A:$A,'Monthly Report'!Q18,'Daily Report'!$F:$F)","v":0},null,null,0]
[null,"2023-11-15",0,"",1000,0,{"$f":"SUMIF('Daily Report'!$A:$A,'Monthly Report'!Q19,'Daily Report'!$I:$I)","v":0},{"$f":"SUMIF('Daily Report'!$A:$A,'Monthly Report'!Q19,'Daily Report'!$J:$J)","v":0},"",{"$f":"SUMIF('Daily Report'!$A:$A,'Monthly Report'!Q19,'Daily Report'!$R:$R)","v":0},{"$f":"SUMIF('Daily Report'!$A:$A,'Monthly Report'!Q19,'Daily Report'!$S:$S)","v":0},null,null,null,null,"2023-11-15","2023-11-30",{"$f":"SUMIF('Daily Report'!$A:$A,'Monthly Report'!Q19,'Daily Report'!$C:$C)","v":0},{"$f":"SUMIF('Daily Report'!$A:$A,'Monthly Report'!Q19,'Daily Report'!$F:$F)","v":0},null,null,0]
[null,"2023-12-15",0,"",1000,0,{"$f":"SUMIF('Daily Report'!$A:$A,'Monthly Report'!Q20,'Daily Report'!$I:$I)","v":0},{"$f":"SUMIF('Daily Report'!$A:$A,'Monthly Report'!Q20,'Daily Report'!$J:$J)","v":0},"",{"$f":"SUMIF('Daily Report'!$A:$A,'Monthly Report'!Q20,'Daily Report'!$R:$R)","v":0},{"$f":"SUMIF('Daily Report'!$A:$A,'Monthly Report'!Q20,'Daily Report'!$S:$S)","v":0},null,null,null,null,"2023-12-15","2023-12-31",{"$f":"SUMIF('Daily Report'!$A:$A,'Monthly Report'!Q20,'Daily Report'!$C:$C)","v":0},{"$f":"SUMIF('Daily Report'!$A:$A,'Monthly Report'!Q20,'Daily Report'!$F:$F)","v":0},null,null,0]
[null,{"$f":"EDATE(B20,1)","v":"2024-01-15"},0,"",1000,0,{"$f":"SUMIF('Daily Report'!$A:$A,'Monthly Report'!Q21,'Daily Report'!$I:$I)","v":0},{"$f":"SUMIF('Daily Report'!$A:$A,'Monthly Report'!Q21,'Daily Report'!$J:$J)","v":0},"",{"$f":"SUMIF('Daily Report'!$A:$A,'Monthly Report'!Q21,'Daily Report'!$R:$R)","v":0},{"$f":"SUMIF('Daily Report'!$A:$A,'Monthly Report'!Q21,'Daily Report'!$S:$S)","v":0},null,null,null,null,"2024-01-15",45322,{"$f":"SUMIF('Daily Report'!$A:$A,'Monthly Report'!Q21,'Daily Report'!$C:$C)","v":0},{"$f":"SUMIF('Daily Report'!$A:$A,'Monthly Report'!Q21,'Daily Report'!$F:$F)","v":0},null,null,0]
[null,"2024-02-15",0,"",1000,0,{"$f":"SUMIF('Daily Report'!$A:$A,'Monthly Report'!Q22,'Daily Report'!$I:$I)","v":0},{"$f":"SUMIF('Daily Report'!$A:$A,'Monthly Report'!Q22,'Daily Report'!$J:$J)","v":0},"",{"$f":"SUMIF('Daily Report'!$A:$A,'Monthly Report'!Q22,'Daily Report'!$R:$R)","v":0},{"$f":"SUMIF('Daily Report'!$A:$A,'Monthly Report'!Q22,'Daily Report'!$S:$S)","v":0},null,null,null,null,"2024-02-15","2024-02-29",{"$f":"SUMIF('Daily Report'!$A:$A,'Monthly Report'!Q22,'Daily Report'!$C:$C)","v":0},{"$f":"SUMIF('Daily Report'!$A:$A,'Monthly Report'!Q22,'Daily Report'!$F:$F)","v":0},null,null,0]
[null,"2024-03-15",0,"",1000,0,{"$f":"SUMIF('Daily Report'!$A:$A,'Monthly Report'!Q23,'Daily Report'!$I:$I)","v":0},{"$f":"SUMIF('Daily Report'!$A:$A,'Monthly Report'!Q23,'Daily Report'!$J:$J)","v":0},"",{"$f":"SUMIF('Daily Report'!$A:$A,'Monthly Report'!Q23,'Daily Report'!$R:$R)","v":0},{"$f":"SUMIF('Daily Report'!$A:$A,'Monthly Report'!Q23,'Daily Report'!$S:$S)","v":0},null,null,null,null,"2024-03-15","2024-03-31",{"$f":"SUMIF('Daily Report'!$A:$A,'Monthly Report'!Q23,'Daily Report'!$C:$C)","v":0},{"$f":"SUMIF('Daily Report'!$A:$A,'Monthly Report'!Q23,'Daily Report'!$F:$F)","v":0},null,null,0]
[null,"2024-04-15",0,"",1000,0,{"$f":"SUMIF('Daily Report'!$A:$A,'Monthly Report'!Q24,'Daily Report'!$I:$I)","v":0},{"$f":"SUMIF('Daily Report'!$A:$A,'Monthly Report'!Q24,'Daily Report'!$J:$J)","v":0},"",{"$f":"SUMIF('Daily Report'!$A:$A,'Monthly Report'!Q24,'Daily Report'!$R:$R)","v":0},{"$f":"SUMIF('Daily Report'!$A:$A,'Monthly Report'!Q24,'Daily Report'!$S:$S)","v":0},null,null,null,null,"2024-04-15","2024-04-30",{"$f":"SUMIF('Daily Report'!$A:$A,'Monthly Report'!Q24,'Daily Report'!$C:$C)","v":0},{"$f":"SUMIF('Daily Report'!$A:$A,'Monthly Report'!Q24,'Daily Report'!$F:$F)","v":0},null,null,0]
[null,{"$f":"EDATE(B24,1)","v":"2024-05-15"},0,"",1000,0,{"$f":"SUMIF('Daily Report'!$A:$A,'Monthly Report'!Q25,'Daily Report'!$I:$I)","v":0},{"$f":"SUMIF('Daily Report'!$A:$A,'Monthly Report'!Q25,'Daily Report'!$J:$J)","v":0},"",{"$f":"SUMIF('Daily Report'!$A:$A,'Monthly Report'!Q25,'Daily Report'!$R:$R)","v":0},{"$f":"SUMIF('Daily Report'!$A:$A,'Monthly Report'!Q25,'Daily Report'!$S:$S)","v":0},null,null,null,null,"2024-05-15","2024-05-31",{"$f":"SUMIF('Daily Report'!$A:$A,'Monthly Report'!Q25,'Daily Report'!$C:$C)","v":0},{"$f":"SUMIF('Daily Report'!$A:$A,'Monthly Report'!Q25,'Daily Report'!$F:$F)","v":0},null,null,0]

{"sheet":"PIVOT2","index":9,"n_rows":57,"n_cols":19,"rows_kept":57,"cut":false,"hidden":true,"merged":[]}
["Etichette di riga","Somma di Profit/",null,null,null,null,null,"Etichette di riga","Somma di Profit/"]
[45058,44,null,null,null,null,null,"(vuoto)",44]
["Totale complessivo",44,null,null,null,null,null,"Totale complessivo",44,null,"Cassa",null,"Cassa",null,null,null,"Success","n° Giorni","n° Giorni"]
[null,null,null,null,null,null,null,null,null,"Week","Trading €","%","Totale","Trade","Win","Lose","Rate %","Take Profit","Stop Loss"]
[null,null,null,null,null,null,null,null,null,{"$f":"'Daily Report'!B13","v":"2023-05-15"},{"$f":"SUM('Daily Report'!C13:C19)","v":0},{"$f":"IFERROR(IF(K5=0,\"\",K5/Stake!F19),\"\")","v":""},{"$f":"IFERROR(IF(K5=0,'Daily Diary'!P4,SUM('Daily Report'!C13:C19)+Stake!F19+SUM('Daily Report'!F13:F19)),\"\")","v":1000},{"$f":"SUM(O5:P5)","v":0},{"$f":"SUM('Daily Report'!I13:I19)","v":0},{"$f":"SUM('Daily Report'!J13:J19)","v":0},{"$f":"IF(N5=0,\"\",IF(O5=O5,(O5/N5),IF(O5>P5,(O5/N5),(P5/N5))))","v":""},{"$f":"COUNTIF('Daily Report'!P13:P19,\"TAKE PROFIT\")","v":0},{"$f":"COUNTIF('Daily Report'!P13:P19,\"STOP LOSS\")","v":0}]
[null,null,null,null,null,null,null,null,null,{"$f":"J5+7","v":"2023-05-22"},{"$f":"SUM('Daily Report'!C20:C26)","v":0},{"$f":"IFERROR(IF(K6=0,\"\",K6/M6),\"\")","v":""},{"$f":"IFERROR(IF(K6=0,'Daily Diary'!P4,SUM('Daily Report'!$C20:$C26)+M5+SUM('Daily Report'!$F20:$F26)),\"\")","v":1000},0,{"$f":"SUM('Daily Report'!I20:I26)","v":0},{"$f":"SUM('Daily Report'!J20:J26)","v":0},"",{"$f":"COUNTIF('Daily Report'!P20:P26,\"TAKE PROFIT\")","v":0},{"$f":"COUNTIF('Daily Report'!P20:P26,\"STOP LOSS\")","v":0}]
[null,null,null,null,null,null,null,null,null,"2023-05-29",{"$f":"SUM('Daily Report'!C27:C33)","v":0},"",{"$f":"IFERROR(IF(K7=0,'Daily Diary'!P4,SUM('Daily Report'!$C27:$C33)+M6+SUM('Daily Report'!$F27:$F33)),\"\")","v":1000},0,{"$f":"SUM('Daily Report'!I27:I33)","v":0},{"$f":"SUM('Daily Report'!J27:J33)","v":0},"",{"$f":"COUNTIF('Daily Report'!P27:P33,\"TAKE PROFIT\")","v":0},{"$f":"COUNTIF('Daily Report'!P27:P33,\"STOP LOSS\")","v":0}]
[null,null,null,null,null,null,null,null,null,"2023-06-05",{"$f":"SUM('Daily Report'!C34:C40)","v":0},"",{"$f":"IFERROR(IF(K8=0,'Daily Diary'!P4,SUM('Daily Report'!$C34:$C40)+M7+SUM('Daily Report'!$F34:$F40)),\"\")","v":1000},0,{"$f":"SUM('Daily Report'!I34:I40)","v":0},{"$f":"SUM('Daily Report'!J34:J40)","v":0},"",{"$f":"COUNTIF('Daily Report'!P34:P40,\"TAKE PROFIT\")","v":0},{"$f":"COUNTIF('Daily Report'!P34:P40,\"STOP LOSS\")","v":0}]
[null,null,null,null,null,null,null,null,null,"2023-06-12",{"$f":"SUM('Daily Report'!C41:C47)","v":0},"",{"$f":"IFERROR(IF(K9=0,'Daily Diary'!P4,SUM('Daily Report'!$C41:$C47)+M8+SUM('Daily Report'!$F41:$F47)),\"\")","v":1000},0,{"$f":"SUM('Daily Report'!I41:I47)","v":0},{"$f":"SUM('Daily Report'!J41:J47)","v":0},"",{"$f":"COUNTIF('Daily Report'!P41:P47,\"TAKE PROFIT\")","v":0},{"$f":"COUNTIF('Daily Report'!P41:P47,\"STOP LOSS\")","v":0}]
[null,null,null,null,null,null,null,null,null,"2023-06-19",{"$f":"SUM('Daily Report'!C48:C54)","v":0},"",{"$f":"IFERROR(IF(K10=0,'Daily Diary'!P4,SUM('Daily Report'!$C48:$C54)+M9+SUM('Daily Report'!$F48:$F54)),\"\")","v":1000},0,{"$f":"SUM('Daily Report'!I48:I54)","v":0},{"$f":"SUM('Daily Report'!J48:J54)","v":0},"",{"$f":"COUNTIF('Daily Report'!P48:P54,\"TAKE PROFIT\")","v":0},{"$f":"COUNTIF('Daily Report'!Q48:Q54,\"TAKE PROFIT\")","v":0}]
[null,null,null,null,null,null,null,null,null,"2023-06-26",{"$f":"SUM('Daily Report'!C55:C61)","v":0},"",{"$f":"IFERROR(IF(K11=0,'Daily Diary'!P4,SUM('Daily Report'!$C55:$C61)+M10+SUM('Daily Report'!$F55:$F61)),\"\")","v":1000},0,{"$f":"SUM('Daily Report'!I55:I61)","v":0},{"$f":"SUM('Daily Report'!J55:J61)","v":0},"",{"$f":"COUNTIF('Daily Report'!P55:P61,\"TAKE PROFIT\")","v":0},{"$f":"COUNTIF('Daily Report'!P55:P61,\"STOP LOSS\")","v":0}]
[null,null,null,null,null,null,null,null,null,"2023-07-03",{"$f":"SUM('Daily Report'!C62:C68)","v":0},"",{"$f":"IFERROR(IF(K12=0,'Daily Diary'!P4,SUM('Daily Report'!$C62:$C68)+M11+SUM('Daily Report'!$F62:$F68)),\"\")","v":1000},0,{"$f":"SUM('Daily Report'!I62:I68)","v":0},{"$f":"SUM('Daily Report'!J62:J68)","v":0},"",{"$f":"COUNTIF('Daily Report'!P62:P68,\"TAKE PROFIT\")","v":0},{"$f":"COUNTIF('Daily Report'!P62:P68,\"STOP LOSS\")","v":0}]
[null,null,null,null,null,null,null,null,null,"2023-07-10",{"$f":"SUM('Daily Report'!C69:C75)","v":0},"",{"$f":"IFERROR(IF(K13=0,'Daily Diary'!P4,SUM('Daily Report'!$C69:$C75)+M12+SUM('Daily Report'!$F69:$F75)),\"\")","v":1000},0,{"$f":"SUM('Daily Report'!I69:I75)","v":0},{"$f":"SUM('Daily Report'!J69:J75)","v":0},"",{"$f":"COUNTIF('Daily Report'!P69:P75,\"TAKE PROFIT\")","v":0},{"$f":"COUNTIF('Daily Report'!P69:P75,\"STOP LOSS\")","v":0}]
[null,null,null,null,null,null,null,null,null,"2023-07-17",{"$f":"SUM('Daily Report'!C76:C82)","v":0},"",{"$f":"IFERROR(IF(K14=0,'Daily Diary'!P4,SUM('Daily Report'!$C76:$C82)+M13+SUM('Daily Report'!$F76:$F82)),\"\")","v":1000},0,{"$f":"SUM('Daily Report'!I76:I82)","v":0},{"$f":"SUM('Daily Report'!J76:J82)","v":0},"",{"$f":"COUNTIF('Daily Report'!P76:P82,\"TAKE PROFIT\")","v":0},{"$f":"COUNTIF('Daily Report'!P76:P82,\"STOP LOSS\")","v":0}]
[null,null,null,null,null,null,null,null,null,"2023-07-24",{"$f":"SUM('Daily Report'!C83:C89)","v":0},"",{"$f":"IFERROR(IF(K15=0,'Daily Diary'!P4,SUM('Daily Report'!$C83:$C89)+M14+SUM('Daily Report'!$F83:$F89)),\"\")","v":1000},0,{"$f":"SUM('Daily Report'!I83:I89)","v":0},{"$f":"SUM('Daily Report'!J83:J89)","v":0},"",{"$f":"COUNTIF('Daily Report'!P83:P89,\"TAKE PROFIT\")","v":0},{"$f":"COUNTIF('Daily Report'!P83:P89,\"STOP LOSS\")","v":0}]
[null,null,null,null,null,null,null,null,null,"2023-07-31",{"$f":"SUM('Daily Report'!C90:C96)","v":0},"",{"$f":"IFERROR(IF(K16=0,'Daily Diary'!P4,SUM('Daily Report'!$C90:$C96)+M15+SUM('Daily Report'!$F90:$F96)),\"\")","v":1000},0,{"$f":"SUM('Daily Report'!I90:I96)","v":0},{"$f":"SUM('Daily Report'!J90:J96)","v":0},"",{"$f":"COUNTIF('Daily Report'!P90:P96,\"TAKE PROFIT\")","v":0},{"$f":"COUNTIF('Daily Report'!P90:P96,\"STOP LOSS\")","v":0}]
[null,null,null,null,null,null,null,null,null,"2023-08-07",{"$f":"SUM('Daily Report'!C97:C103)","v":0},"",{"$f":"IFERROR(IF(K17=0,'Daily Diary'!P4,SUM('Daily Report'!$C97:$C103)+M16+SUM('Daily Report'!$F97:$F103)),\"\")","v":1000},0,{"$f":"SUM('Daily Report'!I97:I103)","v":0},{"$f":"SUM('Daily Report'!J97:J103)","v":0},"",{"$f":"COUNTIF('Daily Report'!P97:P103,\"TAKE PROFIT\")","v":0},{"$f":"COUNTIF('Daily Report'!P97:P103,\"STOP LOSS\")","v":0}]
[null,null,null,null,null,null,null,null,null,"2023-08-14",{"$f":"SUM('Daily Report'!C104:C110)","v":0},"",{"$f":"IFERROR(IF(K18=0,'Daily Diary'!P4,SUM('Daily Report'!$C104:$C110)+M17+SUM('Daily Report'!$F104:$F110)),\"\")","v":1000},0,{"$f":"SUM('Daily Report'!I104:I110)","v":0},{"$f":"SUM('Daily Report'!J104:J110)","v":0},"",{"$f":"COUNTIF('Daily Report'!P104:P110,\"TAKE PROFIT\")","v":0},{"$f":"COUNTIF('Daily Report'!P104:P110,\"STOP LOSS\")","v":0}]
[null,null,null,null,null,null,null,null,null,"2023-08-21",{"$f":"SUM('Daily Report'!C111:C117)","v":0},"",{"$f":"IFERROR(IF(K19=0,'Daily Diary'!P4,SUM('Daily Report'!$C111:$C117)+M18+SUM('Daily Report'!$F111:$F117)),\"\")","v":1000},0,{"$f":"SUM('Daily Report'!I111:I117)","v":0},{"$f":"SUM('Daily Report'!J111:J117)","v":0},"",{"$f":"COUNTIF('Daily Report'!P111:P117,\"TAKE PROFIT\")","v":0},{"$f":"COUNTIF('Daily Report'!P111:P117,\"STOP LOSS\")","v":0}]
[null,null,null,null,null,null,null,null,null,"2023-08-28",{"$f":"SUM('Daily Report'!C118:C124)","v":0},"",{"$f":"IFERROR(IF(K20=0,'Daily Diary'!P4,SUM('Daily Report'!$C118:$C124)+M19+SUM('Daily Report'!$F118:$F124)),\"\")","v":1000},0,{"$f":"SUM('Daily Report'!I118:I124)","v":0},{"$f":"SUM('Daily Report'!J118:J124)","v":0},"",{"$f":"COUNTIF('Daily Report'!P118:P124,\"TAKE PROFIT\")","v":0},{"$f":"COUNTIF('Daily Report'!P118:P124,\"STOP LOSS\")","v":0}]
[null,null,null,null,null,null,null,null,null,"2023-09-04",{"$f":"SUM('Daily Report'!C125:C131)","v":0},"",{"$f":"IFERROR(IF(K21=0,'Daily Diary'!P4,SUM('Daily Report'!$C125:$C131)+M20+SUM('Daily Report'!$F125:$F131)),\"\")","v":1000},0,{"$f":"SUM('Daily Report'!I125:I131)","v":0},{"$f":"SUM('Daily Report'!J125:J131)","v":0},"",{"$f":"COUNTIF('Daily Report'!P125:P131,\"TAKE PROFIT\")","v":0},{"$f":"COUNTIF('Daily Report'!P125:P131,\"STOP LOSS\")","v":0}]
[null,null,null,null,null,null,null,null,null,"2023-09-11",{"$f":"SUM('Daily Report'!C132:C138)","v":0},"",{"$f":"IFERROR(IF(K22=0,'Daily Diary'!P4,SUM('Daily Report'!$C132:$C138)+M21+SUM('Daily Report'!$F132:$F138)),\"\")","v":1000},0,{"$f":"SUM('Daily Report'!I132:I138)","v":0},{"$f":"SUM('Daily Report'!J132:J138)","v":0},"",{"$f":"COUNTIF('Daily Report'!P132:P138,\"TAKE PROFIT\")","v":0},{"$f":"COUNTIF('Daily Report'!P132:P138,\"STOP LOSS\")","v":0}]
[null,null,null,null,null,null,null,null,null,"2023-09-18",{"$f":"SUM('Daily Report'!C139:C145)","v":0},"",{"$f":"IFERROR(IF(K23=0,'Daily Diary'!P4,SUM('Daily Report'!$C139:$C145)+M22+SUM('Daily Report'!$F139:$F145)),\"\")","v":1000},0,{"$f":"SUM('Daily Report'!I139:I145)","v":0},{"$f":"SUM('Daily Report'!J139:J145)","v":0},"",{"$f":"COUNTIF('Daily Report'!P139:P145,\"TAKE PROFIT\")","v":0},{"$f":"COUNTIF('Daily Report'!P139:P145,\"STOP LOSS\")","v":0}]
[null,null,null,null,null,null,null,null,null,"2023-09-25",{"$f":"SUM('Daily Report'!C146:C152)","v":0},"",{"$f":"IFERROR(IF(K24=0,'Daily Diary'!P4,SUM('Daily Report'!$C146:$C152)+M23+SUM('Daily Report'!$F146:$F152)),\"\")","v":1000},0,{"$f":"SUM('Daily Report'!I146:I152)","v":0},{"$f":"SUM('Daily Report'!J146:J152)","v":0},"",{"$f":"COUNTIF('Daily Report'!P146:P152,\"TAKE PROFIT\")","v":0},{"$f":"COUNTIF('Daily Report'!P146:P152,\"STOP LOSS\")","v":0}]
[null,null,null,null,null,null,null,null,null,"2023-10-02",{"$f":"SUM('Daily Report'!C153:C159)","v":0},"",{"$f":"IFERROR(IF(K25=0,'Daily Diary'!P4,SUM('Daily Report'!$C153:$C159)+M24+SUM('Daily Report'!$F153:$F159)),\"\")","v":1000},0,{"$f":"SUM('Daily Report'!I153:I159)","v":0},{"$f":"SUM('Daily Report'!J153:J159)","v":0},"",{"$f":"COUNTIF('Daily Report'!P153:P159,\"TAKE PROFIT\")","v":0},{"$f":"COUNTIF('Daily Report'!P153:P159,\"STOP LOSS\")","v":0}]
[null,null,null,null,null,null,null,null,null,"2023-10-09",{"$f":"SUM('Daily Report'!C160:C166)","v":0},"",{"$f":"IFERROR(IF(K26=0,'Daily Diary'!P4,SUM('Daily Report'!$C160:$C166)+M25+SUM('Daily Report'!$F160:$F166)),\"\")","v":1000},0,{"$f":"SUM('Daily Report'!I160:I166)","v":0},{"$f":"SUM('Daily Report'!J160:J166)","v":0},"",{"$f":"COUNTIF('Daily Report'!P160:P166,\"TAKE PROFIT\")","v":0},{"$f":"COUNTIF('Daily Report'!P160:P166,\"STOP LOSS\")","v":0}]
[null,null,null,null,null,null,null,null,null,"2023-10-16",{"$f":"SUM('Daily Report'!C167:C173)","v":0},"",{"$f":"IFERROR(IF(K27=0,'Daily Diary'!P4,SUM('Daily Report'!$C167:$C173)+M26+SUM('Daily Report'!$F167:$F173)),\"\")","v":1000},0,{"$f":"SUM('Daily Report'!I167:I173)","v":0},{"$f":"SUM('Daily Report'!J167:J173)","v":0},"",{"$f":"COUNTIF('Daily Report'!P167:P173,\"TAKE PROFIT\")","v":0},{"$f":"COUNTIF('Daily Report'!P167:P173,\"STOP LOSS\")","v":0}]
[null,null,null,null,null,null,null,null,null,"2023-10-23",{"$f":"SUM('Daily Report'!C174:C180)","v":0},"",{"$f":"IFERROR(IF(K28=0,'Daily Diary'!P4,SUM('Daily Report'!$C174:$C180)+M27+SUM('Daily Report'!$F174:$F180)),\"\")","v":1000},0,{"$f":"SUM('Daily Report'!I174:I180)","v":0},{"$f":"SUM('Daily Report'!J174:J180)","v":0},"",{"$f":"COUNTIF('Daily Report'!P174:P180,\"TAKE PROFIT\")","v":0},{"$f":"COUNTIF('Daily Report'!P174:P180,\"STOP LOSS\")","v":0}]
[null,null,null,null,null,null,null,null,null,"2023-10-30",{"$f":"SUM('Daily Report'!C181:C187)","v":0},"",{"$f":"IFERROR(IF(K29=0,'Daily Diary'!P4,SUM('Daily Report'!$C181:$C187)+M28+SUM('Daily Report'!$F181:$F187)),\"\")","v":1000},0,{"$f":"SUM('Daily Report'!I181:I187)","v":0},{"$f":"SUM('Daily Report'!J181:J187)","v":0},"",{"$f":"COUNTIF('Daily Report'!P181:P187,\"TAKE PROFIT\")","v":0},{"$f":"COUNTIF('Daily Report'!P181:P187,\"STOP LOSS\")","v":0}]
[null,null,null,null,null,null,null,null,null,"2023-11-06",{"$f":"SUM('Daily Report'!C188:C194)","v":0},"",{"$f":"IFERROR(IF(K30=0,'Daily Diary'!P4,SUM('Daily Report'!$C188:$C194)+M29+SUM('Daily Report'!$F188:$F194)),\"\")","v":1000},0,{"$f":"SUM('Daily Report'!I188:I194)","v":0},{"$f":"SUM('Daily Report'!J188:J194)","v":0},"",{"$f":"COUNTIF('Daily Report'!P188:P194,\"TAKE PROFIT\")","v":0},{"$f":"COUNTIF('Daily Report'!P188:P194,\"STOP LOSS\")","v":0}]
[null,null,null,null,null,null,null,null,null,"2023-11-13",{"$f":"SUM('Daily Report'!C195:C201)","v":0},"",{"$f":"IFERROR(IF(K31=0,'Daily Diary'!P4,SUM('Daily Report'!$C195:$C201)+M30+SUM('Daily Report'!$F195:$F201)),\"\")","v":1000},0,{"$f":"SUM('Daily Report'!I195:I201)","v":0},{"$f":"SUM('Daily Report'!J195:J201)","v":0},"",{"$f":"COUNTIF('Daily Report'!P195:P201,\"TAKE PROFIT\")","v":0},{"$f":"COUNTIF('Daily Report'!P195:P201,\"STOP LOSS\")","v":0}]
[null,null,null,null,null,null,null,null,null,"2023-11-20",{"$f":"SUM('Daily Report'!C202:C208)","v":0},"",{"$f":"IFERROR(IF(K32=0,'Daily Diary'!P4,SUM('Daily Report'!$C202:$C208)+M31+SUM('Daily Report'!$F202:$F208)),\"\")","v":1000},0,{"$f":"SUM('Daily Report'!I202:I208)","v":0},{"$f":"SUM('Daily Report'!J202:J208)","v":0},"",{"$f":"COUNTIF('Daily Report'!P202:P208,\"TAKE PROFIT\")","v":0},{"$f":"COUNTIF('Daily Report'!P202:P208,\"STOP LOSS\")","v":0}]
[null,null,null,null,null,null,null,null,null,"2023-11-27",{"$f":"SUM('Daily Report'!C209:C215)","v":0},"",{"$f":"IFERROR(IF(K33=0,'Daily Diary'!P4,SUM('Daily Report'!$C209:$C215)+M32+SUM('Daily Report'!$F209:$F215)),\"\")","v":1000},0,{"$f":"SUM('Daily Report'!I209:I215)","v":0},{"$f":"SUM('Daily Report'!J209:J215)","v":0},"",{"$f":"COUNTIF('Daily Report'!P209:P215,\"TAKE PROFIT\")","v":0},{"$f":"COUNTIF('Daily Report'!P209:P215,\"STOP LOSS\")","v":0}]
[null,null,null,null,null,null,null,null,null,"2023-12-04",{"$f":"SUM('Daily Report'!C216:C222)","v":0},"",{"$f":"IFERROR(IF(K34=0,'Daily Diary'!P4,SUM('Daily Report'!$C216:$C222)+M33+SUM('Daily Report'!$F216:$F222)),\"\")","v":1000},0,{"$f":"SUM('Daily Report'!I216:I222)","v":0},{"$f":"SUM('Daily Report'!J216:J222)","v":0},"",{"$f":"COUNTIF('Daily Report'!P216:P222,\"TAKE PROFIT\")","v":0},{"$f":"COUNTIF('Daily Report'!P216:P222,\"STOP LOSS\")","v":0}]
[null,null,null,null,null,null,null,null,null,"2023-12-11",{"$f":"SUM('Daily Report'!C223:C229)","v":0},"",{"$f":"IFERROR(IF(K35=0,'Daily Diary'!P4,SUM('Daily Report'!$C223:$C229)+M34+SUM('Daily Report'!$F223:$F229)),\"\")","v":1000},0,{"$f":"SUM('Daily Report'!I223:I229)","v":0},{"$f":"SUM('Daily Report'!J223:J229)","v":0},"",{"$f":"COUNTIF('Daily Report'!P223:P229,\"TAKE PROFIT\")","v":0},{"$f":"COUNTIF('Daily Report'!P223:P229,\"STOP LOSS\")","v":0}]
[null,null,null,null,null,null,null,null,null,"2023-12-18",{"$f":"SUM('Daily Report'!C230:C236)","v":0},"",{"$f":"IFERROR(IF(K36=0,'Daily Diary'!P4,SUM('Daily Report'!$C230:$C236)+M35+SUM('Daily Report'!$F230:$F236)),\"\")","v":1000},0,{"$f":"SUM('Daily Report'!I230:I236)","v":0},{"$f":"SUM('Daily Report'!J230:J236)","v":0},"",{"$f":"COUNTIF('Daily Report'!P230:P236,\"TAKE PROFIT\")","v":0},{"$f":"COUNTIF('Daily Report'!P230:P236,\"STOP LOSS\")","v":0}]
[null,null,null,null,null,null,null,null,null,"2023-12-25",{"$f":"SUM('Daily Report'!C237:C243)","v":0},"",{"$f":"IFERROR(IF(K37=0,'Daily Diary'!P4,SUM('Daily Report'!$C237:$C243)+M36+SUM('Daily Report'!$F237:$F243)),\"\")","v":1000},{"$f":"SUM(O37:P37)","v":0},{"$f":"SUM('Daily Report'!I237:I243)","v":0},{"$f":"SUM('Daily Report'!J237:J243)","v":0},{"$f":"IF(N37=0,\"\",IF(O37=O37,(O37/N37),IF(O37>P37,(O37/N37),(P37/N37))))","v":""},{"$f":"COUNTIF('Daily Report'!P237:P243,\"TAKE PROFIT\")","v":0},{"$f":"COUNTIF('Daily Report'!P237:P243,\"STOP LOSS\")","v":0}]
[null,null,null,null,null,null,null,null,null,{"$f":"J37+7","v":"2024-01-01"},{"$f":"SUM('Daily Report'!C244:C250)","v":0},{"$f":"IFERROR(IF(K38=0,\"\",K38/M38),\"\")","v":""},{"$f":"IFERROR(IF(K38=0,'Daily Diary'!P4,SUM('Daily Report'!$C244:$C250)+M37+SUM('Daily Report'!$F244:$F250)),\"\")","v":1000},0,{"$f":"SUM('Daily Report'!I244:I250)","v":0},{"$f":"SUM('Daily Report'!J244:J250)","v":0},"",{"$f":"COUNTIF('Daily Report'!P244:P250,\"TAKE PROFIT\")","v":0},{"$f":"COUNTIF('Daily Report'!P244:P250,\"STOP LOSS\")","v":0}]
[null,null,null,null,null,null,null,null,null,"2024-01-08",{"$f":"SUM('Daily Report'!C251:C257)","v":0},"",{"$f":"IFERROR(IF(K39=0,'Daily Diary'!P4,SUM('Daily Report'!$C251:$C257)+M38+SUM('Daily Report'!$F251:$F257)),\"\")","v":1000},0,{"$f":"SUM('Daily Report'!I251:I257)","v":0},{"$f":"SUM('Daily Report'!J251:J257)","v":0},"",{"$f":"COUNTIF('Daily Report'!P251:P257,\"TAKE PROFIT\")","v":0},{"$f":"COUNTIF('Daily Report'!P251:P257,\"STOP LOSS\")","v":0}]
[null,null,null,null,null,null,null,null,null,"2024-01-15",{"$f":"SUM('Daily Report'!C258:C264)","v":0},"",{"$f":"IFERROR(IF(K40=0,'Daily Diary'!P4,SUM('Daily Report'!$C258:$C264)+M39+SUM('Daily Report'!$F258:$F264)),\"\")","v":1000},0,{"$f":"SUM('Daily Report'!I258:I264)","v":0},{"$f":"SUM('Daily Report'!J258:J264)","v":0},"",{"$f":"COUNTIF('Daily Report'!P258:P264,\"TAKE PROFIT\")","v":0},{"$f":"COUNTIF('Daily Report'!P258:P264,\"STOP LOSS\")","v":0}]
[null,null,null,null,null,null,null,null,null,"2024-01-22",{"$f":"SUM('Daily Report'!C265:C271)","v":0},"",{"$f":"IFERROR(IF(K41=0,'Daily Diary'!P4,SUM('Daily Report'!$C265:$C271)+M40+SUM('Daily Report'!$F265:$F271)),\"\")","v":1000},0,{"$f":"SUM('Daily Report'!I265:I271)","v":0},{"$f":"SUM('Daily Report'!J265:J271)","v":0},"",{"$f":"COUNTIF('Daily Report'!P265:P271,\"TAKE PROFIT\")","v":0},{"$f":"COUNTIF('Daily Report'!P265:P271,\"STOP LOSS\")","v":0}]
[null,null,null,null,null,null,null,null,null,"2024-01-29",{"$f":"SUM('Daily Report'!C272:C278)","v":0},"",{"$f":"IFERROR(IF(K42=0,'Daily Diary'!P4,SUM('Daily Report'!$C272:$C278)+M41+SUM('Daily Report'!$F272:$F278)),\"\")","v":1000},0,{"$f":"SUM('Daily Report'!I272:I278)","v":0},{"$f":"SUM('Daily Report'!J272:J278)","v":0},"",{"$f":"COUNTIF('Daily Report'!P272:P278,\"TAKE PROFIT\")","v":0},{"$f":"COUNTIF('Daily Report'!P272:P278,\"STOP LOSS\")","v":0}]
[null,null,null,null,null,null,null,null,null,"2024-02-05",{"$f":"SUM('Daily Report'!C279:C285)","v":0},"",{"$f":"IFERROR(IF(K43=0,'Daily Diary'!P4,SUM('Daily Report'!$C279:$C285)+M42+SUM('Daily Report'!$F279:$F285)),\"\")","v":1000},0,{"$f":"SUM('Daily Report'!I279:I285)","v":0},{"$f":"SUM('Daily Report'!J279:J285)","v":0},"",{"$f":"COUNTIF('Daily Report'!P279:P285,\"TAKE PROFIT\")","v":0},{"$f":"COUNTIF('Daily Report'!P279:P285,\"STOP LOSS\")","v":0}]
[null,null,null,null,null,null,null,null,null,"2024-02-12",{"$f":"SUM('Daily Report'!C286:C292)","v":0},"",{"$f":"IFERROR(IF(K44=0,'Daily Diary'!P4,SUM('Daily Report'!$C286:$C292)+M43+SUM('Daily Report'!$F286:$F292)),\"\")","v":1000},0,{"$f":"SUM('Daily Report'!I286:I292)","v":0},{"$f":"SUM('Daily Report'!J286:J292)","v":0},"",{"$f":"COUNTIF('Daily Report'!P286:P292,\"TAKE PROFIT\")","v":0},{"$f":"COUNTIF('Daily Report'!P286:P292,\"STOP LOSS\")","v":0}]
[null,null,null,null,null,null,null,null,null,"2024-02-19",{"$f":"SUM('Daily Report'!C293:C299)","v":0},"",{"$f":"IFERROR(IF(K45=0,'Daily Diary'!P4,SUM('Daily Report'!$C293:$C299)+M44+SUM('Daily Report'!$F293:$F299)),\"\")","v":1000},0,{"$f":"SUM('Daily Report'!I293:I299)","v":0},{"$f":"SUM('Daily Report'!J293:J299)","v":0},"",{"$f":"COUNTIF('Daily Report'!P293:P299,\"TAKE PROFIT\")","v":0},{"$f":"COUNTIF('Daily Report'!P293:P299,\"STOP LOSS\")","v":0}]
[null,null,null,null,null,null,null,null,null,"2024-02-26",{"$f":"SUM('Daily Report'!C300:C306)","v":0},"",{"$f":"IFERROR(IF(K46=0,'Daily Diary'!P4,SUM('Daily Report'!$C300:$C306)+M45+SUM('Daily Report'!$F300:$F306)),\"\")","v":1000},0,{"$f":"SUM('Daily Report'!I300:I306)","v":0},{"$f":"SUM('Daily Report'!J300:J306)","v":0},"",{"$f":"COUNTIF('Daily Report'!P300:P306,\"TAKE PROFIT\")","v":0},{"$f":"COUNTIF('Daily Report'!P300:P306,\"STOP LOSS\")","v":0}]
[null,null,null,null,null,null,null,null,null,"2024-03-04",{"$f":"SUM('Daily Report'!C307:C313)","v":0},"",{"$f":"IFERROR(IF(K47=0,'Daily Diary'!P4,SUM('Daily Report'!$C307:$C313)+M46+SUM('Daily Report'!$F307:$F313)),\"\")","v":1000},0,{"$f":"SUM('Daily Report'!I307:I313)","v":0},{"$f":"SUM('Daily Report'!J307:J313)","v":0},"",{"$f":"COUNTIF('Daily Report'!P307:P313,\"TAKE PROFIT\")","v":0},{"$f":"COUNTIF('Daily Report'!P307:P313,\"STOP LOSS\")","v":0}]
[null,null,null,null,null,null,null,null,null,"2024-03-11",{"$f":"SUM('Daily Report'!C314:C320)","v":0},"",{"$f":"IFERROR(IF(K48=0,'Daily Diary'!P4,SUM('Daily Report'!$C314:$C320)+M47+SUM('Daily Report'!$F314:$F320)),\"\")","v":1000},0,{"$f":"SUM('Daily Report'!I314:I320)","v":0},{"$f":"SUM('Daily Report'!J314:J320)","v":0},"",{"$f":"COUNTIF('Daily Report'!P314:P320,\"TAKE PROFIT\")","v":0},{"$f":"COUNTIF('Daily Report'!P314:P320,\"STOP LOSS\")","v":0}]
[null,null,null,null,null,null,null,null,null,"2024-03-18",{"$f":"SUM('Daily Report'!C321:C327)","v":0},"",{"$f":"IFERROR(IF(K49=0,'Daily Diary'!P4,SUM('Daily Report'!$C321:$C327)+M48+SUM('Daily Report'!$F321:$F327)),\"\")","v":1000},0,{"$f":"SUM('Daily Report'!I321:I327)","v":0},{"$f":"SUM('Daily Report'!J321:J327)","v":0},"",{"$f":"COUNTIF('Daily Report'!P321:P327,\"TAKE PROFIT\")","v":0},{"$f":"COUNTIF('Daily Report'!P321:P327,\"STOP LOSS\")","v":0}]
[null,null,null,null,null,null,null,null,null,"2024-03-25",{"$f":"SUM('Daily Report'!C328:C334)","v":0},"",{"$f":"IFERROR(IF(K50=0,'Daily Diary'!P4,SUM('Daily Report'!$C328:$C334)+M49+SUM('Daily Report'!$F328:$F334)),\"\")","v":1000},0,{"$f":"SUM('Daily Report'!I328:I334)","v":0},{"$f":"SUM('Daily Report'!J328:J334)","v":0},"",{"$f":"COUNTIF('Daily Report'!P328:P334,\"TAKE PROFIT\")","v":0},{"$f":"COUNTIF('Daily Report'!P328:P334,\"STOP LOSS\")","v":0}]
[null,null,null,null,null,null,null,null,null,"2024-04-01",{"$f":"SUM('Daily Report'!C335:C341)","v":0},"",{"$f":"IFERROR(IF(K51=0,'Daily Diary'!P4,SUM('Daily Report'!$C335:$C341)+M50+SUM('Daily Report'!$F335:$F341)),\"\")","v":1000},0,{"$f":"SUM('Daily Report'!I335:I341)","v":0},{"$f":"SUM('Daily Report'!J335:J341)","v":0},"",{"$f":"COUNTIF('Daily Report'!P335:P341,\"TAKE PROFIT\")","v":0},{"$f":"COUNTIF('Daily Report'!P335:P341,\"STOP LOSS\")","v":0}]
[null,null,null,null,null,null,null,null,null,"2024-04-08",{"$f":"SUM('Daily Report'!C342:C348)","v":0},"",{"$f":"IFERROR(IF(K52=0,'Daily Diary'!P4,SUM('Daily Report'!$C342:$C348)+M51+SUM('Daily Report'!$F342:$F348)),\"\")","v":1000},0,{"$f":"SUM('Daily Report'!I342:I348)","v":0},{"$f":"SUM('Daily Report'!J342:J348)","v":0},"",{"$f":"COUNTIF('Daily Report'!P342:P348,\"TAKE PROFIT\")","v":0},{"$f":"COUNTIF('Daily Report'!P342:P348,\"STOP LOSS\")","v":0}]
[null,null,null,null,null,null,null,null,null,"2024-04-15",{"$f":"SUM('Daily Report'!C349:C355)","v":0},"",{"$f":"IFERROR(IF(K53=0,'Daily Diary'!P4,SUM('Daily Report'!$C349:$C355)+M52+SUM('Daily Report'!$F255:$F349)),\"\")","v":1000},0,{"$f":"SUM('Daily Report'!I349:I355)","v":0},{"$f":"SUM('Daily Report'!J349:J355)","v":0},"",{"$f":"COUNTIF('Daily Report'!P349:P355,\"TAKE PROFIT\")","v":0},{"$f":"COUNTIF('Daily Report'!P349:P355,\"STOP LOSS\")","v":0}]
[null,null,null,null,null,null,null,null,null,"2024-04-22",{"$f":"SUM('Daily Report'!C356:C362)","v":0},"",{"$f":"IFERROR(IF(K54=0,'Daily Diary'!P4,SUM('Daily Report'!$C356:$C362)+M53+SUM('Daily Report'!$F356:$F362)),\"\")","v":1000},0,{"$f":"SUM('Daily Report'!I356:I362)","v":0},{"$f":"SUM('Daily Report'!J356:J362)","v":0},"",{"$f":"COUNTIF('Daily Report'!P356:P362,\"TAKE PROFIT\")","v":0},{"$f":"COUNTIF('Daily Report'!P356:P362,\"STOP LOSS\")","v":0}]
[null,null,null,null,null,null,null,null,null,"2024-04-29",{"$f":"SUM('Daily Report'!C363:C369)","v":0},"",{"$f":"IFERROR(IF(K55=0,'Daily Diary'!P4,SUM('Daily Report'!$C363:$C369)+M54+SUM('Daily Report'!$F363:$F369)),\"\")","v":1000},0,{"$f":"SUM('Daily Report'!I363:I369)","v":0},{"$f":"SUM('Daily Report'!J363:J369)","v":0},"",{"$f":"COUNTIF('Daily Report'!P363:P369,\"TAKE PROFIT\")","v":0},{"$f":"COUNTIF('Daily Report'!P363:P369,\"STOP LOSS\")","v":0}]
[null,null,null,null,null,null,null,null,null,"2024-05-06",{"$f":"SUM('Daily Report'!C370:C376)","v":0},"",{"$f":"IFERROR(IF(K56=0,'Daily Diary'!P4,SUM('Daily Report'!$C370:$C376)+M55+SUM('Daily Report'!$F370:$F376)),\"\")","v":1000},0,{"$f":"SUM('Daily Report'!I370:I376)","v":0},{"$f":"SUM('Daily Report'!J370:J376)","v":0},"",{"$f":"COUNTIF('Daily Report'!P370:P376,\"TAKE PROFIT\")","v":0},{"$f":"COUNTIF('Daily Report'!P370:P376,\"STOP LOSS\")","v":0}]
[null,null,null,null,null,null,null,null,null,"2024-05-13",{"$f":"SUM('Daily Report'!C377:C378)","v":0},"",{"$f":"IFERROR(IF(K57=0,'Daily Diary'!P4,SUM('Daily Report'!$C377:$C378)+M56+SUM('Daily Report'!$F377:$F378)),\"\")","v":1000},0,{"$f":"SUM('Daily Report'!I377:I378)","v":0},{"$f":"SUM('Daily Report'!J377:J378)","v":0},"",{"$f":"COUNTIF('Daily Report'!P377:P378,\"TAKE PROFIT\")","v":0},{"$f":"COUNTIF('Daily Report'!P377:P378,\"STOP LOSS\")","v":0}]

{"sheet":"Giorni Settimana","index":10,"n_rows":378,"n_cols":16,"rows_kept":378,"cut":false,"hidden":true,"merged":[[9,9,9,15],[14,9,14,15],[19,9,19,15]]}
[]
[]
[]
[]
[]
[]
[]
[]
[]
[null,null,null,null,null,null,null,null,null,"CONTATORE OPERATIVITA'"]
[null,"DATA","GIORNO","OPERATIVO","CASSA TRADING","POSITIVO","NEGATIVO",null,null,"lunedì","martedì","mercoledì","giovedì","venerdì","sabato","domenica"]
[null,null,null,null,null,null,null,null,null,{"$f":"COUNTIFS(C:C,J11,D:D,\"si\")","v":0},{"$f":"COUNTIFS(C:C,K11,D:D,\"si\")","v":0},{"$f":"COUNTIFS(C:C,L11,D:D,\"si\")","v":0},{"$f":"COUNTIFS(C:C,M11,D:D,\"si\")","v":0},{"$f":"COUNTIFS(C:C,N11,D:D,\"si\")","v":0},{"$f":"COUNTIFS(C:C,O11,D:D,\"si\")","v":0},{"$f":"COUNTIFS(C:C,P11,D:D,\"si\")","v":0}]
[null,{"$f":"'Daily Report'!B13","v":"2023-05-15"},{"$f":"TEXT(B13,\"gggg\")","v":"lunedì"},{"$f":"IF('Daily Report'!H13=0,\"NO\",\"SI\")","v":"NO"},{"$f":"'Daily Report'!C13","v":0},{"$f":"IF(E13>0,\"SI\",\"\")","v":""},{"$f":"IF(E13<0,\"SI\",\"\")","v":""}]
[null,{"$f":"B13+1","v":"2023-05-16"},{"$f":"TEXT(B14,\"gggg\")","v":"martedì"},{"$f":"IF('Daily Report'!H14=0,\"NO\",\"SI\")","v":"NO"},{"$f":"'Daily Report'!C14","v":0},{"$f":"IF(E14>0,\"SI\",\"\")","v":""},{"$f":"IF(E14<0,\"SI\",\"\")","v":""}]
[null,{"$f":"B14+1","v":"2023-05-17"},"mercoledì",{"$f":"IF('Daily Report'!H15=0,\"NO\",\"SI\")","v":"NO"},{"$f":"'Daily Report'!C15","v":0},"","",null,null,"CONTATORE POSITIVI DI OPERATIVITA'"]
[null,"2023-05-18","giovedì",{"$f":"IF('Daily Report'!H16=0,\"NO\",\"SI\")","v":"NO"},{"$f":"'Daily Report'!C16","v":0},"","",null,null,"lunedì","martedì","mercoledì","giovedì","venerdì","sabato","domenica"]
[null,"2023-05-19","venerdì",{"$f":"IF('Daily Report'!H17=0,\"NO\",\"SI\")","v":"NO"},{"$f":"'Daily Report'!C17","v":0},"","",null,null,{"$f":"COUNTIFS(C:C,J16,F:F,\"SI\")","v":0},{"$f":"COUNTIFS(C:C,K16,F:F,\"SI\")","v":0},{"$f":"COUNTIFS(C:C,L16,F:F,\"SI\")","v":0},{"$f":"COUNTIFS(C:C,M16,F:F,\"SI\")","v":0},{"$f":"COUNTIFS(C:C,N16,F:F,\"SI\")","v":0},{"$f":"COUNTIFS(C:C,O16,F:F,\"SI\")","v":0},{"$f":"COUNTIFS(C:C,P16,F:F,\"SI\")","v":0}]
[null,"2023-05-20","sabato",{"$f":"IF('Daily Report'!H18=0,\"NO\",\"SI\")","v":"NO"},{"$f":"'Daily Report'!C18","v":0},"",""]
[null,"2023-05-21","domenica",{"$f":"IF('Daily Report'!H19=0,\"NO\",\"SI\")","v":"NO"},{"$f":"'Daily Report'!C19","v":0},"",""]
[null,"2023-05-22","lunedì",{"$f":"IF('Daily Report'!H20=0,\"NO\",\"SI\")","v":"NO"},{"$f":"'Daily Report'!C20","v":0},"","",null,null,"CONTATORE NEGATIVO DI OPERATIVITA'"]
[null,"2023-05-23","martedì",{"$f":"IF('Daily Report'!H21=0,\"NO\",\"SI\")","v":"NO"},{"$f":"'Daily Report'!C21","v":0},"","",null,null,"lunedì","martedì","mercoledì","giovedì","venerdì","sabato","domenica"]
[null,"2023-05-24","mercoledì",{"$f":"IF('Daily Report'!H22=0,\"NO\",\"SI\")","v":"NO"},{"$f":"'Daily Report'!C22","v":0},"","",null,null,{"$f":"COUNTIFS(C:C,J16,G:G,\"SI\")","v":0},{"$f":"COUNTIFS(C:C,K16,G:G,\"SI\")","v":0},{"$f":"COUNTIFS(C:C,L16,G:G,\"SI\")","v":0},{"$f":"COUNTIFS(C:C,M16,G:G,\"SI\")","v":0},{"$f":"COUNTIFS(C:C,N16,G:G,\"SI\")","v":0},{"$f":"COUNTIFS(C:C,O16,G:G,\"SI\")","v":0},{"$f":"COUNTIFS(C:C,P16,G:G,\"SI\")","v":0}]
[null,"2023-05-25","giovedì",{"$f":"IF('Daily Report'!H23=0,\"NO\",\"SI\")","v":"NO"},{"$f":"'Daily Report'!C23","v":0},"",""]
[null,"2023-05-26","venerdì",{"$f":"IF('Daily Report'!H24=0,\"NO\",\"SI\")","v":"NO"},{"$f":"'Daily Report'!C24","v":0},"",""]
[null,"2023-05-27","sabato",{"$f":"IF('Daily Report'!H25=0,\"NO\",\"SI\")","v":"NO"},{"$f":"'Daily Report'!C25","v":0},"",""]
[null,"2023-05-28","domenica",{"$f":"IF('Daily Report'!H26=0,\"NO\",\"SI\")","v":"NO"},{"$f":"'Daily Report'!C26","v":0},"",""]
[null,"2023-05-29","lunedì",{"$f":"IF('Daily Report'!H27=0,\"NO\",\"SI\")","v":"NO"},{"$f":"'Daily Report'!C27","v":0},"",""]
[null,"2023-05-30","martedì",{"$f":"IF('Daily Report'!H28=0,\"NO\",\"SI\")","v":"NO"},{"$f":"'Daily Report'!C28","v":0},"",""]
[null,"2023-05-31","mercoledì",{"$f":"IF('Daily Report'!H29=0,\"NO\",\"SI\")","v":"NO"},{"$f":"'Daily Report'!C29","v":0},"",""]
[null,"2023-06-01","giovedì",{"$f":"IF('Daily Report'!H30=0,\"NO\",\"SI\")","v":"NO"},{"$f":"'Daily Report'!C30","v":0},"",""]
[null,"2023-06-02","venerdì",{"$f":"IF('Daily Report'!H31=0,\"NO\",\"SI\")","v":"NO"},{"$f":"'Daily Report'!C31","v":0},"",""]
[null,"2023-06-03","sabato",{"$f":"IF('Daily Report'!H32=0,\"NO\",\"SI\")","v":"NO"},{"$f":"'Daily Report'!C32","v":0},"",""]
[null,"2023-06-04","domenica",{"$f":"IF('Daily Report'!H33=0,\"NO\",\"SI\")","v":"NO"},{"$f":"'Daily Report'!C33","v":0},"",""]
[null,"2023-06-05","lunedì",{"$f":"IF('Daily Report'!H34=0,\"NO\",\"SI\")","v":"NO"},{"$f":"'Daily Report'!C34","v":0},"",""]
[null,"2023-06-06","martedì",{"$f":"IF('Daily Report'!H35=0,\"NO\",\"SI\")","v":"NO"},{"$f":"'Daily Report'!C35","v":0},"",""]
[null,"2023-06-07","mercoledì",{"$f":"IF('Daily Report'!H36=0,\"NO\",\"SI\")","v":"NO"},{"$f":"'Daily Report'!C36","v":0},"",""]
[null,"2023-06-08","giovedì",{"$f":"IF('Daily Report'!H37=0,\"NO\",\"SI\")","v":"NO"},{"$f":"'Daily Report'!C37","v":0},"",""]
[null,"2023-06-09","venerdì",{"$f":"IF('Daily Report'!H38=0,\"NO\",\"SI\")","v":"NO"},{"$f":"'Daily Report'!C38","v":0},"",""]
[null,"2023-06-10","sabato",{"$f":"IF('Daily Report'!H39=0,\"NO\",\"SI\")","v":"NO"},{"$f":"'Daily Report'!C39","v":0},"",""]
[null,"2023-06-11","domenica",{"$f":"IF('Daily Report'!H40=0,\"NO\",\"SI\")","v":"NO"},{"$f":"'Daily Report'!C40","v":0},"",""]
[null,"2023-06-12","lunedì",{"$f":"IF('Daily Report'!H41=0,\"NO\",\"SI\")","v":"NO"},{"$f":"'Daily Report'!C41","v":0},"",""]
[null,"2023-06-13","martedì",{"$f":"IF('Daily Report'!H42=0,\"NO\",\"SI\")","v":"NO"},{"$f":"'Daily Report'!C42","v":0},"",""]
[null,"2023-06-14","mercoledì",{"$f":"IF('Daily Report'!H43=0,\"NO\",\"SI\")","v":"NO"},{"$f":"'Daily Report'!C43","v":0},"",""]
[null,"2023-06-15","giovedì",{"$f":"IF('Daily Report'!H44=0,\"NO\",\"SI\")","v":"NO"},{"$f":"'Daily Report'!C44","v":0},"",""]
[null,"2023-06-16","venerdì",{"$f":"IF('Daily Report'!H45=0,\"NO\",\"SI\")","v":"NO"},{"$f":"'Daily Report'!C45","v":0},"",""]
[null,"2023-06-17","sabato",{"$f":"IF('Daily Report'!H46=0,\"NO\",\"SI\")","v":"NO"},{"$f":"'Daily Report'!C46","v":0},"",""]
[null,"2023-06-18","domenica",{"$f":"IF('Daily Report'!H47=0,\"NO\",\"SI\")","v":"NO"},{"$f":"'Daily Report'!C47","v":0},"",""]
[null,"2023-06-19","lunedì",{"$f":"IF('Daily Report'!H48=0,\"NO\",\"SI\")","v":"NO"},{"$f":"'Daily Report'!C48","v":0},"",""]
[null,"2023-06-20","martedì",{"$f":"IF('Daily Report'!H49=0,\"NO\",\"SI\")","v":"NO"},{"$f":"'Daily Report'!C49","v":0},"",""]
[null,"2023-06-21","mercoledì",{"$f":"IF('Daily Report'!H50=0,\"NO\",\"SI\")","v":"NO"},{"$f":"'Daily Report'!C50","v":0},"",""]
[null,"2023-06-22","giovedì",{"$f":"IF('Daily Report'!H51=0,\"NO\",\"SI\")","v":"NO"},{"$f":"'Daily Report'!C51","v":0},"",""]
[null,"2023-06-23","venerdì",{"$f":"IF('Daily Report'!H52=0,\"NO\",\"SI\")","v":"NO"},{"$f":"'Daily Report'!C52","v":0},"",""]
[null,"2023-06-24","sabato",{"$f":"IF('Daily Report'!H53=0,\"NO\",\"SI\")","v":"NO"},{"$f":"'Daily Report'!C53","v":0},"",""]
[null,"2023-06-25","domenica",{"$f":"IF('Daily Report'!H54=0,\"NO\",\"SI\")","v":"NO"},{"$f":"'Daily Report'!C54","v":0},"",""]
[null,"2023-06-26","lunedì",{"$f":"IF('Daily Report'!H55=0,\"NO\",\"SI\")","v":"NO"},{"$f":"'Daily Report'!C55","v":0},"",""]
[null,"2023-06-27","martedì",{"$f":"IF('Daily Report'!H56=0,\"NO\",\"SI\")","v":"NO"},{"$f":"'Daily Report'!C56","v":0},"",""]
[null,"2023-06-28","mercoledì",{"$f":"IF('Daily Report'!H57=0,\"NO\",\"SI\")","v":"NO"},{"$f":"'Daily Report'!C57","v":0},"",""]
[null,"2023-06-29","giovedì",{"$f":"IF('Daily Report'!H58=0,\"NO\",\"SI\")","v":"NO"},{"$f":"'Daily Report'!C58","v":0},"",""]
[null,"2023-06-30","venerdì",{"$f":"IF('Daily Report'!H59=0,\"NO\",\"SI\")","v":"NO"},{"$f":"'Daily Report'!C59","v":0},"",""]
[null,"2023-07-01","sabato",{"$f":"IF('Daily Report'!H60=0,\"NO\",\"SI\")","v":"NO"},{"$f":"'Daily Report'!C60","v":0},"",""]
[null,"2023-07-02","domenica",{"$f":"IF('Daily Report'!H61=0,\"NO\",\"SI\")","v":"NO"},{"$f":"'Daily Report'!C61","v":0},"",""]
[null,"2023-07-03","lunedì",{"$f":"IF('Daily Report'!H62=0,\"NO\",\"SI\")","v":"NO"},{"$f":"'Daily Report'!C62","v":0},"",""]
[null,"2023-07-04","martedì",{"$f":"IF('Daily Report'!H63=0,\"NO\",\"SI\")","v":"NO"},{"$f":"'Daily Report'!C63","v":0},"",""]
[null,"2023-07-05","mercoledì",{"$f":"IF('Daily Report'!H64=0,\"NO\",\"SI\")","v":"NO"},{"$f":"'Daily Report'!C64","v":0},"",""]
[null,"2023-07-06","giovedì",{"$f":"IF('Daily Report'!H65=0,\"NO\",\"SI\")","v":"NO"},{"$f":"'Daily Report'!C65","v":0},"",""]
[null,"2023-07-07","venerdì",{"$f":"IF('Daily Report'!H66=0,\"NO\",\"SI\")","v":"NO"},{"$f":"'Daily Report'!C66","v":0},"",""]
[null,"2023-07-08","sabato",{"$f":"IF('Daily Report'!H67=0,\"NO\",\"SI\")","v":"NO"},{"$f":"'Daily Report'!C67","v":0},"",""]
[null,"2023-07-09","domenica",{"$f":"IF('Daily Report'!H68=0,\"NO\",\"SI\")","v":"NO"},{"$f":"'Daily Report'!C68","v":0},"",""]
[null,"2023-07-10","lunedì",{"$f":"IF('Daily Report'!H69=0,\"NO\",\"SI\")","v":"NO"},{"$f":"'Daily Report'!C69","v":0},"",""]
[null,"2023-07-11","martedì",{"$f":"IF('Daily Report'!H70=0,\"NO\",\"SI\")","v":"NO"},{"$f":"'Daily Report'!C70","v":0},"",""]
[null,"2023-07-12","mercoledì",{"$f":"IF('Daily Report'!H71=0,\"NO\",\"SI\")","v":"NO"},{"$f":"'Daily Report'!C71","v":0},"",""]
[null,"2023-07-13","giovedì",{"$f":"IF('Daily Report'!H72=0,\"NO\",\"SI\")","v":"NO"},{"$f":"'Daily Report'!C72","v":0},"",""]
[null,"2023-07-14","venerdì",{"$f":"IF('Daily Report'!H73=0,\"NO\",\"SI\")","v":"NO"},{"$f":"'Daily Report'!C73","v":0},"",""]
[null,"2023-07-15","sabato",{"$f":"IF('Daily Report'!H74=0,\"NO\",\"SI\")","v":"NO"},{"$f":"'Daily Report'!C74","v":0},"",""]
[null,"2023-07-16","domenica",{"$f":"IF('Daily Report'!H75=0,\"NO\",\"SI\")","v":"NO"},{"$f":"'Daily Report'!C75","v":0},"",""]
[null,"2023-07-17","lunedì",{"$f":"IF('Daily Report'!H76=0,\"NO\",\"SI\")","v":"NO"},{"$f":"'Daily Report'!C76","v":0},"",""]
[null,"2023-07-18","martedì",{"$f":"IF('Daily Report'!H77=0,\"NO\",\"SI\")","v":"NO"},{"$f":"'Daily Report'!C77","v":0},"",""]
[null,"2023-07-19",{"$f":"TEXT(B78,\"gggg\")","v":"mercoledì"},{"$f":"IF('Daily Report'!H78=0,\"NO\",\"SI\")","v":"NO"},{"$f":"'Daily Report'!C78","v":0},{"$f":"IF(E78>0,\"SI\",\"\")","v":""},{"$f":"IF(E78<0,\"SI\",\"\")","v":""}]
[null,{"$f":"B78+1","v":"2023-07-20"},"giovedì",{"$f":"IF('Daily Report'!H79=0,\"NO\",\"SI\")","v":"NO"},{"$f":"'Daily Report'!C79","v":0},"",""]
[null,"2023-07-21","venerdì",{"$f":"IF('Daily Report'!H80=0,\"NO\",\"SI\")","v":"NO"},{"$f":"'Daily Report'!C80","v":0},"",""]
[null,"2023-07-22","sabato",{"$f":"IF('Daily Report'!H81=0,\"NO\",\"SI\")","v":"NO"},{"$f":"'Daily Report'!C81","v":0},"",""]
[null,"2023-07-23","domenica",{"$f":"IF('Daily Report'!H82=0,\"NO\",\"SI\")","v":"NO"},{"$f":"'Daily Report'!C82","v":0},"",""]
[null,"2023-07-24","lunedì",{"$f":"IF('Daily Report'!H83=0,\"NO\",\"SI\")","v":"NO"},{"$f":"'Daily Report'!C83","v":0},"",""]
[null,"2023-07-25","martedì",{"$f":"IF('Daily Report'!H84=0,\"NO\",\"SI\")","v":"NO"},{"$f":"'Daily Report'!C84","v":0},"",""]
[null,"2023-07-26","mercoledì",{"$f":"IF('Daily Report'!H85=0,\"NO\",\"SI\")","v":"NO"},{"$f":"'Daily Report'!C85","v":0},"",""]
[null,"2023-07-27","giovedì",{"$f":"IF('Daily Report'!H86=0,\"NO\",\"SI\")","v":"NO"},{"$f":"'Daily Report'!C86","v":0},"",""]
[null,"2023-07-28","venerdì",{"$f":"IF('Daily Report'!H87=0,\"NO\",\"SI\")","v":"NO"},{"$f":"'Daily Report'!C87","v":0},"",""]
[null,"2023-07-29","sabato",{"$f":"IF('Daily Report'!H88=0,\"NO\",\"SI\")","v":"NO"},{"$f":"'Daily Report'!C88","v":0},"",""]
[null,"2023-07-30","domenica",{"$f":"IF('Daily Report'!H89=0,\"NO\",\"SI\")","v":"NO"},{"$f":"'Daily Report'!C89","v":0},"",""]
[null,"2023-07-31","lunedì",{"$f":"IF('Daily Report'!H90=0,\"NO\",\"SI\")","v":"NO"},{"$f":"'Daily Report'!C90","v":0},"",""]
[null,"2023-08-01","martedì",{"$f":"IF('Daily Report'!H91=0,\"NO\",\"SI\")","v":"NO"},{"$f":"'Daily Report'!C91","v":0},"",""]
[null,"2023-08-02","mercoledì",{"$f":"IF('Daily Report'!H92=0,\"NO\",\"SI\")","v":"NO"},{"$f":"'Daily Report'!C92","v":0},"",""]
[null,"2023-08-03","giovedì",{"$f":"IF('Daily Report'!H93=0,\"NO\",\"SI\")","v":"NO"},{"$f":"'Daily Report'!C93","v":0},"",""]
[null,"2023-08-04","venerdì",{"$f":"IF('Daily Report'!H94=0,\"NO\",\"SI\")","v":"NO"},{"$f":"'Daily Report'!C94","v":0},"",""]
[null,"2023-08-05","sabato",{"$f":"IF('Daily Report'!H95=0,\"NO\",\"SI\")","v":"NO"},{"$f":"'Daily Report'!C95","v":0},"",""]
[null,"2023-08-06","domenica",{"$f":"IF('Daily Report'!H96=0,\"NO\",\"SI\")","v":"NO"},{"$f":"'Daily Report'!C96","v":0},"",""]
[null,"2023-08-07","lunedì",{"$f":"IF('Daily Report'!H97=0,\"NO\",\"SI\")","v":"NO"},{"$f":"'Daily Report'!C97","v":0},"",""]
[null,"2023-08-08","martedì",{"$f":"IF('Daily Report'!H98=0,\"NO\",\"SI\")","v":"NO"},{"$f":"'Daily Report'!C98","v":0},"",""]
[null,"2023-08-09","mercoledì",{"$f":"IF('Daily Report'!H99=0,\"NO\",\"SI\")","v":"NO"},{"$f":"'Daily Report'!C99","v":0},"",""]
[null,"2023-08-10","giovedì",{"$f":"IF('Daily Report'!H100=0,\"NO\",\"SI\")","v":"NO"},{"$f":"'Daily Report'!C100","v":0},"",""]
[null,"2023-08-11","venerdì",{"$f":"IF('Daily Report'!H101=0,\"NO\",\"SI\")","v":"NO"},{"$f":"'Daily Report'!C101","v":0},"",""]
[null,"2023-08-12","sabato",{"$f":"IF('Daily Report'!H102=0,\"NO\",\"SI\")","v":"NO"},{"$f":"'Daily Report'!C102","v":0},"",""]
[null,"2023-08-13","domenica",{"$f":"IF('Daily Report'!H103=0,\"NO\",\"SI\")","v":"NO"},{"$f":"'Daily Report'!C103","v":0},"",""]
[null,"2023-08-14","lunedì",{"$f":"IF('Daily Report'!H104=0,\"NO\",\"SI\")","v":"NO"},{"$f":"'Daily Report'!C104","v":0},"",""]
[null,"2023-08-15","martedì",{"$f":"IF('Daily Report'!H105=0,\"NO\",\"SI\")","v":"NO"},{"$f":"'Daily Report'!C105","v":0},"",""]
[null,"2023-08-16","mercoledì",{"$f":"IF('Daily Report'!H106=0,\"NO\",\"SI\")","v":"NO"},{"$f":"'Daily Report'!C106","v":0},"",""]
[null,"2023-08-17","giovedì",{"$f":"IF('Daily Report'!H107=0,\"NO\",\"SI\")","v":"NO"},{"$f":"'Daily Report'!C107","v":0},"",""]
[null,"2023-08-18","venerdì",{"$f":"IF('Daily Report'!H108=0,\"NO\",\"SI\")","v":"NO"},{"$f":"'Daily Report'!C108","v":0},"",""]
[null,"2023-08-19","sabato",{"$f":"IF('Daily Report'!H109=0,\"NO\",\"SI\")","v":"NO"},{"$f":"'Daily Report'!C109","v":0},"",""]
[null,"2023-08-20","domenica",{"$f":"IF('Daily Report'!H110=0,\"NO\",\"SI\")","v":"NO"},{"$f":"'Daily Report'!C110","v":0},"",""]
[null,"2023-08-21","lunedì",{"$f":"IF('Daily Report'!H111=0,\"NO\",\"SI\")","v":"NO"},{"$f":"'Daily Report'!C111","v":0},"",""]
[null,"2023-08-22","martedì",{"$f":"IF('Daily Report'!H112=0,\"NO\",\"SI\")","v":"NO"},{"$f":"'Daily Report'!C112","v":0},"",""]
[null,"2023-08-23","mercoledì",{"$f":"IF('Daily Report'!H113=0,\"NO\",\"SI\")","v":"NO"},{"$f":"'Daily Report'!C113","v":0},"",""]
[null,"2023-08-24","giovedì",{"$f":"IF('Daily Report'!H114=0,\"NO\",\"SI\")","v":"NO"},{"$f":"'Daily Report'!C114","v":0},"",""]
[null,"2023-08-25","venerdì",{"$f":"IF('Daily Report'!H115=0,\"NO\",\"SI\")","v":"NO"},{"$f":"'Daily Report'!C115","v":0},"",""]
[null,"2023-08-26","sabato",{"$f":"IF('Daily Report'!H116=0,\"NO\",\"SI\")","v":"NO"},{"$f":"'Daily Report'!C116","v":0},"",""]
[null,"2023-08-27","domenica",{"$f":"IF('Daily Report'!H117=0,\"NO\",\"SI\")","v":"NO"},{"$f":"'Daily Report'!C117","v":0},"",""]
[null,"2023-08-28","lunedì",{"$f":"IF('Daily Report'!H118=0,\"NO\",\"SI\")","v":"NO"},{"$f":"'Daily Report'!C118","v":0},"",""]
[null,"2023-08-29","martedì",{"$f":"IF('Daily Report'!H119=0,\"NO\",\"SI\")","v":"NO"},{"$f":"'Daily Report'!C119","v":0},"",""]
[null,"2023-08-30","mercoledì",{"$f":"IF('Daily Report'!H120=0,\"NO\",\"SI\")","v":"NO"},{"$f":"'Daily Report'!C120","v":0},"",""]
[null,"2023-08-31","giovedì",{"$f":"IF('Daily Report'!H121=0,\"NO\",\"SI\")","v":"NO"},{"$f":"'Daily Report'!C121","v":0},"",""]
[null,"2023-09-01","venerdì",{"$f":"IF('Daily Report'!H122=0,\"NO\",\"SI\")","v":"NO"},{"$f":"'Daily Report'!C122","v":0},"",""]
[null,"2023-09-02","sabato",{"$f":"IF('Daily Report'!H123=0,\"NO\",\"SI\")","v":"NO"},{"$f":"'Daily Report'!C123","v":0},"",""]
[null,"2023-09-03","domenica",{"$f":"IF('Daily Report'!H124=0,\"NO\",\"SI\")","v":"NO"},{"$f":"'Daily Report'!C124","v":0},"",""]
[null,"2023-09-04","lunedì",{"$f":"IF('Daily Report'!H125=0,\"NO\",\"SI\")","v":"NO"},{"$f":"'Daily Report'!C125","v":0},"",""]
[null,"2023-09-05","martedì",{"$f":"IF('Daily Report'!H126=0,\"NO\",\"SI\")","v":"NO"},{"$f":"'Daily Report'!C126","v":0},"",""]
[null,"2023-09-06","mercoledì",{"$f":"IF('Daily Report'!H127=0,\"NO\",\"SI\")","v":"NO"},{"$f":"'Daily Report'!C127","v":0},"",""]
[null,"2023-09-07","giovedì",{"$f":"IF('Daily Report'!H128=0,\"NO\",\"SI\")","v":"NO"},{"$f":"'Daily Report'!C128","v":0},"",""]
[null,"2023-09-08","venerdì",{"$f":"IF('Daily Report'!H129=0,\"NO\",\"SI\")","v":"NO"},{"$f":"'Daily Report'!C129","v":0},"",""]
[null,"2023-09-09","sabato",{"$f":"IF('Daily Report'!H130=0,\"NO\",\"SI\")","v":"NO"},{"$f":"'Daily Report'!C130","v":0},"",""]
[null,"2023-09-10","domenica",{"$f":"IF('Daily Report'!H131=0,\"NO\",\"SI\")","v":"NO"},{"$f":"'Daily Report'!C131","v":0},"",""]
[null,"2023-09-11","lunedì",{"$f":"IF('Daily Report'!H132=0,\"NO\",\"SI\")","v":"NO"},{"$f":"'Daily Report'!C132","v":0},"",""]
[null,"2023-09-12","martedì",{"$f":"IF('Daily Report'!H133=0,\"NO\",\"SI\")","v":"NO"},{"$f":"'Daily Report'!C133","v":0},"",""]
[null,"2023-09-13","mercoledì",{"$f":"IF('Daily Report'!H134=0,\"NO\",\"SI\")","v":"NO"},{"$f":"'Daily Report'!C134","v":0},"",""]
[null,"2023-09-14","giovedì",{"$f":"IF('Daily Report'!H135=0,\"NO\",\"SI\")","v":"NO"},{"$f":"'Daily Report'!C135","v":0},"",""]
[null,"2023-09-15","venerdì",{"$f":"IF('Daily Report'!H136=0,\"NO\",\"SI\")","v":"NO"},{"$f":"'Daily Report'!C136","v":0},"",""]
[null,"2023-09-16","sabato",{"$f":"IF('Daily Report'!H137=0,\"NO\",\"SI\")","v":"NO"},{"$f":"'Daily Report'!C137","v":0},"",""]
[null,"2023-09-17","domenica",{"$f":"IF('Daily Report'!H138=0,\"NO\",\"SI\")","v":"NO"},{"$f":"'Daily Report'!C138","v":0},"",""]
[null,"2023-09-18","lunedì",{"$f":"IF('Daily Report'!H139=0,\"NO\",\"SI\")","v":"NO"},{"$f":"'Daily Report'!C139","v":0},"",""]
[null,"2023-09-19","martedì",{"$f":"IF('Daily Report'!H140=0,\"NO\",\"SI\")","v":"NO"},{"$f":"'Daily Report'!C140","v":0},"",""]
[null,"2023-09-20","mercoledì",{"$f":"IF('Daily Report'!H141=0,\"NO\",\"SI\")","v":"NO"},{"$f":"'Daily Report'!C141","v":0},"",""]
[null,"2023-09-21",{"$f":"TEXT(B142,\"gggg\")","v":"giovedì"},{"$f":"IF('Daily Report'!H142=0,\"NO\",\"SI\")","v":"NO"},{"$f":"'Daily Report'!C142","v":0},{"$f":"IF(E142>0,\"SI\",\"\")","v":""},{"$f":"IF(E142<0,\"SI\",\"\")","v":""}]
[null,{"$f":"B142+1","v":"2023-09-22"},"venerdì",{"$f":"IF('Daily Report'!H143=0,\"NO\",\"SI\")","v":"NO"},{"$f":"'Daily Report'!C143","v":0},"",""]
[null,"2023-09-23","sabato",{"$f":"IF('Daily Report'!H144=0,\"NO\",\"SI\")","v":"NO"},{"$f":"'Daily Report'!C144","v":0},"",""]
[null,"2023-09-24","domenica",{"$f":"IF('Daily Report'!H145=0,\"NO\",\"SI\")","v":"NO"},{"$f":"'Daily Report'!C145","v":0},"",""]
[null,"2023-09-25","lunedì",{"$f":"IF('Daily Report'!H146=0,\"NO\",\"SI\")","v":"NO"},{"$f":"'Daily Report'!C146","v":0},"",""]
[null,"2023-09-26","martedì",{"$f":"IF('Daily Report'!H147=0,\"NO\",\"SI\")","v":"NO"},{"$f":"'Daily Report'!C147","v":0},"",""]
[null,"2023-09-27","mercoledì",{"$f":"IF('Daily Report'!H148=0,\"NO\",\"SI\")","v":"NO"},{"$f":"'Daily Report'!C148","v":0},"",""]
[null,"2023-09-28","giovedì",{"$f":"IF('Daily Report'!H149=0,\"NO\",\"SI\")","v":"NO"},{"$f":"'Daily Report'!C149","v":0},"",""]
[null,"2023-09-29","venerdì",{"$f":"IF('Daily Report'!H150=0,\"NO\",\"SI\")","v":"NO"},{"$f":"'Daily Report'!C150","v":0},"",""]
[null,"2023-09-30","sabato",{"$f":"IF('Daily Report'!H151=0,\"NO\",\"SI\")","v":"NO"},{"$f":"'Daily Report'!C151","v":0},"",""]
[null,"2023-10-01","domenica",{"$f":"IF('Daily Report'!H152=0,\"NO\",\"SI\")","v":"NO"},{"$f":"'Daily Report'!C152","v":0},"",""]
[null,"2023-10-02","lunedì",{"$f":"IF('Daily Report'!H153=0,\"NO\",\"SI\")","v":"NO"},{"$f":"'Daily Report'!C153","v":0},"",""]
[null,"2023-10-03","martedì",{"$f":"IF('Daily Report'!H154=0,\"NO\",\"SI\")","v":"NO"},{"$f":"'Daily Report'!C154","v":0},"",""]
[null,"2023-10-04","mercoledì",{"$f":"IF('Daily Report'!H155=0,\"NO\",\"SI\")","v":"NO"},{"$f":"'Daily Report'!C155","v":0},"",""]
[null,"2023-10-05","giovedì",{"$f":"IF('Daily Report'!H156=0,\"NO\",\"SI\")","v":"NO"},{"$f":"'Daily Report'!C156","v":0},"",""]
[null,"2023-10-06","venerdì",{"$f":"IF('Daily Report'!H157=0,\"NO\",\"SI\")","v":"NO"},{"$f":"'Daily Report'!C157","v":0},"",""]
[null,"2023-10-07","sabato",{"$f":"IF('Daily Report'!H158=0,\"NO\",\"SI\")","v":"NO"},{"$f":"'Daily Report'!C158","v":0},"",""]
[null,"2023-10-08","domenica",{"$f":"IF('Daily Report'!H159=0,\"NO\",\"SI\")","v":"NO"},{"$f":"'Daily Report'!C159","v":0},"",""]
[null,"2023-10-09","lunedì",{"$f":"IF('Daily Report'!H160=0,\"NO\",\"SI\")","v":"NO"},{"$f":"'Daily Report'!C160","v":0},"",""]
[null,"2023-10-10","martedì",{"$f":"IF('Daily Report'!H161=0,\"NO\",\"SI\")","v":"NO"},{"$f":"'Daily Report'!C161","v":0},"",""]
[null,"2023-10-11","mercoledì",{"$f":"IF('Daily Report'!H162=0,\"NO\",\"SI\")","v":"NO"},{"$f":"'Daily Report'!C162","v":0},"",""]
[null,"2023-10-12","giovedì",{"$f":"IF('Daily Report'!H163=0,\"NO\",\"SI\")","v":"NO"},{"$f":"'Daily Report'!C163","v":0},"",""]
[null,"2023-10-13","venerdì",{"$f":"IF('Daily Report'!H164=0,\"NO\",\"SI\")","v":"NO"},{"$f":"'Daily Report'!C164","v":0},"",""]
[null,"2023-10-14","sabato",{"$f":"IF('Daily Report'!H165=0,\"NO\",\"SI\")","v":"NO"},{"$f":"'Daily Report'!C165","v":0},"",""]
[null,"2023-10-15","domenica",{"$f":"IF('Daily Report'!H166=0,\"NO\",\"SI\")","v":"NO"},{"$f":"'Daily Report'!C166","v":0},"",""]
[null,"2023-10-16","lunedì",{"$f":"IF('Daily Report'!H167=0,\"NO\",\"SI\")","v":"NO"},{"$f":"'Daily Report'!C167","v":0},"",""]
[null,"2023-10-17","martedì",{"$f":"IF('Daily Report'!H168=0,\"NO\",\"SI\")","v":"NO"},{"$f":"'Daily Report'!C168","v":0},"",""]
[null,"2023-10-18","mercoledì",{"$f":"IF('Daily Report'!H169=0,\"NO\",\"SI\")","v":"NO"},{"$f":"'Daily Report'!C169","v":0},"",""]
[null,"2023-10-19","giovedì",{"$f":"IF('Daily Report'!H170=0,\"NO\",\"SI\")","v":"NO"},{"$f":"'Daily Report'!C170","v":0},"",""]
[null,"2023-10-20","venerdì",{"$f":"IF('Daily Report'!H171=0,\"NO\",\"SI\")","v":"NO"},{"$f":"'Daily Report'!C171","v":0},"",""]
[null,"2023-10-21","sabato",{"$f":"IF('Daily Report'!H172=0,\"NO\",\"SI\")","v":"NO"},{"$f":"'Daily Report'!C172","v":0},"",""]
[null,"2023-10-22","domenica",{"$f":"IF('Daily Report'!H173=0,\"NO\",\"SI\")","v":"NO"},{"$f":"'Daily Report'!C173","v":0},"",""]
[null,"2023-10-23","lunedì",{"$f":"IF('Daily Report'!H174=0,\"NO\",\"SI\")","v":"NO"},{"$f":"'Daily Report'!C174","v":0},"",""]
[null,"2023-10-24","martedì",{"$f":"IF('Daily Report'!H175=0,\"NO\",\"SI\")","v":"NO"},{"$f":"'Daily Report'!C175","v":0},"",""]
[null,"2023-10-25","mercoledì",{"$f":"IF('Daily Report'!H176=0,\"NO\",\"SI\")","v":"NO"},{"$f":"'Daily Report'!C176","v":0},"",""]
[null,"2023-10-26","giovedì",{"$f":"IF('Daily Report'!H177=0,\"NO\",\"SI\")","v":"NO"},{"$f":"'Daily Report'!C177","v":0},"",""]
[null,"2023-10-27","venerdì",{"$f":"IF('Daily Report'!H178=0,\"NO\",\"SI\")","v":"NO"},{"$f":"'Daily Report'!C178","v":0},"",""]
[null,"2023-10-28","sabato",{"$f":"IF('Daily Report'!H179=0,\"NO\",\"SI\")","v":"NO"},{"$f":"'Daily Report'!C179","v":0},"",""]
[null,"2023-10-29","domenica",{"$f":"IF('Daily Report'!H180=0,\"NO\",\"SI\")","v":"NO"},{"$f":"'Daily Report'!C180","v":0},"",""]
[null,"2023-10-30","lunedì",{"$f":"IF('Daily Report'!H181=0,\"NO\",\"SI\")","v":"NO"},{"$f":"'Daily Report'!C181","v":0},"",""]
[null,"2023-10-31","martedì",{"$f":"IF('Daily Report'!H182=0,\"NO\",\"SI\")","v":"NO"},{"$f":"'Daily Report'!C182","v":0},"",""]
[null,"2023-11-01","mercoledì",{"$f":"IF('Daily Report'!H183=0,\"NO\",\"SI\")","v":"NO"},{"$f":"'Daily Report'!C183","v":0},"",""]
[null,"2023-11-02","giovedì",{"$f":"IF('Daily Report'!H184=0,\"NO\",\"SI\")","v":"NO"},{"$f":"'Daily Report'!C184","v":0},"",""]
[null,"2023-11-03","venerdì",{"$f":"IF('Daily Report'!H185=0,\"NO\",\"SI\")","v":"NO"},{"$f":"'Daily Report'!C185","v":0},"",""]
[null,"2023-11-04","sabato",{"$f":"IF('Daily Report'!H186=0,\"NO\",\"SI\")","v":"NO"},{"$f":"'Daily Report'!C186","v":0},"",""]
[null,"2023-11-05","domenica",{"$f":"IF('Daily Report'!H187=0,\"NO\",\"SI\")","v":"NO"},{"$f":"'Daily Report'!C187","v":0},"",""]
[null,"2023-11-06","lunedì",{"$f":"IF('Daily Report'!H188=0,\"NO\",\"SI\")","v":"NO"},{"$f":"'Daily Report'!C188","v":0},"",""]
[null,"2023-11-07","martedì",{"$f":"IF('Daily Report'!H189=0,\"NO\",\"SI\")","v":"NO"},{"$f":"'Daily Report'!C189","v":0},"",""]
[null,"2023-11-08","mercoledì",{"$f":"IF('Daily Report'!H190=0,\"NO\",\"SI\")","v":"NO"},{"$f":"'Daily Report'!C190","v":0},"",""]
[null,"2023-11-09","giovedì",{"$f":"IF('Daily Report'!H191=0,\"NO\",\"SI\")","v":"NO"},{"$f":"'Daily Report'!C191","v":0},"",""]
[null,"2023-11-10","venerdì",{"$f":"IF('Daily Report'!H192=0,\"NO\",\"SI\")","v":"NO"},{"$f":"'Daily Report'!C192","v":0},"",""]
[null,"2023-11-11","sabato",{"$f":"IF('Daily Report'!H193=0,\"NO\",\"SI\")","v":"NO"},{"$f":"'Daily Report'!C193","v":0},"",""]
[null,"2023-11-12","domenica",{"$f":"IF('Daily Report'!H194=0,\"NO\",\"SI\")","v":"NO"},{"$f":"'Daily Report'!C194","v":0},"",""]
[null,"2023-11-13","lunedì",{"$f":"IF('Daily Report'!H195=0,\"NO\",\"SI\")","v":"NO"},{"$f":"'Daily Report'!C195","v":0},"",""]
[null,"2023-11-14","martedì",{"$f":"IF('Daily Report'!H196=0,\"NO\",\"SI\")","v":"NO"},{"$f":"'Daily Report'!C196","v":0},"",""]
[null,"2023-11-15","mercoledì",{"$f":"IF('Daily Report'!H197=0,\"NO\",\"SI\")","v":"NO"},{"$f":"'Daily Report'!C197","v":0},"",""]
[null,"2023-11-16","giovedì",{"$f":"IF('Daily Report'!H198=0,\"NO\",\"SI\")","v":"NO"},{"$f":"'Daily Report'!C198","v":0},"",""]
[null,"2023-11-17","venerdì",{"$f":"IF('Daily Report'!H199=0,\"NO\",\"SI\")","v":"NO"},{"$f":"'Daily Report'!C199","v":0},"",""]
[null,"2023-11-18","sabato",{"$f":"IF('Daily Report'!H200=0,\"NO\",\"SI\")","v":"NO"},{"$f":"'Daily Report'!C200","v":0},"",""]
[null,"2023-11-19","domenica",{"$f":"IF('Daily Report'!H201=0,\"NO\",\"SI\")","v":"NO"},{"$f":"'Daily Report'!C201","v":0},"",""]
[null,"2023-11-20","lunedì",{"$f":"IF('Daily Report'!H202=0,\"NO\",\"SI\")","v":"NO"},{"$f":"'Daily Report'!C202","v":0},"",""]
[null,"2023-11-21","martedì",{"$f":"IF('Daily Report'!H203=0,\"NO\",\"SI\")","v":"NO"},{"$f":"'Daily Report'!C203","v":0},"",""]
[null,"2023-11-22","mercoledì",{"$f":"IF('Daily Report'!H204=0,\"NO\",\"SI\")","v":"NO"},{"$f":"'Daily Report'!C204","v":0},"",""]
[null,"2023-11-23","giovedì",{"$f":"IF('Daily Report'!H205=0,\"NO\",\"SI\")","v":"NO"},{"$f":"'Daily Report'!C205","v":0},"",""]
[null,"2023-11-24",{"$f":"TEXT(B206,\"gggg\")","v":"venerdì"},{"$f":"IF('Daily Report'!H206=0,\"NO\",\"SI\")","v":"NO"},{"$f":"'Daily Report'!C206","v":0},{"$f":"IF(E206>0,\"SI\",\"\")","v":""},{"$f":"IF(E206<0,\"SI\",\"\")","v":""}]
[null,{"$f":"B206+1","v":"2023-11-25"},"sabato",{"$f":"IF('Daily Report'!H207=0,\"NO\",\"SI\")","v":"NO"},{"$f":"'Daily Report'!C207","v":0},"",""]
[null,"2023-11-26","domenica",{"$f":"IF('Daily Report'!H208=0,\"NO\",\"SI\")","v":"NO"},{"$f":"'Daily Report'!C208","v":0},"",""]
[null,"2023-11-27","lunedì",{"$f":"IF('Daily Report'!H209=0,\"NO\",\"SI\")","v":"NO"},{"$f":"'Daily Report'!C209","v":0},"",""]
[null,"2023-11-28","martedì",{"$f":"IF('Daily Report'!H210=0,\"NO\",\"SI\")","v":"NO"},{"$f":"'Daily Report'!C210","v":0},"",""]
[null,"2023-11-29","mercoledì",{"$f":"IF('Daily Report'!H211=0,\"NO\",\"SI\")","v":"NO"},{"$f":"'Daily Report'!C211","v":0},"",""]
[null,"2023-11-30","giovedì",{"$f":"IF('Daily Report'!H212=0,\"NO\",\"SI\")","v":"NO"},{"$f":"'Daily Report'!C212","v":0},"",""]
[null,"2023-12-01","venerdì",{"$f":"IF('Daily Report'!H213=0,\"NO\",\"SI\")","v":"NO"},{"$f":"'Daily Report'!C213","v":0},"",""]
[null,"2023-12-02","sabato",{"$f":"IF('Daily Report'!H214=0,\"NO\",\"SI\")","v":"NO"},{"$f":"'Daily Report'!C214","v":0},"",""]
[null,"2023-12-03","domenica",{"$f":"IF('Daily Report'!H215=0,\"NO\",\"SI\")","v":"NO"},{"$f":"'Daily Report'!C215","v":0},"",""]
[null,"2023-12-04","lunedì",{"$f":"IF('Daily Report'!H216=0,\"NO\",\"SI\")","v":"NO"},{"$f":"'Daily Report'!C216","v":0},"",""]
[null,"2023-12-05","martedì",{"$f":"IF('Daily Report'!H217=0,\"NO\",\"SI\")","v":"NO"},{"$f":"'Daily Report'!C217","v":0},"",""]
[null,"2023-12-06","mercoledì",{"$f":"IF('Daily Report'!H218=0,\"NO\",\"SI\")","v":"NO"},{"$f":"'Daily Report'!C218","v":0},"",""]
[null,"2023-12-07","giovedì",{"$f":"IF('Daily Report'!H219=0,\"NO\",\"SI\")","v":"NO"},{"$f":"'Daily Report'!C219","v":0},"",""]
[null,"2023-12-08","venerdì",{"$f":"IF('Daily Report'!H220=0,\"NO\",\"SI\")","v":"NO"},{"$f":"'Daily Report'!C220","v":0},"",""]
[null,"2023-12-09","sabato",{"$f":"IF('Daily Report'!H221=0,\"NO\",\"SI\")","v":"NO"},{"$f":"'Daily Report'!C221","v":0},"",""]
[null,"2023-12-10","domenica",{"$f":"IF('Daily Report'!H222=0,\"NO\",\"SI\")","v":"NO"},{"$f":"'Daily Report'!C222","v":0},"",""]
[null,"2023-12-11","lunedì",{"$f":"IF('Daily Report'!H223=0,\"NO\",\"SI\")","v":"NO"},{"$f":"'Daily Report'!C223","v":0},"",""]
[null,"2023-12-12","martedì",{"$f":"IF('Daily Report'!H224=0,\"NO\",\"SI\")","v":"NO"},{"$f":"'Daily Report'!C224","v":0},"",""]
[null,"2023-12-13","mercoledì",{"$f":"IF('Daily Report'!H225=0,\"NO\",\"SI\")","v":"NO"},{"$f":"'Daily Report'!C225","v":0},"",""]
[null,"2023-12-14","giovedì",{"$f":"IF('Daily Report'!H226=0,\"NO\",\"SI\")","v":"NO"},{"$f":"'Daily Report'!C226","v":0},"",""]
[null,"2023-12-15","venerdì",{"$f":"IF('Daily Report'!H227=0,\"NO\",\"SI\")","v":"NO"},{"$f":"'Daily Report'!C227","v":0},"",""]
[null,"2023-12-16","sabato",{"$f":"IF('Daily Report'!H228=0,\"NO\",\"SI\")","v":"NO"},{"$f":"'Daily Report'!C228","v":0},"",""]
[null,"2023-12-17","domenica",{"$f":"IF('Daily Report'!H229=0,\"NO\",\"SI\")","v":"NO"},{"$f":"'Daily Report'!C229","v":0},"",""]
[null,"2023-12-18","lunedì",{"$f":"IF('Daily Report'!H230=0,\"NO\",\"SI\")","v":"NO"},{"$f":"'Daily Report'!C230","v":0},"",""]
[null,"2023-12-19","martedì",{"$f":"IF('Daily Report'!H231=0,\"NO\",\"SI\")","v":"NO"},{"$f":"'Daily Report'!C231","v":0},"",""]
[null,"2023-12-20","mercoledì",{"$f":"IF('Daily Report'!H232=0,\"NO\",\"SI\")","v":"NO"},{"$f":"'Daily Report'!C232","v":0},"",""]
[null,"2023-12-21","giovedì",{"$f":"IF('Daily Report'!H233=0,\"NO\",\"SI\")","v":"NO"},{"$f":"'Daily Report'!C233","v":0},"",""]
[null,"2023-12-22","venerdì",{"$f":"IF('Daily Report'!H234=0,\"NO\",\"SI\")","v":"NO"},{"$f":"'Daily Report'!C234","v":0},"",""]
[null,"2023-12-23","sabato",{"$f":"IF('Daily Report'!H235=0,\"NO\",\"SI\")","v":"NO"},{"$f":"'Daily Report'!C235","v":0},"",""]
[null,"2023-12-24","domenica",{"$f":"IF('Daily Report'!H236=0,\"NO\",\"SI\")","v":"NO"},{"$f":"'Daily Report'!C236","v":0},"",""]
[null,"2023-12-25","lunedì",{"$f":"IF('Daily Report'!H237=0,\"NO\",\"SI\")","v":"NO"},{"$f":"'Daily Report'!C237","v":0},"",""]
[null,"2023-12-26","martedì",{"$f":"IF('Daily Report'!H238=0,\"NO\",\"SI\")","v":"NO"},{"$f":"'Daily Report'!C238","v":0},"",""]
[null,"2023-12-27","mercoledì",{"$f":"IF('Daily Report'!H239=0,\"NO\",\"SI\")","v":"NO"},{"$f":"'Daily Report'!C239","v":0},"",""]
[null,"2023-12-28","giovedì",{"$f":"IF('Daily Report'!H240=0,\"NO\",\"SI\")","v":"NO"},{"$f":"'Daily Report'!C240","v":0},"",""]
[null,"2023-12-29","venerdì",{"$f":"IF('Daily Report'!H241=0,\"NO\",\"SI\")","v":"NO"},{"$f":"'Daily Report'!C241","v":0},"",""]
[null,"2023-12-30","sabato",{"$f":"IF('Daily Report'!H242=0,\"NO\",\"SI\")","v":"NO"},{"$f":"'Daily Report'!C242","v":0},"",""]
[null,"2023-12-31","domenica",{"$f":"IF('Daily Report'!H243=0,\"NO\",\"SI\")","v":"NO"},{"$f":"'Daily Report'!C243","v":0},"",""]
[null,"2024-01-01","lunedì",{"$f":"IF('Daily Report'!H244=0,\"NO\",\"SI\")","v":"NO"},{"$f":"'Daily Report'!C244","v":0},"",""]
[null,"2024-01-02","martedì",{"$f":"IF('Daily Report'!H245=0,\"NO\",\"SI\")","v":"NO"},{"$f":"'Daily Report'!C245","v":0},"",""]
[null,"2024-01-03","mercoledì",{"$f":"IF('Daily Report'!H246=0,\"NO\",\"SI\")","v":"NO"},{"$f":"'Daily Report'!C246","v":0},"",""]
[null,"2024-01-04","giovedì",{"$f":"IF('Daily Report'!H247=0,\"NO\",\"SI\")","v":"NO"},{"$f":"'Daily Report'!C247","v":0},"",""]
[null,"2024-01-05","venerdì",{"$f":"IF('Daily Report'!H248=0,\"NO\",\"SI\")","v":"NO"},{"$f":"'Daily Report'!C248","v":0},"",""]
[null,"2024-01-06","sabato",{"$f":"IF('Daily Report'!H249=0,\"NO\",\"SI\")","v":"NO"},{"$f":"'Daily Report'!C249","v":0},"",""]
[null,"2024-01-07","domenica",{"$f":"IF('Daily Report'!H250=0,\"NO\",\"SI\")","v":"NO"},{"$f":"'Daily Report'!C250","v":0},"",""]
[null,"2024-01-08","lunedì",{"$f":"IF('Daily Report'!H251=0,\"NO\",\"SI\")","v":"NO"},{"$f":"'Daily Report'!C251","v":0},"",""]
[null,"2024-01-09","martedì",{"$f":"IF('Daily Report'!H252=0,\"NO\",\"SI\")","v":"NO"},{"$f":"'Daily Report'!C252","v":0},"",""]
[null,"2024-01-10","mercoledì",{"$f":"IF('Daily Report'!H253=0,\"NO\",\"SI\")","v":"NO"},{"$f":"'Daily Report'!C253","v":0},"",""]
[null,"2024-01-11","giovedì",{"$f":"IF('Daily Report'!H254=0,\"NO\",\"SI\")","v":"NO"},{"$f":"'Daily Report'!C254","v":0},"",""]
[null,"2024-01-12","venerdì",{"$f":"IF('Daily Report'!H255=0,\"NO\",\"SI\")","v":"NO"},{"$f":"'Daily Report'!C255","v":0},"",""]
[null,"2024-01-13","sabato",{"$f":"IF('Daily Report'!H256=0,\"NO\",\"SI\")","v":"NO"},{"$f":"'Daily Report'!C256","v":0},"",""]
[null,"2024-01-14","domenica",{"$f":"IF('Daily Report'!H257=0,\"NO\",\"SI\")","v":"NO"},{"$f":"'Daily Report'!C257","v":0},"",""]
[null,"2024-01-15","lunedì",{"$f":"IF('Daily Report'!H258=0,\"NO\",\"SI\")","v":"NO"},{"$f":"'Daily Report'!C258","v":0},"",""]
[null,"2024-01-16","martedì",{"$f":"IF('Daily Report'!H259=0,\"NO\",\"SI\")","v":"NO"},{"$f":"'Daily Report'!C259","v":0},"",""]
[null,"2024-01-17","mercoledì",{"$f":"IF('Daily Report'!H260=0,\"NO\",\"SI\")","v":"NO"},{"$f":"'Daily Report'!C260","v":0},"",""]
[null,"2024-01-18","giovedì",{"$f":"IF('Daily Report'!H261=0,\"NO\",\"SI\")","v":"NO"},{"$f":"'Daily Report'!C261","v":0},"",""]
[null,"2024-01-19","venerdì",{"$f":"IF('Daily Report'!H262=0,\"NO\",\"SI\")","v":"NO"},{"$f":"'Daily Report'!C262","v":0},"",""]
[null,"2024-01-20","sabato",{"$f":"IF('Daily Report'!H263=0,\"NO\",\"SI\")","v":"NO"},{"$f":"'Daily Report'!C263","v":0},"",""]
[null,"2024-01-21","domenica",{"$f":"IF('Daily Report'!H264=0,\"NO\",\"SI\")","v":"NO"},{"$f":"'Daily Report'!C264","v":0},"",""]
[null,"2024-01-22","lunedì",{"$f":"IF('Daily Report'!H265=0,\"NO\",\"SI\")","v":"NO"},{"$f":"'Daily Report'!C265","v":0},"",""]
[null,"2024-01-23","martedì",{"$f":"IF('Daily Report'!H266=0,\"NO\",\"SI\")","v":"NO"},{"$f":"'Daily Report'!C266","v":0},"",""]
[null,"2024-01-24","mercoledì",{"$f":"IF('Daily Report'!H267=0,\"NO\",\"SI\")","v":"NO"},{"$f":"'Daily Report'!C267","v":0},"",""]
[null,"2024-01-25","giovedì",{"$f":"IF('Daily Report'!H268=0,\"NO\",\"SI\")","v":"NO"},{"$f":"'Daily Report'!C268","v":0},"",""]
[null,"2024-01-26","venerdì",{"$f":"IF('Daily Report'!H269=0,\"NO\",\"SI\")","v":"NO"},{"$f":"'Daily Report'!C269","v":0},"",""]
[null,"2024-01-27",{"$f":"TEXT(B270,\"gggg\")","v":"sabato"},{"$f":"IF('Daily Report'!H270=0,\"NO\",\"SI\")","v":"NO"},{"$f":"'Daily Report'!C270","v":0},{"$f":"IF(E270>0,\"SI\",\"\")","v":""},{"$f":"IF(E270<0,\"SI\",\"\")","v":""}]
[null,{"$f":"B270+1","v":"2024-01-28"},"domenica",{"$f":"IF('Daily Report'!H271=0,\"NO\",\"SI\")","v":"NO"},{"$f":"'Daily Report'!C271","v":0},"",""]
[null,"2024-01-29","lunedì",{"$f":"IF('Daily Report'!H272=0,\"NO\",\"SI\")","v":"NO"},{"$f":"'Daily Report'!C272","v":0},"",""]
[null,"2024-01-30","martedì",{"$f":"IF('Daily Report'!H273=0,\"NO\",\"SI\")","v":"NO"},{"$f":"'Daily Report'!C273","v":0},"",""]
[null,"2024-01-31","mercoledì",{"$f":"IF('Daily Report'!H274=0,\"NO\",\"SI\")","v":"NO"},{"$f":"'Daily Report'!C274","v":0},"",""]
[null,"2024-02-01","giovedì",{"$f":"IF('Daily Report'!H275=0,\"NO\",\"SI\")","v":"NO"},{"$f":"'Daily Report'!C275","v":0},"",""]
[null,"2024-02-02","venerdì",{"$f":"IF('Daily Report'!H276=0,\"NO\",\"SI\")","v":"NO"},{"$f":"'Daily Report'!C276","v":0},"",""]
[null,"2024-02-03","sabato",{"$f":"IF('Daily Report'!H277=0,\"NO\",\"SI\")","v":"NO"},{"$f":"'Daily Report'!C277","v":0},"",""]
[null,"2024-02-04","domenica",{"$f":"IF('Daily Report'!H278=0,\"NO\",\"SI\")","v":"NO"},{"$f":"'Daily Report'!C278","v":0},"",""]
[null,"2024-02-05","lunedì",{"$f":"IF('Daily Report'!H279=0,\"NO\",\"SI\")","v":"NO"},{"$f":"'Daily Report'!C279","v":0},"",""]
[null,"2024-02-06","martedì",{"$f":"IF('Daily Report'!H280=0,\"NO\",\"SI\")","v":"NO"},{"$f":"'Daily Report'!C280","v":0},"",""]
[null,"2024-02-07","mercoledì",{"$f":"IF('Daily Report'!H281=0,\"NO\",\"SI\")","v":"NO"},{"$f":"'Daily Report'!C281","v":0},"",""]
[null,"2024-02-08","giovedì",{"$f":"IF('Daily Report'!H282=0,\"NO\",\"SI\")","v":"NO"},{"$f":"'Daily Report'!C282","v":0},"",""]
[null,"2024-02-09","venerdì",{"$f":"IF('Daily Report'!H283=0,\"NO\",\"SI\")","v":"NO"},{"$f":"'Daily Report'!C283","v":0},"",""]
[null,"2024-02-10","sabato",{"$f":"IF('Daily Report'!H284=0,\"NO\",\"SI\")","v":"NO"},{"$f":"'Daily Report'!C284","v":0},"",""]
[null,"2024-02-11","domenica",{"$f":"IF('Daily Report'!H285=0,\"NO\",\"SI\")","v":"NO"},{"$f":"'Daily Report'!C285","v":0},"",""]
[null,"2024-02-12","lunedì",{"$f":"IF('Daily Report'!H286=0,\"NO\",\"SI\")","v":"NO"},{"$f":"'Daily Report'!C286","v":0},"",""]
[null,"2024-02-13","martedì",{"$f":"IF('Daily Report'!H287=0,\"NO\",\"SI\")","v":"NO"},{"$f":"'Daily Report'!C287","v":0},"",""]
[null,"2024-02-14","mercoledì",{"$f":"IF('Daily Report'!H288=0,\"NO\",\"SI\")","v":"NO"},{"$f":"'Daily Report'!C288","v":0},"",""]
[null,"2024-02-15","giovedì",{"$f":"IF('Daily Report'!H289=0,\"NO\",\"SI\")","v":"NO"},{"$f":"'Daily Report'!C289","v":0},"",""]
[null,"2024-02-16","venerdì",{"$f":"IF('Daily Report'!H290=0,\"NO\",\"SI\")","v":"NO"},{"$f":"'Daily Report'!C290","v":0},"",""]
[null,"2024-02-17","sabato",{"$f":"IF('Daily Report'!H291=0,\"NO\",\"SI\")","v":"NO"},{"$f":"'Daily Report'!C291","v":0},"",""]
[null,"2024-02-18","domenica",{"$f":"IF('Daily Report'!H292=0,\"NO\",\"SI\")","v":"NO"},{"$f":"'Daily Report'!C292","v":0},"",""]
[null,"2024-02-19","lunedì",{"$f":"IF('Daily Report'!H293=0,\"NO\",\"SI\")","v":"NO"},{"$f":"'Daily Report'!C293","v":0},"",""]
[null,"2024-02-20","martedì",{"$f":"IF('Daily Report'!H294=0,\"NO\",\"SI\")","v":"NO"},{"$f":"'Daily Report'!C294","v":0},"",""]
[null,"2024-02-21","mercoledì",{"$f":"IF('Daily Report'!H295=0,\"NO\",\"SI\")","v":"NO"},{"$f":"'Daily Report'!C295","v":0},"",""]
[null,"2024-02-22","giovedì",{"$f":"IF('Daily Report'!H296=0,\"NO\",\"SI\")","v":"NO"},{"$f":"'Daily Report'!C296","v":0},"",""]
[null,"2024-02-23","venerdì",{"$f":"IF('Daily Report'!H297=0,\"NO\",\"SI\")","v":"NO"},{"$f":"'Daily Report'!C297","v":0},"",""]
[null,"2024-02-24","sabato",{"$f":"IF('Daily Report'!H298=0,\"NO\",\"SI\")","v":"NO"},{"$f":"'Daily Report'!C298","v":0},"",""]
[null,"2024-02-25","domenica",{"$f":"IF('Daily Report'!H299=0,\"NO\",\"SI\")","v":"NO"},{"$f":"'Daily Report'!C299","v":0},"",""]
[null,"2024-02-26","lunedì",{"$f":"IF('Daily Report'!H300=0,\"NO\",\"SI\")","v":"NO"},{"$f":"'Daily Report'!C300","v":0},"",""]
[null,"2024-02-27","martedì",{"$f":"IF('Daily Report'!H301=0,\"NO\",\"SI\")","v":"NO"},{"$f":"'Daily Report'!C301","v":0},"",""]
[null,"2024-02-28","mercoledì",{"$f":"IF('Daily Report'!H302=0,\"NO\",\"SI\")","v":"NO"},{"$f":"'Daily Report'!C302","v":0},"",""]
[null,"2024-02-29","giovedì",{"$f":"IF('Daily Report'!H303=0,\"NO\",\"SI\")","v":"NO"},{"$f":"'Daily Report'!C303","v":0},"",""]
[null,"2024-03-01","venerdì",{"$f":"IF('Daily Report'!H304=0,\"NO\",\"SI\")","v":"NO"},{"$f":"'Daily Report'!C304","v":0},"",""]
[null,"2024-03-02","sabato",{"$f":"IF('Daily Report'!H305=0,\"NO\",\"SI\")","v":"NO"},{"$f":"'Daily Report'!C305","v":0},"",""]
[null,"2024-03-03","domenica",{"$f":"IF('Daily Report'!H306=0,\"NO\",\"SI\")","v":"NO"},{"$f":"'Daily Report'!C306","v":0},"",""]
[null,"2024-03-04","lunedì",{"$f":"IF('Daily Report'!H307=0,\"NO\",\"SI\")","v":"NO"},{"$f":"'Daily Report'!C307","v":0},"",""]
[null,"2024-03-05","martedì",{"$f":"IF('Daily Report'!H308=0,\"NO\",\"SI\")","v":"NO"},{"$f":"'Daily Report'!C308","v":0},"",""]
[null,"2024-03-06","mercoledì",{"$f":"IF('Daily Report'!H309=0,\"NO\",\"SI\")","v":"NO"},{"$f":"'Daily Report'!C309","v":0},"",""]
[null,"2024-03-07","giovedì",{"$f":"IF('Daily Report'!H310=0,\"NO\",\"SI\")","v":"NO"},{"$f":"'Daily Report'!C310","v":0},"",""]
[null,"2024-03-08","venerdì",{"$f":"IF('Daily Report'!H311=0,\"NO\",\"SI\")","v":"NO"},{"$f":"'Daily Report'!C311","v":0},"",""]
[null,"2024-03-09","sabato",{"$f":"IF('Daily Report'!H312=0,\"NO\",\"SI\")","v":"NO"},{"$f":"'Daily Report'!C312","v":0},"",""]
[null,"2024-03-10","domenica",{"$f":"IF('Daily Report'!H313=0,\"NO\",\"SI\")","v":"NO"},{"$f":"'Daily Report'!C313","v":0},"",""]
[null,"2024-03-11","lunedì",{"$f":"IF('Daily Report'!H314=0,\"NO\",\"SI\")","v":"NO"},{"$f":"'Daily Report'!C314","v":0},"",""]
[null,"2024-03-12","martedì",{"$f":"IF('Daily Report'!H315=0,\"NO\",\"SI\")","v":"NO"},{"$f":"'Daily Report'!C315","v":0},"",""]
[null,"2024-03-13","mercoledì",{"$f":"IF('Daily Report'!H316=0,\"NO\",\"SI\")","v":"NO"},{"$f":"'Daily Report'!C316","v":0},"",""]
[null,"2024-03-14","giovedì",{"$f":"IF('Daily Report'!H317=0,\"NO\",\"SI\")","v":"NO"},{"$f":"'Daily Report'!C317","v":0},"",""]
[null,"2024-03-15","venerdì",{"$f":"IF('Daily Report'!H318=0,\"NO\",\"SI\")","v":"NO"},{"$f":"'Daily Report'!C318","v":0},"",""]
[null,"2024-03-16","sabato",{"$f":"IF('Daily Report'!H319=0,\"NO\",\"SI\")","v":"NO"},{"$f":"'Daily Report'!C319","v":0},"",""]
[null,"2024-03-17","domenica",{"$f":"IF('Daily Report'!H320=0,\"NO\",\"SI\")","v":"NO"},{"$f":"'Daily Report'!C320","v":0},"",""]
[null,"2024-03-18","lunedì",{"$f":"IF('Daily Report'!H321=0,\"NO\",\"SI\")","v":"NO"},{"$f":"'Daily Report'!C321","v":0},"",""]
[null,"2024-03-19","martedì",{"$f":"IF('Daily Report'!H322=0,\"NO\",\"SI\")","v":"NO"},{"$f":"'Daily Report'!C322","v":0},"",""]
[null,"2024-03-20","mercoledì",{"$f":"IF('Daily Report'!H323=0,\"NO\",\"SI\")","v":"NO"},{"$f":"'Daily Report'!C323","v":0},"",""]
[null,"2024-03-21","giovedì",{"$f":"IF('Daily Report'!H324=0,\"NO\",\"SI\")","v":"NO"},{"$f":"'Daily Report'!C324","v":0},"",""]
[null,"2024-03-22","venerdì",{"$f":"IF('Daily Report'!H325=0,\"NO\",\"SI\")","v":"NO"},{"$f":"'Daily Report'!C325","v":0},"",""]
[null,"2024-03-23","sabato",{"$f":"IF('Daily Report'!H326=0,\"NO\",\"SI\")","v":"NO"},{"$f":"'Daily Report'!C326","v":0},"",""]
[null,"2024-03-24","domenica",{"$f":"IF('Daily Report'!H327=0,\"NO\",\"SI\")","v":"NO"},{"$f":"'Daily Report'!C327","v":0},"",""]
[null,"2024-03-25","lunedì",{"$f":"IF('Daily Report'!H328=0,\"NO\",\"SI\")","v":"NO"},{"$f":"'Daily Report'!C328","v":0},"",""]
[null,"2024-03-26","martedì",{"$f":"IF('Daily Report'!H329=0,\"NO\",\"SI\")","v":"NO"},{"$f":"'Daily Report'!C329","v":0},"",""]
[null,"2024-03-27","mercoledì",{"$f":"IF('Daily Report'!H330=0,\"NO\",\"SI\")","v":"NO"},{"$f":"'Daily Report'!C330","v":0},"",""]
[null,"2024-03-28","giovedì",{"$f":"IF('Daily Report'!H331=0,\"NO\",\"SI\")","v":"NO"},{"$f":"'Daily Report'!C331","v":0},"",""]
[null,"2024-03-29","venerdì",{"$f":"IF('Daily Report'!H332=0,\"NO\",\"SI\")","v":"NO"},{"$f":"'Daily Report'!C332","v":0},"",""]
[null,"2024-03-30","sabato",{"$f":"IF('Daily Report'!H333=0,\"NO\",\"SI\")","v":"NO"},{"$f":"'Daily Report'!C333","v":0},"",""]
[null,"2024-03-31",{"$f":"TEXT(B334,\"gggg\")","v":"domenica"},{"$f":"IF('Daily Report'!H334=0,\"NO\",\"SI\")","v":"NO"},{"$f":"'Daily Report'!C334","v":0},{"$f":"IF(E334>0,\"SI\",\"\")","v":""},{"$f":"IF(E334<0,\"SI\",\"\")","v":""}]
[null,{"$f":"B334+1","v":"2024-04-01"},"lunedì",{"$f":"IF('Daily Report'!H335=0,\"NO\",\"SI\")","v":"NO"},{"$f":"'Daily Report'!C335","v":0},"",""]
[null,"2024-04-02","martedì",{"$f":"IF('Daily Report'!H336=0,\"NO\",\"SI\")","v":"NO"},{"$f":"'Daily Report'!C336","v":0},"",""]
[null,"2024-04-03","mercoledì",{"$f":"IF('Daily Report'!H337=0,\"NO\",\"SI\")","v":"NO"},{"$f":"'Daily Report'!C337","v":0},"",""]
[null,"2024-04-04","giovedì",{"$f":"IF('Daily Report'!H338=0,\"NO\",\"SI\")","v":"NO"},{"$f":"'Daily Report'!C338","v":0},"",""]
[null,"2024-04-05","venerdì",{"$f":"IF('Daily Report'!H339=0,\"NO\",\"SI\")","v":"NO"},{"$f":"'Daily Report'!C339","v":0},"",""]
[null,"2024-04-06","sabato",{"$f":"IF('Daily Report'!H340=0,\"NO\",\"SI\")","v":"NO"},{"$f":"'Daily Report'!C340","v":0},"",""]
[null,"2024-04-07","domenica",{"$f":"IF('Daily Report'!H341=0,\"NO\",\"SI\")","v":"NO"},{"$f":"'Daily Report'!C341","v":0},"",""]
[null,"2024-04-08","lunedì",{"$f":"IF('Daily Report'!H342=0,\"NO\",\"SI\")","v":"NO"},{"$f":"'Daily Report'!C342","v":0},"",""]
[null,"2024-04-09","martedì",{"$f":"IF('Daily Report'!H343=0,\"NO\",\"SI\")","v":"NO"},{"$f":"'Daily Report'!C343","v":0},"",""]
[null,"2024-04-10","mercoledì",{"$f":"IF('Daily Report'!H344=0,\"NO\",\"SI\")","v":"NO"},{"$f":"'Daily Report'!C344","v":0},"",""]
[null,"2024-04-11","giovedì",{"$f":"IF('Daily Report'!H345=0,\"NO\",\"SI\")","v":"NO"},{"$f":"'Daily Report'!C345","v":0},"",""]
[null,"2024-04-12","venerdì",{"$f":"IF('Daily Report'!H346=0,\"NO\",\"SI\")","v":"NO"},{"$f":"'Daily Report'!C346","v":0},"",""]
[null,"2024-04-13","sabato",{"$f":"IF('Daily Report'!H347=0,\"NO\",\"SI\")","v":"NO"},{"$f":"'Daily Report'!C347","v":0},"",""]
[null,"2024-04-14","domenica",{"$f":"IF('Daily Report'!H348=0,\"NO\",\"SI\")","v":"NO"},{"$f":"'Daily Report'!C348","v":0},"",""]
[null,"2024-04-15","lunedì",{"$f":"IF('Daily Report'!H349=0,\"NO\",\"SI\")","v":"NO"},{"$f":"'Daily Report'!C349","v":0},"",""]
[null,"2024-04-16","martedì",{"$f":"IF('Daily Report'!H350=0,\"NO\",\"SI\")","v":"NO"},{"$f":"'Daily Report'!C350","v":0},"",""]
[null,"2024-04-17","mercoledì",{"$f":"IF('Daily Report'!H351=0,\"NO\",\"SI\")","v":"NO"},{"$f":"'Daily Report'!C351","v":0},"",""]
[null,"2024-04-18","giovedì",{"$f":"IF('Daily Report'!H352=0,\"NO\",\"SI\")","v":"NO"},{"$f":"'Daily Report'!C352","v":0},"",""]
[null,"2024-04-19","venerdì",{"$f":"IF('Daily Report'!H353=0,\"NO\",\"SI\")","v":"NO"},{"$f":"'Daily Report'!C353","v":0},"",""]
[null,"2024-04-20","sabato",{"$f":"IF('Daily Report'!H354=0,\"NO\",\"SI\")","v":"NO"},{"$f":"'Daily Report'!C354","v":0},"",""]
[null,"2024-04-21","domenica",{"$f":"IF('Daily Report'!H355=0,\"NO\",\"SI\")","v":"NO"},{"$f":"'Daily Report'!C355","v":0},"",""]
[null,"2024-04-22","lunedì",{"$f":"IF('Daily Report'!H356=0,\"NO\",\"SI\")","v":"NO"},{"$f":"'Daily Report'!C356","v":0},"",""]
[null,"2024-04-23","martedì",{"$f":"IF('Daily Report'!H357=0,\"NO\",\"SI\")","v":"NO"},{"$f":"'Daily Report'!C357","v":0},"",""]
[null,"2024-04-24","mercoledì",{"$f":"IF('Daily Report'!H358=0,\"NO\",\"SI\")","v":"NO"},{"$f":"'Daily Report'!C358","v":0},"",""]
[null,"2024-04-25","giovedì",{"$f":"IF('Daily Report'!H359=0,\"NO\",\"SI\")","v":"NO"},{"$f":"'Daily Report'!C359","v":0},"",""]
[null,"2024-04-26","venerdì",{"$f":"IF('Daily Report'!H360=0,\"NO\",\"SI\")","v":"NO"},{"$f":"'Daily Report'!C360","v":0},"",""]
[null,"2024-04-27","sabato",{"$f":"IF('Daily Report'!H361=0,\"NO\",\"SI\")","v":"NO"},{"$f":"'Daily Report'!C361","v":0},"",""]
[null,"2024-04-28","domenica",{"$f":"IF('Daily Report'!H362=0,\"NO\",\"SI\")","v":"NO"},{"$f":"'Daily Report'!C362","v":0},"",""]
[null,"2024-04-29","lunedì",{"$f":"IF('Daily Report'!H363=0,\"NO\",\"SI\")","v":"NO"},{"$f":"'Daily Report'!C363","v":0},"",""]
[null,"2024-04-30","martedì",{"$f":"IF('Daily Report'!H364=0,\"NO\",\"SI\")","v":"NO"},{"$f":"'Daily Report'!C364","v":0},"",""]
[null,"2024-05-01","mercoledì",{"$f":"IF('Daily Report'!H365=0,\"NO\",\"SI\")","v":"NO"},{"$f":"'Daily Report'!C365","v":0},"",""]
[null,"2024-05-02","giovedì",{"$f":"IF('Daily Report'!H366=0,\"NO\",\"SI\")","v":"NO"},{"$f":"'Daily Report'!C366","v":0},"",""]
[null,"2024-05-03","venerdì",{"$f":"IF('Daily Report'!H367=0,\"NO\",\"SI\")","v":"NO"},{"$f":"'Daily Report'!C367","v":0},"",""]
[null,"2024-05-04","sabato",{"$f":"IF('Daily Report'!H368=0,\"NO\",\"SI\")","v":"NO"},{"$f":"'Daily Report'!C368","v":0},"",""]
[null,"2024-05-05","domenica",{"$f":"IF('Daily Report'!H369=0,\"NO\",\"SI\")","v":"NO"},{"$f":"'Daily Report'!C369","v":0},"",""]
[null,"2024-05-06","lunedì",{"$f":"IF('Daily Report'!H370=0,\"NO\",\"SI\")","v":"NO"},{"$f":"'Daily Report'!C370","v":0},"",""]
[null,"2024-05-07","martedì",{"$f":"IF('Daily Report'!H371=0,\"NO\",\"SI\")","v":"NO"},{"$f":"'Daily Report'!C371","v":0},"",""]
[null,"2024-05-08","mercoledì",{"$f":"IF('Daily Report'!H372=0,\"NO\",\"SI\")","v":"NO"},{"$f":"'Daily Report'!C372","v":0},"",""]
[null,"2024-05-09","giovedì",{"$f":"IF('Daily Report'!H373=0,\"NO\",\"SI\")","v":"NO"},{"$f":"'Daily Report'!C373","v":0},"",""]
[null,"2024-05-10","venerdì",{"$f":"IF('Daily Report'!H374=0,\"NO\",\"SI\")","v":"NO"},{"$f":"'Daily Report'!C374","v":0},"",""]
[null,"2024-05-11","sabato",{"$f":"IF('Daily Report'!H375=0,\"NO\",\"SI\")","v":"NO"},{"$f":"'Daily Report'!C375","v":0},"",""]
[null,"2024-05-12","domenica",{"$f":"IF('Daily Report'!H376=0,\"NO\",\"SI\")","v":"NO"},{"$f":"'Daily Report'!C376","v":0},"",""]
[null,"2024-05-13","lunedì",{"$f":"IF('Daily Report'!H377=0,\"NO\",\"SI\")","v":"NO"},{"$f":"'Daily Report'!C377","v":0},"",""]
[null,"2024-05-14","martedì",{"$f":"IF('Daily Report'!H378=0,\"NO\",\"SI\")","v":"NO"},{"$f":"'Daily Report'!C378","v":0},"",""]

{"sheet":"Pivot","index":11,"n_rows":19,"n_cols":8,"rows_kept":19,"cut":false,"hidden":true,"merged":[]}
[]
[]
["Profit_\nLoss"]
[44]
[]
[]
[null,null,null,null,"STRATEGIE","CONTATORE STRATEGIE","CONTATORE WIN STRATEGIE","% WIN STRATEGIE"]
[null,null,null,null,"BANCA PAREGGIO",{"$f":"COUNTIF('Daily Diary'!E:E,\"BANCA PAREGGIO\")","v":0},{"$f":"COUNTIFS('Daily Diary'!E:E,\"BANCA PAREGGIO\",'Daily Diary'!K:K,\"WIN\")","v":0},{"$f":"G8/F8","v":{"$error":"#DIV/0!"}}]
[null,null,null,null,"PUNTA SQ.CASA",{"$f":"COUNTIF('Daily Diary'!E:E,\"PUNTA SQ.CASA\")","v":0},{"$f":"COUNTIFS('Daily Diary'!E:E,\"PUNTA SQ.CASA\",'Daily Diary'!K:K,\"WIN\")","v":0},{"$f":"G9/F9","v":{"$error":"#DIV/0!"}}]
[null,null,null,null,"PUNTA SQ.OSPITE",{"$f":"COUNTIF('Daily Diary'!E:E,\"PUNTA SQ.OSPITE\")","v":0},{"$f":"COUNTIFS('Daily Diary'!E:E,\"PUNTA SQ.OSPITE\",'Daily Diary'!K:K,\"WIN\")","v":0},{"$error":"#DIV/0!"}]
[null,null,null,null,"BANCA SFAVORITA",{"$f":"COUNTIF('Daily Diary'!E:E,\"BANCA SFAVORITA\")","v":0},{"$f":"COUNTIFS('Daily Diary'!E:E,\"BANCA SFAVORITA\",'Daily Diary'!K:K,\"WIN\")","v":0},{"$error":"#DIV/0!"}]
[null,null,null,null,"PUNTA OVER",{"$f":"COUNTIF('Daily Diary'!E:E,\"PUNTA OVER\")","v":0},{"$f":"COUNTIFS('Daily Diary'!E:E,\"PUNTA OVER\",'Daily Diary'!K:K,\"WIN\")","v":0},{"$error":"#DIV/0!"}]
[null,null,null,null,"PUNTA UNDER",{"$f":"COUNTIF('Daily Diary'!E:E,\"PUNTA UNDER\")","v":0},{"$f":"COUNTIFS('Daily Diary'!E:E,\"PUNTA UNDER\",'Daily Diary'!K:K,\"WIN\")","v":0},{"$error":"#DIV/0!"}]
[null,null,null,null,"SCALPING",{"$f":"COUNTIF('Daily Diary'!E:E,\"SCALPING\")","v":0},{"$f":"COUNTIFS('Daily Diary'!E:E,\"SCALPING\",'Daily Diary'!K:K,\"WIN\")","v":0},{"$error":"#DIV/0!"}]
[null,null,null,null,"GT 90",{"$f":"COUNTIF('Daily Diary'!E:E,\"GT 90\")","v":0},{"$f":"COUNTIFS('Daily Diary'!E:E,\"GT 90\",'Daily Diary'!K:K,\"WIN\")","v":0},{"$error":"#DIV/0!"}]
[null,null,null,null,"GT 110",{"$f":"COUNTIF('Daily Diary'!E:E,\"GT 110\")","v":0},{"$f":"COUNTIFS('Daily Diary'!E:E,\"GT 110\",'Daily Diary'!K:K,\"WIN\")","v":0},{"$error":"#DIV/0!"}]
[null,null,null,null,"ALERT GOAL",{"$f":"COUNTIF('Daily Diary'!E:E,\"ALERT GOAL\")","v":0},{"$f":"COUNTIFS('Daily Diary'!E:E,\"ALERT GOAL\",'Daily Diary'!K:K,\"WIN\")","v":0},{"$error":"#DIV/0!"}]
[null,null,null,null,"DRAW NO BET",{"$f":"COUNTIF('Daily Diary'!E:E,\"DRAW NO BET\")","v":0},{"$f":"COUNTIFS('Daily Diary'!E:E,\"DRAW NO BET\",'Daily Diary'!K:K,\"WIN\")","v":0},{"$error":"#DIV/0!"}]
[null,null,null,null,"ALTRO",{"$f":"COUNTIF('Daily Diary'!E:E,\"ALTRO\")","v":0},{"$f":"COUNTIFS('Daily Diary'!E:E,\"ALTRO\",'Daily Diary'!K:K,\"WIN\")","v":0},{"$error":"#DIV/0!"}]

{"sheet":"Grafico Strategie Settimanali","index":12,"n_rows":378,"n_cols":52,"rows_kept":378,"cut":false,"hidden":true,"merged":[]}
[]
[]
[]
[]
[]
[]
[]
[]
[]
[null,null,"CONTATORE","CONTATORE","CONTATORE","CONTATORE","CONTATORE","CONTATORE","CONTATORE","CONTATORE","CONTATORE","CONTATORE","CONTATORE","CONTATORE"]
[null,null,null,null,null,null,null,null,null,null,null,null,null,null,null,null,null,null,null,null,null,null,null,null,null,null,"% WIN","% WIN","% WIN","% WIN","% WIN","% WIN","% WIN","% WIN","% WIN","% WIN","% WIN","% WIN",null,"SETTIMANE","BANCA PAREGGIO","PUNTA SQ.CASA","PUNTA SQ.OSPITE","BANCA SFAVORITA","PUNTA OVER","PUNTA UNDER","SCALPING","GT 90","GT 110","ALERT GOAL","DRAW NO BET","ALTRO"]
["Somma strategie","Giorni","BANCA PAREGGIO","PUNTA SQ.CASA","PUNTA SQ.OSPITE","BANCA SFAVORITA","PUNTA OVER","PUNTA UNDER","SCALPING","GT 90","GT 110","ALERT GOAL","DRAW NO BET","ALTRO","CONTATORE WIN BANCA PAREGGIO","CONTATORE WIN PUNTA SQ.CASA","CONTATORE WIN PUNTA SQ.OSPITE","CONTATORE WIN BANCA SFAVORITA","CONTATORE WIN PUNTA OVER","CONTATORE WIN PUNTA UNDER","CONTATORE WIN SCALPING","CONTATORE WIN GT 90","CONTATORE WIN GT 110","CONTATORE WIN ALERT GOAL","CONTATORE WIN DRAW NO BET","CONTATORE WIN ALTRO","BANCA PAREGGIO","PUNTA SQ.CASA","PUNTA SQ.OSPITE","BANCA SFAVORITA","PUNTA OVER","PUNTA UNDER","SCALPING","GT 90","GT 110","ALERT GOAL","DRAW NO BET","ALTRO",null,{"$f":"B13","v":"2023-05-15"},{"$f":"SUM(O13:O19)/SUM(C13:C19)","v":{"$error":"#DIV/0!"}},{"$f":"SUM(P13:P19)/SUM(D13:D19)","v":{"$error":"#DIV/0!"}},{"$f":"SUM(Q13:Q19)/SUM(E13:E19)","v":{"$error":"#DIV/0!"}},{"$error":"#DIV/0!"},{"$error":"#DIV/0!"},{"$error":"#DIV/0!"},{"$error":"#DIV/0!"},{"$error":"#DIV/0!"},{"$error":"#DIV/0!"},{"$error":"#DIV/0!"},{"$error":"#DIV/0!"},{"$error":"#DIV/0!"}]
[{"$f":"SUM(C13:N13)","v":0},{"$f":"'Daily Diary'!A3","v":"2023-05-15"},{"$f":"COUNTIFS('Daily Diary'!A:A,'Grafico Strategie Settimanali'!B13,'Daily Diary'!E:E,\"BANCA PAREGGIO\")","v":0},{"$f":"COUNTIFS('Daily Diary'!A:A,'Grafico Strategie Settimanali'!B13,'Daily Diary'!E:E,\"PUNTA SQ.CASA\")","v":0},{"$f":"COUNTIFS('Daily Diary'!A:A,'Grafico Strategie Settimanali'!B13,'Daily Diary'!E:E,\"PUNTA SQ.OSPITE\")","v":0},{"$f":"COUNTIFS('Daily Diary'!A:A,'Grafico Strategie Settimanali'!B13,'Daily Diary'!E:E,\"BANCA SFAVORITA\")","v":0},{"$f":"COUNTIFS('Daily Diary'!A:A,'Grafico Strategie Settimanali'!B13,'Daily Diary'!E:E,\"PUNTA OVER\")","v":0},{"$f":"COUNTIFS('Daily Diary'!A:A,'Grafico Strategie Settimanali'!B13,'Daily Diary'!E:E,\"PUNTA UNDER\")","v":0},{"$f":"COUNTIFS('Daily Diary'!A:A,'Grafico Strategie Settimanali'!B13,'Daily Diary'!E:E,\"SCALPING\")","v":0},{"$f":"COUNTIFS('Daily Diary'!A:A,'Grafico Strategie Settimanali'!B13,'Daily Diary'!E:E,\"GT90\")","v":0},{"$f":"COUNTIFS('Daily Diary'!A:A,'Grafico Strategie Settimanali'!B13,'Daily Diary'!E:E,\"GT110\")","v":0},{"$f":"COUNTIFS('Daily Diary'!A:A,'Grafico Strategie Settimanali'!B13,'Daily Diary'!E:E,\"ALERT GOAL\")","v":0},{"$f":"COUNTIFS('Daily Diary'!A:A,'Grafico Strategie Settimanali'!B13,'Daily Diary'!E:E,\"DRAW NO BET\")","v":0},{"$f":"COUNTIFS('Daily Diary'!A:A,'Grafico Strategie Settimanali'!B13,'Daily Diary'!E:E,\"ALTRO\")","v":0},{"$f":"COUNTIFS('Daily Diary'!A:A,'Grafico Strategie Settimanali'!B13,'Daily Diary'!E:E,\"BANCA PAREGGIO\",'Daily Diary'!E:E,\"BANCA PAREGGIO\",'Daily Diary'!K:K,\"WIN\")","v":0},{"$f":"COUNTIFS('Daily Diary'!A:A,'Grafico Strategie Settimanali'!B13,'Daily Diary'!E:E,\"PUNTA SQ.CASA\",'Daily Diary'!E:E,\"PUNTA SQ.CASA\",'Daily Diary'!K:K,\"WIN\")","v":0},{"$f":"COUNTIFS('Daily Diary'!A:A,'Grafico Strategie Settimanali'!B13,'Daily Diary'!E:E,\"PUNTA SQ.OSPITE\",'Daily Diary'!E:E,\"PUNTA SQ.OSPITE\",'Daily Diary'!K:K,\"WIN\")","v":0},{"$f":"COUNTIFS('Daily Diary'!A:A,'Grafico Strategie Settimanali'!B13,'Daily Diary'!E:E,\"BANCA SFAVORITA\",'Daily Diary'!E:E,\"BANCA SFAVORITA\",'Daily Diary'!K:K,\"WIN\")","v":0},{"$f":"COUNTIFS('Daily Diary'!A:A,'Grafico Strategie Settimanali'!B13,'Daily Diary'!E:E,\"PUNTA OVER\",'Daily Diary'!E:E,\"PUNTA OVER\",'Daily Diary'!K:K,\"WIN\")","v":0},{"$f":"COUNTIFS('Daily Diary'!A:A,'Grafico Strategie Settimanali'!B13,'Daily Diary'!E:E,\"PUNTA UNDER\",'Daily Diary'!E:E,\"PUNTA UNDER\",'Daily Diary'!K:K,\"WIN\")","v":0},{"$f":"COUNTIFS('Daily Diary'!A:A,'Grafico Strategie Settimanali'!B13,'Daily Diary'!E:E,\"SCALPING\",'Daily Diary'!E:E,\"SCALPING\",'Daily Diary'!K:K,\"WIN\")","v":0},{"$f":"COUNTIFS('Daily Diary'!A:A,'Grafico Strategie Settimanali'!B13,'Daily Diary'!E:E,\"GT 90\",'Daily Diary'!E:E,\"GT 90\",'Daily Diary'!K:K,\"WIN\")","v":0},{"$f":"COUNTIFS('Daily Diary'!A:A,'Grafico Strategie Settimanali'!B13,'Daily Diary'!E:E,\"GT 110\",'Daily Diary'!E:E,\"GT 110\",'Daily Diary'!K:K,\"WIN\")","v":0},{"$f":"COUNTIFS('Daily Diary'!A:A,'Grafico Strategie Settimanali'!B13,'Daily Diary'!E:E,\"ALERT GOAL\",'Daily Diary'!E:E,\"ALERT GOAL\",'Daily Diary'!K:K,\"WIN\")","v":0},{"$f":"COUNTIFS('Daily Diary'!A:A,'Grafico Strategie Settimanali'!B13,'Daily Diary'!E:E,\"DRAW NO BET\",'Daily Diary'!E:E,\"DRAW NO BET\",'Daily Diary'!K:K,\"WIN\")","v":0},{"$f":"COUNTIFS('Daily Diary'!A:A,'Grafico Strategie Settimanali'!B13,'Daily Diary'!E:E,\"ALTRO\",'Daily Diary'!E:E,\"ALTRO\",'Daily Diary'!K:K,\"WIN\")","v":0},{"$f":"O13/C13","v":{"$error":"#DIV/0!"}},{"$f":"P13/D13","v":{"$error":"#DIV/0!"}},{"$f":"Q13/E13","v":{"$error":"#DIV/0!"}},{"$error":"#DIV/0!"},{"$error":"#DIV/0!"},{"$error":"#DIV/0!"},{"$error":"#DIV/0!"},{"$error":"#DIV/0!"},{"$error":"#DIV/0!"},{"$error":"#DIV/0!"},{"$error":"#DIV/0!"},{"$error":"#DIV/0!"},null,{"$f":"AN12+7","v":"2023-05-22"},{"$f":"SUM(O20:O26)/SUM(C20:C26)","v":{"$error":"#DIV/0!"}},{"$f":"SUM(P20:P26)/SUM(D20:D26)","v":{"$error":"#DIV/0!"}},{"$f":"SUM(Q20:Q26)/SUM(E20:E26)","v":{"$error":"#DIV/0!"}},{"$error":"#DIV/0!"},{"$error":"#DIV/0!"},{"$error":"#DIV/0!"},{"$error":"#DIV/0!"},{"$error":"#DIV/0!"},{"$error":"#DIV/0!"},{"$error":"#DIV/0!"},{"$error":"#DIV/0!"},{"$error":"#DIV/0!"}]
[{"$f":"SUM(C14:N14)","v":0},{"$f":"B13+1","v":"2023-05-16"},{"$f":"COUNTIFS('Daily Diary'!A:A,'Grafico Strategie Settimanali'!B14,'Daily Diary'!E:E,\"BANCA PAREGGIO\")","v":0},{"$f":"COUNTIFS('Daily Diary'!A:A,'Grafico Strategie Settimanali'!B14,'Daily Diary'!E:E,\"PUNTA SQ.CASA\")","v":0},{"$f":"COUNTIFS('Daily Diary'!A:A,'Grafico Strategie Settimanali'!B14,'Daily Diary'!E:E,\"PUNTA SQ.OSPITE\")","v":0},{"$f":"COUNTIFS('Daily Diary'!A:A,'Grafico Strategie Settimanali'!B14,'Daily Diary'!E:E,\"BANCA SFAVORITA\")","v":0},{"$f":"COUNTIFS('Daily Diary'!A:A,'Grafico Strategie Settimanali'!B14,'Daily Diary'!E:E,\"PUNTA OVER\")","v":0},{"$f":"COUNTIFS('Daily Diary'!A:A,'Grafico Strategie Settimanali'!B14,'Daily Diary'!E:E,\"PUNTA UNDER\")","v":0},{"$f":"COUNTIFS('Daily Diary'!A:A,'Grafico Strategie Settimanali'!B14,'Daily Diary'!E:E,\"SCALPING\")","v":0},{"$f":"COUNTIFS('Daily Diary'!A:A,'Grafico Strategie Settimanali'!B14,'Daily Diary'!E:E,\"GT90\")","v":0},{"$f":"COUNTIFS('Daily Diary'!A:A,'Grafico Strategie Settimanali'!B14,'Daily Diary'!E:E,\"GT110\")","v":0},{"$f":"COUNTIFS('Daily Diary'!A:A,'Grafico Strategie Settimanali'!B14,'Daily Diary'!E:E,\"ALERT GOAL\")","v":0},{"$f":"COUNTIFS('Daily Diary'!A:A,'Grafico Strategie Settimanali'!B14,'Daily Diary'!E:E,\"DRAW NO BET\")","v":0},{"$f":"COUNTIFS('Daily Diary'!A:A,'Grafico Strategie Settimanali'!B14,'Daily Diary'!E:E,\"ALTRO\")","v":0},{"$f":"COUNTIFS('Daily Diary'!A:A,'Grafico Strategie Settimanali'!B14,'Daily Diary'!E:E,\"BANCA PAREGGIO\",'Daily Diary'!E:E,\"BANCA PAREGGIO\",'Daily Diary'!K:K,\"WIN\")","v":0},{"$f":"COUNTIFS('Daily Diary'!A:A,'Grafico Strategie Settimanali'!B14,'Daily Diary'!E:E,\"PUNTA SQ.CASA\",'Daily Diary'!E:E,\"PUNTA SQ.CASA\",'Daily Diary'!K:K,\"WIN\")","v":0},{"$f":"COUNTIFS('Daily Diary'!A:A,'Grafico Strategie Settimanali'!B14,'Daily Diary'!E:E,\"PUNTA SQ.OSPITE\",'Daily Diary'!E:E,\"PUNTA SQ.OSPITE\",'Daily Diary'!K:K,\"WIN\")","v":0},{"$f":"COUNTIFS('Daily Diary'!A:A,'Grafico Strategie Settimanali'!B14,'Daily Diary'!E:E,\"BANCA SFAVORITA\",'Daily Diary'!E:E,\"BANCA SFAVORITA\",'Daily Diary'!K:K,\"WIN\")","v":0},{"$f":"COUNTIFS('Daily Diary'!A:A,'Grafico Strategie Settimanali'!B14,'Daily Diary'!E:E,\"PUNTA OVER\",'Daily Diary'!E:E,\"PUNTA OVER\",'Daily Diary'!K:K,\"WIN\")","v":0},{"$f":"COUNTIFS('Daily Diary'!A:A,'Grafico Strategie Settimanali'!B14,'Daily Diary'!E:E,\"PUNTA UNDER\",'Daily Diary'!E:E,\"PUNTA UNDER\",'Daily Diary'!K:K,\"WIN\")","v":0},{"$f":"COUNTIFS('Daily Diary'!A:A,'Grafico Strategie Settimanali'!B14,'Daily Diary'!E:E,\"SCALPING\",'Daily Diary'!E:E,\"SCALPING\",'Daily Diary'!K:K,\"WIN\")","v":0},{"$f":"COUNTIFS('Daily Diary'!A:A,'Grafico Strategie Settimanali'!B14,'Daily Diary'!E:E,\"GT 90\",'Daily Diary'!E:E,\"GT 90\",'Daily Diary'!K:K,\"WIN\")","v":0},{"$f":"COUNTIFS('Daily Diary'!A:A,'Grafico Strategie Settimanali'!B14,'Daily Diary'!E:E,\"GT 110\",'Daily Diary'!E:E,\"GT 110\",'Daily Diary'!K:K,\"WIN\")","v":0},{"$f":"COUNTIFS('Daily Diary'!A:A,'Grafico Strategie Settimanali'!B14,'Daily Diary'!E:E,\"ALERT GOAL\",'Daily Diary'!E:E,\"ALERT GOAL\",'Daily Diary'!K:K,\"WIN\")","v":0},{"$f":"COUNTIFS('Daily Diary'!A:A,'Grafico Strategie Settimanali'!B14,'Daily Diary'!E:E,\"DRAW NO BET\",'Daily Diary'!E:E,\"DRAW NO BET\",'Daily Diary'!K:K,\"WIN\")","v":0},{"$f":"COUNTIFS('Daily Diary'!A:A,'Grafico Strategie Settimanali'!B14,'Daily Diary'!E:E,\"ALTRO\",'Daily Diary'!E:E,\"ALTRO\",'Daily Diary'!K:K,\"WIN\")","v":0},{"$f":"O14/C14","v":{"$error":"#DIV/0!"}},{"$f":"P14/D14","v":{"$error":"#DIV/0!"}},{"$error":"#DIV/0!"},{"$error":"#DIV/0!"},{"$error":"#DIV/0!"},{"$error":"#DIV/0!"},{"$error":"#DIV/0!"},{"$error":"#DIV/0!"},{"$error":"#DIV/0!"},{"$error":"#DIV/0!"},{"$error":"#DIV/0!"},{"$error":"#DIV/0!"},null,{"$f":"AN13+7","v":"2023-05-29"},{"$f":"SUM(O27:O33)/SUM(C27:C33)","v":{"$error":"#DIV/0!"}},{"$f":"SUM(P27:P33)/SUM(D27:D33)","v":{"$error":"#DIV/0!"}},{"$f":"SUM(Q27:Q33)/SUM(E27:E33)","v":{"$error":"#DIV/0!"}},{"$error":"#DIV/0!"},{"$error":"#DIV/0!"},{"$error":"#DIV/0!"},{"$error":"#DIV/0!"},{"$error":"#DIV/0!"},{"$error":"#DIV/0!"},{"$error":"#DIV/0!"},{"$error":"#DIV/0!"},{"$error":"#DIV/0!"}]
[{"$f":"SUM(C15:N15)","v":0},{"$f":"B14+1","v":"2023-05-17"},{"$f":"COUNTIFS('Daily Diary'!A:A,'Grafico Strategie Settimanali'!B15,'Daily Diary'!E:E,\"BANCA PAREGGIO\")","v":0},{"$f":"COUNTIFS('Daily Diary'!A:A,'Grafico Strategie Settimanali'!B15,'Daily Diary'!E:E,\"PUNTA SQ.CASA\")","v":0},{"$f":"COUNTIFS('Daily Diary'!A:A,'Grafico Strategie Settimanali'!B15,'Daily Diary'!E:E,\"PUNTA SQ.OSPITE\")","v":0},{"$f":"COUNTIFS('Daily Diary'!A:A,'Grafico Strategie Settimanali'!B15,'Daily Diary'!E:E,\"BANCA SFAVORITA\")","v":0},{"$f":"COUNTIFS('Daily Diary'!A:A,'Grafico Strategie Settimanali'!B15,'Daily Diary'!E:E,\"PUNTA OVER\")","v":0},{"$f":"COUNTIFS('Daily Diary'!A:A,'Grafico Strategie Settimanali'!B15,'Daily Diary'!E:E,\"PUNTA UNDER\")","v":0},{"$f":"COUNTIFS('Daily Diary'!A:A,'Grafico Strategie Settimanali'!B15,'Daily Diary'!E:E,\"SCALPING\")","v":0},{"$f":"COUNTIFS('Daily Diary'!A:A,'Grafico Strategie Settimanali'!B15,'Daily Diary'!E:E,\"GT90\")","v":0},{"$f":"COUNTIFS('Daily Diary'!A:A,'Grafico Strategie Settimanali'!B15,'Daily Diary'!E:E,\"GT110\")","v":0},{"$f":"COUNTIFS('Daily Diary'!A:A,'Grafico Strategie Settimanali'!B15,'Daily Diary'!E:E,\"ALERT GOAL\")","v":0},{"$f":"COUNTIFS('Daily Diary'!A:A,'Grafico Strategie Settimanali'!B15,'Daily Diary'!E:E,\"DRAW NO BET\")","v":0},{"$f":"COUNTIFS('Daily Diary'!A:A,'Grafico Strategie Settimanali'!B15,'Daily Diary'!E:E,\"ALTRO\")","v":0},{"$f":"COUNTIFS('Daily Diary'!A:A,'Grafico Strategie Settimanali'!B15,'Daily Diary'!E:E,\"BANCA PAREGGIO\",'Daily Diary'!E:E,\"BANCA PAREGGIO\",'Daily Diary'!K:K,\"WIN\")","v":0},{"$f":"COUNTIFS('Daily Diary'!A:A,'Grafico Strategie Settimanali'!B15,'Daily Diary'!E:E,\"PUNTA SQ.CASA\",'Daily Diary'!E:E,\"PUNTA SQ.CASA\",'Daily Diary'!K:K,\"WIN\")","v":0},{"$f":"COUNTIFS('Daily Diary'!A:A,'Grafico Strategie Settimanali'!B15,'Daily Diary'!E:E,\"PUNTA SQ.OSPITE\",'Daily Diary'!E:E,\"PUNTA SQ.OSPITE\",'Daily Diary'!K:K,\"WIN\")","v":0},{"$f":"COUNTIFS('Daily Diary'!A:A,'Grafico Strategie Settimanali'!B15,'Daily Diary'!E:E,\"BANCA SFAVORITA\",'Daily Diary'!E:E,\"BANCA SFAVORITA\",'Daily Diary'!K:K,\"WIN\")","v":0},{"$f":"COUNTIFS('Daily Diary'!A:A,'Grafico Strategie Settimanali'!B15,'Daily Diary'!E:E,\"PUNTA OVER\",'Daily Diary'!E:E,\"PUNTA OVER\",'Daily Diary'!K:K,\"WIN\")","v":0},{"$f":"COUNTIFS('Daily Diary'!A:A,'Grafico Strategie Settimanali'!B15,'Daily Diary'!E:E,\"PUNTA UNDER\",'Daily Diary'!E:E,\"PUNTA UNDER\",'Daily Diary'!K:K,\"WIN\")","v":0},{"$f":"COUNTIFS('Daily Diary'!A:A,'Grafico Strategie Settimanali'!B15,'Daily Diary'!E:E,\"SCALPING\",'Daily Diary'!E:E,\"SCALPING\",'Daily Diary'!K:K,\"WIN\")","v":0},{"$f":"COUNTIFS('Daily Diary'!A:A,'Grafico Strategie Settimanali'!B15,'Daily Diary'!E:E,\"GT 90\",'Daily Diary'!E:E,\"GT 90\",'Daily Diary'!K:K,\"WIN\")","v":0},{"$f":"COUNTIFS('Daily Diary'!A:A,'Grafico Strategie Settimanali'!B15,'Daily Diary'!E:E,\"GT 110\",'Daily Diary'!E:E,\"GT 110\",'Daily Diary'!K:K,\"WIN\")","v":0},{"$f":"COUNTIFS('Daily Diary'!A:A,'Grafico Strategie Settimanali'!B15,'Daily Diary'!E:E,\"ALERT GOAL\",'Daily Diary'!E:E,\"ALERT GOAL\",'Daily Diary'!K:K,\"WIN\")","v":0},{"$f":"COUNTIFS('Daily Diary'!A:A,'Grafico Strategie Settimanali'!B15,'Daily Diary'!E:E,\"DRAW NO BET\",'Daily Diary'!E:E,\"DRAW NO BET\",'Daily Diary'!K:K,\"WIN\")","v":0},{"$f":"COUNTIFS('Daily Diary'!A:A,'Grafico Strategie Settimanali'!B15,'Daily Diary'!E:E,\"ALTRO\",'Daily Diary'!E:E,\"ALTRO\",'Daily Diary'!K:K,\"WIN\")","v":0},{"$error":"#DIV/0!"},{"$error":"#DIV/0!"},{"$error":"#DIV/0!"},{"$error":"#DIV/0!"},{"$error":"#DIV/0!"},{"$error":"#DIV/0!"},{"$error":"#DIV/0!"},{"$error":"#DIV/0!"},{"$error":"#DIV/0!"},{"$error":"#DIV/0!"},{"$error":"#DIV/0!"},{"$error":"#DIV/0!"},null,{"$f":"AN14+7","v":"2023-06-05"},{"$f":"SUM(O34:O40)/SUM(C34:C40)","v":{"$error":"#DIV/0!"}},{"$f":"SUM(P34:P40)/SUM(D34:D40)","v":{"$error":"#DIV/0!"}},{"$f":"SUM(Q34:Q40)/SUM(E34:E40)","v":{"$error":"#DIV/0!"}},{"$error":"#DIV/0!"},{"$error":"#DIV/0!"},{"$error":"#DIV/0!"},{"$error":"#DIV/0!"},{"$error":"#DIV/0!"},{"$error":"#DIV/0!"},{"$error":"#DIV/0!"},{"$error":"#DIV/0!"},{"$error":"#DIV/0!"}]
[0,"2023-05-18",{"$f":"COUNTIFS('Daily Diary'!A:A,'Grafico Strategie Settimanali'!B16,'Daily Diary'!E:E,\"BANCA PAREGGIO\")","v":0},{"$f":"COUNTIFS('Daily Diary'!A:A,'Grafico Strategie Settimanali'!B16,'Daily Diary'!E:E,\"PUNTA SQ.CASA\")","v":0},{"$f":"COUNTIFS('Daily Diary'!A:A,'Grafico Strategie Settimanali'!B16,'Daily Diary'!E:E,\"PUNTA SQ.OSPITE\")","v":0},{"$f":"COUNTIFS('Daily Diary'!A:A,'Grafico Strategie Settimanali'!B16,'Daily Diary'!E:E,\"BANCA SFAVORITA\")","v":0},{"$f":"COUNTIFS('Daily Diary'!A:A,'Grafico Strategie Settimanali'!B16,'Daily Diary'!E:E,\"PUNTA OVER\")","v":0},{"$f":"COUNTIFS('Daily Diary'!A:A,'Grafico Strategie Settimanali'!B16,'Daily Diary'!E:E,\"PUNTA UNDER\")","v":0},{"$f":"COUNTIFS('Daily Diary'!A:A,'Grafico Strategie Settimanali'!B16,'Daily Diary'!E:E,\"SCALPING\")","v":0},{"$f":"COUNTIFS('Daily Diary'!A:A,'Grafico Strategie Settimanali'!B16,'Daily Diary'!E:E,\"GT90\")","v":0},{"$f":"COUNTIFS('Daily Diary'!A:A,'Grafico Strategie Settimanali'!B16,'Daily Diary'!E:E,\"GT110\")","v":0},{"$f":"COUNTIFS('Daily Diary'!A:A,'Grafico Strategie Settimanali'!B16,'Daily Diary'!E:E,\"ALERT GOAL\")","v":0},{"$f":"COUNTIFS('Daily Diary'!A:A,'Grafico Strategie Settimanali'!B16,'Daily Diary'!E:E,\"DRAW NO BET\")","v":0},{"$f":"COUNTIFS('Daily Diary'!A:A,'Grafico Strategie Settimanali'!B16,'Daily Diary'!E:E,\"ALTRO\")","v":0},{"$f":"COUNTIFS('Daily Diary'!A:A,'Grafico Strategie Settimanali'!B16,'Daily Diary'!E:E,\"BANCA PAREGGIO\",'Daily Diary'!E:E,\"BANCA PAREGGIO\",'Daily Diary'!K:K,\"WIN\")","v":0},{"$f":"COUNTIFS('Daily Diary'!A:A,'Grafico Strategie Settimanali'!B16,'Daily Diary'!E:E,\"PUNTA SQ.CASA\",'Daily Diary'!E:E,\"PUNTA SQ.CASA\",'Daily Diary'!K:K,\"WIN\")","v":0},{"$f":"COUNTIFS('Daily Diary'!A:A,'Grafico Strategie Settimanali'!B16,'Daily Diary'!E:E,\"PUNTA SQ.OSPITE\",'Daily Diary'!E:E,\"PUNTA SQ.OSPITE\",'Daily Diary'!K:K,\"WIN\")","v":0},{"$f":"COUNTIFS('Daily Diary'!A:A,'Grafico Strategie Settimanali'!B16,'Daily Diary'!E:E,\"BANCA SFAVORITA\",'Daily Diary'!E:E,\"BANCA SFAVORITA\",'Daily Diary'!K:K,\"WIN\")","v":0},{"$f":"COUNTIFS('Daily Diary'!A:A,'Grafico Strategie Settimanali'!B16,'Daily Diary'!E:E,\"PUNTA OVER\",'Daily Diary'!E:E,\"PUNTA OVER\",'Daily Diary'!K:K,\"WIN\")","v":0},{"$f":"COUNTIFS('Daily Diary'!A:A,'Grafico Strategie Settimanali'!B16,'Daily Diary'!E:E,\"PUNTA UNDER\",'Daily Diary'!E:E,\"PUNTA UNDER\",'Daily Diary'!K:K,\"WIN\")","v":0},{"$f":"COUNTIFS('Daily Diary'!A:A,'Grafico Strategie Settimanali'!B16,'Daily Diary'!E:E,\"SCALPING\",'Daily Diary'!E:E,\"SCALPING\",'Daily Diary'!K:K,\"WIN\")","v":0},{"$f":"COUNTIFS('Daily Diary'!A:A,'Grafico Strategie Settimanali'!B16,'Daily Diary'!E:E,\"GT 90\",'Daily Diary'!E:E,\"GT 90\",'Daily Diary'!K:K,\"WIN\")","v":0},{"$f":"COUNTIFS('Daily Diary'!A:A,'Grafico Strategie Settimanali'!B16,'Daily Diary'!E:E,\"GT 110\",'Daily Diary'!E:E,\"GT 110\",'Daily Diary'!K:K,\"WIN\")","v":0},{"$f":"COUNTIFS('Daily Diary'!A:A,'Grafico Strategie Settimanali'!B16,'Daily Diary'!E:E,\"ALERT GOAL\",'Daily Diary'!E:E,\"ALERT GOAL\",'Daily Diary'!K:K,\"WIN\")","v":0},{"$f":"COUNTIFS('Daily Diary'!A:A,'Grafico Strategie Settimanali'!B16,'Daily Diary'!E:E,\"DRAW NO BET\",'Daily Diary'!E:E,\"DRAW NO BET\",'Daily Diary'!K:K,\"WIN\")","v":0},{"$f":"COUNTIFS('Daily Diary'!A:A,'Grafico Strategie Settimanali'!B16,'Daily Diary'!E:E,\"ALTRO\",'Daily Diary'!E:E,\"ALTRO\",'Daily Diary'!K:K,\"WIN\")","v":0},{"$error":"#DIV/0!"},{"$error":"#DIV/0!"},{"$error":"#DIV/0!"},{"$error":"#DIV/0!"},{"$error":"#DIV/0!"},{"$error":"#DIV/0!"},{"$error":"#DIV/0!"},{"$error":"#DIV/0!"},{"$error":"#DIV/0!"},{"$error":"#DIV/0!"},{"$error":"#DIV/0!"},{"$error":"#DIV/0!"},null,{"$f":"AN15+7","v":"2023-06-12"},{"$f":"SUM(O41:O47)/SUM(C41:C47)","v":{"$error":"#DIV/0!"}},{"$f":"SUM(P41:P47)/SUM(D41:D47)","v":{"$error":"#DIV/0!"}},{"$f":"SUM(Q41:Q47)/SUM(E41:E47)","v":{"$error":"#DIV/0!"}},{"$error":"#DIV/0!"},{"$error":"#DIV/0!"},{"$error":"#DIV/0!"},{"$error":"#DIV/0!"},{"$error":"#DIV/0!"},{"$error":"#DIV/0!"},{"$error":"#DIV/0!"},{"$error":"#DIV/0!"},{"$error":"#DIV/0!"}]
[0,"2023-05-19",{"$f":"COUNTIFS('Daily Diary'!A:A,'Grafico Strategie Settimanali'!B17,'Daily Diary'!E:E,\"BANCA PAREGGIO\")","v":0},{"$f":"COUNTIFS('Daily Diary'!A:A,'Grafico Strategie Settimanali'!B17,'Daily Diary'!E:E,\"PUNTA SQ.CASA\")","v":0},{"$f":"COUNTIFS('Daily Diary'!A:A,'Grafico Strategie Settimanali'!B17,'Daily Diary'!E:E,\"PUNTA SQ.OSPITE\")","v":0},{"$f":"COUNTIFS('Daily Diary'!A:A,'Grafico Strategie Settimanali'!B17,'Daily Diary'!E:E,\"BANCA SFAVORITA\")","v":0},{"$f":"COUNTIFS('Daily Diary'!A:A,'Grafico Strategie Settimanali'!B17,'Daily Diary'!E:E,\"PUNTA OVER\")","v":0},{"$f":"COUNTIFS('Daily Diary'!A:A,'Grafico Strategie Settimanali'!B17,'Daily Diary'!E:E,\"PUNTA UNDER\")","v":0},{"$f":"COUNTIFS('Daily Diary'!A:A,'Grafico Strategie Settimanali'!B17,'Daily Diary'!E:E,\"SCALPING\")","v":0},{"$f":"COUNTIFS('Daily Diary'!A:A,'Grafico Strategie Settimanali'!B17,'Daily Diary'!E:E,\"GT90\")","v":0},{"$f":"COUNTIFS('Daily Diary'!A:A,'Grafico Strategie Settimanali'!B17,'Daily Diary'!E:E,\"GT110\")","v":0},{"$f":"COUNTIFS('Daily Diary'!A:A,'Grafico Strategie Settimanali'!B17,'Daily Diary'!E:E,\"ALERT GOAL\")","v":0},{"$f":"COUNTIFS('Daily Diary'!A:A,'Grafico Strategie Settimanali'!B17,'Daily Diary'!E:E,\"DRAW NO BET\")","v":0},{"$f":"COUNTIFS('Daily Diary'!A:A,'Grafico Strategie Settimanali'!B17,'Daily Diary'!E:E,\"ALTRO\")","v":0},{"$f":"COUNTIFS('Daily Diary'!A:A,'Grafico Strategie Settimanali'!B17,'Daily Diary'!E:E,\"BANCA PAREGGIO\",'Daily Diary'!E:E,\"BANCA PAREGGIO\",'Daily Diary'!K:K,\"WIN\")","v":0},{"$f":"COUNTIFS('Daily Diary'!A:A,'Grafico Strategie Settimanali'!B17,'Daily Diary'!E:E,\"PUNTA SQ.CASA\",'Daily Diary'!E:E,\"PUNTA SQ.CASA\",'Daily Diary'!K:K,\"WIN\")","v":0},{"$f":"COUNTIFS('Daily Diary'!A:A,'Grafico Strategie Settimanali'!B17,'Daily Diary'!E:E,\"PUNTA SQ.OSPITE\",'Daily Diary'!E:E,\"PUNTA SQ.OSPITE\",'Daily Diary'!K:K,\"WIN\")","v":0},{"$f":"COUNTIFS('Daily Diary'!A:A,'Grafico Strategie Settimanali'!B17,'Daily Diary'!E:E,\"BANCA SFAVORITA\",'Daily Diary'!E:E,\"BANCA SFAVORITA\",'Daily Diary'!K:K,\"WIN\")","v":0},{"$f":"COUNTIFS('Daily Diary'!A:A,'Grafico Strategie Settimanali'!B17,'Daily Diary'!E:E,\"PUNTA OVER\",'Daily Diary'!E:E,\"PUNTA OVER\",'Daily Diary'!K:K,\"WIN\")","v":0},{"$f":"COUNTIFS('Daily Diary'!A:A,'Grafico Strategie Settimanali'!B17,'Daily Diary'!E:E,\"PUNTA UNDER\",'Daily Diary'!E:E,\"PUNTA UNDER\",'Daily Diary'!K:K,\"WIN\")","v":0},{"$f":"COUNTIFS('Daily Diary'!A:A,'Grafico Strategie Settimanali'!B17,'Daily Diary'!E:E,\"SCALPING\",'Daily Diary'!E:E,\"SCALPING\",'Daily Diary'!K:K,\"WIN\")","v":0},{"$f":"COUNTIFS('Daily Diary'!A:A,'Grafico Strategie Settimanali'!B17,'Daily Diary'!E:E,\"GT 90\",'Daily Diary'!E:E,\"GT 90\",'Daily Diary'!K:K,\"WIN\")","v":0},{"$f":"COUNTIFS('Daily Diary'!A:A,'Grafico Strategie Settimanali'!B17,'Daily Diary'!E:E,\"GT 110\",'Daily Diary'!E:E,\"GT 110\",'Daily Diary'!K:K,\"WIN\")","v":0},{"$f":"COUNTIFS('Daily Diary'!A:A,'Grafico Strategie Settimanali'!B17,'Daily Diary'!E:E,\"ALERT GOAL\",'Daily Diary'!E:E,\"ALERT GOAL\",'Daily Diary'!K:K,\"WIN\")","v":0},{"$f":"COUNTIFS('Daily Diary'!A:A,'Grafico Strategie Settimanali'!B17,'Daily Diary'!E:E,\"DRAW NO BET\",'Daily Diary'!E:E,\"DRAW NO BET\",'Daily Diary'!K:K,\"WIN\")","v":0},{"$f":"COUNTIFS('Daily Diary'!A:A,'Grafico Strategie Settimanali'!B17,'Daily Diary'!E:E,\"ALTRO\",'Daily Diary'!E:E,\"ALTRO\",'Daily Diary'!K:K,\"WIN\")","v":0},{"$error":"#DIV/0!"},{"$error":"#DIV/0!"},{"$error":"#DIV/0!"},{"$error":"#DIV/0!"},{"$error":"#DIV/0!"},{"$error":"#DIV/0!"},{"$error":"#DIV/0!"},{"$error":"#DIV/0!"},{"$error":"#DIV/0!"},{"$error":"#DIV/0!"},{"$error":"#DIV/0!"},{"$error":"#DIV/0!"},null,"2023-06-19",{"$f":"SUM(O48:O54)/SUM(C48:C54)","v":{"$error":"#DIV/0!"}},{"$f":"SUM(P48:P54)/SUM(D48:D54)","v":{"$error":"#DIV/0!"}},{"$f":"SUM(Q48:Q54)/SUM(E48:E54)","v":{"$error":"#DIV/0!"}},{"$error":"#DIV/0!"},{"$error":"#DIV/0!"},{"$error":"#DIV/0!"},{"$error":"#DIV/0!"},{"$error":"#DIV/0!"},{"$error":"#DIV/0!"},{"$error":"#DIV/0!"},{"$error":"#DIV/0!"},{"$error":"#DIV/0!"}]
[0,"2023-05-20",{"$f":"COUNTIFS('Daily Diary'!A:A,'Grafico Strategie Settimanali'!B18,'Daily Diary'!E:E,\"BANCA PAREGGIO\")","v":0},{"$f":"COUNTIFS('Daily Diary'!A:A,'Grafico Strategie Settimanali'!B18,'Daily Diary'!E:E,\"PUNTA SQ.CASA\")","v":0},{"$f":"COUNTIFS('Daily Diary'!A:A,'Grafico Strategie Settimanali'!B18,'Daily Diary'!E:E,\"PUNTA SQ.OSPITE\")","v":0},{"$f":"COUNTIFS('Daily Diary'!A:A,'Grafico Strategie Settimanali'!B18,'Daily Diary'!E:E,\"BANCA SFAVORITA\")","v":0},{"$f":"COUNTIFS('Daily Diary'!A:A,'Grafico Strategie Settimanali'!B18,'Daily Diary'!E:E,\"PUNTA OVER\")","v":0},{"$f":"COUNTIFS('Daily Diary'!A:A,'Grafico Strategie Settimanali'!B18,'Daily Diary'!E:E,\"PUNTA UNDER\")","v":0},{"$f":"COUNTIFS('Daily Diary'!A:A,'Grafico Strategie Settimanali'!B18,'Daily Diary'!E:E,\"SCALPING\")","v":0},{"$f":"COUNTIFS('Daily Diary'!A:A,'Grafico Strategie Settimanali'!B18,'Daily Diary'!E:E,\"GT90\")","v":0},{"$f":"COUNTIFS('Daily Diary'!A:A,'Grafico Strategie Settimanali'!B18,'Daily Diary'!E:E,\"GT110\")","v":0},{"$f":"COUNTIFS('Daily Diary'!A:A,'Grafico Strategie Settimanali'!B18,'Daily Diary'!E:E,\"ALERT GOAL\")","v":0},{"$f":"COUNTIFS('Daily Diary'!A:A,'Grafico Strategie Settimanali'!B18,'Daily Diary'!E:E,\"DRAW NO BET\")","v":0},{"$f":"COUNTIFS('Daily Diary'!A:A,'Grafico Strategie Settimanali'!B18,'Daily Diary'!E:E,\"ALTRO\")","v":0},{"$f":"COUNTIFS('Daily Diary'!A:A,'Grafico Strategie Settimanali'!B18,'Daily Diary'!E:E,\"BANCA PAREGGIO\",'Daily Diary'!E:E,\"BANCA PAREGGIO\",'Daily Diary'!K:K,\"WIN\")","v":0},{"$f":"COUNTIFS('Daily Diary'!A:A,'Grafico Strategie Settimanali'!B18,'Daily Diary'!E:E,\"PUNTA SQ.CASA\",'Daily Diary'!E:E,\"PUNTA SQ.CASA\",'Daily Diary'!K:K,\"WIN\")","v":0},{"$f":"COUNTIFS('Daily Diary'!A:A,'Grafico Strategie Settimanali'!B18,'Daily Diary'!E:E,\"PUNTA SQ.OSPITE\",'Daily Diary'!E:E,\"PUNTA SQ.OSPITE\",'Daily Diary'!K:K,\"WIN\")","v":0},{"$f":"COUNTIFS('Daily Diary'!A:A,'Grafico Strategie Settimanali'!B18,'Daily Diary'!E:E,\"BANCA SFAVORITA\",'Daily Diary'!E:E,\"BANCA SFAVORITA\",'Daily Diary'!K:K,\"WIN\")","v":0},{"$f":"COUNTIFS('Daily Diary'!A:A,'Grafico Strategie Settimanali'!B18,'Daily Diary'!E:E,\"PUNTA OVER\",'Daily Diary'!E:E,\"PUNTA OVER\",'Daily Diary'!K:K,\"WIN\")","v":0},{"$f":"COUNTIFS('Daily Diary'!A:A,'Grafico Strategie Settimanali'!B18,'Daily Diary'!E:E,\"PUNTA UNDER\",'Daily Diary'!E:E,\"PUNTA UNDER\",'Daily Diary'!K:K,\"WIN\")","v":0},{"$f":"COUNTIFS('Daily Diary'!A:A,'Grafico Strategie Settimanali'!B18,'Daily Diary'!E:E,\"SCALPING\",'Daily Diary'!E:E,\"SCALPING\",'Daily Diary'!K:K,\"WIN\")","v":0},{"$f":"COUNTIFS('Daily Diary'!A:A,'Grafico Strategie Settimanali'!B18,'Daily Diary'!E:E,\"GT 90\",'Daily Diary'!E:E,\"GT 90\",'Daily Diary'!K:K,\"WIN\")","v":0},{"$f":"COUNTIFS('Daily Diary'!A:A,'Grafico Strategie Settimanali'!B18,'Daily Diary'!E:E,\"GT 110\",'Daily Diary'!E:E,\"GT 110\",'Daily Diary'!K:K,\"WIN\")","v":0},{"$f":"COUNTIFS('Daily Diary'!A:A,'Grafico Strategie Settimanali'!B18,'Daily Diary'!E:E,\"ALERT GOAL\",'Daily Diary'!E:E,\"ALERT GOAL\",'Daily Diary'!K:K,\"WIN\")","v":0},{"$f":"COUNTIFS('Daily Diary'!A:A,'Grafico Strategie Settimanali'!B18,'Daily Diary'!E:E,\"DRAW NO BET\",'Daily Diary'!E:E,\"DRAW NO BET\",'Daily Diary'!K:K,\"WIN\")","v":0},{"$f":"COUNTIFS('Daily Diary'!A:A,'Grafico Strategie Settimanali'!B18,'Daily Diary'!E:E,\"ALTRO\",'Daily Diary'!E:E,\"ALTRO\",'Daily Diary'!K:K,\"WIN\")","v":0},{"$error":"#DIV/0!"},{"$error":"#DIV/0!"},{"$error":"#DIV/0!"},{"$error":"#DIV/0!"},{"$error":"#DIV/0!"},{"$error":"#DIV/0!"},{"$error":"#DIV/0!"},{"$error":"#DIV/0!"},{"$error":"#DIV/0!"},{"$error":"#DIV/0!"},{"$error":"#DIV/0!"},{"$error":"#DIV/0!"},null,"2023-06-26",{"$f":"SUM(O55:O61)/SUM(C55:C61)","v":{"$error":"#DIV/0!"}},{"$f":"SUM(P55:P61)/SUM(D55:D61)","v":{"$error":"#DIV/0!"}},{"$f":"SUM(Q55:Q61)/SUM(E55:E61)","v":{"$error":"#DIV/0!"}},{"$error":"#DIV/0!"},{"$error":"#DIV/0!"},{"$error":"#DIV/0!"},{"$error":"#DIV/0!"},{"$error":"#DIV/0!"},{"$error":"#DIV/0!"},{"$error":"#DIV/0!"},{"$error":"#DIV/0!"},{"$error":"#DIV/0!"}]
[0,"2023-05-21",{"$f":"COUNTIFS('Daily Diary'!A:A,'Grafico Strategie Settimanali'!B19,'Daily Diary'!E:E,\"BANCA PAREGGIO\")","v":0},{"$f":"COUNTIFS('Daily Diary'!A:A,'Grafico Strategie Settimanali'!B19,'Daily Diary'!E:E,\"PUNTA SQ.CASA\")","v":0},{"$f":"COUNTIFS('Daily Diary'!A:A,'Grafico Strategie Settimanali'!B19,'Daily Diary'!E:E,\"PUNTA SQ.OSPITE\")","v":0},{"$f":"COUNTIFS('Daily Diary'!A:A,'Grafico Strategie Settimanali'!B19,'Daily Diary'!E:E,\"BANCA SFAVORITA\")","v":0},{"$f":"COUNTIFS('Daily Diary'!A:A,'Grafico Strategie Settimanali'!B19,'Daily Diary'!E:E,\"PUNTA OVER\")","v":0},{"$f":"COUNTIFS('Daily Diary'!A:A,'Grafico Strategie Settimanali'!B19,'Daily Diary'!E:E,\"PUNTA UNDER\")","v":0},{"$f":"COUNTIFS('Daily Diary'!A:A,'Grafico Strategie Settimanali'!B19,'Daily Diary'!E:E,\"SCALPING\")","v":0},{"$f":"COUNTIFS('Daily Diary'!A:A,'Grafico Strategie Settimanali'!B19,'Daily Diary'!E:E,\"GT90\")","v":0},{"$f":"COUNTIFS('Daily Diary'!A:A,'Grafico Strategie Settimanali'!B19,'Daily Diary'!E:E,\"GT110\")","v":0},{"$f":"COUNTIFS('Daily Diary'!A:A,'Grafico Strategie Settimanali'!B19,'Daily Diary'!E:E,\"ALERT GOAL\")","v":0},{"$f":"COUNTIFS('Daily Diary'!A:A,'Grafico Strategie Settimanali'!B19,'Daily Diary'!E:E,\"DRAW NO BET\")","v":0},{"$f":"COUNTIFS('Daily Diary'!A:A,'Grafico Strategie Settimanali'!B19,'Daily Diary'!E:E,\"ALTRO\")","v":0},{"$f":"COUNTIFS('Daily Diary'!A:A,'Grafico Strategie Settimanali'!B19,'Daily Diary'!E:E,\"BANCA PAREGGIO\",'Daily Diary'!E:E,\"BANCA PAREGGIO\",'Daily Diary'!K:K,\"WIN\")","v":0},{"$f":"COUNTIFS('Daily Diary'!A:A,'Grafico Strategie Settimanali'!B19,'Daily Diary'!E:E,\"PUNTA SQ.CASA\",'Daily Diary'!E:E,\"PUNTA SQ.CASA\",'Daily Diary'!K:K,\"WIN\")","v":0},{"$f":"COUNTIFS('Daily Diary'!A:A,'Grafico Strategie Settimanali'!B19,'Daily Diary'!E:E,\"PUNTA SQ.OSPITE\",'Daily Diary'!E:E,\"PUNTA SQ.OSPITE\",'Daily Diary'!K:K,\"WIN\")","v":0},{"$f":"COUNTIFS('Daily Diary'!A:A,'Grafico Strategie Settimanali'!B19,'Daily Diary'!E:E,\"BANCA SFAVORITA\",'Daily Diary'!E:E,\"BANCA SFAVORITA\",'Daily Diary'!K:K,\"WIN\")","v":0},{"$f":"COUNTIFS('Daily Diary'!A:A,'Grafico Strategie Settimanali'!B19,'Daily Diary'!E:E,\"PUNTA OVER\",'Daily Diary'!E:E,\"PUNTA OVER\",'Daily Diary'!K:K,\"WIN\")","v":0},{"$f":"COUNTIFS('Daily Diary'!A:A,'Grafico Strategie Settimanali'!B19,'Daily Diary'!E:E,\"PUNTA UNDER\",'Daily Diary'!E:E,\"PUNTA UNDER\",'Daily Diary'!K:K,\"WIN\")","v":0},{"$f":"COUNTIFS('Daily Diary'!A:A,'Grafico Strategie Settimanali'!B19,'Daily Diary'!E:E,\"SCALPING\",'Daily Diary'!E:E,\"SCALPING\",'Daily Diary'!K:K,\"WIN\")","v":0},{"$f":"COUNTIFS('Daily Diary'!A:A,'Grafico Strategie Settimanali'!B19,'Daily Diary'!E:E,\"GT 90\",'Daily Diary'!E:E,\"GT 90\",'Daily Diary'!K:K,\"WIN\")","v":0},{"$f":"COUNTIFS('Daily Diary'!A:A,'Grafico Strategie Settimanali'!B19,'Daily Diary'!E:E,\"GT 110\",'Daily Diary'!E:E,\"GT 110\",'Daily Diary'!K:K,\"WIN\")","v":0},{"$f":"COUNTIFS('Daily Diary'!A:A,'Grafico Strategie Settimanali'!B19,'Daily Diary'!E:E,\"ALERT GOAL\",'Daily Diary'!E:E,\"ALERT GOAL\",'Daily Diary'!K:K,\"WIN\")","v":0},{"$f":"COUNTIFS('Daily Diary'!A:A,'Grafico Strategie Settimanali'!B19,'Daily Diary'!E:E,\"DRAW NO BET\",'Daily Diary'!E:E,\"DRAW NO BET\",'Daily Diary'!K:K,\"WIN\")","v":0},{"$f":"COUNTIFS('Daily Diary'!A:A,'Grafico Strategie Settimanali'!B19,'Daily Diary'!E:E,\"ALTRO\",'Daily Diary'!E:E,\"ALTRO\",'Daily Diary'!K:K,\"WIN\")","v":0},{"$error":"#DIV/0!"},{"$error":"#DIV/0!"},{"$error":"#DIV/0!"},{"$error":"#DIV/0!"},{"$error":"#DIV/0!"},{"$error":"#DIV/0!"},{"$error":"#DIV/0!"},{"$error":"#DIV/0!"},{"$error":"#DIV/0!"},{"$error":"#DIV/0!"},{"$error":"#DIV/0!"},{"$error":"#DIV/0!"},null,"2023-07-03",{"$f":"SUM(O62:O68)/SUM(C62:C68)","v":{"$error":"#DIV/0!"}},{"$f":"SUM(P62:P68)/SUM(D62:D68)","v":{"$error":"#DIV/0!"}},{"$f":"SUM(Q62:Q68)/SUM(E62:E68)","v":{"$error":"#DIV/0!"}},{"$error":"#DIV/0!"},{"$error":"#DIV/0!"},{"$error":"#DIV/0!"},{"$error":"#DIV/0!"},{"$error":"#DIV/0!"},{"$error":"#DIV/0!"},{"$error":"#DIV/0!"},{"$error":"#DIV/0!"},{"$error":"#DIV/0!"}]
[0,"2023-05-22",{"$f":"COUNTIFS('Daily Diary'!A:A,'Grafico Strategie Settimanali'!B20,'Daily Diary'!E:E,\"BANCA PAREGGIO\")","v":0},{"$f":"COUNTIFS('Daily Diary'!A:A,'Grafico Strategie Settimanali'!B20,'Daily Diary'!E:E,\"PUNTA SQ.CASA\")","v":0},{"$f":"COUNTIFS('Daily Diary'!A:A,'Grafico Strategie Settimanali'!B20,'Daily Diary'!E:E,\"PUNTA SQ.OSPITE\")","v":0},{"$f":"COUNTIFS('Daily Diary'!A:A,'Grafico Strategie Settimanali'!B20,'Daily Diary'!E:E,\"BANCA SFAVORITA\")","v":0},{"$f":"COUNTIFS('Daily Diary'!A:A,'Grafico Strategie Settimanali'!B20,'Daily Diary'!E:E,\"PUNTA OVER\")","v":0},{"$f":"COUNTIFS('Daily Diary'!A:A,'Grafico Strategie Settimanali'!B20,'Daily Diary'!E:E,\"PUNTA UNDER\")","v":0},{"$f":"COUNTIFS('Daily Diary'!A:A,'Grafico Strategie Settimanali'!B20,'Daily Diary'!E:E,\"SCALPING\")","v":0},{"$f":"COUNTIFS('Daily Diary'!A:A,'Grafico Strategie Settimanali'!B20,'Daily Diary'!E:E,\"GT90\")","v":0},{"$f":"COUNTIFS('Daily Diary'!A:A,'Grafico Strategie Settimanali'!B20,'Daily Diary'!E:E,\"GT110\")","v":0},{"$f":"COUNTIFS('Daily Diary'!A:A,'Grafico Strategie Settimanali'!B20,'Daily Diary'!E:E,\"ALERT GOAL\")","v":0},{"$f":"COUNTIFS('Daily Diary'!A:A,'Grafico Strategie Settimanali'!B20,'Daily Diary'!E:E,\"DRAW NO BET\")","v":0},{"$f":"COUNTIFS('Daily Diary'!A:A,'Grafico Strategie Settimanali'!B20,'Daily Diary'!E:E,\"ALTRO\")","v":0},{"$f":"COUNTIFS('Daily Diary'!A:A,'Grafico Strategie Settimanali'!B20,'Daily Diary'!E:E,\"BANCA PAREGGIO\",'Daily Diary'!E:E,\"BANCA PAREGGIO\",'Daily Diary'!K:K,\"WIN\")","v":0},{"$f":"COUNTIFS('Daily Diary'!A:A,'Grafico Strategie Settimanali'!B20,'Daily Diary'!E:E,\"PUNTA SQ.CASA\",'Daily Diary'!E:E,\"PUNTA SQ.CASA\",'Daily Diary'!K:K,\"WIN\")","v":0},{"$f":"COUNTIFS('Daily Diary'!A:A,'Grafico Strategie Settimanali'!B20,'Daily Diary'!E:E,\"PUNTA SQ.OSPITE\",'Daily Diary'!E:E,\"PUNTA SQ.OSPITE\",'Daily Diary'!K:K,\"WIN\")","v":0},{"$f":"COUNTIFS('Daily Diary'!A:A,'Grafico Strategie Settimanali'!B20,'Daily Diary'!E:E,\"BANCA SFAVORITA\",'Daily Diary'!E:E,\"BANCA SFAVORITA\",'Daily Diary'!K:K,\"WIN\")","v":0},{"$f":"COUNTIFS('Daily Diary'!A:A,'Grafico Strategie Settimanali'!B20,'Daily Diary'!E:E,\"PUNTA OVER\",'Daily Diary'!E:E,\"PUNTA OVER\",'Daily Diary'!K:K,\"WIN\")","v":0},{"$f":"COUNTIFS('Daily Diary'!A:A,'Grafico Strategie Settimanali'!B20,'Daily Diary'!E:E,\"PUNTA UNDER\",'Daily Diary'!E:E,\"PUNTA UNDER\",'Daily Diary'!K:K,\"WIN\")","v":0},{"$f":"COUNTIFS('Daily Diary'!A:A,'Grafico Strategie Settimanali'!B20,'Daily Diary'!E:E,\"SCALPING\",'Daily Diary'!E:E,\"SCALPING\",'Daily Diary'!K:K,\"WIN\")","v":0},{"$f":"COUNTIFS('Daily Diary'!A:A,'Grafico Strategie Settimanali'!B20,'Daily Diary'!E:E,\"GT 90\",'Daily Diary'!E:E,\"GT 90\",'Daily Diary'!K:K,\"WIN\")","v":0},{"$f":"COUNTIFS('Daily Diary'!A:A,'Grafico Strategie Settimanali'!B20,'Daily Diary'!E:E,\"GT 110\",'Daily Diary'!E:E,\"GT 110\",'Daily Diary'!K:K,\"WIN\")","v":0},{"$f":"COUNTIFS('Daily Diary'!A:A,'Grafico Strategie Settimanali'!B20,'Daily Diary'!E:E,\"ALERT GOAL\",'Daily Diary'!E:E,\"ALERT GOAL\",'Daily Diary'!K:K,\"WIN\")","v":0},{"$f":"COUNTIFS('Daily Diary'!A:A,'Grafico Strategie Settimanali'!B20,'Daily Diary'!E:E,\"DRAW NO BET\",'Daily Diary'!E:E,\"DRAW NO BET\",'Daily Diary'!K:K,\"WIN\")","v":0},{"$f":"COUNTIFS('Daily Diary'!A:A,'Grafico Strategie Settimanali'!B20,'Daily Diary'!E:E,\"ALTRO\",'Daily Diary'!E:E,\"ALTRO\",'Daily Diary'!K:K,\"WIN\")","v":0},{"$error":"#DIV/0!"},{"$error":"#DIV/0!"},{"$error":"#DIV/0!"},{"$error":"#DIV/0!"},{"$error":"#DIV/0!"},{"$error":"#DIV/0!"},{"$error":"#DIV/0!"},{"$error":"#DIV/0!"},{"$error":"#DIV/0!"},{"$error":"#DIV/0!"},{"$error":"#DIV/0!"},{"$error":"#DIV/0!"},null,"2023-07-10",{"$f":"SUM(O69:O75)/SUM(C69:C75)","v":{"$error":"#DIV/0!"}},{"$f":"SUM(P69:P75)/SUM(D69:D75)","v":{"$error":"#DIV/0!"}},{"$f":"SUM(Q69:Q75)/SUM(E69:E75)","v":{"$error":"#DIV/0!"}},{"$error":"#DIV/0!"},{"$error":"#DIV/0!"},{"$error":"#DIV/0!"},{"$error":"#DIV/0!"},{"$error":"#DIV/0!"},{"$error":"#DIV/0!"},{"$error":"#DIV/0!"},{"$error":"#DIV/0!"},{"$error":"#DIV/0!"}]
[0,"2023-05-23",{"$f":"COUNTIFS('Daily Diary'!A:A,'Grafico Strategie Settimanali'!B21,'Daily Diary'!E:E,\"BANCA PAREGGIO\")","v":0},{"$f":"COUNTIFS('Daily Diary'!A:A,'Grafico Strategie Settimanali'!B21,'Daily Diary'!E:E,\"PUNTA SQ.CASA\")","v":0},{"$f":"COUNTIFS('Daily Diary'!A:A,'Grafico Strategie Settimanali'!B21,'Daily Diary'!E:E,\"PUNTA SQ.OSPITE\")","v":0},{"$f":"COUNTIFS('Daily Diary'!A:A,'Grafico Strategie Settimanali'!B21,'Daily Diary'!E:E,\"BANCA SFAVORITA\")","v":0},{"$f":"COUNTIFS('Daily Diary'!A:A,'Grafico Strategie Settimanali'!B21,'Daily Diary'!E:E,\"PUNTA OVER\")","v":0},{"$f":"COUNTIFS('Daily Diary'!A:A,'Grafico Strategie Settimanali'!B21,'Daily Diary'!E:E,\"PUNTA UNDER\")","v":0},{"$f":"COUNTIFS('Daily Diary'!A:A,'Grafico Strategie Settimanali'!B21,'Daily Diary'!E:E,\"SCALPING\")","v":0},{"$f":"COUNTIFS('Daily Diary'!A:A,'Grafico Strategie Settimanali'!B21,'Daily Diary'!E:E,\"GT90\")","v":0},{"$f":"COUNTIFS('Daily Diary'!A:A,'Grafico Strategie Settimanali'!B21,'Daily Diary'!E:E,\"GT110\")","v":0},{"$f":"COUNTIFS('Daily Diary'!A:A,'Grafico Strategie Settimanali'!B21,'Daily Diary'!E:E,\"ALERT GOAL\")","v":0},{"$f":"COUNTIFS('Daily Diary'!A:A,'Grafico Strategie Settimanali'!B21,'Daily Diary'!E:E,\"DRAW NO BET\")","v":0},{"$f":"COUNTIFS('Daily Diary'!A:A,'Grafico Strategie Settimanali'!B21,'Daily Diary'!E:E,\"ALTRO\")","v":0},{"$f":"COUNTIFS('Daily Diary'!A:A,'Grafico Strategie Settimanali'!B21,'Daily Diary'!E:E,\"BANCA PAREGGIO\",'Daily Diary'!E:E,\"BANCA PAREGGIO\",'Daily Diary'!K:K,\"WIN\")","v":0},{"$f":"COUNTIFS('Daily Diary'!A:A,'Grafico Strategie Settimanali'!B21,'Daily Diary'!E:E,\"PUNTA SQ.CASA\",'Daily Diary'!E:E,\"PUNTA SQ.CASA\",'Daily Diary'!K:K,\"WIN\")","v":0},{"$f":"COUNTIFS('Daily Diary'!A:A,'Grafico Strategie Settimanali'!B21,'Daily Diary'!E:E,\"PUNTA SQ.OSPITE\",'Daily Diary'!E:E,\"PUNTA SQ.OSPITE\",'Daily Diary'!K:K,\"WIN\")","v":0},{"$f":"COUNTIFS('Daily Diary'!A:A,'Grafico Strategie Settimanali'!B21,'Daily Diary'!E:E,\"BANCA SFAVORITA\",'Daily Diary'!E:E,\"BANCA SFAVORITA\",'Daily Diary'!K:K,\"WIN\")","v":0},{"$f":"COUNTIFS('Daily Diary'!A:A,'Grafico Strategie Settimanali'!B21,'Daily Diary'!E:E,\"PUNTA OVER\",'Daily Diary'!E:E,\"PUNTA OVER\",'Daily Diary'!K:K,\"WIN\")","v":0},{"$f":"COUNTIFS('Daily Diary'!A:A,'Grafico Strategie Settimanali'!B21,'Daily Diary'!E:E,\"PUNTA UNDER\",'Daily Diary'!E:E,\"PUNTA UNDER\",'Daily Diary'!K:K,\"WIN\")","v":0},{"$f":"COUNTIFS('Daily Diary'!A:A,'Grafico Strategie Settimanali'!B21,'Daily Diary'!E:E,\"SCALPING\",'Daily Diary'!E:E,\"SCALPING\",'Daily Diary'!K:K,\"WIN\")","v":0},{"$f":"COUNTIFS('Daily Diary'!A:A,'Grafico Strategie Settimanali'!B21,'Daily Diary'!E:E,\"GT 90\",'Daily Diary'!E:E,\"GT 90\",'Daily Diary'!K:K,\"WIN\")","v":0},{"$f":"COUNTIFS('Daily Diary'!A:A,'Grafico Strategie Settimanali'!B21,'Daily Diary'!E:E,\"GT 110\",'Daily Diary'!E:E,\"GT 110\",'Daily Diary'!K:K,\"WIN\")","v":0},{"$f":"COUNTIFS('Daily Diary'!A:A,'Grafico Strategie Settimanali'!B21,'Daily Diary'!E:E,\"ALERT GOAL\",'Daily Diary'!E:E,\"ALERT GOAL\",'Daily Diary'!K:K,\"WIN\")","v":0},{"$f":"COUNTIFS('Daily Diary'!A:A,'Grafico Strategie Settimanali'!B21,'Daily Diary'!E:E,\"DRAW NO BET\",'Daily Diary'!E:E,\"DRAW NO BET\",'Daily Diary'!K:K,\"WIN\")","v":0},{"$f":"COUNTIFS('Daily Diary'!A:A,'Grafico Strategie Settimanali'!B21,'Daily Diary'!E:E,\"ALTRO\",'Daily Diary'!E:E,\"ALTRO\",'Daily Diary'!K:K,\"WIN\")","v":0},{"$error":"#DIV/0!"},{"$error":"#DIV/0!"},{"$error":"#DIV/0!"},{"$error":"#DIV/0!"},{"$error":"#DIV/0!"},{"$error":"#DIV/0!"},{"$error":"#DIV/0!"},{"$error":"#DIV/0!"},{"$error":"#DIV/0!"},{"$error":"#DIV/0!"},{"$error":"#DIV/0!"},{"$error":"#DIV/0!"},null,"2023-07-17",{"$f":"SUM(O76:O82)/SUM(C76:C82)","v":{"$error":"#DIV/0!"}},{"$f":"SUM(P76:P82)/SUM(D76:D82)","v":{"$error":"#DIV/0!"}},{"$f":"SUM(Q76:Q82)/SUM(E76:E82)","v":{"$error":"#DIV/0!"}},{"$error":"#DIV/0!"},{"$error":"#DIV/0!"},{"$error":"#DIV/0!"},{"$error":"#DIV/0!"},{"$error":"#DIV/0!"},{"$error":"#DIV/0!"},{"$error":"#DIV/0!"},{"$error":"#DIV/0!"},{"$error":"#DIV/0!"}]
[0,"2023-05-24",{"$f":"COUNTIFS('Daily Diary'!A:A,'Grafico Strategie Settimanali'!B22,'Daily Diary'!E:E,\"BANCA PAREGGIO\")","v":0},{"$f":"COUNTIFS('Daily Diary'!A:A,'Grafico Strategie Settimanali'!B22,'Daily Diary'!E:E,\"PUNTA SQ.CASA\")","v":0},{"$f":"COUNTIFS('Daily Diary'!A:A,'Grafico Strategie Settimanali'!B22,'Daily Diary'!E:E,\"PUNTA SQ.OSPITE\")","v":0},{"$f":"COUNTIFS('Daily Diary'!A:A,'Grafico Strategie Settimanali'!B22,'Daily Diary'!E:E,\"BANCA SFAVORITA\")","v":0},{"$f":"COUNTIFS('Daily Diary'!A:A,'Grafico Strategie Settimanali'!B22,'Daily Diary'!E:E,\"PUNTA OVER\")","v":0},{"$f":"COUNTIFS('Daily Diary'!A:A,'Grafico Strategie Settimanali'!B22,'Daily Diary'!E:E,\"PUNTA UNDER\")","v":0},{"$f":"COUNTIFS('Daily Diary'!A:A,'Grafico Strategie Settimanali'!B22,'Daily Diary'!E:E,\"SCALPING\")","v":0},{"$f":"COUNTIFS('Daily Diary'!A:A,'Grafico Strategie Settimanali'!B22,'Daily Diary'!E:E,\"GT90\")","v":0},{"$f":"COUNTIFS('Daily Diary'!A:A,'Grafico Strategie Settimanali'!B22,'Daily Diary'!E:E,\"GT110\")","v":0},{"$f":"COUNTIFS('Daily Diary'!A:A,'Grafico Strategie Settimanali'!B22,'Daily Diary'!E:E,\"ALERT GOAL\")","v":0},{"$f":"COUNTIFS('Daily Diary'!A:A,'Grafico Strategie Settimanali'!B22,'Daily Diary'!E:E,\"DRAW NO BET\")","v":0},{"$f":"COUNTIFS('Daily Diary'!A:A,'Grafico Strategie Settimanali'!B22,'Daily Diary'!E:E,\"ALTRO\")","v":0},{"$f":"COUNTIFS('Daily Diary'!A:A,'Grafico Strategie Settimanali'!B22,'Daily Diary'!E:E,\"BANCA PAREGGIO\",'Daily Diary'!E:E,\"BANCA PAREGGIO\",'Daily Diary'!K:K,\"WIN\")","v":0},{"$f":"COUNTIFS('Daily Diary'!A:A,'Grafico Strategie Settimanali'!B22,'Daily Diary'!E:E,\"PUNTA SQ.CASA\",'Daily Diary'!E:E,\"PUNTA SQ.CASA\",'Daily Diary'!K:K,\"WIN\")","v":0},{"$f":"COUNTIFS('Daily Diary'!A:A,'Grafico Strategie Settimanali'!B22,'Daily Diary'!E:E,\"PUNTA SQ.OSPITE\",'Daily Diary'!E:E,\"PUNTA SQ.OSPITE\",'Daily Diary'!K:K,\"WIN\")","v":0},{"$f":"COUNTIFS('Daily Diary'!A:A,'Grafico Strategie Settimanali'!B22,'Daily Diary'!E:E,\"BANCA SFAVORITA\",'Daily Diary'!E:E,\"BANCA SFAVORITA\",'Daily Diary'!K:K,\"WIN\")","v":0},{"$f":"COUNTIFS('Daily Diary'!A:A,'Grafico Strategie Settimanali'!B22,'Daily Diary'!E:E,\"PUNTA OVER\",'Daily Diary'!E:E,\"PUNTA OVER\",'Daily Diary'!K:K,\"WIN\")","v":0},{"$f":"COUNTIFS('Daily Diary'!A:A,'Grafico Strategie Settimanali'!B22,'Daily Diary'!E:E,\"PUNTA UNDER\",'Daily Diary'!E:E,\"PUNTA UNDER\",'Daily Diary'!K:K,\"WIN\")","v":0},{"$f":"COUNTIFS('Daily Diary'!A:A,'Grafico Strategie Settimanali'!B22,'Daily Diary'!E:E,\"SCALPING\",'Daily Diary'!E:E,\"SCALPING\",'Daily Diary'!K:K,\"WIN\")","v":0},{"$f":"COUNTIFS('Daily Diary'!A:A,'Grafico Strategie Settimanali'!B22,'Daily Diary'!E:E,\"GT 90\",'Daily Diary'!E:E,\"GT 90\",'Daily Diary'!K:K,\"WIN\")","v":0},{"$f":"COUNTIFS('Daily Diary'!A:A,'Grafico Strategie Settimanali'!B22,'Daily Diary'!E:E,\"GT 110\",'Daily Diary'!E:E,\"GT 110\",'Daily Diary'!K:K,\"WIN\")","v":0},{"$f":"COUNTIFS('Daily Diary'!A:A,'Grafico Strategie Settimanali'!B22,'Daily Diary'!E:E,\"ALERT GOAL\",'Daily Diary'!E:E,\"ALERT GOAL\",'Daily Diary'!K:K,\"WIN\")","v":0},{"$f":"COUNTIFS('Daily Diary'!A:A,'Grafico Strategie Settimanali'!B22,'Daily Diary'!E:E,\"DRAW NO BET\",'Daily Diary'!E:E,\"DRAW NO BET\",'Daily Diary'!K:K,\"WIN\")","v":0},{"$f":"COUNTIFS('Daily Diary'!A:A,'Grafico Strategie Settimanali'!B22,'Daily Diary'!E:E,\"ALTRO\",'Daily Diary'!E:E,\"ALTRO\",'Daily Diary'!K:K,\"WIN\")","v":0},{"$error":"#DIV/0!"},{"$error":"#DIV/0!"},{"$error":"#DIV/0!"},{"$error":"#DIV/0!"},{"$error":"#DIV/0!"},{"$error":"#DIV/0!"},{"$error":"#DIV/0!"},{"$error":"#DIV/0!"},{"$error":"#DIV/0!"},{"$error":"#DIV/0!"},{"$error":"#DIV/0!"},{"$error":"#DIV/0!"},null,"2023-07-24",{"$f":"SUM(O83:O89)/SUM(C83:C89)","v":{"$error":"#DIV/0!"}},{"$f":"SUM(P83:P89)/SUM(D83:D89)","v":{"$error":"#DIV/0!"}},{"$f":"SUM(Q83:Q89)/SUM(E83:E89)","v":{"$error":"#DIV/0!"}},{"$error":"#DIV/0!"},{"$error":"#DIV/0!"},{"$error":"#DIV/0!"},{"$error":"#DIV/0!"},{"$error":"#DIV/0!"},{"$error":"#DIV/0!"},{"$error":"#DIV/0!"},{"$error":"#DIV/0!"},{"$error":"#DIV/0!"}]
[0,"2023-05-25",{"$f":"COUNTIFS('Daily Diary'!A:A,'Grafico Strategie Settimanali'!B23,'Daily Diary'!E:E,\"BANCA PAREGGIO\")","v":0},{"$f":"COUNTIFS('Daily Diary'!A:A,'Grafico Strategie Settimanali'!B23,'Daily Diary'!E:E,\"PUNTA SQ.CASA\")","v":0},{"$f":"COUNTIFS('Daily Diary'!A:A,'Grafico Strategie Settimanali'!B23,'Daily Diary'!E:E,\"PUNTA SQ.OSPITE\")","v":0},{"$f":"COUNTIFS('Daily Diary'!A:A,'Grafico Strategie Settimanali'!B23,'Daily Diary'!E:E,\"BANCA SFAVORITA\")","v":0},{"$f":"COUNTIFS('Daily Diary'!A:A,'Grafico Strategie Settimanali'!B23,'Daily Diary'!E:E,\"PUNTA OVER\")","v":0},{"$f":"COUNTIFS('Daily Diary'!A:A,'Grafico Strategie Settimanali'!B23,'Daily Diary'!E:E,\"PUNTA UNDER\")","v":0},{"$f":"COUNTIFS('Daily Diary'!A:A,'Grafico Strategie Settimanali'!B23,'Daily Diary'!E:E,\"SCALPING\")","v":0},{"$f":"COUNTIFS('Daily Diary'!A:A,'Grafico Strategie Settimanali'!B23,'Daily Diary'!E:E,\"GT90\")","v":0},{"$f":"COUNTIFS('Daily Diary'!A:A,'Grafico Strategie Settimanali'!B23,'Daily Diary'!E:E,\"GT110\")","v":0},{"$f":"COUNTIFS('Daily Diary'!A:A,'Grafico Strategie Settimanali'!B23,'Daily Diary'!E:E,\"ALERT GOAL\")","v":0},{"$f":"COUNTIFS('Daily Diary'!A:A,'Grafico Strategie Settimanali'!B23,'Daily Diary'!E:E,\"DRAW NO BET\")","v":0},{"$f":"COUNTIFS('Daily Diary'!A:A,'Grafico Strategie Settimanali'!B23,'Daily Diary'!E:E,\"ALTRO\")","v":0},{"$f":"COUNTIFS('Daily Diary'!A:A,'Grafico Strategie Settimanali'!B23,'Daily Diary'!E:E,\"BANCA PAREGGIO\",'Daily Diary'!E:E,\"BANCA PAREGGIO\",'Daily Diary'!K:K,\"WIN\")","v":0},{"$f":"COUNTIFS('Daily Diary'!A:A,'Grafico Strategie Settimanali'!B23,'Daily Diary'!E:E,\"PUNTA SQ.CASA\",'Daily Diary'!E:E,\"PUNTA SQ.CASA\",'Daily Diary'!K:K,\"WIN\")","v":0},{"$f":"COUNTIFS('Daily Diary'!A:A,'Grafico Strategie Settimanali'!B23,'Daily Diary'!E:E,\"PUNTA SQ.OSPITE\",'Daily Diary'!E:E,\"PUNTA SQ.OSPITE\",'Daily Diary'!K:K,\"WIN\")","v":0},{"$f":"COUNTIFS('Daily Diary'!A:A,'Grafico Strategie Settimanali'!B23,'Daily Diary'!E:E,\"BANCA SFAVORITA\",'Daily Diary'!E:E,\"BANCA SFAVORITA\",'Daily Diary'!K:K,\"WIN\")","v":0},{"$f":"COUNTIFS('Daily Diary'!A:A,'Grafico Strategie Settimanali'!B23,'Daily Diary'!E:E,\"PUNTA OVER\",'Daily Diary'!E:E,\"PUNTA OVER\",'Daily Diary'!K:K,\"WIN\")","v":0},{"$f":"COUNTIFS('Daily Diary'!A:A,'Grafico Strategie Settimanali'!B23,'Daily Diary'!E:E,\"PUNTA UNDER\",'Daily Diary'!E:E,\"PUNTA UNDER\",'Daily Diary'!K:K,\"WIN\")","v":0},{"$f":"COUNTIFS('Daily Diary'!A:A,'Grafico Strategie Settimanali'!B23,'Daily Diary'!E:E,\"SCALPING\",'Daily Diary'!E:E,\"SCALPING\",'Daily Diary'!K:K,\"WIN\")","v":0},{"$f":"COUNTIFS('Daily Diary'!A:A,'Grafico Strategie Settimanali'!B23,'Daily Diary'!E:E,\"GT 90\",'Daily Diary'!E:E,\"GT 90\",'Daily Diary'!K:K,\"WIN\")","v":0},{"$f":"COUNTIFS('Daily Diary'!A:A,'Grafico Strategie Settimanali'!B23,'Daily Diary'!E:E,\"GT 110\",'Daily Diary'!E:E,\"GT 110\",'Daily Diary'!K:K,\"WIN\")","v":0},{"$f":"COUNTIFS('Daily Diary'!A:A,'Grafico Strategie Settimanali'!B23,'Daily Diary'!E:E,\"ALERT GOAL\",'Daily Diary'!E:E,\"ALERT GOAL\",'Daily Diary'!K:K,\"WIN\")","v":0},{"$f":"COUNTIFS('Daily Diary'!A:A,'Grafico Strategie Settimanali'!B23,'Daily Diary'!E:E,\"DRAW NO BET\",'Daily Diary'!E:E,\"DRAW NO BET\",'Daily Diary'!K:K,\"WIN\")","v":0},{"$f":"COUNTIFS('Daily Diary'!A:A,'Grafico Strategie Settimanali'!B23,'Daily Diary'!E:E,\"ALTRO\",'Daily Diary'!E:E,\"ALTRO\",'Daily Diary'!K:K,\"WIN\")","v":0},{"$error":"#DIV/0!"},{"$error":"#DIV/0!"},{"$error":"#DIV/0!"},{"$error":"#DIV/0!"},{"$error":"#DIV/0!"},{"$error":"#DIV/0!"},{"$error":"#DIV/0!"},{"$error":"#DIV/0!"},{"$error":"#DIV/0!"},{"$error":"#DIV/0!"},{"$error":"#DIV/0!"},{"$error":"#DIV/0!"},null,"2023-07-31",{"$f":"SUM(O90:O96)/SUM(C90:C96)","v":{"$error":"#DIV/0!"}},{"$f":"SUM(P90:P96)/SUM(D90:D96)","v":{"$error":"#DIV/0!"}},{"$f":"SUM(Q90:Q96)/SUM(E90:E96)","v":{"$error":"#DIV/0!"}},{"$error":"#DIV/0!"},{"$error":"#DIV/0!"},{"$error":"#DIV/0!"},{"$error":"#DIV/0!"},{"$error":"#DIV/0!"},{"$error":"#DIV/0!"},{"$error":"#DIV/0!"},{"$error":"#DIV/0!"},{"$error":"#DIV/0!"}]
[0,"2023-05-26",{"$f":"COUNTIFS('Daily Diary'!A:A,'Grafico Strategie Settimanali'!B24,'Daily Diary'!E:E,\"BANCA PAREGGIO\")","v":0},{"$f":"COUNTIFS('Daily Diary'!A:A,'Grafico Strategie Settimanali'!B24,'Daily Diary'!E:E,\"PUNTA SQ.CASA\")","v":0},{"$f":"COUNTIFS('Daily Diary'!A:A,'Grafico Strategie Settimanali'!B24,'Daily Diary'!E:E,\"PUNTA SQ.OSPITE\")","v":0},{"$f":"COUNTIFS('Daily Diary'!A:A,'Grafico Strategie Settimanali'!B24,'Daily Diary'!E:E,\"BANCA SFAVORITA\")","v":0},{"$f":"COUNTIFS('Daily Diary'!A:A,'Grafico Strategie Settimanali'!B24,'Daily Diary'!E:E,\"PUNTA OVER\")","v":0},{"$f":"COUNTIFS('Daily Diary'!A:A,'Grafico Strategie Settimanali'!B24,'Daily Diary'!E:E,\"PUNTA UNDER\")","v":0},{"$f":"COUNTIFS('Daily Diary'!A:A,'Grafico Strategie Settimanali'!B24,'Daily Diary'!E:E,\"SCALPING\")","v":0},{"$f":"COUNTIFS('Daily Diary'!A:A,'Grafico Strategie Settimanali'!B24,'Daily Diary'!E:E,\"GT90\")","v":0},{"$f":"COUNTIFS('Daily Diary'!A:A,'Grafico Strategie Settimanali'!B24,'Daily Diary'!E:E,\"GT110\")","v":0},{"$f":"COUNTIFS('Daily Diary'!A:A,'Grafico Strategie Settimanali'!B24,'Daily Diary'!E:E,\"ALERT GOAL\")","v":0},{"$f":"COUNTIFS('Daily Diary'!A:A,'Grafico Strategie Settimanali'!B24,'Daily Diary'!E:E,\"DRAW NO BET\")","v":0},{"$f":"COUNTIFS('Daily Diary'!A:A,'Grafico Strategie Settimanali'!B24,'Daily Diary'!E:E,\"ALTRO\")","v":0},{"$f":"COUNTIFS('Daily Diary'!A:A,'Grafico Strategie Settimanali'!B24,'Daily Diary'!E:E,\"BANCA PAREGGIO\",'Daily Diary'!E:E,\"BANCA PAREGGIO\",'Daily Diary'!K:K,\"WIN\")","v":0},{"$f":"COUNTIFS('Daily Diary'!A:A,'Grafico Strategie Settimanali'!B24,'Daily Diary'!E:E,\"PUNTA SQ.CASA\",'Daily Diary'!E:E,\"PUNTA SQ.CASA\",'Daily Diary'!K:K,\"WIN\")","v":0},{"$f":"COUNTIFS('Daily Diary'!A:A,'Grafico Strategie Settimanali'!B24,'Daily Diary'!E:E,\"PUNTA SQ.OSPITE\",'Daily Diary'!E:E,\"PUNTA SQ.OSPITE\",'Daily Diary'!K:K,\"WIN\")","v":0},{"$f":"COUNTIFS('Daily Diary'!A:A,'Grafico Strategie Settimanali'!B24,'Daily Diary'!E:E,\"BANCA SFAVORITA\",'Daily Diary'!E:E,\"BANCA SFAVORITA\",'Daily Diary'!K:K,\"WIN\")","v":0},{"$f":"COUNTIFS('Daily Diary'!A:A,'Grafico Strategie Settimanali'!B24,'Daily Diary'!E:E,\"PUNTA OVER\",'Daily Diary'!E:E,\"PUNTA OVER\",'Daily Diary'!K:K,\"WIN\")","v":0},{"$f":"COUNTIFS('Daily Diary'!A:A,'Grafico Strategie Settimanali'!B24,'Daily Diary'!E:E,\"PUNTA UNDER\",'Daily Diary'!E:E,\"PUNTA UNDER\",'Daily Diary'!K:K,\"WIN\")","v":0},{"$f":"COUNTIFS('Daily Diary'!A:A,'Grafico Strategie Settimanali'!B24,'Daily Diary'!E:E,\"SCALPING\",'Daily Diary'!E:E,\"SCALPING\",'Daily Diary'!K:K,\"WIN\")","v":0},{"$f":"COUNTIFS('Daily Diary'!A:A,'Grafico Strategie Settimanali'!B24,'Daily Diary'!E:E,\"GT 90\",'Daily Diary'!E:E,\"GT 90\",'Daily Diary'!K:K,\"WIN\")","v":0},{"$f":"COUNTIFS('Daily Diary'!A:A,'Grafico Strategie Settimanali'!B24,'Daily Diary'!E:E,\"GT 110\",'Daily Diary'!E:E,\"GT 110\",'Daily Diary'!K:K,\"WIN\")","v":0},{"$f":"COUNTIFS('Daily Diary'!A:A,'Grafico Strategie Settimanali'!B24,'Daily Diary'!E:E,\"ALERT GOAL\",'Daily Diary'!E:E,\"ALERT GOAL\",'Daily Diary'!K:K,\"WIN\")","v":0},{"$f":"COUNTIFS('Daily Diary'!A:A,'Grafico Strategie Settimanali'!B24,'Daily Diary'!E:E,\"DRAW NO BET\",'Daily Diary'!E:E,\"DRAW NO BET\",'Daily Diary'!K:K,\"WIN\")","v":0},{"$f":"COUNTIFS('Daily Diary'!A:A,'Grafico Strategie Settimanali'!B24,'Daily Diary'!E:E,\"ALTRO\",'Daily Diary'!E:E,\"ALTRO\",'Daily Diary'!K:K,\"WIN\")","v":0},{"$error":"#DIV/0!"},{"$error":"#DIV/0!"},{"$error":"#DIV/0!"},{"$error":"#DIV/0!"},{"$error":"#DIV/0!"},{"$error":"#DIV/0!"},{"$error":"#DIV/0!"},{"$error":"#DIV/0!"},{"$error":"#DIV/0!"},{"$error":"#DIV/0!"},{"$error":"#DIV/0!"},{"$error":"#DIV/0!"},null,"2023-08-07",{"$f":"SUM(O97:O103)/SUM(C97:C103)","v":{"$error":"#DIV/0!"}},{"$f":"SUM(P97:P103)/SUM(D97:D103)","v":{"$error":"#DIV/0!"}},{"$f":"SUM(Q97:Q103)/SUM(E97:E103)","v":{"$error":"#DIV/0!"}},{"$error":"#DIV/0!"},{"$error":"#DIV/0!"},{"$error":"#DIV/0!"},{"$error":"#DIV/0!"},{"$error":"#DIV/0!"},{"$error":"#DIV/0!"},{"$error":"#DIV/0!"},{"$error":"#DIV/0!"},{"$error":"#DIV/0!"}]
[0,"2023-05-27",{"$f":"COUNTIFS('Daily Diary'!A:A,'Grafico Strategie Settimanali'!B25,'Daily Diary'!E:E,\"BANCA PAREGGIO\")","v":0},{"$f":"COUNTIFS('Daily Diary'!A:A,'Grafico Strategie Settimanali'!B25,'Daily Diary'!E:E,\"PUNTA SQ.CASA\")","v":0},{"$f":"COUNTIFS('Daily Diary'!A:A,'Grafico Strategie Settimanali'!B25,'Daily Diary'!E:E,\"PUNTA SQ.OSPITE\")","v":0},{"$f":"COUNTIFS('Daily Diary'!A:A,'Grafico Strategie Settimanali'!B25,'Daily Diary'!E:E,\"BANCA SFAVORITA\")","v":0},{"$f":"COUNTIFS('Daily Diary'!A:A,'Grafico Strategie Settimanali'!B25,'Daily Diary'!E:E,\"PUNTA OVER\")","v":0},{"$f":"COUNTIFS('Daily Diary'!A:A,'Grafico Strategie Settimanali'!B25,'Daily Diary'!E:E,\"PUNTA UNDER\")","v":0},{"$f":"COUNTIFS('Daily Diary'!A:A,'Grafico Strategie Settimanali'!B25,'Daily Diary'!E:E,\"SCALPING\")","v":0},{"$f":"COUNTIFS('Daily Diary'!A:A,'Grafico Strategie Settimanali'!B25,'Daily Diary'!E:E,\"GT90\")","v":0},{"$f":"COUNTIFS('Daily Diary'!A:A,'Grafico Strategie Settimanali'!B25,'Daily Diary'!E:E,\"GT110\")","v":0},{"$f":"COUNTIFS('Daily Diary'!A:A,'Grafico Strategie Settimanali'!B25,'Daily Diary'!E:E,\"ALERT GOAL\")","v":0},{"$f":"COUNTIFS('Daily Diary'!A:A,'Grafico Strategie Settimanali'!B25,'Daily Diary'!E:E,\"DRAW NO BET\")","v":0},{"$f":"COUNTIFS('Daily Diary'!A:A,'Grafico Strategie Settimanali'!B25,'Daily Diary'!E:E,\"ALTRO\")","v":0},{"$f":"COUNTIFS('Daily Diary'!A:A,'Grafico Strategie Settimanali'!B25,'Daily Diary'!E:E,\"BANCA PAREGGIO\",'Daily Diary'!E:E,\"BANCA PAREGGIO\",'Daily Diary'!K:K,\"WIN\")","v":0},{"$f":"COUNTIFS('Daily Diary'!A:A,'Grafico Strategie Settimanali'!B25,'Daily Diary'!E:E,\"PUNTA SQ.CASA\",'Daily Diary'!E:E,\"PUNTA SQ.CASA\",'Daily Diary'!K:K,\"WIN\")","v":0},{"$f":"COUNTIFS('Daily Diary'!A:A,'Grafico Strategie Settimanali'!B25,'Daily Diary'!E:E,\"PUNTA SQ.OSPITE\",'Daily Diary'!E:E,\"PUNTA SQ.OSPITE\",'Daily Diary'!K:K,\"WIN\")","v":0},{"$f":"COUNTIFS('Daily Diary'!A:A,'Grafico Strategie Settimanali'!B25,'Daily Diary'!E:E,\"BANCA SFAVORITA\",'Daily Diary'!E:E,\"BANCA SFAVORITA\",'Daily Diary'!K:K,\"WIN\")","v":0},{"$f":"COUNTIFS('Daily Diary'!A:A,'Grafico Strategie Settimanali'!B25,'Daily Diary'!E:E,\"PUNTA OVER\",'Daily Diary'!E:E,\"PUNTA OVER\",'Daily Diary'!K:K,\"WIN\")","v":0},{"$f":"COUNTIFS('Daily Diary'!A:A,'Grafico Strategie Settimanali'!B25,'Daily Diary'!E:E,\"PUNTA UNDER\",'Daily Diary'!E:E,\"PUNTA UNDER\",'Daily Diary'!K:K,\"WIN\")","v":0},{"$f":"COUNTIFS('Daily Diary'!A:A,'Grafico Strategie Settimanali'!B25,'Daily Diary'!E:E,\"SCALPING\",'Daily Diary'!E:E,\"SCALPING\",'Daily Diary'!K:K,\"WIN\")","v":0},{"$f":"COUNTIFS('Daily Diary'!A:A,'Grafico Strategie Settimanali'!B25,'Daily Diary'!E:E,\"GT 90\",'Daily Diary'!E:E,\"GT 90\",'Daily Diary'!K:K,\"WIN\")","v":0},{"$f":"COUNTIFS('Daily Diary'!A:A,'Grafico Strategie Settimanali'!B25,'Daily Diary'!E:E,\"GT 110\",'Daily Diary'!E:E,\"GT 110\",'Daily Diary'!K:K,\"WIN\")","v":0},{"$f":"COUNTIFS('Daily Diary'!A:A,'Grafico Strategie Settimanali'!B25,'Daily Diary'!E:E,\"ALERT GOAL\",'Daily Diary'!E:E,\"ALERT GOAL\",'Daily Diary'!K:K,\"WIN\")","v":0},{"$f":"COUNTIFS('Daily Diary'!A:A,'Grafico Strategie Settimanali'!B25,'Daily Diary'!E:E,\"DRAW NO BET\",'Daily Diary'!E:E,\"DRAW NO BET\",'Daily Diary'!K:K,\"WIN\")","v":0},{"$f":"COUNTIFS('Daily Diary'!A:A,'Grafico Strategie Settimanali'!B25,'Daily Diary'!E:E,\"ALTRO\",'Daily Diary'!E:E,\"ALTRO\",'Daily Diary'!K:K,\"WIN\")","v":0},{"$error":"#DIV/0!"},{"$error":"#DIV/0!"},{"$error":"#DIV/0!"},{"$error":"#DIV/0!"},{"$error":"#DIV/0!"},{"$error":"#DIV/0!"},{"$error":"#DIV/0!"},{"$error":"#DIV/0!"},{"$error":"#DIV/0!"},{"$error":"#DIV/0!"},{"$error":"#DIV/0!"},{"$error":"#DIV/0!"},null,"2023-08-14",{"$f":"SUM(O104:O110)/SUM(C104:C110)","v":{"$error":"#DIV/0!"}},{"$f":"SUM(P104:P110)/SUM(D104:D110)","v":{"$error":"#DIV/0!"}},{"$f":"SUM(Q104:Q110)/SUM(E104:E110)","v":{"$error":"#DIV/0!"}},{"$error":"#DIV/0!"},{"$error":"#DIV/0!"},{"$error":"#DIV/0!"},{"$error":"#DIV/0!"},{"$error":"#DIV/0!"},{"$error":"#DIV/0!"},{"$error":"#DIV/0!"},{"$error":"#DIV/0!"},{"$error":"#DIV/0!"}]
[0,"2023-05-28",{"$f":"COUNTIFS('Daily Diary'!A:A,'Grafico Strategie Settimanali'!B26,'Daily Diary'!E:E,\"BANCA PAREGGIO\")","v":0},{"$f":"COUNTIFS('Daily Diary'!A:A,'Grafico Strategie Settimanali'!B26,'Daily Diary'!E:E,\"PUNTA SQ.CASA\")","v":0},{"$f":"COUNTIFS('Daily Diary'!A:A,'Grafico Strategie Settimanali'!B26,'Daily Diary'!E:E,\"PUNTA SQ.OSPITE\")","v":0},{"$f":"COUNTIFS('Daily Diary'!A:A,'Grafico Strategie Settimanali'!B26,'Daily Diary'!E:E,\"BANCA SFAVORITA\")","v":0},{"$f":"COUNTIFS('Daily Diary'!A:A,'Grafico Strategie Settimanali'!B26,'Daily Diary'!E:E,\"PUNTA OVER\")","v":0},{"$f":"COUNTIFS('Daily Diary'!A:A,'Grafico Strategie Settimanali'!B26,'Daily Diary'!E:E,\"PUNTA UNDER\")","v":0},{"$f":"COUNTIFS('Daily Diary'!A:A,'Grafico Strategie Settimanali'!B26,'Daily Diary'!E:E,\"SCALPING\")","v":0},{"$f":"COUNTIFS('Daily Diary'!A:A,'Grafico Strategie Settimanali'!B26,'Daily Diary'!E:E,\"GT90\")","v":0},{"$f":"COUNTIFS('Daily Diary'!A:A,'Grafico Strategie Settimanali'!B26,'Daily Diary'!E:E,\"GT110\")","v":0},{"$f":"COUNTIFS('Daily Diary'!A:A,'Grafico Strategie Settimanali'!B26,'Daily Diary'!E:E,\"ALERT GOAL\")","v":0},{"$f":"COUNTIFS('Daily Diary'!A:A,'Grafico Strategie Settimanali'!B26,'Daily Diary'!E:E,\"DRAW NO BET\")","v":0},{"$f":"COUNTIFS('Daily Diary'!A:A,'Grafico Strategie Settimanali'!B26,'Daily Diary'!E:E,\"ALTRO\")","v":0},{"$f":"COUNTIFS('Daily Diary'!A:A,'Grafico Strategie Settimanali'!B26,'Daily Diary'!E:E,\"BANCA PAREGGIO\",'Daily Diary'!E:E,\"BANCA PAREGGIO\",'Daily Diary'!K:K,\"WIN\")","v":0},{"$f":"COUNTIFS('Daily Diary'!A:A,'Grafico Strategie Settimanali'!B26,'Daily Diary'!E:E,\"PUNTA SQ.CASA\",'Daily Diary'!E:E,\"PUNTA SQ.CASA\",'Daily Diary'!K:K,\"WIN\")","v":0},{"$f":"COUNTIFS('Daily Diary'!A:A,'Grafico Strategie Settimanali'!B26,'Daily Diary'!E:E,\"PUNTA SQ.OSPITE\",'Daily Diary'!E:E,\"PUNTA SQ.OSPITE\",'Daily Diary'!K:K,\"WIN\")","v":0},{"$f":"COUNTIFS('Daily Diary'!A:A,'Grafico Strategie Settimanali'!B26,'Daily Diary'!E:E,\"BANCA SFAVORITA\",'Daily Diary'!E:E,\"BANCA SFAVORITA\",'Daily Diary'!K:K,\"WIN\")","v":0},{"$f":"COUNTIFS('Daily Diary'!A:A,'Grafico Strategie Settimanali'!B26,'Daily Diary'!E:E,\"PUNTA OVER\",'Daily Diary'!E:E,\"PUNTA OVER\",'Daily Diary'!K:K,\"WIN\")","v":0},{"$f":"COUNTIFS('Daily Diary'!A:A,'Grafico Strategie Settimanali'!B26,'Daily Diary'!E:E,\"PUNTA UNDER\",'Daily Diary'!E:E,\"PUNTA UNDER\",'Daily Diary'!K:K,\"WIN\")","v":0},{"$f":"COUNTIFS('Daily Diary'!A:A,'Grafico Strategie Settimanali'!B26,'Daily Diary'!E:E,\"SCALPING\",'Daily Diary'!E:E,\"SCALPING\",'Daily Diary'!K:K,\"WIN\")","v":0},{"$f":"COUNTIFS('Daily Diary'!A:A,'Grafico Strategie Settimanali'!B26,'Daily Diary'!E:E,\"GT 90\",'Daily Diary'!E:E,\"GT 90\",'Daily Diary'!K:K,\"WIN\")","v":0},{"$f":"COUNTIFS('Daily Diary'!A:A,'Grafico Strategie Settimanali'!B26,'Daily Diary'!E:E,\"GT 110\",'Daily Diary'!E:E,\"GT 110\",'Daily Diary'!K:K,\"WIN\")","v":0},{"$f":"COUNTIFS('Daily Diary'!A:A,'Grafico Strategie Settimanali'!B26,'Daily Diary'!E:E,\"ALERT GOAL\",'Daily Diary'!E:E,\"ALERT GOAL\",'Daily Diary'!K:K,\"WIN\")","v":0},{"$f":"COUNTIFS('Daily Diary'!A:A,'Grafico Strategie Settimanali'!B26,'Daily Diary'!E:E,\"DRAW NO BET\",'Daily Diary'!E:E,\"DRAW NO BET\",'Daily Diary'!K:K,\"WIN\")","v":0},{"$f":"COUNTIFS('Daily Diary'!A:A,'Grafico Strategie Settimanali'!B26,'Daily Diary'!E:E,\"ALTRO\",'Daily Diary'!E:E,\"ALTRO\",'Daily Diary'!K:K,\"WIN\")","v":0},{"$error":"#DIV/0!"},{"$error":"#DIV/0!"},{"$error":"#DIV/0!"},{"$error":"#DIV/0!"},{"$error":"#DIV/0!"},{"$error":"#DIV/0!"},{"$error":"#DIV/0!"},{"$error":"#DIV/0!"},{"$error":"#DIV/0!"},{"$error":"#DIV/0!"},{"$error":"#DIV/0!"},{"$error":"#DIV/0!"},null,"2023-08-21",{"$f":"SUM(O111:O117)/SUM(C111:C117)","v":{"$error":"#DIV/0!"}},{"$f":"SUM(P111:P117)/SUM(D111:D117)","v":{"$error":"#DIV/0!"}},{"$f":"SUM(Q111:Q117)/SUM(E111:E117)","v":{"$error":"#DIV/0!"}},{"$error":"#DIV/0!"},{"$error":"#DIV/0!"},{"$error":"#DIV/0!"},{"$error":"#DIV/0!"},{"$error":"#DIV/0!"},{"$error":"#DIV/0!"},{"$error":"#DIV/0!"},{"$error":"#DIV/0!"},{"$error":"#DIV/0!"}]
[0,"2023-05-29",{"$f":"COUNTIFS('Daily Diary'!A:A,'Grafico Strategie Settimanali'!B27,'Daily Diary'!E:E,\"BANCA PAREGGIO\")","v":0},{"$f":"COUNTIFS('Daily Diary'!A:A,'Grafico Strategie Settimanali'!B27,'Daily Diary'!E:E,\"PUNTA SQ.CASA\")","v":0},{"$f":"COUNTIFS('Daily Diary'!A:A,'Grafico Strategie Settimanali'!B27,'Daily Diary'!E:E,\"PUNTA SQ.OSPITE\")","v":0},{"$f":"COUNTIFS('Daily Diary'!A:A,'Grafico Strategie Settimanali'!B27,'Daily Diary'!E:E,\"BANCA SFAVORITA\")","v":0},{"$f":"COUNTIFS('Daily Diary'!A:A,'Grafico Strategie Settimanali'!B27,'Daily Diary'!E:E,\"PUNTA OVER\")","v":0},{"$f":"COUNTIFS('Daily Diary'!A:A,'Grafico Strategie Settimanali'!B27,'Daily Diary'!E:E,\"PUNTA UNDER\")","v":0},{"$f":"COUNTIFS('Daily Diary'!A:A,'Grafico Strategie Settimanali'!B27,'Daily Diary'!E:E,\"SCALPING\")","v":0},{"$f":"COUNTIFS('Daily Diary'!A:A,'Grafico Strategie Settimanali'!B27,'Daily Diary'!E:E,\"GT90\")","v":0},{"$f":"COUNTIFS('Daily Diary'!A:A,'Grafico Strategie Settimanali'!B27,'Daily Diary'!E:E,\"GT110\")","v":0},{"$f":"COUNTIFS('Daily Diary'!A:A,'Grafico Strategie Settimanali'!B27,'Daily Diary'!E:E,\"ALERT GOAL\")","v":0},{"$f":"COUNTIFS('Daily Diary'!A:A,'Grafico Strategie Settimanali'!B27,'Daily Diary'!E:E,\"DRAW NO BET\")","v":0},{"$f":"COUNTIFS('Daily Diary'!A:A,'Grafico Strategie Settimanali'!B27,'Daily Diary'!E:E,\"ALTRO\")","v":0},{"$f":"COUNTIFS('Daily Diary'!A:A,'Grafico Strategie Settimanali'!B27,'Daily Diary'!E:E,\"BANCA PAREGGIO\",'Daily Diary'!E:E,\"BANCA PAREGGIO\",'Daily Diary'!K:K,\"WIN\")","v":0},{"$f":"COUNTIFS('Daily Diary'!A:A,'Grafico Strategie Settimanali'!B27,'Daily Diary'!E:E,\"PUNTA SQ.CASA\",'Daily Diary'!E:E,\"PUNTA SQ.CASA\",'Daily Diary'!K:K,\"WIN\")","v":0},{"$f":"COUNTIFS('Daily Diary'!A:A,'Grafico Strategie Settimanali'!B27,'Daily Diary'!E:E,\"PUNTA SQ.OSPITE\",'Daily Diary'!E:E,\"PUNTA SQ.OSPITE\",'Daily Diary'!K:K,\"WIN\")","v":0},{"$f":"COUNTIFS('Daily Diary'!A:A,'Grafico Strategie Settimanali'!B27,'Daily Diary'!E:E,\"BANCA SFAVORITA\",'Daily Diary'!E:E,\"BANCA SFAVORITA\",'Daily Diary'!K:K,\"WIN\")","v":0},{"$f":"COUNTIFS('Daily Diary'!A:A,'Grafico Strategie Settimanali'!B27,'Daily Diary'!E:E,\"PUNTA OVER\",'Daily Diary'!E:E,\"PUNTA OVER\",'Daily Diary'!K:K,\"WIN\")","v":0},{"$f":"COUNTIFS('Daily Diary'!A:A,'Grafico Strategie Settimanali'!B27,'Daily Diary'!E:E,\"PUNTA UNDER\",'Daily Diary'!E:E,\"PUNTA UNDER\",'Daily Diary'!K:K,\"WIN\")","v":0},{"$f":"COUNTIFS('Daily Diary'!A:A,'Grafico Strategie Settimanali'!B27,'Daily Diary'!E:E,\"SCALPING\",'Daily Diary'!E:E,\"SCALPING\",'Daily Diary'!K:K,\"WIN\")","v":0},{"$f":"COUNTIFS('Daily Diary'!A:A,'Grafico Strategie Settimanali'!B27,'Daily Diary'!E:E,\"GT 90\",'Daily Diary'!E:E,\"GT 90\",'Daily Diary'!K:K,\"WIN\")","v":0},{"$f":"COUNTIFS('Daily Diary'!A:A,'Grafico Strategie Settimanali'!B27,'Daily Diary'!E:E,\"GT 110\",'Daily Diary'!E:E,\"GT 110\",'Daily Diary'!K:K,\"WIN\")","v":0},{"$f":"COUNTIFS('Daily Diary'!A:A,'Grafico Strategie Settimanali'!B27,'Daily Diary'!E:E,\"ALERT GOAL\",'Daily Diary'!E:E,\"ALERT GOAL\",'Daily Diary'!K:K,\"WIN\")","v":0},{"$f":"COUNTIFS('Daily Diary'!A:A,'Grafico Strategie Settimanali'!B27,'Daily Diary'!E:E,\"DRAW NO BET\",'Daily Diary'!E:E,\"DRAW NO BET\",'Daily Diary'!K:K,\"WIN\")","v":0},{"$f":"COUNTIFS('Daily Diary'!A:A,'Grafico Strategie Settimanali'!B27,'Daily Diary'!E:E,\"ALTRO\",'Daily Diary'!E:E,\"ALTRO\",'Daily Diary'!K:K,\"WIN\")","v":0},{"$error":"#DIV/0!"},{"$error":"#DIV/0!"},{"$error":"#DIV/0!"},{"$error":"#DIV/0!"},{"$error":"#DIV/0!"},{"$error":"#DIV/0!"},{"$error":"#DIV/0!"},{"$error":"#DIV/0!"},{"$error":"#DIV/0!"},{"$error":"#DIV/0!"},{"$error":"#DIV/0!"},{"$error":"#DIV/0!"},null,"2023-08-28",{"$f":"SUM(O118:O124)/SUM(C118:C124)","v":{"$error":"#DIV/0!"}},{"$f":"SUM(P118:P124)/SUM(D118:D124)","v":{"$error":"#DIV/0!"}},{"$f":"SUM(Q118:Q124)/SUM(E118:E124)","v":{"$error":"#DIV/0!"}},{"$error":"#DIV/0!"},{"$error":"#DIV/0!"},{"$error":"#DIV/0!"},{"$error":"#DIV/0!"},{"$error":"#DIV/0!"},{"$error":"#DIV/0!"},{"$error":"#DIV/0!"},{"$error":"#DIV/0!"},{"$error":"#DIV/0!"}]
[0,"2023-05-30",{"$f":"COUNTIFS('Daily Diary'!A:A,'Grafico Strategie Settimanali'!B28,'Daily Diary'!E:E,\"BANCA PAREGGIO\")","v":0},{"$f":"COUNTIFS('Daily Diary'!A:A,'Grafico Strategie Settimanali'!B28,'Daily Diary'!E:E,\"PUNTA SQ.CASA\")","v":0},{"$f":"COUNTIFS('Daily Diary'!A:A,'Grafico Strategie Settimanali'!B28,'Daily Diary'!E:E,\"PUNTA SQ.OSPITE\")","v":0},{"$f":"COUNTIFS('Daily Diary'!A:A,'Grafico Strategie Settimanali'!B28,'Daily Diary'!E:E,\"BANCA SFAVORITA\")","v":0},{"$f":"COUNTIFS('Daily Diary'!A:A,'Grafico Strategie Settimanali'!B28,'Daily Diary'!E:E,\"PUNTA OVER\")","v":0},{"$f":"COUNTIFS('Daily Diary'!A:A,'Grafico Strategie Settimanali'!B28,'Daily Diary'!E:E,\"PUNTA UNDER\")","v":0},{"$f":"COUNTIFS('Daily Diary'!A:A,'Grafico Strategie Settimanali'!B28,'Daily Diary'!E:E,\"SCALPING\")","v":0},{"$f":"COUNTIFS('Daily Diary'!A:A,'Grafico Strategie Settimanali'!B28,'Daily Diary'!E:E,\"GT90\")","v":0},{"$f":"COUNTIFS('Daily Diary'!A:A,'Grafico Strategie Settimanali'!B28,'Daily Diary'!E:E,\"GT110\")","v":0},{"$f":"COUNTIFS('Daily Diary'!A:A,'Grafico Strategie Settimanali'!B28,'Daily Diary'!E:E,\"ALERT GOAL\")","v":0},{"$f":"COUNTIFS('Daily Diary'!A:A,'Grafico Strategie Settimanali'!B28,'Daily Diary'!E:E,\"DRAW NO BET\")","v":0},{"$f":"COUNTIFS('Daily Diary'!A:A,'Grafico Strategie Settimanali'!B28,'Daily Diary'!E:E,\"ALTRO\")","v":0},{"$f":"COUNTIFS('Daily Diary'!A:A,'Grafico Strategie Settimanali'!B28,'Daily Diary'!E:E,\"BANCA PAREGGIO\",'Daily Diary'!E:E,\"BANCA PAREGGIO\",'Daily Diary'!K:K,\"WIN\")","v":0},{"$f":"COUNTIFS('Daily Diary'!A:A,'Grafico Strategie Settimanali'!B28,'Daily Diary'!E:E,\"PUNTA SQ.CASA\",'Daily Diary'!E:E,\"PUNTA SQ.CASA\",'Daily Diary'!K:K,\"WIN\")","v":0},{"$f":"COUNTIFS('Daily Diary'!A:A,'Grafico Strategie Settimanali'!B28,'Daily Diary'!E:E,\"PUNTA SQ.OSPITE\",'Daily Diary'!E:E,\"PUNTA SQ.OSPITE\",'Daily Diary'!K:K,\"WIN\")","v":0},{"$f":"COUNTIFS('Daily Diary'!A:A,'Grafico Strategie Settimanali'!B28,'Daily Diary'!E:E,\"BANCA SFAVORITA\",'Daily Diary'!E:E,\"BANCA SFAVORITA\",'Daily Diary'!K:K,\"WIN\")","v":0},{"$f":"COUNTIFS('Daily Diary'!A:A,'Grafico Strategie Settimanali'!B28,'Daily Diary'!E:E,\"PUNTA OVER\",'Daily Diary'!E:E,\"PUNTA OVER\",'Daily Diary'!K:K,\"WIN\")","v":0},{"$f":"COUNTIFS('Daily Diary'!A:A,'Grafico Strategie Settimanali'!B28,'Daily Diary'!E:E,\"PUNTA UNDER\",'Daily Diary'!E:E,\"PUNTA UNDER\",'Daily Diary'!K:K,\"WIN\")","v":0},{"$f":"COUNTIFS('Daily Diary'!A:A,'Grafico Strategie Settimanali'!B28,'Daily Diary'!E:E,\"SCALPING\",'Daily Diary'!E:E,\"SCALPING\",'Daily Diary'!K:K,\"WIN\")","v":0},{"$f":"COUNTIFS('Daily Diary'!A:A,'Grafico Strategie Settimanali'!B28,'Daily Diary'!E:E,\"GT 90\",'Daily Diary'!E:E,\"GT 90\",'Daily Diary'!K:K,\"WIN\")","v":0},{"$f":"COUNTIFS('Daily Diary'!A:A,'Grafico Strategie Settimanali'!B28,'Daily Diary'!E:E,\"GT 110\",'Daily Diary'!E:E,\"GT 110\",'Daily Diary'!K:K,\"WIN\")","v":0},{"$f":"COUNTIFS('Daily Diary'!A:A,'Grafico Strategie Settimanali'!B28,'Daily Diary'!E:E,\"ALERT GOAL\",'Daily Diary'!E:E,\"ALERT GOAL\",'Daily Diary'!K:K,\"WIN\")","v":0},{"$f":"COUNTIFS('Daily Diary'!A:A,'Grafico Strategie Settimanali'!B28,'Daily Diary'!E:E,\"DRAW NO BET\",'Daily Diary'!E:E,\"DRAW NO BET\",'Daily Diary'!K:K,\"WIN\")","v":0},{"$f":"COUNTIFS('Daily Diary'!A:A,'Grafico Strategie Settimanali'!B28,'Daily Diary'!E:E,\"ALTRO\",'Daily Diary'!E:E,\"ALTRO\",'Daily Diary'!K:K,\"WIN\")","v":0},{"$error":"#DIV/0!"},{"$error":"#DIV/0!"},{"$error":"#DIV/0!"},{"$error":"#DIV/0!"},{"$error":"#DIV/0!"},{"$error":"#DIV/0!"},{"$error":"#DIV/0!"},{"$error":"#DIV/0!"},{"$error":"#DIV/0!"},{"$error":"#DIV/0!"},{"$error":"#DIV/0!"},{"$error":"#DIV/0!"},null,"2023-09-04",{"$f":"SUM(O125:O131)/SUM(C125:C131)","v":{"$error":"#DIV/0!"}},{"$f":"SUM(P125:P131)/SUM(D125:D131)","v":{"$error":"#DIV/0!"}},{"$f":"SUM(Q125:Q131)/SUM(E125:E131)","v":{"$error":"#DIV/0!"}},{"$error":"#DIV/0!"},{"$error":"#DIV/0!"},{"$error":"#DIV/0!"},{"$error":"#DIV/0!"},{"$error":"#DIV/0!"},{"$error":"#DIV/0!"},{"$error":"#DIV/0!"},{"$error":"#DIV/0!"},{"$error":"#DIV/0!"}]
[0,"2023-05-31",{"$f":"COUNTIFS('Daily Diary'!A:A,'Grafico Strategie Settimanali'!B29,'Daily Diary'!E:E,\"BANCA PAREGGIO\")","v":0},{"$f":"COUNTIFS('Daily Diary'!A:A,'Grafico Strategie Settimanali'!B29,'Daily Diary'!E:E,\"PUNTA SQ.CASA\")","v":0},{"$f":"COUNTIFS('Daily Diary'!A:A,'Grafico Strategie Settimanali'!B29,'Daily Diary'!E:E,\"PUNTA SQ.OSPITE\")","v":0},{"$f":"COUNTIFS('Daily Diary'!A:A,'Grafico Strategie Settimanali'!B29,'Daily Diary'!E:E,\"BANCA SFAVORITA\")","v":0},{"$f":"COUNTIFS('Daily Diary'!A:A,'Grafico Strategie Settimanali'!B29,'Daily Diary'!E:E,\"PUNTA OVER\")","v":0},{"$f":"COUNTIFS('Daily Diary'!A:A,'Grafico Strategie Settimanali'!B29,'Daily Diary'!E:E,\"PUNTA UNDER\")","v":0},{"$f":"COUNTIFS('Daily Diary'!A:A,'Grafico Strategie Settimanali'!B29,'Daily Diary'!E:E,\"SCALPING\")","v":0},{"$f":"COUNTIFS('Daily Diary'!A:A,'Grafico Strategie Settimanali'!B29,'Daily Diary'!E:E,\"GT90\")","v":0},{"$f":"COUNTIFS('Daily Diary'!A:A,'Grafico Strategie Settimanali'!B29,'Daily Diary'!E:E,\"GT110\")","v":0},{"$f":"COUNTIFS('Daily Diary'!A:A,'Grafico Strategie Settimanali'!B29,'Daily Diary'!E:E,\"ALERT GOAL\")","v":0},{"$f":"COUNTIFS('Daily Diary'!A:A,'Grafico Strategie Settimanali'!B29,'Daily Diary'!E:E,\"DRAW NO BET\")","v":0},{"$f":"COUNTIFS('Daily Diary'!A:A,'Grafico Strategie Settimanali'!B29,'Daily Diary'!E:E,\"ALTRO\")","v":0},{"$f":"COUNTIFS('Daily Diary'!A:A,'Grafico Strategie Settimanali'!B29,'Daily Diary'!E:E,\"BANCA PAREGGIO\",'Daily Diary'!E:E,\"BANCA PAREGGIO\",'Daily Diary'!K:K,\"WIN\")","v":0},{"$f":"COUNTIFS('Daily Diary'!A:A,'Grafico Strategie Settimanali'!B29,'Daily Diary'!E:E,\"PUNTA SQ.CASA\",'Daily Diary'!E:E,\"PUNTA SQ.CASA\",'Daily Diary'!K:K,\"WIN\")","v":0},{"$f":"COUNTIFS('Daily Diary'!A:A,'Grafico Strategie Settimanali'!B29,'Daily Diary'!E:E,\"PUNTA SQ.OSPITE\",'Daily Diary'!E:E,\"PUNTA SQ.OSPITE\",'Daily Diary'!K:K,\"WIN\")","v":0},{"$f":"COUNTIFS('Daily Diary'!A:A,'Grafico Strategie Settimanali'!B29,'Daily Diary'!E:E,\"BANCA SFAVORITA\",'Daily Diary'!E:E,\"BANCA SFAVORITA\",'Daily Diary'!K:K,\"WIN\")","v":0},{"$f":"COUNTIFS('Daily Diary'!A:A,'Grafico Strategie Settimanali'!B29,'Daily Diary'!E:E,\"PUNTA OVER\",'Daily Diary'!E:E,\"PUNTA OVER\",'Daily Diary'!K:K,\"WIN\")","v":0},{"$f":"COUNTIFS('Daily Diary'!A:A,'Grafico Strategie Settimanali'!B29,'Daily Diary'!E:E,\"PUNTA UNDER\",'Daily Diary'!E:E,\"PUNTA UNDER\",'Daily Diary'!K:K,\"WIN\")","v":0},{"$f":"COUNTIFS('Daily Diary'!A:A,'Grafico Strategie Settimanali'!B29,'Daily Diary'!E:E,\"SCALPING\",'Daily Diary'!E:E,\"SCALPING\",'Daily Diary'!K:K,\"WIN\")","v":0},{"$f":"COUNTIFS('Daily Diary'!A:A,'Grafico Strategie Settimanali'!B29,'Daily Diary'!E:E,\"GT 90\",'Daily Diary'!E:E,\"GT 90\",'Daily Diary'!K:K,\"WIN\")","v":0},{"$f":"COUNTIFS('Daily Diary'!A:A,'Grafico Strategie Settimanali'!B29,'Daily Diary'!E:E,\"GT 110\",'Daily Diary'!E:E,\"GT 110\",'Daily Diary'!K:K,\"WIN\")","v":0},{"$f":"COUNTIFS('Daily Diary'!A:A,'Grafico Strategie Settimanali'!B29,'Daily Diary'!E:E,\"ALERT GOAL\",'Daily Diary'!E:E,\"ALERT GOAL\",'Daily Diary'!K:K,\"WIN\")","v":0},{"$f":"COUNTIFS('Daily Diary'!A:A,'Grafico Strategie Settimanali'!B29,'Daily Diary'!E:E,\"DRAW NO BET\",'Daily Diary'!E:E,\"DRAW NO BET\",'Daily Diary'!K:K,\"WIN\")","v":0},{"$f":"COUNTIFS('Daily Diary'!A:A,'Grafico Strategie Settimanali'!B29,'Daily Diary'!E:E,\"ALTRO\",'Daily Diary'!E:E,\"ALTRO\",'Daily Diary'!K:K,\"WIN\")","v":0},{"$error":"#DIV/0!"},{"$error":"#DIV/0!"},{"$error":"#DIV/0!"},{"$error":"#DIV/0!"},{"$error":"#DIV/0!"},{"$error":"#DIV/0!"},{"$f":"U29/I29","v":{"$error":"#DIV/0!"}},{"$error":"#DIV/0!"},{"$error":"#DIV/0!"},{"$error":"#DIV/0!"},{"$f":"Y29/M29","v":{"$error":"#DIV/0!"}},{"$error":"#DIV/0!"},null,"2023-09-11",{"$f":"SUM(O132:O138)/SUM(C132:C138)","v":{"$error":"#DIV/0!"}},{"$f":"SUM(P132:P138)/SUM(D132:D138)","v":{"$error":"#DIV/0!"}},{"$f":"SUM(Q132:Q138)/SUM(E132:E138)","v":{"$error":"#DIV/0!"}},{"$error":"#DIV/0!"},{"$error":"#DIV/0!"},{"$error":"#DIV/0!"},{"$error":"#DIV/0!"},{"$error":"#DIV/0!"},{"$error":"#DIV/0!"},{"$error":"#DIV/0!"},{"$error":"#DIV/0!"},{"$error":"#DIV/0!"}]
[0,"2023-06-01",{"$f":"COUNTIFS('Daily Diary'!A:A,'Grafico Strategie Settimanali'!B30,'Daily Diary'!E:E,\"BANCA PAREGGIO\")","v":0},{"$f":"COUNTIFS('Daily Diary'!A:A,'Grafico Strategie Settimanali'!B30,'Daily Diary'!E:E,\"PUNTA SQ.CASA\")","v":0},{"$f":"COUNTIFS('Daily Diary'!A:A,'Grafico Strategie Settimanali'!B30,'Daily Diary'!E:E,\"PUNTA SQ.OSPITE\")","v":0},{"$f":"COUNTIFS('Daily Diary'!A:A,'Grafico Strategie Settimanali'!B30,'Daily Diary'!E:E,\"BANCA SFAVORITA\")","v":0},{"$f":"COUNTIFS('Daily Diary'!A:A,'Grafico Strategie Settimanali'!B30,'Daily Diary'!E:E,\"PUNTA OVER\")","v":0},{"$f":"COUNTIFS('Daily Diary'!A:A,'Grafico Strategie Settimanali'!B30,'Daily Diary'!E:E,\"PUNTA UNDER\")","v":0},{"$f":"COUNTIFS('Daily Diary'!A:A,'Grafico Strategie Settimanali'!B30,'Daily Diary'!E:E,\"SCALPING\")","v":0},{"$f":"COUNTIFS('Daily Diary'!A:A,'Grafico Strategie Settimanali'!B30,'Daily Diary'!E:E,\"GT90\")","v":0},{"$f":"COUNTIFS('Daily Diary'!A:A,'Grafico Strategie Settimanali'!B30,'Daily Diary'!E:E,\"GT110\")","v":0},{"$f":"COUNTIFS('Daily Diary'!A:A,'Grafico Strategie Settimanali'!B30,'Daily Diary'!E:E,\"ALERT GOAL\")","v":0},{"$f":"COUNTIFS('Daily Diary'!A:A,'Grafico Strategie Settimanali'!B30,'Daily Diary'!E:E,\"DRAW NO BET\")","v":0},{"$f":"COUNTIFS('Daily Diary'!A:A,'Grafico Strategie Settimanali'!B30,'Daily Diary'!E:E,\"ALTRO\")","v":0},{"$f":"COUNTIFS('Daily Diary'!A:A,'Grafico Strategie Settimanali'!B30,'Daily Diary'!E:E,\"BANCA PAREGGIO\",'Daily Diary'!E:E,\"BANCA PAREGGIO\",'Daily Diary'!K:K,\"WIN\")","v":0},{"$f":"COUNTIFS('Daily Diary'!A:A,'Grafico Strategie Settimanali'!B30,'Daily Diary'!E:E,\"PUNTA SQ.CASA\",'Daily Diary'!E:E,\"PUNTA SQ.CASA\",'Daily Diary'!K:K,\"WIN\")","v":0},{"$f":"COUNTIFS('Daily Diary'!A:A,'Grafico Strategie Settimanali'!B30,'Daily Diary'!E:E,\"PUNTA SQ.OSPITE\",'Daily Diary'!E:E,\"PUNTA SQ.OSPITE\",'Daily Diary'!K:K,\"WIN\")","v":0},{"$f":"COUNTIFS('Daily Diary'!A:A,'Grafico Strategie Settimanali'!B30,'Daily Diary'!E:E,\"BANCA SFAVORITA\",'Daily Diary'!E:E,\"BANCA SFAVORITA\",'Daily Diary'!K:K,\"WIN\")","v":0},{"$f":"COUNTIFS('Daily Diary'!A:A,'Grafico Strategie Settimanali'!B30,'Daily Diary'!E:E,\"PUNTA OVER\",'Daily Diary'!E:E,\"PUNTA OVER\",'Daily Diary'!K:K,\"WIN\")","v":0},{"$f":"COUNTIFS('Daily Diary'!A:A,'Grafico Strategie Settimanali'!B30,'Daily Diary'!E:E,\"PUNTA UNDER\",'Daily Diary'!E:E,\"PUNTA UNDER\",'Daily Diary'!K:K,\"WIN\")","v":0},{"$f":"COUNTIFS('Daily Diary'!A:A,'Grafico Strategie Settimanali'!B30,'Daily Diary'!E:E,\"SCALPING\",'Daily Diary'!E:E,\"SCALPING\",'Daily Diary'!K:K,\"WIN\")","v":0},{"$f":"COUNTIFS('Daily Diary'!A:A,'Grafico Strategie Settimanali'!B30,'Daily Diary'!E:E,\"GT 90\",'Daily Diary'!E:E,\"GT 90\",'Daily Diary'!K:K,\"WIN\")","v":0},{"$f":"COUNTIFS('Daily Diary'!A:A,'Grafico Strategie Settimanali'!B30,'Daily Diary'!E:E,\"GT 110\",'Daily Diary'!E:E,\"GT 110\",'Daily Diary'!K:K,\"WIN\")","v":0},{"$f":"COUNTIFS('Daily Diary'!A:A,'Grafico Strategie Settimanali'!B30,'Daily Diary'!E:E,\"ALERT GOAL\",'Daily Diary'!E:E,\"ALERT GOAL\",'Daily Diary'!K:K,\"WIN\")","v":0},{"$f":"COUNTIFS('Daily Diary'!A:A,'Grafico Strategie Settimanali'!B30,'Daily Diary'!E:E,\"DRAW NO BET\",'Daily Diary'!E:E,\"DRAW NO BET\",'Daily Diary'!K:K,\"WIN\")","v":0},{"$f":"COUNTIFS('Daily Diary'!A:A,'Grafico Strategie Settimanali'!B30,'Daily Diary'!E:E,\"ALTRO\",'Daily Diary'!E:E,\"ALTRO\",'Daily Diary'!K:K,\"WIN\")","v":0},{"$error":"#DIV/0!"},{"$error":"#DIV/0!"},{"$error":"#DIV/0!"},{"$error":"#DIV/0!"},{"$error":"#DIV/0!"},{"$error":"#DIV/0!"},{"$error":"#DIV/0!"},{"$error":"#DIV/0!"},{"$error":"#DIV/0!"},{"$error":"#DIV/0!"},{"$error":"#DIV/0!"},{"$error":"#DIV/0!"},null,"2023-09-18",{"$f":"SUM(O139:O145)/SUM(C139:C145)","v":{"$error":"#DIV/0!"}},{"$f":"SUM(P139:P145)/SUM(D139:D145)","v":{"$error":"#DIV/0!"}},{"$f":"SUM(Q139:Q145)/SUM(E139:E145)","v":{"$error":"#DIV/0!"}},{"$error":"#DIV/0!"},{"$error":"#DIV/0!"},{"$error":"#DIV/0!"},{"$error":"#DIV/0!"},{"$error":"#DIV/0!"},{"$error":"#DIV/0!"},{"$error":"#DIV/0!"},{"$error":"#DIV/0!"},{"$error":"#DIV/0!"}]
[0,"2023-06-02",{"$f":"COUNTIFS('Daily Diary'!A:A,'Grafico Strategie Settimanali'!B31,'Daily Diary'!E:E,\"BANCA PAREGGIO\")","v":0},{"$f":"COUNTIFS('Daily Diary'!A:A,'Grafico Strategie Settimanali'!B31,'Daily Diary'!E:E,\"PUNTA SQ.CASA\")","v":0},{"$f":"COUNTIFS('Daily Diary'!A:A,'Grafico Strategie Settimanali'!B31,'Daily Diary'!E:E,\"PUNTA SQ.OSPITE\")","v":0},{"$f":"COUNTIFS('Daily Diary'!A:A,'Grafico Strategie Settimanali'!B31,'Daily Diary'!E:E,\"BANCA SFAVORITA\")","v":0},{"$f":"COUNTIFS('Daily Diary'!A:A,'Grafico Strategie Settimanali'!B31,'Daily Diary'!E:E,\"PUNTA OVER\")","v":0},{"$f":"COUNTIFS('Daily Diary'!A:A,'Grafico Strategie Settimanali'!B31,'Daily Diary'!E:E,\"PUNTA UNDER\")","v":0},{"$f":"COUNTIFS('Daily Diary'!A:A,'Grafico Strategie Settimanali'!B31,'Daily Diary'!E:E,\"SCALPING\")","v":0},{"$f":"COUNTIFS('Daily Diary'!A:A,'Grafico Strategie Settimanali'!B31,'Daily Diary'!E:E,\"GT90\")","v":0},{"$f":"COUNTIFS('Daily Diary'!A:A,'Grafico Strategie Settimanali'!B31,'Daily Diary'!E:E,\"GT110\")","v":0},{"$f":"COUNTIFS('Daily Diary'!A:A,'Grafico Strategie Settimanali'!B31,'Daily Diary'!E:E,\"ALERT GOAL\")","v":0},{"$f":"COUNTIFS('Daily Diary'!A:A,'Grafico Strategie Settimanali'!B31,'Daily Diary'!E:E,\"DRAW NO BET\")","v":0},{"$f":"COUNTIFS('Daily Diary'!A:A,'Grafico Strategie Settimanali'!B31,'Daily Diary'!E:E,\"ALTRO\")","v":0},{"$f":"COUNTIFS('Daily Diary'!A:A,'Grafico Strategie Settimanali'!B31,'Daily Diary'!E:E,\"BANCA PAREGGIO\",'Daily Diary'!E:E,\"BANCA PAREGGIO\",'Daily Diary'!K:K,\"WIN\")","v":0},{"$f":"COUNTIFS('Daily Diary'!A:A,'Grafico Strategie Settimanali'!B31,'Daily Diary'!E:E,\"PUNTA SQ.CASA\",'Daily Diary'!E:E,\"PUNTA SQ.CASA\",'Daily Diary'!K:K,\"WIN\")","v":0},{"$f":"COUNTIFS('Daily Diary'!A:A,'Grafico Strategie Settimanali'!B31,'Daily Diary'!E:E,\"PUNTA SQ.OSPITE\",'Daily Diary'!E:E,\"PUNTA SQ.OSPITE\",'Daily Diary'!K:K,\"WIN\")","v":0},{"$f":"COUNTIFS('Daily Diary'!A:A,'Grafico Strategie Settimanali'!B31,'Daily Diary'!E:E,\"BANCA SFAVORITA\",'Daily Diary'!E:E,\"BANCA SFAVORITA\",'Daily Diary'!K:K,\"WIN\")","v":0},{"$f":"COUNTIFS('Daily Diary'!A:A,'Grafico Strategie Settimanali'!B31,'Daily Diary'!E:E,\"PUNTA OVER\",'Daily Diary'!E:E,\"PUNTA OVER\",'Daily Diary'!K:K,\"WIN\")","v":0},{"$f":"COUNTIFS('Daily Diary'!A:A,'Grafico Strategie Settimanali'!B31,'Daily Diary'!E:E,\"PUNTA UNDER\",'Daily Diary'!E:E,\"PUNTA UNDER\",'Daily Diary'!K:K,\"WIN\")","v":0},{"$f":"COUNTIFS('Daily Diary'!A:A,'Grafico Strategie Settimanali'!B31,'Daily Diary'!E:E,\"SCALPING\",'Daily Diary'!E:E,\"SCALPING\",'Daily Diary'!K:K,\"WIN\")","v":0},{"$f":"COUNTIFS('Daily Diary'!A:A,'Grafico Strategie Settimanali'!B31,'Daily Diary'!E:E,\"GT 90\",'Daily Diary'!E:E,\"GT 90\",'Daily Diary'!K:K,\"WIN\")","v":0},{"$f":"COUNTIFS('Daily Diary'!A:A,'Grafico Strategie Settimanali'!B31,'Daily Diary'!E:E,\"GT 110\",'Daily Diary'!E:E,\"GT 110\",'Daily Diary'!K:K,\"WIN\")","v":0},{"$f":"COUNTIFS('Daily Diary'!A:A,'Grafico Strategie Settimanali'!B31,'Daily Diary'!E:E,\"ALERT GOAL\",'Daily Diary'!E:E,\"ALERT GOAL\",'Daily Diary'!K:K,\"WIN\")","v":0},{"$f":"COUNTIFS('Daily Diary'!A:A,'Grafico Strategie Settimanali'!B31,'Daily Diary'!E:E,\"DRAW NO BET\",'Daily Diary'!E:E,\"DRAW NO BET\",'Daily Diary'!K:K,\"WIN\")","v":0},{"$f":"COUNTIFS('Daily Diary'!A:A,'Grafico Strategie Settimanali'!B31,'Daily Diary'!E:E,\"ALTRO\",'Daily Diary'!E:E,\"ALTRO\",'Daily Diary'!K:K,\"WIN\")","v":0},{"$error":"#DIV/0!"},{"$error":"#DIV/0!"},{"$error":"#DIV/0!"},{"$error":"#DIV/0!"},{"$error":"#DIV/0!"},{"$error":"#DIV/0!"},{"$error":"#DIV/0!"},{"$error":"#DIV/0!"},{"$error":"#DIV/0!"},{"$error":"#DIV/0!"},{"$error":"#DIV/0!"},{"$error":"#DIV/0!"},null,"2023-09-25",{"$f":"SUM(O146:O152)/SUM(C146:C152)","v":{"$error":"#DIV/0!"}},{"$f":"SUM(P146:P152)/SUM(D146:D152)","v":{"$error":"#DIV/0!"}},{"$f":"SUM(Q146:Q152)/SUM(E146:E152)","v":{"$error":"#DIV/0!"}},{"$error":"#DIV/0!"},{"$error":"#DIV/0!"},{"$error":"#DIV/0!"},{"$error":"#DIV/0!"},{"$error":"#DIV/0!"},{"$error":"#DIV/0!"},{"$error":"#DIV/0!"},{"$error":"#DIV/0!"},{"$error":"#DIV/0!"}]
[0,"2023-06-03",{"$f":"COUNTIFS('Daily Diary'!A:A,'Grafico Strategie Settimanali'!B32,'Daily Diary'!E:E,\"BANCA PAREGGIO\")","v":0},{"$f":"COUNTIFS('Daily Diary'!A:A,'Grafico Strategie Settimanali'!B32,'Daily Diary'!E:E,\"PUNTA SQ.CASA\")","v":0},{"$f":"COUNTIFS('Daily Diary'!A:A,'Grafico Strategie Settimanali'!B32,'Daily Diary'!E:E,\"PUNTA SQ.OSPITE\")","v":0},{"$f":"COUNTIFS('Daily Diary'!A:A,'Grafico Strategie Settimanali'!B32,'Daily Diary'!E:E,\"BANCA SFAVORITA\")","v":0},{"$f":"COUNTIFS('Daily Diary'!A:A,'Grafico Strategie Settimanali'!B32,'Daily Diary'!E:E,\"PUNTA OVER\")","v":0},{"$f":"COUNTIFS('Daily Diary'!A:A,'Grafico Strategie Settimanali'!B32,'Daily Diary'!E:E,\"PUNTA UNDER\")","v":0},{"$f":"COUNTIFS('Daily Diary'!A:A,'Grafico Strategie Settimanali'!B32,'Daily Diary'!E:E,\"SCALPING\")","v":0},{"$f":"COUNTIFS('Daily Diary'!A:A,'Grafico Strategie Settimanali'!B32,'Daily Diary'!E:E,\"GT90\")","v":0},{"$f":"COUNTIFS('Daily Diary'!A:A,'Grafico Strategie Settimanali'!B32,'Daily Diary'!E:E,\"GT110\")","v":0},{"$f":"COUNTIFS('Daily Diary'!A:A,'Grafico Strategie Settimanali'!B32,'Daily Diary'!E:E,\"ALERT GOAL\")","v":0},{"$f":"COUNTIFS('Daily Diary'!A:A,'Grafico Strategie Settimanali'!B32,'Daily Diary'!E:E,\"DRAW NO BET\")","v":0},{"$f":"COUNTIFS('Daily Diary'!A:A,'Grafico Strategie Settimanali'!B32,'Daily Diary'!E:E,\"ALTRO\")","v":0},{"$f":"COUNTIFS('Daily Diary'!A:A,'Grafico Strategie Settimanali'!B32,'Daily Diary'!E:E,\"BANCA PAREGGIO\",'Daily Diary'!E:E,\"BANCA PAREGGIO\",'Daily Diary'!K:K,\"WIN\")","v":0},{"$f":"COUNTIFS('Daily Diary'!A:A,'Grafico Strategie Settimanali'!B32,'Daily Diary'!E:E,\"PUNTA SQ.CASA\",'Daily Diary'!E:E,\"PUNTA SQ.CASA\",'Daily Diary'!K:K,\"WIN\")","v":0},{"$f":"COUNTIFS('Daily Diary'!A:A,'Grafico Strategie Settimanali'!B32,'Daily Diary'!E:E,\"PUNTA SQ.OSPITE\",'Daily Diary'!E:E,\"PUNTA SQ.OSPITE\",'Daily Diary'!K:K,\"WIN\")","v":0},{"$f":"COUNTIFS('Daily Diary'!A:A,'Grafico Strategie Settimanali'!B32,'Daily Diary'!E:E,\"BANCA SFAVORITA\",'Daily Diary'!E:E,\"BANCA SFAVORITA\",'Daily Diary'!K:K,\"WIN\")","v":0},{"$f":"COUNTIFS('Daily Diary'!A:A,'Grafico Strategie Settimanali'!B32,'Daily Diary'!E:E,\"PUNTA OVER\",'Daily Diary'!E:E,\"PUNTA OVER\",'Daily Diary'!K:K,\"WIN\")","v":0},{"$f":"COUNTIFS('Daily Diary'!A:A,'Grafico Strategie Settimanali'!B32,'Daily Diary'!E:E,\"PUNTA UNDER\",'Daily Diary'!E:E,\"PUNTA UNDER\",'Daily Diary'!K:K,\"WIN\")","v":0},{"$f":"COUNTIFS('Daily Diary'!A:A,'Grafico Strategie Settimanali'!B32,'Daily Diary'!E:E,\"SCALPING\",'Daily Diary'!E:E,\"SCALPING\",'Daily Diary'!K:K,\"WIN\")","v":0},{"$f":"COUNTIFS('Daily Diary'!A:A,'Grafico Strategie Settimanali'!B32,'Daily Diary'!E:E,\"GT 90\",'Daily Diary'!E:E,\"GT 90\",'Daily Diary'!K:K,\"WIN\")","v":0},{"$f":"COUNTIFS('Daily Diary'!A:A,'Grafico Strategie Settimanali'!B32,'Daily Diary'!E:E,\"GT 110\",'Daily Diary'!E:E,\"GT 110\",'Daily Diary'!K:K,\"WIN\")","v":0},{"$f":"COUNTIFS('Daily Diary'!A:A,'Grafico Strategie Settimanali'!B32,'Daily Diary'!E:E,\"ALERT GOAL\",'Daily Diary'!E:E,\"ALERT GOAL\",'Daily Diary'!K:K,\"WIN\")","v":0},{"$f":"COUNTIFS('Daily Diary'!A:A,'Grafico Strategie Settimanali'!B32,'Daily Diary'!E:E,\"DRAW NO BET\",'Daily Diary'!E:E,\"DRAW NO BET\",'Daily Diary'!K:K,\"WIN\")","v":0},{"$f":"COUNTIFS('Daily Diary'!A:A,'Grafico Strategie Settimanali'!B32,'Daily Diary'!E:E,\"ALTRO\",'Daily Diary'!E:E,\"ALTRO\",'Daily Diary'!K:K,\"WIN\")","v":0},{"$error":"#DIV/0!"},{"$error":"#DIV/0!"},{"$error":"#DIV/0!"},{"$error":"#DIV/0!"},{"$error":"#DIV/0!"},{"$error":"#DIV/0!"},{"$error":"#DIV/0!"},{"$error":"#DIV/0!"},{"$error":"#DIV/0!"},{"$error":"#DIV/0!"},{"$error":"#DIV/0!"},{"$error":"#DIV/0!"},null,"2023-10-02",{"$f":"SUM(O153:O159)/SUM(C153:C159)","v":{"$error":"#DIV/0!"}},{"$f":"SUM(P153:P159)/SUM(D153:D159)","v":{"$error":"#DIV/0!"}},{"$f":"SUM(Q153:Q159)/SUM(E153:E159)","v":{"$error":"#DIV/0!"}},{"$error":"#DIV/0!"},{"$error":"#DIV/0!"},{"$error":"#DIV/0!"},{"$error":"#DIV/0!"},{"$error":"#DIV/0!"},{"$error":"#DIV/0!"},{"$error":"#DIV/0!"},{"$error":"#DIV/0!"},{"$error":"#DIV/0!"}]
[0,"2023-06-04",{"$f":"COUNTIFS('Daily Diary'!A:A,'Grafico Strategie Settimanali'!B33,'Daily Diary'!E:E,\"BANCA PAREGGIO\")","v":0},{"$f":"COUNTIFS('Daily Diary'!A:A,'Grafico Strategie Settimanali'!B33,'Daily Diary'!E:E,\"PUNTA SQ.CASA\")","v":0},{"$f":"COUNTIFS('Daily Diary'!A:A,'Grafico Strategie Settimanali'!B33,'Daily Diary'!E:E,\"PUNTA SQ.OSPITE\")","v":0},{"$f":"COUNTIFS('Daily Diary'!A:A,'Grafico Strategie Settimanali'!B33,'Daily Diary'!E:E,\"BANCA SFAVORITA\")","v":0},{"$f":"COUNTIFS('Daily Diary'!A:A,'Grafico Strategie Settimanali'!B33,'Daily Diary'!E:E,\"PUNTA OVER\")","v":0},{"$f":"COUNTIFS('Daily Diary'!A:A,'Grafico Strategie Settimanali'!B33,'Daily Diary'!E:E,\"PUNTA UNDER\")","v":0},{"$f":"COUNTIFS('Daily Diary'!A:A,'Grafico Strategie Settimanali'!B33,'Daily Diary'!E:E,\"SCALPING\")","v":0},{"$f":"COUNTIFS('Daily Diary'!A:A,'Grafico Strategie Settimanali'!B33,'Daily Diary'!E:E,\"GT90\")","v":0},{"$f":"COUNTIFS('Daily Diary'!A:A,'Grafico Strategie Settimanali'!B33,'Daily Diary'!E:E,\"GT110\")","v":0},{"$f":"COUNTIFS('Daily Diary'!A:A,'Grafico Strategie Settimanali'!B33,'Daily Diary'!E:E,\"ALERT GOAL\")","v":0},{"$f":"COUNTIFS('Daily Diary'!A:A,'Grafico Strategie Settimanali'!B33,'Daily Diary'!E:E,\"DRAW NO BET\")","v":0},{"$f":"COUNTIFS('Daily Diary'!A:A,'Grafico Strategie Settimanali'!B33,'Daily Diary'!E:E,\"ALTRO\")","v":0},{"$f":"COUNTIFS('Daily Diary'!A:A,'Grafico Strategie Settimanali'!B33,'Daily Diary'!E:E,\"BANCA PAREGGIO\",'Daily Diary'!E:E,\"BANCA PAREGGIO\",'Daily Diary'!K:K,\"WIN\")","v":0},{"$f":"COUNTIFS('Daily Diary'!A:A,'Grafico Strategie Settimanali'!B33,'Daily Diary'!E:E,\"PUNTA SQ.CASA\",'Daily Diary'!E:E,\"PUNTA SQ.CASA\",'Daily Diary'!K:K,\"WIN\")","v":0},{"$f":"COUNTIFS('Daily Diary'!A:A,'Grafico Strategie Settimanali'!B33,'Daily Diary'!E:E,\"PUNTA SQ.OSPITE\",'Daily Diary'!E:E,\"PUNTA SQ.OSPITE\",'Daily Diary'!K:K,\"WIN\")","v":0},{"$f":"COUNTIFS('Daily Diary'!A:A,'Grafico Strategie Settimanali'!B33,'Daily Diary'!E:E,\"BANCA SFAVORITA\",'Daily Diary'!E:E,\"BANCA SFAVORITA\",'Daily Diary'!K:K,\"WIN\")","v":0},{"$f":"COUNTIFS('Daily Diary'!A:A,'Grafico Strategie Settimanali'!B33,'Daily Diary'!E:E,\"PUNTA OVER\",'Daily Diary'!E:E,\"PUNTA OVER\",'Daily Diary'!K:K,\"WIN\")","v":0},{"$f":"COUNTIFS('Daily Diary'!A:A,'Grafico Strategie Settimanali'!B33,'Daily Diary'!E:E,\"PUNTA UNDER\",'Daily Diary'!E:E,\"PUNTA UNDER\",'Daily Diary'!K:K,\"WIN\")","v":0},{"$f":"COUNTIFS('Daily Diary'!A:A,'Grafico Strategie Settimanali'!B33,'Daily Diary'!E:E,\"SCALPING\",'Daily Diary'!E:E,\"SCALPING\",'Daily Diary'!K:K,\"WIN\")","v":0},{"$f":"COUNTIFS('Daily Diary'!A:A,'Grafico Strategie Settimanali'!B33,'Daily Diary'!E:E,\"GT 90\",'Daily Diary'!E:E,\"GT 90\",'Daily Diary'!K:K,\"WIN\")","v":0},{"$f":"COUNTIFS('Daily Diary'!A:A,'Grafico Strategie Settimanali'!B33,'Daily Diary'!E:E,\"GT 110\",'Daily Diary'!E:E,\"GT 110\",'Daily Diary'!K:K,\"WIN\")","v":0},{"$f":"COUNTIFS('Daily Diary'!A:A,'Grafico Strategie Settimanali'!B33,'Daily Diary'!E:E,\"ALERT GOAL\",'Daily Diary'!E:E,\"ALERT GOAL\",'Daily Diary'!K:K,\"WIN\")","v":0},{"$f":"COUNTIFS('Daily Diary'!A:A,'Grafico Strategie Settimanali'!B33,'Daily Diary'!E:E,\"DRAW NO BET\",'Daily Diary'!E:E,\"DRAW NO BET\",'Daily Diary'!K:K,\"WIN\")","v":0},{"$f":"COUNTIFS('Daily Diary'!A:A,'Grafico Strategie Settimanali'!B33,'Daily Diary'!E:E,\"ALTRO\",'Daily Diary'!E:E,\"ALTRO\",'Daily Diary'!K:K,\"WIN\")","v":0},{"$error":"#DIV/0!"},{"$error":"#DIV/0!"},{"$error":"#DIV/0!"},{"$error":"#DIV/0!"},{"$error":"#DIV/0!"},{"$error":"#DIV/0!"},{"$error":"#DIV/0!"},{"$error":"#DIV/0!"},{"$error":"#DIV/0!"},{"$error":"#DIV/0!"},{"$error":"#DIV/0!"},{"$error":"#DIV/0!"},null,"2023-10-09",{"$f":"SUM(O160:O166)/SUM(C160:C166)","v":{"$error":"#DIV/0!"}},{"$f":"SUM(P160:P166)/SUM(D160:D166)","v":{"$error":"#DIV/0!"}},{"$f":"SUM(Q160:Q166)/SUM(E160:E166)","v":{"$error":"#DIV/0!"}},{"$error":"#DIV/0!"},{"$error":"#DIV/0!"},{"$error":"#DIV/0!"},{"$error":"#DIV/0!"},{"$error":"#DIV/0!"},{"$error":"#DIV/0!"},{"$error":"#DIV/0!"},{"$error":"#DIV/0!"},{"$error":"#DIV/0!"}]
[0,"2023-06-05",{"$f":"COUNTIFS('Daily Diary'!A:A,'Grafico Strategie Settimanali'!B34,'Daily Diary'!E:E,\"BANCA PAREGGIO\")","v":0},{"$f":"COUNTIFS('Daily Diary'!A:A,'Grafico Strategie Settimanali'!B34,'Daily Diary'!E:E,\"PUNTA SQ.CASA\")","v":0},{"$f":"COUNTIFS('Daily Diary'!A:A,'Grafico Strategie Settimanali'!B34,'Daily Diary'!E:E,\"PUNTA SQ.OSPITE\")","v":0},{"$f":"COUNTIFS('Daily Diary'!A:A,'Grafico Strategie Settimanali'!B34,'Daily Diary'!E:E,\"BANCA SFAVORITA\")","v":0},{"$f":"COUNTIFS('Daily Diary'!A:A,'Grafico Strategie Settimanali'!B34,'Daily Diary'!E:E,\"PUNTA OVER\")","v":0},{"$f":"COUNTIFS('Daily Diary'!A:A,'Grafico Strategie Settimanali'!B34,'Daily Diary'!E:E,\"PUNTA UNDER\")","v":0},{"$f":"COUNTIFS('Daily Diary'!A:A,'Grafico Strategie Settimanali'!B34,'Daily Diary'!E:E,\"SCALPING\")","v":0},{"$f":"COUNTIFS('Daily Diary'!A:A,'Grafico Strategie Settimanali'!B34,'Daily Diary'!E:E,\"GT90\")","v":0},{"$f":"COUNTIFS('Daily Diary'!A:A,'Grafico Strategie Settimanali'!B34,'Daily Diary'!E:E,\"GT110\")","v":0},{"$f":"COUNTIFS('Daily Diary'!A:A,'Grafico Strategie Settimanali'!B34,'Daily Diary'!E:E,\"ALERT GOAL\")","v":0},{"$f":"COUNTIFS('Daily Diary'!A:A,'Grafico Strategie Settimanali'!B34,'Daily Diary'!E:E,\"DRAW NO BET\")","v":0},{"$f":"COUNTIFS('Daily Diary'!A:A,'Grafico Strategie Settimanali'!B34,'Daily Diary'!E:E,\"ALTRO\")","v":0},{"$f":"COUNTIFS('Daily Diary'!A:A,'Grafico Strategie Settimanali'!B34,'Daily Diary'!E:E,\"BANCA PAREGGIO\",'Daily Diary'!E:E,\"BANCA PAREGGIO\",'Daily Diary'!K:K,\"WIN\")","v":0},{"$f":"COUNTIFS('Daily Diary'!A:A,'Grafico Strategie Settimanali'!B34,'Daily Diary'!E:E,\"PUNTA SQ.CASA\",'Daily Diary'!E:E,\"PUNTA SQ.CASA\",'Daily Diary'!K:K,\"WIN\")","v":0},{"$f":"COUNTIFS('Daily Diary'!A:A,'Grafico Strategie Settimanali'!B34,'Daily Diary'!E:E,\"PUNTA SQ.OSPITE\",'Daily Diary'!E:E,\"PUNTA SQ.OSPITE\",'Daily Diary'!K:K,\"WIN\")","v":0},{"$f":"COUNTIFS('Daily Diary'!A:A,'Grafico Strategie Settimanali'!B34,'Daily Diary'!E:E,\"BANCA SFAVORITA\",'Daily Diary'!E:E,\"BANCA SFAVORITA\",'Daily Diary'!K:K,\"WIN\")","v":0},{"$f":"COUNTIFS('Daily Diary'!A:A,'Grafico Strategie Settimanali'!B34,'Daily Diary'!E:E,\"PUNTA OVER\",'Daily Diary'!E:E,\"PUNTA OVER\",'Daily Diary'!K:K,\"WIN\")","v":0},{"$f":"COUNTIFS('Daily Diary'!A:A,'Grafico Strategie Settimanali'!B34,'Daily Diary'!E:E,\"PUNTA UNDER\",'Daily Diary'!E:E,\"PUNTA UNDER\",'Daily Diary'!K:K,\"WIN\")","v":0},{"$f":"COUNTIFS('Daily Diary'!A:A,'Grafico Strategie Settimanali'!B34,'Daily Diary'!E:E,\"SCALPING\",'Daily Diary'!E:E,\"SCALPING\",'Daily Diary'!K:K,\"WIN\")","v":0},{"$f":"COUNTIFS('Daily Diary'!A:A,'Grafico Strategie Settimanali'!B34,'Daily Diary'!E:E,\"GT 90\",'Daily Diary'!E:E,\"GT 90\",'Daily Diary'!K:K,\"WIN\")","v":0},{"$f":"COUNTIFS('Daily Diary'!A:A,'Grafico Strategie Settimanali'!B34,'Daily Diary'!E:E,\"GT 110\",'Daily Diary'!E:E,\"GT 110\",'Daily Diary'!K:K,\"WIN\")","v":0},{"$f":"COUNTIFS('Daily Diary'!A:A,'Grafico Strategie Settimanali'!B34,'Daily Diary'!E:E,\"ALERT GOAL\",'Daily Diary'!E:E,\"ALERT GOAL\",'Daily Diary'!K:K,\"WIN\")","v":0},{"$f":"COUNTIFS('Daily Diary'!A:A,'Grafico Strategie Settimanali'!B34,'Daily Diary'!E:E,\"DRAW NO BET\",'Daily Diary'!E:E,\"DRAW NO BET\",'Daily Diary'!K:K,\"WIN\")","v":0},{"$f":"COUNTIFS('Daily Diary'!A:A,'Grafico Strategie Settimanali'!B34,'Daily Diary'!E:E,\"ALTRO\",'Daily Diary'!E:E,\"ALTRO\",'Daily Diary'!K:K,\"WIN\")","v":0},{"$error":"#DIV/0!"},{"$error":"#DIV/0!"},{"$error":"#DIV/0!"},{"$error":"#DIV/0!"},{"$error":"#DIV/0!"},{"$error":"#DIV/0!"},{"$error":"#DIV/0!"},{"$error":"#DIV/0!"},{"$error":"#DIV/0!"},{"$error":"#DIV/0!"},{"$error":"#DIV/0!"},{"$error":"#DIV/0!"},null,"2023-10-16",{"$f":"SUM(O167:O173)/SUM(C167:C173)","v":{"$error":"#DIV/0!"}},{"$f":"SUM(P167:P173)/SUM(D167:D173)","v":{"$error":"#DIV/0!"}},{"$f":"SUM(Q167:Q173)/SUM(E167:E173)","v":{"$error":"#DIV/0!"}},{"$error":"#DIV/0!"},{"$error":"#DIV/0!"},{"$error":"#DIV/0!"},{"$error":"#DIV/0!"},{"$error":"#DIV/0!"},{"$error":"#DIV/0!"},{"$error":"#DIV/0!"},{"$error":"#DIV/0!"},{"$error":"#DIV/0!"}]
[0,"2023-06-06",{"$f":"COUNTIFS('Daily Diary'!A:A,'Grafico Strategie Settimanali'!B35,'Daily Diary'!E:E,\"BANCA PAREGGIO\")","v":0},{"$f":"COUNTIFS('Daily Diary'!A:A,'Grafico Strategie Settimanali'!B35,'Daily Diary'!E:E,\"PUNTA SQ.CASA\")","v":0},{"$f":"COUNTIFS('Daily Diary'!A:A,'Grafico Strategie Settimanali'!B35,'Daily Diary'!E:E,\"PUNTA SQ.OSPITE\")","v":0},{"$f":"COUNTIFS('Daily Diary'!A:A,'Grafico Strategie Settimanali'!B35,'Daily Diary'!E:E,\"BANCA SFAVORITA\")","v":0},{"$f":"COUNTIFS('Daily Diary'!A:A,'Grafico Strategie Settimanali'!B35,'Daily Diary'!E:E,\"PUNTA OVER\")","v":0},{"$f":"COUNTIFS('Daily Diary'!A:A,'Grafico Strategie Settimanali'!B35,'Daily Diary'!E:E,\"PUNTA UNDER\")","v":0},{"$f":"COUNTIFS('Daily Diary'!A:A,'Grafico Strategie Settimanali'!B35,'Daily Diary'!E:E,\"SCALPING\")","v":0},{"$f":"COUNTIFS('Daily Diary'!A:A,'Grafico Strategie Settimanali'!B35,'Daily Diary'!E:E,\"GT90\")","v":0},{"$f":"COUNTIFS('Daily Diary'!A:A,'Grafico Strategie Settimanali'!B35,'Daily Diary'!E:E,\"GT110\")","v":0},{"$f":"COUNTIFS('Daily Diary'!A:A,'Grafico Strategie Settimanali'!B35,'Daily Diary'!E:E,\"ALERT GOAL\")","v":0},{"$f":"COUNTIFS('Daily Diary'!A:A,'Grafico Strategie Settimanali'!B35,'Daily Diary'!E:E,\"DRAW NO BET\")","v":0},{"$f":"COUNTIFS('Daily Diary'!A:A,'Grafico Strategie Settimanali'!B35,'Daily Diary'!E:E,\"ALTRO\")","v":0},{"$f":"COUNTIFS('Daily Diary'!A:A,'Grafico Strategie Settimanali'!B35,'Daily Diary'!E:E,\"BANCA PAREGGIO\",'Daily Diary'!E:E,\"BANCA PAREGGIO\",'Daily Diary'!K:K,\"WIN\")","v":0},{"$f":"COUNTIFS('Daily Diary'!A:A,'Grafico Strategie Settimanali'!B35,'Daily Diary'!E:E,\"PUNTA SQ.CASA\",'Daily Diary'!E:E,\"PUNTA SQ.CASA\",'Daily Diary'!K:K,\"WIN\")","v":0},{"$f":"COUNTIFS('Daily Diary'!A:A,'Grafico Strategie Settimanali'!B35,'Daily Diary'!E:E,\"PUNTA SQ.OSPITE\",'Daily Diary'!E:E,\"PUNTA SQ.OSPITE\",'Daily Diary'!K:K,\"WIN\")","v":0},{"$f":"COUNTIFS('Daily Diary'!A:A,'Grafico Strategie Settimanali'!B35,'Daily Diary'!E:E,\"BANCA SFAVORITA\",'Daily Diary'!E:E,\"BANCA SFAVORITA\",'Daily Diary'!K:K,\"WIN\")","v":0},{"$f":"COUNTIFS('Daily Diary'!A:A,'Grafico Strategie Settimanali'!B35,'Daily Diary'!E:E,\"PUNTA OVER\",'Daily Diary'!E:E,\"PUNTA OVER\",'Daily Diary'!K:K,\"WIN\")","v":0},{"$f":"COUNTIFS('Daily Diary'!A:A,'Grafico Strategie Settimanali'!B35,'Daily Diary'!E:E,\"PUNTA UNDER\",'Daily Diary'!E:E,\"PUNTA UNDER\",'Daily Diary'!K:K,\"WIN\")","v":0},{"$f":"COUNTIFS('Daily Diary'!A:A,'Grafico Strategie Settimanali'!B35,'Daily Diary'!E:E,\"SCALPING\",'Daily Diary'!E:E,\"SCALPING\",'Daily Diary'!K:K,\"WIN\")","v":0},{"$f":"COUNTIFS('Daily Diary'!A:A,'Grafico Strategie Settimanali'!B35,'Daily Diary'!E:E,\"GT 90\",'Daily Diary'!E:E,\"GT 90\",'Daily Diary'!K:K,\"WIN\")","v":0},{"$f":"COUNTIFS('Daily Diary'!A:A,'Grafico Strategie Settimanali'!B35,'Daily Diary'!E:E,\"GT 110\",'Daily Diary'!E:E,\"GT 110\",'Daily Diary'!K:K,\"WIN\")","v":0},{"$f":"COUNTIFS('Daily Diary'!A:A,'Grafico Strategie Settimanali'!B35,'Daily Diary'!E:E,\"ALERT GOAL\",'Daily Diary'!E:E,\"ALERT GOAL\",'Daily Diary'!K:K,\"WIN\")","v":0},{"$f":"COUNTIFS('Daily Diary'!A:A,'Grafico Strategie Settimanali'!B35,'Daily Diary'!E:E,\"DRAW NO BET\",'Daily Diary'!E:E,\"DRAW NO BET\",'Daily Diary'!K:K,\"WIN\")","v":0},{"$f":"COUNTIFS('Daily Diary'!A:A,'Grafico Strategie Settimanali'!B35,'Daily Diary'!E:E,\"ALTRO\",'Daily Diary'!E:E,\"ALTRO\",'Daily Diary'!K:K,\"WIN\")","v":0},{"$error":"#DIV/0!"},{"$error":"#DIV/0!"},{"$error":"#DIV/0!"},{"$error":"#DIV/0!"},{"$error":"#DIV/0!"},{"$error":"#DIV/0!"},{"$error":"#DIV/0!"},{"$error":"#DIV/0!"},{"$error":"#DIV/0!"},{"$error":"#DIV/0!"},{"$error":"#DIV/0!"},{"$error":"#DIV/0!"},null,"2023-10-23",{"$f":"SUM(O174:O180)/SUM(C174:C180)","v":{"$error":"#DIV/0!"}},{"$f":"SUM(P174:P180)/SUM(D174:D180)","v":{"$error":"#DIV/0!"}},{"$f":"SUM(Q174:Q180)/SUM(E174:E180)","v":{"$error":"#DIV/0!"}},{"$error":"#DIV/0!"},{"$error":"#DIV/0!"},{"$error":"#DIV/0!"},{"$error":"#DIV/0!"},{"$error":"#DIV/0!"},{"$error":"#DIV/0!"},{"$error":"#DIV/0!"},{"$error":"#DIV/0!"},{"$error":"#DIV/0!"}]
[0,"2023-06-07",{"$f":"COUNTIFS('Daily Diary'!A:A,'Grafico Strategie Settimanali'!B36,'Daily Diary'!E:E,\"BANCA PAREGGIO\")","v":0},{"$f":"COUNTIFS('Daily Diary'!A:A,'Grafico Strategie Settimanali'!B36,'Daily Diary'!E:E,\"PUNTA SQ.CASA\")","v":0},{"$f":"COUNTIFS('Daily Diary'!A:A,'Grafico Strategie Settimanali'!B36,'Daily Diary'!E:E,\"PUNTA SQ.OSPITE\")","v":0},{"$f":"COUNTIFS('Daily Diary'!A:A,'Grafico Strategie Settimanali'!B36,'Daily Diary'!E:E,\"BANCA SFAVORITA\")","v":0},{"$f":"COUNTIFS('Daily Diary'!A:A,'Grafico Strategie Settimanali'!B36,'Daily Diary'!E:E,\"PUNTA OVER\")","v":0},{"$f":"COUNTIFS('Daily Diary'!A:A,'Grafico Strategie Settimanali'!B36,'Daily Diary'!E:E,\"PUNTA UNDER\")","v":0},{"$f":"COUNTIFS('Daily Diary'!A:A,'Grafico Strategie Settimanali'!B36,'Daily Diary'!E:E,\"SCALPING\")","v":0},{"$f":"COUNTIFS('Daily Diary'!A:A,'Grafico Strategie Settimanali'!B36,'Daily Diary'!E:E,\"GT90\")","v":0},{"$f":"COUNTIFS('Daily Diary'!A:A,'Grafico Strategie Settimanali'!B36,'Daily Diary'!E:E,\"GT110\")","v":0},{"$f":"COUNTIFS('Daily Diary'!A:A,'Grafico Strategie Settimanali'!B36,'Daily Diary'!E:E,\"ALERT GOAL\")","v":0},{"$f":"COUNTIFS('Daily Diary'!A:A,'Grafico Strategie Settimanali'!B36,'Daily Diary'!E:E,\"DRAW NO BET\")","v":0},{"$f":"COUNTIFS('Daily Diary'!A:A,'Grafico Strategie Settimanali'!B36,'Daily Diary'!E:E,\"ALTRO\")","v":0},{"$f":"COUNTIFS('Daily Diary'!A:A,'Grafico Strategie Settimanali'!B36,'Daily Diary'!E:E,\"BANCA PAREGGIO\",'Daily Diary'!E:E,\"BANCA PAREGGIO\",'Daily Diary'!K:K,\"WIN\")","v":0},{"$f":"COUNTIFS('Daily Diary'!A:A,'Grafico Strategie Settimanali'!B36,'Daily Diary'!E:E,\"PUNTA SQ.CASA\",'Daily Diary'!E:E,\"PUNTA SQ.CASA\",'Daily Diary'!K:K,\"WIN\")","v":0},{"$f":"COUNTIFS('Daily Diary'!A:A,'Grafico Strategie Settimanali'!B36,'Daily Diary'!E:E,\"PUNTA SQ.OSPITE\",'Daily Diary'!E:E,\"PUNTA SQ.OSPITE\",'Daily Diary'!K:K,\"WIN\")","v":0},{"$f":"COUNTIFS('Daily Diary'!A:A,'Grafico Strategie Settimanali'!B36,'Daily Diary'!E:E,\"BANCA SFAVORITA\",'Daily Diary'!E:E,\"BANCA SFAVORITA\",'Daily Diary'!K:K,\"WIN\")","v":0},{"$f":"COUNTIFS('Daily Diary'!A:A,'Grafico Strategie Settimanali'!B36,'Daily Diary'!E:E,\"PUNTA OVER\",'Daily Diary'!E:E,\"PUNTA OVER\",'Daily Diary'!K:K,\"WIN\")","v":0},{"$f":"COUNTIFS('Daily Diary'!A:A,'Grafico Strategie Settimanali'!B36,'Daily Diary'!E:E,\"PUNTA UNDER\",'Daily Diary'!E:E,\"PUNTA UNDER\",'Daily Diary'!K:K,\"WIN\")","v":0},{"$f":"COUNTIFS('Daily Diary'!A:A,'Grafico Strategie Settimanali'!B36,'Daily Diary'!E:E,\"SCALPING\",'Daily Diary'!E:E,\"SCALPING\",'Daily Diary'!K:K,\"WIN\")","v":0},{"$f":"COUNTIFS('Daily Diary'!A:A,'Grafico Strategie Settimanali'!B36,'Daily Diary'!E:E,\"GT 90\",'Daily Diary'!E:E,\"GT 90\",'Daily Diary'!K:K,\"WIN\")","v":0},{"$f":"COUNTIFS('Daily Diary'!A:A,'Grafico Strategie Settimanali'!B36,'Daily Diary'!E:E,\"GT 110\",'Daily Diary'!E:E,\"GT 110\",'Daily Diary'!K:K,\"WIN\")","v":0},{"$f":"COUNTIFS('Daily Diary'!A:A,'Grafico Strategie Settimanali'!B36,'Daily Diary'!E:E,\"ALERT GOAL\",'Daily Diary'!E:E,\"ALERT GOAL\",'Daily Diary'!K:K,\"WIN\")","v":0},{"$f":"COUNTIFS('Daily Diary'!A:A,'Grafico Strategie Settimanali'!B36,'Daily Diary'!E:E,\"DRAW NO BET\",'Daily Diary'!E:E,\"DRAW NO BET\",'Daily Diary'!K:K,\"WIN\")","v":0},{"$f":"COUNTIFS('Daily Diary'!A:A,'Grafico Strategie Settimanali'!B36,'Daily Diary'!E:E,\"ALTRO\",'Daily Diary'!E:E,\"ALTRO\",'Daily Diary'!K:K,\"WIN\")","v":0},{"$error":"#DIV/0!"},{"$error":"#DIV/0!"},{"$error":"#DIV/0!"},{"$error":"#DIV/0!"},{"$error":"#DIV/0!"},{"$error":"#DIV/0!"},{"$error":"#DIV/0!"},{"$error":"#DIV/0!"},{"$error":"#DIV/0!"},{"$error":"#DIV/0!"},{"$error":"#DIV/0!"},{"$error":"#DIV/0!"},null,"2023-10-30",{"$f":"SUM(O181:O187)/SUM(C181:C187)","v":{"$error":"#DIV/0!"}},{"$f":"SUM(P181:P187)/SUM(D181:D187)","v":{"$error":"#DIV/0!"}},{"$f":"SUM(Q181:Q187)/SUM(E181:E187)","v":{"$error":"#DIV/0!"}},{"$error":"#DIV/0!"},{"$error":"#DIV/0!"},{"$error":"#DIV/0!"},{"$error":"#DIV/0!"},{"$error":"#DIV/0!"},{"$error":"#DIV/0!"},{"$error":"#DIV/0!"},{"$error":"#DIV/0!"},{"$error":"#DIV/0!"}]
[0,"2023-06-08",{"$f":"COUNTIFS('Daily Diary'!A:A,'Grafico Strategie Settimanali'!B37,'Daily Diary'!E:E,\"BANCA PAREGGIO\")","v":0},{"$f":"COUNTIFS('Daily Diary'!A:A,'Grafico Strategie Settimanali'!B37,'Daily Diary'!E:E,\"PUNTA SQ.CASA\")","v":0},{"$f":"COUNTIFS('Daily Diary'!A:A,'Grafico Strategie Settimanali'!B37,'Daily Diary'!E:E,\"PUNTA SQ.OSPITE\")","v":0},{"$f":"COUNTIFS('Daily Diary'!A:A,'Grafico Strategie Settimanali'!B37,'Daily Diary'!E:E,\"BANCA SFAVORITA\")","v":0},{"$f":"COUNTIFS('Daily Diary'!A:A,'Grafico Strategie Settimanali'!B37,'Daily Diary'!E:E,\"PUNTA OVER\")","v":0},{"$f":"COUNTIFS('Daily Diary'!A:A,'Grafico Strategie Settimanali'!B37,'Daily Diary'!E:E,\"PUNTA UNDER\")","v":0},{"$f":"COUNTIFS('Daily Diary'!A:A,'Grafico Strategie Settimanali'!B37,'Daily Diary'!E:E,\"SCALPING\")","v":0},{"$f":"COUNTIFS('Daily Diary'!A:A,'Grafico Strategie Settimanali'!B37,'Daily Diary'!E:E,\"GT90\")","v":0},{"$f":"COUNTIFS('Daily Diary'!A:A,'Grafico Strategie Settimanali'!B37,'Daily Diary'!E:E,\"GT110\")","v":0},{"$f":"COUNTIFS('Daily Diary'!A:A,'Grafico Strategie Settimanali'!B37,'Daily Diary'!E:E,\"ALERT GOAL\")","v":0},{"$f":"COUNTIFS('Daily Diary'!A:A,'Grafico Strategie Settimanali'!B37,'Daily Diary'!E:E,\"DRAW NO BET\")","v":0},{"$f":"COUNTIFS('Daily Diary'!A:A,'Grafico Strategie Settimanali'!B37,'Daily Diary'!E:E,\"ALTRO\")","v":0},{"$f":"COUNTIFS('Daily Diary'!A:A,'Grafico Strategie Settimanali'!B37,'Daily Diary'!E:E,\"BANCA PAREGGIO\",'Daily Diary'!E:E,\"BANCA PAREGGIO\",'Daily Diary'!K:K,\"WIN\")","v":0},{"$f":"COUNTIFS('Daily Diary'!A:A,'Grafico Strategie Settimanali'!B37,'Daily Diary'!E:E,\"PUNTA SQ.CASA\",'Daily Diary'!E:E,\"PUNTA SQ.CASA\",'Daily Diary'!K:K,\"WIN\")","v":0},{"$f":"COUNTIFS('Daily Diary'!A:A,'Grafico Strategie Settimanali'!B37,'Daily Diary'!E:E,\"PUNTA SQ.OSPITE\",'Daily Diary'!E:E,\"PUNTA SQ.OSPITE\",'Daily Diary'!K:K,\"WIN\")","v":0},{"$f":"COUNTIFS('Daily Diary'!A:A,'Grafico Strategie Settimanali'!B37,'Daily Diary'!E:E,\"BANCA SFAVORITA\",'Daily Diary'!E:E,\"BANCA SFAVORITA\",'Daily Diary'!K:K,\"WIN\")","v":0},{"$f":"COUNTIFS('Daily Diary'!A:A,'Grafico Strategie Settimanali'!B37,'Daily Diary'!E:E,\"PUNTA OVER\",'Daily Diary'!E:E,\"PUNTA OVER\",'Daily Diary'!K:K,\"WIN\")","v":0},{"$f":"COUNTIFS('Daily Diary'!A:A,'Grafico Strategie Settimanali'!B37,'Daily Diary'!E:E,\"PUNTA UNDER\",'Daily Diary'!E:E,\"PUNTA UNDER\",'Daily Diary'!K:K,\"WIN\")","v":0},{"$f":"COUNTIFS('Daily Diary'!A:A,'Grafico Strategie Settimanali'!B37,'Daily Diary'!E:E,\"SCALPING\",'Daily Diary'!E:E,\"SCALPING\",'Daily Diary'!K:K,\"WIN\")","v":0},{"$f":"COUNTIFS('Daily Diary'!A:A,'Grafico Strategie Settimanali'!B37,'Daily Diary'!E:E,\"GT 90\",'Daily Diary'!E:E,\"GT 90\",'Daily Diary'!K:K,\"WIN\")","v":0},{"$f":"COUNTIFS('Daily Diary'!A:A,'Grafico Strategie Settimanali'!B37,'Daily Diary'!E:E,\"GT 110\",'Daily Diary'!E:E,\"GT 110\",'Daily Diary'!K:K,\"WIN\")","v":0},{"$f":"COUNTIFS('Daily Diary'!A:A,'Grafico Strategie Settimanali'!B37,'Daily Diary'!E:E,\"ALERT GOAL\",'Daily Diary'!E:E,\"ALERT GOAL\",'Daily Diary'!K:K,\"WIN\")","v":0},{"$f":"COUNTIFS('Daily Diary'!A:A,'Grafico Strategie Settimanali'!B37,'Daily Diary'!E:E,\"DRAW NO BET\",'Daily Diary'!E:E,\"DRAW NO BET\",'Daily Diary'!K:K,\"WIN\")","v":0},{"$f":"COUNTIFS('Daily Diary'!A:A,'Grafico Strategie Settimanali'!B37,'Daily Diary'!E:E,\"ALTRO\",'Daily Diary'!E:E,\"ALTRO\",'Daily Diary'!K:K,\"WIN\")","v":0},{"$error":"#DIV/0!"},{"$error":"#DIV/0!"},{"$error":"#DIV/0!"},{"$error":"#DIV/0!"},{"$error":"#DIV/0!"},{"$error":"#DIV/0!"},{"$error":"#DIV/0!"},{"$error":"#DIV/0!"},{"$error":"#DIV/0!"},{"$error":"#DIV/0!"},{"$error":"#DIV/0!"},{"$error":"#DIV/0!"},null,"2023-11-06",{"$f":"SUM(O188:O194)/SUM(C188:C194)","v":{"$error":"#DIV/0!"}},{"$f":"SUM(P188:P194)/SUM(D188:D194)","v":{"$error":"#DIV/0!"}},{"$f":"SUM(Q188:Q194)/SUM(E188:E194)","v":{"$error":"#DIV/0!"}},{"$error":"#DIV/0!"},{"$error":"#DIV/0!"},{"$error":"#DIV/0!"},{"$error":"#DIV/0!"},{"$error":"#DIV/0!"},{"$error":"#DIV/0!"},{"$error":"#DIV/0!"},{"$error":"#DIV/0!"},{"$error":"#DIV/0!"}]
[0,"2023-06-09",{"$f":"COUNTIFS('Daily Diary'!A:A,'Grafico Strategie Settimanali'!B38,'Daily Diary'!E:E,\"BANCA PAREGGIO\")","v":0},{"$f":"COUNTIFS('Daily Diary'!A:A,'Grafico Strategie Settimanali'!B38,'Daily Diary'!E:E,\"PUNTA SQ.CASA\")","v":0},{"$f":"COUNTIFS('Daily Diary'!A:A,'Grafico Strategie Settimanali'!B38,'Daily Diary'!E:E,\"PUNTA SQ.OSPITE\")","v":0},{"$f":"COUNTIFS('Daily Diary'!A:A,'Grafico Strategie Settimanali'!B38,'Daily Diary'!E:E,\"BANCA SFAVORITA\")","v":0},{"$f":"COUNTIFS('Daily Diary'!A:A,'Grafico Strategie Settimanali'!B38,'Daily Diary'!E:E,\"PUNTA OVER\")","v":0},{"$f":"COUNTIFS('Daily Diary'!A:A,'Grafico Strategie Settimanali'!B38,'Daily Diary'!E:E,\"PUNTA UNDER\")","v":0},{"$f":"COUNTIFS('Daily Diary'!A:A,'Grafico Strategie Settimanali'!B38,'Daily Diary'!E:E,\"SCALPING\")","v":0},{"$f":"COUNTIFS('Daily Diary'!A:A,'Grafico Strategie Settimanali'!B38,'Daily Diary'!E:E,\"GT90\")","v":0},{"$f":"COUNTIFS('Daily Diary'!A:A,'Grafico Strategie Settimanali'!B38,'Daily Diary'!E:E,\"GT110\")","v":0},{"$f":"COUNTIFS('Daily Diary'!A:A,'Grafico Strategie Settimanali'!B38,'Daily Diary'!E:E,\"ALERT GOAL\")","v":0},{"$f":"COUNTIFS('Daily Diary'!A:A,'Grafico Strategie Settimanali'!B38,'Daily Diary'!E:E,\"DRAW NO BET\")","v":0},{"$f":"COUNTIFS('Daily Diary'!A:A,'Grafico Strategie Settimanali'!B38,'Daily Diary'!E:E,\"ALTRO\")","v":0},{"$f":"COUNTIFS('Daily Diary'!A:A,'Grafico Strategie Settimanali'!B38,'Daily Diary'!E:E,\"BANCA PAREGGIO\",'Daily Diary'!E:E,\"BANCA PAREGGIO\",'Daily Diary'!K:K,\"WIN\")","v":0},{"$f":"COUNTIFS('Daily Diary'!A:A,'Grafico Strategie Settimanali'!B38,'Daily Diary'!E:E,\"PUNTA SQ.CASA\",'Daily Diary'!E:E,\"PUNTA SQ.CASA\",'Daily Diary'!K:K,\"WIN\")","v":0},{"$f":"COUNTIFS('Daily Diary'!A:A,'Grafico Strategie Settimanali'!B38,'Daily Diary'!E:E,\"PUNTA SQ.OSPITE\",'Daily Diary'!E:E,\"PUNTA SQ.OSPITE\",'Daily Diary'!K:K,\"WIN\")","v":0},{"$f":"COUNTIFS('Daily Diary'!A:A,'Grafico Strategie Settimanali'!B38,'Daily Diary'!E:E,\"BANCA SFAVORITA\",'Daily Diary'!E:E,\"BANCA SFAVORITA\",'Daily Diary'!K:K,\"WIN\")","v":0},{"$f":"COUNTIFS('Daily Diary'!A:A,'Grafico Strategie Settimanali'!B38,'Daily Diary'!E:E,\"PUNTA OVER\",'Daily Diary'!E:E,\"PUNTA OVER\",'Daily Diary'!K:K,\"WIN\")","v":0},{"$f":"COUNTIFS('Daily Diary'!A:A,'Grafico Strategie Settimanali'!B38,'Daily Diary'!E:E,\"PUNTA UNDER\",'Daily Diary'!E:E,\"PUNTA UNDER\",'Daily Diary'!K:K,\"WIN\")","v":0},{"$f":"COUNTIFS('Daily Diary'!A:A,'Grafico Strategie Settimanali'!B38,'Daily Diary'!E:E,\"SCALPING\",'Daily Diary'!E:E,\"SCALPING\",'Daily Diary'!K:K,\"WIN\")","v":0},{"$f":"COUNTIFS('Daily Diary'!A:A,'Grafico Strategie Settimanali'!B38,'Daily Diary'!E:E,\"GT 90\",'Daily Diary'!E:E,\"GT 90\",'Daily Diary'!K:K,\"WIN\")","v":0},{"$f":"COUNTIFS('Daily Diary'!A:A,'Grafico Strategie Settimanali'!B38,'Daily Diary'!E:E,\"GT 110\",'Daily Diary'!E:E,\"GT 110\",'Daily Diary'!K:K,\"WIN\")","v":0},{"$f":"COUNTIFS('Daily Diary'!A:A,'Grafico Strategie Settimanali'!B38,'Daily Diary'!E:E,\"ALERT GOAL\",'Daily Diary'!E:E,\"ALERT GOAL\",'Daily Diary'!K:K,\"WIN\")","v":0},{"$f":"COUNTIFS('Daily Diary'!A:A,'Grafico Strategie Settimanali'!B38,'Daily Diary'!E:E,\"DRAW NO BET\",'Daily Diary'!E:E,\"DRAW NO BET\",'Daily Diary'!K:K,\"WIN\")","v":0},{"$f":"COUNTIFS('Daily Diary'!A:A,'Grafico Strategie Settimanali'!B38,'Daily Diary'!E:E,\"ALTRO\",'Daily Diary'!E:E,\"ALTRO\",'Daily Diary'!K:K,\"WIN\")","v":0},{"$error":"#DIV/0!"},{"$error":"#DIV/0!"},{"$error":"#DIV/0!"},{"$error":"#DIV/0!"},{"$error":"#DIV/0!"},{"$error":"#DIV/0!"},{"$error":"#DIV/0!"},{"$error":"#DIV/0!"},{"$error":"#DIV/0!"},{"$error":"#DIV/0!"},{"$error":"#DIV/0!"},{"$error":"#DIV/0!"},null,"2023-11-13",{"$f":"SUM(O195:O201)/SUM(C195:C201)","v":{"$error":"#DIV/0!"}},{"$f":"SUM(P195:P201)/SUM(D195:D201)","v":{"$error":"#DIV/0!"}},{"$f":"SUM(Q195:Q201)/SUM(E195:E201)","v":{"$error":"#DIV/0!"}},{"$error":"#DIV/0!"},{"$error":"#DIV/0!"},{"$error":"#DIV/0!"},{"$error":"#DIV/0!"},{"$error":"#DIV/0!"},{"$error":"#DIV/0!"},{"$error":"#DIV/0!"},{"$error":"#DIV/0!"},{"$error":"#DIV/0!"}]
[0,"2023-06-10",{"$f":"COUNTIFS('Daily Diary'!A:A,'Grafico Strategie Settimanali'!B39,'Daily Diary'!E:E,\"BANCA PAREGGIO\")","v":0},{"$f":"COUNTIFS('Daily Diary'!A:A,'Grafico Strategie Settimanali'!B39,'Daily Diary'!E:E,\"PUNTA SQ.CASA\")","v":0},{"$f":"COUNTIFS('Daily Diary'!A:A,'Grafico Strategie Settimanali'!B39,'Daily Diary'!E:E,\"PUNTA SQ.OSPITE\")","v":0},{"$f":"COUNTIFS('Daily Diary'!A:A,'Grafico Strategie Settimanali'!B39,'Daily Diary'!E:E,\"BANCA SFAVORITA\")","v":0},{"$f":"COUNTIFS('Daily Diary'!A:A,'Grafico Strategie Settimanali'!B39,'Daily Diary'!E:E,\"PUNTA OVER\")","v":0},{"$f":"COUNTIFS('Daily Diary'!A:A,'Grafico Strategie Settimanali'!B39,'Daily Diary'!E:E,\"PUNTA UNDER\")","v":0},{"$f":"COUNTIFS('Daily Diary'!A:A,'Grafico Strategie Settimanali'!B39,'Daily Diary'!E:E,\"SCALPING\")","v":0},{"$f":"COUNTIFS('Daily Diary'!A:A,'Grafico Strategie Settimanali'!B39,'Daily Diary'!E:E,\"GT90\")","v":0},{"$f":"COUNTIFS('Daily Diary'!A:A,'Grafico Strategie Settimanali'!B39,'Daily Diary'!E:E,\"GT110\")","v":0},{"$f":"COUNTIFS('Daily Diary'!A:A,'Grafico Strategie Settimanali'!B39,'Daily Diary'!E:E,\"ALERT GOAL\")","v":0},{"$f":"COUNTIFS('Daily Diary'!A:A,'Grafico Strategie Settimanali'!B39,'Daily Diary'!E:E,\"DRAW NO BET\")","v":0},{"$f":"COUNTIFS('Daily Diary'!A:A,'Grafico Strategie Settimanali'!B39,'Daily Diary'!E:E,\"ALTRO\")","v":0},{"$f":"COUNTIFS('Daily Diary'!A:A,'Grafico Strategie Settimanali'!B39,'Daily Diary'!E:E,\"BANCA PAREGGIO\",'Daily Diary'!E:E,\"BANCA PAREGGIO\",'Daily Diary'!K:K,\"WIN\")","v":0},{"$f":"COUNTIFS('Daily Diary'!A:A,'Grafico Strategie Settimanali'!B39,'Daily Diary'!E:E,\"PUNTA SQ.CASA\",'Daily Diary'!E:E,\"PUNTA SQ.CASA\",'Daily Diary'!K:K,\"WIN\")","v":0},{"$f":"COUNTIFS('Daily Diary'!A:A,'Grafico Strategie Settimanali'!B39,'Daily Diary'!E:E,\"PUNTA SQ.OSPITE\",'Daily Diary'!E:E,\"PUNTA SQ.OSPITE\",'Daily Diary'!K:K,\"WIN\")","v":0},{"$f":"COUNTIFS('Daily Diary'!A:A,'Grafico Strategie Settimanali'!B39,'Daily Diary'!E:E,\"BANCA SFAVORITA\",'Daily Diary'!E:E,\"BANCA SFAVORITA\",'Daily Diary'!K:K,\"WIN\")","v":0},{"$f":"COUNTIFS('Daily Diary'!A:A,'Grafico Strategie Settimanali'!B39,'Daily Diary'!E:E,\"PUNTA OVER\",'Daily Diary'!E:E,\"PUNTA OVER\",'Daily Diary'!K:K,\"WIN\")","v":0},{"$f":"COUNTIFS('Daily Diary'!A:A,'Grafico Strategie Settimanali'!B39,'Daily Diary'!E:E,\"PUNTA UNDER\",'Daily Diary'!E:E,\"PUNTA UNDER\",'Daily Diary'!K:K,\"WIN\")","v":0},{"$f":"COUNTIFS('Daily Diary'!A:A,'Grafico Strategie Settimanali'!B39,'Daily Diary'!E:E,\"SCALPING\",'Daily Diary'!E:E,\"SCALPING\",'Daily Diary'!K:K,\"WIN\")","v":0},{"$f":"COUNTIFS('Daily Diary'!A:A,'Grafico Strategie Settimanali'!B39,'Daily Diary'!E:E,\"GT 90\",'Daily Diary'!E:E,\"GT 90\",'Daily Diary'!K:K,\"WIN\")","v":0},{"$f":"COUNTIFS('Daily Diary'!A:A,'Grafico Strategie Settimanali'!B39,'Daily Diary'!E:E,\"GT 110\",'Daily Diary'!E:E,\"GT 110\",'Daily Diary'!K:K,\"WIN\")","v":0},{"$f":"COUNTIFS('Daily Diary'!A:A,'Grafico Strategie Settimanali'!B39,'Daily Diary'!E:E,\"ALERT GOAL\",'Daily Diary'!E:E,\"ALERT GOAL\",'Daily Diary'!K:K,\"WIN\")","v":0},{"$f":"COUNTIFS('Daily Diary'!A:A,'Grafico Strategie Settimanali'!B39,'Daily Diary'!E:E,\"DRAW NO BET\",'Daily Diary'!E:E,\"DRAW NO BET\",'Daily Diary'!K:K,\"WIN\")","v":0},{"$f":"COUNTIFS('Daily Diary'!A:A,'Grafico Strategie Settimanali'!B39,'Daily Diary'!E:E,\"ALTRO\",'Daily Diary'!E:E,\"ALTRO\",'Daily Diary'!K:K,\"WIN\")","v":0},{"$error":"#DIV/0!"},{"$error":"#DIV/0!"},{"$error":"#DIV/0!"},{"$error":"#DIV/0!"},{"$error":"#DIV/0!"},{"$error":"#DIV/0!"},{"$error":"#DIV/0!"},{"$error":"#DIV/0!"},{"$error":"#DIV/0!"},{"$error":"#DIV/0!"},{"$error":"#DIV/0!"},{"$error":"#DIV/0!"},null,"2023-11-20",{"$f":"SUM(O202:O208)/SUM(C202:C208)","v":{"$error":"#DIV/0!"}},{"$f":"SUM(P202:P208)/SUM(D202:D208)","v":{"$error":"#DIV/0!"}},{"$f":"SUM(Q202:Q208)/SUM(E202:E208)","v":{"$error":"#DIV/0!"}},{"$error":"#DIV/0!"},{"$error":"#DIV/0!"},{"$error":"#DIV/0!"},{"$error":"#DIV/0!"},{"$error":"#DIV/0!"},{"$error":"#DIV/0!"},{"$error":"#DIV/0!"},{"$error":"#DIV/0!"},{"$error":"#DIV/0!"}]
[0,"2023-06-11",{"$f":"COUNTIFS('Daily Diary'!A:A,'Grafico Strategie Settimanali'!B40,'Daily Diary'!E:E,\"BANCA PAREGGIO\")","v":0},{"$f":"COUNTIFS('Daily Diary'!A:A,'Grafico Strategie Settimanali'!B40,'Daily Diary'!E:E,\"PUNTA SQ.CASA\")","v":0},{"$f":"COUNTIFS('Daily Diary'!A:A,'Grafico Strategie Settimanali'!B40,'Daily Diary'!E:E,\"PUNTA SQ.OSPITE\")","v":0},{"$f":"COUNTIFS('Daily Diary'!A:A,'Grafico Strategie Settimanali'!B40,'Daily Diary'!E:E,\"BANCA SFAVORITA\")","v":0},{"$f":"COUNTIFS('Daily Diary'!A:A,'Grafico Strategie Settimanali'!B40,'Daily Diary'!E:E,\"PUNTA OVER\")","v":0},{"$f":"COUNTIFS('Daily Diary'!A:A,'Grafico Strategie Settimanali'!B40,'Daily Diary'!E:E,\"PUNTA UNDER\")","v":0},{"$f":"COUNTIFS('Daily Diary'!A:A,'Grafico Strategie Settimanali'!B40,'Daily Diary'!E:E,\"SCALPING\")","v":0},{"$f":"COUNTIFS('Daily Diary'!A:A,'Grafico Strategie Settimanali'!B40,'Daily Diary'!E:E,\"GT90\")","v":0},{"$f":"COUNTIFS('Daily Diary'!A:A,'Grafico Strategie Settimanali'!B40,'Daily Diary'!E:E,\"GT110\")","v":0},{"$f":"COUNTIFS('Daily Diary'!A:A,'Grafico Strategie Settimanali'!B40,'Daily Diary'!E:E,\"ALERT GOAL\")","v":0},{"$f":"COUNTIFS('Daily Diary'!A:A,'Grafico Strategie Settimanali'!B40,'Daily Diary'!E:E,\"DRAW NO BET\")","v":0},{"$f":"COUNTIFS('Daily Diary'!A:A,'Grafico Strategie Settimanali'!B40,'Daily Diary'!E:E,\"ALTRO\")","v":0},{"$f":"COUNTIFS('Daily Diary'!A:A,'Grafico Strategie Settimanali'!B40,'Daily Diary'!E:E,\"BANCA PAREGGIO\",'Daily Diary'!E:E,\"BANCA PAREGGIO\",'Daily Diary'!K:K,\"WIN\")","v":0},{"$f":"COUNTIFS('Daily Diary'!A:A,'Grafico Strategie Settimanali'!B40,'Daily Diary'!E:E,\"PUNTA SQ.CASA\",'Daily Diary'!E:E,\"PUNTA SQ.CASA\",'Daily Diary'!K:K,\"WIN\")","v":0},{"$f":"COUNTIFS('Daily Diary'!A:A,'Grafico Strategie Settimanali'!B40,'Daily Diary'!E:E,\"PUNTA SQ.OSPITE\",'Daily Diary'!E:E,\"PUNTA SQ.OSPITE\",'Daily Diary'!K:K,\"WIN\")","v":0},{"$f":"COUNTIFS('Daily Diary'!A:A,'Grafico Strategie Settimanali'!B40,'Daily Diary'!E:E,\"BANCA SFAVORITA\",'Daily Diary'!E:E,\"BANCA SFAVORITA\",'Daily Diary'!K:K,\"WIN\")","v":0},{"$f":"COUNTIFS('Daily Diary'!A:A,'Grafico Strategie Settimanali'!B40,'Daily Diary'!E:E,\"PUNTA OVER\",'Daily Diary'!E:E,\"PUNTA OVER\",'Daily Diary'!K:K,\"WIN\")","v":0},{"$f":"COUNTIFS('Daily Diary'!A:A,'Grafico Strategie Settimanali'!B40,'Daily Diary'!E:E,\"PUNTA UNDER\",'Daily Diary'!E:E,\"PUNTA UNDER\",'Daily Diary'!K:K,\"WIN\")","v":0},{"$f":"COUNTIFS('Daily Diary'!A:A,'Grafico Strategie Settimanali'!B40,'Daily Diary'!E:E,\"SCALPING\",'Daily Diary'!E:E,\"SCALPING\",'Daily Diary'!K:K,\"WIN\")","v":0},{"$f":"COUNTIFS('Daily Diary'!A:A,'Grafico Strategie Settimanali'!B40,'Daily Diary'!E:E,\"GT 90\",'Daily Diary'!E:E,\"GT 90\",'Daily Diary'!K:K,\"WIN\")","v":0},{"$f":"COUNTIFS('Daily Diary'!A:A,'Grafico Strategie Settimanali'!B40,'Daily Diary'!E:E,\"GT 110\",'Daily Diary'!E:E,\"GT 110\",'Daily Diary'!K:K,\"WIN\")","v":0},{"$f":"COUNTIFS('Daily Diary'!A:A,'Grafico Strategie Settimanali'!B40,'Daily Diary'!E:E,\"ALERT GOAL\",'Daily Diary'!E:E,\"ALERT GOAL\",'Daily Diary'!K:K,\"WIN\")","v":0},{"$f":"COUNTIFS('Daily Diary'!A:A,'Grafico Strategie Settimanali'!B40,'Daily Diary'!E:E,\"DRAW NO BET\",'Daily Diary'!E:E,\"DRAW NO BET\",'Daily Diary'!K:K,\"WIN\")","v":0},{"$f":"COUNTIFS('Daily Diary'!A:A,'Grafico Strategie Settimanali'!B40,'Daily Diary'!E:E,\"ALTRO\",'Daily Diary'!E:E,\"ALTRO\",'Daily Diary'!K:K,\"WIN\")","v":0},{"$error":"#DIV/0!"},{"$error":"#DIV/0!"},{"$error":"#DIV/0!"},{"$error":"#DIV/0!"},{"$error":"#DIV/0!"},{"$error":"#DIV/0!"},{"$error":"#DIV/0!"},{"$error":"#DIV/0!"},{"$error":"#DIV/0!"},{"$error":"#DIV/0!"},{"$error":"#DIV/0!"},{"$error":"#DIV/0!"},null,"2023-11-27",{"$f":"SUM(O209:O215)/SUM(C209:C215)","v":{"$error":"#DIV/0!"}},{"$f":"SUM(P209:P215)/SUM(D209:D215)","v":{"$error":"#DIV/0!"}},{"$f":"SUM(Q209:Q215)/SUM(E209:E215)","v":{"$error":"#DIV/0!"}},{"$error":"#DIV/0!"},{"$error":"#DIV/0!"},{"$error":"#DIV/0!"},{"$error":"#DIV/0!"},{"$error":"#DIV/0!"},{"$error":"#DIV/0!"},{"$error":"#DIV/0!"},{"$error":"#DIV/0!"},{"$error":"#DIV/0!"}]
[0,"2023-06-12",{"$f":"COUNTIFS('Daily Diary'!A:A,'Grafico Strategie Settimanali'!B41,'Daily Diary'!E:E,\"BANCA PAREGGIO\")","v":0},{"$f":"COUNTIFS('Daily Diary'!A:A,'Grafico Strategie Settimanali'!B41,'Daily Diary'!E:E,\"PUNTA SQ.CASA\")","v":0},{"$f":"COUNTIFS('Daily Diary'!A:A,'Grafico Strategie Settimanali'!B41,'Daily Diary'!E:E,\"PUNTA SQ.OSPITE\")","v":0},{"$f":"COUNTIFS('Daily Diary'!A:A,'Grafico Strategie Settimanali'!B41,'Daily Diary'!E:E,\"BANCA SFAVORITA\")","v":0},{"$f":"COUNTIFS('Daily Diary'!A:A,'Grafico Strategie Settimanali'!B41,'Daily Diary'!E:E,\"PUNTA OVER\")","v":0},{"$f":"COUNTIFS('Daily Diary'!A:A,'Grafico Strategie Settimanali'!B41,'Daily Diary'!E:E,\"PUNTA UNDER\")","v":0},{"$f":"COUNTIFS('Daily Diary'!A:A,'Grafico Strategie Settimanali'!B41,'Daily Diary'!E:E,\"SCALPING\")","v":0},{"$f":"COUNTIFS('Daily Diary'!A:A,'Grafico Strategie Settimanali'!B41,'Daily Diary'!E:E,\"GT90\")","v":0},{"$f":"COUNTIFS('Daily Diary'!A:A,'Grafico Strategie Settimanali'!B41,'Daily Diary'!E:E,\"GT110\")","v":0},{"$f":"COUNTIFS('Daily Diary'!A:A,'Grafico Strategie Settimanali'!B41,'Daily Diary'!E:E,\"ALERT GOAL\")","v":0},{"$f":"COUNTIFS('Daily Diary'!A:A,'Grafico Strategie Settimanali'!B41,'Daily Diary'!E:E,\"DRAW NO BET\")","v":0},{"$f":"COUNTIFS('Daily Diary'!A:A,'Grafico Strategie Settimanali'!B41,'Daily Diary'!E:E,\"ALTRO\")","v":0},{"$f":"COUNTIFS('Daily Diary'!A:A,'Grafico Strategie Settimanali'!B41,'Daily Diary'!E:E,\"BANCA PAREGGIO\",'Daily Diary'!E:E,\"BANCA PAREGGIO\",'Daily Diary'!K:K,\"WIN\")","v":0},{"$f":"COUNTIFS('Daily Diary'!A:A,'Grafico Strategie Settimanali'!B41,'Daily Diary'!E:E,\"PUNTA SQ.CASA\",'Daily Diary'!E:E,\"PUNTA SQ.CASA\",'Daily Diary'!K:K,\"WIN\")","v":0},{"$f":"COUNTIFS('Daily Diary'!A:A,'Grafico Strategie Settimanali'!B41,'Daily Diary'!E:E,\"PUNTA SQ.OSPITE\",'Daily Diary'!E:E,\"PUNTA SQ.OSPITE\",'Daily Diary'!K:K,\"WIN\")","v":0},{"$f":"COUNTIFS('Daily Diary'!A:A,'Grafico Strategie Settimanali'!B41,'Daily Diary'!E:E,\"BANCA SFAVORITA\",'Daily Diary'!E:E,\"BANCA SFAVORITA\",'Daily Diary'!K:K,\"WIN\")","v":0},{"$f":"COUNTIFS('Daily Diary'!A:A,'Grafico Strategie Settimanali'!B41,'Daily Diary'!E:E,\"PUNTA OVER\",'Daily Diary'!E:E,\"PUNTA OVER\",'Daily Diary'!K:K,\"WIN\")","v":0},{"$f":"COUNTIFS('Daily Diary'!A:A,'Grafico Strategie Settimanali'!B41,'Daily Diary'!E:E,\"PUNTA UNDER\",'Daily Diary'!E:E,\"PUNTA UNDER\",'Daily Diary'!K:K,\"WIN\")","v":0},{"$f":"COUNTIFS('Daily Diary'!A:A,'Grafico Strategie Settimanali'!B41,'Daily Diary'!E:E,\"SCALPING\",'Daily Diary'!E:E,\"SCALPING\",'Daily Diary'!K:K,\"WIN\")","v":0},{"$f":"COUNTIFS('Daily Diary'!A:A,'Grafico Strategie Settimanali'!B41,'Daily Diary'!E:E,\"GT 90\",'Daily Diary'!E:E,\"GT 90\",'Daily Diary'!K:K,\"WIN\")","v":0},{"$f":"COUNTIFS('Daily Diary'!A:A,'Grafico Strategie Settimanali'!B41,'Daily Diary'!E:E,\"GT 110\",'Daily Diary'!E:E,\"GT 110\",'Daily Diary'!K:K,\"WIN\")","v":0},{"$f":"COUNTIFS('Daily Diary'!A:A,'Grafico Strategie Settimanali'!B41,'Daily Diary'!E:E,\"ALERT GOAL\",'Daily Diary'!E:E,\"ALERT GOAL\",'Daily Diary'!K:K,\"WIN\")","v":0},{"$f":"COUNTIFS('Daily Diary'!A:A,'Grafico Strategie Settimanali'!B41,'Daily Diary'!E:E,\"DRAW NO BET\",'Daily Diary'!E:E,\"DRAW NO BET\",'Daily Diary'!K:K,\"WIN\")","v":0},{"$f":"COUNTIFS('Daily Diary'!A:A,'Grafico Strategie Settimanali'!B41,'Daily Diary'!E:E,\"ALTRO\",'Daily Diary'!E:E,\"ALTRO\",'Daily Diary'!K:K,\"WIN\")","v":0},{"$error":"#DIV/0!"},{"$error":"#DIV/0!"},{"$error":"#DIV/0!"},{"$error":"#DIV/0!"},{"$error":"#DIV/0!"},{"$error":"#DIV/0!"},{"$error":"#DIV/0!"},{"$error":"#DIV/0!"},{"$error":"#DIV/0!"},{"$error":"#DIV/0!"},{"$error":"#DIV/0!"},{"$error":"#DIV/0!"},null,"2023-12-04",{"$f":"SUM(O216:O222)/SUM(C216:C222)","v":{"$error":"#DIV/0!"}},{"$f":"SUM(P216:P222)/SUM(D216:D222)","v":{"$error":"#DIV/0!"}},{"$f":"SUM(Q216:Q222)/SUM(E216:E222)","v":{"$error":"#DIV/0!"}},{"$error":"#DIV/0!"},{"$error":"#DIV/0!"},{"$error":"#DIV/0!"},{"$error":"#DIV/0!"},{"$error":"#DIV/0!"},{"$error":"#DIV/0!"},{"$error":"#DIV/0!"},{"$error":"#DIV/0!"},{"$error":"#DIV/0!"}]
[0,"2023-06-13",{"$f":"COUNTIFS('Daily Diary'!A:A,'Grafico Strategie Settimanali'!B42,'Daily Diary'!E:E,\"BANCA PAREGGIO\")","v":0},{"$f":"COUNTIFS('Daily Diary'!A:A,'Grafico Strategie Settimanali'!B42,'Daily Diary'!E:E,\"PUNTA SQ.CASA\")","v":0},{"$f":"COUNTIFS('Daily Diary'!A:A,'Grafico Strategie Settimanali'!B42,'Daily Diary'!E:E,\"PUNTA SQ.OSPITE\")","v":0},{"$f":"COUNTIFS('Daily Diary'!A:A,'Grafico Strategie Settimanali'!B42,'Daily Diary'!E:E,\"BANCA SFAVORITA\")","v":0},{"$f":"COUNTIFS('Daily Diary'!A:A,'Grafico Strategie Settimanali'!B42,'Daily Diary'!E:E,\"PUNTA OVER\")","v":0},{"$f":"COUNTIFS('Daily Diary'!A:A,'Grafico Strategie Settimanali'!B42,'Daily Diary'!E:E,\"PUNTA UNDER\")","v":0},{"$f":"COUNTIFS('Daily Diary'!A:A,'Grafico Strategie Settimanali'!B42,'Daily Diary'!E:E,\"SCALPING\")","v":0},{"$f":"COUNTIFS('Daily Diary'!A:A,'Grafico Strategie Settimanali'!B42,'Daily Diary'!E:E,\"GT90\")","v":0},{"$f":"COUNTIFS('Daily Diary'!A:A,'Grafico Strategie Settimanali'!B42,'Daily Diary'!E:E,\"GT110\")","v":0},{"$f":"COUNTIFS('Daily Diary'!A:A,'Grafico Strategie Settimanali'!B42,'Daily Diary'!E:E,\"ALERT GOAL\")","v":0},{"$f":"COUNTIFS('Daily Diary'!A:A,'Grafico Strategie Settimanali'!B42,'Daily Diary'!E:E,\"DRAW NO BET\")","v":0},{"$f":"COUNTIFS('Daily Diary'!A:A,'Grafico Strategie Settimanali'!B42,'Daily Diary'!E:E,\"ALTRO\")","v":0},{"$f":"COUNTIFS('Daily Diary'!A:A,'Grafico Strategie Settimanali'!B42,'Daily Diary'!E:E,\"BANCA PAREGGIO\",'Daily Diary'!E:E,\"BANCA PAREGGIO\",'Daily Diary'!K:K,\"WIN\")","v":0},{"$f":"COUNTIFS('Daily Diary'!A:A,'Grafico Strategie Settimanali'!B42,'Daily Diary'!E:E,\"PUNTA SQ.CASA\",'Daily Diary'!E:E,\"PUNTA SQ.CASA\",'Daily Diary'!K:K,\"WIN\")","v":0},{"$f":"COUNTIFS('Daily Diary'!A:A,'Grafico Strategie Settimanali'!B42,'Daily Diary'!E:E,\"PUNTA SQ.OSPITE\",'Daily Diary'!E:E,\"PUNTA SQ.OSPITE\",'Daily Diary'!K:K,\"WIN\")","v":0},{"$f":"COUNTIFS('Daily Diary'!A:A,'Grafico Strategie Settimanali'!B42,'Daily Diary'!E:E,\"BANCA SFAVORITA\",'Daily Diary'!E:E,\"BANCA SFAVORITA\",'Daily Diary'!K:K,\"WIN\")","v":0},{"$f":"COUNTIFS('Daily Diary'!A:A,'Grafico Strategie Settimanali'!B42,'Daily Diary'!E:E,\"PUNTA OVER\",'Daily Diary'!E:E,\"PUNTA OVER\",'Daily Diary'!K:K,\"WIN\")","v":0},{"$f":"COUNTIFS('Daily Diary'!A:A,'Grafico Strategie Settimanali'!B42,'Daily Diary'!E:E,\"PUNTA UNDER\",'Daily Diary'!E:E,\"PUNTA UNDER\",'Daily Diary'!K:K,\"WIN\")","v":0},{"$f":"COUNTIFS('Daily Diary'!A:A,'Grafico Strategie Settimanali'!B42,'Daily Diary'!E:E,\"SCALPING\",'Daily Diary'!E:E,\"SCALPING\",'Daily Diary'!K:K,\"WIN\")","v":0},{"$f":"COUNTIFS('Daily Diary'!A:A,'Grafico Strategie Settimanali'!B42,'Daily Diary'!E:E,\"GT 90\",'Daily Diary'!E:E,\"GT 90\",'Daily Diary'!K:K,\"WIN\")","v":0},{"$f":"COUNTIFS('Daily Diary'!A:A,'Grafico Strategie Settimanali'!B42,'Daily Diary'!E:E,\"GT 110\",'Daily Diary'!E:E,\"GT 110\",'Daily Diary'!K:K,\"WIN\")","v":0},{"$f":"COUNTIFS('Daily Diary'!A:A,'Grafico Strategie Settimanali'!B42,'Daily Diary'!E:E,\"ALERT GOAL\",'Daily Diary'!E:E,\"ALERT GOAL\",'Daily Diary'!K:K,\"WIN\")","v":0},{"$f":"COUNTIFS('Daily Diary'!A:A,'Grafico Strategie Settimanali'!B42,'Daily Diary'!E:E,\"DRAW NO BET\",'Daily Diary'!E:E,\"DRAW NO BET\",'Daily Diary'!K:K,\"WIN\")","v":0},{"$f":"COUNTIFS('Daily Diary'!A:A,'Grafico Strategie Settimanali'!B42,'Daily Diary'!E:E,\"ALTRO\",'Daily Diary'!E:E,\"ALTRO\",'Daily Diary'!K:K,\"WIN\")","v":0},{"$error":"#DIV/0!"},{"$error":"#DIV/0!"},{"$error":"#DIV/0!"},{"$error":"#DIV/0!"},{"$error":"#DIV/0!"},{"$error":"#DIV/0!"},{"$error":"#DIV/0!"},{"$error":"#DIV/0!"},{"$error":"#DIV/0!"},{"$error":"#DIV/0!"},{"$error":"#DIV/0!"},{"$error":"#DIV/0!"},null,"2023-12-11",{"$f":"SUM(O223:O229)/SUM(C223:C229)","v":{"$error":"#DIV/0!"}},{"$f":"SUM(P223:P229)/SUM(D223:D229)","v":{"$error":"#DIV/0!"}},{"$f":"SUM(Q223:Q229)/SUM(E223:E229)","v":{"$error":"#DIV/0!"}},{"$error":"#DIV/0!"},{"$error":"#DIV/0!"},{"$error":"#DIV/0!"},{"$error":"#DIV/0!"},{"$error":"#DIV/0!"},{"$error":"#DIV/0!"},{"$error":"#DIV/0!"},{"$error":"#DIV/0!"},{"$error":"#DIV/0!"}]
[0,"2023-06-14",{"$f":"COUNTIFS('Daily Diary'!A:A,'Grafico Strategie Settimanali'!B43,'Daily Diary'!E:E,\"BANCA PAREGGIO\")","v":0},{"$f":"COUNTIFS('Daily Diary'!A:A,'Grafico Strategie Settimanali'!B43,'Daily Diary'!E:E,\"PUNTA SQ.CASA\")","v":0},{"$f":"COUNTIFS('Daily Diary'!A:A,'Grafico Strategie Settimanali'!B43,'Daily Diary'!E:E,\"PUNTA SQ.OSPITE\")","v":0},{"$f":"COUNTIFS('Daily Diary'!A:A,'Grafico Strategie Settimanali'!B43,'Daily Diary'!E:E,\"BANCA SFAVORITA\")","v":0},{"$f":"COUNTIFS('Daily Diary'!A:A,'Grafico Strategie Settimanali'!B43,'Daily Diary'!E:E,\"PUNTA OVER\")","v":0},{"$f":"COUNTIFS('Daily Diary'!A:A,'Grafico Strategie Settimanali'!B43,'Daily Diary'!E:E,\"PUNTA UNDER\")","v":0},{"$f":"COUNTIFS('Daily Diary'!A:A,'Grafico Strategie Settimanali'!B43,'Daily Diary'!E:E,\"SCALPING\")","v":0},{"$f":"COUNTIFS('Daily Diary'!A:A,'Grafico Strategie Settimanali'!B43,'Daily Diary'!E:E,\"GT90\")","v":0},{"$f":"COUNTIFS('Daily Diary'!A:A,'Grafico Strategie Settimanali'!B43,'Daily Diary'!E:E,\"GT110\")","v":0},{"$f":"COUNTIFS('Daily Diary'!A:A,'Grafico Strategie Settimanali'!B43,'Daily Diary'!E:E,\"ALERT GOAL\")","v":0},{"$f":"COUNTIFS('Daily Diary'!A:A,'Grafico Strategie Settimanali'!B43,'Daily Diary'!E:E,\"DRAW NO BET\")","v":0},{"$f":"COUNTIFS('Daily Diary'!A:A,'Grafico Strategie Settimanali'!B43,'Daily Diary'!E:E,\"ALTRO\")","v":0},{"$f":"COUNTIFS('Daily Diary'!A:A,'Grafico Strategie Settimanali'!B43,'Daily Diary'!E:E,\"BANCA PAREGGIO\",'Daily Diary'!E:E,\"BANCA PAREGGIO\",'Daily Diary'!K:K,\"WIN\")","v":0},{"$f":"COUNTIFS('Daily Diary'!A:A,'Grafico Strategie Settimanali'!B43,'Daily Diary'!E:E,\"PUNTA SQ.CASA\",'Daily Diary'!E:E,\"PUNTA SQ.CASA\",'Daily Diary'!K:K,\"WIN\")","v":0},{"$f":"COUNTIFS('Daily Diary'!A:A,'Grafico Strategie Settimanali'!B43,'Daily Diary'!E:E,\"PUNTA SQ.OSPITE\",'Daily Diary'!E:E,\"PUNTA SQ.OSPITE\",'Daily Diary'!K:K,\"WIN\")","v":0},{"$f":"COUNTIFS('Daily Diary'!A:A,'Grafico Strategie Settimanali'!B43,'Daily Diary'!E:E,\"BANCA SFAVORITA\",'Daily Diary'!E:E,\"BANCA SFAVORITA\",'Daily Diary'!K:K,\"WIN\")","v":0},{"$f":"COUNTIFS('Daily Diary'!A:A,'Grafico Strategie Settimanali'!B43,'Daily Diary'!E:E,\"PUNTA OVER\",'Daily Diary'!E:E,\"PUNTA OVER\",'Daily Diary'!K:K,\"WIN\")","v":0},{"$f":"COUNTIFS('Daily Diary'!A:A,'Grafico Strategie Settimanali'!B43,'Daily Diary'!E:E,\"PUNTA UNDER\",'Daily Diary'!E:E,\"PUNTA UNDER\",'Daily Diary'!K:K,\"WIN\")","v":0},{"$f":"COUNTIFS('Daily Diary'!A:A,'Grafico Strategie Settimanali'!B43,'Daily Diary'!E:E,\"SCALPING\",'Daily Diary'!E:E,\"SCALPING\",'Daily Diary'!K:K,\"WIN\")","v":0},{"$f":"COUNTIFS('Daily Diary'!A:A,'Grafico Strategie Settimanali'!B43,'Daily Diary'!E:E,\"GT 90\",'Daily Diary'!E:E,\"GT 90\",'Daily Diary'!K:K,\"WIN\")","v":0},{"$f":"COUNTIFS('Daily Diary'!A:A,'Grafico Strategie Settimanali'!B43,'Daily Diary'!E:E,\"GT 110\",'Daily Diary'!E:E,\"GT 110\",'Daily Diary'!K:K,\"WIN\")","v":0},{"$f":"COUNTIFS('Daily Diary'!A:A,'Grafico Strategie Settimanali'!B43,'Daily Diary'!E:E,\"ALERT GOAL\",'Daily Diary'!E:E,\"ALERT GOAL\",'Daily Diary'!K:K,\"WIN\")","v":0},{"$f":"COUNTIFS('Daily Diary'!A:A,'Grafico Strategie Settimanali'!B43,'Daily Diary'!E:E,\"DRAW NO BET\",'Daily Diary'!E:E,\"DRAW NO BET\",'Daily Diary'!K:K,\"WIN\")","v":0},{"$f":"COUNTIFS('Daily Diary'!A:A,'Grafico Strategie Settimanali'!B43,'Daily Diary'!E:E,\"ALTRO\",'Daily Diary'!E:E,\"ALTRO\",'Daily Diary'!K:K,\"WIN\")","v":0},{"$error":"#DIV/0!"},{"$error":"#DIV/0!"},{"$error":"#DIV/0!"},{"$error":"#DIV/0!"},{"$error":"#DIV/0!"},{"$error":"#DIV/0!"},{"$error":"#DIV/0!"},{"$error":"#DIV/0!"},{"$error":"#DIV/0!"},{"$error":"#DIV/0!"},{"$error":"#DIV/0!"},{"$error":"#DIV/0!"},null,"2023-12-18",{"$f":"SUM(O230:O236)/SUM(C230:C236)","v":{"$error":"#DIV/0!"}},{"$f":"SUM(P230:P236)/SUM(D230:D236)","v":{"$error":"#DIV/0!"}},{"$f":"SUM(Q230:Q236)/SUM(E230:E236)","v":{"$error":"#DIV/0!"}},{"$error":"#DIV/0!"},{"$error":"#DIV/0!"},{"$error":"#DIV/0!"},{"$error":"#DIV/0!"},{"$error":"#DIV/0!"},{"$error":"#DIV/0!"},{"$error":"#DIV/0!"},{"$error":"#DIV/0!"},{"$error":"#DIV/0!"}]
[0,"2023-06-15",{"$f":"COUNTIFS('Daily Diary'!A:A,'Grafico Strategie Settimanali'!B44,'Daily Diary'!E:E,\"BANCA PAREGGIO\")","v":0},{"$f":"COUNTIFS('Daily Diary'!A:A,'Grafico Strategie Settimanali'!B44,'Daily Diary'!E:E,\"PUNTA SQ.CASA\")","v":0},{"$f":"COUNTIFS('Daily Diary'!A:A,'Grafico Strategie Settimanali'!B44,'Daily Diary'!E:E,\"PUNTA SQ.OSPITE\")","v":0},{"$f":"COUNTIFS('Daily Diary'!A:A,'Grafico Strategie Settimanali'!B44,'Daily Diary'!E:E,\"BANCA SFAVORITA\")","v":0},{"$f":"COUNTIFS('Daily Diary'!A:A,'Grafico Strategie Settimanali'!B44,'Daily Diary'!E:E,\"PUNTA OVER\")","v":0},{"$f":"COUNTIFS('Daily Diary'!A:A,'Grafico Strategie Settimanali'!B44,'Daily Diary'!E:E,\"PUNTA UNDER\")","v":0},{"$f":"COUNTIFS('Daily Diary'!A:A,'Grafico Strategie Settimanali'!B44,'Daily Diary'!E:E,\"SCALPING\")","v":0},{"$f":"COUNTIFS('Daily Diary'!A:A,'Grafico Strategie Settimanali'!B44,'Daily Diary'!E:E,\"GT90\")","v":0},{"$f":"COUNTIFS('Daily Diary'!A:A,'Grafico Strategie Settimanali'!B44,'Daily Diary'!E:E,\"GT110\")","v":0},{"$f":"COUNTIFS('Daily Diary'!A:A,'Grafico Strategie Settimanali'!B44,'Daily Diary'!E:E,\"ALERT GOAL\")","v":0},{"$f":"COUNTIFS('Daily Diary'!A:A,'Grafico Strategie Settimanali'!B44,'Daily Diary'!E:E,\"DRAW NO BET\")","v":0},{"$f":"COUNTIFS('Daily Diary'!A:A,'Grafico Strategie Settimanali'!B44,'Daily Diary'!E:E,\"ALTRO\")","v":0},{"$f":"COUNTIFS('Daily Diary'!A:A,'Grafico Strategie Settimanali'!B44,'Daily Diary'!E:E,\"BANCA PAREGGIO\",'Daily Diary'!E:E,\"BANCA PAREGGIO\",'Daily Diary'!K:K,\"WIN\")","v":0},{"$f":"COUNTIFS('Daily Diary'!A:A,'Grafico Strategie Settimanali'!B44,'Daily Diary'!E:E,\"PUNTA SQ.CASA\",'Daily Diary'!E:E,\"PUNTA SQ.CASA\",'Daily Diary'!K:K,\"WIN\")","v":0},{"$f":"COUNTIFS('Daily Diary'!A:A,'Grafico Strategie Settimanali'!B44,'Daily Diary'!E:E,\"PUNTA SQ.OSPITE\",'Daily Diary'!E:E,\"PUNTA SQ.OSPITE\",'Daily Diary'!K:K,\"WIN\")","v":0},{"$f":"COUNTIFS('Daily Diary'!A:A,'Grafico Strategie Settimanali'!B44,'Daily Diary'!E:E,\"BANCA SFAVORITA\",'Daily Diary'!E:E,\"BANCA SFAVORITA\",'Daily Diary'!K:K,\"WIN\")","v":0},{"$f":"COUNTIFS('Daily Diary'!A:A,'Grafico Strategie Settimanali'!B44,'Daily Diary'!E:E,\"PUNTA OVER\",'Daily Diary'!E:E,\"PUNTA OVER\",'Daily Diary'!K:K,\"WIN\")","v":0},{"$f":"COUNTIFS('Daily Diary'!A:A,'Grafico Strategie Settimanali'!B44,'Daily Diary'!E:E,\"PUNTA UNDER\",'Daily Diary'!E:E,\"PUNTA UNDER\",'Daily Diary'!K:K,\"WIN\")","v":0},{"$f":"COUNTIFS('Daily Diary'!A:A,'Grafico Strategie Settimanali'!B44,'Daily Diary'!E:E,\"SCALPING\",'Daily Diary'!E:E,\"SCALPING\",'Daily Diary'!K:K,\"WIN\")","v":0},{"$f":"COUNTIFS('Daily Diary'!A:A,'Grafico Strategie Settimanali'!B44,'Daily Diary'!E:E,\"GT 90\",'Daily Diary'!E:E,\"GT 90\",'Daily Diary'!K:K,\"WIN\")","v":0},{"$f":"COUNTIFS('Daily Diary'!A:A,'Grafico Strategie Settimanali'!B44,'Daily Diary'!E:E,\"GT 110\",'Daily Diary'!E:E,\"GT 110\",'Daily Diary'!K:K,\"WIN\")","v":0},{"$f":"COUNTIFS('Daily Diary'!A:A,'Grafico Strategie Settimanali'!B44,'Daily Diary'!E:E,\"ALERT GOAL\",'Daily Diary'!E:E,\"ALERT GOAL\",'Daily Diary'!K:K,\"WIN\")","v":0},{"$f":"COUNTIFS('Daily Diary'!A:A,'Grafico Strategie Settimanali'!B44,'Daily Diary'!E:E,\"DRAW NO BET\",'Daily Diary'!E:E,\"DRAW NO BET\",'Daily Diary'!K:K,\"WIN\")","v":0},{"$f":"COUNTIFS('Daily Diary'!A:A,'Grafico Strategie Settimanali'!B44,'Daily Diary'!E:E,\"ALTRO\",'Daily Diary'!E:E,\"ALTRO\",'Daily Diary'!K:K,\"WIN\")","v":0},{"$error":"#DIV/0!"},{"$error":"#DIV/0!"},{"$error":"#DIV/0!"},{"$error":"#DIV/0!"},{"$error":"#DIV/0!"},{"$error":"#DIV/0!"},{"$error":"#DIV/0!"},{"$error":"#DIV/0!"},{"$error":"#DIV/0!"},{"$error":"#DIV/0!"},{"$error":"#DIV/0!"},{"$error":"#DIV/0!"},null,"2023-12-25",{"$f":"SUM(O237:O243)/SUM(C237:C243)","v":{"$error":"#DIV/0!"}},{"$f":"SUM(P237:P243)/SUM(D237:D243)","v":{"$error":"#DIV/0!"}},{"$f":"SUM(Q237:Q243)/SUM(E237:E243)","v":{"$error":"#DIV/0!"}},{"$error":"#DIV/0!"},{"$error":"#DIV/0!"},{"$error":"#DIV/0!"},{"$error":"#DIV/0!"},{"$error":"#DIV/0!"},{"$error":"#DIV/0!"},{"$error":"#DIV/0!"},{"$error":"#DIV/0!"},{"$error":"#DIV/0!"}]
[0,"2023-06-16",{"$f":"COUNTIFS('Daily Diary'!A:A,'Grafico Strategie Settimanali'!B45,'Daily Diary'!E:E,\"BANCA PAREGGIO\")","v":0},{"$f":"COUNTIFS('Daily Diary'!A:A,'Grafico Strategie Settimanali'!B45,'Daily Diary'!E:E,\"PUNTA SQ.CASA\")","v":0},{"$f":"COUNTIFS('Daily Diary'!A:A,'Grafico Strategie Settimanali'!B45,'Daily Diary'!E:E,\"PUNTA SQ.OSPITE\")","v":0},{"$f":"COUNTIFS('Daily Diary'!A:A,'Grafico Strategie Settimanali'!B45,'Daily Diary'!E:E,\"BANCA SFAVORITA\")","v":0},{"$f":"COUNTIFS('Daily Diary'!A:A,'Grafico Strategie Settimanali'!B45,'Daily Diary'!E:E,\"PUNTA OVER\")","v":0},{"$f":"COUNTIFS('Daily Diary'!A:A,'Grafico Strategie Settimanali'!B45,'Daily Diary'!E:E,\"PUNTA UNDER\")","v":0},{"$f":"COUNTIFS('Daily Diary'!A:A,'Grafico Strategie Settimanali'!B45,'Daily Diary'!E:E,\"SCALPING\")","v":0},{"$f":"COUNTIFS('Daily Diary'!A:A,'Grafico Strategie Settimanali'!B45,'Daily Diary'!E:E,\"GT90\")","v":0},{"$f":"COUNTIFS('Daily Diary'!A:A,'Grafico Strategie Settimanali'!B45,'Daily Diary'!E:E,\"GT110\")","v":0},{"$f":"COUNTIFS('Daily Diary'!A:A,'Grafico Strategie Settimanali'!B45,'Daily Diary'!E:E,\"ALERT GOAL\")","v":0},{"$f":"COUNTIFS('Daily Diary'!A:A,'Grafico Strategie Settimanali'!B45,'Daily Diary'!E:E,\"DRAW NO BET\")","v":0},{"$f":"COUNTIFS('Daily Diary'!A:A,'Grafico Strategie Settimanali'!B45,'Daily Diary'!E:E,\"ALTRO\")","v":0},{"$f":"COUNTIFS('Daily Diary'!A:A,'Grafico Strategie Settimanali'!B45,'Daily Diary'!E:E,\"BANCA PAREGGIO\",'Daily Diary'!E:E,\"BANCA PAREGGIO\",'Daily Diary'!K:K,\"WIN\")","v":0},{"$f":"COUNTIFS('Daily Diary'!A:A,'Grafico Strategie Settimanali'!B45,'Daily Diary'!E:E,\"PUNTA SQ.CASA\",'Daily Diary'!E:E,\"PUNTA SQ.CASA\",'Daily Diary'!K:K,\"WIN\")","v":0},{"$f":"COUNTIFS('Daily Diary'!A:A,'Grafico Strategie Settimanali'!B45,'Daily Diary'!E:E,\"PUNTA SQ.OSPITE\",'Daily Diary'!E:E,\"PUNTA SQ.OSPITE\",'Daily Diary'!K:K,\"WIN\")","v":0},{"$f":"COUNTIFS('Daily Diary'!A:A,'Grafico Strategie Settimanali'!B45,'Daily Diary'!E:E,\"BANCA SFAVORITA\",'Daily Diary'!E:E,\"BANCA SFAVORITA\",'Daily Diary'!K:K,\"WIN\")","v":0},{"$f":"COUNTIFS('Daily Diary'!A:A,'Grafico Strategie Settimanali'!B45,'Daily Diary'!E:E,\"PUNTA OVER\",'Daily Diary'!E:E,\"PUNTA OVER\",'Daily Diary'!K:K,\"WIN\")","v":0},{"$f":"COUNTIFS('Daily Diary'!A:A,'Grafico Strategie Settimanali'!B45,'Daily Diary'!E:E,\"PUNTA UNDER\",'Daily Diary'!E:E,\"PUNTA UNDER\",'Daily Diary'!K:K,\"WIN\")","v":0},{"$f":"COUNTIFS('Daily Diary'!A:A,'Grafico Strategie Settimanali'!B45,'Daily Diary'!E:E,\"SCALPING\",'Daily Diary'!E:E,\"SCALPING\",'Daily Diary'!K:K,\"WIN\")","v":0},{"$f":"COUNTIFS('Daily Diary'!A:A,'Grafico Strategie Settimanali'!B45,'Daily Diary'!E:E,\"GT 90\",'Daily Diary'!E:E,\"GT 90\",'Daily Diary'!K:K,\"WIN\")","v":0},{"$f":"COUNTIFS('Daily Diary'!A:A,'Grafico Strategie Settimanali'!B45,'Daily Diary'!E:E,\"GT 110\",'Daily Diary'!E:E,\"GT 110\",'Daily Diary'!K:K,\"WIN\")","v":0},{"$f":"COUNTIFS('Daily Diary'!A:A,'Grafico Strategie Settimanali'!B45,'Daily Diary'!E:E,\"ALERT GOAL\",'Daily Diary'!E:E,\"ALERT GOAL\",'Daily Diary'!K:K,\"WIN\")","v":0},{"$f":"COUNTIFS('Daily Diary'!A:A,'Grafico Strategie Settimanali'!B45,'Daily Diary'!E:E,\"DRAW NO BET\",'Daily Diary'!E:E,\"DRAW NO BET\",'Daily Diary'!K:K,\"WIN\")","v":0},{"$f":"COUNTIFS('Daily Diary'!A:A,'Grafico Strategie Settimanali'!B45,'Daily Diary'!E:E,\"ALTRO\",'Daily Diary'!E:E,\"ALTRO\",'Daily Diary'!K:K,\"WIN\")","v":0},{"$error":"#DIV/0!"},{"$error":"#DIV/0!"},{"$error":"#DIV/0!"},{"$error":"#DIV/0!"},{"$error":"#DIV/0!"},{"$error":"#DIV/0!"},{"$error":"#DIV/0!"},{"$error":"#DIV/0!"},{"$error":"#DIV/0!"},{"$error":"#DIV/0!"},{"$error":"#DIV/0!"},{"$error":"#DIV/0!"},null,"2024-01-01",{"$f":"SUM(O244:O250)/SUM(C244:C250)","v":{"$error":"#DIV/0!"}},{"$f":"SUM(P244:P250)/SUM(D244:D250)","v":{"$error":"#DIV/0!"}},{"$f":"SUM(Q244:Q250)/SUM(E244:E250)","v":{"$error":"#DIV/0!"}},{"$error":"#DIV/0!"},{"$error":"#DIV/0!"},{"$error":"#DIV/0!"},{"$error":"#DIV/0!"},{"$error":"#DIV/0!"},{"$error":"#DIV/0!"},{"$error":"#DIV/0!"},{"$error":"#DIV/0!"},{"$error":"#DIV/0!"}]
[0,"2023-06-17",{"$f":"COUNTIFS('Daily Diary'!A:A,'Grafico Strategie Settimanali'!B46,'Daily Diary'!E:E,\"BANCA PAREGGIO\")","v":0},{"$f":"COUNTIFS('Daily Diary'!A:A,'Grafico Strategie Settimanali'!B46,'Daily Diary'!E:E,\"PUNTA SQ.CASA\")","v":0},{"$f":"COUNTIFS('Daily Diary'!A:A,'Grafico Strategie Settimanali'!B46,'Daily Diary'!E:E,\"PUNTA SQ.OSPITE\")","v":0},{"$f":"COUNTIFS('Daily Diary'!A:A,'Grafico Strategie Settimanali'!B46,'Daily Diary'!E:E,\"BANCA SFAVORITA\")","v":0},{"$f":"COUNTIFS('Daily Diary'!A:A,'Grafico Strategie Settimanali'!B46,'Daily Diary'!E:E,\"PUNTA OVER\")","v":0},{"$f":"COUNTIFS('Daily Diary'!A:A,'Grafico Strategie Settimanali'!B46,'Daily Diary'!E:E,\"PUNTA UNDER\")","v":0},{"$f":"COUNTIFS('Daily Diary'!A:A,'Grafico Strategie Settimanali'!B46,'Daily Diary'!E:E,\"SCALPING\")","v":0},{"$f":"COUNTIFS('Daily Diary'!A:A,'Grafico Strategie Settimanali'!B46,'Daily Diary'!E:E,\"GT90\")","v":0},{"$f":"COUNTIFS('Daily Diary'!A:A,'Grafico Strategie Settimanali'!B46,'Daily Diary'!E:E,\"GT110\")","v":0},{"$f":"COUNTIFS('Daily Diary'!A:A,'Grafico Strategie Settimanali'!B46,'Daily Diary'!E:E,\"ALERT GOAL\")","v":0},{"$f":"COUNTIFS('Daily Diary'!A:A,'Grafico Strategie Settimanali'!B46,'Daily Diary'!E:E,\"DRAW NO BET\")","v":0},{"$f":"COUNTIFS('Daily Diary'!A:A,'Grafico Strategie Settimanali'!B46,'Daily Diary'!E:E,\"ALTRO\")","v":0},{"$f":"COUNTIFS('Daily Diary'!A:A,'Grafico Strategie Settimanali'!B46,'Daily Diary'!E:E,\"BANCA PAREGGIO\",'Daily Diary'!E:E,\"BANCA PAREGGIO\",'Daily Diary'!K:K,\"WIN\")","v":0},{"$f":"COUNTIFS('Daily Diary'!A:A,'Grafico Strategie Settimanali'!B46,'Daily Diary'!E:E,\"PUNTA SQ.CASA\",'Daily Diary'!E:E,\"PUNTA SQ.CASA\",'Daily Diary'!K:K,\"WIN\")","v":0},{"$f":"COUNTIFS('Daily Diary'!A:A,'Grafico Strategie Settimanali'!B46,'Daily Diary'!E:E,\"PUNTA SQ.OSPITE\",'Daily Diary'!E:E,\"PUNTA SQ.OSPITE\",'Daily Diary'!K:K,\"WIN\")","v":0},{"$f":"COUNTIFS('Daily Diary'!A:A,'Grafico Strategie Settimanali'!B46,'Daily Diary'!E:E,\"BANCA SFAVORITA\",'Daily Diary'!E:E,\"BANCA SFAVORITA\",'Daily Diary'!K:K,\"WIN\")","v":0},{"$f":"COUNTIFS('Daily Diary'!A:A,'Grafico Strategie Settimanali'!B46,'Daily Diary'!E:E,\"PUNTA OVER\",'Daily Diary'!E:E,\"PUNTA OVER\",'Daily Diary'!K:K,\"WIN\")","v":0},{"$f":"COUNTIFS('Daily Diary'!A:A,'Grafico Strategie Settimanali'!B46,'Daily Diary'!E:E,\"PUNTA UNDER\",'Daily Diary'!E:E,\"PUNTA UNDER\",'Daily Diary'!K:K,\"WIN\")","v":0},{"$f":"COUNTIFS('Daily Diary'!A:A,'Grafico Strategie Settimanali'!B46,'Daily Diary'!E:E,\"SCALPING\",'Daily Diary'!E:E,\"SCALPING\",'Daily Diary'!K:K,\"WIN\")","v":0},{"$f":"COUNTIFS('Daily Diary'!A:A,'Grafico Strategie Settimanali'!B46,'Daily Diary'!E:E,\"GT 90\",'Daily Diary'!E:E,\"GT 90\",'Daily Diary'!K:K,\"WIN\")","v":0},{"$f":"COUNTIFS('Daily Diary'!A:A,'Grafico Strategie Settimanali'!B46,'Daily Diary'!E:E,\"GT 110\",'Daily Diary'!E:E,\"GT 110\",'Daily Diary'!K:K,\"WIN\")","v":0},{"$f":"COUNTIFS('Daily Diary'!A:A,'Grafico Strategie Settimanali'!B46,'Daily Diary'!E:E,\"ALERT GOAL\",'Daily Diary'!E:E,\"ALERT GOAL\",'Daily Diary'!K:K,\"WIN\")","v":0},{"$f":"COUNTIFS('Daily Diary'!A:A,'Grafico Strategie Settimanali'!B46,'Daily Diary'!E:E,\"DRAW NO BET\",'Daily Diary'!E:E,\"DRAW NO BET\",'Daily Diary'!K:K,\"WIN\")","v":0},{"$f":"COUNTIFS('Daily Diary'!A:A,'Grafico Strategie Settimanali'!B46,'Daily Diary'!E:E,\"ALTRO\",'Daily Diary'!E:E,\"ALTRO\",'Daily Diary'!K:K,\"WIN\")","v":0},{"$error":"#DIV/0!"},{"$error":"#DIV/0!"},{"$error":"#DIV/0!"},{"$error":"#DIV/0!"},{"$error":"#DIV/0!"},{"$error":"#DIV/0!"},{"$error":"#DIV/0!"},{"$error":"#DIV/0!"},{"$error":"#DIV/0!"},{"$error":"#DIV/0!"},{"$error":"#DIV/0!"},{"$error":"#DIV/0!"},null,"2024-01-08",{"$f":"SUM(O251:O257)/SUM(C251:C257)","v":{"$error":"#DIV/0!"}},{"$f":"SUM(P251:P257)/SUM(D251:D257)","v":{"$error":"#DIV/0!"}},{"$f":"SUM(Q251:Q257)/SUM(E251:E257)","v":{"$error":"#DIV/0!"}},{"$error":"#DIV/0!"},{"$error":"#DIV/0!"},{"$error":"#DIV/0!"},{"$error":"#DIV/0!"},{"$error":"#DIV/0!"},{"$error":"#DIV/0!"},{"$error":"#DIV/0!"},{"$error":"#DIV/0!"},{"$error":"#DIV/0!"}]
[0,"2023-06-18",{"$f":"COUNTIFS('Daily Diary'!A:A,'Grafico Strategie Settimanali'!B47,'Daily Diary'!E:E,\"BANCA PAREGGIO\")","v":0},{"$f":"COUNTIFS('Daily Diary'!A:A,'Grafico Strategie Settimanali'!B47,'Daily Diary'!E:E,\"PUNTA SQ.CASA\")","v":0},{"$f":"COUNTIFS('Daily Diary'!A:A,'Grafico Strategie Settimanali'!B47,'Daily Diary'!E:E,\"PUNTA SQ.OSPITE\")","v":0},{"$f":"COUNTIFS('Daily Diary'!A:A,'Grafico Strategie Settimanali'!B47,'Daily Diary'!E:E,\"BANCA SFAVORITA\")","v":0},{"$f":"COUNTIFS('Daily Diary'!A:A,'Grafico Strategie Settimanali'!B47,'Daily Diary'!E:E,\"PUNTA OVER\")","v":0},{"$f":"COUNTIFS('Daily Diary'!A:A,'Grafico Strategie Settimanali'!B47,'Daily Diary'!E:E,\"PUNTA UNDER\")","v":0},{"$f":"COUNTIFS('Daily Diary'!A:A,'Grafico Strategie Settimanali'!B47,'Daily Diary'!E:E,\"SCALPING\")","v":0},{"$f":"COUNTIFS('Daily Diary'!A:A,'Grafico Strategie Settimanali'!B47,'Daily Diary'!E:E,\"GT90\")","v":0},{"$f":"COUNTIFS('Daily Diary'!A:A,'Grafico Strategie Settimanali'!B47,'Daily Diary'!E:E,\"GT110\")","v":0},{"$f":"COUNTIFS('Daily Diary'!A:A,'Grafico Strategie Settimanali'!B47,'Daily Diary'!E:E,\"ALERT GOAL\")","v":0},{"$f":"COUNTIFS('Daily Diary'!A:A,'Grafico Strategie Settimanali'!B47,'Daily Diary'!E:E,\"DRAW NO BET\")","v":0},{"$f":"COUNTIFS('Daily Diary'!A:A,'Grafico Strategie Settimanali'!B47,'Daily Diary'!E:E,\"ALTRO\")","v":0},{"$f":"COUNTIFS('Daily Diary'!A:A,'Grafico Strategie Settimanali'!B47,'Daily Diary'!E:E,\"BANCA PAREGGIO\",'Daily Diary'!E:E,\"BANCA PAREGGIO\",'Daily Diary'!K:K,\"WIN\")","v":0},{"$f":"COUNTIFS('Daily Diary'!A:A,'Grafico Strategie Settimanali'!B47,'Daily Diary'!E:E,\"PUNTA SQ.CASA\",'Daily Diary'!E:E,\"PUNTA SQ.CASA\",'Daily Diary'!K:K,\"WIN\")","v":0},{"$f":"COUNTIFS('Daily Diary'!A:A,'Grafico Strategie Settimanali'!B47,'Daily Diary'!E:E,\"PUNTA SQ.OSPITE\",'Daily Diary'!E:E,\"PUNTA SQ.OSPITE\",'Daily Diary'!K:K,\"WIN\")","v":0},{"$f":"COUNTIFS('Daily Diary'!A:A,'Grafico Strategie Settimanali'!B47,'Daily Diary'!E:E,\"BANCA SFAVORITA\",'Daily Diary'!E:E,\"BANCA SFAVORITA\",'Daily Diary'!K:K,\"WIN\")","v":0},{"$f":"COUNTIFS('Daily Diary'!A:A,'Grafico Strategie Settimanali'!B47,'Daily Diary'!E:E,\"PUNTA OVER\",'Daily Diary'!E:E,\"PUNTA OVER\",'Daily Diary'!K:K,\"WIN\")","v":0},{"$f":"COUNTIFS('Daily Diary'!A:A,'Grafico Strategie Settimanali'!B47,'Daily Diary'!E:E,\"PUNTA UNDER\",'Daily Diary'!E:E,\"PUNTA UNDER\",'Daily Diary'!K:K,\"WIN\")","v":0},{"$f":"COUNTIFS('Daily Diary'!A:A,'Grafico Strategie Settimanali'!B47,'Daily Diary'!E:E,\"SCALPING\",'Daily Diary'!E:E,\"SCALPING\",'Daily Diary'!K:K,\"WIN\")","v":0},{"$f":"COUNTIFS('Daily Diary'!A:A,'Grafico Strategie Settimanali'!B47,'Daily Diary'!E:E,\"GT 90\",'Daily Diary'!E:E,\"GT 90\",'Daily Diary'!K:K,\"WIN\")","v":0},{"$f":"COUNTIFS('Daily Diary'!A:A,'Grafico Strategie Settimanali'!B47,'Daily Diary'!E:E,\"GT 110\",'Daily Diary'!E:E,\"GT 110\",'Daily Diary'!K:K,\"WIN\")","v":0},{"$f":"COUNTIFS('Daily Diary'!A:A,'Grafico Strategie Settimanali'!B47,'Daily Diary'!E:E,\"ALERT GOAL\",'Daily Diary'!E:E,\"ALERT GOAL\",'Daily Diary'!K:K,\"WIN\")","v":0},{"$f":"COUNTIFS('Daily Diary'!A:A,'Grafico Strategie Settimanali'!B47,'Daily Diary'!E:E,\"DRAW NO BET\",'Daily Diary'!E:E,\"DRAW NO BET\",'Daily Diary'!K:K,\"WIN\")","v":0},{"$f":"COUNTIFS('Daily Diary'!A:A,'Grafico Strategie Settimanali'!B47,'Daily Diary'!E:E,\"ALTRO\",'Daily Diary'!E:E,\"ALTRO\",'Daily Diary'!K:K,\"WIN\")","v":0},{"$error":"#DIV/0!"},{"$error":"#DIV/0!"},{"$error":"#DIV/0!"},{"$error":"#DIV/0!"},{"$error":"#DIV/0!"},{"$error":"#DIV/0!"},{"$error":"#DIV/0!"},{"$error":"#DIV/0!"},{"$error":"#DIV/0!"},{"$error":"#DIV/0!"},{"$error":"#DIV/0!"},{"$error":"#DIV/0!"},null,"2024-01-15",{"$f":"SUM(O258:O264)/SUM(C258:C264)","v":{"$error":"#DIV/0!"}},{"$f":"SUM(P258:P264)/SUM(D258:D264)","v":{"$error":"#DIV/0!"}},{"$f":"SUM(Q258:Q264)/SUM(E258:E264)","v":{"$error":"#DIV/0!"}},{"$error":"#DIV/0!"},{"$error":"#DIV/0!"},{"$error":"#DIV/0!"},{"$error":"#DIV/0!"},{"$error":"#DIV/0!"},{"$error":"#DIV/0!"},{"$error":"#DIV/0!"},{"$error":"#DIV/0!"},{"$error":"#DIV/0!"}]
[0,"2023-06-19",{"$f":"COUNTIFS('Daily Diary'!A:A,'Grafico Strategie Settimanali'!B48,'Daily Diary'!E:E,\"BANCA PAREGGIO\")","v":0},{"$f":"COUNTIFS('Daily Diary'!A:A,'Grafico Strategie Settimanali'!B48,'Daily Diary'!E:E,\"PUNTA SQ.CASA\")","v":0},{"$f":"COUNTIFS('Daily Diary'!A:A,'Grafico Strategie Settimanali'!B48,'Daily Diary'!E:E,\"PUNTA SQ.OSPITE\")","v":0},{"$f":"COUNTIFS('Daily Diary'!A:A,'Grafico Strategie Settimanali'!B48,'Daily Diary'!E:E,\"BANCA SFAVORITA\")","v":0},{"$f":"COUNTIFS('Daily Diary'!A:A,'Grafico Strategie Settimanali'!B48,'Daily Diary'!E:E,\"PUNTA OVER\")","v":0},{"$f":"COUNTIFS('Daily Diary'!A:A,'Grafico Strategie Settimanali'!B48,'Daily Diary'!E:E,\"PUNTA UNDER\")","v":0},{"$f":"COUNTIFS('Daily Diary'!A:A,'Grafico Strategie Settimanali'!B48,'Daily Diary'!E:E,\"SCALPING\")","v":0},{"$f":"COUNTIFS('Daily Diary'!A:A,'Grafico Strategie Settimanali'!B48,'Daily Diary'!E:E,\"GT90\")","v":0},{"$f":"COUNTIFS('Daily Diary'!A:A,'Grafico Strategie Settimanali'!B48,'Daily Diary'!E:E,\"GT110\")","v":0},{"$f":"COUNTIFS('Daily Diary'!A:A,'Grafico Strategie Settimanali'!B48,'Daily Diary'!E:E,\"ALERT GOAL\")","v":0},{"$f":"COUNTIFS('Daily Diary'!A:A,'Grafico Strategie Settimanali'!B48,'Daily Diary'!E:E,\"DRAW NO BET\")","v":0},{"$f":"COUNTIFS('Daily Diary'!A:A,'Grafico Strategie Settimanali'!B48,'Daily Diary'!E:E,\"ALTRO\")","v":0},{"$f":"COUNTIFS('Daily Diary'!A:A,'Grafico Strategie Settimanali'!B48,'Daily Diary'!E:E,\"BANCA PAREGGIO\",'Daily Diary'!E:E,\"BANCA PAREGGIO\",'Daily Diary'!K:K,\"WIN\")","v":0},{"$f":"COUNTIFS('Daily Diary'!A:A,'Grafico Strategie Settimanali'!B48,'Daily Diary'!E:E,\"PUNTA SQ.CASA\",'Daily Diary'!E:E,\"PUNTA SQ.CASA\",'Daily Diary'!K:K,\"WIN\")","v":0},{"$f":"COUNTIFS('Daily Diary'!A:A,'Grafico Strategie Settimanali'!B48,'Daily Diary'!E:E,\"PUNTA SQ.OSPITE\",'Daily Diary'!E:E,\"PUNTA SQ.OSPITE\",'Daily Diary'!K:K,\"WIN\")","v":0},{"$f":"COUNTIFS('Daily Diary'!A:A,'Grafico Strategie Settimanali'!B48,'Daily Diary'!E:E,\"BANCA SFAVORITA\",'Daily Diary'!E:E,\"BANCA SFAVORITA\",'Daily Diary'!K:K,\"WIN\")","v":0},{"$f":"COUNTIFS('Daily Diary'!A:A,'Grafico Strategie Settimanali'!B48,'Daily Diary'!E:E,\"PUNTA OVER\",'Daily Diary'!E:E,\"PUNTA OVER\",'Daily Diary'!K:K,\"WIN\")","v":0},{"$f":"COUNTIFS('Daily Diary'!A:A,'Grafico Strategie Settimanali'!B48,'Daily Diary'!E:E,\"PUNTA UNDER\",'Daily Diary'!E:E,\"PUNTA UNDER\",'Daily Diary'!K:K,\"WIN\")","v":0},{"$f":"COUNTIFS('Daily Diary'!A:A,'Grafico Strategie Settimanali'!B48,'Daily Diary'!E:E,\"SCALPING\",'Daily Diary'!E:E,\"SCALPING\",'Daily Diary'!K:K,\"WIN\")","v":0},{"$f":"COUNTIFS('Daily Diary'!A:A,'Grafico Strategie Settimanali'!B48,'Daily Diary'!E:E,\"GT 90\",'Daily Diary'!E:E,\"GT 90\",'Daily Diary'!K:K,\"WIN\")","v":0},{"$f":"COUNTIFS('Daily Diary'!A:A,'Grafico Strategie Settimanali'!B48,'Daily Diary'!E:E,\"GT 110\",'Daily Diary'!E:E,\"GT 110\",'Daily Diary'!K:K,\"WIN\")","v":0},{"$f":"COUNTIFS('Daily Diary'!A:A,'Grafico Strategie Settimanali'!B48,'Daily Diary'!E:E,\"ALERT GOAL\",'Daily Diary'!E:E,\"ALERT GOAL\",'Daily Diary'!K:K,\"WIN\")","v":0},{"$f":"COUNTIFS('Daily Diary'!A:A,'Grafico Strategie Settimanali'!B48,'Daily Diary'!E:E,\"DRAW NO BET\",'Daily Diary'!E:E,\"DRAW NO BET\",'Daily Diary'!K:K,\"WIN\")","v":0},{"$f":"COUNTIFS('Daily Diary'!A:A,'Grafico Strategie Settimanali'!B48,'Daily Diary'!E:E,\"ALTRO\",'Daily Diary'!E:E,\"ALTRO\",'Daily Diary'!K:K,\"WIN\")","v":0},{"$error":"#DIV/0!"},{"$error":"#DIV/0!"},{"$error":"#DIV/0!"},{"$error":"#DIV/0!"},{"$error":"#DIV/0!"},{"$error":"#DIV/0!"},{"$error":"#DIV/0!"},{"$error":"#DIV/0!"},{"$error":"#DIV/0!"},{"$error":"#DIV/0!"},{"$error":"#DIV/0!"},{"$error":"#DIV/0!"},null,"2024-01-22",{"$f":"SUM(O265:O271)/SUM(C265:C271)","v":{"$error":"#DIV/0!"}},{"$f":"SUM(P265:P271)/SUM(D265:D271)","v":{"$error":"#DIV/0!"}},{"$f":"SUM(Q265:Q271)/SUM(E265:E271)","v":{"$error":"#DIV/0!"}},{"$error":"#DIV/0!"},{"$error":"#DIV/0!"},{"$error":"#DIV/0!"},{"$error":"#DIV/0!"},{"$error":"#DIV/0!"},{"$error":"#DIV/0!"},{"$error":"#DIV/0!"},{"$error":"#DIV/0!"},{"$error":"#DIV/0!"}]
[0,"2023-06-20",{"$f":"COUNTIFS('Daily Diary'!A:A,'Grafico Strategie Settimanali'!B49,'Daily Diary'!E:E,\"BANCA PAREGGIO\")","v":0},{"$f":"COUNTIFS('Daily Diary'!A:A,'Grafico Strategie Settimanali'!B49,'Daily Diary'!E:E,\"PUNTA SQ.CASA\")","v":0},{"$f":"COUNTIFS('Daily Diary'!A:A,'Grafico Strategie Settimanali'!B49,'Daily Diary'!E:E,\"PUNTA SQ.OSPITE\")","v":0},{"$f":"COUNTIFS('Daily Diary'!A:A,'Grafico Strategie Settimanali'!B49,'Daily Diary'!E:E,\"BANCA SFAVORITA\")","v":0},{"$f":"COUNTIFS('Daily Diary'!A:A,'Grafico Strategie Settimanali'!B49,'Daily Diary'!E:E,\"PUNTA OVER\")","v":0},{"$f":"COUNTIFS('Daily Diary'!A:A,'Grafico Strategie Settimanali'!B49,'Daily Diary'!E:E,\"PUNTA UNDER\")","v":0},{"$f":"COUNTIFS('Daily Diary'!A:A,'Grafico Strategie Settimanali'!B49,'Daily Diary'!E:E,\"SCALPING\")","v":0},{"$f":"COUNTIFS('Daily Diary'!A:A,'Grafico Strategie Settimanali'!B49,'Daily Diary'!E:E,\"GT90\")","v":0},{"$f":"COUNTIFS('Daily Diary'!A:A,'Grafico Strategie Settimanali'!B49,'Daily Diary'!E:E,\"GT110\")","v":0},{"$f":"COUNTIFS('Daily Diary'!A:A,'Grafico Strategie Settimanali'!B49,'Daily Diary'!E:E,\"ALERT GOAL\")","v":0},{"$f":"COUNTIFS('Daily Diary'!A:A,'Grafico Strategie Settimanali'!B49,'Daily Diary'!E:E,\"DRAW NO BET\")","v":0},{"$f":"COUNTIFS('Daily Diary'!A:A,'Grafico Strategie Settimanali'!B49,'Daily Diary'!E:E,\"ALTRO\")","v":0},{"$f":"COUNTIFS('Daily Diary'!A:A,'Grafico Strategie Settimanali'!B49,'Daily Diary'!E:E,\"BANCA PAREGGIO\",'Daily Diary'!E:E,\"BANCA PAREGGIO\",'Daily Diary'!K:K,\"WIN\")","v":0},{"$f":"COUNTIFS('Daily Diary'!A:A,'Grafico Strategie Settimanali'!B49,'Daily Diary'!E:E,\"PUNTA SQ.CASA\",'Daily Diary'!E:E,\"PUNTA SQ.CASA\",'Daily Diary'!K:K,\"WIN\")","v":0},{"$f":"COUNTIFS('Daily Diary'!A:A,'Grafico Strategie Settimanali'!B49,'Daily Diary'!E:E,\"PUNTA SQ.OSPITE\",'Daily Diary'!E:E,\"PUNTA SQ.OSPITE\",'Daily Diary'!K:K,\"WIN\")","v":0},{"$f":"COUNTIFS('Daily Diary'!A:A,'Grafico Strategie Settimanali'!B49,'Daily Diary'!E:E,\"BANCA SFAVORITA\",'Daily Diary'!E:E,\"BANCA SFAVORITA\",'Daily Diary'!K:K,\"WIN\")","v":0},{"$f":"COUNTIFS('Daily Diary'!A:A,'Grafico Strategie Settimanali'!B49,'Daily Diary'!E:E,\"PUNTA OVER\",'Daily Diary'!E:E,\"PUNTA OVER\",'Daily Diary'!K:K,\"WIN\")","v":0},{"$f":"COUNTIFS('Daily Diary'!A:A,'Grafico Strategie Settimanali'!B49,'Daily Diary'!E:E,\"PUNTA UNDER\",'Daily Diary'!E:E,\"PUNTA UNDER\",'Daily Diary'!K:K,\"WIN\")","v":0},{"$f":"COUNTIFS('Daily Diary'!A:A,'Grafico Strategie Settimanali'!B49,'Daily Diary'!E:E,\"SCALPING\",'Daily Diary'!E:E,\"SCALPING\",'Daily Diary'!K:K,\"WIN\")","v":0},{"$f":"COUNTIFS('Daily Diary'!A:A,'Grafico Strategie Settimanali'!B49,'Daily Diary'!E:E,\"GT 90\",'Daily Diary'!E:E,\"GT 90\",'Daily Diary'!K:K,\"WIN\")","v":0},{"$f":"COUNTIFS('Daily Diary'!A:A,'Grafico Strategie Settimanali'!B49,'Daily Diary'!E:E,\"GT 110\",'Daily Diary'!E:E,\"GT 110\",'Daily Diary'!K:K,\"WIN\")","v":0},{"$f":"COUNTIFS('Daily Diary'!A:A,'Grafico Strategie Settimanali'!B49,'Daily Diary'!E:E,\"ALERT GOAL\",'Daily Diary'!E:E,\"ALERT GOAL\",'Daily Diary'!K:K,\"WIN\")","v":0},{"$f":"COUNTIFS('Daily Diary'!A:A,'Grafico Strategie Settimanali'!B49,'Daily Diary'!E:E,\"DRAW NO BET\",'Daily Diary'!E:E,\"DRAW NO BET\",'Daily Diary'!K:K,\"WIN\")","v":0},{"$f":"COUNTIFS('Daily Diary'!A:A,'Grafico Strategie Settimanali'!B49,'Daily Diary'!E:E,\"ALTRO\",'Daily Diary'!E:E,\"ALTRO\",'Daily Diary'!K:K,\"WIN\")","v":0},{"$error":"#DIV/0!"},{"$error":"#DIV/0!"},{"$error":"#DIV/0!"},{"$error":"#DIV/0!"},{"$error":"#DIV/0!"},{"$error":"#DIV/0!"},{"$error":"#DIV/0!"},{"$error":"#DIV/0!"},{"$error":"#DIV/0!"},{"$error":"#DIV/0!"},{"$error":"#DIV/0!"},{"$error":"#DIV/0!"},null,"2024-01-29",{"$f":"SUM(O272:O278)/SUM(C272:C278)","v":{"$error":"#DIV/0!"}},{"$f":"SUM(P272:P278)/SUM(D272:D278)","v":{"$error":"#DIV/0!"}},{"$f":"SUM(Q272:Q278)/SUM(E272:E278)","v":{"$error":"#DIV/0!"}},{"$error":"#DIV/0!"},{"$error":"#DIV/0!"},{"$error":"#DIV/0!"},{"$error":"#DIV/0!"},{"$error":"#DIV/0!"},{"$error":"#DIV/0!"},{"$error":"#DIV/0!"},{"$error":"#DIV/0!"},{"$error":"#DIV/0!"}]
[0,"2023-06-21",{"$f":"COUNTIFS('Daily Diary'!A:A,'Grafico Strategie Settimanali'!B50,'Daily Diary'!E:E,\"BANCA PAREGGIO\")","v":0},{"$f":"COUNTIFS('Daily Diary'!A:A,'Grafico Strategie Settimanali'!B50,'Daily Diary'!E:E,\"PUNTA SQ.CASA\")","v":0},{"$f":"COUNTIFS('Daily Diary'!A:A,'Grafico Strategie Settimanali'!B50,'Daily Diary'!E:E,\"PUNTA SQ.OSPITE\")","v":0},{"$f":"COUNTIFS('Daily Diary'!A:A,'Grafico Strategie Settimanali'!B50,'Daily Diary'!E:E,\"BANCA SFAVORITA\")","v":0},{"$f":"COUNTIFS('Daily Diary'!A:A,'Grafico Strategie Settimanali'!B50,'Daily Diary'!E:E,\"PUNTA OVER\")","v":0},{"$f":"COUNTIFS('Daily Diary'!A:A,'Grafico Strategie Settimanali'!B50,'Daily Diary'!E:E,\"PUNTA UNDER\")","v":0},{"$f":"COUNTIFS('Daily Diary'!A:A,'Grafico Strategie Settimanali'!B50,'Daily Diary'!E:E,\"SCALPING\")","v":0},{"$f":"COUNTIFS('Daily Diary'!A:A,'Grafico Strategie Settimanali'!B50,'Daily Diary'!E:E,\"GT90\")","v":0},{"$f":"COUNTIFS('Daily Diary'!A:A,'Grafico Strategie Settimanali'!B50,'Daily Diary'!E:E,\"GT110\")","v":0},{"$f":"COUNTIFS('Daily Diary'!A:A,'Grafico Strategie Settimanali'!B50,'Daily Diary'!E:E,\"ALERT GOAL\")","v":0},{"$f":"COUNTIFS('Daily Diary'!A:A,'Grafico Strategie Settimanali'!B50,'Daily Diary'!E:E,\"DRAW NO BET\")","v":0},{"$f":"COUNTIFS('Daily Diary'!A:A,'Grafico Strategie Settimanali'!B50,'Daily Diary'!E:E,\"ALTRO\")","v":0},{"$f":"COUNTIFS('Daily Diary'!A:A,'Grafico Strategie Settimanali'!B50,'Daily Diary'!E:E,\"BANCA PAREGGIO\",'Daily Diary'!E:E,\"BANCA PAREGGIO\",'Daily Diary'!K:K,\"WIN\")","v":0},{"$f":"COUNTIFS('Daily Diary'!A:A,'Grafico Strategie Settimanali'!B50,'Daily Diary'!E:E,\"PUNTA SQ.CASA\",'Daily Diary'!E:E,\"PUNTA SQ.CASA\",'Daily Diary'!K:K,\"WIN\")","v":0},{"$f":"COUNTIFS('Daily Diary'!A:A,'Grafico Strategie Settimanali'!B50,'Daily Diary'!E:E,\"PUNTA SQ.OSPITE\",'Daily Diary'!E:E,\"PUNTA SQ.OSPITE\",'Daily Diary'!K:K,\"WIN\")","v":0},{"$f":"COUNTIFS('Daily Diary'!A:A,'Grafico Strategie Settimanali'!B50,'Daily Diary'!E:E,\"BANCA SFAVORITA\",'Daily Diary'!E:E,\"BANCA SFAVORITA\",'Daily Diary'!K:K,\"WIN\")","v":0},{"$f":"COUNTIFS('Daily Diary'!A:A,'Grafico Strategie Settimanali'!B50,'Daily Diary'!E:E,\"PUNTA OVER\",'Daily Diary'!E:E,\"PUNTA OVER\",'Daily Diary'!K:K,\"WIN\")","v":0},{"$f":"COUNTIFS('Daily Diary'!A:A,'Grafico Strategie Settimanali'!B50,'Daily Diary'!E:E,\"PUNTA UNDER\",'Daily Diary'!E:E,\"PUNTA UNDER\",'Daily Diary'!K:K,\"WIN\")","v":0},{"$f":"COUNTIFS('Daily Diary'!A:A,'Grafico Strategie Settimanali'!B50,'Daily Diary'!E:E,\"SCALPING\",'Daily Diary'!E:E,\"SCALPING\",'Daily Diary'!K:K,\"WIN\")","v":0},{"$f":"COUNTIFS('Daily Diary'!A:A,'Grafico Strategie Settimanali'!B50,'Daily Diary'!E:E,\"GT 90\",'Daily Diary'!E:E,\"GT 90\",'Daily Diary'!K:K,\"WIN\")","v":0},{"$f":"COUNTIFS('Daily Diary'!A:A,'Grafico Strategie Settimanali'!B50,'Daily Diary'!E:E,\"GT 110\",'Daily Diary'!E:E,\"GT 110\",'Daily Diary'!K:K,\"WIN\")","v":0},{"$f":"COUNTIFS('Daily Diary'!A:A,'Grafico Strategie Settimanali'!B50,'Daily Diary'!E:E,\"ALERT GOAL\",'Daily Diary'!E:E,\"ALERT GOAL\",'Daily Diary'!K:K,\"WIN\")","v":0},{"$f":"COUNTIFS('Daily Diary'!A:A,'Grafico Strategie Settimanali'!B50,'Daily Diary'!E:E,\"DRAW NO BET\",'Daily Diary'!E:E,\"DRAW NO BET\",'Daily Diary'!K:K,\"WIN\")","v":0},{"$f":"COUNTIFS('Daily Diary'!A:A,'Grafico Strategie Settimanali'!B50,'Daily Diary'!E:E,\"ALTRO\",'Daily Diary'!E:E,\"ALTRO\",'Daily Diary'!K:K,\"WIN\")","v":0},{"$error":"#DIV/0!"},{"$error":"#DIV/0!"},{"$error":"#DIV/0!"},{"$error":"#DIV/0!"},{"$error":"#DIV/0!"},{"$error":"#DIV/0!"},{"$error":"#DIV/0!"},{"$error":"#DIV/0!"},{"$error":"#DIV/0!"},{"$error":"#DIV/0!"},{"$error":"#DIV/0!"},{"$error":"#DIV/0!"},null,"2024-02-05",{"$f":"SUM(O279:O285)/SUM(C279:C285)","v":{"$error":"#DIV/0!"}},{"$f":"SUM(P279:P285)/SUM(D279:D285)","v":{"$error":"#DIV/0!"}},{"$f":"SUM(Q279:Q285)/SUM(E279:E285)","v":{"$error":"#DIV/0!"}},{"$error":"#DIV/0!"},{"$error":"#DIV/0!"},{"$error":"#DIV/0!"},{"$error":"#DIV/0!"},{"$error":"#DIV/0!"},{"$error":"#DIV/0!"},{"$error":"#DIV/0!"},{"$error":"#DIV/0!"},{"$error":"#DIV/0!"}]
[0,"2023-06-22",{"$f":"COUNTIFS('Daily Diary'!A:A,'Grafico Strategie Settimanali'!B51,'Daily Diary'!E:E,\"BANCA PAREGGIO\")","v":0},{"$f":"COUNTIFS('Daily Diary'!A:A,'Grafico Strategie Settimanali'!B51,'Daily Diary'!E:E,\"PUNTA SQ.CASA\")","v":0},{"$f":"COUNTIFS('Daily Diary'!A:A,'Grafico Strategie Settimanali'!B51,'Daily Diary'!E:E,\"PUNTA SQ.OSPITE\")","v":0},{"$f":"COUNTIFS('Daily Diary'!A:A,'Grafico Strategie Settimanali'!B51,'Daily Diary'!E:E,\"BANCA SFAVORITA\")","v":0},{"$f":"COUNTIFS('Daily Diary'!A:A,'Grafico Strategie Settimanali'!B51,'Daily Diary'!E:E,\"PUNTA OVER\")","v":0},{"$f":"COUNTIFS('Daily Diary'!A:A,'Grafico Strategie Settimanali'!B51,'Daily Diary'!E:E,\"PUNTA UNDER\")","v":0},{"$f":"COUNTIFS('Daily Diary'!A:A,'Grafico Strategie Settimanali'!B51,'Daily Diary'!E:E,\"SCALPING\")","v":0},{"$f":"COUNTIFS('Daily Diary'!A:A,'Grafico Strategie Settimanali'!B51,'Daily Diary'!E:E,\"GT90\")","v":0},{"$f":"COUNTIFS('Daily Diary'!A:A,'Grafico Strategie Settimanali'!B51,'Daily Diary'!E:E,\"GT110\")","v":0},{"$f":"COUNTIFS('Daily Diary'!A:A,'Grafico Strategie Settimanali'!B51,'Daily Diary'!E:E,\"ALERT GOAL\")","v":0},{"$f":"COUNTIFS('Daily Diary'!A:A,'Grafico Strategie Settimanali'!B51,'Daily Diary'!E:E,\"DRAW NO BET\")","v":0},{"$f":"COUNTIFS('Daily Diary'!A:A,'Grafico Strategie Settimanali'!B51,'Daily Diary'!E:E,\"ALTRO\")","v":0},{"$f":"COUNTIFS('Daily Diary'!A:A,'Grafico Strategie Settimanali'!B51,'Daily Diary'!E:E,\"BANCA PAREGGIO\",'Daily Diary'!E:E,\"BANCA PAREGGIO\",'Daily Diary'!K:K,\"WIN\")","v":0},{"$f":"COUNTIFS('Daily Diary'!A:A,'Grafico Strategie Settimanali'!B51,'Daily Diary'!E:E,\"PUNTA SQ.CASA\",'Daily Diary'!E:E,\"PUNTA SQ.CASA\",'Daily Diary'!K:K,\"WIN\")","v":0},{"$f":"COUNTIFS('Daily Diary'!A:A,'Grafico Strategie Settimanali'!B51,'Daily Diary'!E:E,\"PUNTA SQ.OSPITE\",'Daily Diary'!E:E,\"PUNTA SQ.OSPITE\",'Daily Diary'!K:K,\"WIN\")","v":0},{"$f":"COUNTIFS('Daily Diary'!A:A,'Grafico Strategie Settimanali'!B51,'Daily Diary'!E:E,\"BANCA SFAVORITA\",'Daily Diary'!E:E,\"BANCA SFAVORITA\",'Daily Diary'!K:K,\"WIN\")","v":0},{"$f":"COUNTIFS('Daily Diary'!A:A,'Grafico Strategie Settimanali'!B51,'Daily Diary'!E:E,\"PUNTA OVER\",'Daily Diary'!E:E,\"PUNTA OVER\",'Daily Diary'!K:K,\"WIN\")","v":0},{"$f":"COUNTIFS('Daily Diary'!A:A,'Grafico Strategie Settimanali'!B51,'Daily Diary'!E:E,\"PUNTA UNDER\",'Daily Diary'!E:E,\"PUNTA UNDER\",'Daily Diary'!K:K,\"WIN\")","v":0},{"$f":"COUNTIFS('Daily Diary'!A:A,'Grafico Strategie Settimanali'!B51,'Daily Diary'!E:E,\"SCALPING\",'Daily Diary'!E:E,\"SCALPING\",'Daily Diary'!K:K,\"WIN\")","v":0},{"$f":"COUNTIFS('Daily Diary'!A:A,'Grafico Strategie Settimanali'!B51,'Daily Diary'!E:E,\"GT 90\",'Daily Diary'!E:E,\"GT 90\",'Daily Diary'!K:K,\"WIN\")","v":0},{"$f":"COUNTIFS('Daily Diary'!A:A,'Grafico Strategie Settimanali'!B51,'Daily Diary'!E:E,\"GT 110\",'Daily Diary'!E:E,\"GT 110\",'Daily Diary'!K:K,\"WIN\")","v":0},{"$f":"COUNTIFS('Daily Diary'!A:A,'Grafico Strategie Settimanali'!B51,'Daily Diary'!E:E,\"ALERT GOAL\",'Daily Diary'!E:E,\"ALERT GOAL\",'Daily Diary'!K:K,\"WIN\")","v":0},{"$f":"COUNTIFS('Daily Diary'!A:A,'Grafico Strategie Settimanali'!B51,'Daily Diary'!E:E,\"DRAW NO BET\",'Daily Diary'!E:E,\"DRAW NO BET\",'Daily Diary'!K:K,\"WIN\")","v":0},{"$f":"COUNTIFS('Daily Diary'!A:A,'Grafico Strategie Settimanali'!B51,'Daily Diary'!E:E,\"ALTRO\",'Daily Diary'!E:E,\"ALTRO\",'Daily Diary'!K:K,\"WIN\")","v":0},{"$error":"#DIV/0!"},{"$error":"#DIV/0!"},{"$error":"#DIV/0!"},{"$error":"#DIV/0!"},{"$error":"#DIV/0!"},{"$error":"#DIV/0!"},{"$error":"#DIV/0!"},{"$error":"#DIV/0!"},{"$error":"#DIV/0!"},{"$error":"#DIV/0!"},{"$error":"#DIV/0!"},{"$error":"#DIV/0!"},null,{"$f":"AN50+7","v":"2024-02-12"},{"$f":"SUM(O286:O292)/SUM(C286:C292)","v":{"$error":"#DIV/0!"}},{"$f":"SUM(P286:P292)/SUM(D286:D292)","v":{"$error":"#DIV/0!"}},{"$f":"SUM(Q286:Q292)/SUM(E286:E292)","v":{"$error":"#DIV/0!"}},{"$error":"#DIV/0!"},{"$error":"#DIV/0!"},{"$error":"#DIV/0!"},{"$error":"#DIV/0!"},{"$error":"#DIV/0!"},{"$error":"#DIV/0!"},{"$error":"#DIV/0!"},{"$error":"#DIV/0!"},{"$error":"#DIV/0!"}]
[0,"2023-06-23",{"$f":"COUNTIFS('Daily Diary'!A:A,'Grafico Strategie Settimanali'!B52,'Daily Diary'!E:E,\"BANCA PAREGGIO\")","v":0},{"$f":"COUNTIFS('Daily Diary'!A:A,'Grafico Strategie Settimanali'!B52,'Daily Diary'!E:E,\"PUNTA SQ.CASA\")","v":0},{"$f":"COUNTIFS('Daily Diary'!A:A,'Grafico Strategie Settimanali'!B52,'Daily Diary'!E:E,\"PUNTA SQ.OSPITE\")","v":0},{"$f":"COUNTIFS('Daily Diary'!A:A,'Grafico Strategie Settimanali'!B52,'Daily Diary'!E:E,\"BANCA SFAVORITA\")","v":0},{"$f":"COUNTIFS('Daily Diary'!A:A,'Grafico Strategie Settimanali'!B52,'Daily Diary'!E:E,\"PUNTA OVER\")","v":0},{"$f":"COUNTIFS('Daily Diary'!A:A,'Grafico Strategie Settimanali'!B52,'Daily Diary'!E:E,\"PUNTA UNDER\")","v":0},{"$f":"COUNTIFS('Daily Diary'!A:A,'Grafico Strategie Settimanali'!B52,'Daily Diary'!E:E,\"SCALPING\")","v":0},{"$f":"COUNTIFS('Daily Diary'!A:A,'Grafico Strategie Settimanali'!B52,'Daily Diary'!E:E,\"GT90\")","v":0},{"$f":"COUNTIFS('Daily Diary'!A:A,'Grafico Strategie Settimanali'!B52,'Daily Diary'!E:E,\"GT110\")","v":0},{"$f":"COUNTIFS('Daily Diary'!A:A,'Grafico Strategie Settimanali'!B52,'Daily Diary'!E:E,\"ALERT GOAL\")","v":0},{"$f":"COUNTIFS('Daily Diary'!A:A,'Grafico Strategie Settimanali'!B52,'Daily Diary'!E:E,\"DRAW NO BET\")","v":0},{"$f":"COUNTIFS('Daily Diary'!A:A,'Grafico Strategie Settimanali'!B52,'Daily Diary'!E:E,\"ALTRO\")","v":0},{"$f":"COUNTIFS('Daily Diary'!A:A,'Grafico Strategie Settimanali'!B52,'Daily Diary'!E:E,\"BANCA PAREGGIO\",'Daily Diary'!E:E,\"BANCA PAREGGIO\",'Daily Diary'!K:K,\"WIN\")","v":0},{"$f":"COUNTIFS('Daily Diary'!A:A,'Grafico Strategie Settimanali'!B52,'Daily Diary'!E:E,\"PUNTA SQ.CASA\",'Daily Diary'!E:E,\"PUNTA SQ.CASA\",'Daily Diary'!K:K,\"WIN\")","v":0},{"$f":"COUNTIFS('Daily Diary'!A:A,'Grafico Strategie Settimanali'!B52,'Daily Diary'!E:E,\"PUNTA SQ.OSPITE\",'Daily Diary'!E:E,\"PUNTA SQ.OSPITE\",'Daily Diary'!K:K,\"WIN\")","v":0},{"$f":"COUNTIFS('Daily Diary'!A:A,'Grafico Strategie Settimanali'!B52,'Daily Diary'!E:E,\"BANCA SFAVORITA\",'Daily Diary'!E:E,\"BANCA SFAVORITA\",'Daily Diary'!K:K,\"WIN\")","v":0},{"$f":"COUNTIFS('Daily Diary'!A:A,'Grafico Strategie Settimanali'!B52,'Daily Diary'!E:E,\"PUNTA OVER\",'Daily Diary'!E:E,\"PUNTA OVER\",'Daily Diary'!K:K,\"WIN\")","v":0},{"$f":"COUNTIFS('Daily Diary'!A:A,'Grafico Strategie Settimanali'!B52,'Daily Diary'!E:E,\"PUNTA UNDER\",'Daily Diary'!E:E,\"PUNTA UNDER\",'Daily Diary'!K:K,\"WIN\")","v":0},{"$f":"COUNTIFS('Daily Diary'!A:A,'Grafico Strategie Settimanali'!B52,'Daily Diary'!E:E,\"SCALPING\",'Daily Diary'!E:E,\"SCALPING\",'Daily Diary'!K:K,\"WIN\")","v":0},{"$f":"COUNTIFS('Daily Diary'!A:A,'Grafico Strategie Settimanali'!B52,'Daily Diary'!E:E,\"GT 90\",'Daily Diary'!E:E,\"GT 90\",'Daily Diary'!K:K,\"WIN\")","v":0},{"$f":"COUNTIFS('Daily Diary'!A:A,'Grafico Strategie Settimanali'!B52,'Daily Diary'!E:E,\"GT 110\",'Daily Diary'!E:E,\"GT 110\",'Daily Diary'!K:K,\"WIN\")","v":0},{"$f":"COUNTIFS('Daily Diary'!A:A,'Grafico Strategie Settimanali'!B52,'Daily Diary'!E:E,\"ALERT GOAL\",'Daily Diary'!E:E,\"ALERT GOAL\",'Daily Diary'!K:K,\"WIN\")","v":0},{"$f":"COUNTIFS('Daily Diary'!A:A,'Grafico Strategie Settimanali'!B52,'Daily Diary'!E:E,\"DRAW NO BET\",'Daily Diary'!E:E,\"DRAW NO BET\",'Daily Diary'!K:K,\"WIN\")","v":0},{"$f":"COUNTIFS('Daily Diary'!A:A,'Grafico Strategie Settimanali'!B52,'Daily Diary'!E:E,\"ALTRO\",'Daily Diary'!E:E,\"ALTRO\",'Daily Diary'!K:K,\"WIN\")","v":0},{"$error":"#DIV/0!"},{"$error":"#DIV/0!"},{"$error":"#DIV/0!"},{"$error":"#DIV/0!"},{"$error":"#DIV/0!"},{"$error":"#DIV/0!"},{"$error":"#DIV/0!"},{"$error":"#DIV/0!"},{"$error":"#DIV/0!"},{"$error":"#DIV/0!"},{"$error":"#DIV/0!"},{"$error":"#DIV/0!"},null,"2024-02-19",{"$f":"SUM(O293:O299)/SUM(C293:C299)","v":{"$error":"#DIV/0!"}},{"$f":"SUM(P293:P299)/SUM(D293:D299)","v":{"$error":"#DIV/0!"}},{"$f":"SUM(Q293:Q299)/SUM(E293:E299)","v":{"$error":"#DIV/0!"}},{"$error":"#DIV/0!"},{"$error":"#DIV/0!"},{"$error":"#DIV/0!"},{"$error":"#DIV/0!"},{"$error":"#DIV/0!"},{"$error":"#DIV/0!"},{"$error":"#DIV/0!"},{"$error":"#DIV/0!"},{"$error":"#DIV/0!"}]
[0,"2023-06-24",{"$f":"COUNTIFS('Daily Diary'!A:A,'Grafico Strategie Settimanali'!B53,'Daily Diary'!E:E,\"BANCA PAREGGIO\")","v":0},{"$f":"COUNTIFS('Daily Diary'!A:A,'Grafico Strategie Settimanali'!B53,'Daily Diary'!E:E,\"PUNTA SQ.CASA\")","v":0},{"$f":"COUNTIFS('Daily Diary'!A:A,'Grafico Strategie Settimanali'!B53,'Daily Diary'!E:E,\"PUNTA SQ.OSPITE\")","v":0},{"$f":"COUNTIFS('Daily Diary'!A:A,'Grafico Strategie Settimanali'!B53,'Daily Diary'!E:E,\"BANCA SFAVORITA\")","v":0},{"$f":"COUNTIFS('Daily Diary'!A:A,'Grafico Strategie Settimanali'!B53,'Daily Diary'!E:E,\"PUNTA OVER\")","v":0},{"$f":"COUNTIFS('Daily Diary'!A:A,'Grafico Strategie Settimanali'!B53,'Daily Diary'!E:E,\"PUNTA UNDER\")","v":0},{"$f":"COUNTIFS('Daily Diary'!A:A,'Grafico Strategie Settimanali'!B53,'Daily Diary'!E:E,\"SCALPING\")","v":0},{"$f":"COUNTIFS('Daily Diary'!A:A,'Grafico Strategie Settimanali'!B53,'Daily Diary'!E:E,\"GT90\")","v":0},{"$f":"COUNTIFS('Daily Diary'!A:A,'Grafico Strategie Settimanali'!B53,'Daily Diary'!E:E,\"GT110\")","v":0},{"$f":"COUNTIFS('Daily Diary'!A:A,'Grafico Strategie Settimanali'!B53,'Daily Diary'!E:E,\"ALERT GOAL\")","v":0},{"$f":"COUNTIFS('Daily Diary'!A:A,'Grafico Strategie Settimanali'!B53,'Daily Diary'!E:E,\"DRAW NO BET\")","v":0},{"$f":"COUNTIFS('Daily Diary'!A:A,'Grafico Strategie Settimanali'!B53,'Daily Diary'!E:E,\"ALTRO\")","v":0},{"$f":"COUNTIFS('Daily Diary'!A:A,'Grafico Strategie Settimanali'!B53,'Daily Diary'!E:E,\"BANCA PAREGGIO\",'Daily Diary'!E:E,\"BANCA PAREGGIO\",'Daily Diary'!K:K,\"WIN\")","v":0},{"$f":"COUNTIFS('Daily Diary'!A:A,'Grafico Strategie Settimanali'!B53,'Daily Diary'!E:E,\"PUNTA SQ.CASA\",'Daily Diary'!E:E,\"PUNTA SQ.CASA\",'Daily Diary'!K:K,\"WIN\")","v":0},{"$f":"COUNTIFS('Daily Diary'!A:A,'Grafico Strategie Settimanali'!B53,'Daily Diary'!E:E,\"PUNTA SQ.OSPITE\",'Daily Diary'!E:E,\"PUNTA SQ.OSPITE\",'Daily Diary'!K:K,\"WIN\")","v":0},{"$f":"COUNTIFS('Daily Diary'!A:A,'Grafico Strategie Settimanali'!B53,'Daily Diary'!E:E,\"BANCA SFAVORITA\",'Daily Diary'!E:E,\"BANCA SFAVORITA\",'Daily Diary'!K:K,\"WIN\")","v":0},{"$f":"COUNTIFS('Daily Diary'!A:A,'Grafico Strategie Settimanali'!B53,'Daily Diary'!E:E,\"PUNTA OVER\",'Daily Diary'!E:E,\"PUNTA OVER\",'Daily Diary'!K:K,\"WIN\")","v":0},{"$f":"COUNTIFS('Daily Diary'!A:A,'Grafico Strategie Settimanali'!B53,'Daily Diary'!E:E,\"PUNTA UNDER\",'Daily Diary'!E:E,\"PUNTA UNDER\",'Daily Diary'!K:K,\"WIN\")","v":0},{"$f":"COUNTIFS('Daily Diary'!A:A,'Grafico Strategie Settimanali'!B53,'Daily Diary'!E:E,\"SCALPING\",'Daily Diary'!E:E,\"SCALPING\",'Daily Diary'!K:K,\"WIN\")","v":0},{"$f":"COUNTIFS('Daily Diary'!A:A,'Grafico Strategie Settimanali'!B53,'Daily Diary'!E:E,\"GT 90\",'Daily Diary'!E:E,\"GT 90\",'Daily Diary'!K:K,\"WIN\")","v":0},{"$f":"COUNTIFS('Daily Diary'!A:A,'Grafico Strategie Settimanali'!B53,'Daily Diary'!E:E,\"GT 110\",'Daily Diary'!E:E,\"GT 110\",'Daily Diary'!K:K,\"WIN\")","v":0},{"$f":"COUNTIFS('Daily Diary'!A:A,'Grafico Strategie Settimanali'!B53,'Daily Diary'!E:E,\"ALERT GOAL\",'Daily Diary'!E:E,\"ALERT GOAL\",'Daily Diary'!K:K,\"WIN\")","v":0},{"$f":"COUNTIFS('Daily Diary'!A:A,'Grafico Strategie Settimanali'!B53,'Daily Diary'!E:E,\"DRAW NO BET\",'Daily Diary'!E:E,\"DRAW NO BET\",'Daily Diary'!K:K,\"WIN\")","v":0},{"$f":"COUNTIFS('Daily Diary'!A:A,'Grafico Strategie Settimanali'!B53,'Daily Diary'!E:E,\"ALTRO\",'Daily Diary'!E:E,\"ALTRO\",'Daily Diary'!K:K,\"WIN\")","v":0},{"$error":"#DIV/0!"},{"$error":"#DIV/0!"},{"$error":"#DIV/0!"},{"$error":"#DIV/0!"},{"$error":"#DIV/0!"},{"$error":"#DIV/0!"},{"$error":"#DIV/0!"},{"$error":"#DIV/0!"},{"$error":"#DIV/0!"},{"$error":"#DIV/0!"},{"$error":"#DIV/0!"},{"$error":"#DIV/0!"},null,"2024-02-26",{"$f":"SUM(O300:O306)/SUM(C300:C306)","v":{"$error":"#DIV/0!"}},{"$f":"SUM(P300:P306)/SUM(D300:D306)","v":{"$error":"#DIV/0!"}},{"$f":"SUM(Q300:Q306)/SUM(E300:E306)","v":{"$error":"#DIV/0!"}},{"$error":"#DIV/0!"},{"$error":"#DIV/0!"},{"$error":"#DIV/0!"},{"$error":"#DIV/0!"},{"$error":"#DIV/0!"},{"$error":"#DIV/0!"},{"$error":"#DIV/0!"},{"$error":"#DIV/0!"},{"$error":"#DIV/0!"}]
[0,"2023-06-25",{"$f":"COUNTIFS('Daily Diary'!A:A,'Grafico Strategie Settimanali'!B54,'Daily Diary'!E:E,\"BANCA PAREGGIO\")","v":0},{"$f":"COUNTIFS('Daily Diary'!A:A,'Grafico Strategie Settimanali'!B54,'Daily Diary'!E:E,\"PUNTA SQ.CASA\")","v":0},{"$f":"COUNTIFS('Daily Diary'!A:A,'Grafico Strategie Settimanali'!B54,'Daily Diary'!E:E,\"PUNTA SQ.OSPITE\")","v":0},{"$f":"COUNTIFS('Daily Diary'!A:A,'Grafico Strategie Settimanali'!B54,'Daily Diary'!E:E,\"BANCA SFAVORITA\")","v":0},{"$f":"COUNTIFS('Daily Diary'!A:A,'Grafico Strategie Settimanali'!B54,'Daily Diary'!E:E,\"PUNTA OVER\")","v":0},{"$f":"COUNTIFS('Daily Diary'!A:A,'Grafico Strategie Settimanali'!B54,'Daily Diary'!E:E,\"PUNTA UNDER\")","v":0},{"$f":"COUNTIFS('Daily Diary'!A:A,'Grafico Strategie Settimanali'!B54,'Daily Diary'!E:E,\"SCALPING\")","v":0},{"$f":"COUNTIFS('Daily Diary'!A:A,'Grafico Strategie Settimanali'!B54,'Daily Diary'!E:E,\"GT90\")","v":0},{"$f":"COUNTIFS('Daily Diary'!A:A,'Grafico Strategie Settimanali'!B54,'Daily Diary'!E:E,\"GT110\")","v":0},{"$f":"COUNTIFS('Daily Diary'!A:A,'Grafico Strategie Settimanali'!B54,'Daily Diary'!E:E,\"ALERT GOAL\")","v":0},{"$f":"COUNTIFS('Daily Diary'!A:A,'Grafico Strategie Settimanali'!B54,'Daily Diary'!E:E,\"DRAW NO BET\")","v":0},{"$f":"COUNTIFS('Daily Diary'!A:A,'Grafico Strategie Settimanali'!B54,'Daily Diary'!E:E,\"ALTRO\")","v":0},{"$f":"COUNTIFS('Daily Diary'!A:A,'Grafico Strategie Settimanali'!B54,'Daily Diary'!E:E,\"BANCA PAREGGIO\",'Daily Diary'!E:E,\"BANCA PAREGGIO\",'Daily Diary'!K:K,\"WIN\")","v":0},{"$f":"COUNTIFS('Daily Diary'!A:A,'Grafico Strategie Settimanali'!B54,'Daily Diary'!E:E,\"PUNTA SQ.CASA\",'Daily Diary'!E:E,\"PUNTA SQ.CASA\",'Daily Diary'!K:K,\"WIN\")","v":0},{"$f":"COUNTIFS('Daily Diary'!A:A,'Grafico Strategie Settimanali'!B54,'Daily Diary'!E:E,\"PUNTA SQ.OSPITE\",'Daily Diary'!E:E,\"PUNTA SQ.OSPITE\",'Daily Diary'!K:K,\"WIN\")","v":0},{"$f":"COUNTIFS('Daily Diary'!A:A,'Grafico Strategie Settimanali'!B54,'Daily Diary'!E:E,\"BANCA SFAVORITA\",'Daily Diary'!E:E,\"BANCA SFAVORITA\",'Daily Diary'!K:K,\"WIN\")","v":0},{"$f":"COUNTIFS('Daily Diary'!A:A,'Grafico Strategie Settimanali'!B54,'Daily Diary'!E:E,\"PUNTA OVER\",'Daily Diary'!E:E,\"PUNTA OVER\",'Daily Diary'!K:K,\"WIN\")","v":0},{"$f":"COUNTIFS('Daily Diary'!A:A,'Grafico Strategie Settimanali'!B54,'Daily Diary'!E:E,\"PUNTA UNDER\",'Daily Diary'!E:E,\"PUNTA UNDER\",'Daily Diary'!K:K,\"WIN\")","v":0},{"$f":"COUNTIFS('Daily Diary'!A:A,'Grafico Strategie Settimanali'!B54,'Daily Diary'!E:E,\"SCALPING\",'Daily Diary'!E:E,\"SCALPING\",'Daily Diary'!K:K,\"WIN\")","v":0},{"$f":"COUNTIFS('Daily Diary'!A:A,'Grafico Strategie Settimanali'!B54,'Daily Diary'!E:E,\"GT 90\",'Daily Diary'!E:E,\"GT 90\",'Daily Diary'!K:K,\"WIN\")","v":0},{"$f":"COUNTIFS('Daily Diary'!A:A,'Grafico Strategie Settimanali'!B54,'Daily Diary'!E:E,\"GT 110\",'Daily Diary'!E:E,\"GT 110\",'Daily Diary'!K:K,\"WIN\")","v":0},{"$f":"COUNTIFS('Daily Diary'!A:A,'Grafico Strategie Settimanali'!B54,'Daily Diary'!E:E,\"ALERT GOAL\",'Daily Diary'!E:E,\"ALERT GOAL\",'Daily Diary'!K:K,\"WIN\")","v":0},{"$f":"COUNTIFS('Daily Diary'!A:A,'Grafico Strategie Settimanali'!B54,'Daily Diary'!E:E,\"DRAW NO BET\",'Daily Diary'!E:E,\"DRAW NO BET\",'Daily Diary'!K:K,\"WIN\")","v":0},{"$f":"COUNTIFS('Daily Diary'!A:A,'Grafico Strategie Settimanali'!B54,'Daily Diary'!E:E,\"ALTRO\",'Daily Diary'!E:E,\"ALTRO\",'Daily Diary'!K:K,\"WIN\")","v":0},{"$error":"#DIV/0!"},{"$error":"#DIV/0!"},{"$error":"#DIV/0!"},{"$error":"#DIV/0!"},{"$error":"#DIV/0!"},{"$error":"#DIV/0!"},{"$error":"#DIV/0!"},{"$error":"#DIV/0!"},{"$error":"#DIV/0!"},{"$error":"#DIV/0!"},{"$error":"#DIV/0!"},{"$error":"#DIV/0!"},null,"2024-03-04",{"$f":"SUM(O307:O313)/SUM(C307:C313)","v":{"$error":"#DIV/0!"}},{"$f":"SUM(P307:P313)/SUM(D307:D313)","v":{"$error":"#DIV/0!"}},{"$f":"SUM(Q307:Q313)/SUM(E307:E313)","v":{"$error":"#DIV/0!"}},{"$error":"#DIV/0!"},{"$error":"#DIV/0!"},{"$error":"#DIV/0!"},{"$error":"#DIV/0!"},{"$error":"#DIV/0!"},{"$error":"#DIV/0!"},{"$error":"#DIV/0!"},{"$error":"#DIV/0!"},{"$error":"#DIV/0!"}]
[0,"2023-06-26",{"$f":"COUNTIFS('Daily Diary'!A:A,'Grafico Strategie Settimanali'!B55,'Daily Diary'!E:E,\"BANCA PAREGGIO\")","v":0},{"$f":"COUNTIFS('Daily Diary'!A:A,'Grafico Strategie Settimanali'!B55,'Daily Diary'!E:E,\"PUNTA SQ.CASA\")","v":0},{"$f":"COUNTIFS('Daily Diary'!A:A,'Grafico Strategie Settimanali'!B55,'Daily Diary'!E:E,\"PUNTA SQ.OSPITE\")","v":0},{"$f":"COUNTIFS('Daily Diary'!A:A,'Grafico Strategie Settimanali'!B55,'Daily Diary'!E:E,\"BANCA SFAVORITA\")","v":0},{"$f":"COUNTIFS('Daily Diary'!A:A,'Grafico Strategie Settimanali'!B55,'Daily Diary'!E:E,\"PUNTA OVER\")","v":0},{"$f":"COUNTIFS('Daily Diary'!A:A,'Grafico Strategie Settimanali'!B55,'Daily Diary'!E:E,\"PUNTA UNDER\")","v":0},{"$f":"COUNTIFS('Daily Diary'!A:A,'Grafico Strategie Settimanali'!B55,'Daily Diary'!E:E,\"SCALPING\")","v":0},{"$f":"COUNTIFS('Daily Diary'!A:A,'Grafico Strategie Settimanali'!B55,'Daily Diary'!E:E,\"GT90\")","v":0},{"$f":"COUNTIFS('Daily Diary'!A:A,'Grafico Strategie Settimanali'!B55,'Daily Diary'!E:E,\"GT110\")","v":0},{"$f":"COUNTIFS('Daily Diary'!A:A,'Grafico Strategie Settimanali'!B55,'Daily Diary'!E:E,\"ALERT GOAL\")","v":0},{"$f":"COUNTIFS('Daily Diary'!A:A,'Grafico Strategie Settimanali'!B55,'Daily Diary'!E:E,\"DRAW NO BET\")","v":0},{"$f":"COUNTIFS('Daily Diary'!A:A,'Grafico Strategie Settimanali'!B55,'Daily Diary'!E:E,\"ALTRO\")","v":0},{"$f":"COUNTIFS('Daily Diary'!A:A,'Grafico Strategie Settimanali'!B55,'Daily Diary'!E:E,\"BANCA PAREGGIO\",'Daily Diary'!E:E,\"BANCA PAREGGIO\",'Daily Diary'!K:K,\"WIN\")","v":0},{"$f":"COUNTIFS('Daily Diary'!A:A,'Grafico Strategie Settimanali'!B55,'Daily Diary'!E:E,\"PUNTA SQ.CASA\",'Daily Diary'!E:E,\"PUNTA SQ.CASA\",'Daily Diary'!K:K,\"WIN\")","v":0},{"$f":"COUNTIFS('Daily Diary'!A:A,'Grafico Strategie Settimanali'!B55,'Daily Diary'!E:E,\"PUNTA SQ.OSPITE\",'Daily Diary'!E:E,\"PUNTA SQ.OSPITE\",'Daily Diary'!K:K,\"WIN\")","v":0},{"$f":"COUNTIFS('Daily Diary'!A:A,'Grafico Strategie Settimanali'!B55,'Daily Diary'!E:E,\"BANCA SFAVORITA\",'Daily Diary'!E:E,\"BANCA SFAVORITA\",'Daily Diary'!K:K,\"WIN\")","v":0},{"$f":"COUNTIFS('Daily Diary'!A:A,'Grafico Strategie Settimanali'!B55,'Daily Diary'!E:E,\"PUNTA OVER\",'Daily Diary'!E:E,\"PUNTA OVER\",'Daily Diary'!K:K,\"WIN\")","v":0},{"$f":"COUNTIFS('Daily Diary'!A:A,'Grafico Strategie Settimanali'!B55,'Daily Diary'!E:E,\"PUNTA UNDER\",'Daily Diary'!E:E,\"PUNTA UNDER\",'Daily Diary'!K:K,\"WIN\")","v":0},{"$f":"COUNTIFS('Daily Diary'!A:A,'Grafico Strategie Settimanali'!B55,'Daily Diary'!E:E,\"SCALPING\",'Daily Diary'!E:E,\"SCALPING\",'Daily Diary'!K:K,\"WIN\")","v":0},{"$f":"COUNTIFS('Daily Diary'!A:A,'Grafico Strategie Settimanali'!B55,'Daily Diary'!E:E,\"GT 90\",'Daily Diary'!E:E,\"GT 90\",'Daily Diary'!K:K,\"WIN\")","v":0},{"$f":"COUNTIFS('Daily Diary'!A:A,'Grafico Strategie Settimanali'!B55,'Daily Diary'!E:E,\"GT 110\",'Daily Diary'!E:E,\"GT 110\",'Daily Diary'!K:K,\"WIN\")","v":0},{"$f":"COUNTIFS('Daily Diary'!A:A,'Grafico Strategie Settimanali'!B55,'Daily Diary'!E:E,\"ALERT GOAL\",'Daily Diary'!E:E,\"ALERT GOAL\",'Daily Diary'!K:K,\"WIN\")","v":0},{"$f":"COUNTIFS('Daily Diary'!A:A,'Grafico Strategie Settimanali'!B55,'Daily Diary'!E:E,\"DRAW NO BET\",'Daily Diary'!E:E,\"DRAW NO BET\",'Daily Diary'!K:K,\"WIN\")","v":0},{"$f":"COUNTIFS('Daily Diary'!A:A,'Grafico Strategie Settimanali'!B55,'Daily Diary'!E:E,\"ALTRO\",'Daily Diary'!E:E,\"ALTRO\",'Daily Diary'!K:K,\"WIN\")","v":0},{"$error":"#DIV/0!"},{"$error":"#DIV/0!"},{"$error":"#DIV/0!"},{"$error":"#DIV/0!"},{"$error":"#DIV/0!"},{"$error":"#DIV/0!"},{"$error":"#DIV/0!"},{"$error":"#DIV/0!"},{"$error":"#DIV/0!"},{"$error":"#DIV/0!"},{"$error":"#DIV/0!"},{"$error":"#DIV/0!"},null,"2024-03-11",{"$f":"SUM(O314:O320)/SUM(C314:C320)","v":{"$error":"#DIV/0!"}},{"$f":"SUM(P314:P320)/SUM(D314:D320)","v":{"$error":"#DIV/0!"}},{"$f":"SUM(Q314:Q320)/SUM(E314:E320)","v":{"$error":"#DIV/0!"}},{"$error":"#DIV/0!"},{"$error":"#DIV/0!"},{"$error":"#DIV/0!"},{"$error":"#DIV/0!"},{"$error":"#DIV/0!"},{"$error":"#DIV/0!"},{"$error":"#DIV/0!"},{"$error":"#DIV/0!"},{"$error":"#DIV/0!"}]
[0,"2023-06-27",{"$f":"COUNTIFS('Daily Diary'!A:A,'Grafico Strategie Settimanali'!B56,'Daily Diary'!E:E,\"BANCA PAREGGIO\")","v":0},{"$f":"COUNTIFS('Daily Diary'!A:A,'Grafico Strategie Settimanali'!B56,'Daily Diary'!E:E,\"PUNTA SQ.CASA\")","v":0},{"$f":"COUNTIFS('Daily Diary'!A:A,'Grafico Strategie Settimanali'!B56,'Daily Diary'!E:E,\"PUNTA SQ.OSPITE\")","v":0},{"$f":"COUNTIFS('Daily Diary'!A:A,'Grafico Strategie Settimanali'!B56,'Daily Diary'!E:E,\"BANCA SFAVORITA\")","v":0},{"$f":"COUNTIFS('Daily Diary'!A:A,'Grafico Strategie Settimanali'!B56,'Daily Diary'!E:E,\"PUNTA OVER\")","v":0},{"$f":"COUNTIFS('Daily Diary'!A:A,'Grafico Strategie Settimanali'!B56,'Daily Diary'!E:E,\"PUNTA UNDER\")","v":0},{"$f":"COUNTIFS('Daily Diary'!A:A,'Grafico Strategie Settimanali'!B56,'Daily Diary'!E:E,\"SCALPING\")","v":0},{"$f":"COUNTIFS('Daily Diary'!A:A,'Grafico Strategie Settimanali'!B56,'Daily Diary'!E:E,\"GT90\")","v":0},{"$f":"COUNTIFS('Daily Diary'!A:A,'Grafico Strategie Settimanali'!B56,'Daily Diary'!E:E,\"GT110\")","v":0},{"$f":"COUNTIFS('Daily Diary'!A:A,'Grafico Strategie Settimanali'!B56,'Daily Diary'!E:E,\"ALERT GOAL\")","v":0},{"$f":"COUNTIFS('Daily Diary'!A:A,'Grafico Strategie Settimanali'!B56,'Daily Diary'!E:E,\"DRAW NO BET\")","v":0},{"$f":"COUNTIFS('Daily Diary'!A:A,'Grafico Strategie Settimanali'!B56,'Daily Diary'!E:E,\"ALTRO\")","v":0},{"$f":"COUNTIFS('Daily Diary'!A:A,'Grafico Strategie Settimanali'!B56,'Daily Diary'!E:E,\"BANCA PAREGGIO\",'Daily Diary'!E:E,\"BANCA PAREGGIO\",'Daily Diary'!K:K,\"WIN\")","v":0},{"$f":"COUNTIFS('Daily Diary'!A:A,'Grafico Strategie Settimanali'!B56,'Daily Diary'!E:E,\"PUNTA SQ.CASA\",'Daily Diary'!E:E,\"PUNTA SQ.CASA\",'Daily Diary'!K:K,\"WIN\")","v":0},{"$f":"COUNTIFS('Daily Diary'!A:A,'Grafico Strategie Settimanali'!B56,'Daily Diary'!E:E,\"PUNTA SQ.OSPITE\",'Daily Diary'!E:E,\"PUNTA SQ.OSPITE\",'Daily Diary'!K:K,\"WIN\")","v":0},{"$f":"COUNTIFS('Daily Diary'!A:A,'Grafico Strategie Settimanali'!B56,'Daily Diary'!E:E,\"BANCA SFAVORITA\",'Daily Diary'!E:E,\"BANCA SFAVORITA\",'Daily Diary'!K:K,\"WIN\")","v":0},{"$f":"COUNTIFS('Daily Diary'!A:A,'Grafico Strategie Settimanali'!B56,'Daily Diary'!E:E,\"PUNTA OVER\",'Daily Diary'!E:E,\"PUNTA OVER\",'Daily Diary'!K:K,\"WIN\")","v":0},{"$f":"COUNTIFS('Daily Diary'!A:A,'Grafico Strategie Settimanali'!B56,'Daily Diary'!E:E,\"PUNTA UNDER\",'Daily Diary'!E:E,\"PUNTA UNDER\",'Daily Diary'!K:K,\"WIN\")","v":0},{"$f":"COUNTIFS('Daily Diary'!A:A,'Grafico Strategie Settimanali'!B56,'Daily Diary'!E:E,\"SCALPING\",'Daily Diary'!E:E,\"SCALPING\",'Daily Diary'!K:K,\"WIN\")","v":0},{"$f":"COUNTIFS('Daily Diary'!A:A,'Grafico Strategie Settimanali'!B56,'Daily Diary'!E:E,\"GT 90\",'Daily Diary'!E:E,\"GT 90\",'Daily Diary'!K:K,\"WIN\")","v":0},{"$f":"COUNTIFS('Daily Diary'!A:A,'Grafico Strategie Settimanali'!B56,'Daily Diary'!E:E,\"GT 110\",'Daily Diary'!E:E,\"GT 110\",'Daily Diary'!K:K,\"WIN\")","v":0},{"$f":"COUNTIFS('Daily Diary'!A:A,'Grafico Strategie Settimanali'!B56,'Daily Diary'!E:E,\"ALERT GOAL\",'Daily Diary'!E:E,\"ALERT GOAL\",'Daily Diary'!K:K,\"WIN\")","v":0},{"$f":"COUNTIFS('Daily Diary'!A:A,'Grafico Strategie Settimanali'!B56,'Daily Diary'!E:E,\"DRAW NO BET\",'Daily Diary'!E:E,\"DRAW NO BET\",'Daily Diary'!K:K,\"WIN\")","v":0},{"$f":"COUNTIFS('Daily Diary'!A:A,'Grafico Strategie Settimanali'!B56,'Daily Diary'!E:E,\"ALTRO\",'Daily Diary'!E:E,\"ALTRO\",'Daily Diary'!K:K,\"WIN\")","v":0},{"$error":"#DIV/0!"},{"$error":"#DIV/0!"},{"$error":"#DIV/0!"},{"$error":"#DIV/0!"},{"$error":"#DIV/0!"},{"$error":"#DIV/0!"},{"$error":"#DIV/0!"},{"$error":"#DIV/0!"},{"$error":"#DIV/0!"},{"$error":"#DIV/0!"},{"$error":"#DIV/0!"},{"$error":"#DIV/0!"},null,"2024-03-18",{"$f":"SUM(O321:O327)/SUM(C321:C327)","v":{"$error":"#DIV/0!"}},{"$f":"SUM(P321:P327)/SUM(D321:D327)","v":{"$error":"#DIV/0!"}},{"$f":"SUM(Q321:Q327)/SUM(E321:E327)","v":{"$error":"#DIV/0!"}},{"$error":"#DIV/0!"},{"$error":"#DIV/0!"},{"$error":"#DIV/0!"},{"$error":"#DIV/0!"},{"$error":"#DIV/0!"},{"$error":"#DIV/0!"},{"$error":"#DIV/0!"},{"$error":"#DIV/0!"},{"$error":"#DIV/0!"}]
[0,"2023-06-28",{"$f":"COUNTIFS('Daily Diary'!A:A,'Grafico Strategie Settimanali'!B57,'Daily Diary'!E:E,\"BANCA PAREGGIO\")","v":0},{"$f":"COUNTIFS('Daily Diary'!A:A,'Grafico Strategie Settimanali'!B57,'Daily Diary'!E:E,\"PUNTA SQ.CASA\")","v":0},{"$f":"COUNTIFS('Daily Diary'!A:A,'Grafico Strategie Settimanali'!B57,'Daily Diary'!E:E,\"PUNTA SQ.OSPITE\")","v":0},{"$f":"COUNTIFS('Daily Diary'!A:A,'Grafico Strategie Settimanali'!B57,'Daily Diary'!E:E,\"BANCA SFAVORITA\")","v":0},{"$f":"COUNTIFS('Daily Diary'!A:A,'Grafico Strategie Settimanali'!B57,'Daily Diary'!E:E,\"PUNTA OVER\")","v":0},{"$f":"COUNTIFS('Daily Diary'!A:A,'Grafico Strategie Settimanali'!B57,'Daily Diary'!E:E,\"PUNTA UNDER\")","v":0},{"$f":"COUNTIFS('Daily Diary'!A:A,'Grafico Strategie Settimanali'!B57,'Daily Diary'!E:E,\"SCALPING\")","v":0},{"$f":"COUNTIFS('Daily Diary'!A:A,'Grafico Strategie Settimanali'!B57,'Daily Diary'!E:E,\"GT90\")","v":0},{"$f":"COUNTIFS('Daily Diary'!A:A,'Grafico Strategie Settimanali'!B57,'Daily Diary'!E:E,\"GT110\")","v":0},{"$f":"COUNTIFS('Daily Diary'!A:A,'Grafico Strategie Settimanali'!B57,'Daily Diary'!E:E,\"ALERT GOAL\")","v":0},{"$f":"COUNTIFS('Daily Diary'!A:A,'Grafico Strategie Settimanali'!B57,'Daily Diary'!E:E,\"DRAW NO BET\")","v":0},{"$f":"COUNTIFS('Daily Diary'!A:A,'Grafico Strategie Settimanali'!B57,'Daily Diary'!E:E,\"ALTRO\")","v":0},{"$f":"COUNTIFS('Daily Diary'!A:A,'Grafico Strategie Settimanali'!B57,'Daily Diary'!E:E,\"BANCA PAREGGIO\",'Daily Diary'!E:E,\"BANCA PAREGGIO\",'Daily Diary'!K:K,\"WIN\")","v":0},{"$f":"COUNTIFS('Daily Diary'!A:A,'Grafico Strategie Settimanali'!B57,'Daily Diary'!E:E,\"PUNTA SQ.CASA\",'Daily Diary'!E:E,\"PUNTA SQ.CASA\",'Daily Diary'!K:K,\"WIN\")","v":0},{"$f":"COUNTIFS('Daily Diary'!A:A,'Grafico Strategie Settimanali'!B57,'Daily Diary'!E:E,\"PUNTA SQ.OSPITE\",'Daily Diary'!E:E,\"PUNTA SQ.OSPITE\",'Daily Diary'!K:K,\"WIN\")","v":0},{"$f":"COUNTIFS('Daily Diary'!A:A,'Grafico Strategie Settimanali'!B57,'Daily Diary'!E:E,\"BANCA SFAVORITA\",'Daily Diary'!E:E,\"BANCA SFAVORITA\",'Daily Diary'!K:K,\"WIN\")","v":0},{"$f":"COUNTIFS('Daily Diary'!A:A,'Grafico Strategie Settimanali'!B57,'Daily Diary'!E:E,\"PUNTA OVER\",'Daily Diary'!E:E,\"PUNTA OVER\",'Daily Diary'!K:K,\"WIN\")","v":0},{"$f":"COUNTIFS('Daily Diary'!A:A,'Grafico Strategie Settimanali'!B57,'Daily Diary'!E:E,\"PUNTA UNDER\",'Daily Diary'!E:E,\"PUNTA UNDER\",'Daily Diary'!K:K,\"WIN\")","v":0},{"$f":"COUNTIFS('Daily Diary'!A:A,'Grafico Strategie Settimanali'!B57,'Daily Diary'!E:E,\"SCALPING\",'Daily Diary'!E:E,\"SCALPING\",'Daily Diary'!K:K,\"WIN\")","v":0},{"$f":"COUNTIFS('Daily Diary'!A:A,'Grafico Strategie Settimanali'!B57,'Daily Diary'!E:E,\"GT 90\",'Daily Diary'!E:E,\"GT 90\",'Daily Diary'!K:K,\"WIN\")","v":0},{"$f":"COUNTIFS('Daily Diary'!A:A,'Grafico Strategie Settimanali'!B57,'Daily Diary'!E:E,\"GT 110\",'Daily Diary'!E:E,\"GT 110\",'Daily Diary'!K:K,\"WIN\")","v":0},{"$f":"COUNTIFS('Daily Diary'!A:A,'Grafico Strategie Settimanali'!B57,'Daily Diary'!E:E,\"ALERT GOAL\",'Daily Diary'!E:E,\"ALERT GOAL\",'Daily Diary'!K:K,\"WIN\")","v":0},{"$f":"COUNTIFS('Daily Diary'!A:A,'Grafico Strategie Settimanali'!B57,'Daily Diary'!E:E,\"DRAW NO BET\",'Daily Diary'!E:E,\"DRAW NO BET\",'Daily Diary'!K:K,\"WIN\")","v":0},{"$f":"COUNTIFS('Daily Diary'!A:A,'Grafico Strategie Settimanali'!B57,'Daily Diary'!E:E,\"ALTRO\",'Daily Diary'!E:E,\"ALTRO\",'Daily Diary'!K:K,\"WIN\")","v":0},{"$error":"#DIV/0!"},{"$error":"#DIV/0!"},{"$error":"#DIV/0!"},{"$error":"#DIV/0!"},{"$error":"#DIV/0!"},{"$error":"#DIV/0!"},{"$error":"#DIV/0!"},{"$error":"#DIV/0!"},{"$error":"#DIV/0!"},{"$error":"#DIV/0!"},{"$error":"#DIV/0!"},{"$error":"#DIV/0!"},null,"2024-03-25",{"$f":"SUM(O328:O334)/SUM(C328:C334)","v":{"$error":"#DIV/0!"}},{"$f":"SUM(P328:P334)/SUM(D328:D334)","v":{"$error":"#DIV/0!"}},{"$f":"SUM(Q328:Q334)/SUM(E328:E334)","v":{"$error":"#DIV/0!"}},{"$error":"#DIV/0!"},{"$error":"#DIV/0!"},{"$error":"#DIV/0!"},{"$error":"#DIV/0!"},{"$error":"#DIV/0!"},{"$error":"#DIV/0!"},{"$error":"#DIV/0!"},{"$error":"#DIV/0!"},{"$error":"#DIV/0!"}]
[0,"2023-06-29",{"$f":"COUNTIFS('Daily Diary'!A:A,'Grafico Strategie Settimanali'!B58,'Daily Diary'!E:E,\"BANCA PAREGGIO\")","v":0},{"$f":"COUNTIFS('Daily Diary'!A:A,'Grafico Strategie Settimanali'!B58,'Daily Diary'!E:E,\"PUNTA SQ.CASA\")","v":0},{"$f":"COUNTIFS('Daily Diary'!A:A,'Grafico Strategie Settimanali'!B58,'Daily Diary'!E:E,\"PUNTA SQ.OSPITE\")","v":0},{"$f":"COUNTIFS('Daily Diary'!A:A,'Grafico Strategie Settimanali'!B58,'Daily Diary'!E:E,\"BANCA SFAVORITA\")","v":0},{"$f":"COUNTIFS('Daily Diary'!A:A,'Grafico Strategie Settimanali'!B58,'Daily Diary'!E:E,\"PUNTA OVER\")","v":0},{"$f":"COUNTIFS('Daily Diary'!A:A,'Grafico Strategie Settimanali'!B58,'Daily Diary'!E:E,\"PUNTA UNDER\")","v":0},{"$f":"COUNTIFS('Daily Diary'!A:A,'Grafico Strategie Settimanali'!B58,'Daily Diary'!E:E,\"SCALPING\")","v":0},{"$f":"COUNTIFS('Daily Diary'!A:A,'Grafico Strategie Settimanali'!B58,'Daily Diary'!E:E,\"GT90\")","v":0},{"$f":"COUNTIFS('Daily Diary'!A:A,'Grafico Strategie Settimanali'!B58,'Daily Diary'!E:E,\"GT110\")","v":0},{"$f":"COUNTIFS('Daily Diary'!A:A,'Grafico Strategie Settimanali'!B58,'Daily Diary'!E:E,\"ALERT GOAL\")","v":0},{"$f":"COUNTIFS('Daily Diary'!A:A,'Grafico Strategie Settimanali'!B58,'Daily Diary'!E:E,\"DRAW NO BET\")","v":0},{"$f":"COUNTIFS('Daily Diary'!A:A,'Grafico Strategie Settimanali'!B58,'Daily Diary'!E:E,\"ALTRO\")","v":0},{"$f":"COUNTIFS('Daily Diary'!A:A,'Grafico Strategie Settimanali'!B58,'Daily Diary'!E:E,\"BANCA PAREGGIO\",'Daily Diary'!E:E,\"BANCA PAREGGIO\",'Daily Diary'!K:K,\"WIN\")","v":0},{"$f":"COUNTIFS('Daily Diary'!A:A,'Grafico Strategie Settimanali'!B58,'Daily Diary'!E:E,\"PUNTA SQ.CASA\",'Daily Diary'!E:E,\"PUNTA SQ.CASA\",'Daily Diary'!K:K,\"WIN\")","v":0},{"$f":"COUNTIFS('Daily Diary'!A:A,'Grafico Strategie Settimanali'!B58,'Daily Diary'!E:E,\"PUNTA SQ.OSPITE\",'Daily Diary'!E:E,\"PUNTA SQ.OSPITE\",'Daily Diary'!K:K,\"WIN\")","v":0},{"$f":"COUNTIFS('Daily Diary'!A:A,'Grafico Strategie Settimanali'!B58,'Daily Diary'!E:E,\"BANCA SFAVORITA\",'Daily Diary'!E:E,\"BANCA SFAVORITA\",'Daily Diary'!K:K,\"WIN\")","v":0},{"$f":"COUNTIFS('Daily Diary'!A:A,'Grafico Strategie Settimanali'!B58,'Daily Diary'!E:E,\"PUNTA OVER\",'Daily Diary'!E:E,\"PUNTA OVER\",'Daily Diary'!K:K,\"WIN\")","v":0},{"$f":"COUNTIFS('Daily Diary'!A:A,'Grafico Strategie Settimanali'!B58,'Daily Diary'!E:E,\"PUNTA UNDER\",'Daily Diary'!E:E,\"PUNTA UNDER\",'Daily Diary'!K:K,\"WIN\")","v":0},{"$f":"COUNTIFS('Daily Diary'!A:A,'Grafico Strategie Settimanali'!B58,'Daily Diary'!E:E,\"SCALPING\",'Daily Diary'!E:E,\"SCALPING\",'Daily Diary'!K:K,\"WIN\")","v":0},{"$f":"COUNTIFS('Daily Diary'!A:A,'Grafico Strategie Settimanali'!B58,'Daily Diary'!E:E,\"GT 90\",'Daily Diary'!E:E,\"GT 90\",'Daily Diary'!K:K,\"WIN\")","v":0},{"$f":"COUNTIFS('Daily Diary'!A:A,'Grafico Strategie Settimanali'!B58,'Daily Diary'!E:E,\"GT 110\",'Daily Diary'!E:E,\"GT 110\",'Daily Diary'!K:K,\"WIN\")","v":0},{"$f":"COUNTIFS('Daily Diary'!A:A,'Grafico Strategie Settimanali'!B58,'Daily Diary'!E:E,\"ALERT GOAL\",'Daily Diary'!E:E,\"ALERT GOAL\",'Daily Diary'!K:K,\"WIN\")","v":0},{"$f":"COUNTIFS('Daily Diary'!A:A,'Grafico Strategie Settimanali'!B58,'Daily Diary'!E:E,\"DRAW NO BET\",'Daily Diary'!E:E,\"DRAW NO BET\",'Daily Diary'!K:K,\"WIN\")","v":0},{"$f":"COUNTIFS('Daily Diary'!A:A,'Grafico Strategie Settimanali'!B58,'Daily Diary'!E:E,\"ALTRO\",'Daily Diary'!E:E,\"ALTRO\",'Daily Diary'!K:K,\"WIN\")","v":0},{"$error":"#DIV/0!"},{"$error":"#DIV/0!"},{"$error":"#DIV/0!"},{"$error":"#DIV/0!"},{"$error":"#DIV/0!"},{"$error":"#DIV/0!"},{"$error":"#DIV/0!"},{"$error":"#DIV/0!"},{"$error":"#DIV/0!"},{"$error":"#DIV/0!"},{"$error":"#DIV/0!"},{"$error":"#DIV/0!"},null,"2024-04-01",{"$f":"SUM(O335:O341)/SUM(C335:C341)","v":{"$error":"#DIV/0!"}},{"$f":"SUM(P335:P341)/SUM(D335:D341)","v":{"$error":"#DIV/0!"}},{"$f":"SUM(Q335:Q341)/SUM(E335:E341)","v":{"$error":"#DIV/0!"}},{"$error":"#DIV/0!"},{"$error":"#DIV/0!"},{"$error":"#DIV/0!"},{"$error":"#DIV/0!"},{"$error":"#DIV/0!"},{"$error":"#DIV/0!"},{"$error":"#DIV/0!"},{"$error":"#DIV/0!"},{"$error":"#DIV/0!"}]
[0,"2023-06-30",{"$f":"COUNTIFS('Daily Diary'!A:A,'Grafico Strategie Settimanali'!B59,'Daily Diary'!E:E,\"BANCA PAREGGIO\")","v":0},{"$f":"COUNTIFS('Daily Diary'!A:A,'Grafico Strategie Settimanali'!B59,'Daily Diary'!E:E,\"PUNTA SQ.CASA\")","v":0},{"$f":"COUNTIFS('Daily Diary'!A:A,'Grafico Strategie Settimanali'!B59,'Daily Diary'!E:E,\"PUNTA SQ.OSPITE\")","v":0},{"$f":"COUNTIFS('Daily Diary'!A:A,'Grafico Strategie Settimanali'!B59,'Daily Diary'!E:E,\"BANCA SFAVORITA\")","v":0},{"$f":"COUNTIFS('Daily Diary'!A:A,'Grafico Strategie Settimanali'!B59,'Daily Diary'!E:E,\"PUNTA OVER\")","v":0},{"$f":"COUNTIFS('Daily Diary'!A:A,'Grafico Strategie Settimanali'!B59,'Daily Diary'!E:E,\"PUNTA UNDER\")","v":0},{"$f":"COUNTIFS('Daily Diary'!A:A,'Grafico Strategie Settimanali'!B59,'Daily Diary'!E:E,\"SCALPING\")","v":0},{"$f":"COUNTIFS('Daily Diary'!A:A,'Grafico Strategie Settimanali'!B59,'Daily Diary'!E:E,\"GT90\")","v":0},{"$f":"COUNTIFS('Daily Diary'!A:A,'Grafico Strategie Settimanali'!B59,'Daily Diary'!E:E,\"GT110\")","v":0},{"$f":"COUNTIFS('Daily Diary'!A:A,'Grafico Strategie Settimanali'!B59,'Daily Diary'!E:E,\"ALERT GOAL\")","v":0},{"$f":"COUNTIFS('Daily Diary'!A:A,'Grafico Strategie Settimanali'!B59,'Daily Diary'!E:E,\"DRAW NO BET\")","v":0},{"$f":"COUNTIFS('Daily Diary'!A:A,'Grafico Strategie Settimanali'!B59,'Daily Diary'!E:E,\"ALTRO\")","v":0},{"$f":"COUNTIFS('Daily Diary'!A:A,'Grafico Strategie Settimanali'!B59,'Daily Diary'!E:E,\"BANCA PAREGGIO\",'Daily Diary'!E:E,\"BANCA PAREGGIO\",'Daily Diary'!K:K,\"WIN\")","v":0},{"$f":"COUNTIFS('Daily Diary'!A:A,'Grafico Strategie Settimanali'!B59,'Daily Diary'!E:E,\"PUNTA SQ.CASA\",'Daily Diary'!E:E,\"PUNTA SQ.CASA\",'Daily Diary'!K:K,\"WIN\")","v":0},{"$f":"COUNTIFS('Daily Diary'!A:A,'Grafico Strategie Settimanali'!B59,'Daily Diary'!E:E,\"PUNTA SQ.OSPITE\",'Daily Diary'!E:E,\"PUNTA SQ.OSPITE\",'Daily Diary'!K:K,\"WIN\")","v":0},{"$f":"COUNTIFS('Daily Diary'!A:A,'Grafico Strategie Settimanali'!B59,'Daily Diary'!E:E,\"BANCA SFAVORITA\",'Daily Diary'!E:E,\"BANCA SFAVORITA\",'Daily Diary'!K:K,\"WIN\")","v":0},{"$f":"COUNTIFS('Daily Diary'!A:A,'Grafico Strategie Settimanali'!B59,'Daily Diary'!E:E,\"PUNTA OVER\",'Daily Diary'!E:E,\"PUNTA OVER\",'Daily Diary'!K:K,\"WIN\")","v":0},{"$f":"COUNTIFS('Daily Diary'!A:A,'Grafico Strategie Settimanali'!B59,'Daily Diary'!E:E,\"PUNTA UNDER\",'Daily Diary'!E:E,\"PUNTA UNDER\",'Daily Diary'!K:K,\"WIN\")","v":0},{"$f":"COUNTIFS('Daily Diary'!A:A,'Grafico Strategie Settimanali'!B59,'Daily Diary'!E:E,\"SCALPING\",'Daily Diary'!E:E,\"SCALPING\",'Daily Diary'!K:K,\"WIN\")","v":0},{"$f":"COUNTIFS('Daily Diary'!A:A,'Grafico Strategie Settimanali'!B59,'Daily Diary'!E:E,\"GT 90\",'Daily Diary'!E:E,\"GT 90\",'Daily Diary'!K:K,\"WIN\")","v":0},{"$f":"COUNTIFS('Daily Diary'!A:A,'Grafico Strategie Settimanali'!B59,'Daily Diary'!E:E,\"GT 110\",'Daily Diary'!E:E,\"GT 110\",'Daily Diary'!K:K,\"WIN\")","v":0},{"$f":"COUNTIFS('Daily Diary'!A:A,'Grafico Strategie Settimanali'!B59,'Daily Diary'!E:E,\"ALERT GOAL\",'Daily Diary'!E:E,\"ALERT GOAL\",'Daily Diary'!K:K,\"WIN\")","v":0},{"$f":"COUNTIFS('Daily Diary'!A:A,'Grafico Strategie Settimanali'!B59,'Daily Diary'!E:E,\"DRAW NO BET\",'Daily Diary'!E:E,\"DRAW NO BET\",'Daily Diary'!K:K,\"WIN\")","v":0},{"$f":"COUNTIFS('Daily Diary'!A:A,'Grafico Strategie Settimanali'!B59,'Daily Diary'!E:E,\"ALTRO\",'Daily Diary'!E:E,\"ALTRO\",'Daily Diary'!K:K,\"WIN\")","v":0},{"$error":"#DIV/0!"},{"$error":"#DIV/0!"},{"$error":"#DIV/0!"},{"$error":"#DIV/0!"},{"$error":"#DIV/0!"},{"$error":"#DIV/0!"},{"$error":"#DIV/0!"},{"$error":"#DIV/0!"},{"$error":"#DIV/0!"},{"$error":"#DIV/0!"},{"$error":"#DIV/0!"},{"$error":"#DIV/0!"},null,"2024-04-08",{"$f":"SUM(O342:O348)/SUM(C342:C348)","v":{"$error":"#DIV/0!"}},{"$f":"SUM(P342:P348)/SUM(D342:D348)","v":{"$error":"#DIV/0!"}},{"$f":"SUM(Q342:Q348)/SUM(E342:E348)","v":{"$error":"#DIV/0!"}},{"$error":"#DIV/0!"},{"$error":"#DIV/0!"},{"$error":"#DIV/0!"},{"$error":"#DIV/0!"},{"$error":"#DIV/0!"},{"$error":"#DIV/0!"},{"$error":"#DIV/0!"},{"$error":"#DIV/0!"},{"$error":"#DIV/0!"}]
[0,"2023-07-01",{"$f":"COUNTIFS('Daily Diary'!A:A,'Grafico Strategie Settimanali'!B60,'Daily Diary'!E:E,\"BANCA PAREGGIO\")","v":0},{"$f":"COUNTIFS('Daily Diary'!A:A,'Grafico Strategie Settimanali'!B60,'Daily Diary'!E:E,\"PUNTA SQ.CASA\")","v":0},{"$f":"COUNTIFS('Daily Diary'!A:A,'Grafico Strategie Settimanali'!B60,'Daily Diary'!E:E,\"PUNTA SQ.OSPITE\")","v":0},{"$f":"COUNTIFS('Daily Diary'!A:A,'Grafico Strategie Settimanali'!B60,'Daily Diary'!E:E,\"BANCA SFAVORITA\")","v":0},{"$f":"COUNTIFS('Daily Diary'!A:A,'Grafico Strategie Settimanali'!B60,'Daily Diary'!E:E,\"PUNTA OVER\")","v":0},{"$f":"COUNTIFS('Daily Diary'!A:A,'Grafico Strategie Settimanali'!B60,'Daily Diary'!E:E,\"PUNTA UNDER\")","v":0},{"$f":"COUNTIFS('Daily Diary'!A:A,'Grafico Strategie Settimanali'!B60,'Daily Diary'!E:E,\"SCALPING\")","v":0},{"$f":"COUNTIFS('Daily Diary'!A:A,'Grafico Strategie Settimanali'!B60,'Daily Diary'!E:E,\"GT90\")","v":0},{"$f":"COUNTIFS('Daily Diary'!A:A,'Grafico Strategie Settimanali'!B60,'Daily Diary'!E:E,\"GT110\")","v":0},{"$f":"COUNTIFS('Daily Diary'!A:A,'Grafico Strategie Settimanali'!B60,'Daily Diary'!E:E,\"ALERT GOAL\")","v":0},{"$f":"COUNTIFS('Daily Diary'!A:A,'Grafico Strategie Settimanali'!B60,'Daily Diary'!E:E,\"DRAW NO BET\")","v":0},{"$f":"COUNTIFS('Daily Diary'!A:A,'Grafico Strategie Settimanali'!B60,'Daily Diary'!E:E,\"ALTRO\")","v":0},{"$f":"COUNTIFS('Daily Diary'!A:A,'Grafico Strategie Settimanali'!B60,'Daily Diary'!E:E,\"BANCA PAREGGIO\",'Daily Diary'!E:E,\"BANCA PAREGGIO\",'Daily Diary'!K:K,\"WIN\")","v":0},{"$f":"COUNTIFS('Daily Diary'!A:A,'Grafico Strategie Settimanali'!B60,'Daily Diary'!E:E,\"PUNTA SQ.CASA\",'Daily Diary'!E:E,\"PUNTA SQ.CASA\",'Daily Diary'!K:K,\"WIN\")","v":0},{"$f":"COUNTIFS('Daily Diary'!A:A,'Grafico Strategie Settimanali'!B60,'Daily Diary'!E:E,\"PUNTA SQ.OSPITE\",'Daily Diary'!E:E,\"PUNTA SQ.OSPITE\",'Daily Diary'!K:K,\"WIN\")","v":0},{"$f":"COUNTIFS('Daily Diary'!A:A,'Grafico Strategie Settimanali'!B60,'Daily Diary'!E:E,\"BANCA SFAVORITA\",'Daily Diary'!E:E,\"BANCA SFAVORITA\",'Daily Diary'!K:K,\"WIN\")","v":0},{"$f":"COUNTIFS('Daily Diary'!A:A,'Grafico Strategie Settimanali'!B60,'Daily Diary'!E:E,\"PUNTA OVER\",'Daily Diary'!E:E,\"PUNTA OVER\",'Daily Diary'!K:K,\"WIN\")","v":0},{"$f":"COUNTIFS('Daily Diary'!A:A,'Grafico Strategie Settimanali'!B60,'Daily Diary'!E:E,\"PUNTA UNDER\",'Daily Diary'!E:E,\"PUNTA UNDER\",'Daily Diary'!K:K,\"WIN\")","v":0},{"$f":"COUNTIFS('Daily Diary'!A:A,'Grafico Strategie Settimanali'!B60,'Daily Diary'!E:E,\"SCALPING\",'Daily Diary'!E:E,\"SCALPING\",'Daily Diary'!K:K,\"WIN\")","v":0},{"$f":"COUNTIFS('Daily Diary'!A:A,'Grafico Strategie Settimanali'!B60,'Daily Diary'!E:E,\"GT 90\",'Daily Diary'!E:E,\"GT 90\",'Daily Diary'!K:K,\"WIN\")","v":0},{"$f":"COUNTIFS('Daily Diary'!A:A,'Grafico Strategie Settimanali'!B60,'Daily Diary'!E:E,\"GT 110\",'Daily Diary'!E:E,\"GT 110\",'Daily Diary'!K:K,\"WIN\")","v":0},{"$f":"COUNTIFS('Daily Diary'!A:A,'Grafico Strategie Settimanali'!B60,'Daily Diary'!E:E,\"ALERT GOAL\",'Daily Diary'!E:E,\"ALERT GOAL\",'Daily Diary'!K:K,\"WIN\")","v":0},{"$f":"COUNTIFS('Daily Diary'!A:A,'Grafico Strategie Settimanali'!B60,'Daily Diary'!E:E,\"DRAW NO BET\",'Daily Diary'!E:E,\"DRAW NO BET\",'Daily Diary'!K:K,\"WIN\")","v":0},{"$f":"COUNTIFS('Daily Diary'!A:A,'Grafico Strategie Settimanali'!B60,'Daily Diary'!E:E,\"ALTRO\",'Daily Diary'!E:E,\"ALTRO\",'Daily Diary'!K:K,\"WIN\")","v":0},{"$error":"#DIV/0!"},{"$error":"#DIV/0!"},{"$error":"#DIV/0!"},{"$error":"#DIV/0!"},{"$error":"#DIV/0!"},{"$error":"#DIV/0!"},{"$error":"#DIV/0!"},{"$error":"#DIV/0!"},{"$error":"#DIV/0!"},{"$error":"#DIV/0!"},{"$error":"#DIV/0!"},{"$error":"#DIV/0!"},null,"2024-04-15",{"$f":"SUM(O349:O355)/SUM(C349:C355)","v":{"$error":"#DIV/0!"}},{"$f":"SUM(P349:P355)/SUM(D349:D355)","v":{"$error":"#DIV/0!"}},{"$f":"SUM(Q349:Q355)/SUM(E349:E355)","v":{"$error":"#DIV/0!"}},{"$error":"#DIV/0!"},{"$error":"#DIV/0!"},{"$error":"#DIV/0!"},{"$error":"#DIV/0!"},{"$error":"#DIV/0!"},{"$error":"#DIV/0!"},{"$error":"#DIV/0!"},{"$error":"#DIV/0!"},{"$error":"#DIV/0!"}]
[0,"2023-07-02",{"$f":"COUNTIFS('Daily Diary'!A:A,'Grafico Strategie Settimanali'!B61,'Daily Diary'!E:E,\"BANCA PAREGGIO\")","v":0},{"$f":"COUNTIFS('Daily Diary'!A:A,'Grafico Strategie Settimanali'!B61,'Daily Diary'!E:E,\"PUNTA SQ.CASA\")","v":0},{"$f":"COUNTIFS('Daily Diary'!A:A,'Grafico Strategie Settimanali'!B61,'Daily Diary'!E:E,\"PUNTA SQ.OSPITE\")","v":0},{"$f":"COUNTIFS('Daily Diary'!A:A,'Grafico Strategie Settimanali'!B61,'Daily Diary'!E:E,\"BANCA SFAVORITA\")","v":0},{"$f":"COUNTIFS('Daily Diary'!A:A,'Grafico Strategie Settimanali'!B61,'Daily Diary'!E:E,\"PUNTA OVER\")","v":0},{"$f":"COUNTIFS('Daily Diary'!A:A,'Grafico Strategie Settimanali'!B61,'Daily Diary'!E:E,\"PUNTA UNDER\")","v":0},{"$f":"COUNTIFS('Daily Diary'!A:A,'Grafico Strategie Settimanali'!B61,'Daily Diary'!E:E,\"SCALPING\")","v":0},{"$f":"COUNTIFS('Daily Diary'!A:A,'Grafico Strategie Settimanali'!B61,'Daily Diary'!E:E,\"GT90\")","v":0},{"$f":"COUNTIFS('Daily Diary'!A:A,'Grafico Strategie Settimanali'!B61,'Daily Diary'!E:E,\"GT110\")","v":0},{"$f":"COUNTIFS('Daily Diary'!A:A,'Grafico Strategie Settimanali'!B61,'Daily Diary'!E:E,\"ALERT GOAL\")","v":0},{"$f":"COUNTIFS('Daily Diary'!A:A,'Grafico Strategie Settimanali'!B61,'Daily Diary'!E:E,\"DRAW NO BET\")","v":0},{"$f":"COUNTIFS('Daily Diary'!A:A,'Grafico Strategie Settimanali'!B61,'Daily Diary'!E:E,\"ALTRO\")","v":0},{"$f":"COUNTIFS('Daily Diary'!A:A,'Grafico Strategie Settimanali'!B61,'Daily Diary'!E:E,\"BANCA PAREGGIO\",'Daily Diary'!E:E,\"BANCA PAREGGIO\",'Daily Diary'!K:K,\"WIN\")","v":0},{"$f":"COUNTIFS('Daily Diary'!A:A,'Grafico Strategie Settimanali'!B61,'Daily Diary'!E:E,\"PUNTA SQ.CASA\",'Daily Diary'!E:E,\"PUNTA SQ.CASA\",'Daily Diary'!K:K,\"WIN\")","v":0},{"$f":"COUNTIFS('Daily Diary'!A:A,'Grafico Strategie Settimanali'!B61,'Daily Diary'!E:E,\"PUNTA SQ.OSPITE\",'Daily Diary'!E:E,\"PUNTA SQ.OSPITE\",'Daily Diary'!K:K,\"WIN\")","v":0},{"$f":"COUNTIFS('Daily Diary'!A:A,'Grafico Strategie Settimanali'!B61,'Daily Diary'!E:E,\"BANCA SFAVORITA\",'Daily Diary'!E:E,\"BANCA SFAVORITA\",'Daily Diary'!K:K,\"WIN\")","v":0},{"$f":"COUNTIFS('Daily Diary'!A:A,'Grafico Strategie Settimanali'!B61,'Daily Diary'!E:E,\"PUNTA OVER\",'Daily Diary'!E:E,\"PUNTA OVER\",'Daily Diary'!K:K,\"WIN\")","v":0},{"$f":"COUNTIFS('Daily Diary'!A:A,'Grafico Strategie Settimanali'!B61,'Daily Diary'!E:E,\"PUNTA UNDER\",'Daily Diary'!E:E,\"PUNTA UNDER\",'Daily Diary'!K:K,\"WIN\")","v":0},{"$f":"COUNTIFS('Daily Diary'!A:A,'Grafico Strategie Settimanali'!B61,'Daily Diary'!E:E,\"SCALPING\",'Daily Diary'!E:E,\"SCALPING\",'Daily Diary'!K:K,\"WIN\")","v":0},{"$f":"COUNTIFS('Daily Diary'!A:A,'Grafico Strategie Settimanali'!B61,'Daily Diary'!E:E,\"GT 90\",'Daily Diary'!E:E,\"GT 90\",'Daily Diary'!K:K,\"WIN\")","v":0},{"$f":"COUNTIFS('Daily Diary'!A:A,'Grafico Strategie Settimanali'!B61,'Daily Diary'!E:E,\"GT 110\",'Daily Diary'!E:E,\"GT 110\",'Daily Diary'!K:K,\"WIN\")","v":0},{"$f":"COUNTIFS('Daily Diary'!A:A,'Grafico Strategie Settimanali'!B61,'Daily Diary'!E:E,\"ALERT GOAL\",'Daily Diary'!E:E,\"ALERT GOAL\",'Daily Diary'!K:K,\"WIN\")","v":0},{"$f":"COUNTIFS('Daily Diary'!A:A,'Grafico Strategie Settimanali'!B61,'Daily Diary'!E:E,\"DRAW NO BET\",'Daily Diary'!E:E,\"DRAW NO BET\",'Daily Diary'!K:K,\"WIN\")","v":0},{"$f":"COUNTIFS('Daily Diary'!A:A,'Grafico Strategie Settimanali'!B61,'Daily Diary'!E:E,\"ALTRO\",'Daily Diary'!E:E,\"ALTRO\",'Daily Diary'!K:K,\"WIN\")","v":0},{"$error":"#DIV/0!"},{"$error":"#DIV/0!"},{"$error":"#DIV/0!"},{"$error":"#DIV/0!"},{"$error":"#DIV/0!"},{"$error":"#DIV/0!"},{"$error":"#DIV/0!"},{"$error":"#DIV/0!"},{"$error":"#DIV/0!"},{"$error":"#DIV/0!"},{"$error":"#DIV/0!"},{"$error":"#DIV/0!"},null,"2024-04-22",{"$f":"SUM(O356:O362)/SUM(C356:C362)","v":{"$error":"#DIV/0!"}},{"$f":"SUM(P356:P362)/SUM(D356:D362)","v":{"$error":"#DIV/0!"}},{"$f":"SUM(Q356:Q362)/SUM(E356:E362)","v":{"$error":"#DIV/0!"}},{"$error":"#DIV/0!"},{"$error":"#DIV/0!"},{"$error":"#DIV/0!"},{"$error":"#DIV/0!"},{"$error":"#DIV/0!"},{"$error":"#DIV/0!"},{"$error":"#DIV/0!"},{"$error":"#DIV/0!"},{"$error":"#DIV/0!"}]
[0,"2023-07-03",{"$f":"COUNTIFS('Daily Diary'!A:A,'Grafico Strategie Settimanali'!B62,'Daily Diary'!E:E,\"BANCA PAREGGIO\")","v":0},{"$f":"COUNTIFS('Daily Diary'!A:A,'Grafico Strategie Settimanali'!B62,'Daily Diary'!E:E,\"PUNTA SQ.CASA\")","v":0},{"$f":"COUNTIFS('Daily Diary'!A:A,'Grafico Strategie Settimanali'!B62,'Daily Diary'!E:E,\"PUNTA SQ.OSPITE\")","v":0},{"$f":"COUNTIFS('Daily Diary'!A:A,'Grafico Strategie Settimanali'!B62,'Daily Diary'!E:E,\"BANCA SFAVORITA\")","v":0},{"$f":"COUNTIFS('Daily Diary'!A:A,'Grafico Strategie Settimanali'!B62,'Daily Diary'!E:E,\"PUNTA OVER\")","v":0},{"$f":"COUNTIFS('Daily Diary'!A:A,'Grafico Strategie Settimanali'!B62,'Daily Diary'!E:E,\"PUNTA UNDER\")","v":0},{"$f":"COUNTIFS('Daily Diary'!A:A,'Grafico Strategie Settimanali'!B62,'Daily Diary'!E:E,\"SCALPING\")","v":0},{"$f":"COUNTIFS('Daily Diary'!A:A,'Grafico Strategie Settimanali'!B62,'Daily Diary'!E:E,\"GT90\")","v":0},{"$f":"COUNTIFS('Daily Diary'!A:A,'Grafico Strategie Settimanali'!B62,'Daily Diary'!E:E,\"GT110\")","v":0},{"$f":"COUNTIFS('Daily Diary'!A:A,'Grafico Strategie Settimanali'!B62,'Daily Diary'!E:E,\"ALERT GOAL\")","v":0},{"$f":"COUNTIFS('Daily Diary'!A:A,'Grafico Strategie Settimanali'!B62,'Daily Diary'!E:E,\"DRAW NO BET\")","v":0},{"$f":"COUNTIFS('Daily Diary'!A:A,'Grafico Strategie Settimanali'!B62,'Daily Diary'!E:E,\"ALTRO\")","v":0},{"$f":"COUNTIFS('Daily Diary'!A:A,'Grafico Strategie Settimanali'!B62,'Daily Diary'!E:E,\"BANCA PAREGGIO\",'Daily Diary'!E:E,\"BANCA PAREGGIO\",'Daily Diary'!K:K,\"WIN\")","v":0},{"$f":"COUNTIFS('Daily Diary'!A:A,'Grafico Strategie Settimanali'!B62,'Daily Diary'!E:E,\"PUNTA SQ.CASA\",'Daily Diary'!E:E,\"PUNTA SQ.CASA\",'Daily Diary'!K:K,\"WIN\")","v":0},{"$f":"COUNTIFS('Daily Diary'!A:A,'Grafico Strategie Settimanali'!B62,'Daily Diary'!E:E,\"PUNTA SQ.OSPITE\",'Daily Diary'!E:E,\"PUNTA SQ.OSPITE\",'Daily Diary'!K:K,\"WIN\")","v":0},{"$f":"COUNTIFS('Daily Diary'!A:A,'Grafico Strategie Settimanali'!B62,'Daily Diary'!E:E,\"BANCA SFAVORITA\",'Daily Diary'!E:E,\"BANCA SFAVORITA\",'Daily Diary'!K:K,\"WIN\")","v":0},{"$f":"COUNTIFS('Daily Diary'!A:A,'Grafico Strategie Settimanali'!B62,'Daily Diary'!E:E,\"PUNTA OVER\",'Daily Diary'!E:E,\"PUNTA OVER\",'Daily Diary'!K:K,\"WIN\")","v":0},{"$f":"COUNTIFS('Daily Diary'!A:A,'Grafico Strategie Settimanali'!B62,'Daily Diary'!E:E,\"PUNTA UNDER\",'Daily Diary'!E:E,\"PUNTA UNDER\",'Daily Diary'!K:K,\"WIN\")","v":0},{"$f":"COUNTIFS('Daily Diary'!A:A,'Grafico Strategie Settimanali'!B62,'Daily Diary'!E:E,\"SCALPING\",'Daily Diary'!E:E,\"SCALPING\",'Daily Diary'!K:K,\"WIN\")","v":0},{"$f":"COUNTIFS('Daily Diary'!A:A,'Grafico Strategie Settimanali'!B62,'Daily Diary'!E:E,\"GT 90\",'Daily Diary'!E:E,\"GT 90\",'Daily Diary'!K:K,\"WIN\")","v":0},{"$f":"COUNTIFS('Daily Diary'!A:A,'Grafico Strategie Settimanali'!B62,'Daily Diary'!E:E,\"GT 110\",'Daily Diary'!E:E,\"GT 110\",'Daily Diary'!K:K,\"WIN\")","v":0},{"$f":"COUNTIFS('Daily Diary'!A:A,'Grafico Strategie Settimanali'!B62,'Daily Diary'!E:E,\"ALERT GOAL\",'Daily Diary'!E:E,\"ALERT GOAL\",'Daily Diary'!K:K,\"WIN\")","v":0},{"$f":"COUNTIFS('Daily Diary'!A:A,'Grafico Strategie Settimanali'!B62,'Daily Diary'!E:E,\"DRAW NO BET\",'Daily Diary'!E:E,\"DRAW NO BET\",'Daily Diary'!K:K,\"WIN\")","v":0},{"$f":"COUNTIFS('Daily Diary'!A:A,'Grafico Strategie Settimanali'!B62,'Daily Diary'!E:E,\"ALTRO\",'Daily Diary'!E:E,\"ALTRO\",'Daily Diary'!K:K,\"WIN\")","v":0},{"$error":"#DIV/0!"},{"$error":"#DIV/0!"},{"$error":"#DIV/0!"},{"$error":"#DIV/0!"},{"$error":"#DIV/0!"},{"$error":"#DIV/0!"},{"$error":"#DIV/0!"},{"$error":"#DIV/0!"},{"$error":"#DIV/0!"},{"$error":"#DIV/0!"},{"$error":"#DIV/0!"},{"$error":"#DIV/0!"},null,"2024-04-29",{"$f":"SUM(O363:O369)/SUM(C363:C369)","v":{"$error":"#DIV/0!"}},{"$f":"SUM(P363:P369)/SUM(D363:D369)","v":{"$error":"#DIV/0!"}},{"$f":"SUM(Q363:Q369)/SUM(E363:E369)","v":{"$error":"#DIV/0!"}},{"$error":"#DIV/0!"},{"$error":"#DIV/0!"},{"$error":"#DIV/0!"},{"$error":"#DIV/0!"},{"$error":"#DIV/0!"},{"$error":"#DIV/0!"},{"$error":"#DIV/0!"},{"$error":"#DIV/0!"},{"$error":"#DIV/0!"}]
[0,"2023-07-04",{"$f":"COUNTIFS('Daily Diary'!A:A,'Grafico Strategie Settimanali'!B63,'Daily Diary'!E:E,\"BANCA PAREGGIO\")","v":0},{"$f":"COUNTIFS('Daily Diary'!A:A,'Grafico Strategie Settimanali'!B63,'Daily Diary'!E:E,\"PUNTA SQ.CASA\")","v":0},{"$f":"COUNTIFS('Daily Diary'!A:A,'Grafico Strategie Settimanali'!B63,'Daily Diary'!E:E,\"PUNTA SQ.OSPITE\")","v":0},{"$f":"COUNTIFS('Daily Diary'!A:A,'Grafico Strategie Settimanali'!B63,'Daily Diary'!E:E,\"BANCA SFAVORITA\")","v":0},{"$f":"COUNTIFS('Daily Diary'!A:A,'Grafico Strategie Settimanali'!B63,'Daily Diary'!E:E,\"PUNTA OVER\")","v":0},{"$f":"COUNTIFS('Daily Diary'!A:A,'Grafico Strategie Settimanali'!B63,'Daily Diary'!E:E,\"PUNTA UNDER\")","v":0},{"$f":"COUNTIFS('Daily Diary'!A:A,'Grafico Strategie Settimanali'!B63,'Daily Diary'!E:E,\"SCALPING\")","v":0},{"$f":"COUNTIFS('Daily Diary'!A:A,'Grafico Strategie Settimanali'!B63,'Daily Diary'!E:E,\"GT90\")","v":0},{"$f":"COUNTIFS('Daily Diary'!A:A,'Grafico Strategie Settimanali'!B63,'Daily Diary'!E:E,\"GT110\")","v":0},{"$f":"COUNTIFS('Daily Diary'!A:A,'Grafico Strategie Settimanali'!B63,'Daily Diary'!E:E,\"ALERT GOAL\")","v":0},{"$f":"COUNTIFS('Daily Diary'!A:A,'Grafico Strategie Settimanali'!B63,'Daily Diary'!E:E,\"DRAW NO BET\")","v":0},{"$f":"COUNTIFS('Daily Diary'!A:A,'Grafico Strategie Settimanali'!B63,'Daily Diary'!E:E,\"ALTRO\")","v":0},{"$f":"COUNTIFS('Daily Diary'!A:A,'Grafico Strategie Settimanali'!B63,'Daily Diary'!E:E,\"BANCA PAREGGIO\",'Daily Diary'!E:E,\"BANCA PAREGGIO\",'Daily Diary'!K:K,\"WIN\")","v":0},{"$f":"COUNTIFS('Daily Diary'!A:A,'Grafico Strategie Settimanali'!B63,'Daily Diary'!E:E,\"PUNTA SQ.CASA\",'Daily Diary'!E:E,\"PUNTA SQ.CASA\",'Daily Diary'!K:K,\"WIN\")","v":0},{"$f":"COUNTIFS('Daily Diary'!A:A,'Grafico Strategie Settimanali'!B63,'Daily Diary'!E:E,\"PUNTA SQ.OSPITE\",'Daily Diary'!E:E,\"PUNTA SQ.OSPITE\",'Daily Diary'!K:K,\"WIN\")","v":0},{"$f":"COUNTIFS('Daily Diary'!A:A,'Grafico Strategie Settimanali'!B63,'Daily Diary'!E:E,\"BANCA SFAVORITA\",'Daily Diary'!E:E,\"BANCA SFAVORITA\",'Daily Diary'!K:K,\"WIN\")","v":0},{"$f":"COUNTIFS('Daily Diary'!A:A,'Grafico Strategie Settimanali'!B63,'Daily Diary'!E:E,\"PUNTA OVER\",'Daily Diary'!E:E,\"PUNTA OVER\",'Daily Diary'!K:K,\"WIN\")","v":0},{"$f":"COUNTIFS('Daily Diary'!A:A,'Grafico Strategie Settimanali'!B63,'Daily Diary'!E:E,\"PUNTA UNDER\",'Daily Diary'!E:E,\"PUNTA UNDER\",'Daily Diary'!K:K,\"WIN\")","v":0},{"$f":"COUNTIFS('Daily Diary'!A:A,'Grafico Strategie Settimanali'!B63,'Daily Diary'!E:E,\"SCALPING\",'Daily Diary'!E:E,\"SCALPING\",'Daily Diary'!K:K,\"WIN\")","v":0},{"$f":"COUNTIFS('Daily Diary'!A:A,'Grafico Strategie Settimanali'!B63,'Daily Diary'!E:E,\"GT 90\",'Daily Diary'!E:E,\"GT 90\",'Daily Diary'!K:K,\"WIN\")","v":0},{"$f":"COUNTIFS('Daily Diary'!A:A,'Grafico Strategie Settimanali'!B63,'Daily Diary'!E:E,\"GT 110\",'Daily Diary'!E:E,\"GT 110\",'Daily Diary'!K:K,\"WIN\")","v":0},{"$f":"COUNTIFS('Daily Diary'!A:A,'Grafico Strategie Settimanali'!B63,'Daily Diary'!E:E,\"ALERT GOAL\",'Daily Diary'!E:E,\"ALERT GOAL\",'Daily Diary'!K:K,\"WIN\")","v":0},{"$f":"COUNTIFS('Daily Diary'!A:A,'Grafico Strategie Settimanali'!B63,'Daily Diary'!E:E,\"DRAW NO BET\",'Daily Diary'!E:E,\"DRAW NO BET\",'Daily Diary'!K:K,\"WIN\")","v":0},{"$f":"COUNTIFS('Daily Diary'!A:A,'Grafico Strategie Settimanali'!B63,'Daily Diary'!E:E,\"ALTRO\",'Daily Diary'!E:E,\"ALTRO\",'Daily Diary'!K:K,\"WIN\")","v":0},{"$error":"#DIV/0!"},{"$error":"#DIV/0!"},{"$error":"#DIV/0!"},{"$error":"#DIV/0!"},{"$error":"#DIV/0!"},{"$error":"#DIV/0!"},{"$error":"#DIV/0!"},{"$error":"#DIV/0!"},{"$error":"#DIV/0!"},{"$error":"#DIV/0!"},{"$error":"#DIV/0!"},{"$error":"#DIV/0!"},null,"2024-05-06",{"$f":"SUM(O370:O376)/SUM(C370:C376)","v":{"$error":"#DIV/0!"}},{"$f":"SUM(P370:P376)/SUM(D370:D376)","v":{"$error":"#DIV/0!"}},{"$f":"SUM(Q370:Q376)/SUM(E370:E376)","v":{"$error":"#DIV/0!"}},{"$error":"#DIV/0!"},{"$error":"#DIV/0!"},{"$error":"#DIV/0!"},{"$error":"#DIV/0!"},{"$error":"#DIV/0!"},{"$error":"#DIV/0!"},{"$error":"#DIV/0!"},{"$error":"#DIV/0!"},{"$error":"#DIV/0!"}]
[0,"2023-07-05",{"$f":"COUNTIFS('Daily Diary'!A:A,'Grafico Strategie Settimanali'!B64,'Daily Diary'!E:E,\"BANCA PAREGGIO\")","v":0},{"$f":"COUNTIFS('Daily Diary'!A:A,'Grafico Strategie Settimanali'!B64,'Daily Diary'!E:E,\"PUNTA SQ.CASA\")","v":0},{"$f":"COUNTIFS('Daily Diary'!A:A,'Grafico Strategie Settimanali'!B64,'Daily Diary'!E:E,\"PUNTA SQ.OSPITE\")","v":0},{"$f":"COUNTIFS('Daily Diary'!A:A,'Grafico Strategie Settimanali'!B64,'Daily Diary'!E:E,\"BANCA SFAVORITA\")","v":0},{"$f":"COUNTIFS('Daily Diary'!A:A,'Grafico Strategie Settimanali'!B64,'Daily Diary'!E:E,\"PUNTA OVER\")","v":0},{"$f":"COUNTIFS('Daily Diary'!A:A,'Grafico Strategie Settimanali'!B64,'Daily Diary'!E:E,\"PUNTA UNDER\")","v":0},{"$f":"COUNTIFS('Daily Diary'!A:A,'Grafico Strategie Settimanali'!B64,'Daily Diary'!E:E,\"SCALPING\")","v":0},{"$f":"COUNTIFS('Daily Diary'!A:A,'Grafico Strategie Settimanali'!B64,'Daily Diary'!E:E,\"GT90\")","v":0},{"$f":"COUNTIFS('Daily Diary'!A:A,'Grafico Strategie Settimanali'!B64,'Daily Diary'!E:E,\"GT110\")","v":0},{"$f":"COUNTIFS('Daily Diary'!A:A,'Grafico Strategie Settimanali'!B64,'Daily Diary'!E:E,\"ALERT GOAL\")","v":0},{"$f":"COUNTIFS('Daily Diary'!A:A,'Grafico Strategie Settimanali'!B64,'Daily Diary'!E:E,\"DRAW NO BET\")","v":0},{"$f":"COUNTIFS('Daily Diary'!A:A,'Grafico Strategie Settimanali'!B64,'Daily Diary'!E:E,\"ALTRO\")","v":0},{"$f":"COUNTIFS('Daily Diary'!A:A,'Grafico Strategie Settimanali'!B64,'Daily Diary'!E:E,\"BANCA PAREGGIO\",'Daily Diary'!E:E,\"BANCA PAREGGIO\",'Daily Diary'!K:K,\"WIN\")","v":0},{"$f":"COUNTIFS('Daily Diary'!A:A,'Grafico Strategie Settimanali'!B64,'Daily Diary'!E:E,\"PUNTA SQ.CASA\",'Daily Diary'!E:E,\"PUNTA SQ.CASA\",'Daily Diary'!K:K,\"WIN\")","v":0},{"$f":"COUNTIFS('Daily Diary'!A:A,'Grafico Strategie Settimanali'!B64,'Daily Diary'!E:E,\"PUNTA SQ.OSPITE\",'Daily Diary'!E:E,\"PUNTA SQ.OSPITE\",'Daily Diary'!K:K,\"WIN\")","v":0},{"$f":"COUNTIFS('Daily Diary'!A:A,'Grafico Strategie Settimanali'!B64,'Daily Diary'!E:E,\"BANCA SFAVORITA\",'Daily Diary'!E:E,\"BANCA SFAVORITA\",'Daily Diary'!K:K,\"WIN\")","v":0},{"$f":"COUNTIFS('Daily Diary'!A:A,'Grafico Strategie Settimanali'!B64,'Daily Diary'!E:E,\"PUNTA OVER\",'Daily Diary'!E:E,\"PUNTA OVER\",'Daily Diary'!K:K,\"WIN\")","v":0},{"$f":"COUNTIFS('Daily Diary'!A:A,'Grafico Strategie Settimanali'!B64,'Daily Diary'!E:E,\"PUNTA UNDER\",'Daily Diary'!E:E,\"PUNTA UNDER\",'Daily Diary'!K:K,\"WIN\")","v":0},{"$f":"COUNTIFS('Daily Diary'!A:A,'Grafico Strategie Settimanali'!B64,'Daily Diary'!E:E,\"SCALPING\",'Daily Diary'!E:E,\"SCALPING\",'Daily Diary'!K:K,\"WIN\")","v":0},{"$f":"COUNTIFS('Daily Diary'!A:A,'Grafico Strategie Settimanali'!B64,'Daily Diary'!E:E,\"GT 90\",'Daily Diary'!E:E,\"GT 90\",'Daily Diary'!K:K,\"WIN\")","v":0},{"$f":"COUNTIFS('Daily Diary'!A:A,'Grafico Strategie Settimanali'!B64,'Daily Diary'!E:E,\"GT 110\",'Daily Diary'!E:E,\"GT 110\",'Daily Diary'!K:K,\"WIN\")","v":0},{"$f":"COUNTIFS('Daily Diary'!A:A,'Grafico Strategie Settimanali'!B64,'Daily Diary'!E:E,\"ALERT GOAL\",'Daily Diary'!E:E,\"ALERT GOAL\",'Daily Diary'!K:K,\"WIN\")","v":0},{"$f":"COUNTIFS('Daily Diary'!A:A,'Grafico Strategie Settimanali'!B64,'Daily Diary'!E:E,\"DRAW NO BET\",'Daily Diary'!E:E,\"DRAW NO BET\",'Daily Diary'!K:K,\"WIN\")","v":0},{"$f":"COUNTIFS('Daily Diary'!A:A,'Grafico Strategie Settimanali'!B64,'Daily Diary'!E:E,\"ALTRO\",'Daily Diary'!E:E,\"ALTRO\",'Daily Diary'!K:K,\"WIN\")","v":0},{"$error":"#DIV/0!"},{"$error":"#DIV/0!"},{"$error":"#DIV/0!"},{"$error":"#DIV/0!"},{"$error":"#DIV/0!"},{"$error":"#DIV/0!"},{"$error":"#DIV/0!"},{"$error":"#DIV/0!"},{"$error":"#DIV/0!"},{"$error":"#DIV/0!"},{"$error":"#DIV/0!"},{"$error":"#DIV/0!"},null,"2024-05-13",{"$f":"SUM(O377:O378)/SUM(C377:C378)","v":{"$error":"#DIV/0!"}},{"$f":"SUM(P377:P378)/SUM(D377:D378)","v":{"$error":"#DIV/0!"}},{"$f":"SUM(Q377:Q378)/SUM(E377:E378)","v":{"$error":"#DIV/0!"}},{"$error":"#DIV/0!"},{"$error":"#DIV/0!"},{"$error":"#DIV/0!"},{"$error":"#DIV/0!"},{"$error":"#DIV/0!"},{"$error":"#DIV/0!"},{"$error":"#DIV/0!"},{"$error":"#DIV/0!"},{"$error":"#DIV/0!"}]
[0,"2023-07-06",{"$f":"COUNTIFS('Daily Diary'!A:A,'Grafico Strategie Settimanali'!B65,'Daily Diary'!E:E,\"BANCA PAREGGIO\")","v":0},{"$f":"COUNTIFS('Daily Diary'!A:A,'Grafico Strategie Settimanali'!B65,'Daily Diary'!E:E,\"PUNTA SQ.CASA\")","v":0},{"$f":"COUNTIFS('Daily Diary'!A:A,'Grafico Strategie Settimanali'!B65,'Daily Diary'!E:E,\"PUNTA SQ.OSPITE\")","v":0},{"$f":"COUNTIFS('Daily Diary'!A:A,'Grafico Strategie Settimanali'!B65,'Daily Diary'!E:E,\"BANCA SFAVORITA\")","v":0},{"$f":"COUNTIFS('Daily Diary'!A:A,'Grafico Strategie Settimanali'!B65,'Daily Diary'!E:E,\"PUNTA OVER\")","v":0},{"$f":"COUNTIFS('Daily Diary'!A:A,'Grafico Strategie Settimanali'!B65,'Daily Diary'!E:E,\"PUNTA UNDER\")","v":0},{"$f":"COUNTIFS('Daily Diary'!A:A,'Grafico Strategie Settimanali'!B65,'Daily Diary'!E:E,\"SCALPING\")","v":0},{"$f":"COUNTIFS('Daily Diary'!A:A,'Grafico Strategie Settimanali'!B65,'Daily Diary'!E:E,\"GT90\")","v":0},{"$f":"COUNTIFS('Daily Diary'!A:A,'Grafico Strategie Settimanali'!B65,'Daily Diary'!E:E,\"GT110\")","v":0},{"$f":"COUNTIFS('Daily Diary'!A:A,'Grafico Strategie Settimanali'!B65,'Daily Diary'!E:E,\"ALERT GOAL\")","v":0},{"$f":"COUNTIFS('Daily Diary'!A:A,'Grafico Strategie Settimanali'!B65,'Daily Diary'!E:E,\"DRAW NO BET\")","v":0},{"$f":"COUNTIFS('Daily Diary'!A:A,'Grafico Strategie Settimanali'!B65,'Daily Diary'!E:E,\"ALTRO\")","v":0},{"$f":"COUNTIFS('Daily Diary'!A:A,'Grafico Strategie Settimanali'!B65,'Daily Diary'!E:E,\"BANCA PAREGGIO\",'Daily Diary'!E:E,\"BANCA PAREGGIO\",'Daily Diary'!K:K,\"WIN\")","v":0},{"$f":"COUNTIFS('Daily Diary'!A:A,'Grafico Strategie Settimanali'!B65,'Daily Diary'!E:E,\"PUNTA SQ.CASA\",'Daily Diary'!E:E,\"PUNTA SQ.CASA\",'Daily Diary'!K:K,\"WIN\")","v":0},{"$f":"COUNTIFS('Daily Diary'!A:A,'Grafico Strategie Settimanali'!B65,'Daily Diary'!E:E,\"PUNTA SQ.OSPITE\",'Daily Diary'!E:E,\"PUNTA SQ.OSPITE\",'Daily Diary'!K:K,\"WIN\")","v":0},{"$f":"COUNTIFS('Daily Diary'!A:A,'Grafico Strategie Settimanali'!B65,'Daily Diary'!E:E,\"BANCA SFAVORITA\",'Daily Diary'!E:E,\"BANCA SFAVORITA\",'Daily Diary'!K:K,\"WIN\")","v":0},{"$f":"COUNTIFS('Daily Diary'!A:A,'Grafico Strategie Settimanali'!B65,'Daily Diary'!E:E,\"PUNTA OVER\",'Daily Diary'!E:E,\"PUNTA OVER\",'Daily Diary'!K:K,\"WIN\")","v":0},{"$f":"COUNTIFS('Daily Diary'!A:A,'Grafico Strategie Settimanali'!B65,'Daily Diary'!E:E,\"PUNTA UNDER\",'Daily Diary'!E:E,\"PUNTA UNDER\",'Daily Diary'!K:K,\"WIN\")","v":0},{"$f":"COUNTIFS('Daily Diary'!A:A,'Grafico Strategie Settimanali'!B65,'Daily Diary'!E:E,\"SCALPING\",'Daily Diary'!E:E,\"SCALPING\",'Daily Diary'!K:K,\"WIN\")","v":0},{"$f":"COUNTIFS('Daily Diary'!A:A,'Grafico Strategie Settimanali'!B65,'Daily Diary'!E:E,\"GT 90\",'Daily Diary'!E:E,\"GT 90\",'Daily Diary'!K:K,\"WIN\")","v":0},{"$f":"COUNTIFS('Daily Diary'!A:A,'Grafico Strategie Settimanali'!B65,'Daily Diary'!E:E,\"GT 110\",'Daily Diary'!E:E,\"GT 110\",'Daily Diary'!K:K,\"WIN\")","v":0},{"$f":"COUNTIFS('Daily Diary'!A:A,'Grafico Strategie Settimanali'!B65,'Daily Diary'!E:E,\"ALERT GOAL\",'Daily Diary'!E:E,\"ALERT GOAL\",'Daily Diary'!K:K,\"WIN\")","v":0},{"$f":"COUNTIFS('Daily Diary'!A:A,'Grafico Strategie Settimanali'!B65,'Daily Diary'!E:E,\"DRAW NO BET\",'Daily Diary'!E:E,\"DRAW NO BET\",'Daily Diary'!K:K,\"WIN\")","v":0},{"$f":"COUNTIFS('Daily Diary'!A:A,'Grafico Strategie Settimanali'!B65,'Daily Diary'!E:E,\"ALTRO\",'Daily Diary'!E:E,\"ALTRO\",'Daily Diary'!K:K,\"WIN\")","v":0},{"$error":"#DIV/0!"},{"$error":"#DIV/0!"},{"$error":"#DIV/0!"},{"$error":"#DIV/0!"},{"$error":"#DIV/0!"},{"$error":"#DIV/0!"},{"$error":"#DIV/0!"},{"$error":"#DIV/0!"},{"$error":"#DIV/0!"},{"$error":"#DIV/0!"},{"$error":"#DIV/0!"},{"$error":"#DIV/0!"}]
[0,"2023-07-07",{"$f":"COUNTIFS('Daily Diary'!A:A,'Grafico Strategie Settimanali'!B66,'Daily Diary'!E:E,\"BANCA PAREGGIO\")","v":0},{"$f":"COUNTIFS('Daily Diary'!A:A,'Grafico Strategie Settimanali'!B66,'Daily Diary'!E:E,\"PUNTA SQ.CASA\")","v":0},{"$f":"COUNTIFS('Daily Diary'!A:A,'Grafico Strategie Settimanali'!B66,'Daily Diary'!E:E,\"PUNTA SQ.OSPITE\")","v":0},{"$f":"COUNTIFS('Daily Diary'!A:A,'Grafico Strategie Settimanali'!B66,'Daily Diary'!E:E,\"BANCA SFAVORITA\")","v":0},{"$f":"COUNTIFS('Daily Diary'!A:A,'Grafico Strategie Settimanali'!B66,'Daily Diary'!E:E,\"PUNTA OVER\")","v":0},{"$f":"COUNTIFS('Daily Diary'!A:A,'Grafico Strategie Settimanali'!B66,'Daily Diary'!E:E,\"PUNTA UNDER\")","v":0},{"$f":"COUNTIFS('Daily Diary'!A:A,'Grafico Strategie Settimanali'!B66,'Daily Diary'!E:E,\"SCALPING\")","v":0},{"$f":"COUNTIFS('Daily Diary'!A:A,'Grafico Strategie Settimanali'!B66,'Daily Diary'!E:E,\"GT90\")","v":0},{"$f":"COUNTIFS('Daily Diary'!A:A,'Grafico Strategie Settimanali'!B66,'Daily Diary'!E:E,\"GT110\")","v":0},{"$f":"COUNTIFS('Daily Diary'!A:A,'Grafico Strategie Settimanali'!B66,'Daily Diary'!E:E,\"ALERT GOAL\")","v":0},{"$f":"COUNTIFS('Daily Diary'!A:A,'Grafico Strategie Settimanali'!B66,'Daily Diary'!E:E,\"DRAW NO BET\")","v":0},{"$f":"COUNTIFS('Daily Diary'!A:A,'Grafico Strategie Settimanali'!B66,'Daily Diary'!E:E,\"ALTRO\")","v":0},{"$f":"COUNTIFS('Daily Diary'!A:A,'Grafico Strategie Settimanali'!B66,'Daily Diary'!E:E,\"BANCA PAREGGIO\",'Daily Diary'!E:E,\"BANCA PAREGGIO\",'Daily Diary'!K:K,\"WIN\")","v":0},{"$f":"COUNTIFS('Daily Diary'!A:A,'Grafico Strategie Settimanali'!B66,'Daily Diary'!E:E,\"PUNTA SQ.CASA\",'Daily Diary'!E:E,\"PUNTA SQ.CASA\",'Daily Diary'!K:K,\"WIN\")","v":0},{"$f":"COUNTIFS('Daily Diary'!A:A,'Grafico Strategie Settimanali'!B66,'Daily Diary'!E:E,\"PUNTA SQ.OSPITE\",'Daily Diary'!E:E,\"PUNTA SQ.OSPITE\",'Daily Diary'!K:K,\"WIN\")","v":0},{"$f":"COUNTIFS('Daily Diary'!A:A,'Grafico Strategie Settimanali'!B66,'Daily Diary'!E:E,\"BANCA SFAVORITA\",'Daily Diary'!E:E,\"BANCA SFAVORITA\",'Daily Diary'!K:K,\"WIN\")","v":0},{"$f":"COUNTIFS('Daily Diary'!A:A,'Grafico Strategie Settimanali'!B66,'Daily Diary'!E:E,\"PUNTA OVER\",'Daily Diary'!E:E,\"PUNTA OVER\",'Daily Diary'!K:K,\"WIN\")","v":0},{"$f":"COUNTIFS('Daily Diary'!A:A,'Grafico Strategie Settimanali'!B66,'Daily Diary'!E:E,\"PUNTA UNDER\",'Daily Diary'!E:E,\"PUNTA UNDER\",'Daily Diary'!K:K,\"WIN\")","v":0},{"$f":"COUNTIFS('Daily Diary'!A:A,'Grafico Strategie Settimanali'!B66,'Daily Diary'!E:E,\"SCALPING\",'Daily Diary'!E:E,\"SCALPING\",'Daily Diary'!K:K,\"WIN\")","v":0},{"$f":"COUNTIFS('Daily Diary'!A:A,'Grafico Strategie Settimanali'!B66,'Daily Diary'!E:E,\"GT 90\",'Daily Diary'!E:E,\"GT 90\",'Daily Diary'!K:K,\"WIN\")","v":0},{"$f":"COUNTIFS('Daily Diary'!A:A,'Grafico Strategie Settimanali'!B66,'Daily Diary'!E:E,\"GT 110\",'Daily Diary'!E:E,\"GT 110\",'Daily Diary'!K:K,\"WIN\")","v":0},{"$f":"COUNTIFS('Daily Diary'!A:A,'Grafico Strategie Settimanali'!B66,'Daily Diary'!E:E,\"ALERT GOAL\",'Daily Diary'!E:E,\"ALERT GOAL\",'Daily Diary'!K:K,\"WIN\")","v":0},{"$f":"COUNTIFS('Daily Diary'!A:A,'Grafico Strategie Settimanali'!B66,'Daily Diary'!E:E,\"DRAW NO BET\",'Daily Diary'!E:E,\"DRAW NO BET\",'Daily Diary'!K:K,\"WIN\")","v":0},{"$f":"COUNTIFS('Daily Diary'!A:A,'Grafico Strategie Settimanali'!B66,'Daily Diary'!E:E,\"ALTRO\",'Daily Diary'!E:E,\"ALTRO\",'Daily Diary'!K:K,\"WIN\")","v":0},{"$error":"#DIV/0!"},{"$error":"#DIV/0!"},{"$error":"#DIV/0!"},{"$error":"#DIV/0!"},{"$error":"#DIV/0!"},{"$error":"#DIV/0!"},{"$error":"#DIV/0!"},{"$error":"#DIV/0!"},{"$error":"#DIV/0!"},{"$error":"#DIV/0!"},{"$error":"#DIV/0!"},{"$error":"#DIV/0!"}]
[0,"2023-07-08",{"$f":"COUNTIFS('Daily Diary'!A:A,'Grafico Strategie Settimanali'!B67,'Daily Diary'!E:E,\"BANCA PAREGGIO\")","v":0},{"$f":"COUNTIFS('Daily Diary'!A:A,'Grafico Strategie Settimanali'!B67,'Daily Diary'!E:E,\"PUNTA SQ.CASA\")","v":0},{"$f":"COUNTIFS('Daily Diary'!A:A,'Grafico Strategie Settimanali'!B67,'Daily Diary'!E:E,\"PUNTA SQ.OSPITE\")","v":0},{"$f":"COUNTIFS('Daily Diary'!A:A,'Grafico Strategie Settimanali'!B67,'Daily Diary'!E:E,\"BANCA SFAVORITA\")","v":0},{"$f":"COUNTIFS('Daily Diary'!A:A,'Grafico Strategie Settimanali'!B67,'Daily Diary'!E:E,\"PUNTA OVER\")","v":0},{"$f":"COUNTIFS('Daily Diary'!A:A,'Grafico Strategie Settimanali'!B67,'Daily Diary'!E:E,\"PUNTA UNDER\")","v":0},{"$f":"COUNTIFS('Daily Diary'!A:A,'Grafico Strategie Settimanali'!B67,'Daily Diary'!E:E,\"SCALPING\")","v":0},{"$f":"COUNTIFS('Daily Diary'!A:A,'Grafico Strategie Settimanali'!B67,'Daily Diary'!E:E,\"GT90\")","v":0},{"$f":"COUNTIFS('Daily Diary'!A:A,'Grafico Strategie Settimanali'!B67,'Daily Diary'!E:E,\"GT110\")","v":0},{"$f":"COUNTIFS('Daily Diary'!A:A,'Grafico Strategie Settimanali'!B67,'Daily Diary'!E:E,\"ALERT GOAL\")","v":0},{"$f":"COUNTIFS('Daily Diary'!A:A,'Grafico Strategie Settimanali'!B67,'Daily Diary'!E:E,\"DRAW NO BET\")","v":0},{"$f":"COUNTIFS('Daily Diary'!A:A,'Grafico Strategie Settimanali'!B67,'Daily Diary'!E:E,\"ALTRO\")","v":0},{"$f":"COUNTIFS('Daily Diary'!A:A,'Grafico Strategie Settimanali'!B67,'Daily Diary'!E:E,\"BANCA PAREGGIO\",'Daily Diary'!E:E,\"BANCA PAREGGIO\",'Daily Diary'!K:K,\"WIN\")","v":0},{"$f":"COUNTIFS('Daily Diary'!A:A,'Grafico Strategie Settimanali'!B67,'Daily Diary'!E:E,\"PUNTA SQ.CASA\",'Daily Diary'!E:E,\"PUNTA SQ.CASA\",'Daily Diary'!K:K,\"WIN\")","v":0},{"$f":"COUNTIFS('Daily Diary'!A:A,'Grafico Strategie Settimanali'!B67,'Daily Diary'!E:E,\"PUNTA SQ.OSPITE\",'Daily Diary'!E:E,\"PUNTA SQ.OSPITE\",'Daily Diary'!K:K,\"WIN\")","v":0},{"$f":"COUNTIFS('Daily Diary'!A:A,'Grafico Strategie Settimanali'!B67,'Daily Diary'!E:E,\"BANCA SFAVORITA\",'Daily Diary'!E:E,\"BANCA SFAVORITA\",'Daily Diary'!K:K,\"WIN\")","v":0},{"$f":"COUNTIFS('Daily Diary'!A:A,'Grafico Strategie Settimanali'!B67,'Daily Diary'!E:E,\"PUNTA OVER\",'Daily Diary'!E:E,\"PUNTA OVER\",'Daily Diary'!K:K,\"WIN\")","v":0},{"$f":"COUNTIFS('Daily Diary'!A:A,'Grafico Strategie Settimanali'!B67,'Daily Diary'!E:E,\"PUNTA UNDER\",'Daily Diary'!E:E,\"PUNTA UNDER\",'Daily Diary'!K:K,\"WIN\")","v":0},{"$f":"COUNTIFS('Daily Diary'!A:A,'Grafico Strategie Settimanali'!B67,'Daily Diary'!E:E,\"SCALPING\",'Daily Diary'!E:E,\"SCALPING\",'Daily Diary'!K:K,\"WIN\")","v":0},{"$f":"COUNTIFS('Daily Diary'!A:A,'Grafico Strategie Settimanali'!B67,'Daily Diary'!E:E,\"GT 90\",'Daily Diary'!E:E,\"GT 90\",'Daily Diary'!K:K,\"WIN\")","v":0},{"$f":"COUNTIFS('Daily Diary'!A:A,'Grafico Strategie Settimanali'!B67,'Daily Diary'!E:E,\"GT 110\",'Daily Diary'!E:E,\"GT 110\",'Daily Diary'!K:K,\"WIN\")","v":0},{"$f":"COUNTIFS('Daily Diary'!A:A,'Grafico Strategie Settimanali'!B67,'Daily Diary'!E:E,\"ALERT GOAL\",'Daily Diary'!E:E,\"ALERT GOAL\",'Daily Diary'!K:K,\"WIN\")","v":0},{"$f":"COUNTIFS('Daily Diary'!A:A,'Grafico Strategie Settimanali'!B67,'Daily Diary'!E:E,\"DRAW NO BET\",'Daily Diary'!E:E,\"DRAW NO BET\",'Daily Diary'!K:K,\"WIN\")","v":0},{"$f":"COUNTIFS('Daily Diary'!A:A,'Grafico Strategie Settimanali'!B67,'Daily Diary'!E:E,\"ALTRO\",'Daily Diary'!E:E,\"ALTRO\",'Daily Diary'!K:K,\"WIN\")","v":0},{"$error":"#DIV/0!"},{"$error":"#DIV/0!"},{"$error":"#DIV/0!"},{"$error":"#DIV/0!"},{"$error":"#DIV/0!"},{"$error":"#DIV/0!"},{"$error":"#DIV/0!"},{"$error":"#DIV/0!"},{"$error":"#DIV/0!"},{"$error":"#DIV/0!"},{"$error":"#DIV/0!"},{"$error":"#DIV/0!"}]
[0,"2023-07-09",{"$f":"COUNTIFS('Daily Diary'!A:A,'Grafico Strategie Settimanali'!B68,'Daily Diary'!E:E,\"BANCA PAREGGIO\")","v":0},{"$f":"COUNTIFS('Daily Diary'!A:A,'Grafico Strategie Settimanali'!B68,'Daily Diary'!E:E,\"PUNTA SQ.CASA\")","v":0},{"$f":"COUNTIFS('Daily Diary'!A:A,'Grafico Strategie Settimanali'!B68,'Daily Diary'!E:E,\"PUNTA SQ.OSPITE\")","v":0},{"$f":"COUNTIFS('Daily Diary'!A:A,'Grafico Strategie Settimanali'!B68,'Daily Diary'!E:E,\"BANCA SFAVORITA\")","v":0},{"$f":"COUNTIFS('Daily Diary'!A:A,'Grafico Strategie Settimanali'!B68,'Daily Diary'!E:E,\"PUNTA OVER\")","v":0},{"$f":"COUNTIFS('Daily Diary'!A:A,'Grafico Strategie Settimanali'!B68,'Daily Diary'!E:E,\"PUNTA UNDER\")","v":0},{"$f":"COUNTIFS('Daily Diary'!A:A,'Grafico Strategie Settimanali'!B68,'Daily Diary'!E:E,\"SCALPING\")","v":0},{"$f":"COUNTIFS('Daily Diary'!A:A,'Grafico Strategie Settimanali'!B68,'Daily Diary'!E:E,\"GT90\")","v":0},{"$f":"COUNTIFS('Daily Diary'!A:A,'Grafico Strategie Settimanali'!B68,'Daily Diary'!E:E,\"GT110\")","v":0},{"$f":"COUNTIFS('Daily Diary'!A:A,'Grafico Strategie Settimanali'!B68,'Daily Diary'!E:E,\"ALERT GOAL\")","v":0},{"$f":"COUNTIFS('Daily Diary'!A:A,'Grafico Strategie Settimanali'!B68,'Daily Diary'!E:E,\"DRAW NO BET\")","v":0},{"$f":"COUNTIFS('Daily Diary'!A:A,'Grafico Strategie Settimanali'!B68,'Daily Diary'!E:E,\"ALTRO\")","v":0},{"$f":"COUNTIFS('Daily Diary'!A:A,'Grafico Strategie Settimanali'!B68,'Daily Diary'!E:E,\"BANCA PAREGGIO\",'Daily Diary'!E:E,\"BANCA PAREGGIO\",'Daily Diary'!K:K,\"WIN\")","v":0},{"$f":"COUNTIFS('Daily Diary'!A:A,'Grafico Strategie Settimanali'!B68,'Daily Diary'!E:E,\"PUNTA SQ.CASA\",'Daily Diary'!E:E,\"PUNTA SQ.CASA\",'Daily Diary'!K:K,\"WIN\")","v":0},{"$f":"COUNTIFS('Daily Diary'!A:A,'Grafico Strategie Settimanali'!B68,'Daily Diary'!E:E,\"PUNTA SQ.OSPITE\",'Daily Diary'!E:E,\"PUNTA SQ.OSPITE\",'Daily Diary'!K:K,\"WIN\")","v":0},{"$f":"COUNTIFS('Daily Diary'!A:A,'Grafico Strategie Settimanali'!B68,'Daily Diary'!E:E,\"BANCA SFAVORITA\",'Daily Diary'!E:E,\"BANCA SFAVORITA\",'Daily Diary'!K:K,\"WIN\")","v":0},{"$f":"COUNTIFS('Daily Diary'!A:A,'Grafico Strategie Settimanali'!B68,'Daily Diary'!E:E,\"PUNTA OVER\",'Daily Diary'!E:E,\"PUNTA OVER\",'Daily Diary'!K:K,\"WIN\")","v":0},{"$f":"COUNTIFS('Daily Diary'!A:A,'Grafico Strategie Settimanali'!B68,'Daily Diary'!E:E,\"PUNTA UNDER\",'Daily Diary'!E:E,\"PUNTA UNDER\",'Daily Diary'!K:K,\"WIN\")","v":0},{"$f":"COUNTIFS('Daily Diary'!A:A,'Grafico Strategie Settimanali'!B68,'Daily Diary'!E:E,\"SCALPING\",'Daily Diary'!E:E,\"SCALPING\",'Daily Diary'!K:K,\"WIN\")","v":0},{"$f":"COUNTIFS('Daily Diary'!A:A,'Grafico Strategie Settimanali'!B68,'Daily Diary'!E:E,\"GT 90\",'Daily Diary'!E:E,\"GT 90\",'Daily Diary'!K:K,\"WIN\")","v":0},{"$f":"COUNTIFS('Daily Diary'!A:A,'Grafico Strategie Settimanali'!B68,'Daily Diary'!E:E,\"GT 110\",'Daily Diary'!E:E,\"GT 110\",'Daily Diary'!K:K,\"WIN\")","v":0},{"$f":"COUNTIFS('Daily Diary'!A:A,'Grafico Strategie Settimanali'!B68,'Daily Diary'!E:E,\"ALERT GOAL\",'Daily Diary'!E:E,\"ALERT GOAL\",'Daily Diary'!K:K,\"WIN\")","v":0},{"$f":"COUNTIFS('Daily Diary'!A:A,'Grafico Strategie Settimanali'!B68,'Daily Diary'!E:E,\"DRAW NO BET\",'Daily Diary'!E:E,\"DRAW NO BET\",'Daily Diary'!K:K,\"WIN\")","v":0},{"$f":"COUNTIFS('Daily Diary'!A:A,'Grafico Strategie Settimanali'!B68,'Daily Diary'!E:E,\"ALTRO\",'Daily Diary'!E:E,\"ALTRO\",'Daily Diary'!K:K,\"WIN\")","v":0},{"$error":"#DIV/0!"},{"$error":"#DIV/0!"},{"$error":"#DIV/0!"},{"$error":"#DIV/0!"},{"$error":"#DIV/0!"},{"$error":"#DIV/0!"},{"$error":"#DIV/0!"},{"$error":"#DIV/0!"},{"$error":"#DIV/0!"},{"$error":"#DIV/0!"},{"$error":"#DIV/0!"},{"$error":"#DIV/0!"}]
[0,"2023-07-10",{"$f":"COUNTIFS('Daily Diary'!A:A,'Grafico Strategie Settimanali'!B69,'Daily Diary'!E:E,\"BANCA PAREGGIO\")","v":0},{"$f":"COUNTIFS('Daily Diary'!A:A,'Grafico Strategie Settimanali'!B69,'Daily Diary'!E:E,\"PUNTA SQ.CASA\")","v":0},{"$f":"COUNTIFS('Daily Diary'!A:A,'Grafico Strategie Settimanali'!B69,'Daily Diary'!E:E,\"PUNTA SQ.OSPITE\")","v":0},{"$f":"COUNTIFS('Daily Diary'!A:A,'Grafico Strategie Settimanali'!B69,'Daily Diary'!E:E,\"BANCA SFAVORITA\")","v":0},{"$f":"COUNTIFS('Daily Diary'!A:A,'Grafico Strategie Settimanali'!B69,'Daily Diary'!E:E,\"PUNTA OVER\")","v":0},{"$f":"COUNTIFS('Daily Diary'!A:A,'Grafico Strategie Settimanali'!B69,'Daily Diary'!E:E,\"PUNTA UNDER\")","v":0},{"$f":"COUNTIFS('Daily Diary'!A:A,'Grafico Strategie Settimanali'!B69,'Daily Diary'!E:E,\"SCALPING\")","v":0},{"$f":"COUNTIFS('Daily Diary'!A:A,'Grafico Strategie Settimanali'!B69,'Daily Diary'!E:E,\"GT90\")","v":0},{"$f":"COUNTIFS('Daily Diary'!A:A,'Grafico Strategie Settimanali'!B69,'Daily Diary'!E:E,\"GT110\")","v":0},{"$f":"COUNTIFS('Daily Diary'!A:A,'Grafico Strategie Settimanali'!B69,'Daily Diary'!E:E,\"ALERT GOAL\")","v":0},{"$f":"COUNTIFS('Daily Diary'!A:A,'Grafico Strategie Settimanali'!B69,'Daily Diary'!E:E,\"DRAW NO BET\")","v":0},{"$f":"COUNTIFS('Daily Diary'!A:A,'Grafico Strategie Settimanali'!B69,'Daily Diary'!E:E,\"ALTRO\")","v":0},{"$f":"COUNTIFS('Daily Diary'!A:A,'Grafico Strategie Settimanali'!B69,'Daily Diary'!E:E,\"BANCA PAREGGIO\",'Daily Diary'!E:E,\"BANCA PAREGGIO\",'Daily Diary'!K:K,\"WIN\")","v":0},{"$f":"COUNTIFS('Daily Diary'!A:A,'Grafico Strategie Settimanali'!B69,'Daily Diary'!E:E,\"PUNTA SQ.CASA\",'Daily Diary'!E:E,\"PUNTA SQ.CASA\",'Daily Diary'!K:K,\"WIN\")","v":0},{"$f":"COUNTIFS('Daily Diary'!A:A,'Grafico Strategie Settimanali'!B69,'Daily Diary'!E:E,\"PUNTA SQ.OSPITE\",'Daily Diary'!E:E,\"PUNTA SQ.OSPITE\",'Daily Diary'!K:K,\"WIN\")","v":0},{"$f":"COUNTIFS('Daily Diary'!A:A,'Grafico Strategie Settimanali'!B69,'Daily Diary'!E:E,\"BANCA SFAVORITA\",'Daily Diary'!E:E,\"BANCA SFAVORITA\",'Daily Diary'!K:K,\"WIN\")","v":0},{"$f":"COUNTIFS('Daily Diary'!A:A,'Grafico Strategie Settimanali'!B69,'Daily Diary'!E:E,\"PUNTA OVER\",'Daily Diary'!E:E,\"PUNTA OVER\",'Daily Diary'!K:K,\"WIN\")","v":0},{"$f":"COUNTIFS('Daily Diary'!A:A,'Grafico Strategie Settimanali'!B69,'Daily Diary'!E:E,\"PUNTA UNDER\",'Daily Diary'!E:E,\"PUNTA UNDER\",'Daily Diary'!K:K,\"WIN\")","v":0},{"$f":"COUNTIFS('Daily Diary'!A:A,'Grafico Strategie Settimanali'!B69,'Daily Diary'!E:E,\"SCALPING\",'Daily Diary'!E:E,\"SCALPING\",'Daily Diary'!K:K,\"WIN\")","v":0},{"$f":"COUNTIFS('Daily Diary'!A:A,'Grafico Strategie Settimanali'!B69,'Daily Diary'!E:E,\"GT 90\",'Daily Diary'!E:E,\"GT 90\",'Daily Diary'!K:K,\"WIN\")","v":0},{"$f":"COUNTIFS('Daily Diary'!A:A,'Grafico Strategie Settimanali'!B69,'Daily Diary'!E:E,\"GT 110\",'Daily Diary'!E:E,\"GT 110\",'Daily Diary'!K:K,\"WIN\")","v":0},{"$f":"COUNTIFS('Daily Diary'!A:A,'Grafico Strategie Settimanali'!B69,'Daily Diary'!E:E,\"ALERT GOAL\",'Daily Diary'!E:E,\"ALERT GOAL\",'Daily Diary'!K:K,\"WIN\")","v":0},{"$f":"COUNTIFS('Daily Diary'!A:A,'Grafico Strategie Settimanali'!B69,'Daily Diary'!E:E,\"DRAW NO BET\",'Daily Diary'!E:E,\"DRAW NO BET\",'Daily Diary'!K:K,\"WIN\")","v":0},{"$f":"COUNTIFS('Daily Diary'!A:A,'Grafico Strategie Settimanali'!B69,'Daily Diary'!E:E,\"ALTRO\",'Daily Diary'!E:E,\"ALTRO\",'Daily Diary'!K:K,\"WIN\")","v":0},{"$error":"#DIV/0!"},{"$error":"#DIV/0!"},{"$error":"#DIV/0!"},{"$error":"#DIV/0!"},{"$error":"#DIV/0!"},{"$error":"#DIV/0!"},{"$error":"#DIV/0!"},{"$error":"#DIV/0!"},{"$error":"#DIV/0!"},{"$error":"#DIV/0!"},{"$error":"#DIV/0!"},{"$error":"#DIV/0!"}]
[0,"2023-07-11",{"$f":"COUNTIFS('Daily Diary'!A:A,'Grafico Strategie Settimanali'!B70,'Daily Diary'!E:E,\"BANCA PAREGGIO\")","v":0},{"$f":"COUNTIFS('Daily Diary'!A:A,'Grafico Strategie Settimanali'!B70,'Daily Diary'!E:E,\"PUNTA SQ.CASA\")","v":0},{"$f":"COUNTIFS('Daily Diary'!A:A,'Grafico Strategie Settimanali'!B70,'Daily Diary'!E:E,\"PUNTA SQ.OSPITE\")","v":0},{"$f":"COUNTIFS('Daily Diary'!A:A,'Grafico Strategie Settimanali'!B70,'Daily Diary'!E:E,\"BANCA SFAVORITA\")","v":0},{"$f":"COUNTIFS('Daily Diary'!A:A,'Grafico Strategie Settimanali'!B70,'Daily Diary'!E:E,\"PUNTA OVER\")","v":0},{"$f":"COUNTIFS('Daily Diary'!A:A,'Grafico Strategie Settimanali'!B70,'Daily Diary'!E:E,\"PUNTA UNDER\")","v":0},{"$f":"COUNTIFS('Daily Diary'!A:A,'Grafico Strategie Settimanali'!B70,'Daily Diary'!E:E,\"SCALPING\")","v":0},{"$f":"COUNTIFS('Daily Diary'!A:A,'Grafico Strategie Settimanali'!B70,'Daily Diary'!E:E,\"GT90\")","v":0},{"$f":"COUNTIFS('Daily Diary'!A:A,'Grafico Strategie Settimanali'!B70,'Daily Diary'!E:E,\"GT110\")","v":0},{"$f":"COUNTIFS('Daily Diary'!A:A,'Grafico Strategie Settimanali'!B70,'Daily Diary'!E:E,\"ALERT GOAL\")","v":0},{"$f":"COUNTIFS('Daily Diary'!A:A,'Grafico Strategie Settimanali'!B70,'Daily Diary'!E:E,\"DRAW NO BET\")","v":0},{"$f":"COUNTIFS('Daily Diary'!A:A,'Grafico Strategie Settimanali'!B70,'Daily Diary'!E:E,\"ALTRO\")","v":0},{"$f":"COUNTIFS('Daily Diary'!A:A,'Grafico Strategie Settimanali'!B70,'Daily Diary'!E:E,\"BANCA PAREGGIO\",'Daily Diary'!E:E,\"BANCA PAREGGIO\",'Daily Diary'!K:K,\"WIN\")","v":0},{"$f":"COUNTIFS('Daily Diary'!A:A,'Grafico Strategie Settimanali'!B70,'Daily Diary'!E:E,\"PUNTA SQ.CASA\",'Daily Diary'!E:E,\"PUNTA SQ.CASA\",'Daily Diary'!K:K,\"WIN\")","v":0},{"$f":"COUNTIFS('Daily Diary'!A:A,'Grafico Strategie Settimanali'!B70,'Daily Diary'!E:E,\"PUNTA SQ.OSPITE\",'Daily Diary'!E:E,\"PUNTA SQ.OSPITE\",'Daily Diary'!K:K,\"WIN\")","v":0},{"$f":"COUNTIFS('Daily Diary'!A:A,'Grafico Strategie Settimanali'!B70,'Daily Diary'!E:E,\"BANCA SFAVORITA\",'Daily Diary'!E:E,\"BANCA SFAVORITA\",'Daily Diary'!K:K,\"WIN\")","v":0},{"$f":"COUNTIFS('Daily Diary'!A:A,'Grafico Strategie Settimanali'!B70,'Daily Diary'!E:E,\"PUNTA OVER\",'Daily Diary'!E:E,\"PUNTA OVER\",'Daily Diary'!K:K,\"WIN\")","v":0},{"$f":"COUNTIFS('Daily Diary'!A:A,'Grafico Strategie Settimanali'!B70,'Daily Diary'!E:E,\"PUNTA UNDER\",'Daily Diary'!E:E,\"PUNTA UNDER\",'Daily Diary'!K:K,\"WIN\")","v":0},{"$f":"COUNTIFS('Daily Diary'!A:A,'Grafico Strategie Settimanali'!B70,'Daily Diary'!E:E,\"SCALPING\",'Daily Diary'!E:E,\"SCALPING\",'Daily Diary'!K:K,\"WIN\")","v":0},{"$f":"COUNTIFS('Daily Diary'!A:A,'Grafico Strategie Settimanali'!B70,'Daily Diary'!E:E,\"GT 90\",'Daily Diary'!E:E,\"GT 90\",'Daily Diary'!K:K,\"WIN\")","v":0},{"$f":"COUNTIFS('Daily Diary'!A:A,'Grafico Strategie Settimanali'!B70,'Daily Diary'!E:E,\"GT 110\",'Daily Diary'!E:E,\"GT 110\",'Daily Diary'!K:K,\"WIN\")","v":0},{"$f":"COUNTIFS('Daily Diary'!A:A,'Grafico Strategie Settimanali'!B70,'Daily Diary'!E:E,\"ALERT GOAL\",'Daily Diary'!E:E,\"ALERT GOAL\",'Daily Diary'!K:K,\"WIN\")","v":0},{"$f":"COUNTIFS('Daily Diary'!A:A,'Grafico Strategie Settimanali'!B70,'Daily Diary'!E:E,\"DRAW NO BET\",'Daily Diary'!E:E,\"DRAW NO BET\",'Daily Diary'!K:K,\"WIN\")","v":0},{"$f":"COUNTIFS('Daily Diary'!A:A,'Grafico Strategie Settimanali'!B70,'Daily Diary'!E:E,\"ALTRO\",'Daily Diary'!E:E,\"ALTRO\",'Daily Diary'!K:K,\"WIN\")","v":0},{"$error":"#DIV/0!"},{"$error":"#DIV/0!"},{"$error":"#DIV/0!"},{"$error":"#DIV/0!"},{"$error":"#DIV/0!"},{"$error":"#DIV/0!"},{"$error":"#DIV/0!"},{"$error":"#DIV/0!"},{"$error":"#DIV/0!"},{"$error":"#DIV/0!"},{"$error":"#DIV/0!"},{"$error":"#DIV/0!"}]
[0,"2023-07-12",{"$f":"COUNTIFS('Daily Diary'!A:A,'Grafico Strategie Settimanali'!B71,'Daily Diary'!E:E,\"BANCA PAREGGIO\")","v":0},{"$f":"COUNTIFS('Daily Diary'!A:A,'Grafico Strategie Settimanali'!B71,'Daily Diary'!E:E,\"PUNTA SQ.CASA\")","v":0},{"$f":"COUNTIFS('Daily Diary'!A:A,'Grafico Strategie Settimanali'!B71,'Daily Diary'!E:E,\"PUNTA SQ.OSPITE\")","v":0},{"$f":"COUNTIFS('Daily Diary'!A:A,'Grafico Strategie Settimanali'!B71,'Daily Diary'!E:E,\"BANCA SFAVORITA\")","v":0},{"$f":"COUNTIFS('Daily Diary'!A:A,'Grafico Strategie Settimanali'!B71,'Daily Diary'!E:E,\"PUNTA OVER\")","v":0},{"$f":"COUNTIFS('Daily Diary'!A:A,'Grafico Strategie Settimanali'!B71,'Daily Diary'!E:E,\"PUNTA UNDER\")","v":0},{"$f":"COUNTIFS('Daily Diary'!A:A,'Grafico Strategie Settimanali'!B71,'Daily Diary'!E:E,\"SCALPING\")","v":0},{"$f":"COUNTIFS('Daily Diary'!A:A,'Grafico Strategie Settimanali'!B71,'Daily Diary'!E:E,\"GT90\")","v":0},{"$f":"COUNTIFS('Daily Diary'!A:A,'Grafico Strategie Settimanali'!B71,'Daily Diary'!E:E,\"GT110\")","v":0},{"$f":"COUNTIFS('Daily Diary'!A:A,'Grafico Strategie Settimanali'!B71,'Daily Diary'!E:E,\"ALERT GOAL\")","v":0},{"$f":"COUNTIFS('Daily Diary'!A:A,'Grafico Strategie Settimanali'!B71,'Daily Diary'!E:E,\"DRAW NO BET\")","v":0},{"$f":"COUNTIFS('Daily Diary'!A:A,'Grafico Strategie Settimanali'!B71,'Daily Diary'!E:E,\"ALTRO\")","v":0},{"$f":"COUNTIFS('Daily Diary'!A:A,'Grafico Strategie Settimanali'!B71,'Daily Diary'!E:E,\"BANCA PAREGGIO\",'Daily Diary'!E:E,\"BANCA PAREGGIO\",'Daily Diary'!K:K,\"WIN\")","v":0},{"$f":"COUNTIFS('Daily Diary'!A:A,'Grafico Strategie Settimanali'!B71,'Daily Diary'!E:E,\"PUNTA SQ.CASA\",'Daily Diary'!E:E,\"PUNTA SQ.CASA\",'Daily Diary'!K:K,\"WIN\")","v":0},{"$f":"COUNTIFS('Daily Diary'!A:A,'Grafico Strategie Settimanali'!B71,'Daily Diary'!E:E,\"PUNTA SQ.OSPITE\",'Daily Diary'!E:E,\"PUNTA SQ.OSPITE\",'Daily Diary'!K:K,\"WIN\")","v":0},{"$f":"COUNTIFS('Daily Diary'!A:A,'Grafico Strategie Settimanali'!B71,'Daily Diary'!E:E,\"BANCA SFAVORITA\",'Daily Diary'!E:E,\"BANCA SFAVORITA\",'Daily Diary'!K:K,\"WIN\")","v":0},{"$f":"COUNTIFS('Daily Diary'!A:A,'Grafico Strategie Settimanali'!B71,'Daily Diary'!E:E,\"PUNTA OVER\",'Daily Diary'!E:E,\"PUNTA OVER\",'Daily Diary'!K:K,\"WIN\")","v":0},{"$f":"COUNTIFS('Daily Diary'!A:A,'Grafico Strategie Settimanali'!B71,'Daily Diary'!E:E,\"PUNTA UNDER\",'Daily Diary'!E:E,\"PUNTA UNDER\",'Daily Diary'!K:K,\"WIN\")","v":0},{"$f":"COUNTIFS('Daily Diary'!A:A,'Grafico Strategie Settimanali'!B71,'Daily Diary'!E:E,\"SCALPING\",'Daily Diary'!E:E,\"SCALPING\",'Daily Diary'!K:K,\"WIN\")","v":0},{"$f":"COUNTIFS('Daily Diary'!A:A,'Grafico Strategie Settimanali'!B71,'Daily Diary'!E:E,\"GT 90\",'Daily Diary'!E:E,\"GT 90\",'Daily Diary'!K:K,\"WIN\")","v":0},{"$f":"COUNTIFS('Daily Diary'!A:A,'Grafico Strategie Settimanali'!B71,'Daily Diary'!E:E,\"GT 110\",'Daily Diary'!E:E,\"GT 110\",'Daily Diary'!K:K,\"WIN\")","v":0},{"$f":"COUNTIFS('Daily Diary'!A:A,'Grafico Strategie Settimanali'!B71,'Daily Diary'!E:E,\"ALERT GOAL\",'Daily Diary'!E:E,\"ALERT GOAL\",'Daily Diary'!K:K,\"WIN\")","v":0},{"$f":"COUNTIFS('Daily Diary'!A:A,'Grafico Strategie Settimanali'!B71,'Daily Diary'!E:E,\"DRAW NO BET\",'Daily Diary'!E:E,\"DRAW NO BET\",'Daily Diary'!K:K,\"WIN\")","v":0},{"$f":"COUNTIFS('Daily Diary'!A:A,'Grafico Strategie Settimanali'!B71,'Daily Diary'!E:E,\"ALTRO\",'Daily Diary'!E:E,\"ALTRO\",'Daily Diary'!K:K,\"WIN\")","v":0},{"$error":"#DIV/0!"},{"$error":"#DIV/0!"},{"$error":"#DIV/0!"},{"$error":"#DIV/0!"},{"$error":"#DIV/0!"},{"$error":"#DIV/0!"},{"$error":"#DIV/0!"},{"$error":"#DIV/0!"},{"$error":"#DIV/0!"},{"$error":"#DIV/0!"},{"$error":"#DIV/0!"},{"$error":"#DIV/0!"}]
[0,"2023-07-13",{"$f":"COUNTIFS('Daily Diary'!A:A,'Grafico Strategie Settimanali'!B72,'Daily Diary'!E:E,\"BANCA PAREGGIO\")","v":0},{"$f":"COUNTIFS('Daily Diary'!A:A,'Grafico Strategie Settimanali'!B72,'Daily Diary'!E:E,\"PUNTA SQ.CASA\")","v":0},{"$f":"COUNTIFS('Daily Diary'!A:A,'Grafico Strategie Settimanali'!B72,'Daily Diary'!E:E,\"PUNTA SQ.OSPITE\")","v":0},{"$f":"COUNTIFS('Daily Diary'!A:A,'Grafico Strategie Settimanali'!B72,'Daily Diary'!E:E,\"BANCA SFAVORITA\")","v":0},{"$f":"COUNTIFS('Daily Diary'!A:A,'Grafico Strategie Settimanali'!B72,'Daily Diary'!E:E,\"PUNTA OVER\")","v":0},{"$f":"COUNTIFS('Daily Diary'!A:A,'Grafico Strategie Settimanali'!B72,'Daily Diary'!E:E,\"PUNTA UNDER\")","v":0},{"$f":"COUNTIFS('Daily Diary'!A:A,'Grafico Strategie Settimanali'!B72,'Daily Diary'!E:E,\"SCALPING\")","v":0},{"$f":"COUNTIFS('Daily Diary'!A:A,'Grafico Strategie Settimanali'!B72,'Daily Diary'!E:E,\"GT90\")","v":0},{"$f":"COUNTIFS('Daily Diary'!A:A,'Grafico Strategie Settimanali'!B72,'Daily Diary'!E:E,\"GT110\")","v":0},{"$f":"COUNTIFS('Daily Diary'!A:A,'Grafico Strategie Settimanali'!B72,'Daily Diary'!E:E,\"ALERT GOAL\")","v":0},{"$f":"COUNTIFS('Daily Diary'!A:A,'Grafico Strategie Settimanali'!B72,'Daily Diary'!E:E,\"DRAW NO BET\")","v":0},{"$f":"COUNTIFS('Daily Diary'!A:A,'Grafico Strategie Settimanali'!B72,'Daily Diary'!E:E,\"ALTRO\")","v":0},{"$f":"COUNTIFS('Daily Diary'!A:A,'Grafico Strategie Settimanali'!B72,'Daily Diary'!E:E,\"BANCA PAREGGIO\",'Daily Diary'!E:E,\"BANCA PAREGGIO\",'Daily Diary'!K:K,\"WIN\")","v":0},{"$f":"COUNTIFS('Daily Diary'!A:A,'Grafico Strategie Settimanali'!B72,'Daily Diary'!E:E,\"PUNTA SQ.CASA\",'Daily Diary'!E:E,\"PUNTA SQ.CASA\",'Daily Diary'!K:K,\"WIN\")","v":0},{"$f":"COUNTIFS('Daily Diary'!A:A,'Grafico Strategie Settimanali'!B72,'Daily Diary'!E:E,\"PUNTA SQ.OSPITE\",'Daily Diary'!E:E,\"PUNTA SQ.OSPITE\",'Daily Diary'!K:K,\"WIN\")","v":0},{"$f":"COUNTIFS('Daily Diary'!A:A,'Grafico Strategie Settimanali'!B72,'Daily Diary'!E:E,\"BANCA SFAVORITA\",'Daily Diary'!E:E,\"BANCA SFAVORITA\",'Daily Diary'!K:K,\"WIN\")","v":0},{"$f":"COUNTIFS('Daily Diary'!A:A,'Grafico Strategie Settimanali'!B72,'Daily Diary'!E:E,\"PUNTA OVER\",'Daily Diary'!E:E,\"PUNTA OVER\",'Daily Diary'!K:K,\"WIN\")","v":0},{"$f":"COUNTIFS('Daily Diary'!A:A,'Grafico Strategie Settimanali'!B72,'Daily Diary'!E:E,\"PUNTA UNDER\",'Daily Diary'!E:E,\"PUNTA UNDER\",'Daily Diary'!K:K,\"WIN\")","v":0},{"$f":"COUNTIFS('Daily Diary'!A:A,'Grafico Strategie Settimanali'!B72,'Daily Diary'!E:E,\"SCALPING\",'Daily Diary'!E:E,\"SCALPING\",'Daily Diary'!K:K,\"WIN\")","v":0},{"$f":"COUNTIFS('Daily Diary'!A:A,'Grafico Strategie Settimanali'!B72,'Daily Diary'!E:E,\"GT 90\",'Daily Diary'!E:E,\"GT 90\",'Daily Diary'!K:K,\"WIN\")","v":0},{"$f":"COUNTIFS('Daily Diary'!A:A,'Grafico Strategie Settimanali'!B72,'Daily Diary'!E:E,\"GT 110\",'Daily Diary'!E:E,\"GT 110\",'Daily Diary'!K:K,\"WIN\")","v":0},{"$f":"COUNTIFS('Daily Diary'!A:A,'Grafico Strategie Settimanali'!B72,'Daily Diary'!E:E,\"ALERT GOAL\",'Daily Diary'!E:E,\"ALERT GOAL\",'Daily Diary'!K:K,\"WIN\")","v":0},{"$f":"COUNTIFS('Daily Diary'!A:A,'Grafico Strategie Settimanali'!B72,'Daily Diary'!E:E,\"DRAW NO BET\",'Daily Diary'!E:E,\"DRAW NO BET\",'Daily Diary'!K:K,\"WIN\")","v":0},{"$f":"COUNTIFS('Daily Diary'!A:A,'Grafico Strategie Settimanali'!B72,'Daily Diary'!E:E,\"ALTRO\",'Daily Diary'!E:E,\"ALTRO\",'Daily Diary'!K:K,\"WIN\")","v":0},{"$error":"#DIV/0!"},{"$error":"#DIV/0!"},{"$error":"#DIV/0!"},{"$error":"#DIV/0!"},{"$error":"#DIV/0!"},{"$error":"#DIV/0!"},{"$error":"#DIV/0!"},{"$error":"#DIV/0!"},{"$error":"#DIV/0!"},{"$error":"#DIV/0!"},{"$error":"#DIV/0!"},{"$error":"#DIV/0!"}]
[0,"2023-07-14",{"$f":"COUNTIFS('Daily Diary'!A:A,'Grafico Strategie Settimanali'!B73,'Daily Diary'!E:E,\"BANCA PAREGGIO\")","v":0},{"$f":"COUNTIFS('Daily Diary'!A:A,'Grafico Strategie Settimanali'!B73,'Daily Diary'!E:E,\"PUNTA SQ.CASA\")","v":0},{"$f":"COUNTIFS('Daily Diary'!A:A,'Grafico Strategie Settimanali'!B73,'Daily Diary'!E:E,\"PUNTA SQ.OSPITE\")","v":0},{"$f":"COUNTIFS('Daily Diary'!A:A,'Grafico Strategie Settimanali'!B73,'Daily Diary'!E:E,\"BANCA SFAVORITA\")","v":0},{"$f":"COUNTIFS('Daily Diary'!A:A,'Grafico Strategie Settimanali'!B73,'Daily Diary'!E:E,\"PUNTA OVER\")","v":0},{"$f":"COUNTIFS('Daily Diary'!A:A,'Grafico Strategie Settimanali'!B73,'Daily Diary'!E:E,\"PUNTA UNDER\")","v":0},{"$f":"COUNTIFS('Daily Diary'!A:A,'Grafico Strategie Settimanali'!B73,'Daily Diary'!E:E,\"SCALPING\")","v":0},{"$f":"COUNTIFS('Daily Diary'!A:A,'Grafico Strategie Settimanali'!B73,'Daily Diary'!E:E,\"GT90\")","v":0},{"$f":"COUNTIFS('Daily Diary'!A:A,'Grafico Strategie Settimanali'!B73,'Daily Diary'!E:E,\"GT110\")","v":0},{"$f":"COUNTIFS('Daily Diary'!A:A,'Grafico Strategie Settimanali'!B73,'Daily Diary'!E:E,\"ALERT GOAL\")","v":0},{"$f":"COUNTIFS('Daily Diary'!A:A,'Grafico Strategie Settimanali'!B73,'Daily Diary'!E:E,\"DRAW NO BET\")","v":0},{"$f":"COUNTIFS('Daily Diary'!A:A,'Grafico Strategie Settimanali'!B73,'Daily Diary'!E:E,\"ALTRO\")","v":0},{"$f":"COUNTIFS('Daily Diary'!A:A,'Grafico Strategie Settimanali'!B73,'Daily Diary'!E:E,\"BANCA PAREGGIO\",'Daily Diary'!E:E,\"BANCA PAREGGIO\",'Daily Diary'!K:K,\"WIN\")","v":0},{"$f":"COUNTIFS('Daily Diary'!A:A,'Grafico Strategie Settimanali'!B73,'Daily Diary'!E:E,\"PUNTA SQ.CASA\",'Daily Diary'!E:E,\"PUNTA SQ.CASA\",'Daily Diary'!K:K,\"WIN\")","v":0},{"$f":"COUNTIFS('Daily Diary'!A:A,'Grafico Strategie Settimanali'!B73,'Daily Diary'!E:E,\"PUNTA SQ.OSPITE\",'Daily Diary'!E:E,\"PUNTA SQ.OSPITE\",'Daily Diary'!K:K,\"WIN\")","v":0},{"$f":"COUNTIFS('Daily Diary'!A:A,'Grafico Strategie Settimanali'!B73,'Daily Diary'!E:E,\"BANCA SFAVORITA\",'Daily Diary'!E:E,\"BANCA SFAVORITA\",'Daily Diary'!K:K,\"WIN\")","v":0},{"$f":"COUNTIFS('Daily Diary'!A:A,'Grafico Strategie Settimanali'!B73,'Daily Diary'!E:E,\"PUNTA OVER\",'Daily Diary'!E:E,\"PUNTA OVER\",'Daily Diary'!K:K,\"WIN\")","v":0},{"$f":"COUNTIFS('Daily Diary'!A:A,'Grafico Strategie Settimanali'!B73,'Daily Diary'!E:E,\"PUNTA UNDER\",'Daily Diary'!E:E,\"PUNTA UNDER\",'Daily Diary'!K:K,\"WIN\")","v":0},{"$f":"COUNTIFS('Daily Diary'!A:A,'Grafico Strategie Settimanali'!B73,'Daily Diary'!E:E,\"SCALPING\",'Daily Diary'!E:E,\"SCALPING\",'Daily Diary'!K:K,\"WIN\")","v":0},{"$f":"COUNTIFS('Daily Diary'!A:A,'Grafico Strategie Settimanali'!B73,'Daily Diary'!E:E,\"GT 90\",'Daily Diary'!E:E,\"GT 90\",'Daily Diary'!K:K,\"WIN\")","v":0},{"$f":"COUNTIFS('Daily Diary'!A:A,'Grafico Strategie Settimanali'!B73,'Daily Diary'!E:E,\"GT 110\",'Daily Diary'!E:E,\"GT 110\",'Daily Diary'!K:K,\"WIN\")","v":0},{"$f":"COUNTIFS('Daily Diary'!A:A,'Grafico Strategie Settimanali'!B73,'Daily Diary'!E:E,\"ALERT GOAL\",'Daily Diary'!E:E,\"ALERT GOAL\",'Daily Diary'!K:K,\"WIN\")","v":0},{"$f":"COUNTIFS('Daily Diary'!A:A,'Grafico Strategie Settimanali'!B73,'Daily Diary'!E:E,\"DRAW NO BET\",'Daily Diary'!E:E,\"DRAW NO BET\",'Daily Diary'!K:K,\"WIN\")","v":0},{"$f":"COUNTIFS('Daily Diary'!A:A,'Grafico Strategie Settimanali'!B73,'Daily Diary'!E:E,\"ALTRO\",'Daily Diary'!E:E,\"ALTRO\",'Daily Diary'!K:K,\"WIN\")","v":0},{"$error":"#DIV/0!"},{"$error":"#DIV/0!"},{"$error":"#DIV/0!"},{"$error":"#DIV/0!"},{"$error":"#DIV/0!"},{"$f":"T73/H73","v":{"$error":"#DIV/0!"}},{"$error":"#DIV/0!"},{"$error":"#DIV/0!"},{"$error":"#DIV/0!"},{"$error":"#DIV/0!"},{"$error":"#DIV/0!"},{"$error":"#DIV/0!"}]
[0,"2023-07-15",{"$f":"COUNTIFS('Daily Diary'!A:A,'Grafico Strategie Settimanali'!B74,'Daily Diary'!E:E,\"BANCA PAREGGIO\")","v":0},{"$f":"COUNTIFS('Daily Diary'!A:A,'Grafico Strategie Settimanali'!B74,'Daily Diary'!E:E,\"PUNTA SQ.CASA\")","v":0},{"$f":"COUNTIFS('Daily Diary'!A:A,'Grafico Strategie Settimanali'!B74,'Daily Diary'!E:E,\"PUNTA SQ.OSPITE\")","v":0},{"$f":"COUNTIFS('Daily Diary'!A:A,'Grafico Strategie Settimanali'!B74,'Daily Diary'!E:E,\"BANCA SFAVORITA\")","v":0},{"$f":"COUNTIFS('Daily Diary'!A:A,'Grafico Strategie Settimanali'!B74,'Daily Diary'!E:E,\"PUNTA OVER\")","v":0},{"$f":"COUNTIFS('Daily Diary'!A:A,'Grafico Strategie Settimanali'!B74,'Daily Diary'!E:E,\"PUNTA UNDER\")","v":0},{"$f":"COUNTIFS('Daily Diary'!A:A,'Grafico Strategie Settimanali'!B74,'Daily Diary'!E:E,\"SCALPING\")","v":0},{"$f":"COUNTIFS('Daily Diary'!A:A,'Grafico Strategie Settimanali'!B74,'Daily Diary'!E:E,\"GT90\")","v":0},{"$f":"COUNTIFS('Daily Diary'!A:A,'Grafico Strategie Settimanali'!B74,'Daily Diary'!E:E,\"GT110\")","v":0},{"$f":"COUNTIFS('Daily Diary'!A:A,'Grafico Strategie Settimanali'!B74,'Daily Diary'!E:E,\"ALERT GOAL\")","v":0},{"$f":"COUNTIFS('Daily Diary'!A:A,'Grafico Strategie Settimanali'!B74,'Daily Diary'!E:E,\"DRAW NO BET\")","v":0},{"$f":"COUNTIFS('Daily Diary'!A:A,'Grafico Strategie Settimanali'!B74,'Daily Diary'!E:E,\"ALTRO\")","v":0},{"$f":"COUNTIFS('Daily Diary'!A:A,'Grafico Strategie Settimanali'!B74,'Daily Diary'!E:E,\"BANCA PAREGGIO\",'Daily Diary'!E:E,\"BANCA PAREGGIO\",'Daily Diary'!K:K,\"WIN\")","v":0},{"$f":"COUNTIFS('Daily Diary'!A:A,'Grafico Strategie Settimanali'!B74,'Daily Diary'!E:E,\"PUNTA SQ.CASA\",'Daily Diary'!E:E,\"PUNTA SQ.CASA\",'Daily Diary'!K:K,\"WIN\")","v":0},{"$f":"COUNTIFS('Daily Diary'!A:A,'Grafico Strategie Settimanali'!B74,'Daily Diary'!E:E,\"PUNTA SQ.OSPITE\",'Daily Diary'!E:E,\"PUNTA SQ.OSPITE\",'Daily Diary'!K:K,\"WIN\")","v":0},{"$f":"COUNTIFS('Daily Diary'!A:A,'Grafico Strategie Settimanali'!B74,'Daily Diary'!E:E,\"BANCA SFAVORITA\",'Daily Diary'!E:E,\"BANCA SFAVORITA\",'Daily Diary'!K:K,\"WIN\")","v":0},{"$f":"COUNTIFS('Daily Diary'!A:A,'Grafico Strategie Settimanali'!B74,'Daily Diary'!E:E,\"PUNTA OVER\",'Daily Diary'!E:E,\"PUNTA OVER\",'Daily Diary'!K:K,\"WIN\")","v":0},{"$f":"COUNTIFS('Daily Diary'!A:A,'Grafico Strategie Settimanali'!B74,'Daily Diary'!E:E,\"PUNTA UNDER\",'Daily Diary'!E:E,\"PUNTA UNDER\",'Daily Diary'!K:K,\"WIN\")","v":0},{"$f":"COUNTIFS('Daily Diary'!A:A,'Grafico Strategie Settimanali'!B74,'Daily Diary'!E:E,\"SCALPING\",'Daily Diary'!E:E,\"SCALPING\",'Daily Diary'!K:K,\"WIN\")","v":0},{"$f":"COUNTIFS('Daily Diary'!A:A,'Grafico Strategie Settimanali'!B74,'Daily Diary'!E:E,\"GT 90\",'Daily Diary'!E:E,\"GT 90\",'Daily Diary'!K:K,\"WIN\")","v":0},{"$f":"COUNTIFS('Daily Diary'!A:A,'Grafico Strategie Settimanali'!B74,'Daily Diary'!E:E,\"GT 110\",'Daily Diary'!E:E,\"GT 110\",'Daily Diary'!K:K,\"WIN\")","v":0},{"$f":"COUNTIFS('Daily Diary'!A:A,'Grafico Strategie Settimanali'!B74,'Daily Diary'!E:E,\"ALERT GOAL\",'Daily Diary'!E:E,\"ALERT GOAL\",'Daily Diary'!K:K,\"WIN\")","v":0},{"$f":"COUNTIFS('Daily Diary'!A:A,'Grafico Strategie Settimanali'!B74,'Daily Diary'!E:E,\"DRAW NO BET\",'Daily Diary'!E:E,\"DRAW NO BET\",'Daily Diary'!K:K,\"WIN\")","v":0},{"$f":"COUNTIFS('Daily Diary'!A:A,'Grafico Strategie Settimanali'!B74,'Daily Diary'!E:E,\"ALTRO\",'Daily Diary'!E:E,\"ALTRO\",'Daily Diary'!K:K,\"WIN\")","v":0},{"$error":"#DIV/0!"},{"$error":"#DIV/0!"},{"$error":"#DIV/0!"},{"$error":"#DIV/0!"},{"$error":"#DIV/0!"},{"$error":"#DIV/0!"},{"$error":"#DIV/0!"},{"$error":"#DIV/0!"},{"$error":"#DIV/0!"},{"$error":"#DIV/0!"},{"$error":"#DIV/0!"},{"$error":"#DIV/0!"}]
[0,"2023-07-16",{"$f":"COUNTIFS('Daily Diary'!A:A,'Grafico Strategie Settimanali'!B75,'Daily Diary'!E:E,\"BANCA PAREGGIO\")","v":0},{"$f":"COUNTIFS('Daily Diary'!A:A,'Grafico Strategie Settimanali'!B75,'Daily Diary'!E:E,\"PUNTA SQ.CASA\")","v":0},{"$f":"COUNTIFS('Daily Diary'!A:A,'Grafico Strategie Settimanali'!B75,'Daily Diary'!E:E,\"PUNTA SQ.OSPITE\")","v":0},{"$f":"COUNTIFS('Daily Diary'!A:A,'Grafico Strategie Settimanali'!B75,'Daily Diary'!E:E,\"BANCA SFAVORITA\")","v":0},{"$f":"COUNTIFS('Daily Diary'!A:A,'Grafico Strategie Settimanali'!B75,'Daily Diary'!E:E,\"PUNTA OVER\")","v":0},{"$f":"COUNTIFS('Daily Diary'!A:A,'Grafico Strategie Settimanali'!B75,'Daily Diary'!E:E,\"PUNTA UNDER\")","v":0},{"$f":"COUNTIFS('Daily Diary'!A:A,'Grafico Strategie Settimanali'!B75,'Daily Diary'!E:E,\"SCALPING\")","v":0},{"$f":"COUNTIFS('Daily Diary'!A:A,'Grafico Strategie Settimanali'!B75,'Daily Diary'!E:E,\"GT90\")","v":0},{"$f":"COUNTIFS('Daily Diary'!A:A,'Grafico Strategie Settimanali'!B75,'Daily Diary'!E:E,\"GT110\")","v":0},{"$f":"COUNTIFS('Daily Diary'!A:A,'Grafico Strategie Settimanali'!B75,'Daily Diary'!E:E,\"ALERT GOAL\")","v":0},{"$f":"COUNTIFS('Daily Diary'!A:A,'Grafico Strategie Settimanali'!B75,'Daily Diary'!E:E,\"DRAW NO BET\")","v":0},{"$f":"COUNTIFS('Daily Diary'!A:A,'Grafico Strategie Settimanali'!B75,'Daily Diary'!E:E,\"ALTRO\")","v":0},{"$f":"COUNTIFS('Daily Diary'!A:A,'Grafico Strategie Settimanali'!B75,'Daily Diary'!E:E,\"BANCA PAREGGIO\",'Daily Diary'!E:E,\"BANCA PAREGGIO\",'Daily Diary'!K:K,\"WIN\")","v":0},{"$f":"COUNTIFS('Daily Diary'!A:A,'Grafico Strategie Settimanali'!B75,'Daily Diary'!E:E,\"PUNTA SQ.CASA\",'Daily Diary'!E:E,\"PUNTA SQ.CASA\",'Daily Diary'!K:K,\"WIN\")","v":0},{"$f":"COUNTIFS('Daily Diary'!A:A,'Grafico Strategie Settimanali'!B75,'Daily Diary'!E:E,\"PUNTA SQ.OSPITE\",'Daily Diary'!E:E,\"PUNTA SQ.OSPITE\",'Daily Diary'!K:K,\"WIN\")","v":0},{"$f":"COUNTIFS('Daily Diary'!A:A,'Grafico Strategie Settimanali'!B75,'Daily Diary'!E:E,\"BANCA SFAVORITA\",'Daily Diary'!E:E,\"BANCA SFAVORITA\",'Daily Diary'!K:K,\"WIN\")","v":0},{"$f":"COUNTIFS('Daily Diary'!A:A,'Grafico Strategie Settimanali'!B75,'Daily Diary'!E:E,\"PUNTA OVER\",'Daily Diary'!E:E,\"PUNTA OVER\",'Daily Diary'!K:K,\"WIN\")","v":0},{"$f":"COUNTIFS('Daily Diary'!A:A,'Grafico Strategie Settimanali'!B75,'Daily Diary'!E:E,\"PUNTA UNDER\",'Daily Diary'!E:E,\"PUNTA UNDER\",'Daily Diary'!K:K,\"WIN\")","v":0},{"$f":"COUNTIFS('Daily Diary'!A:A,'Grafico Strategie Settimanali'!B75,'Daily Diary'!E:E,\"SCALPING\",'Daily Diary'!E:E,\"SCALPING\",'Daily Diary'!K:K,\"WIN\")","v":0},{"$f":"COUNTIFS('Daily Diary'!A:A,'Grafico Strategie Settimanali'!B75,'Daily Diary'!E:E,\"GT 90\",'Daily Diary'!E:E,\"GT 90\",'Daily Diary'!K:K,\"WIN\")","v":0},{"$f":"COUNTIFS('Daily Diary'!A:A,'Grafico Strategie Settimanali'!B75,'Daily Diary'!E:E,\"GT 110\",'Daily Diary'!E:E,\"GT 110\",'Daily Diary'!K:K,\"WIN\")","v":0},{"$f":"COUNTIFS('Daily Diary'!A:A,'Grafico Strategie Settimanali'!B75,'Daily Diary'!E:E,\"ALERT GOAL\",'Daily Diary'!E:E,\"ALERT GOAL\",'Daily Diary'!K:K,\"WIN\")","v":0},{"$f":"COUNTIFS('Daily Diary'!A:A,'Grafico Strategie Settimanali'!B75,'Daily Diary'!E:E,\"DRAW NO BET\",'Daily Diary'!E:E,\"DRAW NO BET\",'Daily Diary'!K:K,\"WIN\")","v":0},{"$f":"COUNTIFS('Daily Diary'!A:A,'Grafico Strategie Settimanali'!B75,'Daily Diary'!E:E,\"ALTRO\",'Daily Diary'!E:E,\"ALTRO\",'Daily Diary'!K:K,\"WIN\")","v":0},{"$error":"#DIV/0!"},{"$error":"#DIV/0!"},{"$error":"#DIV/0!"},{"$error":"#DIV/0!"},{"$error":"#DIV/0!"},{"$error":"#DIV/0!"},{"$error":"#DIV/0!"},{"$error":"#DIV/0!"},{"$error":"#DIV/0!"},{"$error":"#DIV/0!"},{"$error":"#DIV/0!"},{"$error":"#DIV/0!"}]
[0,"2023-07-17",{"$f":"COUNTIFS('Daily Diary'!A:A,'Grafico Strategie Settimanali'!B76,'Daily Diary'!E:E,\"BANCA PAREGGIO\")","v":0},{"$f":"COUNTIFS('Daily Diary'!A:A,'Grafico Strategie Settimanali'!B76,'Daily Diary'!E:E,\"PUNTA SQ.CASA\")","v":0},{"$f":"COUNTIFS('Daily Diary'!A:A,'Grafico Strategie Settimanali'!B76,'Daily Diary'!E:E,\"PUNTA SQ.OSPITE\")","v":0},{"$f":"COUNTIFS('Daily Diary'!A:A,'Grafico Strategie Settimanali'!B76,'Daily Diary'!E:E,\"BANCA SFAVORITA\")","v":0},{"$f":"COUNTIFS('Daily Diary'!A:A,'Grafico Strategie Settimanali'!B76,'Daily Diary'!E:E,\"PUNTA OVER\")","v":0},{"$f":"COUNTIFS('Daily Diary'!A:A,'Grafico Strategie Settimanali'!B76,'Daily Diary'!E:E,\"PUNTA UNDER\")","v":0},{"$f":"COUNTIFS('Daily Diary'!A:A,'Grafico Strategie Settimanali'!B76,'Daily Diary'!E:E,\"SCALPING\")","v":0},{"$f":"COUNTIFS('Daily Diary'!A:A,'Grafico Strategie Settimanali'!B76,'Daily Diary'!E:E,\"GT90\")","v":0},{"$f":"COUNTIFS('Daily Diary'!A:A,'Grafico Strategie Settimanali'!B76,'Daily Diary'!E:E,\"GT110\")","v":0},{"$f":"COUNTIFS('Daily Diary'!A:A,'Grafico Strategie Settimanali'!B76,'Daily Diary'!E:E,\"ALERT GOAL\")","v":0},{"$f":"COUNTIFS('Daily Diary'!A:A,'Grafico Strategie Settimanali'!B76,'Daily Diary'!E:E,\"DRAW NO BET\")","v":0},{"$f":"COUNTIFS('Daily Diary'!A:A,'Grafico Strategie Settimanali'!B76,'Daily Diary'!E:E,\"ALTRO\")","v":0},{"$f":"COUNTIFS('Daily Diary'!A:A,'Grafico Strategie Settimanali'!B76,'Daily Diary'!E:E,\"BANCA PAREGGIO\",'Daily Diary'!E:E,\"BANCA PAREGGIO\",'Daily Diary'!K:K,\"WIN\")","v":0},{"$f":"COUNTIFS('Daily Diary'!A:A,'Grafico Strategie Settimanali'!B76,'Daily Diary'!E:E,\"PUNTA SQ.CASA\",'Daily Diary'!E:E,\"PUNTA SQ.CASA\",'Daily Diary'!K:K,\"WIN\")","v":0},{"$f":"COUNTIFS('Daily Diary'!A:A,'Grafico Strategie Settimanali'!B76,'Daily Diary'!E:E,\"PUNTA SQ.OSPITE\",'Daily Diary'!E:E,\"PUNTA SQ.OSPITE\",'Daily Diary'!K:K,\"WIN\")","v":0},{"$f":"COUNTIFS('Daily Diary'!A:A,'Grafico Strategie Settimanali'!B76,'Daily Diary'!E:E,\"BANCA SFAVORITA\",'Daily Diary'!E:E,\"BANCA SFAVORITA\",'Daily Diary'!K:K,\"WIN\")","v":0},{"$f":"COUNTIFS('Daily Diary'!A:A,'Grafico Strategie Settimanali'!B76,'Daily Diary'!E:E,\"PUNTA OVER\",'Daily Diary'!E:E,\"PUNTA OVER\",'Daily Diary'!K:K,\"WIN\")","v":0},{"$f":"COUNTIFS('Daily Diary'!A:A,'Grafico Strategie Settimanali'!B76,'Daily Diary'!E:E,\"PUNTA UNDER\",'Daily Diary'!E:E,\"PUNTA UNDER\",'Daily Diary'!K:K,\"WIN\")","v":0},{"$f":"COUNTIFS('Daily Diary'!A:A,'Grafico Strategie Settimanali'!B76,'Daily Diary'!E:E,\"SCALPING\",'Daily Diary'!E:E,\"SCALPING\",'Daily Diary'!K:K,\"WIN\")","v":0},{"$f":"COUNTIFS('Daily Diary'!A:A,'Grafico Strategie Settimanali'!B76,'Daily Diary'!E:E,\"GT 90\",'Daily Diary'!E:E,\"GT 90\",'Daily Diary'!K:K,\"WIN\")","v":0},{"$f":"COUNTIFS('Daily Diary'!A:A,'Grafico Strategie Settimanali'!B76,'Daily Diary'!E:E,\"GT 110\",'Daily Diary'!E:E,\"GT 110\",'Daily Diary'!K:K,\"WIN\")","v":0},{"$f":"COUNTIFS('Daily Diary'!A:A,'Grafico Strategie Settimanali'!B76,'Daily Diary'!E:E,\"ALERT GOAL\",'Daily Diary'!E:E,\"ALERT GOAL\",'Daily Diary'!K:K,\"WIN\")","v":0},{"$f":"COUNTIFS('Daily Diary'!A:A,'Grafico Strategie Settimanali'!B76,'Daily Diary'!E:E,\"DRAW NO BET\",'Daily Diary'!E:E,\"DRAW NO BET\",'Daily Diary'!K:K,\"WIN\")","v":0},{"$f":"COUNTIFS('Daily Diary'!A:A,'Grafico Strategie Settimanali'!B76,'Daily Diary'!E:E,\"ALTRO\",'Daily Diary'!E:E,\"ALTRO\",'Daily Diary'!K:K,\"WIN\")","v":0},{"$error":"#DIV/0!"},{"$error":"#DIV/0!"},{"$error":"#DIV/0!"},{"$error":"#DIV/0!"},{"$error":"#DIV/0!"},{"$error":"#DIV/0!"},{"$error":"#DIV/0!"},{"$error":"#DIV/0!"},{"$error":"#DIV/0!"},{"$error":"#DIV/0!"},{"$error":"#DIV/0!"},{"$error":"#DIV/0!"}]
[0,"2023-07-18",{"$f":"COUNTIFS('Daily Diary'!A:A,'Grafico Strategie Settimanali'!B77,'Daily Diary'!E:E,\"BANCA PAREGGIO\")","v":0},{"$f":"COUNTIFS('Daily Diary'!A:A,'Grafico Strategie Settimanali'!B77,'Daily Diary'!E:E,\"PUNTA SQ.CASA\")","v":0},{"$f":"COUNTIFS('Daily Diary'!A:A,'Grafico Strategie Settimanali'!B77,'Daily Diary'!E:E,\"PUNTA SQ.OSPITE\")","v":0},{"$f":"COUNTIFS('Daily Diary'!A:A,'Grafico Strategie Settimanali'!B77,'Daily Diary'!E:E,\"BANCA SFAVORITA\")","v":0},{"$f":"COUNTIFS('Daily Diary'!A:A,'Grafico Strategie Settimanali'!B77,'Daily Diary'!E:E,\"PUNTA OVER\")","v":0},{"$f":"COUNTIFS('Daily Diary'!A:A,'Grafico Strategie Settimanali'!B77,'Daily Diary'!E:E,\"PUNTA UNDER\")","v":0},{"$f":"COUNTIFS('Daily Diary'!A:A,'Grafico Strategie Settimanali'!B77,'Daily Diary'!E:E,\"SCALPING\")","v":0},{"$f":"COUNTIFS('Daily Diary'!A:A,'Grafico Strategie Settimanali'!B77,'Daily Diary'!E:E,\"GT90\")","v":0},{"$f":"COUNTIFS('Daily Diary'!A:A,'Grafico Strategie Settimanali'!B77,'Daily Diary'!E:E,\"GT110\")","v":0},{"$f":"COUNTIFS('Daily Diary'!A:A,'Grafico Strategie Settimanali'!B77,'Daily Diary'!E:E,\"ALERT GOAL\")","v":0},{"$f":"COUNTIFS('Daily Diary'!A:A,'Grafico Strategie Settimanali'!B77,'Daily Diary'!E:E,\"DRAW NO BET\")","v":0},{"$f":"COUNTIFS('Daily Diary'!A:A,'Grafico Strategie Settimanali'!B77,'Daily Diary'!E:E,\"ALTRO\")","v":0},{"$f":"COUNTIFS('Daily Diary'!A:A,'Grafico Strategie Settimanali'!B77,'Daily Diary'!E:E,\"BANCA PAREGGIO\",'Daily Diary'!E:E,\"BANCA PAREGGIO\",'Daily Diary'!K:K,\"WIN\")","v":0},{"$f":"COUNTIFS('Daily Diary'!A:A,'Grafico Strategie Settimanali'!B77,'Daily Diary'!E:E,\"PUNTA SQ.CASA\",'Daily Diary'!E:E,\"PUNTA SQ.CASA\",'Daily Diary'!K:K,\"WIN\")","v":0},{"$f":"COUNTIFS('Daily Diary'!A:A,'Grafico Strategie Settimanali'!B77,'Daily Diary'!E:E,\"PUNTA SQ.OSPITE\",'Daily Diary'!E:E,\"PUNTA SQ.OSPITE\",'Daily Diary'!K:K,\"WIN\")","v":0},{"$f":"COUNTIFS('Daily Diary'!A:A,'Grafico Strategie Settimanali'!B77,'Daily Diary'!E:E,\"BANCA SFAVORITA\",'Daily Diary'!E:E,\"BANCA SFAVORITA\",'Daily Diary'!K:K,\"WIN\")","v":0},{"$f":"COUNTIFS('Daily Diary'!A:A,'Grafico Strategie Settimanali'!B77,'Daily Diary'!E:E,\"PUNTA OVER\",'Daily Diary'!E:E,\"PUNTA OVER\",'Daily Diary'!K:K,\"WIN\")","v":0},{"$f":"COUNTIFS('Daily Diary'!A:A,'Grafico Strategie Settimanali'!B77,'Daily Diary'!E:E,\"PUNTA UNDER\",'Daily Diary'!E:E,\"PUNTA UNDER\",'Daily Diary'!K:K,\"WIN\")","v":0},{"$f":"COUNTIFS('Daily Diary'!A:A,'Grafico Strategie Settimanali'!B77,'Daily Diary'!E:E,\"SCALPING\",'Daily Diary'!E:E,\"SCALPING\",'Daily Diary'!K:K,\"WIN\")","v":0},{"$f":"COUNTIFS('Daily Diary'!A:A,'Grafico Strategie Settimanali'!B77,'Daily Diary'!E:E,\"GT 90\",'Daily Diary'!E:E,\"GT 90\",'Daily Diary'!K:K,\"WIN\")","v":0},{"$f":"COUNTIFS('Daily Diary'!A:A,'Grafico Strategie Settimanali'!B77,'Daily Diary'!E:E,\"GT 110\",'Daily Diary'!E:E,\"GT 110\",'Daily Diary'!K:K,\"WIN\")","v":0},{"$f":"COUNTIFS('Daily Diary'!A:A,'Grafico Strategie Settimanali'!B77,'Daily Diary'!E:E,\"ALERT GOAL\",'Daily Diary'!E:E,\"ALERT GOAL\",'Daily Diary'!K:K,\"WIN\")","v":0},{"$f":"COUNTIFS('Daily Diary'!A:A,'Grafico Strategie Settimanali'!B77,'Daily Diary'!E:E,\"DRAW NO BET\",'Daily Diary'!E:E,\"DRAW NO BET\",'Daily Diary'!K:K,\"WIN\")","v":0},{"$f":"COUNTIFS('Daily Diary'!A:A,'Grafico Strategie Settimanali'!B77,'Daily Diary'!E:E,\"ALTRO\",'Daily Diary'!E:E,\"ALTRO\",'Daily Diary'!K:K,\"WIN\")","v":0},{"$error":"#DIV/0!"},{"$error":"#DIV/0!"},{"$error":"#DIV/0!"},{"$error":"#DIV/0!"},{"$error":"#DIV/0!"},{"$error":"#DIV/0!"},{"$error":"#DIV/0!"},{"$error":"#DIV/0!"},{"$error":"#DIV/0!"},{"$error":"#DIV/0!"},{"$error":"#DIV/0!"},{"$error":"#DIV/0!"}]
[0,"2023-07-19",{"$f":"COUNTIFS('Daily Diary'!A:A,'Grafico Strategie Settimanali'!B78,'Daily Diary'!E:E,\"BANCA PAREGGIO\")","v":0},{"$f":"COUNTIFS('Daily Diary'!A:A,'Grafico Strategie Settimanali'!B78,'Daily Diary'!E:E,\"PUNTA SQ.CASA\")","v":0},{"$f":"COUNTIFS('Daily Diary'!A:A,'Grafico Strategie Settimanali'!B78,'Daily Diary'!E:E,\"PUNTA SQ.OSPITE\")","v":0},{"$f":"COUNTIFS('Daily Diary'!A:A,'Grafico Strategie Settimanali'!B78,'Daily Diary'!E:E,\"BANCA SFAVORITA\")","v":0},{"$f":"COUNTIFS('Daily Diary'!A:A,'Grafico Strategie Settimanali'!B78,'Daily Diary'!E:E,\"PUNTA OVER\")","v":0},{"$f":"COUNTIFS('Daily Diary'!A:A,'Grafico Strategie Settimanali'!B78,'Daily Diary'!E:E,\"PUNTA UNDER\")","v":0},{"$f":"COUNTIFS('Daily Diary'!A:A,'Grafico Strategie Settimanali'!B78,'Daily Diary'!E:E,\"SCALPING\")","v":0},{"$f":"COUNTIFS('Daily Diary'!A:A,'Grafico Strategie Settimanali'!B78,'Daily Diary'!E:E,\"GT90\")","v":0},{"$f":"COUNTIFS('Daily Diary'!A:A,'Grafico Strategie Settimanali'!B78,'Daily Diary'!E:E,\"GT110\")","v":0},{"$f":"COUNTIFS('Daily Diary'!A:A,'Grafico Strategie Settimanali'!B78,'Daily Diary'!E:E,\"ALERT GOAL\")","v":0},{"$f":"COUNTIFS('Daily Diary'!A:A,'Grafico Strategie Settimanali'!B78,'Daily Diary'!E:E,\"DRAW NO BET\")","v":0},{"$f":"COUNTIFS('Daily Diary'!A:A,'Grafico Strategie Settimanali'!B78,'Daily Diary'!E:E,\"ALTRO\")","v":0},{"$f":"COUNTIFS('Daily Diary'!A:A,'Grafico Strategie Settimanali'!B78,'Daily Diary'!E:E,\"BANCA PAREGGIO\",'Daily Diary'!E:E,\"BANCA PAREGGIO\",'Daily Diary'!K:K,\"WIN\")","v":0},{"$f":"COUNTIFS('Daily Diary'!A:A,'Grafico Strategie Settimanali'!B78,'Daily Diary'!E:E,\"PUNTA SQ.CASA\",'Daily Diary'!E:E,\"PUNTA SQ.CASA\",'Daily Diary'!K:K,\"WIN\")","v":0},{"$f":"COUNTIFS('Daily Diary'!A:A,'Grafico Strategie Settimanali'!B78,'Daily Diary'!E:E,\"PUNTA SQ.OSPITE\",'Daily Diary'!E:E,\"PUNTA SQ.OSPITE\",'Daily Diary'!K:K,\"WIN\")","v":0},{"$f":"COUNTIFS('Daily Diary'!A:A,'Grafico Strategie Settimanali'!B78,'Daily Diary'!E:E,\"BANCA SFAVORITA\",'Daily Diary'!E:E,\"BANCA SFAVORITA\",'Daily Diary'!K:K,\"WIN\")","v":0},{"$f":"COUNTIFS('Daily Diary'!A:A,'Grafico Strategie Settimanali'!B78,'Daily Diary'!E:E,\"PUNTA OVER\",'Daily Diary'!E:E,\"PUNTA OVER\",'Daily Diary'!K:K,\"WIN\")","v":0},{"$f":"COUNTIFS('Daily Diary'!A:A,'Grafico Strategie Settimanali'!B78,'Daily Diary'!E:E,\"PUNTA UNDER\",'Daily Diary'!E:E,\"PUNTA UNDER\",'Daily Diary'!K:K,\"WIN\")","v":0},{"$f":"COUNTIFS('Daily Diary'!A:A,'Grafico Strategie Settimanali'!B78,'Daily Diary'!E:E,\"SCALPING\",'Daily Diary'!E:E,\"SCALPING\",'Daily Diary'!K:K,\"WIN\")","v":0},{"$f":"COUNTIFS('Daily Diary'!A:A,'Grafico Strategie Settimanali'!B78,'Daily Diary'!E:E,\"GT 90\",'Daily Diary'!E:E,\"GT 90\",'Daily Diary'!K:K,\"WIN\")","v":0},{"$f":"COUNTIFS('Daily Diary'!A:A,'Grafico Strategie Settimanali'!B78,'Daily Diary'!E:E,\"GT 110\",'Daily Diary'!E:E,\"GT 110\",'Daily Diary'!K:K,\"WIN\")","v":0},{"$f":"COUNTIFS('Daily Diary'!A:A,'Grafico Strategie Settimanali'!B78,'Daily Diary'!E:E,\"ALERT GOAL\",'Daily Diary'!E:E,\"ALERT GOAL\",'Daily Diary'!K:K,\"WIN\")","v":0},{"$f":"COUNTIFS('Daily Diary'!A:A,'Grafico Strategie Settimanali'!B78,'Daily Diary'!E:E,\"DRAW NO BET\",'Daily Diary'!E:E,\"DRAW NO BET\",'Daily Diary'!K:K,\"WIN\")","v":0},{"$f":"COUNTIFS('Daily Diary'!A:A,'Grafico Strategie Settimanali'!B78,'Daily Diary'!E:E,\"ALTRO\",'Daily Diary'!E:E,\"ALTRO\",'Daily Diary'!K:K,\"WIN\")","v":0},{"$f":"O78/C78","v":{"$error":"#DIV/0!"}},{"$f":"P78/D78","v":{"$error":"#DIV/0!"}},{"$error":"#DIV/0!"},{"$error":"#DIV/0!"},{"$error":"#DIV/0!"},{"$error":"#DIV/0!"},{"$error":"#DIV/0!"},{"$error":"#DIV/0!"},{"$error":"#DIV/0!"},{"$error":"#DIV/0!"},{"$error":"#DIV/0!"},{"$error":"#DIV/0!"}]
[{"$f":"SUM(C79:N79)","v":0},{"$f":"B78+1","v":"2023-07-20"},{"$f":"COUNTIFS('Daily Diary'!A:A,'Grafico Strategie Settimanali'!B79,'Daily Diary'!E:E,\"BANCA PAREGGIO\")","v":0},{"$f":"COUNTIFS('Daily Diary'!A:A,'Grafico Strategie Settimanali'!B79,'Daily Diary'!E:E,\"PUNTA SQ.CASA\")","v":0},{"$f":"COUNTIFS('Daily Diary'!A:A,'Grafico Strategie Settimanali'!B79,'Daily Diary'!E:E,\"PUNTA SQ.OSPITE\")","v":0},{"$f":"COUNTIFS('Daily Diary'!A:A,'Grafico Strategie Settimanali'!B79,'Daily Diary'!E:E,\"BANCA SFAVORITA\")","v":0},{"$f":"COUNTIFS('Daily Diary'!A:A,'Grafico Strategie Settimanali'!B79,'Daily Diary'!E:E,\"PUNTA OVER\")","v":0},{"$f":"COUNTIFS('Daily Diary'!A:A,'Grafico Strategie Settimanali'!B79,'Daily Diary'!E:E,\"PUNTA UNDER\")","v":0},{"$f":"COUNTIFS('Daily Diary'!A:A,'Grafico Strategie Settimanali'!B79,'Daily Diary'!E:E,\"SCALPING\")","v":0},{"$f":"COUNTIFS('Daily Diary'!A:A,'Grafico Strategie Settimanali'!B79,'Daily Diary'!E:E,\"GT90\")","v":0},{"$f":"COUNTIFS('Daily Diary'!A:A,'Grafico Strategie Settimanali'!B79,'Daily Diary'!E:E,\"GT110\")","v":0},{"$f":"COUNTIFS('Daily Diary'!A:A,'Grafico Strategie Settimanali'!B79,'Daily Diary'!E:E,\"ALERT GOAL\")","v":0},{"$f":"COUNTIFS('Daily Diary'!A:A,'Grafico Strategie Settimanali'!B79,'Daily Diary'!E:E,\"DRAW NO BET\")","v":0},{"$f":"COUNTIFS('Daily Diary'!A:A,'Grafico Strategie Settimanali'!B79,'Daily Diary'!E:E,\"ALTRO\")","v":0},{"$f":"COUNTIFS('Daily Diary'!A:A,'Grafico Strategie Settimanali'!B79,'Daily Diary'!E:E,\"BANCA PAREGGIO\",'Daily Diary'!E:E,\"BANCA PAREGGIO\",'Daily Diary'!K:K,\"WIN\")","v":0},{"$f":"COUNTIFS('Daily Diary'!A:A,'Grafico Strategie Settimanali'!B79,'Daily Diary'!E:E,\"PUNTA SQ.CASA\",'Daily Diary'!E:E,\"PUNTA SQ.CASA\",'Daily Diary'!K:K,\"WIN\")","v":0},{"$f":"COUNTIFS('Daily Diary'!A:A,'Grafico Strategie Settimanali'!B79,'Daily Diary'!E:E,\"PUNTA SQ.OSPITE\",'Daily Diary'!E:E,\"PUNTA SQ.OSPITE\",'Daily Diary'!K:K,\"WIN\")","v":0},{"$f":"COUNTIFS('Daily Diary'!A:A,'Grafico Strategie Settimanali'!B79,'Daily Diary'!E:E,\"BANCA SFAVORITA\",'Daily Diary'!E:E,\"BANCA SFAVORITA\",'Daily Diary'!K:K,\"WIN\")","v":0},{"$f":"COUNTIFS('Daily Diary'!A:A,'Grafico Strategie Settimanali'!B79,'Daily Diary'!E:E,\"PUNTA OVER\",'Daily Diary'!E:E,\"PUNTA OVER\",'Daily Diary'!K:K,\"WIN\")","v":0},{"$f":"COUNTIFS('Daily Diary'!A:A,'Grafico Strategie Settimanali'!B79,'Daily Diary'!E:E,\"PUNTA UNDER\",'Daily Diary'!E:E,\"PUNTA UNDER\",'Daily Diary'!K:K,\"WIN\")","v":0},{"$f":"COUNTIFS('Daily Diary'!A:A,'Grafico Strategie Settimanali'!B79,'Daily Diary'!E:E,\"SCALPING\",'Daily Diary'!E:E,\"SCALPING\",'Daily Diary'!K:K,\"WIN\")","v":0},{"$f":"COUNTIFS('Daily Diary'!A:A,'Grafico Strategie Settimanali'!B79,'Daily Diary'!E:E,\"GT 90\",'Daily Diary'!E:E,\"GT 90\",'Daily Diary'!K:K,\"WIN\")","v":0},{"$f":"COUNTIFS('Daily Diary'!A:A,'Grafico Strategie Settimanali'!B79,'Daily Diary'!E:E,\"GT 110\",'Daily Diary'!E:E,\"GT 110\",'Daily Diary'!K:K,\"WIN\")","v":0},{"$f":"COUNTIFS('Daily Diary'!A:A,'Grafico Strategie Settimanali'!B79,'Daily Diary'!E:E,\"ALERT GOAL\",'Daily Diary'!E:E,\"ALERT GOAL\",'Daily Diary'!K:K,\"WIN\")","v":0},{"$f":"COUNTIFS('Daily Diary'!A:A,'Grafico Strategie Settimanali'!B79,'Daily Diary'!E:E,\"DRAW NO BET\",'Daily Diary'!E:E,\"DRAW NO BET\",'Daily Diary'!K:K,\"WIN\")","v":0},{"$f":"COUNTIFS('Daily Diary'!A:A,'Grafico Strategie Settimanali'!B79,'Daily Diary'!E:E,\"ALTRO\",'Daily Diary'!E:E,\"ALTRO\",'Daily Diary'!K:K,\"WIN\")","v":0},{"$error":"#DIV/0!"},{"$error":"#DIV/0!"},{"$error":"#DIV/0!"},{"$error":"#DIV/0!"},{"$error":"#DIV/0!"},{"$error":"#DIV/0!"},{"$error":"#DIV/0!"},{"$error":"#DIV/0!"},{"$error":"#DIV/0!"},{"$error":"#DIV/0!"},{"$error":"#DIV/0!"},{"$error":"#DIV/0!"}]
[0,"2023-07-21",{"$f":"COUNTIFS('Daily Diary'!A:A,'Grafico Strategie Settimanali'!B80,'Daily Diary'!E:E,\"BANCA PAREGGIO\")","v":0},{"$f":"COUNTIFS('Daily Diary'!A:A,'Grafico Strategie Settimanali'!B80,'Daily Diary'!E:E,\"PUNTA SQ.CASA\")","v":0},{"$f":"COUNTIFS('Daily Diary'!A:A,'Grafico Strategie Settimanali'!B80,'Daily Diary'!E:E,\"PUNTA SQ.OSPITE\")","v":0},{"$f":"COUNTIFS('Daily Diary'!A:A,'Grafico Strategie Settimanali'!B80,'Daily Diary'!E:E,\"BANCA SFAVORITA\")","v":0},{"$f":"COUNTIFS('Daily Diary'!A:A,'Grafico Strategie Settimanali'!B80,'Daily Diary'!E:E,\"PUNTA OVER\")","v":0},{"$f":"COUNTIFS('Daily Diary'!A:A,'Grafico Strategie Settimanali'!B80,'Daily Diary'!E:E,\"PUNTA UNDER\")","v":0},{"$f":"COUNTIFS('Daily Diary'!A:A,'Grafico Strategie Settimanali'!B80,'Daily Diary'!E:E,\"SCALPING\")","v":0},{"$f":"COUNTIFS('Daily Diary'!A:A,'Grafico Strategie Settimanali'!B80,'Daily Diary'!E:E,\"GT90\")","v":0},{"$f":"COUNTIFS('Daily Diary'!A:A,'Grafico Strategie Settimanali'!B80,'Daily Diary'!E:E,\"GT110\")","v":0},{"$f":"COUNTIFS('Daily Diary'!A:A,'Grafico Strategie Settimanali'!B80,'Daily Diary'!E:E,\"ALERT GOAL\")","v":0},{"$f":"COUNTIFS('Daily Diary'!A:A,'Grafico Strategie Settimanali'!B80,'Daily Diary'!E:E,\"DRAW NO BET\")","v":0},{"$f":"COUNTIFS('Daily Diary'!A:A,'Grafico Strategie Settimanali'!B80,'Daily Diary'!E:E,\"ALTRO\")","v":0},{"$f":"COUNTIFS('Daily Diary'!A:A,'Grafico Strategie Settimanali'!B80,'Daily Diary'!E:E,\"BANCA PAREGGIO\",'Daily Diary'!E:E,\"BANCA PAREGGIO\",'Daily Diary'!K:K,\"WIN\")","v":0},{"$f":"COUNTIFS('Daily Diary'!A:A,'Grafico Strategie Settimanali'!B80,'Daily Diary'!E:E,\"PUNTA SQ.CASA\",'Daily Diary'!E:E,\"PUNTA SQ.CASA\",'Daily Diary'!K:K,\"WIN\")","v":0},{"$f":"COUNTIFS('Daily Diary'!A:A,'Grafico Strategie Settimanali'!B80,'Daily Diary'!E:E,\"PUNTA SQ.OSPITE\",'Daily Diary'!E:E,\"PUNTA SQ.OSPITE\",'Daily Diary'!K:K,\"WIN\")","v":0},{"$f":"COUNTIFS('Daily Diary'!A:A,'Grafico Strategie Settimanali'!B80,'Daily Diary'!E:E,\"BANCA SFAVORITA\",'Daily Diary'!E:E,\"BANCA SFAVORITA\",'Daily Diary'!K:K,\"WIN\")","v":0},{"$f":"COUNTIFS('Daily Diary'!A:A,'Grafico Strategie Settimanali'!B80,'Daily Diary'!E:E,\"PUNTA OVER\",'Daily Diary'!E:E,\"PUNTA OVER\",'Daily Diary'!K:K,\"WIN\")","v":0},{"$f":"COUNTIFS('Daily Diary'!A:A,'Grafico Strategie Settimanali'!B80,'Daily Diary'!E:E,\"PUNTA UNDER\",'Daily Diary'!E:E,\"PUNTA UNDER\",'Daily Diary'!K:K,\"WIN\")","v":0},{"$f":"COUNTIFS('Daily Diary'!A:A,'Grafico Strategie Settimanali'!B80,'Daily Diary'!E:E,\"SCALPING\",'Daily Diary'!E:E,\"SCALPING\",'Daily Diary'!K:K,\"WIN\")","v":0},{"$f":"COUNTIFS('Daily Diary'!A:A,'Grafico Strategie Settimanali'!B80,'Daily Diary'!E:E,\"GT 90\",'Daily Diary'!E:E,\"GT 90\",'Daily Diary'!K:K,\"WIN\")","v":0},{"$f":"COUNTIFS('Daily Diary'!A:A,'Grafico Strategie Settimanali'!B80,'Daily Diary'!E:E,\"GT 110\",'Daily Diary'!E:E,\"GT 110\",'Daily Diary'!K:K,\"WIN\")","v":0},{"$f":"COUNTIFS('Daily Diary'!A:A,'Grafico Strategie Settimanali'!B80,'Daily Diary'!E:E,\"ALERT GOAL\",'Daily Diary'!E:E,\"ALERT GOAL\",'Daily Diary'!K:K,\"WIN\")","v":0},{"$f":"COUNTIFS('Daily Diary'!A:A,'Grafico Strategie Settimanali'!B80,'Daily Diary'!E:E,\"DRAW NO BET\",'Daily Diary'!E:E,\"DRAW NO BET\",'Daily Diary'!K:K,\"WIN\")","v":0},{"$f":"COUNTIFS('Daily Diary'!A:A,'Grafico Strategie Settimanali'!B80,'Daily Diary'!E:E,\"ALTRO\",'Daily Diary'!E:E,\"ALTRO\",'Daily Diary'!K:K,\"WIN\")","v":0},{"$error":"#DIV/0!"},{"$error":"#DIV/0!"},{"$error":"#DIV/0!"},{"$error":"#DIV/0!"},{"$error":"#DIV/0!"},{"$error":"#DIV/0!"},{"$error":"#DIV/0!"},{"$error":"#DIV/0!"},{"$error":"#DIV/0!"},{"$error":"#DIV/0!"},{"$error":"#DIV/0!"},{"$error":"#DIV/0!"}]
[0,"2023-07-22",{"$f":"COUNTIFS('Daily Diary'!A:A,'Grafico Strategie Settimanali'!B81,'Daily Diary'!E:E,\"BANCA PAREGGIO\")","v":0},{"$f":"COUNTIFS('Daily Diary'!A:A,'Grafico Strategie Settimanali'!B81,'Daily Diary'!E:E,\"PUNTA SQ.CASA\")","v":0},{"$f":"COUNTIFS('Daily Diary'!A:A,'Grafico Strategie Settimanali'!B81,'Daily Diary'!E:E,\"PUNTA SQ.OSPITE\")","v":0},{"$f":"COUNTIFS('Daily Diary'!A:A,'Grafico Strategie Settimanali'!B81,'Daily Diary'!E:E,\"BANCA SFAVORITA\")","v":0},{"$f":"COUNTIFS('Daily Diary'!A:A,'Grafico Strategie Settimanali'!B81,'Daily Diary'!E:E,\"PUNTA OVER\")","v":0},{"$f":"COUNTIFS('Daily Diary'!A:A,'Grafico Strategie Settimanali'!B81,'Daily Diary'!E:E,\"PUNTA UNDER\")","v":0},{"$f":"COUNTIFS('Daily Diary'!A:A,'Grafico Strategie Settimanali'!B81,'Daily Diary'!E:E,\"SCALPING\")","v":0},{"$f":"COUNTIFS('Daily Diary'!A:A,'Grafico Strategie Settimanali'!B81,'Daily Diary'!E:E,\"GT90\")","v":0},{"$f":"COUNTIFS('Daily Diary'!A:A,'Grafico Strategie Settimanali'!B81,'Daily Diary'!E:E,\"GT110\")","v":0},{"$f":"COUNTIFS('Daily Diary'!A:A,'Grafico Strategie Settimanali'!B81,'Daily Diary'!E:E,\"ALERT GOAL\")","v":0},{"$f":"COUNTIFS('Daily Diary'!A:A,'Grafico Strategie Settimanali'!B81,'Daily Diary'!E:E,\"DRAW NO BET\")","v":0},{"$f":"COUNTIFS('Daily Diary'!A:A,'Grafico Strategie Settimanali'!B81,'Daily Diary'!E:E,\"ALTRO\")","v":0},{"$f":"COUNTIFS('Daily Diary'!A:A,'Grafico Strategie Settimanali'!B81,'Daily Diary'!E:E,\"BANCA PAREGGIO\",'Daily Diary'!E:E,\"BANCA PAREGGIO\",'Daily Diary'!K:K,\"WIN\")","v":0},{"$f":"COUNTIFS('Daily Diary'!A:A,'Grafico Strategie Settimanali'!B81,'Daily Diary'!E:E,\"PUNTA SQ.CASA\",'Daily Diary'!E:E,\"PUNTA SQ.CASA\",'Daily Diary'!K:K,\"WIN\")","v":0},{"$f":"COUNTIFS('Daily Diary'!A:A,'Grafico Strategie Settimanali'!B81,'Daily Diary'!E:E,\"PUNTA SQ.OSPITE\",'Daily Diary'!E:E,\"PUNTA SQ.OSPITE\",'Daily Diary'!K:K,\"WIN\")","v":0},{"$f":"COUNTIFS('Daily Diary'!A:A,'Grafico Strategie Settimanali'!B81,'Daily Diary'!E:E,\"BANCA SFAVORITA\",'Daily Diary'!E:E,\"BANCA SFAVORITA\",'Daily Diary'!K:K,\"WIN\")","v":0},{"$f":"COUNTIFS('Daily Diary'!A:A,'Grafico Strategie Settimanali'!B81,'Daily Diary'!E:E,\"PUNTA OVER\",'Daily Diary'!E:E,\"PUNTA OVER\",'Daily Diary'!K:K,\"WIN\")","v":0},{"$f":"COUNTIFS('Daily Diary'!A:A,'Grafico Strategie Settimanali'!B81,'Daily Diary'!E:E,\"PUNTA UNDER\",'Daily Diary'!E:E,\"PUNTA UNDER\",'Daily Diary'!K:K,\"WIN\")","v":0},{"$f":"COUNTIFS('Daily Diary'!A:A,'Grafico Strategie Settimanali'!B81,'Daily Diary'!E:E,\"SCALPING\",'Daily Diary'!E:E,\"SCALPING\",'Daily Diary'!K:K,\"WIN\")","v":0},{"$f":"COUNTIFS('Daily Diary'!A:A,'Grafico Strategie Settimanali'!B81,'Daily Diary'!E:E,\"GT 90\",'Daily Diary'!E:E,\"GT 90\",'Daily Diary'!K:K,\"WIN\")","v":0},{"$f":"COUNTIFS('Daily Diary'!A:A,'Grafico Strategie Settimanali'!B81,'Daily Diary'!E:E,\"GT 110\",'Daily Diary'!E:E,\"GT 110\",'Daily Diary'!K:K,\"WIN\")","v":0},{"$f":"COUNTIFS('Daily Diary'!A:A,'Grafico Strategie Settimanali'!B81,'Daily Diary'!E:E,\"ALERT GOAL\",'Daily Diary'!E:E,\"ALERT GOAL\",'Daily Diary'!K:K,\"WIN\")","v":0},{"$f":"COUNTIFS('Daily Diary'!A:A,'Grafico Strategie Settimanali'!B81,'Daily Diary'!E:E,\"DRAW NO BET\",'Daily Diary'!E:E,\"DRAW NO BET\",'Daily Diary'!K:K,\"WIN\")","v":0},{"$f":"COUNTIFS('Daily Diary'!A:A,'Grafico Strategie Settimanali'!B81,'Daily Diary'!E:E,\"ALTRO\",'Daily Diary'!E:E,\"ALTRO\",'Daily Diary'!K:K,\"WIN\")","v":0},{"$error":"#DIV/0!"},{"$error":"#DIV/0!"},{"$error":"#DIV/0!"},{"$error":"#DIV/0!"},{"$error":"#DIV/0!"},{"$error":"#DIV/0!"},{"$error":"#DIV/0!"},{"$error":"#DIV/0!"},{"$error":"#DIV/0!"},{"$error":"#DIV/0!"},{"$error":"#DIV/0!"},{"$error":"#DIV/0!"}]
[0,"2023-07-23",{"$f":"COUNTIFS('Daily Diary'!A:A,'Grafico Strategie Settimanali'!B82,'Daily Diary'!E:E,\"BANCA PAREGGIO\")","v":0},{"$f":"COUNTIFS('Daily Diary'!A:A,'Grafico Strategie Settimanali'!B82,'Daily Diary'!E:E,\"PUNTA SQ.CASA\")","v":0},{"$f":"COUNTIFS('Daily Diary'!A:A,'Grafico Strategie Settimanali'!B82,'Daily Diary'!E:E,\"PUNTA SQ.OSPITE\")","v":0},{"$f":"COUNTIFS('Daily Diary'!A:A,'Grafico Strategie Settimanali'!B82,'Daily Diary'!E:E,\"BANCA SFAVORITA\")","v":0},{"$f":"COUNTIFS('Daily Diary'!A:A,'Grafico Strategie Settimanali'!B82,'Daily Diary'!E:E,\"PUNTA OVER\")","v":0},{"$f":"COUNTIFS('Daily Diary'!A:A,'Grafico Strategie Settimanali'!B82,'Daily Diary'!E:E,\"PUNTA UNDER\")","v":0},{"$f":"COUNTIFS('Daily Diary'!A:A,'Grafico Strategie Settimanali'!B82,'Daily Diary'!E:E,\"SCALPING\")","v":0},{"$f":"COUNTIFS('Daily Diary'!A:A,'Grafico Strategie Settimanali'!B82,'Daily Diary'!E:E,\"GT90\")","v":0},{"$f":"COUNTIFS('Daily Diary'!A:A,'Grafico Strategie Settimanali'!B82,'Daily Diary'!E:E,\"GT110\")","v":0},{"$f":"COUNTIFS('Daily Diary'!A:A,'Grafico Strategie Settimanali'!B82,'Daily Diary'!E:E,\"ALERT GOAL\")","v":0},{"$f":"COUNTIFS('Daily Diary'!A:A,'Grafico Strategie Settimanali'!B82,'Daily Diary'!E:E,\"DRAW NO BET\")","v":0},{"$f":"COUNTIFS('Daily Diary'!A:A,'Grafico Strategie Settimanali'!B82,'Daily Diary'!E:E,\"ALTRO\")","v":0},{"$f":"COUNTIFS('Daily Diary'!A:A,'Grafico Strategie Settimanali'!B82,'Daily Diary'!E:E,\"BANCA PAREGGIO\",'Daily Diary'!E:E,\"BANCA PAREGGIO\",'Daily Diary'!K:K,\"WIN\")","v":0},{"$f":"COUNTIFS('Daily Diary'!A:A,'Grafico Strategie Settimanali'!B82,'Daily Diary'!E:E,\"PUNTA SQ.CASA\",'Daily Diary'!E:E,\"PUNTA SQ.CASA\",'Daily Diary'!K:K,\"WIN\")","v":0},{"$f":"COUNTIFS('Daily Diary'!A:A,'Grafico Strategie Settimanali'!B82,'Daily Diary'!E:E,\"PUNTA SQ.OSPITE\",'Daily Diary'!E:E,\"PUNTA SQ.OSPITE\",'Daily Diary'!K:K,\"WIN\")","v":0},{"$f":"COUNTIFS('Daily Diary'!A:A,'Grafico Strategie Settimanali'!B82,'Daily Diary'!E:E,\"BANCA SFAVORITA\",'Daily Diary'!E:E,\"BANCA SFAVORITA\",'Daily Diary'!K:K,\"WIN\")","v":0},{"$f":"COUNTIFS('Daily Diary'!A:A,'Grafico Strategie Settimanali'!B82,'Daily Diary'!E:E,\"PUNTA OVER\",'Daily Diary'!E:E,\"PUNTA OVER\",'Daily Diary'!K:K,\"WIN\")","v":0},{"$f":"COUNTIFS('Daily Diary'!A:A,'Grafico Strategie Settimanali'!B82,'Daily Diary'!E:E,\"PUNTA UNDER\",'Daily Diary'!E:E,\"PUNTA UNDER\",'Daily Diary'!K:K,\"WIN\")","v":0},{"$f":"COUNTIFS('Daily Diary'!A:A,'Grafico Strategie Settimanali'!B82,'Daily Diary'!E:E,\"SCALPING\",'Daily Diary'!E:E,\"SCALPING\",'Daily Diary'!K:K,\"WIN\")","v":0},{"$f":"COUNTIFS('Daily Diary'!A:A,'Grafico Strategie Settimanali'!B82,'Daily Diary'!E:E,\"GT 90\",'Daily Diary'!E:E,\"GT 90\",'Daily Diary'!K:K,\"WIN\")","v":0},{"$f":"COUNTIFS('Daily Diary'!A:A,'Grafico Strategie Settimanali'!B82,'Daily Diary'!E:E,\"GT 110\",'Daily Diary'!E:E,\"GT 110\",'Daily Diary'!K:K,\"WIN\")","v":0},{"$f":"COUNTIFS('Daily Diary'!A:A,'Grafico Strategie Settimanali'!B82,'Daily Diary'!E:E,\"ALERT GOAL\",'Daily Diary'!E:E,\"ALERT GOAL\",'Daily Diary'!K:K,\"WIN\")","v":0},{"$f":"COUNTIFS('Daily Diary'!A:A,'Grafico Strategie Settimanali'!B82,'Daily Diary'!E:E,\"DRAW NO BET\",'Daily Diary'!E:E,\"DRAW NO BET\",'Daily Diary'!K:K,\"WIN\")","v":0},{"$f":"COUNTIFS('Daily Diary'!A:A,'Grafico Strategie Settimanali'!B82,'Daily Diary'!E:E,\"ALTRO\",'Daily Diary'!E:E,\"ALTRO\",'Daily Diary'!K:K,\"WIN\")","v":0},{"$error":"#DIV/0!"},{"$error":"#DIV/0!"},{"$error":"#DIV/0!"},{"$error":"#DIV/0!"},{"$error":"#DIV/0!"},{"$error":"#DIV/0!"},{"$error":"#DIV/0!"},{"$error":"#DIV/0!"},{"$error":"#DIV/0!"},{"$error":"#DIV/0!"},{"$error":"#DIV/0!"},{"$error":"#DIV/0!"}]
[0,"2023-07-24",{"$f":"COUNTIFS('Daily Diary'!A:A,'Grafico Strategie Settimanali'!B83,'Daily Diary'!E:E,\"BANCA PAREGGIO\")","v":0},{"$f":"COUNTIFS('Daily Diary'!A:A,'Grafico Strategie Settimanali'!B83,'Daily Diary'!E:E,\"PUNTA SQ.CASA\")","v":0},{"$f":"COUNTIFS('Daily Diary'!A:A,'Grafico Strategie Settimanali'!B83,'Daily Diary'!E:E,\"PUNTA SQ.OSPITE\")","v":0},{"$f":"COUNTIFS('Daily Diary'!A:A,'Grafico Strategie Settimanali'!B83,'Daily Diary'!E:E,\"BANCA SFAVORITA\")","v":0},{"$f":"COUNTIFS('Daily Diary'!A:A,'Grafico Strategie Settimanali'!B83,'Daily Diary'!E:E,\"PUNTA OVER\")","v":0},{"$f":"COUNTIFS('Daily Diary'!A:A,'Grafico Strategie Settimanali'!B83,'Daily Diary'!E:E,\"PUNTA UNDER\")","v":0},{"$f":"COUNTIFS('Daily Diary'!A:A,'Grafico Strategie Settimanali'!B83,'Daily Diary'!E:E,\"SCALPING\")","v":0},{"$f":"COUNTIFS('Daily Diary'!A:A,'Grafico Strategie Settimanali'!B83,'Daily Diary'!E:E,\"GT90\")","v":0},{"$f":"COUNTIFS('Daily Diary'!A:A,'Grafico Strategie Settimanali'!B83,'Daily Diary'!E:E,\"GT110\")","v":0},{"$f":"COUNTIFS('Daily Diary'!A:A,'Grafico Strategie Settimanali'!B83,'Daily Diary'!E:E,\"ALERT GOAL\")","v":0},{"$f":"COUNTIFS('Daily Diary'!A:A,'Grafico Strategie Settimanali'!B83,'Daily Diary'!E:E,\"DRAW NO BET\")","v":0},{"$f":"COUNTIFS('Daily Diary'!A:A,'Grafico Strategie Settimanali'!B83,'Daily Diary'!E:E,\"ALTRO\")","v":0},{"$f":"COUNTIFS('Daily Diary'!A:A,'Grafico Strategie Settimanali'!B83,'Daily Diary'!E:E,\"BANCA PAREGGIO\",'Daily Diary'!E:E,\"BANCA PAREGGIO\",'Daily Diary'!K:K,\"WIN\")","v":0},{"$f":"COUNTIFS('Daily Diary'!A:A,'Grafico Strategie Settimanali'!B83,'Daily Diary'!E:E,\"PUNTA SQ.CASA\",'Daily Diary'!E:E,\"PUNTA SQ.CASA\",'Daily Diary'!K:K,\"WIN\")","v":0},{"$f":"COUNTIFS('Daily Diary'!A:A,'Grafico Strategie Settimanali'!B83,'Daily Diary'!E:E,\"PUNTA SQ.OSPITE\",'Daily Diary'!E:E,\"PUNTA SQ.OSPITE\",'Daily Diary'!K:K,\"WIN\")","v":0},{"$f":"COUNTIFS('Daily Diary'!A:A,'Grafico Strategie Settimanali'!B83,'Daily Diary'!E:E,\"BANCA SFAVORITA\",'Daily Diary'!E:E,\"BANCA SFAVORITA\",'Daily Diary'!K:K,\"WIN\")","v":0},{"$f":"COUNTIFS('Daily Diary'!A:A,'Grafico Strategie Settimanali'!B83,'Daily Diary'!E:E,\"PUNTA OVER\",'Daily Diary'!E:E,\"PUNTA OVER\",'Daily Diary'!K:K,\"WIN\")","v":0},{"$f":"COUNTIFS('Daily Diary'!A:A,'Grafico Strategie Settimanali'!B83,'Daily Diary'!E:E,\"PUNTA UNDER\",'Daily Diary'!E:E,\"PUNTA UNDER\",'Daily Diary'!K:K,\"WIN\")","v":0},{"$f":"COUNTIFS('Daily Diary'!A:A,'Grafico Strategie Settimanali'!B83,'Daily Diary'!E:E,\"SCALPING\",'Daily Diary'!E:E,\"SCALPING\",'Daily Diary'!K:K,\"WIN\")","v":0},{"$f":"COUNTIFS('Daily Diary'!A:A,'Grafico Strategie Settimanali'!B83,'Daily Diary'!E:E,\"GT 90\",'Daily Diary'!E:E,\"GT 90\",'Daily Diary'!K:K,\"WIN\")","v":0},{"$f":"COUNTIFS('Daily Diary'!A:A,'Grafico Strategie Settimanali'!B83,'Daily Diary'!E:E,\"GT 110\",'Daily Diary'!E:E,\"GT 110\",'Daily Diary'!K:K,\"WIN\")","v":0},{"$f":"COUNTIFS('Daily Diary'!A:A,'Grafico Strategie Settimanali'!B83,'Daily Diary'!E:E,\"ALERT GOAL\",'Daily Diary'!E:E,\"ALERT GOAL\",'Daily Diary'!K:K,\"WIN\")","v":0},{"$f":"COUNTIFS('Daily Diary'!A:A,'Grafico Strategie Settimanali'!B83,'Daily Diary'!E:E,\"DRAW NO BET\",'Daily Diary'!E:E,\"DRAW NO BET\",'Daily Diary'!K:K,\"WIN\")","v":0},{"$f":"COUNTIFS('Daily Diary'!A:A,'Grafico Strategie Settimanali'!B83,'Daily Diary'!E:E,\"ALTRO\",'Daily Diary'!E:E,\"ALTRO\",'Daily Diary'!K:K,\"WIN\")","v":0},{"$error":"#DIV/0!"},{"$error":"#DIV/0!"},{"$error":"#DIV/0!"},{"$error":"#DIV/0!"},{"$error":"#DIV/0!"},{"$error":"#DIV/0!"},{"$error":"#DIV/0!"},{"$error":"#DIV/0!"},{"$error":"#DIV/0!"},{"$error":"#DIV/0!"},{"$error":"#DIV/0!"},{"$error":"#DIV/0!"}]
[0,"2023-07-25",{"$f":"COUNTIFS('Daily Diary'!A:A,'Grafico Strategie Settimanali'!B84,'Daily Diary'!E:E,\"BANCA PAREGGIO\")","v":0},{"$f":"COUNTIFS('Daily Diary'!A:A,'Grafico Strategie Settimanali'!B84,'Daily Diary'!E:E,\"PUNTA SQ.CASA\")","v":0},{"$f":"COUNTIFS('Daily Diary'!A:A,'Grafico Strategie Settimanali'!B84,'Daily Diary'!E:E,\"PUNTA SQ.OSPITE\")","v":0},{"$f":"COUNTIFS('Daily Diary'!A:A,'Grafico Strategie Settimanali'!B84,'Daily Diary'!E:E,\"BANCA SFAVORITA\")","v":0},{"$f":"COUNTIFS('Daily Diary'!A:A,'Grafico Strategie Settimanali'!B84,'Daily Diary'!E:E,\"PUNTA OVER\")","v":0},{"$f":"COUNTIFS('Daily Diary'!A:A,'Grafico Strategie Settimanali'!B84,'Daily Diary'!E:E,\"PUNTA UNDER\")","v":0},{"$f":"COUNTIFS('Daily Diary'!A:A,'Grafico Strategie Settimanali'!B84,'Daily Diary'!E:E,\"SCALPING\")","v":0},{"$f":"COUNTIFS('Daily Diary'!A:A,'Grafico Strategie Settimanali'!B84,'Daily Diary'!E:E,\"GT90\")","v":0},{"$f":"COUNTIFS('Daily Diary'!A:A,'Grafico Strategie Settimanali'!B84,'Daily Diary'!E:E,\"GT110\")","v":0},{"$f":"COUNTIFS('Daily Diary'!A:A,'Grafico Strategie Settimanali'!B84,'Daily Diary'!E:E,\"ALERT GOAL\")","v":0},{"$f":"COUNTIFS('Daily Diary'!A:A,'Grafico Strategie Settimanali'!B84,'Daily Diary'!E:E,\"DRAW NO BET\")","v":0},{"$f":"COUNTIFS('Daily Diary'!A:A,'Grafico Strategie Settimanali'!B84,'Daily Diary'!E:E,\"ALTRO\")","v":0},{"$f":"COUNTIFS('Daily Diary'!A:A,'Grafico Strategie Settimanali'!B84,'Daily Diary'!E:E,\"BANCA PAREGGIO\",'Daily Diary'!E:E,\"BANCA PAREGGIO\",'Daily Diary'!K:K,\"WIN\")","v":0},{"$f":"COUNTIFS('Daily Diary'!A:A,'Grafico Strategie Settimanali'!B84,'Daily Diary'!E:E,\"PUNTA SQ.CASA\",'Daily Diary'!E:E,\"PUNTA SQ.CASA\",'Daily Diary'!K:K,\"WIN\")","v":0},{"$f":"COUNTIFS('Daily Diary'!A:A,'Grafico Strategie Settimanali'!B84,'Daily Diary'!E:E,\"PUNTA SQ.OSPITE\",'Daily Diary'!E:E,\"PUNTA SQ.OSPITE\",'Daily Diary'!K:K,\"WIN\")","v":0},{"$f":"COUNTIFS('Daily Diary'!A:A,'Grafico Strategie Settimanali'!B84,'Daily Diary'!E:E,\"BANCA SFAVORITA\",'Daily Diary'!E:E,\"BANCA SFAVORITA\",'Daily Diary'!K:K,\"WIN\")","v":0},{"$f":"COUNTIFS('Daily Diary'!A:A,'Grafico Strategie Settimanali'!B84,'Daily Diary'!E:E,\"PUNTA OVER\",'Daily Diary'!E:E,\"PUNTA OVER\",'Daily Diary'!K:K,\"WIN\")","v":0},{"$f":"COUNTIFS('Daily Diary'!A:A,'Grafico Strategie Settimanali'!B84,'Daily Diary'!E:E,\"PUNTA UNDER\",'Daily Diary'!E:E,\"PUNTA UNDER\",'Daily Diary'!K:K,\"WIN\")","v":0},{"$f":"COUNTIFS('Daily Diary'!A:A,'Grafico Strategie Settimanali'!B84,'Daily Diary'!E:E,\"SCALPING\",'Daily Diary'!E:E,\"SCALPING\",'Daily Diary'!K:K,\"WIN\")","v":0},{"$f":"COUNTIFS('Daily Diary'!A:A,'Grafico Strategie Settimanali'!B84,'Daily Diary'!E:E,\"GT 90\",'Daily Diary'!E:E,\"GT 90\",'Daily Diary'!K:K,\"WIN\")","v":0},{"$f":"COUNTIFS('Daily Diary'!A:A,'Grafico Strategie Settimanali'!B84,'Daily Diary'!E:E,\"GT 110\",'Daily Diary'!E:E,\"GT 110\",'Daily Diary'!K:K,\"WIN\")","v":0},{"$f":"COUNTIFS('Daily Diary'!A:A,'Grafico Strategie Settimanali'!B84,'Daily Diary'!E:E,\"ALERT GOAL\",'Daily Diary'!E:E,\"ALERT GOAL\",'Daily Diary'!K:K,\"WIN\")","v":0},{"$f":"COUNTIFS('Daily Diary'!A:A,'Grafico Strategie Settimanali'!B84,'Daily Diary'!E:E,\"DRAW NO BET\",'Daily Diary'!E:E,\"DRAW NO BET\",'Daily Diary'!K:K,\"WIN\")","v":0},{"$f":"COUNTIFS('Daily Diary'!A:A,'Grafico Strategie Settimanali'!B84,'Daily Diary'!E:E,\"ALTRO\",'Daily Diary'!E:E,\"ALTRO\",'Daily Diary'!K:K,\"WIN\")","v":0},{"$error":"#DIV/0!"},{"$error":"#DIV/0!"},{"$error":"#DIV/0!"},{"$error":"#DIV/0!"},{"$error":"#DIV/0!"},{"$error":"#DIV/0!"},{"$error":"#DIV/0!"},{"$error":"#DIV/0!"},{"$error":"#DIV/0!"},{"$error":"#DIV/0!"},{"$error":"#DIV/0!"},{"$error":"#DIV/0!"}]
[0,"2023-07-26",{"$f":"COUNTIFS('Daily Diary'!A:A,'Grafico Strategie Settimanali'!B85,'Daily Diary'!E:E,\"BANCA PAREGGIO\")","v":0},{"$f":"COUNTIFS('Daily Diary'!A:A,'Grafico Strategie Settimanali'!B85,'Daily Diary'!E:E,\"PUNTA SQ.CASA\")","v":0},{"$f":"COUNTIFS('Daily Diary'!A:A,'Grafico Strategie Settimanali'!B85,'Daily Diary'!E:E,\"PUNTA SQ.OSPITE\")","v":0},{"$f":"COUNTIFS('Daily Diary'!A:A,'Grafico Strategie Settimanali'!B85,'Daily Diary'!E:E,\"BANCA SFAVORITA\")","v":0},{"$f":"COUNTIFS('Daily Diary'!A:A,'Grafico Strategie Settimanali'!B85,'Daily Diary'!E:E,\"PUNTA OVER\")","v":0},{"$f":"COUNTIFS('Daily Diary'!A:A,'Grafico Strategie Settimanali'!B85,'Daily Diary'!E:E,\"PUNTA UNDER\")","v":0},{"$f":"COUNTIFS('Daily Diary'!A:A,'Grafico Strategie Settimanali'!B85,'Daily Diary'!E:E,\"SCALPING\")","v":0},{"$f":"COUNTIFS('Daily Diary'!A:A,'Grafico Strategie Settimanali'!B85,'Daily Diary'!E:E,\"GT90\")","v":0},{"$f":"COUNTIFS('Daily Diary'!A:A,'Grafico Strategie Settimanali'!B85,'Daily Diary'!E:E,\"GT110\")","v":0},{"$f":"COUNTIFS('Daily Diary'!A:A,'Grafico Strategie Settimanali'!B85,'Daily Diary'!E:E,\"ALERT GOAL\")","v":0},{"$f":"COUNTIFS('Daily Diary'!A:A,'Grafico Strategie Settimanali'!B85,'Daily Diary'!E:E,\"DRAW NO BET\")","v":0},{"$f":"COUNTIFS('Daily Diary'!A:A,'Grafico Strategie Settimanali'!B85,'Daily Diary'!E:E,\"ALTRO\")","v":0},{"$f":"COUNTIFS('Daily Diary'!A:A,'Grafico Strategie Settimanali'!B85,'Daily Diary'!E:E,\"BANCA PAREGGIO\",'Daily Diary'!E:E,\"BANCA PAREGGIO\",'Daily Diary'!K:K,\"WIN\")","v":0},{"$f":"COUNTIFS('Daily Diary'!A:A,'Grafico Strategie Settimanali'!B85,'Daily Diary'!E:E,\"PUNTA SQ.CASA\",'Daily Diary'!E:E,\"PUNTA SQ.CASA\",'Daily Diary'!K:K,\"WIN\")","v":0},{"$f":"COUNTIFS('Daily Diary'!A:A,'Grafico Strategie Settimanali'!B85,'Daily Diary'!E:E,\"PUNTA SQ.OSPITE\",'Daily Diary'!E:E,\"PUNTA SQ.OSPITE\",'Daily Diary'!K:K,\"WIN\")","v":0},{"$f":"COUNTIFS('Daily Diary'!A:A,'Grafico Strategie Settimanali'!B85,'Daily Diary'!E:E,\"BANCA SFAVORITA\",'Daily Diary'!E:E,\"BANCA SFAVORITA\",'Daily Diary'!K:K,\"WIN\")","v":0},{"$f":"COUNTIFS('Daily Diary'!A:A,'Grafico Strategie Settimanali'!B85,'Daily Diary'!E:E,\"PUNTA OVER\",'Daily Diary'!E:E,\"PUNTA OVER\",'Daily Diary'!K:K,\"WIN\")","v":0},{"$f":"COUNTIFS('Daily Diary'!A:A,'Grafico Strategie Settimanali'!B85,'Daily Diary'!E:E,\"PUNTA UNDER\",'Daily Diary'!E:E,\"PUNTA UNDER\",'Daily Diary'!K:K,\"WIN\")","v":0},{"$f":"COUNTIFS('Daily Diary'!A:A,'Grafico Strategie Settimanali'!B85,'Daily Diary'!E:E,\"SCALPING\",'Daily Diary'!E:E,\"SCALPING\",'Daily Diary'!K:K,\"WIN\")","v":0},{"$f":"COUNTIFS('Daily Diary'!A:A,'Grafico Strategie Settimanali'!B85,'Daily Diary'!E:E,\"GT 90\",'Daily Diary'!E:E,\"GT 90\",'Daily Diary'!K:K,\"WIN\")","v":0},{"$f":"COUNTIFS('Daily Diary'!A:A,'Grafico Strategie Settimanali'!B85,'Daily Diary'!E:E,\"GT 110\",'Daily Diary'!E:E,\"GT 110\",'Daily Diary'!K:K,\"WIN\")","v":0},{"$f":"COUNTIFS('Daily Diary'!A:A,'Grafico Strategie Settimanali'!B85,'Daily Diary'!E:E,\"ALERT GOAL\",'Daily Diary'!E:E,\"ALERT GOAL\",'Daily Diary'!K:K,\"WIN\")","v":0},{"$f":"COUNTIFS('Daily Diary'!A:A,'Grafico Strategie Settimanali'!B85,'Daily Diary'!E:E,\"DRAW NO BET\",'Daily Diary'!E:E,\"DRAW NO BET\",'Daily Diary'!K:K,\"WIN\")","v":0},{"$f":"COUNTIFS('Daily Diary'!A:A,'Grafico Strategie Settimanali'!B85,'Daily Diary'!E:E,\"ALTRO\",'Daily Diary'!E:E,\"ALTRO\",'Daily Diary'!K:K,\"WIN\")","v":0},{"$error":"#DIV/0!"},{"$error":"#DIV/0!"},{"$error":"#DIV/0!"},{"$error":"#DIV/0!"},{"$error":"#DIV/0!"},{"$error":"#DIV/0!"},{"$error":"#DIV/0!"},{"$error":"#DIV/0!"},{"$error":"#DIV/0!"},{"$error":"#DIV/0!"},{"$error":"#DIV/0!"},{"$error":"#DIV/0!"}]
[0,"2023-07-27",{"$f":"COUNTIFS('Daily Diary'!A:A,'Grafico Strategie Settimanali'!B86,'Daily Diary'!E:E,\"BANCA PAREGGIO\")","v":0},{"$f":"COUNTIFS('Daily Diary'!A:A,'Grafico Strategie Settimanali'!B86,'Daily Diary'!E:E,\"PUNTA SQ.CASA\")","v":0},{"$f":"COUNTIFS('Daily Diary'!A:A,'Grafico Strategie Settimanali'!B86,'Daily Diary'!E:E,\"PUNTA SQ.OSPITE\")","v":0},{"$f":"COUNTIFS('Daily Diary'!A:A,'Grafico Strategie Settimanali'!B86,'Daily Diary'!E:E,\"BANCA SFAVORITA\")","v":0},{"$f":"COUNTIFS('Daily Diary'!A:A,'Grafico Strategie Settimanali'!B86,'Daily Diary'!E:E,\"PUNTA OVER\")","v":0},{"$f":"COUNTIFS('Daily Diary'!A:A,'Grafico Strategie Settimanali'!B86,'Daily Diary'!E:E,\"PUNTA UNDER\")","v":0},{"$f":"COUNTIFS('Daily Diary'!A:A,'Grafico Strategie Settimanali'!B86,'Daily Diary'!E:E,\"SCALPING\")","v":0},{"$f":"COUNTIFS('Daily Diary'!A:A,'Grafico Strategie Settimanali'!B86,'Daily Diary'!E:E,\"GT90\")","v":0},{"$f":"COUNTIFS('Daily Diary'!A:A,'Grafico Strategie Settimanali'!B86,'Daily Diary'!E:E,\"GT110\")","v":0},{"$f":"COUNTIFS('Daily Diary'!A:A,'Grafico Strategie Settimanali'!B86,'Daily Diary'!E:E,\"ALERT GOAL\")","v":0},{"$f":"COUNTIFS('Daily Diary'!A:A,'Grafico Strategie Settimanali'!B86,'Daily Diary'!E:E,\"DRAW NO BET\")","v":0},{"$f":"COUNTIFS('Daily Diary'!A:A,'Grafico Strategie Settimanali'!B86,'Daily Diary'!E:E,\"ALTRO\")","v":0},{"$f":"COUNTIFS('Daily Diary'!A:A,'Grafico Strategie Settimanali'!B86,'Daily Diary'!E:E,\"BANCA PAREGGIO\",'Daily Diary'!E:E,\"BANCA PAREGGIO\",'Daily Diary'!K:K,\"WIN\")","v":0},{"$f":"COUNTIFS('Daily Diary'!A:A,'Grafico Strategie Settimanali'!B86,'Daily Diary'!E:E,\"PUNTA SQ.CASA\",'Daily Diary'!E:E,\"PUNTA SQ.CASA\",'Daily Diary'!K:K,\"WIN\")","v":0},{"$f":"COUNTIFS('Daily Diary'!A:A,'Grafico Strategie Settimanali'!B86,'Daily Diary'!E:E,\"PUNTA SQ.OSPITE\",'Daily Diary'!E:E,\"PUNTA SQ.OSPITE\",'Daily Diary'!K:K,\"WIN\")","v":0},{"$f":"COUNTIFS('Daily Diary'!A:A,'Grafico Strategie Settimanali'!B86,'Daily Diary'!E:E,\"BANCA SFAVORITA\",'Daily Diary'!E:E,\"BANCA SFAVORITA\",'Daily Diary'!K:K,\"WIN\")","v":0},{"$f":"COUNTIFS('Daily Diary'!A:A,'Grafico Strategie Settimanali'!B86,'Daily Diary'!E:E,\"PUNTA OVER\",'Daily Diary'!E:E,\"PUNTA OVER\",'Daily Diary'!K:K,\"WIN\")","v":0},{"$f":"COUNTIFS('Daily Diary'!A:A,'Grafico Strategie Settimanali'!B86,'Daily Diary'!E:E,\"PUNTA UNDER\",'Daily Diary'!E:E,\"PUNTA UNDER\",'Daily Diary'!K:K,\"WIN\")","v":0},{"$f":"COUNTIFS('Daily Diary'!A:A,'Grafico Strategie Settimanali'!B86,'Daily Diary'!E:E,\"SCALPING\",'Daily Diary'!E:E,\"SCALPING\",'Daily Diary'!K:K,\"WIN\")","v":0},{"$f":"COUNTIFS('Daily Diary'!A:A,'Grafico Strategie Settimanali'!B86,'Daily Diary'!E:E,\"GT 90\",'Daily Diary'!E:E,\"GT 90\",'Daily Diary'!K:K,\"WIN\")","v":0},{"$f":"COUNTIFS('Daily Diary'!A:A,'Grafico Strategie Settimanali'!B86,'Daily Diary'!E:E,\"GT 110\",'Daily Diary'!E:E,\"GT 110\",'Daily Diary'!K:K,\"WIN\")","v":0},{"$f":"COUNTIFS('Daily Diary'!A:A,'Grafico Strategie Settimanali'!B86,'Daily Diary'!E:E,\"ALERT GOAL\",'Daily Diary'!E:E,\"ALERT GOAL\",'Daily Diary'!K:K,\"WIN\")","v":0},{"$f":"COUNTIFS('Daily Diary'!A:A,'Grafico Strategie Settimanali'!B86,'Daily Diary'!E:E,\"DRAW NO BET\",'Daily Diary'!E:E,\"DRAW NO BET\",'Daily Diary'!K:K,\"WIN\")","v":0},{"$f":"COUNTIFS('Daily Diary'!A:A,'Grafico Strategie Settimanali'!B86,'Daily Diary'!E:E,\"ALTRO\",'Daily Diary'!E:E,\"ALTRO\",'Daily Diary'!K:K,\"WIN\")","v":0},{"$error":"#DIV/0!"},{"$error":"#DIV/0!"},{"$error":"#DIV/0!"},{"$error":"#DIV/0!"},{"$error":"#DIV/0!"},{"$error":"#DIV/0!"},{"$error":"#DIV/0!"},{"$error":"#DIV/0!"},{"$error":"#DIV/0!"},{"$error":"#DIV/0!"},{"$error":"#DIV/0!"},{"$error":"#DIV/0!"}]
[0,"2023-07-28",{"$f":"COUNTIFS('Daily Diary'!A:A,'Grafico Strategie Settimanali'!B87,'Daily Diary'!E:E,\"BANCA PAREGGIO\")","v":0},{"$f":"COUNTIFS('Daily Diary'!A:A,'Grafico Strategie Settimanali'!B87,'Daily Diary'!E:E,\"PUNTA SQ.CASA\")","v":0},{"$f":"COUNTIFS('Daily Diary'!A:A,'Grafico Strategie Settimanali'!B87,'Daily Diary'!E:E,\"PUNTA SQ.OSPITE\")","v":0},{"$f":"COUNTIFS('Daily Diary'!A:A,'Grafico Strategie Settimanali'!B87,'Daily Diary'!E:E,\"BANCA SFAVORITA\")","v":0},{"$f":"COUNTIFS('Daily Diary'!A:A,'Grafico Strategie Settimanali'!B87,'Daily Diary'!E:E,\"PUNTA OVER\")","v":0},{"$f":"COUNTIFS('Daily Diary'!A:A,'Grafico Strategie Settimanali'!B87,'Daily Diary'!E:E,\"PUNTA UNDER\")","v":0},{"$f":"COUNTIFS('Daily Diary'!A:A,'Grafico Strategie Settimanali'!B87,'Daily Diary'!E:E,\"SCALPING\")","v":0},{"$f":"COUNTIFS('Daily Diary'!A:A,'Grafico Strategie Settimanali'!B87,'Daily Diary'!E:E,\"GT90\")","v":0},{"$f":"COUNTIFS('Daily Diary'!A:A,'Grafico Strategie Settimanali'!B87,'Daily Diary'!E:E,\"GT110\")","v":0},{"$f":"COUNTIFS('Daily Diary'!A:A,'Grafico Strategie Settimanali'!B87,'Daily Diary'!E:E,\"ALERT GOAL\")","v":0},{"$f":"COUNTIFS('Daily Diary'!A:A,'Grafico Strategie Settimanali'!B87,'Daily Diary'!E:E,\"DRAW NO BET\")","v":0},{"$f":"COUNTIFS('Daily Diary'!A:A,'Grafico Strategie Settimanali'!B87,'Daily Diary'!E:E,\"ALTRO\")","v":0},{"$f":"COUNTIFS('Daily Diary'!A:A,'Grafico Strategie Settimanali'!B87,'Daily Diary'!E:E,\"BANCA PAREGGIO\",'Daily Diary'!E:E,\"BANCA PAREGGIO\",'Daily Diary'!K:K,\"WIN\")","v":0},{"$f":"COUNTIFS('Daily Diary'!A:A,'Grafico Strategie Settimanali'!B87,'Daily Diary'!E:E,\"PUNTA SQ.CASA\",'Daily Diary'!E:E,\"PUNTA SQ.CASA\",'Daily Diary'!K:K,\"WIN\")","v":0},{"$f":"COUNTIFS('Daily Diary'!A:A,'Grafico Strategie Settimanali'!B87,'Daily Diary'!E:E,\"PUNTA SQ.OSPITE\",'Daily Diary'!E:E,\"PUNTA SQ.OSPITE\",'Daily Diary'!K:K,\"WIN\")","v":0},{"$f":"COUNTIFS('Daily Diary'!A:A,'Grafico Strategie Settimanali'!B87,'Daily Diary'!E:E,\"BANCA SFAVORITA\",'Daily Diary'!E:E,\"BANCA SFAVORITA\",'Daily Diary'!K:K,\"WIN\")","v":0},{"$f":"COUNTIFS('Daily Diary'!A:A,'Grafico Strategie Settimanali'!B87,'Daily Diary'!E:E,\"PUNTA OVER\",'Daily Diary'!E:E,\"PUNTA OVER\",'Daily Diary'!K:K,\"WIN\")","v":0},{"$f":"COUNTIFS('Daily Diary'!A:A,'Grafico Strategie Settimanali'!B87,'Daily Diary'!E:E,\"PUNTA UNDER\",'Daily Diary'!E:E,\"PUNTA UNDER\",'Daily Diary'!K:K,\"WIN\")","v":0},{"$f":"COUNTIFS('Daily Diary'!A:A,'Grafico Strategie Settimanali'!B87,'Daily Diary'!E:E,\"SCALPING\",'Daily Diary'!E:E,\"SCALPING\",'Daily Diary'!K:K,\"WIN\")","v":0},{"$f":"COUNTIFS('Daily Diary'!A:A,'Grafico Strategie Settimanali'!B87,'Daily Diary'!E:E,\"GT 90\",'Daily Diary'!E:E,\"GT 90\",'Daily Diary'!K:K,\"WIN\")","v":0},{"$f":"COUNTIFS('Daily Diary'!A:A,'Grafico Strategie Settimanali'!B87,'Daily Diary'!E:E,\"GT 110\",'Daily Diary'!E:E,\"GT 110\",'Daily Diary'!K:K,\"WIN\")","v":0},{"$f":"COUNTIFS('Daily Diary'!A:A,'Grafico Strategie Settimanali'!B87,'Daily Diary'!E:E,\"ALERT GOAL\",'Daily Diary'!E:E,\"ALERT GOAL\",'Daily Diary'!K:K,\"WIN\")","v":0},{"$f":"COUNTIFS('Daily Diary'!A:A,'Grafico Strategie Settimanali'!B87,'Daily Diary'!E:E,\"DRAW NO BET\",'Daily Diary'!E:E,\"DRAW NO BET\",'Daily Diary'!K:K,\"WIN\")","v":0},{"$f":"COUNTIFS('Daily Diary'!A:A,'Grafico Strategie Settimanali'!B87,'Daily Diary'!E:E,\"ALTRO\",'Daily Diary'!E:E,\"ALTRO\",'Daily Diary'!K:K,\"WIN\")","v":0},{"$error":"#DIV/0!"},{"$error":"#DIV/0!"},{"$error":"#DIV/0!"},{"$error":"#DIV/0!"},{"$error":"#DIV/0!"},{"$error":"#DIV/0!"},{"$error":"#DIV/0!"},{"$error":"#DIV/0!"},{"$error":"#DIV/0!"},{"$error":"#DIV/0!"},{"$error":"#DIV/0!"},{"$error":"#DIV/0!"}]
[0,"2023-07-29",{"$f":"COUNTIFS('Daily Diary'!A:A,'Grafico Strategie Settimanali'!B88,'Daily Diary'!E:E,\"BANCA PAREGGIO\")","v":0},{"$f":"COUNTIFS('Daily Diary'!A:A,'Grafico Strategie Settimanali'!B88,'Daily Diary'!E:E,\"PUNTA SQ.CASA\")","v":0},{"$f":"COUNTIFS('Daily Diary'!A:A,'Grafico Strategie Settimanali'!B88,'Daily Diary'!E:E,\"PUNTA SQ.OSPITE\")","v":0},{"$f":"COUNTIFS('Daily Diary'!A:A,'Grafico Strategie Settimanali'!B88,'Daily Diary'!E:E,\"BANCA SFAVORITA\")","v":0},{"$f":"COUNTIFS('Daily Diary'!A:A,'Grafico Strategie Settimanali'!B88,'Daily Diary'!E:E,\"PUNTA OVER\")","v":0},{"$f":"COUNTIFS('Daily Diary'!A:A,'Grafico Strategie Settimanali'!B88,'Daily Diary'!E:E,\"PUNTA UNDER\")","v":0},{"$f":"COUNTIFS('Daily Diary'!A:A,'Grafico Strategie Settimanali'!B88,'Daily Diary'!E:E,\"SCALPING\")","v":0},{"$f":"COUNTIFS('Daily Diary'!A:A,'Grafico Strategie Settimanali'!B88,'Daily Diary'!E:E,\"GT90\")","v":0},{"$f":"COUNTIFS('Daily Diary'!A:A,'Grafico Strategie Settimanali'!B88,'Daily Diary'!E:E,\"GT110\")","v":0},{"$f":"COUNTIFS('Daily Diary'!A:A,'Grafico Strategie Settimanali'!B88,'Daily Diary'!E:E,\"ALERT GOAL\")","v":0},{"$f":"COUNTIFS('Daily Diary'!A:A,'Grafico Strategie Settimanali'!B88,'Daily Diary'!E:E,\"DRAW NO BET\")","v":0},{"$f":"COUNTIFS('Daily Diary'!A:A,'Grafico Strategie Settimanali'!B88,'Daily Diary'!E:E,\"ALTRO\")","v":0},{"$f":"COUNTIFS('Daily Diary'!A:A,'Grafico Strategie Settimanali'!B88,'Daily Diary'!E:E,\"BANCA PAREGGIO\",'Daily Diary'!E:E,\"BANCA PAREGGIO\",'Daily Diary'!K:K,\"WIN\")","v":0},{"$f":"COUNTIFS('Daily Diary'!A:A,'Grafico Strategie Settimanali'!B88,'Daily Diary'!E:E,\"PUNTA SQ.CASA\",'Daily Diary'!E:E,\"PUNTA SQ.CASA\",'Daily Diary'!K:K,\"WIN\")","v":0},{"$f":"COUNTIFS('Daily Diary'!A:A,'Grafico Strategie Settimanali'!B88,'Daily Diary'!E:E,\"PUNTA SQ.OSPITE\",'Daily Diary'!E:E,\"PUNTA SQ.OSPITE\",'Daily Diary'!K:K,\"WIN\")","v":0},{"$f":"COUNTIFS('Daily Diary'!A:A,'Grafico Strategie Settimanali'!B88,'Daily Diary'!E:E,\"BANCA SFAVORITA\",'Daily Diary'!E:E,\"BANCA SFAVORITA\",'Daily Diary'!K:K,\"WIN\")","v":0},{"$f":"COUNTIFS('Daily Diary'!A:A,'Grafico Strategie Settimanali'!B88,'Daily Diary'!E:E,\"PUNTA OVER\",'Daily Diary'!E:E,\"PUNTA OVER\",'Daily Diary'!K:K,\"WIN\")","v":0},{"$f":"COUNTIFS('Daily Diary'!A:A,'Grafico Strategie Settimanali'!B88,'Daily Diary'!E:E,\"PUNTA UNDER\",'Daily Diary'!E:E,\"PUNTA UNDER\",'Daily Diary'!K:K,\"WIN\")","v":0},{"$f":"COUNTIFS('Daily Diary'!A:A,'Grafico Strategie Settimanali'!B88,'Daily Diary'!E:E,\"SCALPING\",'Daily Diary'!E:E,\"SCALPING\",'Daily Diary'!K:K,\"WIN\")","v":0},{"$f":"COUNTIFS('Daily Diary'!A:A,'Grafico Strategie Settimanali'!B88,'Daily Diary'!E:E,\"GT 90\",'Daily Diary'!E:E,\"GT 90\",'Daily Diary'!K:K,\"WIN\")","v":0},{"$f":"COUNTIFS('Daily Diary'!A:A,'Grafico Strategie Settimanali'!B88,'Daily Diary'!E:E,\"GT 110\",'Daily Diary'!E:E,\"GT 110\",'Daily Diary'!K:K,\"WIN\")","v":0},{"$f":"COUNTIFS('Daily Diary'!A:A,'Grafico Strategie Settimanali'!B88,'Daily Diary'!E:E,\"ALERT GOAL\",'Daily Diary'!E:E,\"ALERT GOAL\",'Daily Diary'!K:K,\"WIN\")","v":0},{"$f":"COUNTIFS('Daily Diary'!A:A,'Grafico Strategie Settimanali'!B88,'Daily Diary'!E:E,\"DRAW NO BET\",'Daily Diary'!E:E,\"DRAW NO BET\",'Daily Diary'!K:K,\"WIN\")","v":0},{"$f":"COUNTIFS('Daily Diary'!A:A,'Grafico Strategie Settimanali'!B88,'Daily Diary'!E:E,\"ALTRO\",'Daily Diary'!E:E,\"ALTRO\",'Daily Diary'!K:K,\"WIN\")","v":0},{"$error":"#DIV/0!"},{"$error":"#DIV/0!"},{"$error":"#DIV/0!"},{"$error":"#DIV/0!"},{"$error":"#DIV/0!"},{"$error":"#DIV/0!"},{"$error":"#DIV/0!"},{"$error":"#DIV/0!"},{"$error":"#DIV/0!"},{"$error":"#DIV/0!"},{"$error":"#DIV/0!"},{"$error":"#DIV/0!"}]
[0,"2023-07-30",{"$f":"COUNTIFS('Daily Diary'!A:A,'Grafico Strategie Settimanali'!B89,'Daily Diary'!E:E,\"BANCA PAREGGIO\")","v":0},{"$f":"COUNTIFS('Daily Diary'!A:A,'Grafico Strategie Settimanali'!B89,'Daily Diary'!E:E,\"PUNTA SQ.CASA\")","v":0},{"$f":"COUNTIFS('Daily Diary'!A:A,'Grafico Strategie Settimanali'!B89,'Daily Diary'!E:E,\"PUNTA SQ.OSPITE\")","v":0},{"$f":"COUNTIFS('Daily Diary'!A:A,'Grafico Strategie Settimanali'!B89,'Daily Diary'!E:E,\"BANCA SFAVORITA\")","v":0},{"$f":"COUNTIFS('Daily Diary'!A:A,'Grafico Strategie Settimanali'!B89,'Daily Diary'!E:E,\"PUNTA OVER\")","v":0},{"$f":"COUNTIFS('Daily Diary'!A:A,'Grafico Strategie Settimanali'!B89,'Daily Diary'!E:E,\"PUNTA UNDER\")","v":0},{"$f":"COUNTIFS('Daily Diary'!A:A,'Grafico Strategie Settimanali'!B89,'Daily Diary'!E:E,\"SCALPING\")","v":0},{"$f":"COUNTIFS('Daily Diary'!A:A,'Grafico Strategie Settimanali'!B89,'Daily Diary'!E:E,\"GT90\")","v":0},{"$f":"COUNTIFS('Daily Diary'!A:A,'Grafico Strategie Settimanali'!B89,'Daily Diary'!E:E,\"GT110\")","v":0},{"$f":"COUNTIFS('Daily Diary'!A:A,'Grafico Strategie Settimanali'!B89,'Daily Diary'!E:E,\"ALERT GOAL\")","v":0},{"$f":"COUNTIFS('Daily Diary'!A:A,'Grafico Strategie Settimanali'!B89,'Daily Diary'!E:E,\"DRAW NO BET\")","v":0},{"$f":"COUNTIFS('Daily Diary'!A:A,'Grafico Strategie Settimanali'!B89,'Daily Diary'!E:E,\"ALTRO\")","v":0},{"$f":"COUNTIFS('Daily Diary'!A:A,'Grafico Strategie Settimanali'!B89,'Daily Diary'!E:E,\"BANCA PAREGGIO\",'Daily Diary'!E:E,\"BANCA PAREGGIO\",'Daily Diary'!K:K,\"WIN\")","v":0},{"$f":"COUNTIFS('Daily Diary'!A:A,'Grafico Strategie Settimanali'!B89,'Daily Diary'!E:E,\"PUNTA SQ.CASA\",'Daily Diary'!E:E,\"PUNTA SQ.CASA\",'Daily Diary'!K:K,\"WIN\")","v":0},{"$f":"COUNTIFS('Daily Diary'!A:A,'Grafico Strategie Settimanali'!B89,'Daily Diary'!E:E,\"PUNTA SQ.OSPITE\",'Daily Diary'!E:E,\"PUNTA SQ.OSPITE\",'Daily Diary'!K:K,\"WIN\")","v":0},{"$f":"COUNTIFS('Daily Diary'!A:A,'Grafico Strategie Settimanali'!B89,'Daily Diary'!E:E,\"BANCA SFAVORITA\",'Daily Diary'!E:E,\"BANCA SFAVORITA\",'Daily Diary'!K:K,\"WIN\")","v":0},{"$f":"COUNTIFS('Daily Diary'!A:A,'Grafico Strategie Settimanali'!B89,'Daily Diary'!E:E,\"PUNTA OVER\",'Daily Diary'!E:E,\"PUNTA OVER\",'Daily Diary'!K:K,\"WIN\")","v":0},{"$f":"COUNTIFS('Daily Diary'!A:A,'Grafico Strategie Settimanali'!B89,'Daily Diary'!E:E,\"PUNTA UNDER\",'Daily Diary'!E:E,\"PUNTA UNDER\",'Daily Diary'!K:K,\"WIN\")","v":0},{"$f":"COUNTIFS('Daily Diary'!A:A,'Grafico Strategie Settimanali'!B89,'Daily Diary'!E:E,\"SCALPING\",'Daily Diary'!E:E,\"SCALPING\",'Daily Diary'!K:K,\"WIN\")","v":0},{"$f":"COUNTIFS('Daily Diary'!A:A,'Grafico Strategie Settimanali'!B89,'Daily Diary'!E:E,\"GT 90\",'Daily Diary'!E:E,\"GT 90\",'Daily Diary'!K:K,\"WIN\")","v":0},{"$f":"COUNTIFS('Daily Diary'!A:A,'Grafico Strategie Settimanali'!B89,'Daily Diary'!E:E,\"GT 110\",'Daily Diary'!E:E,\"GT 110\",'Daily Diary'!K:K,\"WIN\")","v":0},{"$f":"COUNTIFS('Daily Diary'!A:A,'Grafico Strategie Settimanali'!B89,'Daily Diary'!E:E,\"ALERT GOAL\",'Daily Diary'!E:E,\"ALERT GOAL\",'Daily Diary'!K:K,\"WIN\")","v":0},{"$f":"COUNTIFS('Daily Diary'!A:A,'Grafico Strategie Settimanali'!B89,'Daily Diary'!E:E,\"DRAW NO BET\",'Daily Diary'!E:E,\"DRAW NO BET\",'Daily Diary'!K:K,\"WIN\")","v":0},{"$f":"COUNTIFS('Daily Diary'!A:A,'Grafico Strategie Settimanali'!B89,'Daily Diary'!E:E,\"ALTRO\",'Daily Diary'!E:E,\"ALTRO\",'Daily Diary'!K:K,\"WIN\")","v":0},{"$error":"#DIV/0!"},{"$error":"#DIV/0!"},{"$error":"#DIV/0!"},{"$error":"#DIV/0!"},{"$error":"#DIV/0!"},{"$error":"#DIV/0!"},{"$error":"#DIV/0!"},{"$error":"#DIV/0!"},{"$error":"#DIV/0!"},{"$error":"#DIV/0!"},{"$error":"#DIV/0!"},{"$error":"#DIV/0!"}]
[0,"2023-07-31",{"$f":"COUNTIFS('Daily Diary'!A:A,'Grafico Strategie Settimanali'!B90,'Daily Diary'!E:E,\"BANCA PAREGGIO\")","v":0},{"$f":"COUNTIFS('Daily Diary'!A:A,'Grafico Strategie Settimanali'!B90,'Daily Diary'!E:E,\"PUNTA SQ.CASA\")","v":0},{"$f":"COUNTIFS('Daily Diary'!A:A,'Grafico Strategie Settimanali'!B90,'Daily Diary'!E:E,\"PUNTA SQ.OSPITE\")","v":0},{"$f":"COUNTIFS('Daily Diary'!A:A,'Grafico Strategie Settimanali'!B90,'Daily Diary'!E:E,\"BANCA SFAVORITA\")","v":0},{"$f":"COUNTIFS('Daily Diary'!A:A,'Grafico Strategie Settimanali'!B90,'Daily Diary'!E:E,\"PUNTA OVER\")","v":0},{"$f":"COUNTIFS('Daily Diary'!A:A,'Grafico Strategie Settimanali'!B90,'Daily Diary'!E:E,\"PUNTA UNDER\")","v":0},{"$f":"COUNTIFS('Daily Diary'!A:A,'Grafico Strategie Settimanali'!B90,'Daily Diary'!E:E,\"SCALPING\")","v":0},{"$f":"COUNTIFS('Daily Diary'!A:A,'Grafico Strategie Settimanali'!B90,'Daily Diary'!E:E,\"GT90\")","v":0},{"$f":"COUNTIFS('Daily Diary'!A:A,'Grafico Strategie Settimanali'!B90,'Daily Diary'!E:E,\"GT110\")","v":0},{"$f":"COUNTIFS('Daily Diary'!A:A,'Grafico Strategie Settimanali'!B90,'Daily Diary'!E:E,\"ALERT GOAL\")","v":0},{"$f":"COUNTIFS('Daily Diary'!A:A,'Grafico Strategie Settimanali'!B90,'Daily Diary'!E:E,\"DRAW NO BET\")","v":0},{"$f":"COUNTIFS('Daily Diary'!A:A,'Grafico Strategie Settimanali'!B90,'Daily Diary'!E:E,\"ALTRO\")","v":0},{"$f":"COUNTIFS('Daily Diary'!A:A,'Grafico Strategie Settimanali'!B90,'Daily Diary'!E:E,\"BANCA PAREGGIO\",'Daily Diary'!E:E,\"BANCA PAREGGIO\",'Daily Diary'!K:K,\"WIN\")","v":0},{"$f":"COUNTIFS('Daily Diary'!A:A,'Grafico Strategie Settimanali'!B90,'Daily Diary'!E:E,\"PUNTA SQ.CASA\",'Daily Diary'!E:E,\"PUNTA SQ.CASA\",'Daily Diary'!K:K,\"WIN\")","v":0},{"$f":"COUNTIFS('Daily Diary'!A:A,'Grafico Strategie Settimanali'!B90,'Daily Diary'!E:E,\"PUNTA SQ.OSPITE\",'Daily Diary'!E:E,\"PUNTA SQ.OSPITE\",'Daily Diary'!K:K,\"WIN\")","v":0},{"$f":"COUNTIFS('Daily Diary'!A:A,'Grafico Strategie Settimanali'!B90,'Daily Diary'!E:E,\"BANCA SFAVORITA\",'Daily Diary'!E:E,\"BANCA SFAVORITA\",'Daily Diary'!K:K,\"WIN\")","v":0},{"$f":"COUNTIFS('Daily Diary'!A:A,'Grafico Strategie Settimanali'!B90,'Daily Diary'!E:E,\"PUNTA OVER\",'Daily Diary'!E:E,\"PUNTA OVER\",'Daily Diary'!K:K,\"WIN\")","v":0},{"$f":"COUNTIFS('Daily Diary'!A:A,'Grafico Strategie Settimanali'!B90,'Daily Diary'!E:E,\"PUNTA UNDER\",'Daily Diary'!E:E,\"PUNTA UNDER\",'Daily Diary'!K:K,\"WIN\")","v":0},{"$f":"COUNTIFS('Daily Diary'!A:A,'Grafico Strategie Settimanali'!B90,'Daily Diary'!E:E,\"SCALPING\",'Daily Diary'!E:E,\"SCALPING\",'Daily Diary'!K:K,\"WIN\")","v":0},{"$f":"COUNTIFS('Daily Diary'!A:A,'Grafico Strategie Settimanali'!B90,'Daily Diary'!E:E,\"GT 90\",'Daily Diary'!E:E,\"GT 90\",'Daily Diary'!K:K,\"WIN\")","v":0},{"$f":"COUNTIFS('Daily Diary'!A:A,'Grafico Strategie Settimanali'!B90,'Daily Diary'!E:E,\"GT 110\",'Daily Diary'!E:E,\"GT 110\",'Daily Diary'!K:K,\"WIN\")","v":0},{"$f":"COUNTIFS('Daily Diary'!A:A,'Grafico Strategie Settimanali'!B90,'Daily Diary'!E:E,\"ALERT GOAL\",'Daily Diary'!E:E,\"ALERT GOAL\",'Daily Diary'!K:K,\"WIN\")","v":0},{"$f":"COUNTIFS('Daily Diary'!A:A,'Grafico Strategie Settimanali'!B90,'Daily Diary'!E:E,\"DRAW NO BET\",'Daily Diary'!E:E,\"DRAW NO BET\",'Daily Diary'!K:K,\"WIN\")","v":0},{"$f":"COUNTIFS('Daily Diary'!A:A,'Grafico Strategie Settimanali'!B90,'Daily Diary'!E:E,\"ALTRO\",'Daily Diary'!E:E,\"ALTRO\",'Daily Diary'!K:K,\"WIN\")","v":0},{"$error":"#DIV/0!"},{"$error":"#DIV/0!"},{"$error":"#DIV/0!"},{"$error":"#DIV/0!"},{"$error":"#DIV/0!"},{"$error":"#DIV/0!"},{"$error":"#DIV/0!"},{"$error":"#DIV/0!"},{"$error":"#DIV/0!"},{"$error":"#DIV/0!"},{"$error":"#DIV/0!"},{"$error":"#DIV/0!"}]
[0,"2023-08-01",{"$f":"COUNTIFS('Daily Diary'!A:A,'Grafico Strategie Settimanali'!B91,'Daily Diary'!E:E,\"BANCA PAREGGIO\")","v":0},{"$f":"COUNTIFS('Daily Diary'!A:A,'Grafico Strategie Settimanali'!B91,'Daily Diary'!E:E,\"PUNTA SQ.CASA\")","v":0},{"$f":"COUNTIFS('Daily Diary'!A:A,'Grafico Strategie Settimanali'!B91,'Daily Diary'!E:E,\"PUNTA SQ.OSPITE\")","v":0},{"$f":"COUNTIFS('Daily Diary'!A:A,'Grafico Strategie Settimanali'!B91,'Daily Diary'!E:E,\"BANCA SFAVORITA\")","v":0},{"$f":"COUNTIFS('Daily Diary'!A:A,'Grafico Strategie Settimanali'!B91,'Daily Diary'!E:E,\"PUNTA OVER\")","v":0},{"$f":"COUNTIFS('Daily Diary'!A:A,'Grafico Strategie Settimanali'!B91,'Daily Diary'!E:E,\"PUNTA UNDER\")","v":0},{"$f":"COUNTIFS('Daily Diary'!A:A,'Grafico Strategie Settimanali'!B91,'Daily Diary'!E:E,\"SCALPING\")","v":0},{"$f":"COUNTIFS('Daily Diary'!A:A,'Grafico Strategie Settimanali'!B91,'Daily Diary'!E:E,\"GT90\")","v":0},{"$f":"COUNTIFS('Daily Diary'!A:A,'Grafico Strategie Settimanali'!B91,'Daily Diary'!E:E,\"GT110\")","v":0},{"$f":"COUNTIFS('Daily Diary'!A:A,'Grafico Strategie Settimanali'!B91,'Daily Diary'!E:E,\"ALERT GOAL\")","v":0},{"$f":"COUNTIFS('Daily Diary'!A:A,'Grafico Strategie Settimanali'!B91,'Daily Diary'!E:E,\"DRAW NO BET\")","v":0},{"$f":"COUNTIFS('Daily Diary'!A:A,'Grafico Strategie Settimanali'!B91,'Daily Diary'!E:E,\"ALTRO\")","v":0},{"$f":"COUNTIFS('Daily Diary'!A:A,'Grafico Strategie Settimanali'!B91,'Daily Diary'!E:E,\"BANCA PAREGGIO\",'Daily Diary'!E:E,\"BANCA PAREGGIO\",'Daily Diary'!K:K,\"WIN\")","v":0},{"$f":"COUNTIFS('Daily Diary'!A:A,'Grafico Strategie Settimanali'!B91,'Daily Diary'!E:E,\"PUNTA SQ.CASA\",'Daily Diary'!E:E,\"PUNTA SQ.CASA\",'Daily Diary'!K:K,\"WIN\")","v":0},{"$f":"COUNTIFS('Daily Diary'!A:A,'Grafico Strategie Settimanali'!B91,'Daily Diary'!E:E,\"PUNTA SQ.OSPITE\",'Daily Diary'!E:E,\"PUNTA SQ.OSPITE\",'Daily Diary'!K:K,\"WIN\")","v":0},{"$f":"COUNTIFS('Daily Diary'!A:A,'Grafico Strategie Settimanali'!B91,'Daily Diary'!E:E,\"BANCA SFAVORITA\",'Daily Diary'!E:E,\"BANCA SFAVORITA\",'Daily Diary'!K:K,\"WIN\")","v":0},{"$f":"COUNTIFS('Daily Diary'!A:A,'Grafico Strategie Settimanali'!B91,'Daily Diary'!E:E,\"PUNTA OVER\",'Daily Diary'!E:E,\"PUNTA OVER\",'Daily Diary'!K:K,\"WIN\")","v":0},{"$f":"COUNTIFS('Daily Diary'!A:A,'Grafico Strategie Settimanali'!B91,'Daily Diary'!E:E,\"PUNTA UNDER\",'Daily Diary'!E:E,\"PUNTA UNDER\",'Daily Diary'!K:K,\"WIN\")","v":0},{"$f":"COUNTIFS('Daily Diary'!A:A,'Grafico Strategie Settimanali'!B91,'Daily Diary'!E:E,\"SCALPING\",'Daily Diary'!E:E,\"SCALPING\",'Daily Diary'!K:K,\"WIN\")","v":0},{"$f":"COUNTIFS('Daily Diary'!A:A,'Grafico Strategie Settimanali'!B91,'Daily Diary'!E:E,\"GT 90\",'Daily Diary'!E:E,\"GT 90\",'Daily Diary'!K:K,\"WIN\")","v":0},{"$f":"COUNTIFS('Daily Diary'!A:A,'Grafico Strategie Settimanali'!B91,'Daily Diary'!E:E,\"GT 110\",'Daily Diary'!E:E,\"GT 110\",'Daily Diary'!K:K,\"WIN\")","v":0},{"$f":"COUNTIFS('Daily Diary'!A:A,'Grafico Strategie Settimanali'!B91,'Daily Diary'!E:E,\"ALERT GOAL\",'Daily Diary'!E:E,\"ALERT GOAL\",'Daily Diary'!K:K,\"WIN\")","v":0},{"$f":"COUNTIFS('Daily Diary'!A:A,'Grafico Strategie Settimanali'!B91,'Daily Diary'!E:E,\"DRAW NO BET\",'Daily Diary'!E:E,\"DRAW NO BET\",'Daily Diary'!K:K,\"WIN\")","v":0},{"$f":"COUNTIFS('Daily Diary'!A:A,'Grafico Strategie Settimanali'!B91,'Daily Diary'!E:E,\"ALTRO\",'Daily Diary'!E:E,\"ALTRO\",'Daily Diary'!K:K,\"WIN\")","v":0},{"$error":"#DIV/0!"},{"$error":"#DIV/0!"},{"$error":"#DIV/0!"},{"$error":"#DIV/0!"},{"$error":"#DIV/0!"},{"$error":"#DIV/0!"},{"$error":"#DIV/0!"},{"$error":"#DIV/0!"},{"$error":"#DIV/0!"},{"$error":"#DIV/0!"},{"$error":"#DIV/0!"},{"$error":"#DIV/0!"}]
[0,"2023-08-02",{"$f":"COUNTIFS('Daily Diary'!A:A,'Grafico Strategie Settimanali'!B92,'Daily Diary'!E:E,\"BANCA PAREGGIO\")","v":0},{"$f":"COUNTIFS('Daily Diary'!A:A,'Grafico Strategie Settimanali'!B92,'Daily Diary'!E:E,\"PUNTA SQ.CASA\")","v":0},{"$f":"COUNTIFS('Daily Diary'!A:A,'Grafico Strategie Settimanali'!B92,'Daily Diary'!E:E,\"PUNTA SQ.OSPITE\")","v":0},{"$f":"COUNTIFS('Daily Diary'!A:A,'Grafico Strategie Settimanali'!B92,'Daily Diary'!E:E,\"BANCA SFAVORITA\")","v":0},{"$f":"COUNTIFS('Daily Diary'!A:A,'Grafico Strategie Settimanali'!B92,'Daily Diary'!E:E,\"PUNTA OVER\")","v":0},{"$f":"COUNTIFS('Daily Diary'!A:A,'Grafico Strategie Settimanali'!B92,'Daily Diary'!E:E,\"PUNTA UNDER\")","v":0},{"$f":"COUNTIFS('Daily Diary'!A:A,'Grafico Strategie Settimanali'!B92,'Daily Diary'!E:E,\"SCALPING\")","v":0},{"$f":"COUNTIFS('Daily Diary'!A:A,'Grafico Strategie Settimanali'!B92,'Daily Diary'!E:E,\"GT90\")","v":0},{"$f":"COUNTIFS('Daily Diary'!A:A,'Grafico Strategie Settimanali'!B92,'Daily Diary'!E:E,\"GT110\")","v":0},{"$f":"COUNTIFS('Daily Diary'!A:A,'Grafico Strategie Settimanali'!B92,'Daily Diary'!E:E,\"ALERT GOAL\")","v":0},{"$f":"COUNTIFS('Daily Diary'!A:A,'Grafico Strategie Settimanali'!B92,'Daily Diary'!E:E,\"DRAW NO BET\")","v":0},{"$f":"COUNTIFS('Daily Diary'!A:A,'Grafico Strategie Settimanali'!B92,'Daily Diary'!E:E,\"ALTRO\")","v":0},{"$f":"COUNTIFS('Daily Diary'!A:A,'Grafico Strategie Settimanali'!B92,'Daily Diary'!E:E,\"BANCA PAREGGIO\",'Daily Diary'!E:E,\"BANCA PAREGGIO\",'Daily Diary'!K:K,\"WIN\")","v":0},{"$f":"COUNTIFS('Daily Diary'!A:A,'Grafico Strategie Settimanali'!B92,'Daily Diary'!E:E,\"PUNTA SQ.CASA\",'Daily Diary'!E:E,\"PUNTA SQ.CASA\",'Daily Diary'!K:K,\"WIN\")","v":0},{"$f":"COUNTIFS('Daily Diary'!A:A,'Grafico Strategie Settimanali'!B92,'Daily Diary'!E:E,\"PUNTA SQ.OSPITE\",'Daily Diary'!E:E,\"PUNTA SQ.OSPITE\",'Daily Diary'!K:K,\"WIN\")","v":0},{"$f":"COUNTIFS('Daily Diary'!A:A,'Grafico Strategie Settimanali'!B92,'Daily Diary'!E:E,\"BANCA SFAVORITA\",'Daily Diary'!E:E,\"BANCA SFAVORITA\",'Daily Diary'!K:K,\"WIN\")","v":0},{"$f":"COUNTIFS('Daily Diary'!A:A,'Grafico Strategie Settimanali'!B92,'Daily Diary'!E:E,\"PUNTA OVER\",'Daily Diary'!E:E,\"PUNTA OVER\",'Daily Diary'!K:K,\"WIN\")","v":0},{"$f":"COUNTIFS('Daily Diary'!A:A,'Grafico Strategie Settimanali'!B92,'Daily Diary'!E:E,\"PUNTA UNDER\",'Daily Diary'!E:E,\"PUNTA UNDER\",'Daily Diary'!K:K,\"WIN\")","v":0},{"$f":"COUNTIFS('Daily Diary'!A:A,'Grafico Strategie Settimanali'!B92,'Daily Diary'!E:E,\"SCALPING\",'Daily Diary'!E:E,\"SCALPING\",'Daily Diary'!K:K,\"WIN\")","v":0},{"$f":"COUNTIFS('Daily Diary'!A:A,'Grafico Strategie Settimanali'!B92,'Daily Diary'!E:E,\"GT 90\",'Daily Diary'!E:E,\"GT 90\",'Daily Diary'!K:K,\"WIN\")","v":0},{"$f":"COUNTIFS('Daily Diary'!A:A,'Grafico Strategie Settimanali'!B92,'Daily Diary'!E:E,\"GT 110\",'Daily Diary'!E:E,\"GT 110\",'Daily Diary'!K:K,\"WIN\")","v":0},{"$f":"COUNTIFS('Daily Diary'!A:A,'Grafico Strategie Settimanali'!B92,'Daily Diary'!E:E,\"ALERT GOAL\",'Daily Diary'!E:E,\"ALERT GOAL\",'Daily Diary'!K:K,\"WIN\")","v":0},{"$f":"COUNTIFS('Daily Diary'!A:A,'Grafico Strategie Settimanali'!B92,'Daily Diary'!E:E,\"DRAW NO BET\",'Daily Diary'!E:E,\"DRAW NO BET\",'Daily Diary'!K:K,\"WIN\")","v":0},{"$f":"COUNTIFS('Daily Diary'!A:A,'Grafico Strategie Settimanali'!B92,'Daily Diary'!E:E,\"ALTRO\",'Daily Diary'!E:E,\"ALTRO\",'Daily Diary'!K:K,\"WIN\")","v":0},{"$error":"#DIV/0!"},{"$error":"#DIV/0!"},{"$error":"#DIV/0!"},{"$error":"#DIV/0!"},{"$error":"#DIV/0!"},{"$error":"#DIV/0!"},{"$error":"#DIV/0!"},{"$error":"#DIV/0!"},{"$error":"#DIV/0!"},{"$f":"X92/L92","v":{"$error":"#DIV/0!"}},{"$error":"#DIV/0!"},{"$error":"#DIV/0!"}]
[0,"2023-08-03",{"$f":"COUNTIFS('Daily Diary'!A:A,'Grafico Strategie Settimanali'!B93,'Daily Diary'!E:E,\"BANCA PAREGGIO\")","v":0},{"$f":"COUNTIFS('Daily Diary'!A:A,'Grafico Strategie Settimanali'!B93,'Daily Diary'!E:E,\"PUNTA SQ.CASA\")","v":0},{"$f":"COUNTIFS('Daily Diary'!A:A,'Grafico Strategie Settimanali'!B93,'Daily Diary'!E:E,\"PUNTA SQ.OSPITE\")","v":0},{"$f":"COUNTIFS('Daily Diary'!A:A,'Grafico Strategie Settimanali'!B93,'Daily Diary'!E:E,\"BANCA SFAVORITA\")","v":0},{"$f":"COUNTIFS('Daily Diary'!A:A,'Grafico Strategie Settimanali'!B93,'Daily Diary'!E:E,\"PUNTA OVER\")","v":0},{"$f":"COUNTIFS('Daily Diary'!A:A,'Grafico Strategie Settimanali'!B93,'Daily Diary'!E:E,\"PUNTA UNDER\")","v":0},{"$f":"COUNTIFS('Daily Diary'!A:A,'Grafico Strategie Settimanali'!B93,'Daily Diary'!E:E,\"SCALPING\")","v":0},{"$f":"COUNTIFS('Daily Diary'!A:A,'Grafico Strategie Settimanali'!B93,'Daily Diary'!E:E,\"GT90\")","v":0},{"$f":"COUNTIFS('Daily Diary'!A:A,'Grafico Strategie Settimanali'!B93,'Daily Diary'!E:E,\"GT110\")","v":0},{"$f":"COUNTIFS('Daily Diary'!A:A,'Grafico Strategie Settimanali'!B93,'Daily Diary'!E:E,\"ALERT GOAL\")","v":0},{"$f":"COUNTIFS('Daily Diary'!A:A,'Grafico Strategie Settimanali'!B93,'Daily Diary'!E:E,\"DRAW NO BET\")","v":0},{"$f":"COUNTIFS('Daily Diary'!A:A,'Grafico Strategie Settimanali'!B93,'Daily Diary'!E:E,\"ALTRO\")","v":0},{"$f":"COUNTIFS('Daily Diary'!A:A,'Grafico Strategie Settimanali'!B93,'Daily Diary'!E:E,\"BANCA PAREGGIO\",'Daily Diary'!E:E,\"BANCA PAREGGIO\",'Daily Diary'!K:K,\"WIN\")","v":0},{"$f":"COUNTIFS('Daily Diary'!A:A,'Grafico Strategie Settimanali'!B93,'Daily Diary'!E:E,\"PUNTA SQ.CASA\",'Daily Diary'!E:E,\"PUNTA SQ.CASA\",'Daily Diary'!K:K,\"WIN\")","v":0},{"$f":"COUNTIFS('Daily Diary'!A:A,'Grafico Strategie Settimanali'!B93,'Daily Diary'!E:E,\"PUNTA SQ.OSPITE\",'Daily Diary'!E:E,\"PUNTA SQ.OSPITE\",'Daily Diary'!K:K,\"WIN\")","v":0},{"$f":"COUNTIFS('Daily Diary'!A:A,'Grafico Strategie Settimanali'!B93,'Daily Diary'!E:E,\"BANCA SFAVORITA\",'Daily Diary'!E:E,\"BANCA SFAVORITA\",'Daily Diary'!K:K,\"WIN\")","v":0},{"$f":"COUNTIFS('Daily Diary'!A:A,'Grafico Strategie Settimanali'!B93,'Daily Diary'!E:E,\"PUNTA OVER\",'Daily Diary'!E:E,\"PUNTA OVER\",'Daily Diary'!K:K,\"WIN\")","v":0},{"$f":"COUNTIFS('Daily Diary'!A:A,'Grafico Strategie Settimanali'!B93,'Daily Diary'!E:E,\"PUNTA UNDER\",'Daily Diary'!E:E,\"PUNTA UNDER\",'Daily Diary'!K:K,\"WIN\")","v":0},{"$f":"COUNTIFS('Daily Diary'!A:A,'Grafico Strategie Settimanali'!B93,'Daily Diary'!E:E,\"SCALPING\",'Daily Diary'!E:E,\"SCALPING\",'Daily Diary'!K:K,\"WIN\")","v":0},{"$f":"COUNTIFS('Daily Diary'!A:A,'Grafico Strategie Settimanali'!B93,'Daily Diary'!E:E,\"GT 90\",'Daily Diary'!E:E,\"GT 90\",'Daily Diary'!K:K,\"WIN\")","v":0},{"$f":"COUNTIFS('Daily Diary'!A:A,'Grafico Strategie Settimanali'!B93,'Daily Diary'!E:E,\"GT 110\",'Daily Diary'!E:E,\"GT 110\",'Daily Diary'!K:K,\"WIN\")","v":0},{"$f":"COUNTIFS('Daily Diary'!A:A,'Grafico Strategie Settimanali'!B93,'Daily Diary'!E:E,\"ALERT GOAL\",'Daily Diary'!E:E,\"ALERT GOAL\",'Daily Diary'!K:K,\"WIN\")","v":0},{"$f":"COUNTIFS('Daily Diary'!A:A,'Grafico Strategie Settimanali'!B93,'Daily Diary'!E:E,\"DRAW NO BET\",'Daily Diary'!E:E,\"DRAW NO BET\",'Daily Diary'!K:K,\"WIN\")","v":0},{"$f":"COUNTIFS('Daily Diary'!A:A,'Grafico Strategie Settimanali'!B93,'Daily Diary'!E:E,\"ALTRO\",'Daily Diary'!E:E,\"ALTRO\",'Daily Diary'!K:K,\"WIN\")","v":0},{"$error":"#DIV/0!"},{"$error":"#DIV/0!"},{"$error":"#DIV/0!"},{"$error":"#DIV/0!"},{"$error":"#DIV/0!"},{"$error":"#DIV/0!"},{"$error":"#DIV/0!"},{"$error":"#DIV/0!"},{"$error":"#DIV/0!"},{"$error":"#DIV/0!"},{"$error":"#DIV/0!"},{"$error":"#DIV/0!"}]
[0,"2023-08-04",{"$f":"COUNTIFS('Daily Diary'!A:A,'Grafico Strategie Settimanali'!B94,'Daily Diary'!E:E,\"BANCA PAREGGIO\")","v":0},{"$f":"COUNTIFS('Daily Diary'!A:A,'Grafico Strategie Settimanali'!B94,'Daily Diary'!E:E,\"PUNTA SQ.CASA\")","v":0},{"$f":"COUNTIFS('Daily Diary'!A:A,'Grafico Strategie Settimanali'!B94,'Daily Diary'!E:E,\"PUNTA SQ.OSPITE\")","v":0},{"$f":"COUNTIFS('Daily Diary'!A:A,'Grafico Strategie Settimanali'!B94,'Daily Diary'!E:E,\"BANCA SFAVORITA\")","v":0},{"$f":"COUNTIFS('Daily Diary'!A:A,'Grafico Strategie Settimanali'!B94,'Daily Diary'!E:E,\"PUNTA OVER\")","v":0},{"$f":"COUNTIFS('Daily Diary'!A:A,'Grafico Strategie Settimanali'!B94,'Daily Diary'!E:E,\"PUNTA UNDER\")","v":0},{"$f":"COUNTIFS('Daily Diary'!A:A,'Grafico Strategie Settimanali'!B94,'Daily Diary'!E:E,\"SCALPING\")","v":0},{"$f":"COUNTIFS('Daily Diary'!A:A,'Grafico Strategie Settimanali'!B94,'Daily Diary'!E:E,\"GT90\")","v":0},{"$f":"COUNTIFS('Daily Diary'!A:A,'Grafico Strategie Settimanali'!B94,'Daily Diary'!E:E,\"GT110\")","v":0},{"$f":"COUNTIFS('Daily Diary'!A:A,'Grafico Strategie Settimanali'!B94,'Daily Diary'!E:E,\"ALERT GOAL\")","v":0},{"$f":"COUNTIFS('Daily Diary'!A:A,'Grafico Strategie Settimanali'!B94,'Daily Diary'!E:E,\"DRAW NO BET\")","v":0},{"$f":"COUNTIFS('Daily Diary'!A:A,'Grafico Strategie Settimanali'!B94,'Daily Diary'!E:E,\"ALTRO\")","v":0},{"$f":"COUNTIFS('Daily Diary'!A:A,'Grafico Strategie Settimanali'!B94,'Daily Diary'!E:E,\"BANCA PAREGGIO\",'Daily Diary'!E:E,\"BANCA PAREGGIO\",'Daily Diary'!K:K,\"WIN\")","v":0},{"$f":"COUNTIFS('Daily Diary'!A:A,'Grafico Strategie Settimanali'!B94,'Daily Diary'!E:E,\"PUNTA SQ.CASA\",'Daily Diary'!E:E,\"PUNTA SQ.CASA\",'Daily Diary'!K:K,\"WIN\")","v":0},{"$f":"COUNTIFS('Daily Diary'!A:A,'Grafico Strategie Settimanali'!B94,'Daily Diary'!E:E,\"PUNTA SQ.OSPITE\",'Daily Diary'!E:E,\"PUNTA SQ.OSPITE\",'Daily Diary'!K:K,\"WIN\")","v":0},{"$f":"COUNTIFS('Daily Diary'!A:A,'Grafico Strategie Settimanali'!B94,'Daily Diary'!E:E,\"BANCA SFAVORITA\",'Daily Diary'!E:E,\"BANCA SFAVORITA\",'Daily Diary'!K:K,\"WIN\")","v":0},{"$f":"COUNTIFS('Daily Diary'!A:A,'Grafico Strategie Settimanali'!B94,'Daily Diary'!E:E,\"PUNTA OVER\",'Daily Diary'!E:E,\"PUNTA OVER\",'Daily Diary'!K:K,\"WIN\")","v":0},{"$f":"COUNTIFS('Daily Diary'!A:A,'Grafico Strategie Settimanali'!B94,'Daily Diary'!E:E,\"PUNTA UNDER\",'Daily Diary'!E:E,\"PUNTA UNDER\",'Daily Diary'!K:K,\"WIN\")","v":0},{"$f":"COUNTIFS('Daily Diary'!A:A,'Grafico Strategie Settimanali'!B94,'Daily Diary'!E:E,\"SCALPING\",'Daily Diary'!E:E,\"SCALPING\",'Daily Diary'!K:K,\"WIN\")","v":0},{"$f":"COUNTIFS('Daily Diary'!A:A,'Grafico Strategie Settimanali'!B94,'Daily Diary'!E:E,\"GT 90\",'Daily Diary'!E:E,\"GT 90\",'Daily Diary'!K:K,\"WIN\")","v":0},{"$f":"COUNTIFS('Daily Diary'!A:A,'Grafico Strategie Settimanali'!B94,'Daily Diary'!E:E,\"GT 110\",'Daily Diary'!E:E,\"GT 110\",'Daily Diary'!K:K,\"WIN\")","v":0},{"$f":"COUNTIFS('Daily Diary'!A:A,'Grafico Strategie Settimanali'!B94,'Daily Diary'!E:E,\"ALERT GOAL\",'Daily Diary'!E:E,\"ALERT GOAL\",'Daily Diary'!K:K,\"WIN\")","v":0},{"$f":"COUNTIFS('Daily Diary'!A:A,'Grafico Strategie Settimanali'!B94,'Daily Diary'!E:E,\"DRAW NO BET\",'Daily Diary'!E:E,\"DRAW NO BET\",'Daily Diary'!K:K,\"WIN\")","v":0},{"$f":"COUNTIFS('Daily Diary'!A:A,'Grafico Strategie Settimanali'!B94,'Daily Diary'!E:E,\"ALTRO\",'Daily Diary'!E:E,\"ALTRO\",'Daily Diary'!K:K,\"WIN\")","v":0},{"$error":"#DIV/0!"},{"$error":"#DIV/0!"},{"$error":"#DIV/0!"},{"$error":"#DIV/0!"},{"$error":"#DIV/0!"},{"$error":"#DIV/0!"},{"$error":"#DIV/0!"},{"$error":"#DIV/0!"},{"$error":"#DIV/0!"},{"$error":"#DIV/0!"},{"$error":"#DIV/0!"},{"$error":"#DIV/0!"}]
[0,"2023-08-05",{"$f":"COUNTIFS('Daily Diary'!A:A,'Grafico Strategie Settimanali'!B95,'Daily Diary'!E:E,\"BANCA PAREGGIO\")","v":0},{"$f":"COUNTIFS('Daily Diary'!A:A,'Grafico Strategie Settimanali'!B95,'Daily Diary'!E:E,\"PUNTA SQ.CASA\")","v":0},{"$f":"COUNTIFS('Daily Diary'!A:A,'Grafico Strategie Settimanali'!B95,'Daily Diary'!E:E,\"PUNTA SQ.OSPITE\")","v":0},{"$f":"COUNTIFS('Daily Diary'!A:A,'Grafico Strategie Settimanali'!B95,'Daily Diary'!E:E,\"BANCA SFAVORITA\")","v":0},{"$f":"COUNTIFS('Daily Diary'!A:A,'Grafico Strategie Settimanali'!B95,'Daily Diary'!E:E,\"PUNTA OVER\")","v":0},{"$f":"COUNTIFS('Daily Diary'!A:A,'Grafico Strategie Settimanali'!B95,'Daily Diary'!E:E,\"PUNTA UNDER\")","v":0},{"$f":"COUNTIFS('Daily Diary'!A:A,'Grafico Strategie Settimanali'!B95,'Daily Diary'!E:E,\"SCALPING\")","v":0},{"$f":"COUNTIFS('Daily Diary'!A:A,'Grafico Strategie Settimanali'!B95,'Daily Diary'!E:E,\"GT90\")","v":0},{"$f":"COUNTIFS('Daily Diary'!A:A,'Grafico Strategie Settimanali'!B95,'Daily Diary'!E:E,\"GT110\")","v":0},{"$f":"COUNTIFS('Daily Diary'!A:A,'Grafico Strategie Settimanali'!B95,'Daily Diary'!E:E,\"ALERT GOAL\")","v":0},{"$f":"COUNTIFS('Daily Diary'!A:A,'Grafico Strategie Settimanali'!B95,'Daily Diary'!E:E,\"DRAW NO BET\")","v":0},{"$f":"COUNTIFS('Daily Diary'!A:A,'Grafico Strategie Settimanali'!B95,'Daily Diary'!E:E,\"ALTRO\")","v":0},{"$f":"COUNTIFS('Daily Diary'!A:A,'Grafico Strategie Settimanali'!B95,'Daily Diary'!E:E,\"BANCA PAREGGIO\",'Daily Diary'!E:E,\"BANCA PAREGGIO\",'Daily Diary'!K:K,\"WIN\")","v":0},{"$f":"COUNTIFS('Daily Diary'!A:A,'Grafico Strategie Settimanali'!B95,'Daily Diary'!E:E,\"PUNTA SQ.CASA\",'Daily Diary'!E:E,\"PUNTA SQ.CASA\",'Daily Diary'!K:K,\"WIN\")","v":0},{"$f":"COUNTIFS('Daily Diary'!A:A,'Grafico Strategie Settimanali'!B95,'Daily Diary'!E:E,\"PUNTA SQ.OSPITE\",'Daily Diary'!E:E,\"PUNTA SQ.OSPITE\",'Daily Diary'!K:K,\"WIN\")","v":0},{"$f":"COUNTIFS('Daily Diary'!A:A,'Grafico Strategie Settimanali'!B95,'Daily Diary'!E:E,\"BANCA SFAVORITA\",'Daily Diary'!E:E,\"BANCA SFAVORITA\",'Daily Diary'!K:K,\"WIN\")","v":0},{"$f":"COUNTIFS('Daily Diary'!A:A,'Grafico Strategie Settimanali'!B95,'Daily Diary'!E:E,\"PUNTA OVER\",'Daily Diary'!E:E,\"PUNTA OVER\",'Daily Diary'!K:K,\"WIN\")","v":0},{"$f":"COUNTIFS('Daily Diary'!A:A,'Grafico Strategie Settimanali'!B95,'Daily Diary'!E:E,\"PUNTA UNDER\",'Daily Diary'!E:E,\"PUNTA UNDER\",'Daily Diary'!K:K,\"WIN\")","v":0},{"$f":"COUNTIFS('Daily Diary'!A:A,'Grafico Strategie Settimanali'!B95,'Daily Diary'!E:E,\"SCALPING\",'Daily Diary'!E:E,\"SCALPING\",'Daily Diary'!K:K,\"WIN\")","v":0},{"$f":"COUNTIFS('Daily Diary'!A:A,'Grafico Strategie Settimanali'!B95,'Daily Diary'!E:E,\"GT 90\",'Daily Diary'!E:E,\"GT 90\",'Daily Diary'!K:K,\"WIN\")","v":0},{"$f":"COUNTIFS('Daily Diary'!A:A,'Grafico Strategie Settimanali'!B95,'Daily Diary'!E:E,\"GT 110\",'Daily Diary'!E:E,\"GT 110\",'Daily Diary'!K:K,\"WIN\")","v":0},{"$f":"COUNTIFS('Daily Diary'!A:A,'Grafico Strategie Settimanali'!B95,'Daily Diary'!E:E,\"ALERT GOAL\",'Daily Diary'!E:E,\"ALERT GOAL\",'Daily Diary'!K:K,\"WIN\")","v":0},{"$f":"COUNTIFS('Daily Diary'!A:A,'Grafico Strategie Settimanali'!B95,'Daily Diary'!E:E,\"DRAW NO BET\",'Daily Diary'!E:E,\"DRAW NO BET\",'Daily Diary'!K:K,\"WIN\")","v":0},{"$f":"COUNTIFS('Daily Diary'!A:A,'Grafico Strategie Settimanali'!B95,'Daily Diary'!E:E,\"ALTRO\",'Daily Diary'!E:E,\"ALTRO\",'Daily Diary'!K:K,\"WIN\")","v":0},{"$error":"#DIV/0!"},{"$error":"#DIV/0!"},{"$error":"#DIV/0!"},{"$error":"#DIV/0!"},{"$error":"#DIV/0!"},{"$error":"#DIV/0!"},{"$error":"#DIV/0!"},{"$error":"#DIV/0!"},{"$error":"#DIV/0!"},{"$error":"#DIV/0!"},{"$error":"#DIV/0!"},{"$error":"#DIV/0!"}]
[0,"2023-08-06",{"$f":"COUNTIFS('Daily Diary'!A:A,'Grafico Strategie Settimanali'!B96,'Daily Diary'!E:E,\"BANCA PAREGGIO\")","v":0},{"$f":"COUNTIFS('Daily Diary'!A:A,'Grafico Strategie Settimanali'!B96,'Daily Diary'!E:E,\"PUNTA SQ.CASA\")","v":0},{"$f":"COUNTIFS('Daily Diary'!A:A,'Grafico Strategie Settimanali'!B96,'Daily Diary'!E:E,\"PUNTA SQ.OSPITE\")","v":0},{"$f":"COUNTIFS('Daily Diary'!A:A,'Grafico Strategie Settimanali'!B96,'Daily Diary'!E:E,\"BANCA SFAVORITA\")","v":0},{"$f":"COUNTIFS('Daily Diary'!A:A,'Grafico Strategie Settimanali'!B96,'Daily Diary'!E:E,\"PUNTA OVER\")","v":0},{"$f":"COUNTIFS('Daily Diary'!A:A,'Grafico Strategie Settimanali'!B96,'Daily Diary'!E:E,\"PUNTA UNDER\")","v":0},{"$f":"COUNTIFS('Daily Diary'!A:A,'Grafico Strategie Settimanali'!B96,'Daily Diary'!E:E,\"SCALPING\")","v":0},{"$f":"COUNTIFS('Daily Diary'!A:A,'Grafico Strategie Settimanali'!B96,'Daily Diary'!E:E,\"GT90\")","v":0},{"$f":"COUNTIFS('Daily Diary'!A:A,'Grafico Strategie Settimanali'!B96,'Daily Diary'!E:E,\"GT110\")","v":0},{"$f":"COUNTIFS('Daily Diary'!A:A,'Grafico Strategie Settimanali'!B96,'Daily Diary'!E:E,\"ALERT GOAL\")","v":0},{"$f":"COUNTIFS('Daily Diary'!A:A,'Grafico Strategie Settimanali'!B96,'Daily Diary'!E:E,\"DRAW NO BET\")","v":0},{"$f":"COUNTIFS('Daily Diary'!A:A,'Grafico Strategie Settimanali'!B96,'Daily Diary'!E:E,\"ALTRO\")","v":0},{"$f":"COUNTIFS('Daily Diary'!A:A,'Grafico Strategie Settimanali'!B96,'Daily Diary'!E:E,\"BANCA PAREGGIO\",'Daily Diary'!E:E,\"BANCA PAREGGIO\",'Daily Diary'!K:K,\"WIN\")","v":0},{"$f":"COUNTIFS('Daily Diary'!A:A,'Grafico Strategie Settimanali'!B96,'Daily Diary'!E:E,\"PUNTA SQ.CASA\",'Daily Diary'!E:E,\"PUNTA SQ.CASA\",'Daily Diary'!K:K,\"WIN\")","v":0},{"$f":"COUNTIFS('Daily Diary'!A:A,'Grafico Strategie Settimanali'!B96,'Daily Diary'!E:E,\"PUNTA SQ.OSPITE\",'Daily Diary'!E:E,\"PUNTA SQ.OSPITE\",'Daily Diary'!K:K,\"WIN\")","v":0},{"$f":"COUNTIFS('Daily Diary'!A:A,'Grafico Strategie Settimanali'!B96,'Daily Diary'!E:E,\"BANCA SFAVORITA\",'Daily Diary'!E:E,\"BANCA SFAVORITA\",'Daily Diary'!K:K,\"WIN\")","v":0},{"$f":"COUNTIFS('Daily Diary'!A:A,'Grafico Strategie Settimanali'!B96,'Daily Diary'!E:E,\"PUNTA OVER\",'Daily Diary'!E:E,\"PUNTA OVER\",'Daily Diary'!K:K,\"WIN\")","v":0},{"$f":"COUNTIFS('Daily Diary'!A:A,'Grafico Strategie Settimanali'!B96,'Daily Diary'!E:E,\"PUNTA UNDER\",'Daily Diary'!E:E,\"PUNTA UNDER\",'Daily Diary'!K:K,\"WIN\")","v":0},{"$f":"COUNTIFS('Daily Diary'!A:A,'Grafico Strategie Settimanali'!B96,'Daily Diary'!E:E,\"SCALPING\",'Daily Diary'!E:E,\"SCALPING\",'Daily Diary'!K:K,\"WIN\")","v":0},{"$f":"COUNTIFS('Daily Diary'!A:A,'Grafico Strategie Settimanali'!B96,'Daily Diary'!E:E,\"GT 90\",'Daily Diary'!E:E,\"GT 90\",'Daily Diary'!K:K,\"WIN\")","v":0},{"$f":"COUNTIFS('Daily Diary'!A:A,'Grafico Strategie Settimanali'!B96,'Daily Diary'!E:E,\"GT 110\",'Daily Diary'!E:E,\"GT 110\",'Daily Diary'!K:K,\"WIN\")","v":0},{"$f":"COUNTIFS('Daily Diary'!A:A,'Grafico Strategie Settimanali'!B96,'Daily Diary'!E:E,\"ALERT GOAL\",'Daily Diary'!E:E,\"ALERT GOAL\",'Daily Diary'!K:K,\"WIN\")","v":0},{"$f":"COUNTIFS('Daily Diary'!A:A,'Grafico Strategie Settimanali'!B96,'Daily Diary'!E:E,\"DRAW NO BET\",'Daily Diary'!E:E,\"DRAW NO BET\",'Daily Diary'!K:K,\"WIN\")","v":0},{"$f":"COUNTIFS('Daily Diary'!A:A,'Grafico Strategie Settimanali'!B96,'Daily Diary'!E:E,\"ALTRO\",'Daily Diary'!E:E,\"ALTRO\",'Daily Diary'!K:K,\"WIN\")","v":0},{"$error":"#DIV/0!"},{"$error":"#DIV/0!"},{"$error":"#DIV/0!"},{"$error":"#DIV/0!"},{"$error":"#DIV/0!"},{"$error":"#DIV/0!"},{"$error":"#DIV/0!"},{"$error":"#DIV/0!"},{"$error":"#DIV/0!"},{"$error":"#DIV/0!"},{"$error":"#DIV/0!"},{"$error":"#DIV/0!"}]
[0,"2023-08-07",{"$f":"COUNTIFS('Daily Diary'!A:A,'Grafico Strategie Settimanali'!B97,'Daily Diary'!E:E,\"BANCA PAREGGIO\")","v":0},{"$f":"COUNTIFS('Daily Diary'!A:A,'Grafico Strategie Settimanali'!B97,'Daily Diary'!E:E,\"PUNTA SQ.CASA\")","v":0},{"$f":"COUNTIFS('Daily Diary'!A:A,'Grafico Strategie Settimanali'!B97,'Daily Diary'!E:E,\"PUNTA SQ.OSPITE\")","v":0},{"$f":"COUNTIFS('Daily Diary'!A:A,'Grafico Strategie Settimanali'!B97,'Daily Diary'!E:E,\"BANCA SFAVORITA\")","v":0},{"$f":"COUNTIFS('Daily Diary'!A:A,'Grafico Strategie Settimanali'!B97,'Daily Diary'!E:E,\"PUNTA OVER\")","v":0},{"$f":"COUNTIFS('Daily Diary'!A:A,'Grafico Strategie Settimanali'!B97,'Daily Diary'!E:E,\"PUNTA UNDER\")","v":0},{"$f":"COUNTIFS('Daily Diary'!A:A,'Grafico Strategie Settimanali'!B97,'Daily Diary'!E:E,\"SCALPING\")","v":0},{"$f":"COUNTIFS('Daily Diary'!A:A,'Grafico Strategie Settimanali'!B97,'Daily Diary'!E:E,\"GT90\")","v":0},{"$f":"COUNTIFS('Daily Diary'!A:A,'Grafico Strategie Settimanali'!B97,'Daily Diary'!E:E,\"GT110\")","v":0},{"$f":"COUNTIFS('Daily Diary'!A:A,'Grafico Strategie Settimanali'!B97,'Daily Diary'!E:E,\"ALERT GOAL\")","v":0},{"$f":"COUNTIFS('Daily Diary'!A:A,'Grafico Strategie Settimanali'!B97,'Daily Diary'!E:E,\"DRAW NO BET\")","v":0},{"$f":"COUNTIFS('Daily Diary'!A:A,'Grafico Strategie Settimanali'!B97,'Daily Diary'!E:E,\"ALTRO\")","v":0},{"$f":"COUNTIFS('Daily Diary'!A:A,'Grafico Strategie Settimanali'!B97,'Daily Diary'!E:E,\"BANCA PAREGGIO\",'Daily Diary'!E:E,\"BANCA PAREGGIO\",'Daily Diary'!K:K,\"WIN\")","v":0},{"$f":"COUNTIFS('Daily Diary'!A:A,'Grafico Strategie Settimanali'!B97,'Daily Diary'!E:E,\"PUNTA SQ.CASA\",'Daily Diary'!E:E,\"PUNTA SQ.CASA\",'Daily Diary'!K:K,\"WIN\")","v":0},{"$f":"COUNTIFS('Daily Diary'!A:A,'Grafico Strategie Settimanali'!B97,'Daily Diary'!E:E,\"PUNTA SQ.OSPITE\",'Daily Diary'!E:E,\"PUNTA SQ.OSPITE\",'Daily Diary'!K:K,\"WIN\")","v":0},{"$f":"COUNTIFS('Daily Diary'!A:A,'Grafico Strategie Settimanali'!B97,'Daily Diary'!E:E,\"BANCA SFAVORITA\",'Daily Diary'!E:E,\"BANCA SFAVORITA\",'Daily Diary'!K:K,\"WIN\")","v":0},{"$f":"COUNTIFS('Daily Diary'!A:A,'Grafico Strategie Settimanali'!B97,'Daily Diary'!E:E,\"PUNTA OVER\",'Daily Diary'!E:E,\"PUNTA OVER\",'Daily Diary'!K:K,\"WIN\")","v":0},{"$f":"COUNTIFS('Daily Diary'!A:A,'Grafico Strategie Settimanali'!B97,'Daily Diary'!E:E,\"PUNTA UNDER\",'Daily Diary'!E:E,\"PUNTA UNDER\",'Daily Diary'!K:K,\"WIN\")","v":0},{"$f":"COUNTIFS('Daily Diary'!A:A,'Grafico Strategie Settimanali'!B97,'Daily Diary'!E:E,\"SCALPING\",'Daily Diary'!E:E,\"SCALPING\",'Daily Diary'!K:K,\"WIN\")","v":0},{"$f":"COUNTIFS('Daily Diary'!A:A,'Grafico Strategie Settimanali'!B97,'Daily Diary'!E:E,\"GT 90\",'Daily Diary'!E:E,\"GT 90\",'Daily Diary'!K:K,\"WIN\")","v":0},{"$f":"COUNTIFS('Daily Diary'!A:A,'Grafico Strategie Settimanali'!B97,'Daily Diary'!E:E,\"GT 110\",'Daily Diary'!E:E,\"GT 110\",'Daily Diary'!K:K,\"WIN\")","v":0},{"$f":"COUNTIFS('Daily Diary'!A:A,'Grafico Strategie Settimanali'!B97,'Daily Diary'!E:E,\"ALERT GOAL\",'Daily Diary'!E:E,\"ALERT GOAL\",'Daily Diary'!K:K,\"WIN\")","v":0},{"$f":"COUNTIFS('Daily Diary'!A:A,'Grafico Strategie Settimanali'!B97,'Daily Diary'!E:E,\"DRAW NO BET\",'Daily Diary'!E:E,\"DRAW NO BET\",'Daily Diary'!K:K,\"WIN\")","v":0},{"$f":"COUNTIFS('Daily Diary'!A:A,'Grafico Strategie Settimanali'!B97,'Daily Diary'!E:E,\"ALTRO\",'Daily Diary'!E:E,\"ALTRO\",'Daily Diary'!K:K,\"WIN\")","v":0},{"$error":"#DIV/0!"},{"$error":"#DIV/0!"},{"$error":"#DIV/0!"},{"$error":"#DIV/0!"},{"$error":"#DIV/0!"},{"$error":"#DIV/0!"},{"$error":"#DIV/0!"},{"$error":"#DIV/0!"},{"$error":"#DIV/0!"},{"$error":"#DIV/0!"},{"$error":"#DIV/0!"},{"$error":"#DIV/0!"}]
[0,"2023-08-08",{"$f":"COUNTIFS('Daily Diary'!A:A,'Grafico Strategie Settimanali'!B98,'Daily Diary'!E:E,\"BANCA PAREGGIO\")","v":0},{"$f":"COUNTIFS('Daily Diary'!A:A,'Grafico Strategie Settimanali'!B98,'Daily Diary'!E:E,\"PUNTA SQ.CASA\")","v":0},{"$f":"COUNTIFS('Daily Diary'!A:A,'Grafico Strategie Settimanali'!B98,'Daily Diary'!E:E,\"PUNTA SQ.OSPITE\")","v":0},{"$f":"COUNTIFS('Daily Diary'!A:A,'Grafico Strategie Settimanali'!B98,'Daily Diary'!E:E,\"BANCA SFAVORITA\")","v":0},{"$f":"COUNTIFS('Daily Diary'!A:A,'Grafico Strategie Settimanali'!B98,'Daily Diary'!E:E,\"PUNTA OVER\")","v":0},{"$f":"COUNTIFS('Daily Diary'!A:A,'Grafico Strategie Settimanali'!B98,'Daily Diary'!E:E,\"PUNTA UNDER\")","v":0},{"$f":"COUNTIFS('Daily Diary'!A:A,'Grafico Strategie Settimanali'!B98,'Daily Diary'!E:E,\"SCALPING\")","v":0},{"$f":"COUNTIFS('Daily Diary'!A:A,'Grafico Strategie Settimanali'!B98,'Daily Diary'!E:E,\"GT90\")","v":0},{"$f":"COUNTIFS('Daily Diary'!A:A,'Grafico Strategie Settimanali'!B98,'Daily Diary'!E:E,\"GT110\")","v":0},{"$f":"COUNTIFS('Daily Diary'!A:A,'Grafico Strategie Settimanali'!B98,'Daily Diary'!E:E,\"ALERT GOAL\")","v":0},{"$f":"COUNTIFS('Daily Diary'!A:A,'Grafico Strategie Settimanali'!B98,'Daily Diary'!E:E,\"DRAW NO BET\")","v":0},{"$f":"COUNTIFS('Daily Diary'!A:A,'Grafico Strategie Settimanali'!B98,'Daily Diary'!E:E,\"ALTRO\")","v":0},{"$f":"COUNTIFS('Daily Diary'!A:A,'Grafico Strategie Settimanali'!B98,'Daily Diary'!E:E,\"BANCA PAREGGIO\",'Daily Diary'!E:E,\"BANCA PAREGGIO\",'Daily Diary'!K:K,\"WIN\")","v":0},{"$f":"COUNTIFS('Daily Diary'!A:A,'Grafico Strategie Settimanali'!B98,'Daily Diary'!E:E,\"PUNTA SQ.CASA\",'Daily Diary'!E:E,\"PUNTA SQ.CASA\",'Daily Diary'!K:K,\"WIN\")","v":0},{"$f":"COUNTIFS('Daily Diary'!A:A,'Grafico Strategie Settimanali'!B98,'Daily Diary'!E:E,\"PUNTA SQ.OSPITE\",'Daily Diary'!E:E,\"PUNTA SQ.OSPITE\",'Daily Diary'!K:K,\"WIN\")","v":0},{"$f":"COUNTIFS('Daily Diary'!A:A,'Grafico Strategie Settimanali'!B98,'Daily Diary'!E:E,\"BANCA SFAVORITA\",'Daily Diary'!E:E,\"BANCA SFAVORITA\",'Daily Diary'!K:K,\"WIN\")","v":0},{"$f":"COUNTIFS('Daily Diary'!A:A,'Grafico Strategie Settimanali'!B98,'Daily Diary'!E:E,\"PUNTA OVER\",'Daily Diary'!E:E,\"PUNTA OVER\",'Daily Diary'!K:K,\"WIN\")","v":0},{"$f":"COUNTIFS('Daily Diary'!A:A,'Grafico Strategie Settimanali'!B98,'Daily Diary'!E:E,\"PUNTA UNDER\",'Daily Diary'!E:E,\"PUNTA UNDER\",'Daily Diary'!K:K,\"WIN\")","v":0},{"$f":"COUNTIFS('Daily Diary'!A:A,'Grafico Strategie Settimanali'!B98,'Daily Diary'!E:E,\"SCALPING\",'Daily Diary'!E:E,\"SCALPING\",'Daily Diary'!K:K,\"WIN\")","v":0},{"$f":"COUNTIFS('Daily Diary'!A:A,'Grafico Strategie Settimanali'!B98,'Daily Diary'!E:E,\"GT 90\",'Daily Diary'!E:E,\"GT 90\",'Daily Diary'!K:K,\"WIN\")","v":0},{"$f":"COUNTIFS('Daily Diary'!A:A,'Grafico Strategie Settimanali'!B98,'Daily Diary'!E:E,\"GT 110\",'Daily Diary'!E:E,\"GT 110\",'Daily Diary'!K:K,\"WIN\")","v":0},{"$f":"COUNTIFS('Daily Diary'!A:A,'Grafico Strategie Settimanali'!B98,'Daily Diary'!E:E,\"ALERT GOAL\",'Daily Diary'!E:E,\"ALERT GOAL\",'Daily Diary'!K:K,\"WIN\")","v":0},{"$f":"COUNTIFS('Daily Diary'!A:A,'Grafico Strategie Settimanali'!B98,'Daily Diary'!E:E,\"DRAW NO BET\",'Daily Diary'!E:E,\"DRAW NO BET\",'Daily Diary'!K:K,\"WIN\")","v":0},{"$f":"COUNTIFS('Daily Diary'!A:A,'Grafico Strategie Settimanali'!B98,'Daily Diary'!E:E,\"ALTRO\",'Daily Diary'!E:E,\"ALTRO\",'Daily Diary'!K:K,\"WIN\")","v":0},{"$error":"#DIV/0!"},{"$error":"#DIV/0!"},{"$error":"#DIV/0!"},{"$error":"#DIV/0!"},{"$error":"#DIV/0!"},{"$error":"#DIV/0!"},{"$error":"#DIV/0!"},{"$error":"#DIV/0!"},{"$error":"#DIV/0!"},{"$error":"#DIV/0!"},{"$error":"#DIV/0!"},{"$error":"#DIV/0!"}]
[0,"2023-08-09",{"$f":"COUNTIFS('Daily Diary'!A:A,'Grafico Strategie Settimanali'!B99,'Daily Diary'!E:E,\"BANCA PAREGGIO\")","v":0},{"$f":"COUNTIFS('Daily Diary'!A:A,'Grafico Strategie Settimanali'!B99,'Daily Diary'!E:E,\"PUNTA SQ.CASA\")","v":0},{"$f":"COUNTIFS('Daily Diary'!A:A,'Grafico Strategie Settimanali'!B99,'Daily Diary'!E:E,\"PUNTA SQ.OSPITE\")","v":0},{"$f":"COUNTIFS('Daily Diary'!A:A,'Grafico Strategie Settimanali'!B99,'Daily Diary'!E:E,\"BANCA SFAVORITA\")","v":0},{"$f":"COUNTIFS('Daily Diary'!A:A,'Grafico Strategie Settimanali'!B99,'Daily Diary'!E:E,\"PUNTA OVER\")","v":0},{"$f":"COUNTIFS('Daily Diary'!A:A,'Grafico Strategie Settimanali'!B99,'Daily Diary'!E:E,\"PUNTA UNDER\")","v":0},{"$f":"COUNTIFS('Daily Diary'!A:A,'Grafico Strategie Settimanali'!B99,'Daily Diary'!E:E,\"SCALPING\")","v":0},{"$f":"COUNTIFS('Daily Diary'!A:A,'Grafico Strategie Settimanali'!B99,'Daily Diary'!E:E,\"GT90\")","v":0},{"$f":"COUNTIFS('Daily Diary'!A:A,'Grafico Strategie Settimanali'!B99,'Daily Diary'!E:E,\"GT110\")","v":0},{"$f":"COUNTIFS('Daily Diary'!A:A,'Grafico Strategie Settimanali'!B99,'Daily Diary'!E:E,\"ALERT GOAL\")","v":0},{"$f":"COUNTIFS('Daily Diary'!A:A,'Grafico Strategie Settimanali'!B99,'Daily Diary'!E:E,\"DRAW NO BET\")","v":0},{"$f":"COUNTIFS('Daily Diary'!A:A,'Grafico Strategie Settimanali'!B99,'Daily Diary'!E:E,\"ALTRO\")","v":0},{"$f":"COUNTIFS('Daily Diary'!A:A,'Grafico Strategie Settimanali'!B99,'Daily Diary'!E:E,\"BANCA PAREGGIO\",'Daily Diary'!E:E,\"BANCA PAREGGIO\",'Daily Diary'!K:K,\"WIN\")","v":0},{"$f":"COUNTIFS('Daily Diary'!A:A,'Grafico Strategie Settimanali'!B99,'Daily Diary'!E:E,\"PUNTA SQ.CASA\",'Daily Diary'!E:E,\"PUNTA SQ.CASA\",'Daily Diary'!K:K,\"WIN\")","v":0},{"$f":"COUNTIFS('Daily Diary'!A:A,'Grafico Strategie Settimanali'!B99,'Daily Diary'!E:E,\"PUNTA SQ.OSPITE\",'Daily Diary'!E:E,\"PUNTA SQ.OSPITE\",'Daily Diary'!K:K,\"WIN\")","v":0},{"$f":"COUNTIFS('Daily Diary'!A:A,'Grafico Strategie Settimanali'!B99,'Daily Diary'!E:E,\"BANCA SFAVORITA\",'Daily Diary'!E:E,\"BANCA SFAVORITA\",'Daily Diary'!K:K,\"WIN\")","v":0},{"$f":"COUNTIFS('Daily Diary'!A:A,'Grafico Strategie Settimanali'!B99,'Daily Diary'!E:E,\"PUNTA OVER\",'Daily Diary'!E:E,\"PUNTA OVER\",'Daily Diary'!K:K,\"WIN\")","v":0},{"$f":"COUNTIFS('Daily Diary'!A:A,'Grafico Strategie Settimanali'!B99,'Daily Diary'!E:E,\"PUNTA UNDER\",'Daily Diary'!E:E,\"PUNTA UNDER\",'Daily Diary'!K:K,\"WIN\")","v":0},{"$f":"COUNTIFS('Daily Diary'!A:A,'Grafico Strategie Settimanali'!B99,'Daily Diary'!E:E,\"SCALPING\",'Daily Diary'!E:E,\"SCALPING\",'Daily Diary'!K:K,\"WIN\")","v":0},{"$f":"COUNTIFS('Daily Diary'!A:A,'Grafico Strategie Settimanali'!B99,'Daily Diary'!E:E,\"GT 90\",'Daily Diary'!E:E,\"GT 90\",'Daily Diary'!K:K,\"WIN\")","v":0},{"$f":"COUNTIFS('Daily Diary'!A:A,'Grafico Strategie Settimanali'!B99,'Daily Diary'!E:E,\"GT 110\",'Daily Diary'!E:E,\"GT 110\",'Daily Diary'!K:K,\"WIN\")","v":0},{"$f":"COUNTIFS('Daily Diary'!A:A,'Grafico Strategie Settimanali'!B99,'Daily Diary'!E:E,\"ALERT GOAL\",'Daily Diary'!E:E,\"ALERT GOAL\",'Daily Diary'!K:K,\"WIN\")","v":0},{"$f":"COUNTIFS('Daily Diary'!A:A,'Grafico Strategie Settimanali'!B99,'Daily Diary'!E:E,\"DRAW NO BET\",'Daily Diary'!E:E,\"DRAW NO BET\",'Daily Diary'!K:K,\"WIN\")","v":0},{"$f":"COUNTIFS('Daily Diary'!A:A,'Grafico Strategie Settimanali'!B99,'Daily Diary'!E:E,\"ALTRO\",'Daily Diary'!E:E,\"ALTRO\",'Daily Diary'!K:K,\"WIN\")","v":0},{"$error":"#DIV/0!"},{"$error":"#DIV/0!"},{"$error":"#DIV/0!"},{"$error":"#DIV/0!"},{"$error":"#DIV/0!"},{"$error":"#DIV/0!"},{"$error":"#DIV/0!"},{"$error":"#DIV/0!"},{"$error":"#DIV/0!"},{"$error":"#DIV/0!"},{"$error":"#DIV/0!"},{"$error":"#DIV/0!"}]
[0,"2023-08-10",{"$f":"COUNTIFS('Daily Diary'!A:A,'Grafico Strategie Settimanali'!B100,'Daily Diary'!E:E,\"BANCA PAREGGIO\")","v":0},{"$f":"COUNTIFS('Daily Diary'!A:A,'Grafico Strategie Settimanali'!B100,'Daily Diary'!E:E,\"PUNTA SQ.CASA\")","v":0},{"$f":"COUNTIFS('Daily Diary'!A:A,'Grafico Strategie Settimanali'!B100,'Daily Diary'!E:E,\"PUNTA SQ.OSPITE\")","v":0},{"$f":"COUNTIFS('Daily Diary'!A:A,'Grafico Strategie Settimanali'!B100,'Daily Diary'!E:E,\"BANCA SFAVORITA\")","v":0},{"$f":"COUNTIFS('Daily Diary'!A:A,'Grafico Strategie Settimanali'!B100,'Daily Diary'!E:E,\"PUNTA OVER\")","v":0},{"$f":"COUNTIFS('Daily Diary'!A:A,'Grafico Strategie Settimanali'!B100,'Daily Diary'!E:E,\"PUNTA UNDER\")","v":0},{"$f":"COUNTIFS('Daily Diary'!A:A,'Grafico Strategie Settimanali'!B100,'Daily Diary'!E:E,\"SCALPING\")","v":0},{"$f":"COUNTIFS('Daily Diary'!A:A,'Grafico Strategie Settimanali'!B100,'Daily Diary'!E:E,\"GT90\")","v":0},{"$f":"COUNTIFS('Daily Diary'!A:A,'Grafico Strategie Settimanali'!B100,'Daily Diary'!E:E,\"GT110\")","v":0},{"$f":"COUNTIFS('Daily Diary'!A:A,'Grafico Strategie Settimanali'!B100,'Daily Diary'!E:E,\"ALERT GOAL\")","v":0},{"$f":"COUNTIFS('Daily Diary'!A:A,'Grafico Strategie Settimanali'!B100,'Daily Diary'!E:E,\"DRAW NO BET\")","v":0},{"$f":"COUNTIFS('Daily Diary'!A:A,'Grafico Strategie Settimanali'!B100,'Daily Diary'!E:E,\"ALTRO\")","v":0},{"$f":"COUNTIFS('Daily Diary'!A:A,'Grafico Strategie Settimanali'!B100,'Daily Diary'!E:E,\"BANCA PAREGGIO\",'Daily Diary'!E:E,\"BANCA PAREGGIO\",'Daily Diary'!K:K,\"WIN\")","v":0},{"$f":"COUNTIFS('Daily Diary'!A:A,'Grafico Strategie Settimanali'!B100,'Daily Diary'!E:E,\"PUNTA SQ.CASA\",'Daily Diary'!E:E,\"PUNTA SQ.CASA\",'Daily Diary'!K:K,\"WIN\")","v":0},{"$f":"COUNTIFS('Daily Diary'!A:A,'Grafico Strategie Settimanali'!B100,'Daily Diary'!E:E,\"PUNTA SQ.OSPITE\",'Daily Diary'!E:E,\"PUNTA SQ.OSPITE\",'Daily Diary'!K:K,\"WIN\")","v":0},{"$f":"COUNTIFS('Daily Diary'!A:A,'Grafico Strategie Settimanali'!B100,'Daily Diary'!E:E,\"BANCA SFAVORITA\",'Daily Diary'!E:E,\"BANCA SFAVORITA\",'Daily Diary'!K:K,\"WIN\")","v":0},{"$f":"COUNTIFS('Daily Diary'!A:A,'Grafico Strategie Settimanali'!B100,'Daily Diary'!E:E,\"PUNTA OVER\",'Daily Diary'!E:E,\"PUNTA OVER\",'Daily Diary'!K:K,\"WIN\")","v":0},{"$f":"COUNTIFS('Daily Diary'!A:A,'Grafico Strategie Settimanali'!B100,'Daily Diary'!E:E,\"PUNTA UNDER\",'Daily Diary'!E:E,\"PUNTA UNDER\",'Daily Diary'!K:K,\"WIN\")","v":0},{"$f":"COUNTIFS('Daily Diary'!A:A,'Grafico Strategie Settimanali'!B100,'Daily Diary'!E:E,\"SCALPING\",'Daily Diary'!E:E,\"SCALPING\",'Daily Diary'!K:K,\"WIN\")","v":0},{"$f":"COUNTIFS('Daily Diary'!A:A,'Grafico Strategie Settimanali'!B100,'Daily Diary'!E:E,\"GT 90\",'Daily Diary'!E:E,\"GT 90\",'Daily Diary'!K:K,\"WIN\")","v":0},{"$f":"COUNTIFS('Daily Diary'!A:A,'Grafico Strategie Settimanali'!B100,'Daily Diary'!E:E,\"GT 110\",'Daily Diary'!E:E,\"GT 110\",'Daily Diary'!K:K,\"WIN\")","v":0},{"$f":"COUNTIFS('Daily Diary'!A:A,'Grafico Strategie Settimanali'!B100,'Daily Diary'!E:E,\"ALERT GOAL\",'Daily Diary'!E:E,\"ALERT GOAL\",'Daily Diary'!K:K,\"WIN\")","v":0},{"$f":"COUNTIFS('Daily Diary'!A:A,'Grafico Strategie Settimanali'!B100,'Daily Diary'!E:E,\"DRAW NO BET\",'Daily Diary'!E:E,\"DRAW NO BET\",'Daily Diary'!K:K,\"WIN\")","v":0},{"$f":"COUNTIFS('Daily Diary'!A:A,'Grafico Strategie Settimanali'!B100,'Daily Diary'!E:E,\"ALTRO\",'Daily Diary'!E:E,\"ALTRO\",'Daily Diary'!K:K,\"WIN\")","v":0},{"$error":"#DIV/0!"},{"$error":"#DIV/0!"},{"$error":"#DIV/0!"},{"$error":"#DIV/0!"},{"$error":"#DIV/0!"},{"$error":"#DIV/0!"},{"$error":"#DIV/0!"},{"$error":"#DIV/0!"},{"$error":"#DIV/0!"},{"$error":"#DIV/0!"},{"$error":"#DIV/0!"},{"$error":"#DIV/0!"}]
[0,"2023-08-11",{"$f":"COUNTIFS('Daily Diary'!A:A,'Grafico Strategie Settimanali'!B101,'Daily Diary'!E:E,\"BANCA PAREGGIO\")","v":0},{"$f":"COUNTIFS('Daily Diary'!A:A,'Grafico Strategie Settimanali'!B101,'Daily Diary'!E:E,\"PUNTA SQ.CASA\")","v":0},{"$f":"COUNTIFS('Daily Diary'!A:A,'Grafico Strategie Settimanali'!B101,'Daily Diary'!E:E,\"PUNTA SQ.OSPITE\")","v":0},{"$f":"COUNTIFS('Daily Diary'!A:A,'Grafico Strategie Settimanali'!B101,'Daily Diary'!E:E,\"BANCA SFAVORITA\")","v":0},{"$f":"COUNTIFS('Daily Diary'!A:A,'Grafico Strategie Settimanali'!B101,'Daily Diary'!E:E,\"PUNTA OVER\")","v":0},{"$f":"COUNTIFS('Daily Diary'!A:A,'Grafico Strategie Settimanali'!B101,'Daily Diary'!E:E,\"PUNTA UNDER\")","v":0},{"$f":"COUNTIFS('Daily Diary'!A:A,'Grafico Strategie Settimanali'!B101,'Daily Diary'!E:E,\"SCALPING\")","v":0},{"$f":"COUNTIFS('Daily Diary'!A:A,'Grafico Strategie Settimanali'!B101,'Daily Diary'!E:E,\"GT90\")","v":0},{"$f":"COUNTIFS('Daily Diary'!A:A,'Grafico Strategie Settimanali'!B101,'Daily Diary'!E:E,\"GT110\")","v":0},{"$f":"COUNTIFS('Daily Diary'!A:A,'Grafico Strategie Settimanali'!B101,'Daily Diary'!E:E,\"ALERT GOAL\")","v":0},{"$f":"COUNTIFS('Daily Diary'!A:A,'Grafico Strategie Settimanali'!B101,'Daily Diary'!E:E,\"DRAW NO BET\")","v":0},{"$f":"COUNTIFS('Daily Diary'!A:A,'Grafico Strategie Settimanali'!B101,'Daily Diary'!E:E,\"ALTRO\")","v":0},{"$f":"COUNTIFS('Daily Diary'!A:A,'Grafico Strategie Settimanali'!B101,'Daily Diary'!E:E,\"BANCA PAREGGIO\",'Daily Diary'!E:E,\"BANCA PAREGGIO\",'Daily Diary'!K:K,\"WIN\")","v":0},{"$f":"COUNTIFS('Daily Diary'!A:A,'Grafico Strategie Settimanali'!B101,'Daily Diary'!E:E,\"PUNTA SQ.CASA\",'Daily Diary'!E:E,\"PUNTA SQ.CASA\",'Daily Diary'!K:K,\"WIN\")","v":0},{"$f":"COUNTIFS('Daily Diary'!A:A,'Grafico Strategie Settimanali'!B101,'Daily Diary'!E:E,\"PUNTA SQ.OSPITE\",'Daily Diary'!E:E,\"PUNTA SQ.OSPITE\",'Daily Diary'!K:K,\"WIN\")","v":0},{"$f":"COUNTIFS('Daily Diary'!A:A,'Grafico Strategie Settimanali'!B101,'Daily Diary'!E:E,\"BANCA SFAVORITA\",'Daily Diary'!E:E,\"BANCA SFAVORITA\",'Daily Diary'!K:K,\"WIN\")","v":0},{"$f":"COUNTIFS('Daily Diary'!A:A,'Grafico Strategie Settimanali'!B101,'Daily Diary'!E:E,\"PUNTA OVER\",'Daily Diary'!E:E,\"PUNTA OVER\",'Daily Diary'!K:K,\"WIN\")","v":0},{"$f":"COUNTIFS('Daily Diary'!A:A,'Grafico Strategie Settimanali'!B101,'Daily Diary'!E:E,\"PUNTA UNDER\",'Daily Diary'!E:E,\"PUNTA UNDER\",'Daily Diary'!K:K,\"WIN\")","v":0},{"$f":"COUNTIFS('Daily Diary'!A:A,'Grafico Strategie Settimanali'!B101,'Daily Diary'!E:E,\"SCALPING\",'Daily Diary'!E:E,\"SCALPING\",'Daily Diary'!K:K,\"WIN\")","v":0},{"$f":"COUNTIFS('Daily Diary'!A:A,'Grafico Strategie Settimanali'!B101,'Daily Diary'!E:E,\"GT 90\",'Daily Diary'!E:E,\"GT 90\",'Daily Diary'!K:K,\"WIN\")","v":0},{"$f":"COUNTIFS('Daily Diary'!A:A,'Grafico Strategie Settimanali'!B101,'Daily Diary'!E:E,\"GT 110\",'Daily Diary'!E:E,\"GT 110\",'Daily Diary'!K:K,\"WIN\")","v":0},{"$f":"COUNTIFS('Daily Diary'!A:A,'Grafico Strategie Settimanali'!B101,'Daily Diary'!E:E,\"ALERT GOAL\",'Daily Diary'!E:E,\"ALERT GOAL\",'Daily Diary'!K:K,\"WIN\")","v":0},{"$f":"COUNTIFS('Daily Diary'!A:A,'Grafico Strategie Settimanali'!B101,'Daily Diary'!E:E,\"DRAW NO BET\",'Daily Diary'!E:E,\"DRAW NO BET\",'Daily Diary'!K:K,\"WIN\")","v":0},{"$f":"COUNTIFS('Daily Diary'!A:A,'Grafico Strategie Settimanali'!B101,'Daily Diary'!E:E,\"ALTRO\",'Daily Diary'!E:E,\"ALTRO\",'Daily Diary'!K:K,\"WIN\")","v":0},{"$error":"#DIV/0!"},{"$error":"#DIV/0!"},{"$error":"#DIV/0!"},{"$error":"#DIV/0!"},{"$error":"#DIV/0!"},{"$error":"#DIV/0!"},{"$error":"#DIV/0!"},{"$error":"#DIV/0!"},{"$error":"#DIV/0!"},{"$error":"#DIV/0!"},{"$error":"#DIV/0!"},{"$error":"#DIV/0!"}]
[0,"2023-08-12",{"$f":"COUNTIFS('Daily Diary'!A:A,'Grafico Strategie Settimanali'!B102,'Daily Diary'!E:E,\"BANCA PAREGGIO\")","v":0},{"$f":"COUNTIFS('Daily Diary'!A:A,'Grafico Strategie Settimanali'!B102,'Daily Diary'!E:E,\"PUNTA SQ.CASA\")","v":0},{"$f":"COUNTIFS('Daily Diary'!A:A,'Grafico Strategie Settimanali'!B102,'Daily Diary'!E:E,\"PUNTA SQ.OSPITE\")","v":0},{"$f":"COUNTIFS('Daily Diary'!A:A,'Grafico Strategie Settimanali'!B102,'Daily Diary'!E:E,\"BANCA SFAVORITA\")","v":0},{"$f":"COUNTIFS('Daily Diary'!A:A,'Grafico Strategie Settimanali'!B102,'Daily Diary'!E:E,\"PUNTA OVER\")","v":0},{"$f":"COUNTIFS('Daily Diary'!A:A,'Grafico Strategie Settimanali'!B102,'Daily Diary'!E:E,\"PUNTA UNDER\")","v":0},{"$f":"COUNTIFS('Daily Diary'!A:A,'Grafico Strategie Settimanali'!B102,'Daily Diary'!E:E,\"SCALPING\")","v":0},{"$f":"COUNTIFS('Daily Diary'!A:A,'Grafico Strategie Settimanali'!B102,'Daily Diary'!E:E,\"GT90\")","v":0},{"$f":"COUNTIFS('Daily Diary'!A:A,'Grafico Strategie Settimanali'!B102,'Daily Diary'!E:E,\"GT110\")","v":0},{"$f":"COUNTIFS('Daily Diary'!A:A,'Grafico Strategie Settimanali'!B102,'Daily Diary'!E:E,\"ALERT GOAL\")","v":0},{"$f":"COUNTIFS('Daily Diary'!A:A,'Grafico Strategie Settimanali'!B102,'Daily Diary'!E:E,\"DRAW NO BET\")","v":0},{"$f":"COUNTIFS('Daily Diary'!A:A,'Grafico Strategie Settimanali'!B102,'Daily Diary'!E:E,\"ALTRO\")","v":0},{"$f":"COUNTIFS('Daily Diary'!A:A,'Grafico Strategie Settimanali'!B102,'Daily Diary'!E:E,\"BANCA PAREGGIO\",'Daily Diary'!E:E,\"BANCA PAREGGIO\",'Daily Diary'!K:K,\"WIN\")","v":0},{"$f":"COUNTIFS('Daily Diary'!A:A,'Grafico Strategie Settimanali'!B102,'Daily Diary'!E:E,\"PUNTA SQ.CASA\",'Daily Diary'!E:E,\"PUNTA SQ.CASA\",'Daily Diary'!K:K,\"WIN\")","v":0},{"$f":"COUNTIFS('Daily Diary'!A:A,'Grafico Strategie Settimanali'!B102,'Daily Diary'!E:E,\"PUNTA SQ.OSPITE\",'Daily Diary'!E:E,\"PUNTA SQ.OSPITE\",'Daily Diary'!K:K,\"WIN\")","v":0},{"$f":"COUNTIFS('Daily Diary'!A:A,'Grafico Strategie Settimanali'!B102,'Daily Diary'!E:E,\"BANCA SFAVORITA\",'Daily Diary'!E:E,\"BANCA SFAVORITA\",'Daily Diary'!K:K,\"WIN\")","v":0},{"$f":"COUNTIFS('Daily Diary'!A:A,'Grafico Strategie Settimanali'!B102,'Daily Diary'!E:E,\"PUNTA OVER\",'Daily Diary'!E:E,\"PUNTA OVER\",'Daily Diary'!K:K,\"WIN\")","v":0},{"$f":"COUNTIFS('Daily Diary'!A:A,'Grafico Strategie Settimanali'!B102,'Daily Diary'!E:E,\"PUNTA UNDER\",'Daily Diary'!E:E,\"PUNTA UNDER\",'Daily Diary'!K:K,\"WIN\")","v":0},{"$f":"COUNTIFS('Daily Diary'!A:A,'Grafico Strategie Settimanali'!B102,'Daily Diary'!E:E,\"SCALPING\",'Daily Diary'!E:E,\"SCALPING\",'Daily Diary'!K:K,\"WIN\")","v":0},{"$f":"COUNTIFS('Daily Diary'!A:A,'Grafico Strategie Settimanali'!B102,'Daily Diary'!E:E,\"GT 90\",'Daily Diary'!E:E,\"GT 90\",'Daily Diary'!K:K,\"WIN\")","v":0},{"$f":"COUNTIFS('Daily Diary'!A:A,'Grafico Strategie Settimanali'!B102,'Daily Diary'!E:E,\"GT 110\",'Daily Diary'!E:E,\"GT 110\",'Daily Diary'!K:K,\"WIN\")","v":0},{"$f":"COUNTIFS('Daily Diary'!A:A,'Grafico Strategie Settimanali'!B102,'Daily Diary'!E:E,\"ALERT GOAL\",'Daily Diary'!E:E,\"ALERT GOAL\",'Daily Diary'!K:K,\"WIN\")","v":0},{"$f":"COUNTIFS('Daily Diary'!A:A,'Grafico Strategie Settimanali'!B102,'Daily Diary'!E:E,\"DRAW NO BET\",'Daily Diary'!E:E,\"DRAW NO BET\",'Daily Diary'!K:K,\"WIN\")","v":0},{"$f":"COUNTIFS('Daily Diary'!A:A,'Grafico Strategie Settimanali'!B102,'Daily Diary'!E:E,\"ALTRO\",'Daily Diary'!E:E,\"ALTRO\",'Daily Diary'!K:K,\"WIN\")","v":0},{"$error":"#DIV/0!"},{"$error":"#DIV/0!"},{"$error":"#DIV/0!"},{"$error":"#DIV/0!"},{"$error":"#DIV/0!"},{"$error":"#DIV/0!"},{"$error":"#DIV/0!"},{"$error":"#DIV/0!"},{"$error":"#DIV/0!"},{"$error":"#DIV/0!"},{"$error":"#DIV/0!"},{"$error":"#DIV/0!"}]
[0,"2023-08-13",{"$f":"COUNTIFS('Daily Diary'!A:A,'Grafico Strategie Settimanali'!B103,'Daily Diary'!E:E,\"BANCA PAREGGIO\")","v":0},{"$f":"COUNTIFS('Daily Diary'!A:A,'Grafico Strategie Settimanali'!B103,'Daily Diary'!E:E,\"PUNTA SQ.CASA\")","v":0},{"$f":"COUNTIFS('Daily Diary'!A:A,'Grafico Strategie Settimanali'!B103,'Daily Diary'!E:E,\"PUNTA SQ.OSPITE\")","v":0},{"$f":"COUNTIFS('Daily Diary'!A:A,'Grafico Strategie Settimanali'!B103,'Daily Diary'!E:E,\"BANCA SFAVORITA\")","v":0},{"$f":"COUNTIFS('Daily Diary'!A:A,'Grafico Strategie Settimanali'!B103,'Daily Diary'!E:E,\"PUNTA OVER\")","v":0},{"$f":"COUNTIFS('Daily Diary'!A:A,'Grafico Strategie Settimanali'!B103,'Daily Diary'!E:E,\"PUNTA UNDER\")","v":0},{"$f":"COUNTIFS('Daily Diary'!A:A,'Grafico Strategie Settimanali'!B103,'Daily Diary'!E:E,\"SCALPING\")","v":0},{"$f":"COUNTIFS('Daily Diary'!A:A,'Grafico Strategie Settimanali'!B103,'Daily Diary'!E:E,\"GT90\")","v":0},{"$f":"COUNTIFS('Daily Diary'!A:A,'Grafico Strategie Settimanali'!B103,'Daily Diary'!E:E,\"GT110\")","v":0},{"$f":"COUNTIFS('Daily Diary'!A:A,'Grafico Strategie Settimanali'!B103,'Daily Diary'!E:E,\"ALERT GOAL\")","v":0},{"$f":"COUNTIFS('Daily Diary'!A:A,'Grafico Strategie Settimanali'!B103,'Daily Diary'!E:E,\"DRAW NO BET\")","v":0},{"$f":"COUNTIFS('Daily Diary'!A:A,'Grafico Strategie Settimanali'!B103,'Daily Diary'!E:E,\"ALTRO\")","v":0},{"$f":"COUNTIFS('Daily Diary'!A:A,'Grafico Strategie Settimanali'!B103,'Daily Diary'!E:E,\"BANCA PAREGGIO\",'Daily Diary'!E:E,\"BANCA PAREGGIO\",'Daily Diary'!K:K,\"WIN\")","v":0},{"$f":"COUNTIFS('Daily Diary'!A:A,'Grafico Strategie Settimanali'!B103,'Daily Diary'!E:E,\"PUNTA SQ.CASA\",'Daily Diary'!E:E,\"PUNTA SQ.CASA\",'Daily Diary'!K:K,\"WIN\")","v":0},{"$f":"COUNTIFS('Daily Diary'!A:A,'Grafico Strategie Settimanali'!B103,'Daily Diary'!E:E,\"PUNTA SQ.OSPITE\",'Daily Diary'!E:E,\"PUNTA SQ.OSPITE\",'Daily Diary'!K:K,\"WIN\")","v":0},{"$f":"COUNTIFS('Daily Diary'!A:A,'Grafico Strategie Settimanali'!B103,'Daily Diary'!E:E,\"BANCA SFAVORITA\",'Daily Diary'!E:E,\"BANCA SFAVORITA\",'Daily Diary'!K:K,\"WIN\")","v":0},{"$f":"COUNTIFS('Daily Diary'!A:A,'Grafico Strategie Settimanali'!B103,'Daily Diary'!E:E,\"PUNTA OVER\",'Daily Diary'!E:E,\"PUNTA OVER\",'Daily Diary'!K:K,\"WIN\")","v":0},{"$f":"COUNTIFS('Daily Diary'!A:A,'Grafico Strategie Settimanali'!B103,'Daily Diary'!E:E,\"PUNTA UNDER\",'Daily Diary'!E:E,\"PUNTA UNDER\",'Daily Diary'!K:K,\"WIN\")","v":0},{"$f":"COUNTIFS('Daily Diary'!A:A,'Grafico Strategie Settimanali'!B103,'Daily Diary'!E:E,\"SCALPING\",'Daily Diary'!E:E,\"SCALPING\",'Daily Diary'!K:K,\"WIN\")","v":0},{"$f":"COUNTIFS('Daily Diary'!A:A,'Grafico Strategie Settimanali'!B103,'Daily Diary'!E:E,\"GT 90\",'Daily Diary'!E:E,\"GT 90\",'Daily Diary'!K:K,\"WIN\")","v":0},{"$f":"COUNTIFS('Daily Diary'!A:A,'Grafico Strategie Settimanali'!B103,'Daily Diary'!E:E,\"GT 110\",'Daily Diary'!E:E,\"GT 110\",'Daily Diary'!K:K,\"WIN\")","v":0},{"$f":"COUNTIFS('Daily Diary'!A:A,'Grafico Strategie Settimanali'!B103,'Daily Diary'!E:E,\"ALERT GOAL\",'Daily Diary'!E:E,\"ALERT GOAL\",'Daily Diary'!K:K,\"WIN\")","v":0},{"$f":"COUNTIFS('Daily Diary'!A:A,'Grafico Strategie Settimanali'!B103,'Daily Diary'!E:E,\"DRAW NO BET\",'Daily Diary'!E:E,\"DRAW NO BET\",'Daily Diary'!K:K,\"WIN\")","v":0},{"$f":"COUNTIFS('Daily Diary'!A:A,'Grafico Strategie Settimanali'!B103,'Daily Diary'!E:E,\"ALTRO\",'Daily Diary'!E:E,\"ALTRO\",'Daily Diary'!K:K,\"WIN\")","v":0},{"$error":"#DIV/0!"},{"$error":"#DIV/0!"},{"$error":"#DIV/0!"},{"$error":"#DIV/0!"},{"$error":"#DIV/0!"},{"$error":"#DIV/0!"},{"$error":"#DIV/0!"},{"$error":"#DIV/0!"},{"$error":"#DIV/0!"},{"$error":"#DIV/0!"},{"$error":"#DIV/0!"},{"$error":"#DIV/0!"}]
[0,"2023-08-14",{"$f":"COUNTIFS('Daily Diary'!A:A,'Grafico Strategie Settimanali'!B104,'Daily Diary'!E:E,\"BANCA PAREGGIO\")","v":0},{"$f":"COUNTIFS('Daily Diary'!A:A,'Grafico Strategie Settimanali'!B104,'Daily Diary'!E:E,\"PUNTA SQ.CASA\")","v":0},{"$f":"COUNTIFS('Daily Diary'!A:A,'Grafico Strategie Settimanali'!B104,'Daily Diary'!E:E,\"PUNTA SQ.OSPITE\")","v":0},{"$f":"COUNTIFS('Daily Diary'!A:A,'Grafico Strategie Settimanali'!B104,'Daily Diary'!E:E,\"BANCA SFAVORITA\")","v":0},{"$f":"COUNTIFS('Daily Diary'!A:A,'Grafico Strategie Settimanali'!B104,'Daily Diary'!E:E,\"PUNTA OVER\")","v":0},{"$f":"COUNTIFS('Daily Diary'!A:A,'Grafico Strategie Settimanali'!B104,'Daily Diary'!E:E,\"PUNTA UNDER\")","v":0},{"$f":"COUNTIFS('Daily Diary'!A:A,'Grafico Strategie Settimanali'!B104,'Daily Diary'!E:E,\"SCALPING\")","v":0},{"$f":"COUNTIFS('Daily Diary'!A:A,'Grafico Strategie Settimanali'!B104,'Daily Diary'!E:E,\"GT90\")","v":0},{"$f":"COUNTIFS('Daily Diary'!A:A,'Grafico Strategie Settimanali'!B104,'Daily Diary'!E:E,\"GT110\")","v":0},{"$f":"COUNTIFS('Daily Diary'!A:A,'Grafico Strategie Settimanali'!B104,'Daily Diary'!E:E,\"ALERT GOAL\")","v":0},{"$f":"COUNTIFS('Daily Diary'!A:A,'Grafico Strategie Settimanali'!B104,'Daily Diary'!E:E,\"DRAW NO BET\")","v":0},{"$f":"COUNTIFS('Daily Diary'!A:A,'Grafico Strategie Settimanali'!B104,'Daily Diary'!E:E,\"ALTRO\")","v":0},{"$f":"COUNTIFS('Daily Diary'!A:A,'Grafico Strategie Settimanali'!B104,'Daily Diary'!E:E,\"BANCA PAREGGIO\",'Daily Diary'!E:E,\"BANCA PAREGGIO\",'Daily Diary'!K:K,\"WIN\")","v":0},{"$f":"COUNTIFS('Daily Diary'!A:A,'Grafico Strategie Settimanali'!B104,'Daily Diary'!E:E,\"PUNTA SQ.CASA\",'Daily Diary'!E:E,\"PUNTA SQ.CASA\",'Daily Diary'!K:K,\"WIN\")","v":0},{"$f":"COUNTIFS('Daily Diary'!A:A,'Grafico Strategie Settimanali'!B104,'Daily Diary'!E:E,\"PUNTA SQ.OSPITE\",'Daily Diary'!E:E,\"PUNTA SQ.OSPITE\",'Daily Diary'!K:K,\"WIN\")","v":0},{"$f":"COUNTIFS('Daily Diary'!A:A,'Grafico Strategie Settimanali'!B104,'Daily Diary'!E:E,\"BANCA SFAVORITA\",'Daily Diary'!E:E,\"BANCA SFAVORITA\",'Daily Diary'!K:K,\"WIN\")","v":0},{"$f":"COUNTIFS('Daily Diary'!A:A,'Grafico Strategie Settimanali'!B104,'Daily Diary'!E:E,\"PUNTA OVER\",'Daily Diary'!E:E,\"PUNTA OVER\",'Daily Diary'!K:K,\"WIN\")","v":0},{"$f":"COUNTIFS('Daily Diary'!A:A,'Grafico Strategie Settimanali'!B104,'Daily Diary'!E:E,\"PUNTA UNDER\",'Daily Diary'!E:E,\"PUNTA UNDER\",'Daily Diary'!K:K,\"WIN\")","v":0},{"$f":"COUNTIFS('Daily Diary'!A:A,'Grafico Strategie Settimanali'!B104,'Daily Diary'!E:E,\"SCALPING\",'Daily Diary'!E:E,\"SCALPING\",'Daily Diary'!K:K,\"WIN\")","v":0},{"$f":"COUNTIFS('Daily Diary'!A:A,'Grafico Strategie Settimanali'!B104,'Daily Diary'!E:E,\"GT 90\",'Daily Diary'!E:E,\"GT 90\",'Daily Diary'!K:K,\"WIN\")","v":0},{"$f":"COUNTIFS('Daily Diary'!A:A,'Grafico Strategie Settimanali'!B104,'Daily Diary'!E:E,\"GT 110\",'Daily Diary'!E:E,\"GT 110\",'Daily Diary'!K:K,\"WIN\")","v":0},{"$f":"COUNTIFS('Daily Diary'!A:A,'Grafico Strategie Settimanali'!B104,'Daily Diary'!E:E,\"ALERT GOAL\",'Daily Diary'!E:E,\"ALERT GOAL\",'Daily Diary'!K:K,\"WIN\")","v":0},{"$f":"COUNTIFS('Daily Diary'!A:A,'Grafico Strategie Settimanali'!B104,'Daily Diary'!E:E,\"DRAW NO BET\",'Daily Diary'!E:E,\"DRAW NO BET\",'Daily Diary'!K:K,\"WIN\")","v":0},{"$f":"COUNTIFS('Daily Diary'!A:A,'Grafico Strategie Settimanali'!B104,'Daily Diary'!E:E,\"ALTRO\",'Daily Diary'!E:E,\"ALTRO\",'Daily Diary'!K:K,\"WIN\")","v":0},{"$error":"#DIV/0!"},{"$error":"#DIV/0!"},{"$error":"#DIV/0!"},{"$error":"#DIV/0!"},{"$error":"#DIV/0!"},{"$error":"#DIV/0!"},{"$error":"#DIV/0!"},{"$error":"#DIV/0!"},{"$error":"#DIV/0!"},{"$error":"#DIV/0!"},{"$error":"#DIV/0!"},{"$error":"#DIV/0!"}]
[0,"2023-08-15",{"$f":"COUNTIFS('Daily Diary'!A:A,'Grafico Strategie Settimanali'!B105,'Daily Diary'!E:E,\"BANCA PAREGGIO\")","v":0},{"$f":"COUNTIFS('Daily Diary'!A:A,'Grafico Strategie Settimanali'!B105,'Daily Diary'!E:E,\"PUNTA SQ.CASA\")","v":0},{"$f":"COUNTIFS('Daily Diary'!A:A,'Grafico Strategie Settimanali'!B105,'Daily Diary'!E:E,\"PUNTA SQ.OSPITE\")","v":0},{"$f":"COUNTIFS('Daily Diary'!A:A,'Grafico Strategie Settimanali'!B105,'Daily Diary'!E:E,\"BANCA SFAVORITA\")","v":0},{"$f":"COUNTIFS('Daily Diary'!A:A,'Grafico Strategie Settimanali'!B105,'Daily Diary'!E:E,\"PUNTA OVER\")","v":0},{"$f":"COUNTIFS('Daily Diary'!A:A,'Grafico Strategie Settimanali'!B105,'Daily Diary'!E:E,\"PUNTA UNDER\")","v":0},{"$f":"COUNTIFS('Daily Diary'!A:A,'Grafico Strategie Settimanali'!B105,'Daily Diary'!E:E,\"SCALPING\")","v":0},{"$f":"COUNTIFS('Daily Diary'!A:A,'Grafico Strategie Settimanali'!B105,'Daily Diary'!E:E,\"GT90\")","v":0},{"$f":"COUNTIFS('Daily Diary'!A:A,'Grafico Strategie Settimanali'!B105,'Daily Diary'!E:E,\"GT110\")","v":0},{"$f":"COUNTIFS('Daily Diary'!A:A,'Grafico Strategie Settimanali'!B105,'Daily Diary'!E:E,\"ALERT GOAL\")","v":0},{"$f":"COUNTIFS('Daily Diary'!A:A,'Grafico Strategie Settimanali'!B105,'Daily Diary'!E:E,\"DRAW NO BET\")","v":0},{"$f":"COUNTIFS('Daily Diary'!A:A,'Grafico Strategie Settimanali'!B105,'Daily Diary'!E:E,\"ALTRO\")","v":0},{"$f":"COUNTIFS('Daily Diary'!A:A,'Grafico Strategie Settimanali'!B105,'Daily Diary'!E:E,\"BANCA PAREGGIO\",'Daily Diary'!E:E,\"BANCA PAREGGIO\",'Daily Diary'!K:K,\"WIN\")","v":0},{"$f":"COUNTIFS('Daily Diary'!A:A,'Grafico Strategie Settimanali'!B105,'Daily Diary'!E:E,\"PUNTA SQ.CASA\",'Daily Diary'!E:E,\"PUNTA SQ.CASA\",'Daily Diary'!K:K,\"WIN\")","v":0},{"$f":"COUNTIFS('Daily Diary'!A:A,'Grafico Strategie Settimanali'!B105,'Daily Diary'!E:E,\"PUNTA SQ.OSPITE\",'Daily Diary'!E:E,\"PUNTA SQ.OSPITE\",'Daily Diary'!K:K,\"WIN\")","v":0},{"$f":"COUNTIFS('Daily Diary'!A:A,'Grafico Strategie Settimanali'!B105,'Daily Diary'!E:E,\"BANCA SFAVORITA\",'Daily Diary'!E:E,\"BANCA SFAVORITA\",'Daily Diary'!K:K,\"WIN\")","v":0},{"$f":"COUNTIFS('Daily Diary'!A:A,'Grafico Strategie Settimanali'!B105,'Daily Diary'!E:E,\"PUNTA OVER\",'Daily Diary'!E:E,\"PUNTA OVER\",'Daily Diary'!K:K,\"WIN\")","v":0},{"$f":"COUNTIFS('Daily Diary'!A:A,'Grafico Strategie Settimanali'!B105,'Daily Diary'!E:E,\"PUNTA UNDER\",'Daily Diary'!E:E,\"PUNTA UNDER\",'Daily Diary'!K:K,\"WIN\")","v":0},{"$f":"COUNTIFS('Daily Diary'!A:A,'Grafico Strategie Settimanali'!B105,'Daily Diary'!E:E,\"SCALPING\",'Daily Diary'!E:E,\"SCALPING\",'Daily Diary'!K:K,\"WIN\")","v":0},{"$f":"COUNTIFS('Daily Diary'!A:A,'Grafico Strategie Settimanali'!B105,'Daily Diary'!E:E,\"GT 90\",'Daily Diary'!E:E,\"GT 90\",'Daily Diary'!K:K,\"WIN\")","v":0},{"$f":"COUNTIFS('Daily Diary'!A:A,'Grafico Strategie Settimanali'!B105,'Daily Diary'!E:E,\"GT 110\",'Daily Diary'!E:E,\"GT 110\",'Daily Diary'!K:K,\"WIN\")","v":0},{"$f":"COUNTIFS('Daily Diary'!A:A,'Grafico Strategie Settimanali'!B105,'Daily Diary'!E:E,\"ALERT GOAL\",'Daily Diary'!E:E,\"ALERT GOAL\",'Daily Diary'!K:K,\"WIN\")","v":0},{"$f":"COUNTIFS('Daily Diary'!A:A,'Grafico Strategie Settimanali'!B105,'Daily Diary'!E:E,\"DRAW NO BET\",'Daily Diary'!E:E,\"DRAW NO BET\",'Daily Diary'!K:K,\"WIN\")","v":0},{"$f":"COUNTIFS('Daily Diary'!A:A,'Grafico Strategie Settimanali'!B105,'Daily Diary'!E:E,\"ALTRO\",'Daily Diary'!E:E,\"ALTRO\",'Daily Diary'!K:K,\"WIN\")","v":0},{"$error":"#DIV/0!"},{"$error":"#DIV/0!"},{"$error":"#DIV/0!"},{"$error":"#DIV/0!"},{"$error":"#DIV/0!"},{"$error":"#DIV/0!"},{"$error":"#DIV/0!"},{"$error":"#DIV/0!"},{"$error":"#DIV/0!"},{"$error":"#DIV/0!"},{"$error":"#DIV/0!"},{"$error":"#DIV/0!"}]
[0,"2023-08-16",{"$f":"COUNTIFS('Daily Diary'!A:A,'Grafico Strategie Settimanali'!B106,'Daily Diary'!E:E,\"BANCA PAREGGIO\")","v":0},{"$f":"COUNTIFS('Daily Diary'!A:A,'Grafico Strategie Settimanali'!B106,'Daily Diary'!E:E,\"PUNTA SQ.CASA\")","v":0},{"$f":"COUNTIFS('Daily Diary'!A:A,'Grafico Strategie Settimanali'!B106,'Daily Diary'!E:E,\"PUNTA SQ.OSPITE\")","v":0},{"$f":"COUNTIFS('Daily Diary'!A:A,'Grafico Strategie Settimanali'!B106,'Daily Diary'!E:E,\"BANCA SFAVORITA\")","v":0},{"$f":"COUNTIFS('Daily Diary'!A:A,'Grafico Strategie Settimanali'!B106,'Daily Diary'!E:E,\"PUNTA OVER\")","v":0},{"$f":"COUNTIFS('Daily Diary'!A:A,'Grafico Strategie Settimanali'!B106,'Daily Diary'!E:E,\"PUNTA UNDER\")","v":0},{"$f":"COUNTIFS('Daily Diary'!A:A,'Grafico Strategie Settimanali'!B106,'Daily Diary'!E:E,\"SCALPING\")","v":0},{"$f":"COUNTIFS('Daily Diary'!A:A,'Grafico Strategie Settimanali'!B106,'Daily Diary'!E:E,\"GT90\")","v":0},{"$f":"COUNTIFS('Daily Diary'!A:A,'Grafico Strategie Settimanali'!B106,'Daily Diary'!E:E,\"GT110\")","v":0},{"$f":"COUNTIFS('Daily Diary'!A:A,'Grafico Strategie Settimanali'!B106,'Daily Diary'!E:E,\"ALERT GOAL\")","v":0},{"$f":"COUNTIFS('Daily Diary'!A:A,'Grafico Strategie Settimanali'!B106,'Daily Diary'!E:E,\"DRAW NO BET\")","v":0},{"$f":"COUNTIFS('Daily Diary'!A:A,'Grafico Strategie Settimanali'!B106,'Daily Diary'!E:E,\"ALTRO\")","v":0},{"$f":"COUNTIFS('Daily Diary'!A:A,'Grafico Strategie Settimanali'!B106,'Daily Diary'!E:E,\"BANCA PAREGGIO\",'Daily Diary'!E:E,\"BANCA PAREGGIO\",'Daily Diary'!K:K,\"WIN\")","v":0},{"$f":"COUNTIFS('Daily Diary'!A:A,'Grafico Strategie Settimanali'!B106,'Daily Diary'!E:E,\"PUNTA SQ.CASA\",'Daily Diary'!E:E,\"PUNTA SQ.CASA\",'Daily Diary'!K:K,\"WIN\")","v":0},{"$f":"COUNTIFS('Daily Diary'!A:A,'Grafico Strategie Settimanali'!B106,'Daily Diary'!E:E,\"PUNTA SQ.OSPITE\",'Daily Diary'!E:E,\"PUNTA SQ.OSPITE\",'Daily Diary'!K:K,\"WIN\")","v":0},{"$f":"COUNTIFS('Daily Diary'!A:A,'Grafico Strategie Settimanali'!B106,'Daily Diary'!E:E,\"BANCA SFAVORITA\",'Daily Diary'!E:E,\"BANCA SFAVORITA\",'Daily Diary'!K:K,\"WIN\")","v":0},{"$f":"COUNTIFS('Daily Diary'!A:A,'Grafico Strategie Settimanali'!B106,'Daily Diary'!E:E,\"PUNTA OVER\",'Daily Diary'!E:E,\"PUNTA OVER\",'Daily Diary'!K:K,\"WIN\")","v":0},{"$f":"COUNTIFS('Daily Diary'!A:A,'Grafico Strategie Settimanali'!B106,'Daily Diary'!E:E,\"PUNTA UNDER\",'Daily Diary'!E:E,\"PUNTA UNDER\",'Daily Diary'!K:K,\"WIN\")","v":0},{"$f":"COUNTIFS('Daily Diary'!A:A,'Grafico Strategie Settimanali'!B106,'Daily Diary'!E:E,\"SCALPING\",'Daily Diary'!E:E,\"SCALPING\",'Daily Diary'!K:K,\"WIN\")","v":0},{"$f":"COUNTIFS('Daily Diary'!A:A,'Grafico Strategie Settimanali'!B106,'Daily Diary'!E:E,\"GT 90\",'Daily Diary'!E:E,\"GT 90\",'Daily Diary'!K:K,\"WIN\")","v":0},{"$f":"COUNTIFS('Daily Diary'!A:A,'Grafico Strategie Settimanali'!B106,'Daily Diary'!E:E,\"GT 110\",'Daily Diary'!E:E,\"GT 110\",'Daily Diary'!K:K,\"WIN\")","v":0},{"$f":"COUNTIFS('Daily Diary'!A:A,'Grafico Strategie Settimanali'!B106,'Daily Diary'!E:E,\"ALERT GOAL\",'Daily Diary'!E:E,\"ALERT GOAL\",'Daily Diary'!K:K,\"WIN\")","v":0},{"$f":"COUNTIFS('Daily Diary'!A:A,'Grafico Strategie Settimanali'!B106,'Daily Diary'!E:E,\"DRAW NO BET\",'Daily Diary'!E:E,\"DRAW NO BET\",'Daily Diary'!K:K,\"WIN\")","v":0},{"$f":"COUNTIFS('Daily Diary'!A:A,'Grafico Strategie Settimanali'!B106,'Daily Diary'!E:E,\"ALTRO\",'Daily Diary'!E:E,\"ALTRO\",'Daily Diary'!K:K,\"WIN\")","v":0},{"$error":"#DIV/0!"},{"$error":"#DIV/0!"},{"$error":"#DIV/0!"},{"$error":"#DIV/0!"},{"$error":"#DIV/0!"},{"$error":"#DIV/0!"},{"$error":"#DIV/0!"},{"$error":"#DIV/0!"},{"$error":"#DIV/0!"},{"$error":"#DIV/0!"},{"$error":"#DIV/0!"},{"$error":"#DIV/0!"}]
[0,"2023-08-17",{"$f":"COUNTIFS('Daily Diary'!A:A,'Grafico Strategie Settimanali'!B107,'Daily Diary'!E:E,\"BANCA PAREGGIO\")","v":0},{"$f":"COUNTIFS('Daily Diary'!A:A,'Grafico Strategie Settimanali'!B107,'Daily Diary'!E:E,\"PUNTA SQ.CASA\")","v":0},{"$f":"COUNTIFS('Daily Diary'!A:A,'Grafico Strategie Settimanali'!B107,'Daily Diary'!E:E,\"PUNTA SQ.OSPITE\")","v":0},{"$f":"COUNTIFS('Daily Diary'!A:A,'Grafico Strategie Settimanali'!B107,'Daily Diary'!E:E,\"BANCA SFAVORITA\")","v":0},{"$f":"COUNTIFS('Daily Diary'!A:A,'Grafico Strategie Settimanali'!B107,'Daily Diary'!E:E,\"PUNTA OVER\")","v":0},{"$f":"COUNTIFS('Daily Diary'!A:A,'Grafico Strategie Settimanali'!B107,'Daily Diary'!E:E,\"PUNTA UNDER\")","v":0},{"$f":"COUNTIFS('Daily Diary'!A:A,'Grafico Strategie Settimanali'!B107,'Daily Diary'!E:E,\"SCALPING\")","v":0},{"$f":"COUNTIFS('Daily Diary'!A:A,'Grafico Strategie Settimanali'!B107,'Daily Diary'!E:E,\"GT90\")","v":0},{"$f":"COUNTIFS('Daily Diary'!A:A,'Grafico Strategie Settimanali'!B107,'Daily Diary'!E:E,\"GT110\")","v":0},{"$f":"COUNTIFS('Daily Diary'!A:A,'Grafico Strategie Settimanali'!B107,'Daily Diary'!E:E,\"ALERT GOAL\")","v":0},{"$f":"COUNTIFS('Daily Diary'!A:A,'Grafico Strategie Settimanali'!B107,'Daily Diary'!E:E,\"DRAW NO BET\")","v":0},{"$f":"COUNTIFS('Daily Diary'!A:A,'Grafico Strategie Settimanali'!B107,'Daily Diary'!E:E,\"ALTRO\")","v":0},{"$f":"COUNTIFS('Daily Diary'!A:A,'Grafico Strategie Settimanali'!B107,'Daily Diary'!E:E,\"BANCA PAREGGIO\",'Daily Diary'!E:E,\"BANCA PAREGGIO\",'Daily Diary'!K:K,\"WIN\")","v":0},{"$f":"COUNTIFS('Daily Diary'!A:A,'Grafico Strategie Settimanali'!B107,'Daily Diary'!E:E,\"PUNTA SQ.CASA\",'Daily Diary'!E:E,\"PUNTA SQ.CASA\",'Daily Diary'!K:K,\"WIN\")","v":0},{"$f":"COUNTIFS('Daily Diary'!A:A,'Grafico Strategie Settimanali'!B107,'Daily Diary'!E:E,\"PUNTA SQ.OSPITE\",'Daily Diary'!E:E,\"PUNTA SQ.OSPITE\",'Daily Diary'!K:K,\"WIN\")","v":0},{"$f":"COUNTIFS('Daily Diary'!A:A,'Grafico Strategie Settimanali'!B107,'Daily Diary'!E:E,\"BANCA SFAVORITA\",'Daily Diary'!E:E,\"BANCA SFAVORITA\",'Daily Diary'!K:K,\"WIN\")","v":0},{"$f":"COUNTIFS('Daily Diary'!A:A,'Grafico Strategie Settimanali'!B107,'Daily Diary'!E:E,\"PUNTA OVER\",'Daily Diary'!E:E,\"PUNTA OVER\",'Daily Diary'!K:K,\"WIN\")","v":0},{"$f":"COUNTIFS('Daily Diary'!A:A,'Grafico Strategie Settimanali'!B107,'Daily Diary'!E:E,\"PUNTA UNDER\",'Daily Diary'!E:E,\"PUNTA UNDER\",'Daily Diary'!K:K,\"WIN\")","v":0},{"$f":"COUNTIFS('Daily Diary'!A:A,'Grafico Strategie Settimanali'!B107,'Daily Diary'!E:E,\"SCALPING\",'Daily Diary'!E:E,\"SCALPING\",'Daily Diary'!K:K,\"WIN\")","v":0},{"$f":"COUNTIFS('Daily Diary'!A:A,'Grafico Strategie Settimanali'!B107,'Daily Diary'!E:E,\"GT 90\",'Daily Diary'!E:E,\"GT 90\",'Daily Diary'!K:K,\"WIN\")","v":0},{"$f":"COUNTIFS('Daily Diary'!A:A,'Grafico Strategie Settimanali'!B107,'Daily Diary'!E:E,\"GT 110\",'Daily Diary'!E:E,\"GT 110\",'Daily Diary'!K:K,\"WIN\")","v":0},{"$f":"COUNTIFS('Daily Diary'!A:A,'Grafico Strategie Settimanali'!B107,'Daily Diary'!E:E,\"ALERT GOAL\",'Daily Diary'!E:E,\"ALERT GOAL\",'Daily Diary'!K:K,\"WIN\")","v":0},{"$f":"COUNTIFS('Daily Diary'!A:A,'Grafico Strategie Settimanali'!B107,'Daily Diary'!E:E,\"DRAW NO BET\",'Daily Diary'!E:E,\"DRAW NO BET\",'Daily Diary'!K:K,\"WIN\")","v":0},{"$f":"COUNTIFS('Daily Diary'!A:A,'Grafico Strategie Settimanali'!B107,'Daily Diary'!E:E,\"ALTRO\",'Daily Diary'!E:E,\"ALTRO\",'Daily Diary'!K:K,\"WIN\")","v":0},{"$error":"#DIV/0!"},{"$error":"#DIV/0!"},{"$error":"#DIV/0!"},{"$error":"#DIV/0!"},{"$error":"#DIV/0!"},{"$error":"#DIV/0!"},{"$error":"#DIV/0!"},{"$error":"#DIV/0!"},{"$error":"#DIV/0!"},{"$error":"#DIV/0!"},{"$error":"#DIV/0!"},{"$error":"#DIV/0!"}]
[0,"2023-08-18",{"$f":"COUNTIFS('Daily Diary'!A:A,'Grafico Strategie Settimanali'!B108,'Daily Diary'!E:E,\"BANCA PAREGGIO\")","v":0},{"$f":"COUNTIFS('Daily Diary'!A:A,'Grafico Strategie Settimanali'!B108,'Daily Diary'!E:E,\"PUNTA SQ.CASA\")","v":0},{"$f":"COUNTIFS('Daily Diary'!A:A,'Grafico Strategie Settimanali'!B108,'Daily Diary'!E:E,\"PUNTA SQ.OSPITE\")","v":0},{"$f":"COUNTIFS('Daily Diary'!A:A,'Grafico Strategie Settimanali'!B108,'Daily Diary'!E:E,\"BANCA SFAVORITA\")","v":0},{"$f":"COUNTIFS('Daily Diary'!A:A,'Grafico Strategie Settimanali'!B108,'Daily Diary'!E:E,\"PUNTA OVER\")","v":0},{"$f":"COUNTIFS('Daily Diary'!A:A,'Grafico Strategie Settimanali'!B108,'Daily Diary'!E:E,\"PUNTA UNDER\")","v":0},{"$f":"COUNTIFS('Daily Diary'!A:A,'Grafico Strategie Settimanali'!B108,'Daily Diary'!E:E,\"SCALPING\")","v":0},{"$f":"COUNTIFS('Daily Diary'!A:A,'Grafico Strategie Settimanali'!B108,'Daily Diary'!E:E,\"GT90\")","v":0},{"$f":"COUNTIFS('Daily Diary'!A:A,'Grafico Strategie Settimanali'!B108,'Daily Diary'!E:E,\"GT110\")","v":0},{"$f":"COUNTIFS('Daily Diary'!A:A,'Grafico Strategie Settimanali'!B108,'Daily Diary'!E:E,\"ALERT GOAL\")","v":0},{"$f":"COUNTIFS('Daily Diary'!A:A,'Grafico Strategie Settimanali'!B108,'Daily Diary'!E:E,\"DRAW NO BET\")","v":0},{"$f":"COUNTIFS('Daily Diary'!A:A,'Grafico Strategie Settimanali'!B108,'Daily Diary'!E:E,\"ALTRO\")","v":0},{"$f":"COUNTIFS('Daily Diary'!A:A,'Grafico Strategie Settimanali'!B108,'Daily Diary'!E:E,\"BANCA PAREGGIO\",'Daily Diary'!E:E,\"BANCA PAREGGIO\",'Daily Diary'!K:K,\"WIN\")","v":0},{"$f":"COUNTIFS('Daily Diary'!A:A,'Grafico Strategie Settimanali'!B108,'Daily Diary'!E:E,\"PUNTA SQ.CASA\",'Daily Diary'!E:E,\"PUNTA SQ.CASA\",'Daily Diary'!K:K,\"WIN\")","v":0},{"$f":"COUNTIFS('Daily Diary'!A:A,'Grafico Strategie Settimanali'!B108,'Daily Diary'!E:E,\"PUNTA SQ.OSPITE\",'Daily Diary'!E:E,\"PUNTA SQ.OSPITE\",'Daily Diary'!K:K,\"WIN\")","v":0},{"$f":"COUNTIFS('Daily Diary'!A:A,'Grafico Strategie Settimanali'!B108,'Daily Diary'!E:E,\"BANCA SFAVORITA\",'Daily Diary'!E:E,\"BANCA SFAVORITA\",'Daily Diary'!K:K,\"WIN\")","v":0},{"$f":"COUNTIFS('Daily Diary'!A:A,'Grafico Strategie Settimanali'!B108,'Daily Diary'!E:E,\"PUNTA OVER\",'Daily Diary'!E:E,\"PUNTA OVER\",'Daily Diary'!K:K,\"WIN\")","v":0},{"$f":"COUNTIFS('Daily Diary'!A:A,'Grafico Strategie Settimanali'!B108,'Daily Diary'!E:E,\"PUNTA UNDER\",'Daily Diary'!E:E,\"PUNTA UNDER\",'Daily Diary'!K:K,\"WIN\")","v":0},{"$f":"COUNTIFS('Daily Diary'!A:A,'Grafico Strategie Settimanali'!B108,'Daily Diary'!E:E,\"SCALPING\",'Daily Diary'!E:E,\"SCALPING\",'Daily Diary'!K:K,\"WIN\")","v":0},{"$f":"COUNTIFS('Daily Diary'!A:A,'Grafico Strategie Settimanali'!B108,'Daily Diary'!E:E,\"GT 90\",'Daily Diary'!E:E,\"GT 90\",'Daily Diary'!K:K,\"WIN\")","v":0},{"$f":"COUNTIFS('Daily Diary'!A:A,'Grafico Strategie Settimanali'!B108,'Daily Diary'!E:E,\"GT 110\",'Daily Diary'!E:E,\"GT 110\",'Daily Diary'!K:K,\"WIN\")","v":0},{"$f":"COUNTIFS('Daily Diary'!A:A,'Grafico Strategie Settimanali'!B108,'Daily Diary'!E:E,\"ALERT GOAL\",'Daily Diary'!E:E,\"ALERT GOAL\",'Daily Diary'!K:K,\"WIN\")","v":0},{"$f":"COUNTIFS('Daily Diary'!A:A,'Grafico Strategie Settimanali'!B108,'Daily Diary'!E:E,\"DRAW NO BET\",'Daily Diary'!E:E,\"DRAW NO BET\",'Daily Diary'!K:K,\"WIN\")","v":0},{"$f":"COUNTIFS('Daily Diary'!A:A,'Grafico Strategie Settimanali'!B108,'Daily Diary'!E:E,\"ALTRO\",'Daily Diary'!E:E,\"ALTRO\",'Daily Diary'!K:K,\"WIN\")","v":0},{"$error":"#DIV/0!"},{"$error":"#DIV/0!"},{"$error":"#DIV/0!"},{"$error":"#DIV/0!"},{"$error":"#DIV/0!"},{"$error":"#DIV/0!"},{"$error":"#DIV/0!"},{"$error":"#DIV/0!"},{"$error":"#DIV/0!"},{"$error":"#DIV/0!"},{"$error":"#DIV/0!"},{"$error":"#DIV/0!"}]
[0,"2023-08-19",{"$f":"COUNTIFS('Daily Diary'!A:A,'Grafico Strategie Settimanali'!B109,'Daily Diary'!E:E,\"BANCA PAREGGIO\")","v":0},{"$f":"COUNTIFS('Daily Diary'!A:A,'Grafico Strategie Settimanali'!B109,'Daily Diary'!E:E,\"PUNTA SQ.CASA\")","v":0},{"$f":"COUNTIFS('Daily Diary'!A:A,'Grafico Strategie Settimanali'!B109,'Daily Diary'!E:E,\"PUNTA SQ.OSPITE\")","v":0},{"$f":"COUNTIFS('Daily Diary'!A:A,'Grafico Strategie Settimanali'!B109,'Daily Diary'!E:E,\"BANCA SFAVORITA\")","v":0},{"$f":"COUNTIFS('Daily Diary'!A:A,'Grafico Strategie Settimanali'!B109,'Daily Diary'!E:E,\"PUNTA OVER\")","v":0},{"$f":"COUNTIFS('Daily Diary'!A:A,'Grafico Strategie Settimanali'!B109,'Daily Diary'!E:E,\"PUNTA UNDER\")","v":0},{"$f":"COUNTIFS('Daily Diary'!A:A,'Grafico Strategie Settimanali'!B109,'Daily Diary'!E:E,\"SCALPING\")","v":0},{"$f":"COUNTIFS('Daily Diary'!A:A,'Grafico Strategie Settimanali'!B109,'Daily Diary'!E:E,\"GT90\")","v":0},{"$f":"COUNTIFS('Daily Diary'!A:A,'Grafico Strategie Settimanali'!B109,'Daily Diary'!E:E,\"GT110\")","v":0},{"$f":"COUNTIFS('Daily Diary'!A:A,'Grafico Strategie Settimanali'!B109,'Daily Diary'!E:E,\"ALERT GOAL\")","v":0},{"$f":"COUNTIFS('Daily Diary'!A:A,'Grafico Strategie Settimanali'!B109,'Daily Diary'!E:E,\"DRAW NO BET\")","v":0},{"$f":"COUNTIFS('Daily Diary'!A:A,'Grafico Strategie Settimanali'!B109,'Daily Diary'!E:E,\"ALTRO\")","v":0},{"$f":"COUNTIFS('Daily Diary'!A:A,'Grafico Strategie Settimanali'!B109,'Daily Diary'!E:E,\"BANCA PAREGGIO\",'Daily Diary'!E:E,\"BANCA PAREGGIO\",'Daily Diary'!K:K,\"WIN\")","v":0},{"$f":"COUNTIFS('Daily Diary'!A:A,'Grafico Strategie Settimanali'!B109,'Daily Diary'!E:E,\"PUNTA SQ.CASA\",'Daily Diary'!E:E,\"PUNTA SQ.CASA\",'Daily Diary'!K:K,\"WIN\")","v":0},{"$f":"COUNTIFS('Daily Diary'!A:A,'Grafico Strategie Settimanali'!B109,'Daily Diary'!E:E,\"PUNTA SQ.OSPITE\",'Daily Diary'!E:E,\"PUNTA SQ.OSPITE\",'Daily Diary'!K:K,\"WIN\")","v":0},{"$f":"COUNTIFS('Daily Diary'!A:A,'Grafico Strategie Settimanali'!B109,'Daily Diary'!E:E,\"BANCA SFAVORITA\",'Daily Diary'!E:E,\"BANCA SFAVORITA\",'Daily Diary'!K:K,\"WIN\")","v":0},{"$f":"COUNTIFS('Daily Diary'!A:A,'Grafico Strategie Settimanali'!B109,'Daily Diary'!E:E,\"PUNTA OVER\",'Daily Diary'!E:E,\"PUNTA OVER\",'Daily Diary'!K:K,\"WIN\")","v":0},{"$f":"COUNTIFS('Daily Diary'!A:A,'Grafico Strategie Settimanali'!B109,'Daily Diary'!E:E,\"PUNTA UNDER\",'Daily Diary'!E:E,\"PUNTA UNDER\",'Daily Diary'!K:K,\"WIN\")","v":0},{"$f":"COUNTIFS('Daily Diary'!A:A,'Grafico Strategie Settimanali'!B109,'Daily Diary'!E:E,\"SCALPING\",'Daily Diary'!E:E,\"SCALPING\",'Daily Diary'!K:K,\"WIN\")","v":0},{"$f":"COUNTIFS('Daily Diary'!A:A,'Grafico Strategie Settimanali'!B109,'Daily Diary'!E:E,\"GT 90\",'Daily Diary'!E:E,\"GT 90\",'Daily Diary'!K:K,\"WIN\")","v":0},{"$f":"COUNTIFS('Daily Diary'!A:A,'Grafico Strategie Settimanali'!B109,'Daily Diary'!E:E,\"GT 110\",'Daily Diary'!E:E,\"GT 110\",'Daily Diary'!K:K,\"WIN\")","v":0},{"$f":"COUNTIFS('Daily Diary'!A:A,'Grafico Strategie Settimanali'!B109,'Daily Diary'!E:E,\"ALERT GOAL\",'Daily Diary'!E:E,\"ALERT GOAL\",'Daily Diary'!K:K,\"WIN\")","v":0},{"$f":"COUNTIFS('Daily Diary'!A:A,'Grafico Strategie Settimanali'!B109,'Daily Diary'!E:E,\"DRAW NO BET\",'Daily Diary'!E:E,\"DRAW NO BET\",'Daily Diary'!K:K,\"WIN\")","v":0},{"$f":"COUNTIFS('Daily Diary'!A:A,'Grafico Strategie Settimanali'!B109,'Daily Diary'!E:E,\"ALTRO\",'Daily Diary'!E:E,\"ALTRO\",'Daily Diary'!K:K,\"WIN\")","v":0},{"$error":"#DIV/0!"},{"$error":"#DIV/0!"},{"$error":"#DIV/0!"},{"$error":"#DIV/0!"},{"$error":"#DIV/0!"},{"$error":"#DIV/0!"},{"$error":"#DIV/0!"},{"$error":"#DIV/0!"},{"$error":"#DIV/0!"},{"$error":"#DIV/0!"},{"$error":"#DIV/0!"},{"$error":"#DIV/0!"}]
[0,"2023-08-20",{"$f":"COUNTIFS('Daily Diary'!A:A,'Grafico Strategie Settimanali'!B110,'Daily Diary'!E:E,\"BANCA PAREGGIO\")","v":0},{"$f":"COUNTIFS('Daily Diary'!A:A,'Grafico Strategie Settimanali'!B110,'Daily Diary'!E:E,\"PUNTA SQ.CASA\")","v":0},{"$f":"COUNTIFS('Daily Diary'!A:A,'Grafico Strategie Settimanali'!B110,'Daily Diary'!E:E,\"PUNTA SQ.OSPITE\")","v":0},{"$f":"COUNTIFS('Daily Diary'!A:A,'Grafico Strategie Settimanali'!B110,'Daily Diary'!E:E,\"BANCA SFAVORITA\")","v":0},{"$f":"COUNTIFS('Daily Diary'!A:A,'Grafico Strategie Settimanali'!B110,'Daily Diary'!E:E,\"PUNTA OVER\")","v":0},{"$f":"COUNTIFS('Daily Diary'!A:A,'Grafico Strategie Settimanali'!B110,'Daily Diary'!E:E,\"PUNTA UNDER\")","v":0},{"$f":"COUNTIFS('Daily Diary'!A:A,'Grafico Strategie Settimanali'!B110,'Daily Diary'!E:E,\"SCALPING\")","v":0},{"$f":"COUNTIFS('Daily Diary'!A:A,'Grafico Strategie Settimanali'!B110,'Daily Diary'!E:E,\"GT90\")","v":0},{"$f":"COUNTIFS('Daily Diary'!A:A,'Grafico Strategie Settimanali'!B110,'Daily Diary'!E:E,\"GT110\")","v":0},{"$f":"COUNTIFS('Daily Diary'!A:A,'Grafico Strategie Settimanali'!B110,'Daily Diary'!E:E,\"ALERT GOAL\")","v":0},{"$f":"COUNTIFS('Daily Diary'!A:A,'Grafico Strategie Settimanali'!B110,'Daily Diary'!E:E,\"DRAW NO BET\")","v":0},{"$f":"COUNTIFS('Daily Diary'!A:A,'Grafico Strategie Settimanali'!B110,'Daily Diary'!E:E,\"ALTRO\")","v":0},{"$f":"COUNTIFS('Daily Diary'!A:A,'Grafico Strategie Settimanali'!B110,'Daily Diary'!E:E,\"BANCA PAREGGIO\",'Daily Diary'!E:E,\"BANCA PAREGGIO\",'Daily Diary'!K:K,\"WIN\")","v":0},{"$f":"COUNTIFS('Daily Diary'!A:A,'Grafico Strategie Settimanali'!B110,'Daily Diary'!E:E,\"PUNTA SQ.CASA\",'Daily Diary'!E:E,\"PUNTA SQ.CASA\",'Daily Diary'!K:K,\"WIN\")","v":0},{"$f":"COUNTIFS('Daily Diary'!A:A,'Grafico Strategie Settimanali'!B110,'Daily Diary'!E:E,\"PUNTA SQ.OSPITE\",'Daily Diary'!E:E,\"PUNTA SQ.OSPITE\",'Daily Diary'!K:K,\"WIN\")","v":0},{"$f":"COUNTIFS('Daily Diary'!A:A,'Grafico Strategie Settimanali'!B110,'Daily Diary'!E:E,\"BANCA SFAVORITA\",'Daily Diary'!E:E,\"BANCA SFAVORITA\",'Daily Diary'!K:K,\"WIN\")","v":0},{"$f":"COUNTIFS('Daily Diary'!A:A,'Grafico Strategie Settimanali'!B110,'Daily Diary'!E:E,\"PUNTA OVER\",'Daily Diary'!E:E,\"PUNTA OVER\",'Daily Diary'!K:K,\"WIN\")","v":0},{"$f":"COUNTIFS('Daily Diary'!A:A,'Grafico Strategie Settimanali'!B110,'Daily Diary'!E:E,\"PUNTA UNDER\",'Daily Diary'!E:E,\"PUNTA UNDER\",'Daily Diary'!K:K,\"WIN\")","v":0},{"$f":"COUNTIFS('Daily Diary'!A:A,'Grafico Strategie Settimanali'!B110,'Daily Diary'!E:E,\"SCALPING\",'Daily Diary'!E:E,\"SCALPING\",'Daily Diary'!K:K,\"WIN\")","v":0},{"$f":"COUNTIFS('Daily Diary'!A:A,'Grafico Strategie Settimanali'!B110,'Daily Diary'!E:E,\"GT 90\",'Daily Diary'!E:E,\"GT 90\",'Daily Diary'!K:K,\"WIN\")","v":0},{"$f":"COUNTIFS('Daily Diary'!A:A,'Grafico Strategie Settimanali'!B110,'Daily Diary'!E:E,\"GT 110\",'Daily Diary'!E:E,\"GT 110\",'Daily Diary'!K:K,\"WIN\")","v":0},{"$f":"COUNTIFS('Daily Diary'!A:A,'Grafico Strategie Settimanali'!B110,'Daily Diary'!E:E,\"ALERT GOAL\",'Daily Diary'!E:E,\"ALERT GOAL\",'Daily Diary'!K:K,\"WIN\")","v":0},{"$f":"COUNTIFS('Daily Diary'!A:A,'Grafico Strategie Settimanali'!B110,'Daily Diary'!E:E,\"DRAW NO BET\",'Daily Diary'!E:E,\"DRAW NO BET\",'Daily Diary'!K:K,\"WIN\")","v":0},{"$f":"COUNTIFS('Daily Diary'!A:A,'Grafico Strategie Settimanali'!B110,'Daily Diary'!E:E,\"ALTRO\",'Daily Diary'!E:E,\"ALTRO\",'Daily Diary'!K:K,\"WIN\")","v":0},{"$error":"#DIV/0!"},{"$error":"#DIV/0!"},{"$error":"#DIV/0!"},{"$error":"#DIV/0!"},{"$error":"#DIV/0!"},{"$error":"#DIV/0!"},{"$error":"#DIV/0!"},{"$error":"#DIV/0!"},{"$error":"#DIV/0!"},{"$error":"#DIV/0!"},{"$error":"#DIV/0!"},{"$error":"#DIV/0!"}]
[0,"2023-08-21",{"$f":"COUNTIFS('Daily Diary'!A:A,'Grafico Strategie Settimanali'!B111,'Daily Diary'!E:E,\"BANCA PAREGGIO\")","v":0},{"$f":"COUNTIFS('Daily Diary'!A:A,'Grafico Strategie Settimanali'!B111,'Daily Diary'!E:E,\"PUNTA SQ.CASA\")","v":0},{"$f":"COUNTIFS('Daily Diary'!A:A,'Grafico Strategie Settimanali'!B111,'Daily Diary'!E:E,\"PUNTA SQ.OSPITE\")","v":0},{"$f":"COUNTIFS('Daily Diary'!A:A,'Grafico Strategie Settimanali'!B111,'Daily Diary'!E:E,\"BANCA SFAVORITA\")","v":0},{"$f":"COUNTIFS('Daily Diary'!A:A,'Grafico Strategie Settimanali'!B111,'Daily Diary'!E:E,\"PUNTA OVER\")","v":0},{"$f":"COUNTIFS('Daily Diary'!A:A,'Grafico Strategie Settimanali'!B111,'Daily Diary'!E:E,\"PUNTA UNDER\")","v":0},{"$f":"COUNTIFS('Daily Diary'!A:A,'Grafico Strategie Settimanali'!B111,'Daily Diary'!E:E,\"SCALPING\")","v":0},{"$f":"COUNTIFS('Daily Diary'!A:A,'Grafico Strategie Settimanali'!B111,'Daily Diary'!E:E,\"GT90\")","v":0},{"$f":"COUNTIFS('Daily Diary'!A:A,'Grafico Strategie Settimanali'!B111,'Daily Diary'!E:E,\"GT110\")","v":0},{"$f":"COUNTIFS('Daily Diary'!A:A,'Grafico Strategie Settimanali'!B111,'Daily Diary'!E:E,\"ALERT GOAL\")","v":0},{"$f":"COUNTIFS('Daily Diary'!A:A,'Grafico Strategie Settimanali'!B111,'Daily Diary'!E:E,\"DRAW NO BET\")","v":0},{"$f":"COUNTIFS('Daily Diary'!A:A,'Grafico Strategie Settimanali'!B111,'Daily Diary'!E:E,\"ALTRO\")","v":0},{"$f":"COUNTIFS('Daily Diary'!A:A,'Grafico Strategie Settimanali'!B111,'Daily Diary'!E:E,\"BANCA PAREGGIO\",'Daily Diary'!E:E,\"BANCA PAREGGIO\",'Daily Diary'!K:K,\"WIN\")","v":0},{"$f":"COUNTIFS('Daily Diary'!A:A,'Grafico Strategie Settimanali'!B111,'Daily Diary'!E:E,\"PUNTA SQ.CASA\",'Daily Diary'!E:E,\"PUNTA SQ.CASA\",'Daily Diary'!K:K,\"WIN\")","v":0},{"$f":"COUNTIFS('Daily Diary'!A:A,'Grafico Strategie Settimanali'!B111,'Daily Diary'!E:E,\"PUNTA SQ.OSPITE\",'Daily Diary'!E:E,\"PUNTA SQ.OSPITE\",'Daily Diary'!K:K,\"WIN\")","v":0},{"$f":"COUNTIFS('Daily Diary'!A:A,'Grafico Strategie Settimanali'!B111,'Daily Diary'!E:E,\"BANCA SFAVORITA\",'Daily Diary'!E:E,\"BANCA SFAVORITA\",'Daily Diary'!K:K,\"WIN\")","v":0},{"$f":"COUNTIFS('Daily Diary'!A:A,'Grafico Strategie Settimanali'!B111,'Daily Diary'!E:E,\"PUNTA OVER\",'Daily Diary'!E:E,\"PUNTA OVER\",'Daily Diary'!K:K,\"WIN\")","v":0},{"$f":"COUNTIFS('Daily Diary'!A:A,'Grafico Strategie Settimanali'!B111,'Daily Diary'!E:E,\"PUNTA UNDER\",'Daily Diary'!E:E,\"PUNTA UNDER\",'Daily Diary'!K:K,\"WIN\")","v":0},{"$f":"COUNTIFS('Daily Diary'!A:A,'Grafico Strategie Settimanali'!B111,'Daily Diary'!E:E,\"SCALPING\",'Daily Diary'!E:E,\"SCALPING\",'Daily Diary'!K:K,\"WIN\")","v":0},{"$f":"COUNTIFS('Daily Diary'!A:A,'Grafico Strategie Settimanali'!B111,'Daily Diary'!E:E,\"GT 90\",'Daily Diary'!E:E,\"GT 90\",'Daily Diary'!K:K,\"WIN\")","v":0},{"$f":"COUNTIFS('Daily Diary'!A:A,'Grafico Strategie Settimanali'!B111,'Daily Diary'!E:E,\"GT 110\",'Daily Diary'!E:E,\"GT 110\",'Daily Diary'!K:K,\"WIN\")","v":0},{"$f":"COUNTIFS('Daily Diary'!A:A,'Grafico Strategie Settimanali'!B111,'Daily Diary'!E:E,\"ALERT GOAL\",'Daily Diary'!E:E,\"ALERT GOAL\",'Daily Diary'!K:K,\"WIN\")","v":0},{"$f":"COUNTIFS('Daily Diary'!A:A,'Grafico Strategie Settimanali'!B111,'Daily Diary'!E:E,\"DRAW NO BET\",'Daily Diary'!E:E,\"DRAW NO BET\",'Daily Diary'!K:K,\"WIN\")","v":0},{"$f":"COUNTIFS('Daily Diary'!A:A,'Grafico Strategie Settimanali'!B111,'Daily Diary'!E:E,\"ALTRO\",'Daily Diary'!E:E,\"ALTRO\",'Daily Diary'!K:K,\"WIN\")","v":0},{"$error":"#DIV/0!"},{"$error":"#DIV/0!"},{"$error":"#DIV/0!"},{"$error":"#DIV/0!"},{"$error":"#DIV/0!"},{"$error":"#DIV/0!"},{"$error":"#DIV/0!"},{"$error":"#DIV/0!"},{"$error":"#DIV/0!"},{"$error":"#DIV/0!"},{"$error":"#DIV/0!"},{"$error":"#DIV/0!"}]
[0,"2023-08-22",{"$f":"COUNTIFS('Daily Diary'!A:A,'Grafico Strategie Settimanali'!B112,'Daily Diary'!E:E,\"BANCA PAREGGIO\")","v":0},{"$f":"COUNTIFS('Daily Diary'!A:A,'Grafico Strategie Settimanali'!B112,'Daily Diary'!E:E,\"PUNTA SQ.CASA\")","v":0},{"$f":"COUNTIFS('Daily Diary'!A:A,'Grafico Strategie Settimanali'!B112,'Daily Diary'!E:E,\"PUNTA SQ.OSPITE\")","v":0},{"$f":"COUNTIFS('Daily Diary'!A:A,'Grafico Strategie Settimanali'!B112,'Daily Diary'!E:E,\"BANCA SFAVORITA\")","v":0},{"$f":"COUNTIFS('Daily Diary'!A:A,'Grafico Strategie Settimanali'!B112,'Daily Diary'!E:E,\"PUNTA OVER\")","v":0},{"$f":"COUNTIFS('Daily Diary'!A:A,'Grafico Strategie Settimanali'!B112,'Daily Diary'!E:E,\"PUNTA UNDER\")","v":0},{"$f":"COUNTIFS('Daily Diary'!A:A,'Grafico Strategie Settimanali'!B112,'Daily Diary'!E:E,\"SCALPING\")","v":0},{"$f":"COUNTIFS('Daily Diary'!A:A,'Grafico Strategie Settimanali'!B112,'Daily Diary'!E:E,\"GT90\")","v":0},{"$f":"COUNTIFS('Daily Diary'!A:A,'Grafico Strategie Settimanali'!B112,'Daily Diary'!E:E,\"GT110\")","v":0},{"$f":"COUNTIFS('Daily Diary'!A:A,'Grafico Strategie Settimanali'!B112,'Daily Diary'!E:E,\"ALERT GOAL\")","v":0},{"$f":"COUNTIFS('Daily Diary'!A:A,'Grafico Strategie Settimanali'!B112,'Daily Diary'!E:E,\"DRAW NO BET\")","v":0},{"$f":"COUNTIFS('Daily Diary'!A:A,'Grafico Strategie Settimanali'!B112,'Daily Diary'!E:E,\"ALTRO\")","v":0},{"$f":"COUNTIFS('Daily Diary'!A:A,'Grafico Strategie Settimanali'!B112,'Daily Diary'!E:E,\"BANCA PAREGGIO\",'Daily Diary'!E:E,\"BANCA PAREGGIO\",'Daily Diary'!K:K,\"WIN\")","v":0},{"$f":"COUNTIFS('Daily Diary'!A:A,'Grafico Strategie Settimanali'!B112,'Daily Diary'!E:E,\"PUNTA SQ.CASA\",'Daily Diary'!E:E,\"PUNTA SQ.CASA\",'Daily Diary'!K:K,\"WIN\")","v":0},{"$f":"COUNTIFS('Daily Diary'!A:A,'Grafico Strategie Settimanali'!B112,'Daily Diary'!E:E,\"PUNTA SQ.OSPITE\",'Daily Diary'!E:E,\"PUNTA SQ.OSPITE\",'Daily Diary'!K:K,\"WIN\")","v":0},{"$f":"COUNTIFS('Daily Diary'!A:A,'Grafico Strategie Settimanali'!B112,'Daily Diary'!E:E,\"BANCA SFAVORITA\",'Daily Diary'!E:E,\"BANCA SFAVORITA\",'Daily Diary'!K:K,\"WIN\")","v":0},{"$f":"COUNTIFS('Daily Diary'!A:A,'Grafico Strategie Settimanali'!B112,'Daily Diary'!E:E,\"PUNTA OVER\",'Daily Diary'!E:E,\"PUNTA OVER\",'Daily Diary'!K:K,\"WIN\")","v":0},{"$f":"COUNTIFS('Daily Diary'!A:A,'Grafico Strategie Settimanali'!B112,'Daily Diary'!E:E,\"PUNTA UNDER\",'Daily Diary'!E:E,\"PUNTA UNDER\",'Daily Diary'!K:K,\"WIN\")","v":0},{"$f":"COUNTIFS('Daily Diary'!A:A,'Grafico Strategie Settimanali'!B112,'Daily Diary'!E:E,\"SCALPING\",'Daily Diary'!E:E,\"SCALPING\",'Daily Diary'!K:K,\"WIN\")","v":0},{"$f":"COUNTIFS('Daily Diary'!A:A,'Grafico Strategie Settimanali'!B112,'Daily Diary'!E:E,\"GT 90\",'Daily Diary'!E:E,\"GT 90\",'Daily Diary'!K:K,\"WIN\")","v":0},{"$f":"COUNTIFS('Daily Diary'!A:A,'Grafico Strategie Settimanali'!B112,'Daily Diary'!E:E,\"GT 110\",'Daily Diary'!E:E,\"GT 110\",'Daily Diary'!K:K,\"WIN\")","v":0},{"$f":"COUNTIFS('Daily Diary'!A:A,'Grafico Strategie Settimanali'!B112,'Daily Diary'!E:E,\"ALERT GOAL\",'Daily Diary'!E:E,\"ALERT GOAL\",'Daily Diary'!K:K,\"WIN\")","v":0},{"$f":"COUNTIFS('Daily Diary'!A:A,'Grafico Strategie Settimanali'!B112,'Daily Diary'!E:E,\"DRAW NO BET\",'Daily Diary'!E:E,\"DRAW NO BET\",'Daily Diary'!K:K,\"WIN\")","v":0},{"$f":"COUNTIFS('Daily Diary'!A:A,'Grafico Strategie Settimanali'!B112,'Daily Diary'!E:E,\"ALTRO\",'Daily Diary'!E:E,\"ALTRO\",'Daily Diary'!K:K,\"WIN\")","v":0},{"$error":"#DIV/0!"},{"$error":"#DIV/0!"},{"$error":"#DIV/0!"},{"$error":"#DIV/0!"},{"$error":"#DIV/0!"},{"$error":"#DIV/0!"},{"$error":"#DIV/0!"},{"$error":"#DIV/0!"},{"$error":"#DIV/0!"},{"$error":"#DIV/0!"},{"$error":"#DIV/0!"},{"$error":"#DIV/0!"}]
[0,"2023-08-23",{"$f":"COUNTIFS('Daily Diary'!A:A,'Grafico Strategie Settimanali'!B113,'Daily Diary'!E:E,\"BANCA PAREGGIO\")","v":0},{"$f":"COUNTIFS('Daily Diary'!A:A,'Grafico Strategie Settimanali'!B113,'Daily Diary'!E:E,\"PUNTA SQ.CASA\")","v":0},{"$f":"COUNTIFS('Daily Diary'!A:A,'Grafico Strategie Settimanali'!B113,'Daily Diary'!E:E,\"PUNTA SQ.OSPITE\")","v":0},{"$f":"COUNTIFS('Daily Diary'!A:A,'Grafico Strategie Settimanali'!B113,'Daily Diary'!E:E,\"BANCA SFAVORITA\")","v":0},{"$f":"COUNTIFS('Daily Diary'!A:A,'Grafico Strategie Settimanali'!B113,'Daily Diary'!E:E,\"PUNTA OVER\")","v":0},{"$f":"COUNTIFS('Daily Diary'!A:A,'Grafico Strategie Settimanali'!B113,'Daily Diary'!E:E,\"PUNTA UNDER\")","v":0},{"$f":"COUNTIFS('Daily Diary'!A:A,'Grafico Strategie Settimanali'!B113,'Daily Diary'!E:E,\"SCALPING\")","v":0},{"$f":"COUNTIFS('Daily Diary'!A:A,'Grafico Strategie Settimanali'!B113,'Daily Diary'!E:E,\"GT90\")","v":0},{"$f":"COUNTIFS('Daily Diary'!A:A,'Grafico Strategie Settimanali'!B113,'Daily Diary'!E:E,\"GT110\")","v":0},{"$f":"COUNTIFS('Daily Diary'!A:A,'Grafico Strategie Settimanali'!B113,'Daily Diary'!E:E,\"ALERT GOAL\")","v":0},{"$f":"COUNTIFS('Daily Diary'!A:A,'Grafico Strategie Settimanali'!B113,'Daily Diary'!E:E,\"DRAW NO BET\")","v":0},{"$f":"COUNTIFS('Daily Diary'!A:A,'Grafico Strategie Settimanali'!B113,'Daily Diary'!E:E,\"ALTRO\")","v":0},{"$f":"COUNTIFS('Daily Diary'!A:A,'Grafico Strategie Settimanali'!B113,'Daily Diary'!E:E,\"BANCA PAREGGIO\",'Daily Diary'!E:E,\"BANCA PAREGGIO\",'Daily Diary'!K:K,\"WIN\")","v":0},{"$f":"COUNTIFS('Daily Diary'!A:A,'Grafico Strategie Settimanali'!B113,'Daily Diary'!E:E,\"PUNTA SQ.CASA\",'Daily Diary'!E:E,\"PUNTA SQ.CASA\",'Daily Diary'!K:K,\"WIN\")","v":0},{"$f":"COUNTIFS('Daily Diary'!A:A,'Grafico Strategie Settimanali'!B113,'Daily Diary'!E:E,\"PUNTA SQ.OSPITE\",'Daily Diary'!E:E,\"PUNTA SQ.OSPITE\",'Daily Diary'!K:K,\"WIN\")","v":0},{"$f":"COUNTIFS('Daily Diary'!A:A,'Grafico Strategie Settimanali'!B113,'Daily Diary'!E:E,\"BANCA SFAVORITA\",'Daily Diary'!E:E,\"BANCA SFAVORITA\",'Daily Diary'!K:K,\"WIN\")","v":0},{"$f":"COUNTIFS('Daily Diary'!A:A,'Grafico Strategie Settimanali'!B113,'Daily Diary'!E:E,\"PUNTA OVER\",'Daily Diary'!E:E,\"PUNTA OVER\",'Daily Diary'!K:K,\"WIN\")","v":0},{"$f":"COUNTIFS('Daily Diary'!A:A,'Grafico Strategie Settimanali'!B113,'Daily Diary'!E:E,\"PUNTA UNDER\",'Daily Diary'!E:E,\"PUNTA UNDER\",'Daily Diary'!K:K,\"WIN\")","v":0},{"$f":"COUNTIFS('Daily Diary'!A:A,'Grafico Strategie Settimanali'!B113,'Daily Diary'!E:E,\"SCALPING\",'Daily Diary'!E:E,\"SCALPING\",'Daily Diary'!K:K,\"WIN\")","v":0},{"$f":"COUNTIFS('Daily Diary'!A:A,'Grafico Strategie Settimanali'!B113,'Daily Diary'!E:E,\"GT 90\",'Daily Diary'!E:E,\"GT 90\",'Daily Diary'!K:K,\"WIN\")","v":0},{"$f":"COUNTIFS('Daily Diary'!A:A,'Grafico Strategie Settimanali'!B113,'Daily Diary'!E:E,\"GT 110\",'Daily Diary'!E:E,\"GT 110\",'Daily Diary'!K:K,\"WIN\")","v":0},{"$f":"COUNTIFS('Daily Diary'!A:A,'Grafico Strategie Settimanali'!B113,'Daily Diary'!E:E,\"ALERT GOAL\",'Daily Diary'!E:E,\"ALERT GOAL\",'Daily Diary'!K:K,\"WIN\")","v":0},{"$f":"COUNTIFS('Daily Diary'!A:A,'Grafico Strategie Settimanali'!B113,'Daily Diary'!E:E,\"DRAW NO BET\",'Daily Diary'!E:E,\"DRAW NO BET\",'Daily Diary'!K:K,\"WIN\")","v":0},{"$f":"COUNTIFS('Daily Diary'!A:A,'Grafico Strategie Settimanali'!B113,'Daily Diary'!E:E,\"ALTRO\",'Daily Diary'!E:E,\"ALTRO\",'Daily Diary'!K:K,\"WIN\")","v":0},{"$error":"#DIV/0!"},{"$error":"#DIV/0!"},{"$error":"#DIV/0!"},{"$error":"#DIV/0!"},{"$error":"#DIV/0!"},{"$error":"#DIV/0!"},{"$error":"#DIV/0!"},{"$error":"#DIV/0!"},{"$error":"#DIV/0!"},{"$error":"#DIV/0!"},{"$error":"#DIV/0!"},{"$error":"#DIV/0!"}]
[0,"2023-08-24",{"$f":"COUNTIFS('Daily Diary'!A:A,'Grafico Strategie Settimanali'!B114,'Daily Diary'!E:E,\"BANCA PAREGGIO\")","v":0},{"$f":"COUNTIFS('Daily Diary'!A:A,'Grafico Strategie Settimanali'!B114,'Daily Diary'!E:E,\"PUNTA SQ.CASA\")","v":0},{"$f":"COUNTIFS('Daily Diary'!A:A,'Grafico Strategie Settimanali'!B114,'Daily Diary'!E:E,\"PUNTA SQ.OSPITE\")","v":0},{"$f":"COUNTIFS('Daily Diary'!A:A,'Grafico Strategie Settimanali'!B114,'Daily Diary'!E:E,\"BANCA SFAVORITA\")","v":0},{"$f":"COUNTIFS('Daily Diary'!A:A,'Grafico Strategie Settimanali'!B114,'Daily Diary'!E:E,\"PUNTA OVER\")","v":0},{"$f":"COUNTIFS('Daily Diary'!A:A,'Grafico Strategie Settimanali'!B114,'Daily Diary'!E:E,\"PUNTA UNDER\")","v":0},{"$f":"COUNTIFS('Daily Diary'!A:A,'Grafico Strategie Settimanali'!B114,'Daily Diary'!E:E,\"SCALPING\")","v":0},{"$f":"COUNTIFS('Daily Diary'!A:A,'Grafico Strategie Settimanali'!B114,'Daily Diary'!E:E,\"GT90\")","v":0},{"$f":"COUNTIFS('Daily Diary'!A:A,'Grafico Strategie Settimanali'!B114,'Daily Diary'!E:E,\"GT110\")","v":0},{"$f":"COUNTIFS('Daily Diary'!A:A,'Grafico Strategie Settimanali'!B114,'Daily Diary'!E:E,\"ALERT GOAL\")","v":0},{"$f":"COUNTIFS('Daily Diary'!A:A,'Grafico Strategie Settimanali'!B114,'Daily Diary'!E:E,\"DRAW NO BET\")","v":0},{"$f":"COUNTIFS('Daily Diary'!A:A,'Grafico Strategie Settimanali'!B114,'Daily Diary'!E:E,\"ALTRO\")","v":0},{"$f":"COUNTIFS('Daily Diary'!A:A,'Grafico Strategie Settimanali'!B114,'Daily Diary'!E:E,\"BANCA PAREGGIO\",'Daily Diary'!E:E,\"BANCA PAREGGIO\",'Daily Diary'!K:K,\"WIN\")","v":0},{"$f":"COUNTIFS('Daily Diary'!A:A,'Grafico Strategie Settimanali'!B114,'Daily Diary'!E:E,\"PUNTA SQ.CASA\",'Daily Diary'!E:E,\"PUNTA SQ.CASA\",'Daily Diary'!K:K,\"WIN\")","v":0},{"$f":"COUNTIFS('Daily Diary'!A:A,'Grafico Strategie Settimanali'!B114,'Daily Diary'!E:E,\"PUNTA SQ.OSPITE\",'Daily Diary'!E:E,\"PUNTA SQ.OSPITE\",'Daily Diary'!K:K,\"WIN\")","v":0},{"$f":"COUNTIFS('Daily Diary'!A:A,'Grafico Strategie Settimanali'!B114,'Daily Diary'!E:E,\"BANCA SFAVORITA\",'Daily Diary'!E:E,\"BANCA SFAVORITA\",'Daily Diary'!K:K,\"WIN\")","v":0},{"$f":"COUNTIFS('Daily Diary'!A:A,'Grafico Strategie Settimanali'!B114,'Daily Diary'!E:E,\"PUNTA OVER\",'Daily Diary'!E:E,\"PUNTA OVER\",'Daily Diary'!K:K,\"WIN\")","v":0},{"$f":"COUNTIFS('Daily Diary'!A:A,'Grafico Strategie Settimanali'!B114,'Daily Diary'!E:E,\"PUNTA UNDER\",'Daily Diary'!E:E,\"PUNTA UNDER\",'Daily Diary'!K:K,\"WIN\")","v":0},{"$f":"COUNTIFS('Daily Diary'!A:A,'Grafico Strategie Settimanali'!B114,'Daily Diary'!E:E,\"SCALPING\",'Daily Diary'!E:E,\"SCALPING\",'Daily Diary'!K:K,\"WIN\")","v":0},{"$f":"COUNTIFS('Daily Diary'!A:A,'Grafico Strategie Settimanali'!B114,'Daily Diary'!E:E,\"GT 90\",'Daily Diary'!E:E,\"GT 90\",'Daily Diary'!K:K,\"WIN\")","v":0},{"$f":"COUNTIFS('Daily Diary'!A:A,'Grafico Strategie Settimanali'!B114,'Daily Diary'!E:E,\"GT 110\",'Daily Diary'!E:E,\"GT 110\",'Daily Diary'!K:K,\"WIN\")","v":0},{"$f":"COUNTIFS('Daily Diary'!A:A,'Grafico Strategie Settimanali'!B114,'Daily Diary'!E:E,\"ALERT GOAL\",'Daily Diary'!E:E,\"ALERT GOAL\",'Daily Diary'!K:K,\"WIN\")","v":0},{"$f":"COUNTIFS('Daily Diary'!A:A,'Grafico Strategie Settimanali'!B114,'Daily Diary'!E:E,\"DRAW NO BET\",'Daily Diary'!E:E,\"DRAW NO BET\",'Daily Diary'!K:K,\"WIN\")","v":0},{"$f":"COUNTIFS('Daily Diary'!A:A,'Grafico Strategie Settimanali'!B114,'Daily Diary'!E:E,\"ALTRO\",'Daily Diary'!E:E,\"ALTRO\",'Daily Diary'!K:K,\"WIN\")","v":0},{"$error":"#DIV/0!"},{"$error":"#DIV/0!"},{"$error":"#DIV/0!"},{"$error":"#DIV/0!"},{"$error":"#DIV/0!"},{"$error":"#DIV/0!"},{"$error":"#DIV/0!"},{"$error":"#DIV/0!"},{"$error":"#DIV/0!"},{"$error":"#DIV/0!"},{"$error":"#DIV/0!"},{"$error":"#DIV/0!"}]
[0,"2023-08-25",{"$f":"COUNTIFS('Daily Diary'!A:A,'Grafico Strategie Settimanali'!B115,'Daily Diary'!E:E,\"BANCA PAREGGIO\")","v":0},{"$f":"COUNTIFS('Daily Diary'!A:A,'Grafico Strategie Settimanali'!B115,'Daily Diary'!E:E,\"PUNTA SQ.CASA\")","v":0},{"$f":"COUNTIFS('Daily Diary'!A:A,'Grafico Strategie Settimanali'!B115,'Daily Diary'!E:E,\"PUNTA SQ.OSPITE\")","v":0},{"$f":"COUNTIFS('Daily Diary'!A:A,'Grafico Strategie Settimanali'!B115,'Daily Diary'!E:E,\"BANCA SFAVORITA\")","v":0},{"$f":"COUNTIFS('Daily Diary'!A:A,'Grafico Strategie Settimanali'!B115,'Daily Diary'!E:E,\"PUNTA OVER\")","v":0},{"$f":"COUNTIFS('Daily Diary'!A:A,'Grafico Strategie Settimanali'!B115,'Daily Diary'!E:E,\"PUNTA UNDER\")","v":0},{"$f":"COUNTIFS('Daily Diary'!A:A,'Grafico Strategie Settimanali'!B115,'Daily Diary'!E:E,\"SCALPING\")","v":0},{"$f":"COUNTIFS('Daily Diary'!A:A,'Grafico Strategie Settimanali'!B115,'Daily Diary'!E:E,\"GT90\")","v":0},{"$f":"COUNTIFS('Daily Diary'!A:A,'Grafico Strategie Settimanali'!B115,'Daily Diary'!E:E,\"GT110\")","v":0},{"$f":"COUNTIFS('Daily Diary'!A:A,'Grafico Strategie Settimanali'!B115,'Daily Diary'!E:E,\"ALERT GOAL\")","v":0},{"$f":"COUNTIFS('Daily Diary'!A:A,'Grafico Strategie Settimanali'!B115,'Daily Diary'!E:E,\"DRAW NO BET\")","v":0},{"$f":"COUNTIFS('Daily Diary'!A:A,'Grafico Strategie Settimanali'!B115,'Daily Diary'!E:E,\"ALTRO\")","v":0},{"$f":"COUNTIFS('Daily Diary'!A:A,'Grafico Strategie Settimanali'!B115,'Daily Diary'!E:E,\"BANCA PAREGGIO\",'Daily Diary'!E:E,\"BANCA PAREGGIO\",'Daily Diary'!K:K,\"WIN\")","v":0},{"$f":"COUNTIFS('Daily Diary'!A:A,'Grafico Strategie Settimanali'!B115,'Daily Diary'!E:E,\"PUNTA SQ.CASA\",'Daily Diary'!E:E,\"PUNTA SQ.CASA\",'Daily Diary'!K:K,\"WIN\")","v":0},{"$f":"COUNTIFS('Daily Diary'!A:A,'Grafico Strategie Settimanali'!B115,'Daily Diary'!E:E,\"PUNTA SQ.OSPITE\",'Daily Diary'!E:E,\"PUNTA SQ.OSPITE\",'Daily Diary'!K:K,\"WIN\")","v":0},{"$f":"COUNTIFS('Daily Diary'!A:A,'Grafico Strategie Settimanali'!B115,'Daily Diary'!E:E,\"BANCA SFAVORITA\",'Daily Diary'!E:E,\"BANCA SFAVORITA\",'Daily Diary'!K:K,\"WIN\")","v":0},{"$f":"COUNTIFS('Daily Diary'!A:A,'Grafico Strategie Settimanali'!B115,'Daily Diary'!E:E,\"PUNTA OVER\",'Daily Diary'!E:E,\"PUNTA OVER\",'Daily Diary'!K:K,\"WIN\")","v":0},{"$f":"COUNTIFS('Daily Diary'!A:A,'Grafico Strategie Settimanali'!B115,'Daily Diary'!E:E,\"PUNTA UNDER\",'Daily Diary'!E:E,\"PUNTA UNDER\",'Daily Diary'!K:K,\"WIN\")","v":0},{"$f":"COUNTIFS('Daily Diary'!A:A,'Grafico Strategie Settimanali'!B115,'Daily Diary'!E:E,\"SCALPING\",'Daily Diary'!E:E,\"SCALPING\",'Daily Diary'!K:K,\"WIN\")","v":0},{"$f":"COUNTIFS('Daily Diary'!A:A,'Grafico Strategie Settimanali'!B115,'Daily Diary'!E:E,\"GT 90\",'Daily Diary'!E:E,\"GT 90\",'Daily Diary'!K:K,\"WIN\")","v":0},{"$f":"COUNTIFS('Daily Diary'!A:A,'Grafico Strategie Settimanali'!B115,'Daily Diary'!E:E,\"GT 110\",'Daily Diary'!E:E,\"GT 110\",'Daily Diary'!K:K,\"WIN\")","v":0},{"$f":"COUNTIFS('Daily Diary'!A:A,'Grafico Strategie Settimanali'!B115,'Daily Diary'!E:E,\"ALERT GOAL\",'Daily Diary'!E:E,\"ALERT GOAL\",'Daily Diary'!K:K,\"WIN\")","v":0},{"$f":"COUNTIFS('Daily Diary'!A:A,'Grafico Strategie Settimanali'!B115,'Daily Diary'!E:E,\"DRAW NO BET\",'Daily Diary'!E:E,\"DRAW NO BET\",'Daily Diary'!K:K,\"WIN\")","v":0},{"$f":"COUNTIFS('Daily Diary'!A:A,'Grafico Strategie Settimanali'!B115,'Daily Diary'!E:E,\"ALTRO\",'Daily Diary'!E:E,\"ALTRO\",'Daily Diary'!K:K,\"WIN\")","v":0},{"$error":"#DIV/0!"},{"$error":"#DIV/0!"},{"$error":"#DIV/0!"},{"$error":"#DIV/0!"},{"$error":"#DIV/0!"},{"$error":"#DIV/0!"},{"$error":"#DIV/0!"},{"$error":"#DIV/0!"},{"$error":"#DIV/0!"},{"$error":"#DIV/0!"},{"$error":"#DIV/0!"},{"$error":"#DIV/0!"}]
[0,"2023-08-26",{"$f":"COUNTIFS('Daily Diary'!A:A,'Grafico Strategie Settimanali'!B116,'Daily Diary'!E:E,\"BANCA PAREGGIO\")","v":0},{"$f":"COUNTIFS('Daily Diary'!A:A,'Grafico Strategie Settimanali'!B116,'Daily Diary'!E:E,\"PUNTA SQ.CASA\")","v":0},{"$f":"COUNTIFS('Daily Diary'!A:A,'Grafico Strategie Settimanali'!B116,'Daily Diary'!E:E,\"PUNTA SQ.OSPITE\")","v":0},{"$f":"COUNTIFS('Daily Diary'!A:A,'Grafico Strategie Settimanali'!B116,'Daily Diary'!E:E,\"BANCA SFAVORITA\")","v":0},{"$f":"COUNTIFS('Daily Diary'!A:A,'Grafico Strategie Settimanali'!B116,'Daily Diary'!E:E,\"PUNTA OVER\")","v":0},{"$f":"COUNTIFS('Daily Diary'!A:A,'Grafico Strategie Settimanali'!B116,'Daily Diary'!E:E,\"PUNTA UNDER\")","v":0},{"$f":"COUNTIFS('Daily Diary'!A:A,'Grafico Strategie Settimanali'!B116,'Daily Diary'!E:E,\"SCALPING\")","v":0},{"$f":"COUNTIFS('Daily Diary'!A:A,'Grafico Strategie Settimanali'!B116,'Daily Diary'!E:E,\"GT90\")","v":0},{"$f":"COUNTIFS('Daily Diary'!A:A,'Grafico Strategie Settimanali'!B116,'Daily Diary'!E:E,\"GT110\")","v":0},{"$f":"COUNTIFS('Daily Diary'!A:A,'Grafico Strategie Settimanali'!B116,'Daily Diary'!E:E,\"ALERT GOAL\")","v":0},{"$f":"COUNTIFS('Daily Diary'!A:A,'Grafico Strategie Settimanali'!B116,'Daily Diary'!E:E,\"DRAW NO BET\")","v":0},{"$f":"COUNTIFS('Daily Diary'!A:A,'Grafico Strategie Settimanali'!B116,'Daily Diary'!E:E,\"ALTRO\")","v":0},{"$f":"COUNTIFS('Daily Diary'!A:A,'Grafico Strategie Settimanali'!B116,'Daily Diary'!E:E,\"BANCA PAREGGIO\",'Daily Diary'!E:E,\"BANCA PAREGGIO\",'Daily Diary'!K:K,\"WIN\")","v":0},{"$f":"COUNTIFS('Daily Diary'!A:A,'Grafico Strategie Settimanali'!B116,'Daily Diary'!E:E,\"PUNTA SQ.CASA\",'Daily Diary'!E:E,\"PUNTA SQ.CASA\",'Daily Diary'!K:K,\"WIN\")","v":0},{"$f":"COUNTIFS('Daily Diary'!A:A,'Grafico Strategie Settimanali'!B116,'Daily Diary'!E:E,\"PUNTA SQ.OSPITE\",'Daily Diary'!E:E,\"PUNTA SQ.OSPITE\",'Daily Diary'!K:K,\"WIN\")","v":0},{"$f":"COUNTIFS('Daily Diary'!A:A,'Grafico Strategie Settimanali'!B116,'Daily Diary'!E:E,\"BANCA SFAVORITA\",'Daily Diary'!E:E,\"BANCA SFAVORITA\",'Daily Diary'!K:K,\"WIN\")","v":0},{"$f":"COUNTIFS('Daily Diary'!A:A,'Grafico Strategie Settimanali'!B116,'Daily Diary'!E:E,\"PUNTA OVER\",'Daily Diary'!E:E,\"PUNTA OVER\",'Daily Diary'!K:K,\"WIN\")","v":0},{"$f":"COUNTIFS('Daily Diary'!A:A,'Grafico Strategie Settimanali'!B116,'Daily Diary'!E:E,\"PUNTA UNDER\",'Daily Diary'!E:E,\"PUNTA UNDER\",'Daily Diary'!K:K,\"WIN\")","v":0},{"$f":"COUNTIFS('Daily Diary'!A:A,'Grafico Strategie Settimanali'!B116,'Daily Diary'!E:E,\"SCALPING\",'Daily Diary'!E:E,\"SCALPING\",'Daily Diary'!K:K,\"WIN\")","v":0},{"$f":"COUNTIFS('Daily Diary'!A:A,'Grafico Strategie Settimanali'!B116,'Daily Diary'!E:E,\"GT 90\",'Daily Diary'!E:E,\"GT 90\",'Daily Diary'!K:K,\"WIN\")","v":0},{"$f":"COUNTIFS('Daily Diary'!A:A,'Grafico Strategie Settimanali'!B116,'Daily Diary'!E:E,\"GT 110\",'Daily Diary'!E:E,\"GT 110\",'Daily Diary'!K:K,\"WIN\")","v":0},{"$f":"COUNTIFS('Daily Diary'!A:A,'Grafico Strategie Settimanali'!B116,'Daily Diary'!E:E,\"ALERT GOAL\",'Daily Diary'!E:E,\"ALERT GOAL\",'Daily Diary'!K:K,\"WIN\")","v":0},{"$f":"COUNTIFS('Daily Diary'!A:A,'Grafico Strategie Settimanali'!B116,'Daily Diary'!E:E,\"DRAW NO BET\",'Daily Diary'!E:E,\"DRAW NO BET\",'Daily Diary'!K:K,\"WIN\")","v":0},{"$f":"COUNTIFS('Daily Diary'!A:A,'Grafico Strategie Settimanali'!B116,'Daily Diary'!E:E,\"ALTRO\",'Daily Diary'!E:E,\"ALTRO\",'Daily Diary'!K:K,\"WIN\")","v":0},{"$error":"#DIV/0!"},{"$error":"#DIV/0!"},{"$error":"#DIV/0!"},{"$error":"#DIV/0!"},{"$error":"#DIV/0!"},{"$error":"#DIV/0!"},{"$error":"#DIV/0!"},{"$error":"#DIV/0!"},{"$error":"#DIV/0!"},{"$error":"#DIV/0!"},{"$error":"#DIV/0!"},{"$error":"#DIV/0!"}]
[0,"2023-08-27",{"$f":"COUNTIFS('Daily Diary'!A:A,'Grafico Strategie Settimanali'!B117,'Daily Diary'!E:E,\"BANCA PAREGGIO\")","v":0},{"$f":"COUNTIFS('Daily Diary'!A:A,'Grafico Strategie Settimanali'!B117,'Daily Diary'!E:E,\"PUNTA SQ.CASA\")","v":0},{"$f":"COUNTIFS('Daily Diary'!A:A,'Grafico Strategie Settimanali'!B117,'Daily Diary'!E:E,\"PUNTA SQ.OSPITE\")","v":0},{"$f":"COUNTIFS('Daily Diary'!A:A,'Grafico Strategie Settimanali'!B117,'Daily Diary'!E:E,\"BANCA SFAVORITA\")","v":0},{"$f":"COUNTIFS('Daily Diary'!A:A,'Grafico Strategie Settimanali'!B117,'Daily Diary'!E:E,\"PUNTA OVER\")","v":0},{"$f":"COUNTIFS('Daily Diary'!A:A,'Grafico Strategie Settimanali'!B117,'Daily Diary'!E:E,\"PUNTA UNDER\")","v":0},{"$f":"COUNTIFS('Daily Diary'!A:A,'Grafico Strategie Settimanali'!B117,'Daily Diary'!E:E,\"SCALPING\")","v":0},{"$f":"COUNTIFS('Daily Diary'!A:A,'Grafico Strategie Settimanali'!B117,'Daily Diary'!E:E,\"GT90\")","v":0},{"$f":"COUNTIFS('Daily Diary'!A:A,'Grafico Strategie Settimanali'!B117,'Daily Diary'!E:E,\"GT110\")","v":0},{"$f":"COUNTIFS('Daily Diary'!A:A,'Grafico Strategie Settimanali'!B117,'Daily Diary'!E:E,\"ALERT GOAL\")","v":0},{"$f":"COUNTIFS('Daily Diary'!A:A,'Grafico Strategie Settimanali'!B117,'Daily Diary'!E:E,\"DRAW NO BET\")","v":0},{"$f":"COUNTIFS('Daily Diary'!A:A,'Grafico Strategie Settimanali'!B117,'Daily Diary'!E:E,\"ALTRO\")","v":0},{"$f":"COUNTIFS('Daily Diary'!A:A,'Grafico Strategie Settimanali'!B117,'Daily Diary'!E:E,\"BANCA PAREGGIO\",'Daily Diary'!E:E,\"BANCA PAREGGIO\",'Daily Diary'!K:K,\"WIN\")","v":0},{"$f":"COUNTIFS('Daily Diary'!A:A,'Grafico Strategie Settimanali'!B117,'Daily Diary'!E:E,\"PUNTA SQ.CASA\",'Daily Diary'!E:E,\"PUNTA SQ.CASA\",'Daily Diary'!K:K,\"WIN\")","v":0},{"$f":"COUNTIFS('Daily Diary'!A:A,'Grafico Strategie Settimanali'!B117,'Daily Diary'!E:E,\"PUNTA SQ.OSPITE\",'Daily Diary'!E:E,\"PUNTA SQ.OSPITE\",'Daily Diary'!K:K,\"WIN\")","v":0},{"$f":"COUNTIFS('Daily Diary'!A:A,'Grafico Strategie Settimanali'!B117,'Daily Diary'!E:E,\"BANCA SFAVORITA\",'Daily Diary'!E:E,\"BANCA SFAVORITA\",'Daily Diary'!K:K,\"WIN\")","v":0},{"$f":"COUNTIFS('Daily Diary'!A:A,'Grafico Strategie Settimanali'!B117,'Daily Diary'!E:E,\"PUNTA OVER\",'Daily Diary'!E:E,\"PUNTA OVER\",'Daily Diary'!K:K,\"WIN\")","v":0},{"$f":"COUNTIFS('Daily Diary'!A:A,'Grafico Strategie Settimanali'!B117,'Daily Diary'!E:E,\"PUNTA UNDER\",'Daily Diary'!E:E,\"PUNTA UNDER\",'Daily Diary'!K:K,\"WIN\")","v":0},{"$f":"COUNTIFS('Daily Diary'!A:A,'Grafico Strategie Settimanali'!B117,'Daily Diary'!E:E,\"SCALPING\",'Daily Diary'!E:E,\"SCALPING\",'Daily Diary'!K:K,\"WIN\")","v":0},{"$f":"COUNTIFS('Daily Diary'!A:A,'Grafico Strategie Settimanali'!B117,'Daily Diary'!E:E,\"GT 90\",'Daily Diary'!E:E,\"GT 90\",'Daily Diary'!K:K,\"WIN\")","v":0},{"$f":"COUNTIFS('Daily Diary'!A:A,'Grafico Strategie Settimanali'!B117,'Daily Diary'!E:E,\"GT 110\",'Daily Diary'!E:E,\"GT 110\",'Daily Diary'!K:K,\"WIN\")","v":0},{"$f":"COUNTIFS('Daily Diary'!A:A,'Grafico Strategie Settimanali'!B117,'Daily Diary'!E:E,\"ALERT GOAL\",'Daily Diary'!E:E,\"ALERT GOAL\",'Daily Diary'!K:K,\"WIN\")","v":0},{"$f":"COUNTIFS('Daily Diary'!A:A,'Grafico Strategie Settimanali'!B117,'Daily Diary'!E:E,\"DRAW NO BET\",'Daily Diary'!E:E,\"DRAW NO BET\",'Daily Diary'!K:K,\"WIN\")","v":0},{"$f":"COUNTIFS('Daily Diary'!A:A,'Grafico Strategie Settimanali'!B117,'Daily Diary'!E:E,\"ALTRO\",'Daily Diary'!E:E,\"ALTRO\",'Daily Diary'!K:K,\"WIN\")","v":0},{"$error":"#DIV/0!"},{"$error":"#DIV/0!"},{"$error":"#DIV/0!"},{"$error":"#DIV/0!"},{"$error":"#DIV/0!"},{"$error":"#DIV/0!"},{"$error":"#DIV/0!"},{"$error":"#DIV/0!"},{"$error":"#DIV/0!"},{"$error":"#DIV/0!"},{"$error":"#DIV/0!"},{"$error":"#DIV/0!"}]
[0,"2023-08-28",{"$f":"COUNTIFS('Daily Diary'!A:A,'Grafico Strategie Settimanali'!B118,'Daily Diary'!E:E,\"BANCA PAREGGIO\")","v":0},{"$f":"COUNTIFS('Daily Diary'!A:A,'Grafico Strategie Settimanali'!B118,'Daily Diary'!E:E,\"PUNTA SQ.CASA\")","v":0},{"$f":"COUNTIFS('Daily Diary'!A:A,'Grafico Strategie Settimanali'!B118,'Daily Diary'!E:E,\"PUNTA SQ.OSPITE\")","v":0},{"$f":"COUNTIFS('Daily Diary'!A:A,'Grafico Strategie Settimanali'!B118,'Daily Diary'!E:E,\"BANCA SFAVORITA\")","v":0},{"$f":"COUNTIFS('Daily Diary'!A:A,'Grafico Strategie Settimanali'!B118,'Daily Diary'!E:E,\"PUNTA OVER\")","v":0},{"$f":"COUNTIFS('Daily Diary'!A:A,'Grafico Strategie Settimanali'!B118,'Daily Diary'!E:E,\"PUNTA UNDER\")","v":0},{"$f":"COUNTIFS('Daily Diary'!A:A,'Grafico Strategie Settimanali'!B118,'Daily Diary'!E:E,\"SCALPING\")","v":0},{"$f":"COUNTIFS('Daily Diary'!A:A,'Grafico Strategie Settimanali'!B118,'Daily Diary'!E:E,\"GT90\")","v":0},{"$f":"COUNTIFS('Daily Diary'!A:A,'Grafico Strategie Settimanali'!B118,'Daily Diary'!E:E,\"GT110\")","v":0},{"$f":"COUNTIFS('Daily Diary'!A:A,'Grafico Strategie Settimanali'!B118,'Daily Diary'!E:E,\"ALERT GOAL\")","v":0},{"$f":"COUNTIFS('Daily Diary'!A:A,'Grafico Strategie Settimanali'!B118,'Daily Diary'!E:E,\"DRAW NO BET\")","v":0},{"$f":"COUNTIFS('Daily Diary'!A:A,'Grafico Strategie Settimanali'!B118,'Daily Diary'!E:E,\"ALTRO\")","v":0},{"$f":"COUNTIFS('Daily Diary'!A:A,'Grafico Strategie Settimanali'!B118,'Daily Diary'!E:E,\"BANCA PAREGGIO\",'Daily Diary'!E:E,\"BANCA PAREGGIO\",'Daily Diary'!K:K,\"WIN\")","v":0},{"$f":"COUNTIFS('Daily Diary'!A:A,'Grafico Strategie Settimanali'!B118,'Daily Diary'!E:E,\"PUNTA SQ.CASA\",'Daily Diary'!E:E,\"PUNTA SQ.CASA\",'Daily Diary'!K:K,\"WIN\")","v":0},{"$f":"COUNTIFS('Daily Diary'!A:A,'Grafico Strategie Settimanali'!B118,'Daily Diary'!E:E,\"PUNTA SQ.OSPITE\",'Daily Diary'!E:E,\"PUNTA SQ.OSPITE\",'Daily Diary'!K:K,\"WIN\")","v":0},{"$f":"COUNTIFS('Daily Diary'!A:A,'Grafico Strategie Settimanali'!B118,'Daily Diary'!E:E,\"BANCA SFAVORITA\",'Daily Diary'!E:E,\"BANCA SFAVORITA\",'Daily Diary'!K:K,\"WIN\")","v":0},{"$f":"COUNTIFS('Daily Diary'!A:A,'Grafico Strategie Settimanali'!B118,'Daily Diary'!E:E,\"PUNTA OVER\",'Daily Diary'!E:E,\"PUNTA OVER\",'Daily Diary'!K:K,\"WIN\")","v":0},{"$f":"COUNTIFS('Daily Diary'!A:A,'Grafico Strategie Settimanali'!B118,'Daily Diary'!E:E,\"PUNTA UNDER\",'Daily Diary'!E:E,\"PUNTA UNDER\",'Daily Diary'!K:K,\"WIN\")","v":0},{"$f":"COUNTIFS('Daily Diary'!A:A,'Grafico Strategie Settimanali'!B118,'Daily Diary'!E:E,\"SCALPING\",'Daily Diary'!E:E,\"SCALPING\",'Daily Diary'!K:K,\"WIN\")","v":0},{"$f":"COUNTIFS('Daily Diary'!A:A,'Grafico Strategie Settimanali'!B118,'Daily Diary'!E:E,\"GT 90\",'Daily Diary'!E:E,\"GT 90\",'Daily Diary'!K:K,\"WIN\")","v":0},{"$f":"COUNTIFS('Daily Diary'!A:A,'Grafico Strategie Settimanali'!B118,'Daily Diary'!E:E,\"GT 110\",'Daily Diary'!E:E,\"GT 110\",'Daily Diary'!K:K,\"WIN\")","v":0},{"$f":"COUNTIFS('Daily Diary'!A:A,'Grafico Strategie Settimanali'!B118,'Daily Diary'!E:E,\"ALERT GOAL\",'Daily Diary'!E:E,\"ALERT GOAL\",'Daily Diary'!K:K,\"WIN\")","v":0},{"$f":"COUNTIFS('Daily Diary'!A:A,'Grafico Strategie Settimanali'!B118,'Daily Diary'!E:E,\"DRAW NO BET\",'Daily Diary'!E:E,\"DRAW NO BET\",'Daily Diary'!K:K,\"WIN\")","v":0},{"$f":"COUNTIFS('Daily Diary'!A:A,'Grafico Strategie Settimanali'!B118,'Daily Diary'!E:E,\"ALTRO\",'Daily Diary'!E:E,\"ALTRO\",'Daily Diary'!K:K,\"WIN\")","v":0},{"$error":"#DIV/0!"},{"$error":"#DIV/0!"},{"$error":"#DIV/0!"},{"$error":"#DIV/0!"},{"$error":"#DIV/0!"},{"$error":"#DIV/0!"},{"$error":"#DIV/0!"},{"$error":"#DIV/0!"},{"$error":"#DIV/0!"},{"$error":"#DIV/0!"},{"$error":"#DIV/0!"},{"$error":"#DIV/0!"}]
[0,"2023-08-29",{"$f":"COUNTIFS('Daily Diary'!A:A,'Grafico Strategie Settimanali'!B119,'Daily Diary'!E:E,\"BANCA PAREGGIO\")","v":0},{"$f":"COUNTIFS('Daily Diary'!A:A,'Grafico Strategie Settimanali'!B119,'Daily Diary'!E:E,\"PUNTA SQ.CASA\")","v":0},{"$f":"COUNTIFS('Daily Diary'!A:A,'Grafico Strategie Settimanali'!B119,'Daily Diary'!E:E,\"PUNTA SQ.OSPITE\")","v":0},{"$f":"COUNTIFS('Daily Diary'!A:A,'Grafico Strategie Settimanali'!B119,'Daily Diary'!E:E,\"BANCA SFAVORITA\")","v":0},{"$f":"COUNTIFS('Daily Diary'!A:A,'Grafico Strategie Settimanali'!B119,'Daily Diary'!E:E,\"PUNTA OVER\")","v":0},{"$f":"COUNTIFS('Daily Diary'!A:A,'Grafico Strategie Settimanali'!B119,'Daily Diary'!E:E,\"PUNTA UNDER\")","v":0},{"$f":"COUNTIFS('Daily Diary'!A:A,'Grafico Strategie Settimanali'!B119,'Daily Diary'!E:E,\"SCALPING\")","v":0},{"$f":"COUNTIFS('Daily Diary'!A:A,'Grafico Strategie Settimanali'!B119,'Daily Diary'!E:E,\"GT90\")","v":0},{"$f":"COUNTIFS('Daily Diary'!A:A,'Grafico Strategie Settimanali'!B119,'Daily Diary'!E:E,\"GT110\")","v":0},{"$f":"COUNTIFS('Daily Diary'!A:A,'Grafico Strategie Settimanali'!B119,'Daily Diary'!E:E,\"ALERT GOAL\")","v":0},{"$f":"COUNTIFS('Daily Diary'!A:A,'Grafico Strategie Settimanali'!B119,'Daily Diary'!E:E,\"DRAW NO BET\")","v":0},{"$f":"COUNTIFS('Daily Diary'!A:A,'Grafico Strategie Settimanali'!B119,'Daily Diary'!E:E,\"ALTRO\")","v":0},{"$f":"COUNTIFS('Daily Diary'!A:A,'Grafico Strategie Settimanali'!B119,'Daily Diary'!E:E,\"BANCA PAREGGIO\",'Daily Diary'!E:E,\"BANCA PAREGGIO\",'Daily Diary'!K:K,\"WIN\")","v":0},{"$f":"COUNTIFS('Daily Diary'!A:A,'Grafico Strategie Settimanali'!B119,'Daily Diary'!E:E,\"PUNTA SQ.CASA\",'Daily Diary'!E:E,\"PUNTA SQ.CASA\",'Daily Diary'!K:K,\"WIN\")","v":0},{"$f":"COUNTIFS('Daily Diary'!A:A,'Grafico Strategie Settimanali'!B119,'Daily Diary'!E:E,\"PUNTA SQ.OSPITE\",'Daily Diary'!E:E,\"PUNTA SQ.OSPITE\",'Daily Diary'!K:K,\"WIN\")","v":0},{"$f":"COUNTIFS('Daily Diary'!A:A,'Grafico Strategie Settimanali'!B119,'Daily Diary'!E:E,\"BANCA SFAVORITA\",'Daily Diary'!E:E,\"BANCA SFAVORITA\",'Daily Diary'!K:K,\"WIN\")","v":0},{"$f":"COUNTIFS('Daily Diary'!A:A,'Grafico Strategie Settimanali'!B119,'Daily Diary'!E:E,\"PUNTA OVER\",'Daily Diary'!E:E,\"PUNTA OVER\",'Daily Diary'!K:K,\"WIN\")","v":0},{"$f":"COUNTIFS('Daily Diary'!A:A,'Grafico Strategie Settimanali'!B119,'Daily Diary'!E:E,\"PUNTA UNDER\",'Daily Diary'!E:E,\"PUNTA UNDER\",'Daily Diary'!K:K,\"WIN\")","v":0},{"$f":"COUNTIFS('Daily Diary'!A:A,'Grafico Strategie Settimanali'!B119,'Daily Diary'!E:E,\"SCALPING\",'Daily Diary'!E:E,\"SCALPING\",'Daily Diary'!K:K,\"WIN\")","v":0},{"$f":"COUNTIFS('Daily Diary'!A:A,'Grafico Strategie Settimanali'!B119,'Daily Diary'!E:E,\"GT 90\",'Daily Diary'!E:E,\"GT 90\",'Daily Diary'!K:K,\"WIN\")","v":0},{"$f":"COUNTIFS('Daily Diary'!A:A,'Grafico Strategie Settimanali'!B119,'Daily Diary'!E:E,\"GT 110\",'Daily Diary'!E:E,\"GT 110\",'Daily Diary'!K:K,\"WIN\")","v":0},{"$f":"COUNTIFS('Daily Diary'!A:A,'Grafico Strategie Settimanali'!B119,'Daily Diary'!E:E,\"ALERT GOAL\",'Daily Diary'!E:E,\"ALERT GOAL\",'Daily Diary'!K:K,\"WIN\")","v":0},{"$f":"COUNTIFS('Daily Diary'!A:A,'Grafico Strategie Settimanali'!B119,'Daily Diary'!E:E,\"DRAW NO BET\",'Daily Diary'!E:E,\"DRAW NO BET\",'Daily Diary'!K:K,\"WIN\")","v":0},{"$f":"COUNTIFS('Daily Diary'!A:A,'Grafico Strategie Settimanali'!B119,'Daily Diary'!E:E,\"ALTRO\",'Daily Diary'!E:E,\"ALTRO\",'Daily Diary'!K:K,\"WIN\")","v":0},{"$error":"#DIV/0!"},{"$error":"#DIV/0!"},{"$error":"#DIV/0!"},{"$error":"#DIV/0!"},{"$error":"#DIV/0!"},{"$error":"#DIV/0!"},{"$error":"#DIV/0!"},{"$error":"#DIV/0!"},{"$error":"#DIV/0!"},{"$error":"#DIV/0!"},{"$error":"#DIV/0!"},{"$error":"#DIV/0!"}]
[0,"2023-08-30",{"$f":"COUNTIFS('Daily Diary'!A:A,'Grafico Strategie Settimanali'!B120,'Daily Diary'!E:E,\"BANCA PAREGGIO\")","v":0},{"$f":"COUNTIFS('Daily Diary'!A:A,'Grafico Strategie Settimanali'!B120,'Daily Diary'!E:E,\"PUNTA SQ.CASA\")","v":0},{"$f":"COUNTIFS('Daily Diary'!A:A,'Grafico Strategie Settimanali'!B120,'Daily Diary'!E:E,\"PUNTA SQ.OSPITE\")","v":0},{"$f":"COUNTIFS('Daily Diary'!A:A,'Grafico Strategie Settimanali'!B120,'Daily Diary'!E:E,\"BANCA SFAVORITA\")","v":0},{"$f":"COUNTIFS('Daily Diary'!A:A,'Grafico Strategie Settimanali'!B120,'Daily Diary'!E:E,\"PUNTA OVER\")","v":0},{"$f":"COUNTIFS('Daily Diary'!A:A,'Grafico Strategie Settimanali'!B120,'Daily Diary'!E:E,\"PUNTA UNDER\")","v":0},{"$f":"COUNTIFS('Daily Diary'!A:A,'Grafico Strategie Settimanali'!B120,'Daily Diary'!E:E,\"SCALPING\")","v":0},{"$f":"COUNTIFS('Daily Diary'!A:A,'Grafico Strategie Settimanali'!B120,'Daily Diary'!E:E,\"GT90\")","v":0},{"$f":"COUNTIFS('Daily Diary'!A:A,'Grafico Strategie Settimanali'!B120,'Daily Diary'!E:E,\"GT110\")","v":0},{"$f":"COUNTIFS('Daily Diary'!A:A,'Grafico Strategie Settimanali'!B120,'Daily Diary'!E:E,\"ALERT GOAL\")","v":0},{"$f":"COUNTIFS('Daily Diary'!A:A,'Grafico Strategie Settimanali'!B120,'Daily Diary'!E:E,\"DRAW NO BET\")","v":0},{"$f":"COUNTIFS('Daily Diary'!A:A,'Grafico Strategie Settimanali'!B120,'Daily Diary'!E:E,\"ALTRO\")","v":0},{"$f":"COUNTIFS('Daily Diary'!A:A,'Grafico Strategie Settimanali'!B120,'Daily Diary'!E:E,\"BANCA PAREGGIO\",'Daily Diary'!E:E,\"BANCA PAREGGIO\",'Daily Diary'!K:K,\"WIN\")","v":0},{"$f":"COUNTIFS('Daily Diary'!A:A,'Grafico Strategie Settimanali'!B120,'Daily Diary'!E:E,\"PUNTA SQ.CASA\",'Daily Diary'!E:E,\"PUNTA SQ.CASA\",'Daily Diary'!K:K,\"WIN\")","v":0},{"$f":"COUNTIFS('Daily Diary'!A:A,'Grafico Strategie Settimanali'!B120,'Daily Diary'!E:E,\"PUNTA SQ.OSPITE\",'Daily Diary'!E:E,\"PUNTA SQ.OSPITE\",'Daily Diary'!K:K,\"WIN\")","v":0},{"$f":"COUNTIFS('Daily Diary'!A:A,'Grafico Strategie Settimanali'!B120,'Daily Diary'!E:E,\"BANCA SFAVORITA\",'Daily Diary'!E:E,\"BANCA SFAVORITA\",'Daily Diary'!K:K,\"WIN\")","v":0},{"$f":"COUNTIFS('Daily Diary'!A:A,'Grafico Strategie Settimanali'!B120,'Daily Diary'!E:E,\"PUNTA OVER\",'Daily Diary'!E:E,\"PUNTA OVER\",'Daily Diary'!K:K,\"WIN\")","v":0},{"$f":"COUNTIFS('Daily Diary'!A:A,'Grafico Strategie Settimanali'!B120,'Daily Diary'!E:E,\"PUNTA UNDER\",'Daily Diary'!E:E,\"PUNTA UNDER\",'Daily Diary'!K:K,\"WIN\")","v":0},{"$f":"COUNTIFS('Daily Diary'!A:A,'Grafico Strategie Settimanali'!B120,'Daily Diary'!E:E,\"SCALPING\",'Daily Diary'!E:E,\"SCALPING\",'Daily Diary'!K:K,\"WIN\")","v":0},{"$f":"COUNTIFS('Daily Diary'!A:A,'Grafico Strategie Settimanali'!B120,'Daily Diary'!E:E,\"GT 90\",'Daily Diary'!E:E,\"GT 90\",'Daily Diary'!K:K,\"WIN\")","v":0},{"$f":"COUNTIFS('Daily Diary'!A:A,'Grafico Strategie Settimanali'!B120,'Daily Diary'!E:E,\"GT 110\",'Daily Diary'!E:E,\"GT 110\",'Daily Diary'!K:K,\"WIN\")","v":0},{"$f":"COUNTIFS('Daily Diary'!A:A,'Grafico Strategie Settimanali'!B120,'Daily Diary'!E:E,\"ALERT GOAL\",'Daily Diary'!E:E,\"ALERT GOAL\",'Daily Diary'!K:K,\"WIN\")","v":0},{"$f":"COUNTIFS('Daily Diary'!A:A,'Grafico Strategie Settimanali'!B120,'Daily Diary'!E:E,\"DRAW NO BET\",'Daily Diary'!E:E,\"DRAW NO BET\",'Daily Diary'!K:K,\"WIN\")","v":0},{"$f":"COUNTIFS('Daily Diary'!A:A,'Grafico Strategie Settimanali'!B120,'Daily Diary'!E:E,\"ALTRO\",'Daily Diary'!E:E,\"ALTRO\",'Daily Diary'!K:K,\"WIN\")","v":0},{"$error":"#DIV/0!"},{"$error":"#DIV/0!"},{"$error":"#DIV/0!"},{"$error":"#DIV/0!"},{"$error":"#DIV/0!"},{"$error":"#DIV/0!"},{"$error":"#DIV/0!"},{"$error":"#DIV/0!"},{"$error":"#DIV/0!"},{"$error":"#DIV/0!"},{"$error":"#DIV/0!"},{"$error":"#DIV/0!"}]
[0,"2023-08-31",{"$f":"COUNTIFS('Daily Diary'!A:A,'Grafico Strategie Settimanali'!B121,'Daily Diary'!E:E,\"BANCA PAREGGIO\")","v":0},{"$f":"COUNTIFS('Daily Diary'!A:A,'Grafico Strategie Settimanali'!B121,'Daily Diary'!E:E,\"PUNTA SQ.CASA\")","v":0},{"$f":"COUNTIFS('Daily Diary'!A:A,'Grafico Strategie Settimanali'!B121,'Daily Diary'!E:E,\"PUNTA SQ.OSPITE\")","v":0},{"$f":"COUNTIFS('Daily Diary'!A:A,'Grafico Strategie Settimanali'!B121,'Daily Diary'!E:E,\"BANCA SFAVORITA\")","v":0},{"$f":"COUNTIFS('Daily Diary'!A:A,'Grafico Strategie Settimanali'!B121,'Daily Diary'!E:E,\"PUNTA OVER\")","v":0},{"$f":"COUNTIFS('Daily Diary'!A:A,'Grafico Strategie Settimanali'!B121,'Daily Diary'!E:E,\"PUNTA UNDER\")","v":0},{"$f":"COUNTIFS('Daily Diary'!A:A,'Grafico Strategie Settimanali'!B121,'Daily Diary'!E:E,\"SCALPING\")","v":0},{"$f":"COUNTIFS('Daily Diary'!A:A,'Grafico Strategie Settimanali'!B121,'Daily Diary'!E:E,\"GT90\")","v":0},{"$f":"COUNTIFS('Daily Diary'!A:A,'Grafico Strategie Settimanali'!B121,'Daily Diary'!E:E,\"GT110\")","v":0},{"$f":"COUNTIFS('Daily Diary'!A:A,'Grafico Strategie Settimanali'!B121,'Daily Diary'!E:E,\"ALERT GOAL\")","v":0},{"$f":"COUNTIFS('Daily Diary'!A:A,'Grafico Strategie Settimanali'!B121,'Daily Diary'!E:E,\"DRAW NO BET\")","v":0},{"$f":"COUNTIFS('Daily Diary'!A:A,'Grafico Strategie Settimanali'!B121,'Daily Diary'!E:E,\"ALTRO\")","v":0},{"$f":"COUNTIFS('Daily Diary'!A:A,'Grafico Strategie Settimanali'!B121,'Daily Diary'!E:E,\"BANCA PAREGGIO\",'Daily Diary'!E:E,\"BANCA PAREGGIO\",'Daily Diary'!K:K,\"WIN\")","v":0},{"$f":"COUNTIFS('Daily Diary'!A:A,'Grafico Strategie Settimanali'!B121,'Daily Diary'!E:E,\"PUNTA SQ.CASA\",'Daily Diary'!E:E,\"PUNTA SQ.CASA\",'Daily Diary'!K:K,\"WIN\")","v":0},{"$f":"COUNTIFS('Daily Diary'!A:A,'Grafico Strategie Settimanali'!B121,'Daily Diary'!E:E,\"PUNTA SQ.OSPITE\",'Daily Diary'!E:E,\"PUNTA SQ.OSPITE\",'Daily Diary'!K:K,\"WIN\")","v":0},{"$f":"COUNTIFS('Daily Diary'!A:A,'Grafico Strategie Settimanali'!B121,'Daily Diary'!E:E,\"BANCA SFAVORITA\",'Daily Diary'!E:E,\"BANCA SFAVORITA\",'Daily Diary'!K:K,\"WIN\")","v":0},{"$f":"COUNTIFS('Daily Diary'!A:A,'Grafico Strategie Settimanali'!B121,'Daily Diary'!E:E,\"PUNTA OVER\",'Daily Diary'!E:E,\"PUNTA OVER\",'Daily Diary'!K:K,\"WIN\")","v":0},{"$f":"COUNTIFS('Daily Diary'!A:A,'Grafico Strategie Settimanali'!B121,'Daily Diary'!E:E,\"PUNTA UNDER\",'Daily Diary'!E:E,\"PUNTA UNDER\",'Daily Diary'!K:K,\"WIN\")","v":0},{"$f":"COUNTIFS('Daily Diary'!A:A,'Grafico Strategie Settimanali'!B121,'Daily Diary'!E:E,\"SCALPING\",'Daily Diary'!E:E,\"SCALPING\",'Daily Diary'!K:K,\"WIN\")","v":0},{"$f":"COUNTIFS('Daily Diary'!A:A,'Grafico Strategie Settimanali'!B121,'Daily Diary'!E:E,\"GT 90\",'Daily Diary'!E:E,\"GT 90\",'Daily Diary'!K:K,\"WIN\")","v":0},{"$f":"COUNTIFS('Daily Diary'!A:A,'Grafico Strategie Settimanali'!B121,'Daily Diary'!E:E,\"GT 110\",'Daily Diary'!E:E,\"GT 110\",'Daily Diary'!K:K,\"WIN\")","v":0},{"$f":"COUNTIFS('Daily Diary'!A:A,'Grafico Strategie Settimanali'!B121,'Daily Diary'!E:E,\"ALERT GOAL\",'Daily Diary'!E:E,\"ALERT GOAL\",'Daily Diary'!K:K,\"WIN\")","v":0},{"$f":"COUNTIFS('Daily Diary'!A:A,'Grafico Strategie Settimanali'!B121,'Daily Diary'!E:E,\"DRAW NO BET\",'Daily Diary'!E:E,\"DRAW NO BET\",'Daily Diary'!K:K,\"WIN\")","v":0},{"$f":"COUNTIFS('Daily Diary'!A:A,'Grafico Strategie Settimanali'!B121,'Daily Diary'!E:E,\"ALTRO\",'Daily Diary'!E:E,\"ALTRO\",'Daily Diary'!K:K,\"WIN\")","v":0},{"$error":"#DIV/0!"},{"$error":"#DIV/0!"},{"$error":"#DIV/0!"},{"$error":"#DIV/0!"},{"$error":"#DIV/0!"},{"$error":"#DIV/0!"},{"$error":"#DIV/0!"},{"$error":"#DIV/0!"},{"$error":"#DIV/0!"},{"$error":"#DIV/0!"},{"$error":"#DIV/0!"},{"$error":"#DIV/0!"}]
[0,"2023-09-01",{"$f":"COUNTIFS('Daily Diary'!A:A,'Grafico Strategie Settimanali'!B122,'Daily Diary'!E:E,\"BANCA PAREGGIO\")","v":0},{"$f":"COUNTIFS('Daily Diary'!A:A,'Grafico Strategie Settimanali'!B122,'Daily Diary'!E:E,\"PUNTA SQ.CASA\")","v":0},{"$f":"COUNTIFS('Daily Diary'!A:A,'Grafico Strategie Settimanali'!B122,'Daily Diary'!E:E,\"PUNTA SQ.OSPITE\")","v":0},{"$f":"COUNTIFS('Daily Diary'!A:A,'Grafico Strategie Settimanali'!B122,'Daily Diary'!E:E,\"BANCA SFAVORITA\")","v":0},{"$f":"COUNTIFS('Daily Diary'!A:A,'Grafico Strategie Settimanali'!B122,'Daily Diary'!E:E,\"PUNTA OVER\")","v":0},{"$f":"COUNTIFS('Daily Diary'!A:A,'Grafico Strategie Settimanali'!B122,'Daily Diary'!E:E,\"PUNTA UNDER\")","v":0},{"$f":"COUNTIFS('Daily Diary'!A:A,'Grafico Strategie Settimanali'!B122,'Daily Diary'!E:E,\"SCALPING\")","v":0},{"$f":"COUNTIFS('Daily Diary'!A:A,'Grafico Strategie Settimanali'!B122,'Daily Diary'!E:E,\"GT90\")","v":0},{"$f":"COUNTIFS('Daily Diary'!A:A,'Grafico Strategie Settimanali'!B122,'Daily Diary'!E:E,\"GT110\")","v":0},{"$f":"COUNTIFS('Daily Diary'!A:A,'Grafico Strategie Settimanali'!B122,'Daily Diary'!E:E,\"ALERT GOAL\")","v":0},{"$f":"COUNTIFS('Daily Diary'!A:A,'Grafico Strategie Settimanali'!B122,'Daily Diary'!E:E,\"DRAW NO BET\")","v":0},{"$f":"COUNTIFS('Daily Diary'!A:A,'Grafico Strategie Settimanali'!B122,'Daily Diary'!E:E,\"ALTRO\")","v":0},{"$f":"COUNTIFS('Daily Diary'!A:A,'Grafico Strategie Settimanali'!B122,'Daily Diary'!E:E,\"BANCA PAREGGIO\",'Daily Diary'!E:E,\"BANCA PAREGGIO\",'Daily Diary'!K:K,\"WIN\")","v":0},{"$f":"COUNTIFS('Daily Diary'!A:A,'Grafico Strategie Settimanali'!B122,'Daily Diary'!E:E,\"PUNTA SQ.CASA\",'Daily Diary'!E:E,\"PUNTA SQ.CASA\",'Daily Diary'!K:K,\"WIN\")","v":0},{"$f":"COUNTIFS('Daily Diary'!A:A,'Grafico Strategie Settimanali'!B122,'Daily Diary'!E:E,\"PUNTA SQ.OSPITE\",'Daily Diary'!E:E,\"PUNTA SQ.OSPITE\",'Daily Diary'!K:K,\"WIN\")","v":0},{"$f":"COUNTIFS('Daily Diary'!A:A,'Grafico Strategie Settimanali'!B122,'Daily Diary'!E:E,\"BANCA SFAVORITA\",'Daily Diary'!E:E,\"BANCA SFAVORITA\",'Daily Diary'!K:K,\"WIN\")","v":0},{"$f":"COUNTIFS('Daily Diary'!A:A,'Grafico Strategie Settimanali'!B122,'Daily Diary'!E:E,\"PUNTA OVER\",'Daily Diary'!E:E,\"PUNTA OVER\",'Daily Diary'!K:K,\"WIN\")","v":0},{"$f":"COUNTIFS('Daily Diary'!A:A,'Grafico Strategie Settimanali'!B122,'Daily Diary'!E:E,\"PUNTA UNDER\",'Daily Diary'!E:E,\"PUNTA UNDER\",'Daily Diary'!K:K,\"WIN\")","v":0},{"$f":"COUNTIFS('Daily Diary'!A:A,'Grafico Strategie Settimanali'!B122,'Daily Diary'!E:E,\"SCALPING\",'Daily Diary'!E:E,\"SCALPING\",'Daily Diary'!K:K,\"WIN\")","v":0},{"$f":"COUNTIFS('Daily Diary'!A:A,'Grafico Strategie Settimanali'!B122,'Daily Diary'!E:E,\"GT 90\",'Daily Diary'!E:E,\"GT 90\",'Daily Diary'!K:K,\"WIN\")","v":0},{"$f":"COUNTIFS('Daily Diary'!A:A,'Grafico Strategie Settimanali'!B122,'Daily Diary'!E:E,\"GT 110\",'Daily Diary'!E:E,\"GT 110\",'Daily Diary'!K:K,\"WIN\")","v":0},{"$f":"COUNTIFS('Daily Diary'!A:A,'Grafico Strategie Settimanali'!B122,'Daily Diary'!E:E,\"ALERT GOAL\",'Daily Diary'!E:E,\"ALERT GOAL\",'Daily Diary'!K:K,\"WIN\")","v":0},{"$f":"COUNTIFS('Daily Diary'!A:A,'Grafico Strategie Settimanali'!B122,'Daily Diary'!E:E,\"DRAW NO BET\",'Daily Diary'!E:E,\"DRAW NO BET\",'Daily Diary'!K:K,\"WIN\")","v":0},{"$f":"COUNTIFS('Daily Diary'!A:A,'Grafico Strategie Settimanali'!B122,'Daily Diary'!E:E,\"ALTRO\",'Daily Diary'!E:E,\"ALTRO\",'Daily Diary'!K:K,\"WIN\")","v":0},{"$error":"#DIV/0!"},{"$error":"#DIV/0!"},{"$error":"#DIV/0!"},{"$error":"#DIV/0!"},{"$error":"#DIV/0!"},{"$error":"#DIV/0!"},{"$error":"#DIV/0!"},{"$error":"#DIV/0!"},{"$error":"#DIV/0!"},{"$error":"#DIV/0!"},{"$error":"#DIV/0!"},{"$error":"#DIV/0!"}]
[0,"2023-09-02",{"$f":"COUNTIFS('Daily Diary'!A:A,'Grafico Strategie Settimanali'!B123,'Daily Diary'!E:E,\"BANCA PAREGGIO\")","v":0},{"$f":"COUNTIFS('Daily Diary'!A:A,'Grafico Strategie Settimanali'!B123,'Daily Diary'!E:E,\"PUNTA SQ.CASA\")","v":0},{"$f":"COUNTIFS('Daily Diary'!A:A,'Grafico Strategie Settimanali'!B123,'Daily Diary'!E:E,\"PUNTA SQ.OSPITE\")","v":0},{"$f":"COUNTIFS('Daily Diary'!A:A,'Grafico Strategie Settimanali'!B123,'Daily Diary'!E:E,\"BANCA SFAVORITA\")","v":0},{"$f":"COUNTIFS('Daily Diary'!A:A,'Grafico Strategie Settimanali'!B123,'Daily Diary'!E:E,\"PUNTA OVER\")","v":0},{"$f":"COUNTIFS('Daily Diary'!A:A,'Grafico Strategie Settimanali'!B123,'Daily Diary'!E:E,\"PUNTA UNDER\")","v":0},{"$f":"COUNTIFS('Daily Diary'!A:A,'Grafico Strategie Settimanali'!B123,'Daily Diary'!E:E,\"SCALPING\")","v":0},{"$f":"COUNTIFS('Daily Diary'!A:A,'Grafico Strategie Settimanali'!B123,'Daily Diary'!E:E,\"GT90\")","v":0},{"$f":"COUNTIFS('Daily Diary'!A:A,'Grafico Strategie Settimanali'!B123,'Daily Diary'!E:E,\"GT110\")","v":0},{"$f":"COUNTIFS('Daily Diary'!A:A,'Grafico Strategie Settimanali'!B123,'Daily Diary'!E:E,\"ALERT GOAL\")","v":0},{"$f":"COUNTIFS('Daily Diary'!A:A,'Grafico Strategie Settimanali'!B123,'Daily Diary'!E:E,\"DRAW NO BET\")","v":0},{"$f":"COUNTIFS('Daily Diary'!A:A,'Grafico Strategie Settimanali'!B123,'Daily Diary'!E:E,\"ALTRO\")","v":0},{"$f":"COUNTIFS('Daily Diary'!A:A,'Grafico Strategie Settimanali'!B123,'Daily Diary'!E:E,\"BANCA PAREGGIO\",'Daily Diary'!E:E,\"BANCA PAREGGIO\",'Daily Diary'!K:K,\"WIN\")","v":0},{"$f":"COUNTIFS('Daily Diary'!A:A,'Grafico Strategie Settimanali'!B123,'Daily Diary'!E:E,\"PUNTA SQ.CASA\",'Daily Diary'!E:E,\"PUNTA SQ.CASA\",'Daily Diary'!K:K,\"WIN\")","v":0},{"$f":"COUNTIFS('Daily Diary'!A:A,'Grafico Strategie Settimanali'!B123,'Daily Diary'!E:E,\"PUNTA SQ.OSPITE\",'Daily Diary'!E:E,\"PUNTA SQ.OSPITE\",'Daily Diary'!K:K,\"WIN\")","v":0},{"$f":"COUNTIFS('Daily Diary'!A:A,'Grafico Strategie Settimanali'!B123,'Daily Diary'!E:E,\"BANCA SFAVORITA\",'Daily Diary'!E:E,\"BANCA SFAVORITA\",'Daily Diary'!K:K,\"WIN\")","v":0},{"$f":"COUNTIFS('Daily Diary'!A:A,'Grafico Strategie Settimanali'!B123,'Daily Diary'!E:E,\"PUNTA OVER\",'Daily Diary'!E:E,\"PUNTA OVER\",'Daily Diary'!K:K,\"WIN\")","v":0},{"$f":"COUNTIFS('Daily Diary'!A:A,'Grafico Strategie Settimanali'!B123,'Daily Diary'!E:E,\"PUNTA UNDER\",'Daily Diary'!E:E,\"PUNTA UNDER\",'Daily Diary'!K:K,\"WIN\")","v":0},{"$f":"COUNTIFS('Daily Diary'!A:A,'Grafico Strategie Settimanali'!B123,'Daily Diary'!E:E,\"SCALPING\",'Daily Diary'!E:E,\"SCALPING\",'Daily Diary'!K:K,\"WIN\")","v":0},{"$f":"COUNTIFS('Daily Diary'!A:A,'Grafico Strategie Settimanali'!B123,'Daily Diary'!E:E,\"GT 90\",'Daily Diary'!E:E,\"GT 90\",'Daily Diary'!K:K,\"WIN\")","v":0},{"$f":"COUNTIFS('Daily Diary'!A:A,'Grafico Strategie Settimanali'!B123,'Daily Diary'!E:E,\"GT 110\",'Daily Diary'!E:E,\"GT 110\",'Daily Diary'!K:K,\"WIN\")","v":0},{"$f":"COUNTIFS('Daily Diary'!A:A,'Grafico Strategie Settimanali'!B123,'Daily Diary'!E:E,\"ALERT GOAL\",'Daily Diary'!E:E,\"ALERT GOAL\",'Daily Diary'!K:K,\"WIN\")","v":0},{"$f":"COUNTIFS('Daily Diary'!A:A,'Grafico Strategie Settimanali'!B123,'Daily Diary'!E:E,\"DRAW NO BET\",'Daily Diary'!E:E,\"DRAW NO BET\",'Daily Diary'!K:K,\"WIN\")","v":0},{"$f":"COUNTIFS('Daily Diary'!A:A,'Grafico Strategie Settimanali'!B123,'Daily Diary'!E:E,\"ALTRO\",'Daily Diary'!E:E,\"ALTRO\",'Daily Diary'!K:K,\"WIN\")","v":0},{"$error":"#DIV/0!"},{"$error":"#DIV/0!"},{"$error":"#DIV/0!"},{"$error":"#DIV/0!"},{"$error":"#DIV/0!"},{"$error":"#DIV/0!"},{"$error":"#DIV/0!"},{"$error":"#DIV/0!"},{"$error":"#DIV/0!"},{"$error":"#DIV/0!"},{"$error":"#DIV/0!"},{"$error":"#DIV/0!"}]
[0,"2023-09-03",{"$f":"COUNTIFS('Daily Diary'!A:A,'Grafico Strategie Settimanali'!B124,'Daily Diary'!E:E,\"BANCA PAREGGIO\")","v":0},{"$f":"COUNTIFS('Daily Diary'!A:A,'Grafico Strategie Settimanali'!B124,'Daily Diary'!E:E,\"PUNTA SQ.CASA\")","v":0},{"$f":"COUNTIFS('Daily Diary'!A:A,'Grafico Strategie Settimanali'!B124,'Daily Diary'!E:E,\"PUNTA SQ.OSPITE\")","v":0},{"$f":"COUNTIFS('Daily Diary'!A:A,'Grafico Strategie Settimanali'!B124,'Daily Diary'!E:E,\"BANCA SFAVORITA\")","v":0},{"$f":"COUNTIFS('Daily Diary'!A:A,'Grafico Strategie Settimanali'!B124,'Daily Diary'!E:E,\"PUNTA OVER\")","v":0},{"$f":"COUNTIFS('Daily Diary'!A:A,'Grafico Strategie Settimanali'!B124,'Daily Diary'!E:E,\"PUNTA UNDER\")","v":0},{"$f":"COUNTIFS('Daily Diary'!A:A,'Grafico Strategie Settimanali'!B124,'Daily Diary'!E:E,\"SCALPING\")","v":0},{"$f":"COUNTIFS('Daily Diary'!A:A,'Grafico Strategie Settimanali'!B124,'Daily Diary'!E:E,\"GT90\")","v":0},{"$f":"COUNTIFS('Daily Diary'!A:A,'Grafico Strategie Settimanali'!B124,'Daily Diary'!E:E,\"GT110\")","v":0},{"$f":"COUNTIFS('Daily Diary'!A:A,'Grafico Strategie Settimanali'!B124,'Daily Diary'!E:E,\"ALERT GOAL\")","v":0},{"$f":"COUNTIFS('Daily Diary'!A:A,'Grafico Strategie Settimanali'!B124,'Daily Diary'!E:E,\"DRAW NO BET\")","v":0},{"$f":"COUNTIFS('Daily Diary'!A:A,'Grafico Strategie Settimanali'!B124,'Daily Diary'!E:E,\"ALTRO\")","v":0},{"$f":"COUNTIFS('Daily Diary'!A:A,'Grafico Strategie Settimanali'!B124,'Daily Diary'!E:E,\"BANCA PAREGGIO\",'Daily Diary'!E:E,\"BANCA PAREGGIO\",'Daily Diary'!K:K,\"WIN\")","v":0},{"$f":"COUNTIFS('Daily Diary'!A:A,'Grafico Strategie Settimanali'!B124,'Daily Diary'!E:E,\"PUNTA SQ.CASA\",'Daily Diary'!E:E,\"PUNTA SQ.CASA\",'Daily Diary'!K:K,\"WIN\")","v":0},{"$f":"COUNTIFS('Daily Diary'!A:A,'Grafico Strategie Settimanali'!B124,'Daily Diary'!E:E,\"PUNTA SQ.OSPITE\",'Daily Diary'!E:E,\"PUNTA SQ.OSPITE\",'Daily Diary'!K:K,\"WIN\")","v":0},{"$f":"COUNTIFS('Daily Diary'!A:A,'Grafico Strategie Settimanali'!B124,'Daily Diary'!E:E,\"BANCA SFAVORITA\",'Daily Diary'!E:E,\"BANCA SFAVORITA\",'Daily Diary'!K:K,\"WIN\")","v":0},{"$f":"COUNTIFS('Daily Diary'!A:A,'Grafico Strategie Settimanali'!B124,'Daily Diary'!E:E,\"PUNTA OVER\",'Daily Diary'!E:E,\"PUNTA OVER\",'Daily Diary'!K:K,\"WIN\")","v":0},{"$f":"COUNTIFS('Daily Diary'!A:A,'Grafico Strategie Settimanali'!B124,'Daily Diary'!E:E,\"PUNTA UNDER\",'Daily Diary'!E:E,\"PUNTA UNDER\",'Daily Diary'!K:K,\"WIN\")","v":0},{"$f":"COUNTIFS('Daily Diary'!A:A,'Grafico Strategie Settimanali'!B124,'Daily Diary'!E:E,\"SCALPING\",'Daily Diary'!E:E,\"SCALPING\",'Daily Diary'!K:K,\"WIN\")","v":0},{"$f":"COUNTIFS('Daily Diary'!A:A,'Grafico Strategie Settimanali'!B124,'Daily Diary'!E:E,\"GT 90\",'Daily Diary'!E:E,\"GT 90\",'Daily Diary'!K:K,\"WIN\")","v":0},{"$f":"COUNTIFS('Daily Diary'!A:A,'Grafico Strategie Settimanali'!B124,'Daily Diary'!E:E,\"GT 110\",'Daily Diary'!E:E,\"GT 110\",'Daily Diary'!K:K,\"WIN\")","v":0},{"$f":"COUNTIFS('Daily Diary'!A:A,'Grafico Strategie Settimanali'!B124,'Daily Diary'!E:E,\"ALERT GOAL\",'Daily Diary'!E:E,\"ALERT GOAL\",'Daily Diary'!K:K,\"WIN\")","v":0},{"$f":"COUNTIFS('Daily Diary'!A:A,'Grafico Strategie Settimanali'!B124,'Daily Diary'!E:E,\"DRAW NO BET\",'Daily Diary'!E:E,\"DRAW NO BET\",'Daily Diary'!K:K,\"WIN\")","v":0},{"$f":"COUNTIFS('Daily Diary'!A:A,'Grafico Strategie Settimanali'!B124,'Daily Diary'!E:E,\"ALTRO\",'Daily Diary'!E:E,\"ALTRO\",'Daily Diary'!K:K,\"WIN\")","v":0},{"$error":"#DIV/0!"},{"$error":"#DIV/0!"},{"$error":"#DIV/0!"},{"$error":"#DIV/0!"},{"$error":"#DIV/0!"},{"$error":"#DIV/0!"},{"$error":"#DIV/0!"},{"$error":"#DIV/0!"},{"$error":"#DIV/0!"},{"$error":"#DIV/0!"},{"$error":"#DIV/0!"},{"$error":"#DIV/0!"}]
[0,"2023-09-04",{"$f":"COUNTIFS('Daily Diary'!A:A,'Grafico Strategie Settimanali'!B125,'Daily Diary'!E:E,\"BANCA PAREGGIO\")","v":0},{"$f":"COUNTIFS('Daily Diary'!A:A,'Grafico Strategie Settimanali'!B125,'Daily Diary'!E:E,\"PUNTA SQ.CASA\")","v":0},{"$f":"COUNTIFS('Daily Diary'!A:A,'Grafico Strategie Settimanali'!B125,'Daily Diary'!E:E,\"PUNTA SQ.OSPITE\")","v":0},{"$f":"COUNTIFS('Daily Diary'!A:A,'Grafico Strategie Settimanali'!B125,'Daily Diary'!E:E,\"BANCA SFAVORITA\")","v":0},{"$f":"COUNTIFS('Daily Diary'!A:A,'Grafico Strategie Settimanali'!B125,'Daily Diary'!E:E,\"PUNTA OVER\")","v":0},{"$f":"COUNTIFS('Daily Diary'!A:A,'Grafico Strategie Settimanali'!B125,'Daily Diary'!E:E,\"PUNTA UNDER\")","v":0},{"$f":"COUNTIFS('Daily Diary'!A:A,'Grafico Strategie Settimanali'!B125,'Daily Diary'!E:E,\"SCALPING\")","v":0},{"$f":"COUNTIFS('Daily Diary'!A:A,'Grafico Strategie Settimanali'!B125,'Daily Diary'!E:E,\"GT90\")","v":0},{"$f":"COUNTIFS('Daily Diary'!A:A,'Grafico Strategie Settimanali'!B125,'Daily Diary'!E:E,\"GT110\")","v":0},{"$f":"COUNTIFS('Daily Diary'!A:A,'Grafico Strategie Settimanali'!B125,'Daily Diary'!E:E,\"ALERT GOAL\")","v":0},{"$f":"COUNTIFS('Daily Diary'!A:A,'Grafico Strategie Settimanali'!B125,'Daily Diary'!E:E,\"DRAW NO BET\")","v":0},{"$f":"COUNTIFS('Daily Diary'!A:A,'Grafico Strategie Settimanali'!B125,'Daily Diary'!E:E,\"ALTRO\")","v":0},{"$f":"COUNTIFS('Daily Diary'!A:A,'Grafico Strategie Settimanali'!B125,'Daily Diary'!E:E,\"BANCA PAREGGIO\",'Daily Diary'!E:E,\"BANCA PAREGGIO\",'Daily Diary'!K:K,\"WIN\")","v":0},{"$f":"COUNTIFS('Daily Diary'!A:A,'Grafico Strategie Settimanali'!B125,'Daily Diary'!E:E,\"PUNTA SQ.CASA\",'Daily Diary'!E:E,\"PUNTA SQ.CASA\",'Daily Diary'!K:K,\"WIN\")","v":0},{"$f":"COUNTIFS('Daily Diary'!A:A,'Grafico Strategie Settimanali'!B125,'Daily Diary'!E:E,\"PUNTA SQ.OSPITE\",'Daily Diary'!E:E,\"PUNTA SQ.OSPITE\",'Daily Diary'!K:K,\"WIN\")","v":0},{"$f":"COUNTIFS('Daily Diary'!A:A,'Grafico Strategie Settimanali'!B125,'Daily Diary'!E:E,\"BANCA SFAVORITA\",'Daily Diary'!E:E,\"BANCA SFAVORITA\",'Daily Diary'!K:K,\"WIN\")","v":0},{"$f":"COUNTIFS('Daily Diary'!A:A,'Grafico Strategie Settimanali'!B125,'Daily Diary'!E:E,\"PUNTA OVER\",'Daily Diary'!E:E,\"PUNTA OVER\",'Daily Diary'!K:K,\"WIN\")","v":0},{"$f":"COUNTIFS('Daily Diary'!A:A,'Grafico Strategie Settimanali'!B125,'Daily Diary'!E:E,\"PUNTA UNDER\",'Daily Diary'!E:E,\"PUNTA UNDER\",'Daily Diary'!K:K,\"WIN\")","v":0},{"$f":"COUNTIFS('Daily Diary'!A:A,'Grafico Strategie Settimanali'!B125,'Daily Diary'!E:E,\"SCALPING\",'Daily Diary'!E:E,\"SCALPING\",'Daily Diary'!K:K,\"WIN\")","v":0},{"$f":"COUNTIFS('Daily Diary'!A:A,'Grafico Strategie Settimanali'!B125,'Daily Diary'!E:E,\"GT 90\",'Daily Diary'!E:E,\"GT 90\",'Daily Diary'!K:K,\"WIN\")","v":0},{"$f":"COUNTIFS('Daily Diary'!A:A,'Grafico Strategie Settimanali'!B125,'Daily Diary'!E:E,\"GT 110\",'Daily Diary'!E:E,\"GT 110\",'Daily Diary'!K:K,\"WIN\")","v":0},{"$f":"COUNTIFS('Daily Diary'!A:A,'Grafico Strategie Settimanali'!B125,'Daily Diary'!E:E,\"ALERT GOAL\",'Daily Diary'!E:E,\"ALERT GOAL\",'Daily Diary'!K:K,\"WIN\")","v":0},{"$f":"COUNTIFS('Daily Diary'!A:A,'Grafico Strategie Settimanali'!B125,'Daily Diary'!E:E,\"DRAW NO BET\",'Daily Diary'!E:E,\"DRAW NO BET\",'Daily Diary'!K:K,\"WIN\")","v":0},{"$f":"COUNTIFS('Daily Diary'!A:A,'Grafico Strategie Settimanali'!B125,'Daily Diary'!E:E,\"ALTRO\",'Daily Diary'!E:E,\"ALTRO\",'Daily Diary'!K:K,\"WIN\")","v":0},{"$error":"#DIV/0!"},{"$error":"#DIV/0!"},{"$error":"#DIV/0!"},{"$error":"#DIV/0!"},{"$error":"#DIV/0!"},{"$error":"#DIV/0!"},{"$error":"#DIV/0!"},{"$error":"#DIV/0!"},{"$error":"#DIV/0!"},{"$error":"#DIV/0!"},{"$error":"#DIV/0!"},{"$error":"#DIV/0!"}]
[0,"2023-09-05",{"$f":"COUNTIFS('Daily Diary'!A:A,'Grafico Strategie Settimanali'!B126,'Daily Diary'!E:E,\"BANCA PAREGGIO\")","v":0},{"$f":"COUNTIFS('Daily Diary'!A:A,'Grafico Strategie Settimanali'!B126,'Daily Diary'!E:E,\"PUNTA SQ.CASA\")","v":0},{"$f":"COUNTIFS('Daily Diary'!A:A,'Grafico Strategie Settimanali'!B126,'Daily Diary'!E:E,\"PUNTA SQ.OSPITE\")","v":0},{"$f":"COUNTIFS('Daily Diary'!A:A,'Grafico Strategie Settimanali'!B126,'Daily Diary'!E:E,\"BANCA SFAVORITA\")","v":0},{"$f":"COUNTIFS('Daily Diary'!A:A,'Grafico Strategie Settimanali'!B126,'Daily Diary'!E:E,\"PUNTA OVER\")","v":0},{"$f":"COUNTIFS('Daily Diary'!A:A,'Grafico Strategie Settimanali'!B126,'Daily Diary'!E:E,\"PUNTA UNDER\")","v":0},{"$f":"COUNTIFS('Daily Diary'!A:A,'Grafico Strategie Settimanali'!B126,'Daily Diary'!E:E,\"SCALPING\")","v":0},{"$f":"COUNTIFS('Daily Diary'!A:A,'Grafico Strategie Settimanali'!B126,'Daily Diary'!E:E,\"GT90\")","v":0},{"$f":"COUNTIFS('Daily Diary'!A:A,'Grafico Strategie Settimanali'!B126,'Daily Diary'!E:E,\"GT110\")","v":0},{"$f":"COUNTIFS('Daily Diary'!A:A,'Grafico Strategie Settimanali'!B126,'Daily Diary'!E:E,\"ALERT GOAL\")","v":0},{"$f":"COUNTIFS('Daily Diary'!A:A,'Grafico Strategie Settimanali'!B126,'Daily Diary'!E:E,\"DRAW NO BET\")","v":0},{"$f":"COUNTIFS('Daily Diary'!A:A,'Grafico Strategie Settimanali'!B126,'Daily Diary'!E:E,\"ALTRO\")","v":0},{"$f":"COUNTIFS('Daily Diary'!A:A,'Grafico Strategie Settimanali'!B126,'Daily Diary'!E:E,\"BANCA PAREGGIO\",'Daily Diary'!E:E,\"BANCA PAREGGIO\",'Daily Diary'!K:K,\"WIN\")","v":0},{"$f":"COUNTIFS('Daily Diary'!A:A,'Grafico Strategie Settimanali'!B126,'Daily Diary'!E:E,\"PUNTA SQ.CASA\",'Daily Diary'!E:E,\"PUNTA SQ.CASA\",'Daily Diary'!K:K,\"WIN\")","v":0},{"$f":"COUNTIFS('Daily Diary'!A:A,'Grafico Strategie Settimanali'!B126,'Daily Diary'!E:E,\"PUNTA SQ.OSPITE\",'Daily Diary'!E:E,\"PUNTA SQ.OSPITE\",'Daily Diary'!K:K,\"WIN\")","v":0},{"$f":"COUNTIFS('Daily Diary'!A:A,'Grafico Strategie Settimanali'!B126,'Daily Diary'!E:E,\"BANCA SFAVORITA\",'Daily Diary'!E:E,\"BANCA SFAVORITA\",'Daily Diary'!K:K,\"WIN\")","v":0},{"$f":"COUNTIFS('Daily Diary'!A:A,'Grafico Strategie Settimanali'!B126,'Daily Diary'!E:E,\"PUNTA OVER\",'Daily Diary'!E:E,\"PUNTA OVER\",'Daily Diary'!K:K,\"WIN\")","v":0},{"$f":"COUNTIFS('Daily Diary'!A:A,'Grafico Strategie Settimanali'!B126,'Daily Diary'!E:E,\"PUNTA UNDER\",'Daily Diary'!E:E,\"PUNTA UNDER\",'Daily Diary'!K:K,\"WIN\")","v":0},{"$f":"COUNTIFS('Daily Diary'!A:A,'Grafico Strategie Settimanali'!B126,'Daily Diary'!E:E,\"SCALPING\",'Daily Diary'!E:E,\"SCALPING\",'Daily Diary'!K:K,\"WIN\")","v":0},{"$f":"COUNTIFS('Daily Diary'!A:A,'Grafico Strategie Settimanali'!B126,'Daily Diary'!E:E,\"GT 90\",'Daily Diary'!E:E,\"GT 90\",'Daily Diary'!K:K,\"WIN\")","v":0},{"$f":"COUNTIFS('Daily Diary'!A:A,'Grafico Strategie Settimanali'!B126,'Daily Diary'!E:E,\"GT 110\",'Daily Diary'!E:E,\"GT 110\",'Daily Diary'!K:K,\"WIN\")","v":0},{"$f":"COUNTIFS('Daily Diary'!A:A,'Grafico Strategie Settimanali'!B126,'Daily Diary'!E:E,\"ALERT GOAL\",'Daily Diary'!E:E,\"ALERT GOAL\",'Daily Diary'!K:K,\"WIN\")","v":0},{"$f":"COUNTIFS('Daily Diary'!A:A,'Grafico Strategie Settimanali'!B126,'Daily Diary'!E:E,\"DRAW NO BET\",'Daily Diary'!E:E,\"DRAW NO BET\",'Daily Diary'!K:K,\"WIN\")","v":0},{"$f":"COUNTIFS('Daily Diary'!A:A,'Grafico Strategie Settimanali'!B126,'Daily Diary'!E:E,\"ALTRO\",'Daily Diary'!E:E,\"ALTRO\",'Daily Diary'!K:K,\"WIN\")","v":0},{"$error":"#DIV/0!"},{"$error":"#DIV/0!"},{"$error":"#DIV/0!"},{"$error":"#DIV/0!"},{"$error":"#DIV/0!"},{"$error":"#DIV/0!"},{"$error":"#DIV/0!"},{"$error":"#DIV/0!"},{"$error":"#DIV/0!"},{"$error":"#DIV/0!"},{"$error":"#DIV/0!"},{"$error":"#DIV/0!"}]
[0,"2023-09-06",{"$f":"COUNTIFS('Daily Diary'!A:A,'Grafico Strategie Settimanali'!B127,'Daily Diary'!E:E,\"BANCA PAREGGIO\")","v":0},{"$f":"COUNTIFS('Daily Diary'!A:A,'Grafico Strategie Settimanali'!B127,'Daily Diary'!E:E,\"PUNTA SQ.CASA\")","v":0},{"$f":"COUNTIFS('Daily Diary'!A:A,'Grafico Strategie Settimanali'!B127,'Daily Diary'!E:E,\"PUNTA SQ.OSPITE\")","v":0},{"$f":"COUNTIFS('Daily Diary'!A:A,'Grafico Strategie Settimanali'!B127,'Daily Diary'!E:E,\"BANCA SFAVORITA\")","v":0},{"$f":"COUNTIFS('Daily Diary'!A:A,'Grafico Strategie Settimanali'!B127,'Daily Diary'!E:E,\"PUNTA OVER\")","v":0},{"$f":"COUNTIFS('Daily Diary'!A:A,'Grafico Strategie Settimanali'!B127,'Daily Diary'!E:E,\"PUNTA UNDER\")","v":0},{"$f":"COUNTIFS('Daily Diary'!A:A,'Grafico Strategie Settimanali'!B127,'Daily Diary'!E:E,\"SCALPING\")","v":0},{"$f":"COUNTIFS('Daily Diary'!A:A,'Grafico Strategie Settimanali'!B127,'Daily Diary'!E:E,\"GT90\")","v":0},{"$f":"COUNTIFS('Daily Diary'!A:A,'Grafico Strategie Settimanali'!B127,'Daily Diary'!E:E,\"GT110\")","v":0},{"$f":"COUNTIFS('Daily Diary'!A:A,'Grafico Strategie Settimanali'!B127,'Daily Diary'!E:E,\"ALERT GOAL\")","v":0},{"$f":"COUNTIFS('Daily Diary'!A:A,'Grafico Strategie Settimanali'!B127,'Daily Diary'!E:E,\"DRAW NO BET\")","v":0},{"$f":"COUNTIFS('Daily Diary'!A:A,'Grafico Strategie Settimanali'!B127,'Daily Diary'!E:E,\"ALTRO\")","v":0},{"$f":"COUNTIFS('Daily Diary'!A:A,'Grafico Strategie Settimanali'!B127,'Daily Diary'!E:E,\"BANCA PAREGGIO\",'Daily Diary'!E:E,\"BANCA PAREGGIO\",'Daily Diary'!K:K,\"WIN\")","v":0},{"$f":"COUNTIFS('Daily Diary'!A:A,'Grafico Strategie Settimanali'!B127,'Daily Diary'!E:E,\"PUNTA SQ.CASA\",'Daily Diary'!E:E,\"PUNTA SQ.CASA\",'Daily Diary'!K:K,\"WIN\")","v":0},{"$f":"COUNTIFS('Daily Diary'!A:A,'Grafico Strategie Settimanali'!B127,'Daily Diary'!E:E,\"PUNTA SQ.OSPITE\",'Daily Diary'!E:E,\"PUNTA SQ.OSPITE\",'Daily Diary'!K:K,\"WIN\")","v":0},{"$f":"COUNTIFS('Daily Diary'!A:A,'Grafico Strategie Settimanali'!B127,'Daily Diary'!E:E,\"BANCA SFAVORITA\",'Daily Diary'!E:E,\"BANCA SFAVORITA\",'Daily Diary'!K:K,\"WIN\")","v":0},{"$f":"COUNTIFS('Daily Diary'!A:A,'Grafico Strategie Settimanali'!B127,'Daily Diary'!E:E,\"PUNTA OVER\",'Daily Diary'!E:E,\"PUNTA OVER\",'Daily Diary'!K:K,\"WIN\")","v":0},{"$f":"COUNTIFS('Daily Diary'!A:A,'Grafico Strategie Settimanali'!B127,'Daily Diary'!E:E,\"PUNTA UNDER\",'Daily Diary'!E:E,\"PUNTA UNDER\",'Daily Diary'!K:K,\"WIN\")","v":0},{"$f":"COUNTIFS('Daily Diary'!A:A,'Grafico Strategie Settimanali'!B127,'Daily Diary'!E:E,\"SCALPING\",'Daily Diary'!E:E,\"SCALPING\",'Daily Diary'!K:K,\"WIN\")","v":0},{"$f":"COUNTIFS('Daily Diary'!A:A,'Grafico Strategie Settimanali'!B127,'Daily Diary'!E:E,\"GT 90\",'Daily Diary'!E:E,\"GT 90\",'Daily Diary'!K:K,\"WIN\")","v":0},{"$f":"COUNTIFS('Daily Diary'!A:A,'Grafico Strategie Settimanali'!B127,'Daily Diary'!E:E,\"GT 110\",'Daily Diary'!E:E,\"GT 110\",'Daily Diary'!K:K,\"WIN\")","v":0},{"$f":"COUNTIFS('Daily Diary'!A:A,'Grafico Strategie Settimanali'!B127,'Daily Diary'!E:E,\"ALERT GOAL\",'Daily Diary'!E:E,\"ALERT GOAL\",'Daily Diary'!K:K,\"WIN\")","v":0},{"$f":"COUNTIFS('Daily Diary'!A:A,'Grafico Strategie Settimanali'!B127,'Daily Diary'!E:E,\"DRAW NO BET\",'Daily Diary'!E:E,\"DRAW NO BET\",'Daily Diary'!K:K,\"WIN\")","v":0},{"$f":"COUNTIFS('Daily Diary'!A:A,'Grafico Strategie Settimanali'!B127,'Daily Diary'!E:E,\"ALTRO\",'Daily Diary'!E:E,\"ALTRO\",'Daily Diary'!K:K,\"WIN\")","v":0},{"$error":"#DIV/0!"},{"$error":"#DIV/0!"},{"$error":"#DIV/0!"},{"$error":"#DIV/0!"},{"$error":"#DIV/0!"},{"$error":"#DIV/0!"},{"$error":"#DIV/0!"},{"$error":"#DIV/0!"},{"$error":"#DIV/0!"},{"$error":"#DIV/0!"},{"$error":"#DIV/0!"},{"$error":"#DIV/0!"}]
[0,"2023-09-07",{"$f":"COUNTIFS('Daily Diary'!A:A,'Grafico Strategie Settimanali'!B128,'Daily Diary'!E:E,\"BANCA PAREGGIO\")","v":0},{"$f":"COUNTIFS('Daily Diary'!A:A,'Grafico Strategie Settimanali'!B128,'Daily Diary'!E:E,\"PUNTA SQ.CASA\")","v":0},{"$f":"COUNTIFS('Daily Diary'!A:A,'Grafico Strategie Settimanali'!B128,'Daily Diary'!E:E,\"PUNTA SQ.OSPITE\")","v":0},{"$f":"COUNTIFS('Daily Diary'!A:A,'Grafico Strategie Settimanali'!B128,'Daily Diary'!E:E,\"BANCA SFAVORITA\")","v":0},{"$f":"COUNTIFS('Daily Diary'!A:A,'Grafico Strategie Settimanali'!B128,'Daily Diary'!E:E,\"PUNTA OVER\")","v":0},{"$f":"COUNTIFS('Daily Diary'!A:A,'Grafico Strategie Settimanali'!B128,'Daily Diary'!E:E,\"PUNTA UNDER\")","v":0},{"$f":"COUNTIFS('Daily Diary'!A:A,'Grafico Strategie Settimanali'!B128,'Daily Diary'!E:E,\"SCALPING\")","v":0},{"$f":"COUNTIFS('Daily Diary'!A:A,'Grafico Strategie Settimanali'!B128,'Daily Diary'!E:E,\"GT90\")","v":0},{"$f":"COUNTIFS('Daily Diary'!A:A,'Grafico Strategie Settimanali'!B128,'Daily Diary'!E:E,\"GT110\")","v":0},{"$f":"COUNTIFS('Daily Diary'!A:A,'Grafico Strategie Settimanali'!B128,'Daily Diary'!E:E,\"ALERT GOAL\")","v":0},{"$f":"COUNTIFS('Daily Diary'!A:A,'Grafico Strategie Settimanali'!B128,'Daily Diary'!E:E,\"DRAW NO BET\")","v":0},{"$f":"COUNTIFS('Daily Diary'!A:A,'Grafico Strategie Settimanali'!B128,'Daily Diary'!E:E,\"ALTRO\")","v":0},{"$f":"COUNTIFS('Daily Diary'!A:A,'Grafico Strategie Settimanali'!B128,'Daily Diary'!E:E,\"BANCA PAREGGIO\",'Daily Diary'!E:E,\"BANCA PAREGGIO\",'Daily Diary'!K:K,\"WIN\")","v":0},{"$f":"COUNTIFS('Daily Diary'!A:A,'Grafico Strategie Settimanali'!B128,'Daily Diary'!E:E,\"PUNTA SQ.CASA\",'Daily Diary'!E:E,\"PUNTA SQ.CASA\",'Daily Diary'!K:K,\"WIN\")","v":0},{"$f":"COUNTIFS('Daily Diary'!A:A,'Grafico Strategie Settimanali'!B128,'Daily Diary'!E:E,\"PUNTA SQ.OSPITE\",'Daily Diary'!E:E,\"PUNTA SQ.OSPITE\",'Daily Diary'!K:K,\"WIN\")","v":0},{"$f":"COUNTIFS('Daily Diary'!A:A,'Grafico Strategie Settimanali'!B128,'Daily Diary'!E:E,\"BANCA SFAVORITA\",'Daily Diary'!E:E,\"BANCA SFAVORITA\",'Daily Diary'!K:K,\"WIN\")","v":0},{"$f":"COUNTIFS('Daily Diary'!A:A,'Grafico Strategie Settimanali'!B128,'Daily Diary'!E:E,\"PUNTA OVER\",'Daily Diary'!E:E,\"PUNTA OVER\",'Daily Diary'!K:K,\"WIN\")","v":0},{"$f":"COUNTIFS('Daily Diary'!A:A,'Grafico Strategie Settimanali'!B128,'Daily Diary'!E:E,\"PUNTA UNDER\",'Daily Diary'!E:E,\"PUNTA UNDER\",'Daily Diary'!K:K,\"WIN\")","v":0},{"$f":"COUNTIFS('Daily Diary'!A:A,'Grafico Strategie Settimanali'!B128,'Daily Diary'!E:E,\"SCALPING\",'Daily Diary'!E:E,\"SCALPING\",'Daily Diary'!K:K,\"WIN\")","v":0},{"$f":"COUNTIFS('Daily Diary'!A:A,'Grafico Strategie Settimanali'!B128,'Daily Diary'!E:E,\"GT 90\",'Daily Diary'!E:E,\"GT 90\",'Daily Diary'!K:K,\"WIN\")","v":0},{"$f":"COUNTIFS('Daily Diary'!A:A,'Grafico Strategie Settimanali'!B128,'Daily Diary'!E:E,\"GT 110\",'Daily Diary'!E:E,\"GT 110\",'Daily Diary'!K:K,\"WIN\")","v":0},{"$f":"COUNTIFS('Daily Diary'!A:A,'Grafico Strategie Settimanali'!B128,'Daily Diary'!E:E,\"ALERT GOAL\",'Daily Diary'!E:E,\"ALERT GOAL\",'Daily Diary'!K:K,\"WIN\")","v":0},{"$f":"COUNTIFS('Daily Diary'!A:A,'Grafico Strategie Settimanali'!B128,'Daily Diary'!E:E,\"DRAW NO BET\",'Daily Diary'!E:E,\"DRAW NO BET\",'Daily Diary'!K:K,\"WIN\")","v":0},{"$f":"COUNTIFS('Daily Diary'!A:A,'Grafico Strategie Settimanali'!B128,'Daily Diary'!E:E,\"ALTRO\",'Daily Diary'!E:E,\"ALTRO\",'Daily Diary'!K:K,\"WIN\")","v":0},{"$error":"#DIV/0!"},{"$error":"#DIV/0!"},{"$error":"#DIV/0!"},{"$error":"#DIV/0!"},{"$error":"#DIV/0!"},{"$error":"#DIV/0!"},{"$error":"#DIV/0!"},{"$error":"#DIV/0!"},{"$error":"#DIV/0!"},{"$error":"#DIV/0!"},{"$error":"#DIV/0!"},{"$error":"#DIV/0!"}]
[0,"2023-09-08",{"$f":"COUNTIFS('Daily Diary'!A:A,'Grafico Strategie Settimanali'!B129,'Daily Diary'!E:E,\"BANCA PAREGGIO\")","v":0},{"$f":"COUNTIFS('Daily Diary'!A:A,'Grafico Strategie Settimanali'!B129,'Daily Diary'!E:E,\"PUNTA SQ.CASA\")","v":0},{"$f":"COUNTIFS('Daily Diary'!A:A,'Grafico Strategie Settimanali'!B129,'Daily Diary'!E:E,\"PUNTA SQ.OSPITE\")","v":0},{"$f":"COUNTIFS('Daily Diary'!A:A,'Grafico Strategie Settimanali'!B129,'Daily Diary'!E:E,\"BANCA SFAVORITA\")","v":0},{"$f":"COUNTIFS('Daily Diary'!A:A,'Grafico Strategie Settimanali'!B129,'Daily Diary'!E:E,\"PUNTA OVER\")","v":0},{"$f":"COUNTIFS('Daily Diary'!A:A,'Grafico Strategie Settimanali'!B129,'Daily Diary'!E:E,\"PUNTA UNDER\")","v":0},{"$f":"COUNTIFS('Daily Diary'!A:A,'Grafico Strategie Settimanali'!B129,'Daily Diary'!E:E,\"SCALPING\")","v":0},{"$f":"COUNTIFS('Daily Diary'!A:A,'Grafico Strategie Settimanali'!B129,'Daily Diary'!E:E,\"GT90\")","v":0},{"$f":"COUNTIFS('Daily Diary'!A:A,'Grafico Strategie Settimanali'!B129,'Daily Diary'!E:E,\"GT110\")","v":0},{"$f":"COUNTIFS('Daily Diary'!A:A,'Grafico Strategie Settimanali'!B129,'Daily Diary'!E:E,\"ALERT GOAL\")","v":0},{"$f":"COUNTIFS('Daily Diary'!A:A,'Grafico Strategie Settimanali'!B129,'Daily Diary'!E:E,\"DRAW NO BET\")","v":0},{"$f":"COUNTIFS('Daily Diary'!A:A,'Grafico Strategie Settimanali'!B129,'Daily Diary'!E:E,\"ALTRO\")","v":0},{"$f":"COUNTIFS('Daily Diary'!A:A,'Grafico Strategie Settimanali'!B129,'Daily Diary'!E:E,\"BANCA PAREGGIO\",'Daily Diary'!E:E,\"BANCA PAREGGIO\",'Daily Diary'!K:K,\"WIN\")","v":0},{"$f":"COUNTIFS('Daily Diary'!A:A,'Grafico Strategie Settimanali'!B129,'Daily Diary'!E:E,\"PUNTA SQ.CASA\",'Daily Diary'!E:E,\"PUNTA SQ.CASA\",'Daily Diary'!K:K,\"WIN\")","v":0},{"$f":"COUNTIFS('Daily Diary'!A:A,'Grafico Strategie Settimanali'!B129,'Daily Diary'!E:E,\"PUNTA SQ.OSPITE\",'Daily Diary'!E:E,\"PUNTA SQ.OSPITE\",'Daily Diary'!K:K,\"WIN\")","v":0},{"$f":"COUNTIFS('Daily Diary'!A:A,'Grafico Strategie Settimanali'!B129,'Daily Diary'!E:E,\"BANCA SFAVORITA\",'Daily Diary'!E:E,\"BANCA SFAVORITA\",'Daily Diary'!K:K,\"WIN\")","v":0},{"$f":"COUNTIFS('Daily Diary'!A:A,'Grafico Strategie Settimanali'!B129,'Daily Diary'!E:E,\"PUNTA OVER\",'Daily Diary'!E:E,\"PUNTA OVER\",'Daily Diary'!K:K,\"WIN\")","v":0},{"$f":"COUNTIFS('Daily Diary'!A:A,'Grafico Strategie Settimanali'!B129,'Daily Diary'!E:E,\"PUNTA UNDER\",'Daily Diary'!E:E,\"PUNTA UNDER\",'Daily Diary'!K:K,\"WIN\")","v":0},{"$f":"COUNTIFS('Daily Diary'!A:A,'Grafico Strategie Settimanali'!B129,'Daily Diary'!E:E,\"SCALPING\",'Daily Diary'!E:E,\"SCALPING\",'Daily Diary'!K:K,\"WIN\")","v":0},{"$f":"COUNTIFS('Daily Diary'!A:A,'Grafico Strategie Settimanali'!B129,'Daily Diary'!E:E,\"GT 90\",'Daily Diary'!E:E,\"GT 90\",'Daily Diary'!K:K,\"WIN\")","v":0},{"$f":"COUNTIFS('Daily Diary'!A:A,'Grafico Strategie Settimanali'!B129,'Daily Diary'!E:E,\"GT 110\",'Daily Diary'!E:E,\"GT 110\",'Daily Diary'!K:K,\"WIN\")","v":0},{"$f":"COUNTIFS('Daily Diary'!A:A,'Grafico Strategie Settimanali'!B129,'Daily Diary'!E:E,\"ALERT GOAL\",'Daily Diary'!E:E,\"ALERT GOAL\",'Daily Diary'!K:K,\"WIN\")","v":0},{"$f":"COUNTIFS('Daily Diary'!A:A,'Grafico Strategie Settimanali'!B129,'Daily Diary'!E:E,\"DRAW NO BET\",'Daily Diary'!E:E,\"DRAW NO BET\",'Daily Diary'!K:K,\"WIN\")","v":0},{"$f":"COUNTIFS('Daily Diary'!A:A,'Grafico Strategie Settimanali'!B129,'Daily Diary'!E:E,\"ALTRO\",'Daily Diary'!E:E,\"ALTRO\",'Daily Diary'!K:K,\"WIN\")","v":0},{"$error":"#DIV/0!"},{"$error":"#DIV/0!"},{"$error":"#DIV/0!"},{"$error":"#DIV/0!"},{"$error":"#DIV/0!"},{"$error":"#DIV/0!"},{"$error":"#DIV/0!"},{"$error":"#DIV/0!"},{"$error":"#DIV/0!"},{"$error":"#DIV/0!"},{"$error":"#DIV/0!"},{"$error":"#DIV/0!"}]
[0,"2023-09-09",{"$f":"COUNTIFS('Daily Diary'!A:A,'Grafico Strategie Settimanali'!B130,'Daily Diary'!E:E,\"BANCA PAREGGIO\")","v":0},{"$f":"COUNTIFS('Daily Diary'!A:A,'Grafico Strategie Settimanali'!B130,'Daily Diary'!E:E,\"PUNTA SQ.CASA\")","v":0},{"$f":"COUNTIFS('Daily Diary'!A:A,'Grafico Strategie Settimanali'!B130,'Daily Diary'!E:E,\"PUNTA SQ.OSPITE\")","v":0},{"$f":"COUNTIFS('Daily Diary'!A:A,'Grafico Strategie Settimanali'!B130,'Daily Diary'!E:E,\"BANCA SFAVORITA\")","v":0},{"$f":"COUNTIFS('Daily Diary'!A:A,'Grafico Strategie Settimanali'!B130,'Daily Diary'!E:E,\"PUNTA OVER\")","v":0},{"$f":"COUNTIFS('Daily Diary'!A:A,'Grafico Strategie Settimanali'!B130,'Daily Diary'!E:E,\"PUNTA UNDER\")","v":0},{"$f":"COUNTIFS('Daily Diary'!A:A,'Grafico Strategie Settimanali'!B130,'Daily Diary'!E:E,\"SCALPING\")","v":0},{"$f":"COUNTIFS('Daily Diary'!A:A,'Grafico Strategie Settimanali'!B130,'Daily Diary'!E:E,\"GT90\")","v":0},{"$f":"COUNTIFS('Daily Diary'!A:A,'Grafico Strategie Settimanali'!B130,'Daily Diary'!E:E,\"GT110\")","v":0},{"$f":"COUNTIFS('Daily Diary'!A:A,'Grafico Strategie Settimanali'!B130,'Daily Diary'!E:E,\"ALERT GOAL\")","v":0},{"$f":"COUNTIFS('Daily Diary'!A:A,'Grafico Strategie Settimanali'!B130,'Daily Diary'!E:E,\"DRAW NO BET\")","v":0},{"$f":"COUNTIFS('Daily Diary'!A:A,'Grafico Strategie Settimanali'!B130,'Daily Diary'!E:E,\"ALTRO\")","v":0},{"$f":"COUNTIFS('Daily Diary'!A:A,'Grafico Strategie Settimanali'!B130,'Daily Diary'!E:E,\"BANCA PAREGGIO\",'Daily Diary'!E:E,\"BANCA PAREGGIO\",'Daily Diary'!K:K,\"WIN\")","v":0},{"$f":"COUNTIFS('Daily Diary'!A:A,'Grafico Strategie Settimanali'!B130,'Daily Diary'!E:E,\"PUNTA SQ.CASA\",'Daily Diary'!E:E,\"PUNTA SQ.CASA\",'Daily Diary'!K:K,\"WIN\")","v":0},{"$f":"COUNTIFS('Daily Diary'!A:A,'Grafico Strategie Settimanali'!B130,'Daily Diary'!E:E,\"PUNTA SQ.OSPITE\",'Daily Diary'!E:E,\"PUNTA SQ.OSPITE\",'Daily Diary'!K:K,\"WIN\")","v":0},{"$f":"COUNTIFS('Daily Diary'!A:A,'Grafico Strategie Settimanali'!B130,'Daily Diary'!E:E,\"BANCA SFAVORITA\",'Daily Diary'!E:E,\"BANCA SFAVORITA\",'Daily Diary'!K:K,\"WIN\")","v":0},{"$f":"COUNTIFS('Daily Diary'!A:A,'Grafico Strategie Settimanali'!B130,'Daily Diary'!E:E,\"PUNTA OVER\",'Daily Diary'!E:E,\"PUNTA OVER\",'Daily Diary'!K:K,\"WIN\")","v":0},{"$f":"COUNTIFS('Daily Diary'!A:A,'Grafico Strategie Settimanali'!B130,'Daily Diary'!E:E,\"PUNTA UNDER\",'Daily Diary'!E:E,\"PUNTA UNDER\",'Daily Diary'!K:K,\"WIN\")","v":0},{"$f":"COUNTIFS('Daily Diary'!A:A,'Grafico Strategie Settimanali'!B130,'Daily Diary'!E:E,\"SCALPING\",'Daily Diary'!E:E,\"SCALPING\",'Daily Diary'!K:K,\"WIN\")","v":0},{"$f":"COUNTIFS('Daily Diary'!A:A,'Grafico Strategie Settimanali'!B130,'Daily Diary'!E:E,\"GT 90\",'Daily Diary'!E:E,\"GT 90\",'Daily Diary'!K:K,\"WIN\")","v":0},{"$f":"COUNTIFS('Daily Diary'!A:A,'Grafico Strategie Settimanali'!B130,'Daily Diary'!E:E,\"GT 110\",'Daily Diary'!E:E,\"GT 110\",'Daily Diary'!K:K,\"WIN\")","v":0},{"$f":"COUNTIFS('Daily Diary'!A:A,'Grafico Strategie Settimanali'!B130,'Daily Diary'!E:E,\"ALERT GOAL\",'Daily Diary'!E:E,\"ALERT GOAL\",'Daily Diary'!K:K,\"WIN\")","v":0},{"$f":"COUNTIFS('Daily Diary'!A:A,'Grafico Strategie Settimanali'!B130,'Daily Diary'!E:E,\"DRAW NO BET\",'Daily Diary'!E:E,\"DRAW NO BET\",'Daily Diary'!K:K,\"WIN\")","v":0},{"$f":"COUNTIFS('Daily Diary'!A:A,'Grafico Strategie Settimanali'!B130,'Daily Diary'!E:E,\"ALTRO\",'Daily Diary'!E:E,\"ALTRO\",'Daily Diary'!K:K,\"WIN\")","v":0},{"$error":"#DIV/0!"},{"$error":"#DIV/0!"},{"$error":"#DIV/0!"},{"$error":"#DIV/0!"},{"$error":"#DIV/0!"},{"$error":"#DIV/0!"},{"$error":"#DIV/0!"},{"$error":"#DIV/0!"},{"$error":"#DIV/0!"},{"$error":"#DIV/0!"},{"$error":"#DIV/0!"},{"$error":"#DIV/0!"}]
[0,"2023-09-10",{"$f":"COUNTIFS('Daily Diary'!A:A,'Grafico Strategie Settimanali'!B131,'Daily Diary'!E:E,\"BANCA PAREGGIO\")","v":0},{"$f":"COUNTIFS('Daily Diary'!A:A,'Grafico Strategie Settimanali'!B131,'Daily Diary'!E:E,\"PUNTA SQ.CASA\")","v":0},{"$f":"COUNTIFS('Daily Diary'!A:A,'Grafico Strategie Settimanali'!B131,'Daily Diary'!E:E,\"PUNTA SQ.OSPITE\")","v":0},{"$f":"COUNTIFS('Daily Diary'!A:A,'Grafico Strategie Settimanali'!B131,'Daily Diary'!E:E,\"BANCA SFAVORITA\")","v":0},{"$f":"COUNTIFS('Daily Diary'!A:A,'Grafico Strategie Settimanali'!B131,'Daily Diary'!E:E,\"PUNTA OVER\")","v":0},{"$f":"COUNTIFS('Daily Diary'!A:A,'Grafico Strategie Settimanali'!B131,'Daily Diary'!E:E,\"PUNTA UNDER\")","v":0},{"$f":"COUNTIFS('Daily Diary'!A:A,'Grafico Strategie Settimanali'!B131,'Daily Diary'!E:E,\"SCALPING\")","v":0},{"$f":"COUNTIFS('Daily Diary'!A:A,'Grafico Strategie Settimanali'!B131,'Daily Diary'!E:E,\"GT90\")","v":0},{"$f":"COUNTIFS('Daily Diary'!A:A,'Grafico Strategie Settimanali'!B131,'Daily Diary'!E:E,\"GT110\")","v":0},{"$f":"COUNTIFS('Daily Diary'!A:A,'Grafico Strategie Settimanali'!B131,'Daily Diary'!E:E,\"ALERT GOAL\")","v":0},{"$f":"COUNTIFS('Daily Diary'!A:A,'Grafico Strategie Settimanali'!B131,'Daily Diary'!E:E,\"DRAW NO BET\")","v":0},{"$f":"COUNTIFS('Daily Diary'!A:A,'Grafico Strategie Settimanali'!B131,'Daily Diary'!E:E,\"ALTRO\")","v":0},{"$f":"COUNTIFS('Daily Diary'!A:A,'Grafico Strategie Settimanali'!B131,'Daily Diary'!E:E,\"BANCA PAREGGIO\",'Daily Diary'!E:E,\"BANCA PAREGGIO\",'Daily Diary'!K:K,\"WIN\")","v":0},{"$f":"COUNTIFS('Daily Diary'!A:A,'Grafico Strategie Settimanali'!B131,'Daily Diary'!E:E,\"PUNTA SQ.CASA\",'Daily Diary'!E:E,\"PUNTA SQ.CASA\",'Daily Diary'!K:K,\"WIN\")","v":0},{"$f":"COUNTIFS('Daily Diary'!A:A,'Grafico Strategie Settimanali'!B131,'Daily Diary'!E:E,\"PUNTA SQ.OSPITE\",'Daily Diary'!E:E,\"PUNTA SQ.OSPITE\",'Daily Diary'!K:K,\"WIN\")","v":0},{"$f":"COUNTIFS('Daily Diary'!A:A,'Grafico Strategie Settimanali'!B131,'Daily Diary'!E:E,\"BANCA SFAVORITA\",'Daily Diary'!E:E,\"BANCA SFAVORITA\",'Daily Diary'!K:K,\"WIN\")","v":0},{"$f":"COUNTIFS('Daily Diary'!A:A,'Grafico Strategie Settimanali'!B131,'Daily Diary'!E:E,\"PUNTA OVER\",'Daily Diary'!E:E,\"PUNTA OVER\",'Daily Diary'!K:K,\"WIN\")","v":0},{"$f":"COUNTIFS('Daily Diary'!A:A,'Grafico Strategie Settimanali'!B131,'Daily Diary'!E:E,\"PUNTA UNDER\",'Daily Diary'!E:E,\"PUNTA UNDER\",'Daily Diary'!K:K,\"WIN\")","v":0},{"$f":"COUNTIFS('Daily Diary'!A:A,'Grafico Strategie Settimanali'!B131,'Daily Diary'!E:E,\"SCALPING\",'Daily Diary'!E:E,\"SCALPING\",'Daily Diary'!K:K,\"WIN\")","v":0},{"$f":"COUNTIFS('Daily Diary'!A:A,'Grafico Strategie Settimanali'!B131,'Daily Diary'!E:E,\"GT 90\",'Daily Diary'!E:E,\"GT 90\",'Daily Diary'!K:K,\"WIN\")","v":0},{"$f":"COUNTIFS('Daily Diary'!A:A,'Grafico Strategie Settimanali'!B131,'Daily Diary'!E:E,\"GT 110\",'Daily Diary'!E:E,\"GT 110\",'Daily Diary'!K:K,\"WIN\")","v":0},{"$f":"COUNTIFS('Daily Diary'!A:A,'Grafico Strategie Settimanali'!B131,'Daily Diary'!E:E,\"ALERT GOAL\",'Daily Diary'!E:E,\"ALERT GOAL\",'Daily Diary'!K:K,\"WIN\")","v":0},{"$f":"COUNTIFS('Daily Diary'!A:A,'Grafico Strategie Settimanali'!B131,'Daily Diary'!E:E,\"DRAW NO BET\",'Daily Diary'!E:E,\"DRAW NO BET\",'Daily Diary'!K:K,\"WIN\")","v":0},{"$f":"COUNTIFS('Daily Diary'!A:A,'Grafico Strategie Settimanali'!B131,'Daily Diary'!E:E,\"ALTRO\",'Daily Diary'!E:E,\"ALTRO\",'Daily Diary'!K:K,\"WIN\")","v":0},{"$error":"#DIV/0!"},{"$error":"#DIV/0!"},{"$error":"#DIV/0!"},{"$error":"#DIV/0!"},{"$error":"#DIV/0!"},{"$error":"#DIV/0!"},{"$error":"#DIV/0!"},{"$error":"#DIV/0!"},{"$error":"#DIV/0!"},{"$error":"#DIV/0!"},{"$error":"#DIV/0!"},{"$error":"#DIV/0!"}]
[0,"2023-09-11",{"$f":"COUNTIFS('Daily Diary'!A:A,'Grafico Strategie Settimanali'!B132,'Daily Diary'!E:E,\"BANCA PAREGGIO\")","v":0},{"$f":"COUNTIFS('Daily Diary'!A:A,'Grafico Strategie Settimanali'!B132,'Daily Diary'!E:E,\"PUNTA SQ.CASA\")","v":0},{"$f":"COUNTIFS('Daily Diary'!A:A,'Grafico Strategie Settimanali'!B132,'Daily Diary'!E:E,\"PUNTA SQ.OSPITE\")","v":0},{"$f":"COUNTIFS('Daily Diary'!A:A,'Grafico Strategie Settimanali'!B132,'Daily Diary'!E:E,\"BANCA SFAVORITA\")","v":0},{"$f":"COUNTIFS('Daily Diary'!A:A,'Grafico Strategie Settimanali'!B132,'Daily Diary'!E:E,\"PUNTA OVER\")","v":0},{"$f":"COUNTIFS('Daily Diary'!A:A,'Grafico Strategie Settimanali'!B132,'Daily Diary'!E:E,\"PUNTA UNDER\")","v":0},{"$f":"COUNTIFS('Daily Diary'!A:A,'Grafico Strategie Settimanali'!B132,'Daily Diary'!E:E,\"SCALPING\")","v":0},{"$f":"COUNTIFS('Daily Diary'!A:A,'Grafico Strategie Settimanali'!B132,'Daily Diary'!E:E,\"GT90\")","v":0},{"$f":"COUNTIFS('Daily Diary'!A:A,'Grafico Strategie Settimanali'!B132,'Daily Diary'!E:E,\"GT110\")","v":0},{"$f":"COUNTIFS('Daily Diary'!A:A,'Grafico Strategie Settimanali'!B132,'Daily Diary'!E:E,\"ALERT GOAL\")","v":0},{"$f":"COUNTIFS('Daily Diary'!A:A,'Grafico Strategie Settimanali'!B132,'Daily Diary'!E:E,\"DRAW NO BET\")","v":0},{"$f":"COUNTIFS('Daily Diary'!A:A,'Grafico Strategie Settimanali'!B132,'Daily Diary'!E:E,\"ALTRO\")","v":0},{"$f":"COUNTIFS('Daily Diary'!A:A,'Grafico Strategie Settimanali'!B132,'Daily Diary'!E:E,\"BANCA PAREGGIO\",'Daily Diary'!E:E,\"BANCA PAREGGIO\",'Daily Diary'!K:K,\"WIN\")","v":0},{"$f":"COUNTIFS('Daily Diary'!A:A,'Grafico Strategie Settimanali'!B132,'Daily Diary'!E:E,\"PUNTA SQ.CASA\",'Daily Diary'!E:E,\"PUNTA SQ.CASA\",'Daily Diary'!K:K,\"WIN\")","v":0},{"$f":"COUNTIFS('Daily Diary'!A:A,'Grafico Strategie Settimanali'!B132,'Daily Diary'!E:E,\"PUNTA SQ.OSPITE\",'Daily Diary'!E:E,\"PUNTA SQ.OSPITE\",'Daily Diary'!K:K,\"WIN\")","v":0},{"$f":"COUNTIFS('Daily Diary'!A:A,'Grafico Strategie Settimanali'!B132,'Daily Diary'!E:E,\"BANCA SFAVORITA\",'Daily Diary'!E:E,\"BANCA SFAVORITA\",'Daily Diary'!K:K,\"WIN\")","v":0},{"$f":"COUNTIFS('Daily Diary'!A:A,'Grafico Strategie Settimanali'!B132,'Daily Diary'!E:E,\"PUNTA OVER\",'Daily Diary'!E:E,\"PUNTA OVER\",'Daily Diary'!K:K,\"WIN\")","v":0},{"$f":"COUNTIFS('Daily Diary'!A:A,'Grafico Strategie Settimanali'!B132,'Daily Diary'!E:E,\"PUNTA UNDER\",'Daily Diary'!E:E,\"PUNTA UNDER\",'Daily Diary'!K:K,\"WIN\")","v":0},{"$f":"COUNTIFS('Daily Diary'!A:A,'Grafico Strategie Settimanali'!B132,'Daily Diary'!E:E,\"SCALPING\",'Daily Diary'!E:E,\"SCALPING\",'Daily Diary'!K:K,\"WIN\")","v":0},{"$f":"COUNTIFS('Daily Diary'!A:A,'Grafico Strategie Settimanali'!B132,'Daily Diary'!E:E,\"GT 90\",'Daily Diary'!E:E,\"GT 90\",'Daily Diary'!K:K,\"WIN\")","v":0},{"$f":"COUNTIFS('Daily Diary'!A:A,'Grafico Strategie Settimanali'!B132,'Daily Diary'!E:E,\"GT 110\",'Daily Diary'!E:E,\"GT 110\",'Daily Diary'!K:K,\"WIN\")","v":0},{"$f":"COUNTIFS('Daily Diary'!A:A,'Grafico Strategie Settimanali'!B132,'Daily Diary'!E:E,\"ALERT GOAL\",'Daily Diary'!E:E,\"ALERT GOAL\",'Daily Diary'!K:K,\"WIN\")","v":0},{"$f":"COUNTIFS('Daily Diary'!A:A,'Grafico Strategie Settimanali'!B132,'Daily Diary'!E:E,\"DRAW NO BET\",'Daily Diary'!E:E,\"DRAW NO BET\",'Daily Diary'!K:K,\"WIN\")","v":0},{"$f":"COUNTIFS('Daily Diary'!A:A,'Grafico Strategie Settimanali'!B132,'Daily Diary'!E:E,\"ALTRO\",'Daily Diary'!E:E,\"ALTRO\",'Daily Diary'!K:K,\"WIN\")","v":0},{"$error":"#DIV/0!"},{"$error":"#DIV/0!"},{"$error":"#DIV/0!"},{"$error":"#DIV/0!"},{"$error":"#DIV/0!"},{"$error":"#DIV/0!"},{"$error":"#DIV/0!"},{"$error":"#DIV/0!"},{"$error":"#DIV/0!"},{"$error":"#DIV/0!"},{"$error":"#DIV/0!"},{"$error":"#DIV/0!"}]
[0,"2023-09-12",{"$f":"COUNTIFS('Daily Diary'!A:A,'Grafico Strategie Settimanali'!B133,'Daily Diary'!E:E,\"BANCA PAREGGIO\")","v":0},{"$f":"COUNTIFS('Daily Diary'!A:A,'Grafico Strategie Settimanali'!B133,'Daily Diary'!E:E,\"PUNTA SQ.CASA\")","v":0},{"$f":"COUNTIFS('Daily Diary'!A:A,'Grafico Strategie Settimanali'!B133,'Daily Diary'!E:E,\"PUNTA SQ.OSPITE\")","v":0},{"$f":"COUNTIFS('Daily Diary'!A:A,'Grafico Strategie Settimanali'!B133,'Daily Diary'!E:E,\"BANCA SFAVORITA\")","v":0},{"$f":"COUNTIFS('Daily Diary'!A:A,'Grafico Strategie Settimanali'!B133,'Daily Diary'!E:E,\"PUNTA OVER\")","v":0},{"$f":"COUNTIFS('Daily Diary'!A:A,'Grafico Strategie Settimanali'!B133,'Daily Diary'!E:E,\"PUNTA UNDER\")","v":0},{"$f":"COUNTIFS('Daily Diary'!A:A,'Grafico Strategie Settimanali'!B133,'Daily Diary'!E:E,\"SCALPING\")","v":0},{"$f":"COUNTIFS('Daily Diary'!A:A,'Grafico Strategie Settimanali'!B133,'Daily Diary'!E:E,\"GT90\")","v":0},{"$f":"COUNTIFS('Daily Diary'!A:A,'Grafico Strategie Settimanali'!B133,'Daily Diary'!E:E,\"GT110\")","v":0},{"$f":"COUNTIFS('Daily Diary'!A:A,'Grafico Strategie Settimanali'!B133,'Daily Diary'!E:E,\"ALERT GOAL\")","v":0},{"$f":"COUNTIFS('Daily Diary'!A:A,'Grafico Strategie Settimanali'!B133,'Daily Diary'!E:E,\"DRAW NO BET\")","v":0},{"$f":"COUNTIFS('Daily Diary'!A:A,'Grafico Strategie Settimanali'!B133,'Daily Diary'!E:E,\"ALTRO\")","v":0},{"$f":"COUNTIFS('Daily Diary'!A:A,'Grafico Strategie Settimanali'!B133,'Daily Diary'!E:E,\"BANCA PAREGGIO\",'Daily Diary'!E:E,\"BANCA PAREGGIO\",'Daily Diary'!K:K,\"WIN\")","v":0},{"$f":"COUNTIFS('Daily Diary'!A:A,'Grafico Strategie Settimanali'!B133,'Daily Diary'!E:E,\"PUNTA SQ.CASA\",'Daily Diary'!E:E,\"PUNTA SQ.CASA\",'Daily Diary'!K:K,\"WIN\")","v":0},{"$f":"COUNTIFS('Daily Diary'!A:A,'Grafico Strategie Settimanali'!B133,'Daily Diary'!E:E,\"PUNTA SQ.OSPITE\",'Daily Diary'!E:E,\"PUNTA SQ.OSPITE\",'Daily Diary'!K:K,\"WIN\")","v":0},{"$f":"COUNTIFS('Daily Diary'!A:A,'Grafico Strategie Settimanali'!B133,'Daily Diary'!E:E,\"BANCA SFAVORITA\",'Daily Diary'!E:E,\"BANCA SFAVORITA\",'Daily Diary'!K:K,\"WIN\")","v":0},{"$f":"COUNTIFS('Daily Diary'!A:A,'Grafico Strategie Settimanali'!B133,'Daily Diary'!E:E,\"PUNTA OVER\",'Daily Diary'!E:E,\"PUNTA OVER\",'Daily Diary'!K:K,\"WIN\")","v":0},{"$f":"COUNTIFS('Daily Diary'!A:A,'Grafico Strategie Settimanali'!B133,'Daily Diary'!E:E,\"PUNTA UNDER\",'Daily Diary'!E:E,\"PUNTA UNDER\",'Daily Diary'!K:K,\"WIN\")","v":0},{"$f":"COUNTIFS('Daily Diary'!A:A,'Grafico Strategie Settimanali'!B133,'Daily Diary'!E:E,\"SCALPING\",'Daily Diary'!E:E,\"SCALPING\",'Daily Diary'!K:K,\"WIN\")","v":0},{"$f":"COUNTIFS('Daily Diary'!A:A,'Grafico Strategie Settimanali'!B133,'Daily Diary'!E:E,\"GT 90\",'Daily Diary'!E:E,\"GT 90\",'Daily Diary'!K:K,\"WIN\")","v":0},{"$f":"COUNTIFS('Daily Diary'!A:A,'Grafico Strategie Settimanali'!B133,'Daily Diary'!E:E,\"GT 110\",'Daily Diary'!E:E,\"GT 110\",'Daily Diary'!K:K,\"WIN\")","v":0},{"$f":"COUNTIFS('Daily Diary'!A:A,'Grafico Strategie Settimanali'!B133,'Daily Diary'!E:E,\"ALERT GOAL\",'Daily Diary'!E:E,\"ALERT GOAL\",'Daily Diary'!K:K,\"WIN\")","v":0},{"$f":"COUNTIFS('Daily Diary'!A:A,'Grafico Strategie Settimanali'!B133,'Daily Diary'!E:E,\"DRAW NO BET\",'Daily Diary'!E:E,\"DRAW NO BET\",'Daily Diary'!K:K,\"WIN\")","v":0},{"$f":"COUNTIFS('Daily Diary'!A:A,'Grafico Strategie Settimanali'!B133,'Daily Diary'!E:E,\"ALTRO\",'Daily Diary'!E:E,\"ALTRO\",'Daily Diary'!K:K,\"WIN\")","v":0},{"$error":"#DIV/0!"},{"$error":"#DIV/0!"},{"$error":"#DIV/0!"},{"$error":"#DIV/0!"},{"$error":"#DIV/0!"},{"$error":"#DIV/0!"},{"$error":"#DIV/0!"},{"$error":"#DIV/0!"},{"$error":"#DIV/0!"},{"$error":"#DIV/0!"},{"$error":"#DIV/0!"},{"$error":"#DIV/0!"}]
[0,"2023-09-13",{"$f":"COUNTIFS('Daily Diary'!A:A,'Grafico Strategie Settimanali'!B134,'Daily Diary'!E:E,\"BANCA PAREGGIO\")","v":0},{"$f":"COUNTIFS('Daily Diary'!A:A,'Grafico Strategie Settimanali'!B134,'Daily Diary'!E:E,\"PUNTA SQ.CASA\")","v":0},{"$f":"COUNTIFS('Daily Diary'!A:A,'Grafico Strategie Settimanali'!B134,'Daily Diary'!E:E,\"PUNTA SQ.OSPITE\")","v":0},{"$f":"COUNTIFS('Daily Diary'!A:A,'Grafico Strategie Settimanali'!B134,'Daily Diary'!E:E,\"BANCA SFAVORITA\")","v":0},{"$f":"COUNTIFS('Daily Diary'!A:A,'Grafico Strategie Settimanali'!B134,'Daily Diary'!E:E,\"PUNTA OVER\")","v":0},{"$f":"COUNTIFS('Daily Diary'!A:A,'Grafico Strategie Settimanali'!B134,'Daily Diary'!E:E,\"PUNTA UNDER\")","v":0},{"$f":"COUNTIFS('Daily Diary'!A:A,'Grafico Strategie Settimanali'!B134,'Daily Diary'!E:E,\"SCALPING\")","v":0},{"$f":"COUNTIFS('Daily Diary'!A:A,'Grafico Strategie Settimanali'!B134,'Daily Diary'!E:E,\"GT90\")","v":0},{"$f":"COUNTIFS('Daily Diary'!A:A,'Grafico Strategie Settimanali'!B134,'Daily Diary'!E:E,\"GT110\")","v":0},{"$f":"COUNTIFS('Daily Diary'!A:A,'Grafico Strategie Settimanali'!B134,'Daily Diary'!E:E,\"ALERT GOAL\")","v":0},{"$f":"COUNTIFS('Daily Diary'!A:A,'Grafico Strategie Settimanali'!B134,'Daily Diary'!E:E,\"DRAW NO BET\")","v":0},{"$f":"COUNTIFS('Daily Diary'!A:A,'Grafico Strategie Settimanali'!B134,'Daily Diary'!E:E,\"ALTRO\")","v":0},{"$f":"COUNTIFS('Daily Diary'!A:A,'Grafico Strategie Settimanali'!B134,'Daily Diary'!E:E,\"BANCA PAREGGIO\",'Daily Diary'!E:E,\"BANCA PAREGGIO\",'Daily Diary'!K:K,\"WIN\")","v":0},{"$f":"COUNTIFS('Daily Diary'!A:A,'Grafico Strategie Settimanali'!B134,'Daily Diary'!E:E,\"PUNTA SQ.CASA\",'Daily Diary'!E:E,\"PUNTA SQ.CASA\",'Daily Diary'!K:K,\"WIN\")","v":0},{"$f":"COUNTIFS('Daily Diary'!A:A,'Grafico Strategie Settimanali'!B134,'Daily Diary'!E:E,\"PUNTA SQ.OSPITE\",'Daily Diary'!E:E,\"PUNTA SQ.OSPITE\",'Daily Diary'!K:K,\"WIN\")","v":0},{"$f":"COUNTIFS('Daily Diary'!A:A,'Grafico Strategie Settimanali'!B134,'Daily Diary'!E:E,\"BANCA SFAVORITA\",'Daily Diary'!E:E,\"BANCA SFAVORITA\",'Daily Diary'!K:K,\"WIN\")","v":0},{"$f":"COUNTIFS('Daily Diary'!A:A,'Grafico Strategie Settimanali'!B134,'Daily Diary'!E:E,\"PUNTA OVER\",'Daily Diary'!E:E,\"PUNTA OVER\",'Daily Diary'!K:K,\"WIN\")","v":0},{"$f":"COUNTIFS('Daily Diary'!A:A,'Grafico Strategie Settimanali'!B134,'Daily Diary'!E:E,\"PUNTA UNDER\",'Daily Diary'!E:E,\"PUNTA UNDER\",'Daily Diary'!K:K,\"WIN\")","v":0},{"$f":"COUNTIFS('Daily Diary'!A:A,'Grafico Strategie Settimanali'!B134,'Daily Diary'!E:E,\"SCALPING\",'Daily Diary'!E:E,\"SCALPING\",'Daily Diary'!K:K,\"WIN\")","v":0},{"$f":"COUNTIFS('Daily Diary'!A:A,'Grafico Strategie Settimanali'!B134,'Daily Diary'!E:E,\"GT 90\",'Daily Diary'!E:E,\"GT 90\",'Daily Diary'!K:K,\"WIN\")","v":0},{"$f":"COUNTIFS('Daily Diary'!A:A,'Grafico Strategie Settimanali'!B134,'Daily Diary'!E:E,\"GT 110\",'Daily Diary'!E:E,\"GT 110\",'Daily Diary'!K:K,\"WIN\")","v":0},{"$f":"COUNTIFS('Daily Diary'!A:A,'Grafico Strategie Settimanali'!B134,'Daily Diary'!E:E,\"ALERT GOAL\",'Daily Diary'!E:E,\"ALERT GOAL\",'Daily Diary'!K:K,\"WIN\")","v":0},{"$f":"COUNTIFS('Daily Diary'!A:A,'Grafico Strategie Settimanali'!B134,'Daily Diary'!E:E,\"DRAW NO BET\",'Daily Diary'!E:E,\"DRAW NO BET\",'Daily Diary'!K:K,\"WIN\")","v":0},{"$f":"COUNTIFS('Daily Diary'!A:A,'Grafico Strategie Settimanali'!B134,'Daily Diary'!E:E,\"ALTRO\",'Daily Diary'!E:E,\"ALTRO\",'Daily Diary'!K:K,\"WIN\")","v":0},{"$error":"#DIV/0!"},{"$error":"#DIV/0!"},{"$error":"#DIV/0!"},{"$error":"#DIV/0!"},{"$error":"#DIV/0!"},{"$error":"#DIV/0!"},{"$error":"#DIV/0!"},{"$error":"#DIV/0!"},{"$error":"#DIV/0!"},{"$error":"#DIV/0!"},{"$error":"#DIV/0!"},{"$error":"#DIV/0!"}]
[0,"2023-09-14",{"$f":"COUNTIFS('Daily Diary'!A:A,'Grafico Strategie Settimanali'!B135,'Daily Diary'!E:E,\"BANCA PAREGGIO\")","v":0},{"$f":"COUNTIFS('Daily Diary'!A:A,'Grafico Strategie Settimanali'!B135,'Daily Diary'!E:E,\"PUNTA SQ.CASA\")","v":0},{"$f":"COUNTIFS('Daily Diary'!A:A,'Grafico Strategie Settimanali'!B135,'Daily Diary'!E:E,\"PUNTA SQ.OSPITE\")","v":0},{"$f":"COUNTIFS('Daily Diary'!A:A,'Grafico Strategie Settimanali'!B135,'Daily Diary'!E:E,\"BANCA SFAVORITA\")","v":0},{"$f":"COUNTIFS('Daily Diary'!A:A,'Grafico Strategie Settimanali'!B135,'Daily Diary'!E:E,\"PUNTA OVER\")","v":0},{"$f":"COUNTIFS('Daily Diary'!A:A,'Grafico Strategie Settimanali'!B135,'Daily Diary'!E:E,\"PUNTA UNDER\")","v":0},{"$f":"COUNTIFS('Daily Diary'!A:A,'Grafico Strategie Settimanali'!B135,'Daily Diary'!E:E,\"SCALPING\")","v":0},{"$f":"COUNTIFS('Daily Diary'!A:A,'Grafico Strategie Settimanali'!B135,'Daily Diary'!E:E,\"GT90\")","v":0},{"$f":"COUNTIFS('Daily Diary'!A:A,'Grafico Strategie Settimanali'!B135,'Daily Diary'!E:E,\"GT110\")","v":0},{"$f":"COUNTIFS('Daily Diary'!A:A,'Grafico Strategie Settimanali'!B135,'Daily Diary'!E:E,\"ALERT GOAL\")","v":0},{"$f":"COUNTIFS('Daily Diary'!A:A,'Grafico Strategie Settimanali'!B135,'Daily Diary'!E:E,\"DRAW NO BET\")","v":0},{"$f":"COUNTIFS('Daily Diary'!A:A,'Grafico Strategie Settimanali'!B135,'Daily Diary'!E:E,\"ALTRO\")","v":0},{"$f":"COUNTIFS('Daily Diary'!A:A,'Grafico Strategie Settimanali'!B135,'Daily Diary'!E:E,\"BANCA PAREGGIO\",'Daily Diary'!E:E,\"BANCA PAREGGIO\",'Daily Diary'!K:K,\"WIN\")","v":0},{"$f":"COUNTIFS('Daily Diary'!A:A,'Grafico Strategie Settimanali'!B135,'Daily Diary'!E:E,\"PUNTA SQ.CASA\",'Daily Diary'!E:E,\"PUNTA SQ.CASA\",'Daily Diary'!K:K,\"WIN\")","v":0},{"$f":"COUNTIFS('Daily Diary'!A:A,'Grafico Strategie Settimanali'!B135,'Daily Diary'!E:E,\"PUNTA SQ.OSPITE\",'Daily Diary'!E:E,\"PUNTA SQ.OSPITE\",'Daily Diary'!K:K,\"WIN\")","v":0},{"$f":"COUNTIFS('Daily Diary'!A:A,'Grafico Strategie Settimanali'!B135,'Daily Diary'!E:E,\"BANCA SFAVORITA\",'Daily Diary'!E:E,\"BANCA SFAVORITA\",'Daily Diary'!K:K,\"WIN\")","v":0},{"$f":"COUNTIFS('Daily Diary'!A:A,'Grafico Strategie Settimanali'!B135,'Daily Diary'!E:E,\"PUNTA OVER\",'Daily Diary'!E:E,\"PUNTA OVER\",'Daily Diary'!K:K,\"WIN\")","v":0},{"$f":"COUNTIFS('Daily Diary'!A:A,'Grafico Strategie Settimanali'!B135,'Daily Diary'!E:E,\"PUNTA UNDER\",'Daily Diary'!E:E,\"PUNTA UNDER\",'Daily Diary'!K:K,\"WIN\")","v":0},{"$f":"COUNTIFS('Daily Diary'!A:A,'Grafico Strategie Settimanali'!B135,'Daily Diary'!E:E,\"SCALPING\",'Daily Diary'!E:E,\"SCALPING\",'Daily Diary'!K:K,\"WIN\")","v":0},{"$f":"COUNTIFS('Daily Diary'!A:A,'Grafico Strategie Settimanali'!B135,'Daily Diary'!E:E,\"GT 90\",'Daily Diary'!E:E,\"GT 90\",'Daily Diary'!K:K,\"WIN\")","v":0},{"$f":"COUNTIFS('Daily Diary'!A:A,'Grafico Strategie Settimanali'!B135,'Daily Diary'!E:E,\"GT 110\",'Daily Diary'!E:E,\"GT 110\",'Daily Diary'!K:K,\"WIN\")","v":0},{"$f":"COUNTIFS('Daily Diary'!A:A,'Grafico Strategie Settimanali'!B135,'Daily Diary'!E:E,\"ALERT GOAL\",'Daily Diary'!E:E,\"ALERT GOAL\",'Daily Diary'!K:K,\"WIN\")","v":0},{"$f":"COUNTIFS('Daily Diary'!A:A,'Grafico Strategie Settimanali'!B135,'Daily Diary'!E:E,\"DRAW NO BET\",'Daily Diary'!E:E,\"DRAW NO BET\",'Daily Diary'!K:K,\"WIN\")","v":0},{"$f":"COUNTIFS('Daily Diary'!A:A,'Grafico Strategie Settimanali'!B135,'Daily Diary'!E:E,\"ALTRO\",'Daily Diary'!E:E,\"ALTRO\",'Daily Diary'!K:K,\"WIN\")","v":0},{"$error":"#DIV/0!"},{"$error":"#DIV/0!"},{"$error":"#DIV/0!"},{"$error":"#DIV/0!"},{"$error":"#DIV/0!"},{"$error":"#DIV/0!"},{"$error":"#DIV/0!"},{"$error":"#DIV/0!"},{"$error":"#DIV/0!"},{"$error":"#DIV/0!"},{"$error":"#DIV/0!"},{"$error":"#DIV/0!"}]
[0,"2023-09-15",{"$f":"COUNTIFS('Daily Diary'!A:A,'Grafico Strategie Settimanali'!B136,'Daily Diary'!E:E,\"BANCA PAREGGIO\")","v":0},{"$f":"COUNTIFS('Daily Diary'!A:A,'Grafico Strategie Settimanali'!B136,'Daily Diary'!E:E,\"PUNTA SQ.CASA\")","v":0},{"$f":"COUNTIFS('Daily Diary'!A:A,'Grafico Strategie Settimanali'!B136,'Daily Diary'!E:E,\"PUNTA SQ.OSPITE\")","v":0},{"$f":"COUNTIFS('Daily Diary'!A:A,'Grafico Strategie Settimanali'!B136,'Daily Diary'!E:E,\"BANCA SFAVORITA\")","v":0},{"$f":"COUNTIFS('Daily Diary'!A:A,'Grafico Strategie Settimanali'!B136,'Daily Diary'!E:E,\"PUNTA OVER\")","v":0},{"$f":"COUNTIFS('Daily Diary'!A:A,'Grafico Strategie Settimanali'!B136,'Daily Diary'!E:E,\"PUNTA UNDER\")","v":0},{"$f":"COUNTIFS('Daily Diary'!A:A,'Grafico Strategie Settimanali'!B136,'Daily Diary'!E:E,\"SCALPING\")","v":0},{"$f":"COUNTIFS('Daily Diary'!A:A,'Grafico Strategie Settimanali'!B136,'Daily Diary'!E:E,\"GT90\")","v":0},{"$f":"COUNTIFS('Daily Diary'!A:A,'Grafico Strategie Settimanali'!B136,'Daily Diary'!E:E,\"GT110\")","v":0},{"$f":"COUNTIFS('Daily Diary'!A:A,'Grafico Strategie Settimanali'!B136,'Daily Diary'!E:E,\"ALERT GOAL\")","v":0},{"$f":"COUNTIFS('Daily Diary'!A:A,'Grafico Strategie Settimanali'!B136,'Daily Diary'!E:E,\"DRAW NO BET\")","v":0},{"$f":"COUNTIFS('Daily Diary'!A:A,'Grafico Strategie Settimanali'!B136,'Daily Diary'!E:E,\"ALTRO\")","v":0},{"$f":"COUNTIFS('Daily Diary'!A:A,'Grafico Strategie Settimanali'!B136,'Daily Diary'!E:E,\"BANCA PAREGGIO\",'Daily Diary'!E:E,\"BANCA PAREGGIO\",'Daily Diary'!K:K,\"WIN\")","v":0},{"$f":"COUNTIFS('Daily Diary'!A:A,'Grafico Strategie Settimanali'!B136,'Daily Diary'!E:E,\"PUNTA SQ.CASA\",'Daily Diary'!E:E,\"PUNTA SQ.CASA\",'Daily Diary'!K:K,\"WIN\")","v":0},{"$f":"COUNTIFS('Daily Diary'!A:A,'Grafico Strategie Settimanali'!B136,'Daily Diary'!E:E,\"PUNTA SQ.OSPITE\",'Daily Diary'!E:E,\"PUNTA SQ.OSPITE\",'Daily Diary'!K:K,\"WIN\")","v":0},{"$f":"COUNTIFS('Daily Diary'!A:A,'Grafico Strategie Settimanali'!B136,'Daily Diary'!E:E,\"BANCA SFAVORITA\",'Daily Diary'!E:E,\"BANCA SFAVORITA\",'Daily Diary'!K:K,\"WIN\")","v":0},{"$f":"COUNTIFS('Daily Diary'!A:A,'Grafico Strategie Settimanali'!B136,'Daily Diary'!E:E,\"PUNTA OVER\",'Daily Diary'!E:E,\"PUNTA OVER\",'Daily Diary'!K:K,\"WIN\")","v":0},{"$f":"COUNTIFS('Daily Diary'!A:A,'Grafico Strategie Settimanali'!B136,'Daily Diary'!E:E,\"PUNTA UNDER\",'Daily Diary'!E:E,\"PUNTA UNDER\",'Daily Diary'!K:K,\"WIN\")","v":0},{"$f":"COUNTIFS('Daily Diary'!A:A,'Grafico Strategie Settimanali'!B136,'Daily Diary'!E:E,\"SCALPING\",'Daily Diary'!E:E,\"SCALPING\",'Daily Diary'!K:K,\"WIN\")","v":0},{"$f":"COUNTIFS('Daily Diary'!A:A,'Grafico Strategie Settimanali'!B136,'Daily Diary'!E:E,\"GT 90\",'Daily Diary'!E:E,\"GT 90\",'Daily Diary'!K:K,\"WIN\")","v":0},{"$f":"COUNTIFS('Daily Diary'!A:A,'Grafico Strategie Settimanali'!B136,'Daily Diary'!E:E,\"GT 110\",'Daily Diary'!E:E,\"GT 110\",'Daily Diary'!K:K,\"WIN\")","v":0},{"$f":"COUNTIFS('Daily Diary'!A:A,'Grafico Strategie Settimanali'!B136,'Daily Diary'!E:E,\"ALERT GOAL\",'Daily Diary'!E:E,\"ALERT GOAL\",'Daily Diary'!K:K,\"WIN\")","v":0},{"$f":"COUNTIFS('Daily Diary'!A:A,'Grafico Strategie Settimanali'!B136,'Daily Diary'!E:E,\"DRAW NO BET\",'Daily Diary'!E:E,\"DRAW NO BET\",'Daily Diary'!K:K,\"WIN\")","v":0},{"$f":"COUNTIFS('Daily Diary'!A:A,'Grafico Strategie Settimanali'!B136,'Daily Diary'!E:E,\"ALTRO\",'Daily Diary'!E:E,\"ALTRO\",'Daily Diary'!K:K,\"WIN\")","v":0},{"$error":"#DIV/0!"},{"$error":"#DIV/0!"},{"$error":"#DIV/0!"},{"$error":"#DIV/0!"},{"$error":"#DIV/0!"},{"$error":"#DIV/0!"},{"$error":"#DIV/0!"},{"$error":"#DIV/0!"},{"$error":"#DIV/0!"},{"$error":"#DIV/0!"},{"$error":"#DIV/0!"},{"$error":"#DIV/0!"}]
[0,"2023-09-16",{"$f":"COUNTIFS('Daily Diary'!A:A,'Grafico Strategie Settimanali'!B137,'Daily Diary'!E:E,\"BANCA PAREGGIO\")","v":0},{"$f":"COUNTIFS('Daily Diary'!A:A,'Grafico Strategie Settimanali'!B137,'Daily Diary'!E:E,\"PUNTA SQ.CASA\")","v":0},{"$f":"COUNTIFS('Daily Diary'!A:A,'Grafico Strategie Settimanali'!B137,'Daily Diary'!E:E,\"PUNTA SQ.OSPITE\")","v":0},{"$f":"COUNTIFS('Daily Diary'!A:A,'Grafico Strategie Settimanali'!B137,'Daily Diary'!E:E,\"BANCA SFAVORITA\")","v":0},{"$f":"COUNTIFS('Daily Diary'!A:A,'Grafico Strategie Settimanali'!B137,'Daily Diary'!E:E,\"PUNTA OVER\")","v":0},{"$f":"COUNTIFS('Daily Diary'!A:A,'Grafico Strategie Settimanali'!B137,'Daily Diary'!E:E,\"PUNTA UNDER\")","v":0},{"$f":"COUNTIFS('Daily Diary'!A:A,'Grafico Strategie Settimanali'!B137,'Daily Diary'!E:E,\"SCALPING\")","v":0},{"$f":"COUNTIFS('Daily Diary'!A:A,'Grafico Strategie Settimanali'!B137,'Daily Diary'!E:E,\"GT90\")","v":0},{"$f":"COUNTIFS('Daily Diary'!A:A,'Grafico Strategie Settimanali'!B137,'Daily Diary'!E:E,\"GT110\")","v":0},{"$f":"COUNTIFS('Daily Diary'!A:A,'Grafico Strategie Settimanali'!B137,'Daily Diary'!E:E,\"ALERT GOAL\")","v":0},{"$f":"COUNTIFS('Daily Diary'!A:A,'Grafico Strategie Settimanali'!B137,'Daily Diary'!E:E,\"DRAW NO BET\")","v":0},{"$f":"COUNTIFS('Daily Diary'!A:A,'Grafico Strategie Settimanali'!B137,'Daily Diary'!E:E,\"ALTRO\")","v":0},{"$f":"COUNTIFS('Daily Diary'!A:A,'Grafico Strategie Settimanali'!B137,'Daily Diary'!E:E,\"BANCA PAREGGIO\",'Daily Diary'!E:E,\"BANCA PAREGGIO\",'Daily Diary'!K:K,\"WIN\")","v":0},{"$f":"COUNTIFS('Daily Diary'!A:A,'Grafico Strategie Settimanali'!B137,'Daily Diary'!E:E,\"PUNTA SQ.CASA\",'Daily Diary'!E:E,\"PUNTA SQ.CASA\",'Daily Diary'!K:K,\"WIN\")","v":0},{"$f":"COUNTIFS('Daily Diary'!A:A,'Grafico Strategie Settimanali'!B137,'Daily Diary'!E:E,\"PUNTA SQ.OSPITE\",'Daily Diary'!E:E,\"PUNTA SQ.OSPITE\",'Daily Diary'!K:K,\"WIN\")","v":0},{"$f":"COUNTIFS('Daily Diary'!A:A,'Grafico Strategie Settimanali'!B137,'Daily Diary'!E:E,\"BANCA SFAVORITA\",'Daily Diary'!E:E,\"BANCA SFAVORITA\",'Daily Diary'!K:K,\"WIN\")","v":0},{"$f":"COUNTIFS('Daily Diary'!A:A,'Grafico Strategie Settimanali'!B137,'Daily Diary'!E:E,\"PUNTA OVER\",'Daily Diary'!E:E,\"PUNTA OVER\",'Daily Diary'!K:K,\"WIN\")","v":0},{"$f":"COUNTIFS('Daily Diary'!A:A,'Grafico Strategie Settimanali'!B137,'Daily Diary'!E:E,\"PUNTA UNDER\",'Daily Diary'!E:E,\"PUNTA UNDER\",'Daily Diary'!K:K,\"WIN\")","v":0},{"$f":"COUNTIFS('Daily Diary'!A:A,'Grafico Strategie Settimanali'!B137,'Daily Diary'!E:E,\"SCALPING\",'Daily Diary'!E:E,\"SCALPING\",'Daily Diary'!K:K,\"WIN\")","v":0},{"$f":"COUNTIFS('Daily Diary'!A:A,'Grafico Strategie Settimanali'!B137,'Daily Diary'!E:E,\"GT 90\",'Daily Diary'!E:E,\"GT 90\",'Daily Diary'!K:K,\"WIN\")","v":0},{"$f":"COUNTIFS('Daily Diary'!A:A,'Grafico Strategie Settimanali'!B137,'Daily Diary'!E:E,\"GT 110\",'Daily Diary'!E:E,\"GT 110\",'Daily Diary'!K:K,\"WIN\")","v":0},{"$f":"COUNTIFS('Daily Diary'!A:A,'Grafico Strategie Settimanali'!B137,'Daily Diary'!E:E,\"ALERT GOAL\",'Daily Diary'!E:E,\"ALERT GOAL\",'Daily Diary'!K:K,\"WIN\")","v":0},{"$f":"COUNTIFS('Daily Diary'!A:A,'Grafico Strategie Settimanali'!B137,'Daily Diary'!E:E,\"DRAW NO BET\",'Daily Diary'!E:E,\"DRAW NO BET\",'Daily Diary'!K:K,\"WIN\")","v":0},{"$f":"COUNTIFS('Daily Diary'!A:A,'Grafico Strategie Settimanali'!B137,'Daily Diary'!E:E,\"ALTRO\",'Daily Diary'!E:E,\"ALTRO\",'Daily Diary'!K:K,\"WIN\")","v":0},{"$error":"#DIV/0!"},{"$error":"#DIV/0!"},{"$error":"#DIV/0!"},{"$error":"#DIV/0!"},{"$error":"#DIV/0!"},{"$f":"T137/H137","v":{"$error":"#DIV/0!"}},{"$error":"#DIV/0!"},{"$error":"#DIV/0!"},{"$error":"#DIV/0!"},{"$error":"#DIV/0!"},{"$error":"#DIV/0!"},{"$error":"#DIV/0!"}]
[0,"2023-09-17",{"$f":"COUNTIFS('Daily Diary'!A:A,'Grafico Strategie Settimanali'!B138,'Daily Diary'!E:E,\"BANCA PAREGGIO\")","v":0},{"$f":"COUNTIFS('Daily Diary'!A:A,'Grafico Strategie Settimanali'!B138,'Daily Diary'!E:E,\"PUNTA SQ.CASA\")","v":0},{"$f":"COUNTIFS('Daily Diary'!A:A,'Grafico Strategie Settimanali'!B138,'Daily Diary'!E:E,\"PUNTA SQ.OSPITE\")","v":0},{"$f":"COUNTIFS('Daily Diary'!A:A,'Grafico Strategie Settimanali'!B138,'Daily Diary'!E:E,\"BANCA SFAVORITA\")","v":0},{"$f":"COUNTIFS('Daily Diary'!A:A,'Grafico Strategie Settimanali'!B138,'Daily Diary'!E:E,\"PUNTA OVER\")","v":0},{"$f":"COUNTIFS('Daily Diary'!A:A,'Grafico Strategie Settimanali'!B138,'Daily Diary'!E:E,\"PUNTA UNDER\")","v":0},{"$f":"COUNTIFS('Daily Diary'!A:A,'Grafico Strategie Settimanali'!B138,'Daily Diary'!E:E,\"SCALPING\")","v":0},{"$f":"COUNTIFS('Daily Diary'!A:A,'Grafico Strategie Settimanali'!B138,'Daily Diary'!E:E,\"GT90\")","v":0},{"$f":"COUNTIFS('Daily Diary'!A:A,'Grafico Strategie Settimanali'!B138,'Daily Diary'!E:E,\"GT110\")","v":0},{"$f":"COUNTIFS('Daily Diary'!A:A,'Grafico Strategie Settimanali'!B138,'Daily Diary'!E:E,\"ALERT GOAL\")","v":0},{"$f":"COUNTIFS('Daily Diary'!A:A,'Grafico Strategie Settimanali'!B138,'Daily Diary'!E:E,\"DRAW NO BET\")","v":0},{"$f":"COUNTIFS('Daily Diary'!A:A,'Grafico Strategie Settimanali'!B138,'Daily Diary'!E:E,\"ALTRO\")","v":0},{"$f":"COUNTIFS('Daily Diary'!A:A,'Grafico Strategie Settimanali'!B138,'Daily Diary'!E:E,\"BANCA PAREGGIO\",'Daily Diary'!E:E,\"BANCA PAREGGIO\",'Daily Diary'!K:K,\"WIN\")","v":0},{"$f":"COUNTIFS('Daily Diary'!A:A,'Grafico Strategie Settimanali'!B138,'Daily Diary'!E:E,\"PUNTA SQ.CASA\",'Daily Diary'!E:E,\"PUNTA SQ.CASA\",'Daily Diary'!K:K,\"WIN\")","v":0},{"$f":"COUNTIFS('Daily Diary'!A:A,'Grafico Strategie Settimanali'!B138,'Daily Diary'!E:E,\"PUNTA SQ.OSPITE\",'Daily Diary'!E:E,\"PUNTA SQ.OSPITE\",'Daily Diary'!K:K,\"WIN\")","v":0},{"$f":"COUNTIFS('Daily Diary'!A:A,'Grafico Strategie Settimanali'!B138,'Daily Diary'!E:E,\"BANCA SFAVORITA\",'Daily Diary'!E:E,\"BANCA SFAVORITA\",'Daily Diary'!K:K,\"WIN\")","v":0},{"$f":"COUNTIFS('Daily Diary'!A:A,'Grafico Strategie Settimanali'!B138,'Daily Diary'!E:E,\"PUNTA OVER\",'Daily Diary'!E:E,\"PUNTA OVER\",'Daily Diary'!K:K,\"WIN\")","v":0},{"$f":"COUNTIFS('Daily Diary'!A:A,'Grafico Strategie Settimanali'!B138,'Daily Diary'!E:E,\"PUNTA UNDER\",'Daily Diary'!E:E,\"PUNTA UNDER\",'Daily Diary'!K:K,\"WIN\")","v":0},{"$f":"COUNTIFS('Daily Diary'!A:A,'Grafico Strategie Settimanali'!B138,'Daily Diary'!E:E,\"SCALPING\",'Daily Diary'!E:E,\"SCALPING\",'Daily Diary'!K:K,\"WIN\")","v":0},{"$f":"COUNTIFS('Daily Diary'!A:A,'Grafico Strategie Settimanali'!B138,'Daily Diary'!E:E,\"GT 90\",'Daily Diary'!E:E,\"GT 90\",'Daily Diary'!K:K,\"WIN\")","v":0},{"$f":"COUNTIFS('Daily Diary'!A:A,'Grafico Strategie Settimanali'!B138,'Daily Diary'!E:E,\"GT 110\",'Daily Diary'!E:E,\"GT 110\",'Daily Diary'!K:K,\"WIN\")","v":0},{"$f":"COUNTIFS('Daily Diary'!A:A,'Grafico Strategie Settimanali'!B138,'Daily Diary'!E:E,\"ALERT GOAL\",'Daily Diary'!E:E,\"ALERT GOAL\",'Daily Diary'!K:K,\"WIN\")","v":0},{"$f":"COUNTIFS('Daily Diary'!A:A,'Grafico Strategie Settimanali'!B138,'Daily Diary'!E:E,\"DRAW NO BET\",'Daily Diary'!E:E,\"DRAW NO BET\",'Daily Diary'!K:K,\"WIN\")","v":0},{"$f":"COUNTIFS('Daily Diary'!A:A,'Grafico Strategie Settimanali'!B138,'Daily Diary'!E:E,\"ALTRO\",'Daily Diary'!E:E,\"ALTRO\",'Daily Diary'!K:K,\"WIN\")","v":0},{"$error":"#DIV/0!"},{"$error":"#DIV/0!"},{"$error":"#DIV/0!"},{"$error":"#DIV/0!"},{"$error":"#DIV/0!"},{"$error":"#DIV/0!"},{"$error":"#DIV/0!"},{"$error":"#DIV/0!"},{"$error":"#DIV/0!"},{"$error":"#DIV/0!"},{"$error":"#DIV/0!"},{"$error":"#DIV/0!"}]
[0,"2023-09-18",{"$f":"COUNTIFS('Daily Diary'!A:A,'Grafico Strategie Settimanali'!B139,'Daily Diary'!E:E,\"BANCA PAREGGIO\")","v":0},{"$f":"COUNTIFS('Daily Diary'!A:A,'Grafico Strategie Settimanali'!B139,'Daily Diary'!E:E,\"PUNTA SQ.CASA\")","v":0},{"$f":"COUNTIFS('Daily Diary'!A:A,'Grafico Strategie Settimanali'!B139,'Daily Diary'!E:E,\"PUNTA SQ.OSPITE\")","v":0},{"$f":"COUNTIFS('Daily Diary'!A:A,'Grafico Strategie Settimanali'!B139,'Daily Diary'!E:E,\"BANCA SFAVORITA\")","v":0},{"$f":"COUNTIFS('Daily Diary'!A:A,'Grafico Strategie Settimanali'!B139,'Daily Diary'!E:E,\"PUNTA OVER\")","v":0},{"$f":"COUNTIFS('Daily Diary'!A:A,'Grafico Strategie Settimanali'!B139,'Daily Diary'!E:E,\"PUNTA UNDER\")","v":0},{"$f":"COUNTIFS('Daily Diary'!A:A,'Grafico Strategie Settimanali'!B139,'Daily Diary'!E:E,\"SCALPING\")","v":0},{"$f":"COUNTIFS('Daily Diary'!A:A,'Grafico Strategie Settimanali'!B139,'Daily Diary'!E:E,\"GT90\")","v":0},{"$f":"COUNTIFS('Daily Diary'!A:A,'Grafico Strategie Settimanali'!B139,'Daily Diary'!E:E,\"GT110\")","v":0},{"$f":"COUNTIFS('Daily Diary'!A:A,'Grafico Strategie Settimanali'!B139,'Daily Diary'!E:E,\"ALERT GOAL\")","v":0},{"$f":"COUNTIFS('Daily Diary'!A:A,'Grafico Strategie Settimanali'!B139,'Daily Diary'!E:E,\"DRAW NO BET\")","v":0},{"$f":"COUNTIFS('Daily Diary'!A:A,'Grafico Strategie Settimanali'!B139,'Daily Diary'!E:E,\"ALTRO\")","v":0},{"$f":"COUNTIFS('Daily Diary'!A:A,'Grafico Strategie Settimanali'!B139,'Daily Diary'!E:E,\"BANCA PAREGGIO\",'Daily Diary'!E:E,\"BANCA PAREGGIO\",'Daily Diary'!K:K,\"WIN\")","v":0},{"$f":"COUNTIFS('Daily Diary'!A:A,'Grafico Strategie Settimanali'!B139,'Daily Diary'!E:E,\"PUNTA SQ.CASA\",'Daily Diary'!E:E,\"PUNTA SQ.CASA\",'Daily Diary'!K:K,\"WIN\")","v":0},{"$f":"COUNTIFS('Daily Diary'!A:A,'Grafico Strategie Settimanali'!B139,'Daily Diary'!E:E,\"PUNTA SQ.OSPITE\",'Daily Diary'!E:E,\"PUNTA SQ.OSPITE\",'Daily Diary'!K:K,\"WIN\")","v":0},{"$f":"COUNTIFS('Daily Diary'!A:A,'Grafico Strategie Settimanali'!B139,'Daily Diary'!E:E,\"BANCA SFAVORITA\",'Daily Diary'!E:E,\"BANCA SFAVORITA\",'Daily Diary'!K:K,\"WIN\")","v":0},{"$f":"COUNTIFS('Daily Diary'!A:A,'Grafico Strategie Settimanali'!B139,'Daily Diary'!E:E,\"PUNTA OVER\",'Daily Diary'!E:E,\"PUNTA OVER\",'Daily Diary'!K:K,\"WIN\")","v":0},{"$f":"COUNTIFS('Daily Diary'!A:A,'Grafico Strategie Settimanali'!B139,'Daily Diary'!E:E,\"PUNTA UNDER\",'Daily Diary'!E:E,\"PUNTA UNDER\",'Daily Diary'!K:K,\"WIN\")","v":0},{"$f":"COUNTIFS('Daily Diary'!A:A,'Grafico Strategie Settimanali'!B139,'Daily Diary'!E:E,\"SCALPING\",'Daily Diary'!E:E,\"SCALPING\",'Daily Diary'!K:K,\"WIN\")","v":0},{"$f":"COUNTIFS('Daily Diary'!A:A,'Grafico Strategie Settimanali'!B139,'Daily Diary'!E:E,\"GT 90\",'Daily Diary'!E:E,\"GT 90\",'Daily Diary'!K:K,\"WIN\")","v":0},{"$f":"COUNTIFS('Daily Diary'!A:A,'Grafico Strategie Settimanali'!B139,'Daily Diary'!E:E,\"GT 110\",'Daily Diary'!E:E,\"GT 110\",'Daily Diary'!K:K,\"WIN\")","v":0},{"$f":"COUNTIFS('Daily Diary'!A:A,'Grafico Strategie Settimanali'!B139,'Daily Diary'!E:E,\"ALERT GOAL\",'Daily Diary'!E:E,\"ALERT GOAL\",'Daily Diary'!K:K,\"WIN\")","v":0},{"$f":"COUNTIFS('Daily Diary'!A:A,'Grafico Strategie Settimanali'!B139,'Daily Diary'!E:E,\"DRAW NO BET\",'Daily Diary'!E:E,\"DRAW NO BET\",'Daily Diary'!K:K,\"WIN\")","v":0},{"$f":"COUNTIFS('Daily Diary'!A:A,'Grafico Strategie Settimanali'!B139,'Daily Diary'!E:E,\"ALTRO\",'Daily Diary'!E:E,\"ALTRO\",'Daily Diary'!K:K,\"WIN\")","v":0},{"$error":"#DIV/0!"},{"$error":"#DIV/0!"},{"$error":"#DIV/0!"},{"$error":"#DIV/0!"},{"$error":"#DIV/0!"},{"$error":"#DIV/0!"},{"$error":"#DIV/0!"},{"$error":"#DIV/0!"},{"$error":"#DIV/0!"},{"$error":"#DIV/0!"},{"$error":"#DIV/0!"},{"$error":"#DIV/0!"}]
[0,"2023-09-19",{"$f":"COUNTIFS('Daily Diary'!A:A,'Grafico Strategie Settimanali'!B140,'Daily Diary'!E:E,\"BANCA PAREGGIO\")","v":0},{"$f":"COUNTIFS('Daily Diary'!A:A,'Grafico Strategie Settimanali'!B140,'Daily Diary'!E:E,\"PUNTA SQ.CASA\")","v":0},{"$f":"COUNTIFS('Daily Diary'!A:A,'Grafico Strategie Settimanali'!B140,'Daily Diary'!E:E,\"PUNTA SQ.OSPITE\")","v":0},{"$f":"COUNTIFS('Daily Diary'!A:A,'Grafico Strategie Settimanali'!B140,'Daily Diary'!E:E,\"BANCA SFAVORITA\")","v":0},{"$f":"COUNTIFS('Daily Diary'!A:A,'Grafico Strategie Settimanali'!B140,'Daily Diary'!E:E,\"PUNTA OVER\")","v":0},{"$f":"COUNTIFS('Daily Diary'!A:A,'Grafico Strategie Settimanali'!B140,'Daily Diary'!E:E,\"PUNTA UNDER\")","v":0},{"$f":"COUNTIFS('Daily Diary'!A:A,'Grafico Strategie Settimanali'!B140,'Daily Diary'!E:E,\"SCALPING\")","v":0},{"$f":"COUNTIFS('Daily Diary'!A:A,'Grafico Strategie Settimanali'!B140,'Daily Diary'!E:E,\"GT90\")","v":0},{"$f":"COUNTIFS('Daily Diary'!A:A,'Grafico Strategie Settimanali'!B140,'Daily Diary'!E:E,\"GT110\")","v":0},{"$f":"COUNTIFS('Daily Diary'!A:A,'Grafico Strategie Settimanali'!B140,'Daily Diary'!E:E,\"ALERT GOAL\")","v":0},{"$f":"COUNTIFS('Daily Diary'!A:A,'Grafico Strategie Settimanali'!B140,'Daily Diary'!E:E,\"DRAW NO BET\")","v":0},{"$f":"COUNTIFS('Daily Diary'!A:A,'Grafico Strategie Settimanali'!B140,'Daily Diary'!E:E,\"ALTRO\")","v":0},{"$f":"COUNTIFS('Daily Diary'!A:A,'Grafico Strategie Settimanali'!B140,'Daily Diary'!E:E,\"BANCA PAREGGIO\",'Daily Diary'!E:E,\"BANCA PAREGGIO\",'Daily Diary'!K:K,\"WIN\")","v":0},{"$f":"COUNTIFS('Daily Diary'!A:A,'Grafico Strategie Settimanali'!B140,'Daily Diary'!E:E,\"PUNTA SQ.CASA\",'Daily Diary'!E:E,\"PUNTA SQ.CASA\",'Daily Diary'!K:K,\"WIN\")","v":0},{"$f":"COUNTIFS('Daily Diary'!A:A,'Grafico Strategie Settimanali'!B140,'Daily Diary'!E:E,\"PUNTA SQ.OSPITE\",'Daily Diary'!E:E,\"PUNTA SQ.OSPITE\",'Daily Diary'!K:K,\"WIN\")","v":0},{"$f":"COUNTIFS('Daily Diary'!A:A,'Grafico Strategie Settimanali'!B140,'Daily Diary'!E:E,\"BANCA SFAVORITA\",'Daily Diary'!E:E,\"BANCA SFAVORITA\",'Daily Diary'!K:K,\"WIN\")","v":0},{"$f":"COUNTIFS('Daily Diary'!A:A,'Grafico Strategie Settimanali'!B140,'Daily Diary'!E:E,\"PUNTA OVER\",'Daily Diary'!E:E,\"PUNTA OVER\",'Daily Diary'!K:K,\"WIN\")","v":0},{"$f":"COUNTIFS('Daily Diary'!A:A,'Grafico Strategie Settimanali'!B140,'Daily Diary'!E:E,\"PUNTA UNDER\",'Daily Diary'!E:E,\"PUNTA UNDER\",'Daily Diary'!K:K,\"WIN\")","v":0},{"$f":"COUNTIFS('Daily Diary'!A:A,'Grafico Strategie Settimanali'!B140,'Daily Diary'!E:E,\"SCALPING\",'Daily Diary'!E:E,\"SCALPING\",'Daily Diary'!K:K,\"WIN\")","v":0},{"$f":"COUNTIFS('Daily Diary'!A:A,'Grafico Strategie Settimanali'!B140,'Daily Diary'!E:E,\"GT 90\",'Daily Diary'!E:E,\"GT 90\",'Daily Diary'!K:K,\"WIN\")","v":0},{"$f":"COUNTIFS('Daily Diary'!A:A,'Grafico Strategie Settimanali'!B140,'Daily Diary'!E:E,\"GT 110\",'Daily Diary'!E:E,\"GT 110\",'Daily Diary'!K:K,\"WIN\")","v":0},{"$f":"COUNTIFS('Daily Diary'!A:A,'Grafico Strategie Settimanali'!B140,'Daily Diary'!E:E,\"ALERT GOAL\",'Daily Diary'!E:E,\"ALERT GOAL\",'Daily Diary'!K:K,\"WIN\")","v":0},{"$f":"COUNTIFS('Daily Diary'!A:A,'Grafico Strategie Settimanali'!B140,'Daily Diary'!E:E,\"DRAW NO BET\",'Daily Diary'!E:E,\"DRAW NO BET\",'Daily Diary'!K:K,\"WIN\")","v":0},{"$f":"COUNTIFS('Daily Diary'!A:A,'Grafico Strategie Settimanali'!B140,'Daily Diary'!E:E,\"ALTRO\",'Daily Diary'!E:E,\"ALTRO\",'Daily Diary'!K:K,\"WIN\")","v":0},{"$error":"#DIV/0!"},{"$error":"#DIV/0!"},{"$error":"#DIV/0!"},{"$error":"#DIV/0!"},{"$error":"#DIV/0!"},{"$error":"#DIV/0!"},{"$error":"#DIV/0!"},{"$error":"#DIV/0!"},{"$error":"#DIV/0!"},{"$error":"#DIV/0!"},{"$error":"#DIV/0!"},{"$error":"#DIV/0!"}]
[0,"2023-09-20",{"$f":"COUNTIFS('Daily Diary'!A:A,'Grafico Strategie Settimanali'!B141,'Daily Diary'!E:E,\"BANCA PAREGGIO\")","v":0},{"$f":"COUNTIFS('Daily Diary'!A:A,'Grafico Strategie Settimanali'!B141,'Daily Diary'!E:E,\"PUNTA SQ.CASA\")","v":0},{"$f":"COUNTIFS('Daily Diary'!A:A,'Grafico Strategie Settimanali'!B141,'Daily Diary'!E:E,\"PUNTA SQ.OSPITE\")","v":0},{"$f":"COUNTIFS('Daily Diary'!A:A,'Grafico Strategie Settimanali'!B141,'Daily Diary'!E:E,\"BANCA SFAVORITA\")","v":0},{"$f":"COUNTIFS('Daily Diary'!A:A,'Grafico Strategie Settimanali'!B141,'Daily Diary'!E:E,\"PUNTA OVER\")","v":0},{"$f":"COUNTIFS('Daily Diary'!A:A,'Grafico Strategie Settimanali'!B141,'Daily Diary'!E:E,\"PUNTA UNDER\")","v":0},{"$f":"COUNTIFS('Daily Diary'!A:A,'Grafico Strategie Settimanali'!B141,'Daily Diary'!E:E,\"SCALPING\")","v":0},{"$f":"COUNTIFS('Daily Diary'!A:A,'Grafico Strategie Settimanali'!B141,'Daily Diary'!E:E,\"GT90\")","v":0},{"$f":"COUNTIFS('Daily Diary'!A:A,'Grafico Strategie Settimanali'!B141,'Daily Diary'!E:E,\"GT110\")","v":0},{"$f":"COUNTIFS('Daily Diary'!A:A,'Grafico Strategie Settimanali'!B141,'Daily Diary'!E:E,\"ALERT GOAL\")","v":0},{"$f":"COUNTIFS('Daily Diary'!A:A,'Grafico Strategie Settimanali'!B141,'Daily Diary'!E:E,\"DRAW NO BET\")","v":0},{"$f":"COUNTIFS('Daily Diary'!A:A,'Grafico Strategie Settimanali'!B141,'Daily Diary'!E:E,\"ALTRO\")","v":0},{"$f":"COUNTIFS('Daily Diary'!A:A,'Grafico Strategie Settimanali'!B141,'Daily Diary'!E:E,\"BANCA PAREGGIO\",'Daily Diary'!E:E,\"BANCA PAREGGIO\",'Daily Diary'!K:K,\"WIN\")","v":0},{"$f":"COUNTIFS('Daily Diary'!A:A,'Grafico Strategie Settimanali'!B141,'Daily Diary'!E:E,\"PUNTA SQ.CASA\",'Daily Diary'!E:E,\"PUNTA SQ.CASA\",'Daily Diary'!K:K,\"WIN\")","v":0},{"$f":"COUNTIFS('Daily Diary'!A:A,'Grafico Strategie Settimanali'!B141,'Daily Diary'!E:E,\"PUNTA SQ.OSPITE\",'Daily Diary'!E:E,\"PUNTA SQ.OSPITE\",'Daily Diary'!K:K,\"WIN\")","v":0},{"$f":"COUNTIFS('Daily Diary'!A:A,'Grafico Strategie Settimanali'!B141,'Daily Diary'!E:E,\"BANCA SFAVORITA\",'Daily Diary'!E:E,\"BANCA SFAVORITA\",'Daily Diary'!K:K,\"WIN\")","v":0},{"$f":"COUNTIFS('Daily Diary'!A:A,'Grafico Strategie Settimanali'!B141,'Daily Diary'!E:E,\"PUNTA OVER\",'Daily Diary'!E:E,\"PUNTA OVER\",'Daily Diary'!K:K,\"WIN\")","v":0},{"$f":"COUNTIFS('Daily Diary'!A:A,'Grafico Strategie Settimanali'!B141,'Daily Diary'!E:E,\"PUNTA UNDER\",'Daily Diary'!E:E,\"PUNTA UNDER\",'Daily Diary'!K:K,\"WIN\")","v":0},{"$f":"COUNTIFS('Daily Diary'!A:A,'Grafico Strategie Settimanali'!B141,'Daily Diary'!E:E,\"SCALPING\",'Daily Diary'!E:E,\"SCALPING\",'Daily Diary'!K:K,\"WIN\")","v":0},{"$f":"COUNTIFS('Daily Diary'!A:A,'Grafico Strategie Settimanali'!B141,'Daily Diary'!E:E,\"GT 90\",'Daily Diary'!E:E,\"GT 90\",'Daily Diary'!K:K,\"WIN\")","v":0},{"$f":"COUNTIFS('Daily Diary'!A:A,'Grafico Strategie Settimanali'!B141,'Daily Diary'!E:E,\"GT 110\",'Daily Diary'!E:E,\"GT 110\",'Daily Diary'!K:K,\"WIN\")","v":0},{"$f":"COUNTIFS('Daily Diary'!A:A,'Grafico Strategie Settimanali'!B141,'Daily Diary'!E:E,\"ALERT GOAL\",'Daily Diary'!E:E,\"ALERT GOAL\",'Daily Diary'!K:K,\"WIN\")","v":0},{"$f":"COUNTIFS('Daily Diary'!A:A,'Grafico Strategie Settimanali'!B141,'Daily Diary'!E:E,\"DRAW NO BET\",'Daily Diary'!E:E,\"DRAW NO BET\",'Daily Diary'!K:K,\"WIN\")","v":0},{"$f":"COUNTIFS('Daily Diary'!A:A,'Grafico Strategie Settimanali'!B141,'Daily Diary'!E:E,\"ALTRO\",'Daily Diary'!E:E,\"ALTRO\",'Daily Diary'!K:K,\"WIN\")","v":0},{"$error":"#DIV/0!"},{"$error":"#DIV/0!"},{"$error":"#DIV/0!"},{"$error":"#DIV/0!"},{"$f":"S141/G141","v":{"$error":"#DIV/0!"}},{"$error":"#DIV/0!"},{"$error":"#DIV/0!"},{"$error":"#DIV/0!"},{"$error":"#DIV/0!"},{"$error":"#DIV/0!"},{"$error":"#DIV/0!"},{"$error":"#DIV/0!"}]
[0,"2023-09-21",{"$f":"COUNTIFS('Daily Diary'!A:A,'Grafico Strategie Settimanali'!B142,'Daily Diary'!E:E,\"BANCA PAREGGIO\")","v":0},{"$f":"COUNTIFS('Daily Diary'!A:A,'Grafico Strategie Settimanali'!B142,'Daily Diary'!E:E,\"PUNTA SQ.CASA\")","v":0},{"$f":"COUNTIFS('Daily Diary'!A:A,'Grafico Strategie Settimanali'!B142,'Daily Diary'!E:E,\"PUNTA SQ.OSPITE\")","v":0},{"$f":"COUNTIFS('Daily Diary'!A:A,'Grafico Strategie Settimanali'!B142,'Daily Diary'!E:E,\"BANCA SFAVORITA\")","v":0},{"$f":"COUNTIFS('Daily Diary'!A:A,'Grafico Strategie Settimanali'!B142,'Daily Diary'!E:E,\"PUNTA OVER\")","v":0},{"$f":"COUNTIFS('Daily Diary'!A:A,'Grafico Strategie Settimanali'!B142,'Daily Diary'!E:E,\"PUNTA UNDER\")","v":0},{"$f":"COUNTIFS('Daily Diary'!A:A,'Grafico Strategie Settimanali'!B142,'Daily Diary'!E:E,\"SCALPING\")","v":0},{"$f":"COUNTIFS('Daily Diary'!A:A,'Grafico Strategie Settimanali'!B142,'Daily Diary'!E:E,\"GT90\")","v":0},{"$f":"COUNTIFS('Daily Diary'!A:A,'Grafico Strategie Settimanali'!B142,'Daily Diary'!E:E,\"GT110\")","v":0},{"$f":"COUNTIFS('Daily Diary'!A:A,'Grafico Strategie Settimanali'!B142,'Daily Diary'!E:E,\"ALERT GOAL\")","v":0},{"$f":"COUNTIFS('Daily Diary'!A:A,'Grafico Strategie Settimanali'!B142,'Daily Diary'!E:E,\"DRAW NO BET\")","v":0},{"$f":"COUNTIFS('Daily Diary'!A:A,'Grafico Strategie Settimanali'!B142,'Daily Diary'!E:E,\"ALTRO\")","v":0},{"$f":"COUNTIFS('Daily Diary'!A:A,'Grafico Strategie Settimanali'!B142,'Daily Diary'!E:E,\"BANCA PAREGGIO\",'Daily Diary'!E:E,\"BANCA PAREGGIO\",'Daily Diary'!K:K,\"WIN\")","v":0},{"$f":"COUNTIFS('Daily Diary'!A:A,'Grafico Strategie Settimanali'!B142,'Daily Diary'!E:E,\"PUNTA SQ.CASA\",'Daily Diary'!E:E,\"PUNTA SQ.CASA\",'Daily Diary'!K:K,\"WIN\")","v":0},{"$f":"COUNTIFS('Daily Diary'!A:A,'Grafico Strategie Settimanali'!B142,'Daily Diary'!E:E,\"PUNTA SQ.OSPITE\",'Daily Diary'!E:E,\"PUNTA SQ.OSPITE\",'Daily Diary'!K:K,\"WIN\")","v":0},{"$f":"COUNTIFS('Daily Diary'!A:A,'Grafico Strategie Settimanali'!B142,'Daily Diary'!E:E,\"BANCA SFAVORITA\",'Daily Diary'!E:E,\"BANCA SFAVORITA\",'Daily Diary'!K:K,\"WIN\")","v":0},{"$f":"COUNTIFS('Daily Diary'!A:A,'Grafico Strategie Settimanali'!B142,'Daily Diary'!E:E,\"PUNTA OVER\",'Daily Diary'!E:E,\"PUNTA OVER\",'Daily Diary'!K:K,\"WIN\")","v":0},{"$f":"COUNTIFS('Daily Diary'!A:A,'Grafico Strategie Settimanali'!B142,'Daily Diary'!E:E,\"PUNTA UNDER\",'Daily Diary'!E:E,\"PUNTA UNDER\",'Daily Diary'!K:K,\"WIN\")","v":0},{"$f":"COUNTIFS('Daily Diary'!A:A,'Grafico Strategie Settimanali'!B142,'Daily Diary'!E:E,\"SCALPING\",'Daily Diary'!E:E,\"SCALPING\",'Daily Diary'!K:K,\"WIN\")","v":0},{"$f":"COUNTIFS('Daily Diary'!A:A,'Grafico Strategie Settimanali'!B142,'Daily Diary'!E:E,\"GT 90\",'Daily Diary'!E:E,\"GT 90\",'Daily Diary'!K:K,\"WIN\")","v":0},{"$f":"COUNTIFS('Daily Diary'!A:A,'Grafico Strategie Settimanali'!B142,'Daily Diary'!E:E,\"GT 110\",'Daily Diary'!E:E,\"GT 110\",'Daily Diary'!K:K,\"WIN\")","v":0},{"$f":"COUNTIFS('Daily Diary'!A:A,'Grafico Strategie Settimanali'!B142,'Daily Diary'!E:E,\"ALERT GOAL\",'Daily Diary'!E:E,\"ALERT GOAL\",'Daily Diary'!K:K,\"WIN\")","v":0},{"$f":"COUNTIFS('Daily Diary'!A:A,'Grafico Strategie Settimanali'!B142,'Daily Diary'!E:E,\"DRAW NO BET\",'Daily Diary'!E:E,\"DRAW NO BET\",'Daily Diary'!K:K,\"WIN\")","v":0},{"$f":"COUNTIFS('Daily Diary'!A:A,'Grafico Strategie Settimanali'!B142,'Daily Diary'!E:E,\"ALTRO\",'Daily Diary'!E:E,\"ALTRO\",'Daily Diary'!K:K,\"WIN\")","v":0},{"$f":"O142/C142","v":{"$error":"#DIV/0!"}},{"$f":"P142/D142","v":{"$error":"#DIV/0!"}},{"$error":"#DIV/0!"},{"$error":"#DIV/0!"},{"$error":"#DIV/0!"},{"$error":"#DIV/0!"},{"$error":"#DIV/0!"},{"$error":"#DIV/0!"},{"$error":"#DIV/0!"},{"$error":"#DIV/0!"},{"$error":"#DIV/0!"},{"$error":"#DIV/0!"}]
[{"$f":"SUM(C143:N143)","v":0},{"$f":"B142+1","v":"2023-09-22"},{"$f":"COUNTIFS('Daily Diary'!A:A,'Grafico Strategie Settimanali'!B143,'Daily Diary'!E:E,\"BANCA PAREGGIO\")","v":0},{"$f":"COUNTIFS('Daily Diary'!A:A,'Grafico Strategie Settimanali'!B143,'Daily Diary'!E:E,\"PUNTA SQ.CASA\")","v":0},{"$f":"COUNTIFS('Daily Diary'!A:A,'Grafico Strategie Settimanali'!B143,'Daily Diary'!E:E,\"PUNTA SQ.OSPITE\")","v":0},{"$f":"COUNTIFS('Daily Diary'!A:A,'Grafico Strategie Settimanali'!B143,'Daily Diary'!E:E,\"BANCA SFAVORITA\")","v":0},{"$f":"COUNTIFS('Daily Diary'!A:A,'Grafico Strategie Settimanali'!B143,'Daily Diary'!E:E,\"PUNTA OVER\")","v":0},{"$f":"COUNTIFS('Daily Diary'!A:A,'Grafico Strategie Settimanali'!B143,'Daily Diary'!E:E,\"PUNTA UNDER\")","v":0},{"$f":"COUNTIFS('Daily Diary'!A:A,'Grafico Strategie Settimanali'!B143,'Daily Diary'!E:E,\"SCALPING\")","v":0},{"$f":"COUNTIFS('Daily Diary'!A:A,'Grafico Strategie Settimanali'!B143,'Daily Diary'!E:E,\"GT90\")","v":0},{"$f":"COUNTIFS('Daily Diary'!A:A,'Grafico Strategie Settimanali'!B143,'Daily Diary'!E:E,\"GT110\")","v":0},{"$f":"COUNTIFS('Daily Diary'!A:A,'Grafico Strategie Settimanali'!B143,'Daily Diary'!E:E,\"ALERT GOAL\")","v":0},{"$f":"COUNTIFS('Daily Diary'!A:A,'Grafico Strategie Settimanali'!B143,'Daily Diary'!E:E,\"DRAW NO BET\")","v":0},{"$f":"COUNTIFS('Daily Diary'!A:A,'Grafico Strategie Settimanali'!B143,'Daily Diary'!E:E,\"ALTRO\")","v":0},{"$f":"COUNTIFS('Daily Diary'!A:A,'Grafico Strategie Settimanali'!B143,'Daily Diary'!E:E,\"BANCA PAREGGIO\",'Daily Diary'!E:E,\"BANCA PAREGGIO\",'Daily Diary'!K:K,\"WIN\")","v":0},{"$f":"COUNTIFS('Daily Diary'!A:A,'Grafico Strategie Settimanali'!B143,'Daily Diary'!E:E,\"PUNTA SQ.CASA\",'Daily Diary'!E:E,\"PUNTA SQ.CASA\",'Daily Diary'!K:K,\"WIN\")","v":0},{"$f":"COUNTIFS('Daily Diary'!A:A,'Grafico Strategie Settimanali'!B143,'Daily Diary'!E:E,\"PUNTA SQ.OSPITE\",'Daily Diary'!E:E,\"PUNTA SQ.OSPITE\",'Daily Diary'!K:K,\"WIN\")","v":0},{"$f":"COUNTIFS('Daily Diary'!A:A,'Grafico Strategie Settimanali'!B143,'Daily Diary'!E:E,\"BANCA SFAVORITA\",'Daily Diary'!E:E,\"BANCA SFAVORITA\",'Daily Diary'!K:K,\"WIN\")","v":0},{"$f":"COUNTIFS('Daily Diary'!A:A,'Grafico Strategie Settimanali'!B143,'Daily Diary'!E:E,\"PUNTA OVER\",'Daily Diary'!E:E,\"PUNTA OVER\",'Daily Diary'!K:K,\"WIN\")","v":0},{"$f":"COUNTIFS('Daily Diary'!A:A,'Grafico Strategie Settimanali'!B143,'Daily Diary'!E:E,\"PUNTA UNDER\",'Daily Diary'!E:E,\"PUNTA UNDER\",'Daily Diary'!K:K,\"WIN\")","v":0},{"$f":"COUNTIFS('Daily Diary'!A:A,'Grafico Strategie Settimanali'!B143,'Daily Diary'!E:E,\"SCALPING\",'Daily Diary'!E:E,\"SCALPING\",'Daily Diary'!K:K,\"WIN\")","v":0},{"$f":"COUNTIFS('Daily Diary'!A:A,'Grafico Strategie Settimanali'!B143,'Daily Diary'!E:E,\"GT 90\",'Daily Diary'!E:E,\"GT 90\",'Daily Diary'!K:K,\"WIN\")","v":0},{"$f":"COUNTIFS('Daily Diary'!A:A,'Grafico Strategie Settimanali'!B143,'Daily Diary'!E:E,\"GT 110\",'Daily Diary'!E:E,\"GT 110\",'Daily Diary'!K:K,\"WIN\")","v":0},{"$f":"COUNTIFS('Daily Diary'!A:A,'Grafico Strategie Settimanali'!B143,'Daily Diary'!E:E,\"ALERT GOAL\",'Daily Diary'!E:E,\"ALERT GOAL\",'Daily Diary'!K:K,\"WIN\")","v":0},{"$f":"COUNTIFS('Daily Diary'!A:A,'Grafico Strategie Settimanali'!B143,'Daily Diary'!E:E,\"DRAW NO BET\",'Daily Diary'!E:E,\"DRAW NO BET\",'Daily Diary'!K:K,\"WIN\")","v":0},{"$f":"COUNTIFS('Daily Diary'!A:A,'Grafico Strategie Settimanali'!B143,'Daily Diary'!E:E,\"ALTRO\",'Daily Diary'!E:E,\"ALTRO\",'Daily Diary'!K:K,\"WIN\")","v":0},{"$error":"#DIV/0!"},{"$error":"#DIV/0!"},{"$error":"#DIV/0!"},{"$error":"#DIV/0!"},{"$error":"#DIV/0!"},{"$error":"#DIV/0!"},{"$error":"#DIV/0!"},{"$error":"#DIV/0!"},{"$error":"#DIV/0!"},{"$error":"#DIV/0!"},{"$error":"#DIV/0!"},{"$error":"#DIV/0!"}]
[0,"2023-09-23",{"$f":"COUNTIFS('Daily Diary'!A:A,'Grafico Strategie Settimanali'!B144,'Daily Diary'!E:E,\"BANCA PAREGGIO\")","v":0},{"$f":"COUNTIFS('Daily Diary'!A:A,'Grafico Strategie Settimanali'!B144,'Daily Diary'!E:E,\"PUNTA SQ.CASA\")","v":0},{"$f":"COUNTIFS('Daily Diary'!A:A,'Grafico Strategie Settimanali'!B144,'Daily Diary'!E:E,\"PUNTA SQ.OSPITE\")","v":0},{"$f":"COUNTIFS('Daily Diary'!A:A,'Grafico Strategie Settimanali'!B144,'Daily Diary'!E:E,\"BANCA SFAVORITA\")","v":0},{"$f":"COUNTIFS('Daily Diary'!A:A,'Grafico Strategie Settimanali'!B144,'Daily Diary'!E:E,\"PUNTA OVER\")","v":0},{"$f":"COUNTIFS('Daily Diary'!A:A,'Grafico Strategie Settimanali'!B144,'Daily Diary'!E:E,\"PUNTA UNDER\")","v":0},{"$f":"COUNTIFS('Daily Diary'!A:A,'Grafico Strategie Settimanali'!B144,'Daily Diary'!E:E,\"SCALPING\")","v":0},{"$f":"COUNTIFS('Daily Diary'!A:A,'Grafico Strategie Settimanali'!B144,'Daily Diary'!E:E,\"GT90\")","v":0},{"$f":"COUNTIFS('Daily Diary'!A:A,'Grafico Strategie Settimanali'!B144,'Daily Diary'!E:E,\"GT110\")","v":0},{"$f":"COUNTIFS('Daily Diary'!A:A,'Grafico Strategie Settimanali'!B144,'Daily Diary'!E:E,\"ALERT GOAL\")","v":0},{"$f":"COUNTIFS('Daily Diary'!A:A,'Grafico Strategie Settimanali'!B144,'Daily Diary'!E:E,\"DRAW NO BET\")","v":0},{"$f":"COUNTIFS('Daily Diary'!A:A,'Grafico Strategie Settimanali'!B144,'Daily Diary'!E:E,\"ALTRO\")","v":0},{"$f":"COUNTIFS('Daily Diary'!A:A,'Grafico Strategie Settimanali'!B144,'Daily Diary'!E:E,\"BANCA PAREGGIO\",'Daily Diary'!E:E,\"BANCA PAREGGIO\",'Daily Diary'!K:K,\"WIN\")","v":0},{"$f":"COUNTIFS('Daily Diary'!A:A,'Grafico Strategie Settimanali'!B144,'Daily Diary'!E:E,\"PUNTA SQ.CASA\",'Daily Diary'!E:E,\"PUNTA SQ.CASA\",'Daily Diary'!K:K,\"WIN\")","v":0},{"$f":"COUNTIFS('Daily Diary'!A:A,'Grafico Strategie Settimanali'!B144,'Daily Diary'!E:E,\"PUNTA SQ.OSPITE\",'Daily Diary'!E:E,\"PUNTA SQ.OSPITE\",'Daily Diary'!K:K,\"WIN\")","v":0},{"$f":"COUNTIFS('Daily Diary'!A:A,'Grafico Strategie Settimanali'!B144,'Daily Diary'!E:E,\"BANCA SFAVORITA\",'Daily Diary'!E:E,\"BANCA SFAVORITA\",'Daily Diary'!K:K,\"WIN\")","v":0},{"$f":"COUNTIFS('Daily Diary'!A:A,'Grafico Strategie Settimanali'!B144,'Daily Diary'!E:E,\"PUNTA OVER\",'Daily Diary'!E:E,\"PUNTA OVER\",'Daily Diary'!K:K,\"WIN\")","v":0},{"$f":"COUNTIFS('Daily Diary'!A:A,'Grafico Strategie Settimanali'!B144,'Daily Diary'!E:E,\"PUNTA UNDER\",'Daily Diary'!E:E,\"PUNTA UNDER\",'Daily Diary'!K:K,\"WIN\")","v":0},{"$f":"COUNTIFS('Daily Diary'!A:A,'Grafico Strategie Settimanali'!B144,'Daily Diary'!E:E,\"SCALPING\",'Daily Diary'!E:E,\"SCALPING\",'Daily Diary'!K:K,\"WIN\")","v":0},{"$f":"COUNTIFS('Daily Diary'!A:A,'Grafico Strategie Settimanali'!B144,'Daily Diary'!E:E,\"GT 90\",'Daily Diary'!E:E,\"GT 90\",'Daily Diary'!K:K,\"WIN\")","v":0},{"$f":"COUNTIFS('Daily Diary'!A:A,'Grafico Strategie Settimanali'!B144,'Daily Diary'!E:E,\"GT 110\",'Daily Diary'!E:E,\"GT 110\",'Daily Diary'!K:K,\"WIN\")","v":0},{"$f":"COUNTIFS('Daily Diary'!A:A,'Grafico Strategie Settimanali'!B144,'Daily Diary'!E:E,\"ALERT GOAL\",'Daily Diary'!E:E,\"ALERT GOAL\",'Daily Diary'!K:K,\"WIN\")","v":0},{"$f":"COUNTIFS('Daily Diary'!A:A,'Grafico Strategie Settimanali'!B144,'Daily Diary'!E:E,\"DRAW NO BET\",'Daily Diary'!E:E,\"DRAW NO BET\",'Daily Diary'!K:K,\"WIN\")","v":0},{"$f":"COUNTIFS('Daily Diary'!A:A,'Grafico Strategie Settimanali'!B144,'Daily Diary'!E:E,\"ALTRO\",'Daily Diary'!E:E,\"ALTRO\",'Daily Diary'!K:K,\"WIN\")","v":0},{"$error":"#DIV/0!"},{"$error":"#DIV/0!"},{"$error":"#DIV/0!"},{"$error":"#DIV/0!"},{"$error":"#DIV/0!"},{"$error":"#DIV/0!"},{"$error":"#DIV/0!"},{"$error":"#DIV/0!"},{"$error":"#DIV/0!"},{"$error":"#DIV/0!"},{"$error":"#DIV/0!"},{"$error":"#DIV/0!"}]
[0,"2023-09-24",{"$f":"COUNTIFS('Daily Diary'!A:A,'Grafico Strategie Settimanali'!B145,'Daily Diary'!E:E,\"BANCA PAREGGIO\")","v":0},{"$f":"COUNTIFS('Daily Diary'!A:A,'Grafico Strategie Settimanali'!B145,'Daily Diary'!E:E,\"PUNTA SQ.CASA\")","v":0},{"$f":"COUNTIFS('Daily Diary'!A:A,'Grafico Strategie Settimanali'!B145,'Daily Diary'!E:E,\"PUNTA SQ.OSPITE\")","v":0},{"$f":"COUNTIFS('Daily Diary'!A:A,'Grafico Strategie Settimanali'!B145,'Daily Diary'!E:E,\"BANCA SFAVORITA\")","v":0},{"$f":"COUNTIFS('Daily Diary'!A:A,'Grafico Strategie Settimanali'!B145,'Daily Diary'!E:E,\"PUNTA OVER\")","v":0},{"$f":"COUNTIFS('Daily Diary'!A:A,'Grafico Strategie Settimanali'!B145,'Daily Diary'!E:E,\"PUNTA UNDER\")","v":0},{"$f":"COUNTIFS('Daily Diary'!A:A,'Grafico Strategie Settimanali'!B145,'Daily Diary'!E:E,\"SCALPING\")","v":0},{"$f":"COUNTIFS('Daily Diary'!A:A,'Grafico Strategie Settimanali'!B145,'Daily Diary'!E:E,\"GT90\")","v":0},{"$f":"COUNTIFS('Daily Diary'!A:A,'Grafico Strategie Settimanali'!B145,'Daily Diary'!E:E,\"GT110\")","v":0},{"$f":"COUNTIFS('Daily Diary'!A:A,'Grafico Strategie Settimanali'!B145,'Daily Diary'!E:E,\"ALERT GOAL\")","v":0},{"$f":"COUNTIFS('Daily Diary'!A:A,'Grafico Strategie Settimanali'!B145,'Daily Diary'!E:E,\"DRAW NO BET\")","v":0},{"$f":"COUNTIFS('Daily Diary'!A:A,'Grafico Strategie Settimanali'!B145,'Daily Diary'!E:E,\"ALTRO\")","v":0},{"$f":"COUNTIFS('Daily Diary'!A:A,'Grafico Strategie Settimanali'!B145,'Daily Diary'!E:E,\"BANCA PAREGGIO\",'Daily Diary'!E:E,\"BANCA PAREGGIO\",'Daily Diary'!K:K,\"WIN\")","v":0},{"$f":"COUNTIFS('Daily Diary'!A:A,'Grafico Strategie Settimanali'!B145,'Daily Diary'!E:E,\"PUNTA SQ.CASA\",'Daily Diary'!E:E,\"PUNTA SQ.CASA\",'Daily Diary'!K:K,\"WIN\")","v":0},{"$f":"COUNTIFS('Daily Diary'!A:A,'Grafico Strategie Settimanali'!B145,'Daily Diary'!E:E,\"PUNTA SQ.OSPITE\",'Daily Diary'!E:E,\"PUNTA SQ.OSPITE\",'Daily Diary'!K:K,\"WIN\")","v":0},{"$f":"COUNTIFS('Daily Diary'!A:A,'Grafico Strategie Settimanali'!B145,'Daily Diary'!E:E,\"BANCA SFAVORITA\",'Daily Diary'!E:E,\"BANCA SFAVORITA\",'Daily Diary'!K:K,\"WIN\")","v":0},{"$f":"COUNTIFS('Daily Diary'!A:A,'Grafico Strategie Settimanali'!B145,'Daily Diary'!E:E,\"PUNTA OVER\",'Daily Diary'!E:E,\"PUNTA OVER\",'Daily Diary'!K:K,\"WIN\")","v":0},{"$f":"COUNTIFS('Daily Diary'!A:A,'Grafico Strategie Settimanali'!B145,'Daily Diary'!E:E,\"PUNTA UNDER\",'Daily Diary'!E:E,\"PUNTA UNDER\",'Daily Diary'!K:K,\"WIN\")","v":0},{"$f":"COUNTIFS('Daily Diary'!A:A,'Grafico Strategie Settimanali'!B145,'Daily Diary'!E:E,\"SCALPING\",'Daily Diary'!E:E,\"SCALPING\",'Daily Diary'!K:K,\"WIN\")","v":0},{"$f":"COUNTIFS('Daily Diary'!A:A,'Grafico Strategie Settimanali'!B145,'Daily Diary'!E:E,\"GT 90\",'Daily Diary'!E:E,\"GT 90\",'Daily Diary'!K:K,\"WIN\")","v":0},{"$f":"COUNTIFS('Daily Diary'!A:A,'Grafico Strategie Settimanali'!B145,'Daily Diary'!E:E,\"GT 110\",'Daily Diary'!E:E,\"GT 110\",'Daily Diary'!K:K,\"WIN\")","v":0},{"$f":"COUNTIFS('Daily Diary'!A:A,'Grafico Strategie Settimanali'!B145,'Daily Diary'!E:E,\"ALERT GOAL\",'Daily Diary'!E:E,\"ALERT GOAL\",'Daily Diary'!K:K,\"WIN\")","v":0},{"$f":"COUNTIFS('Daily Diary'!A:A,'Grafico Strategie Settimanali'!B145,'Daily Diary'!E:E,\"DRAW NO BET\",'Daily Diary'!E:E,\"DRAW NO BET\",'Daily Diary'!K:K,\"WIN\")","v":0},{"$f":"COUNTIFS('Daily Diary'!A:A,'Grafico Strategie Settimanali'!B145,'Daily Diary'!E:E,\"ALTRO\",'Daily Diary'!E:E,\"ALTRO\",'Daily Diary'!K:K,\"WIN\")","v":0},{"$error":"#DIV/0!"},{"$error":"#DIV/0!"},{"$error":"#DIV/0!"},{"$error":"#DIV/0!"},{"$error":"#DIV/0!"},{"$error":"#DIV/0!"},{"$error":"#DIV/0!"},{"$error":"#DIV/0!"},{"$error":"#DIV/0!"},{"$error":"#DIV/0!"},{"$error":"#DIV/0!"},{"$error":"#DIV/0!"}]
[0,"2023-09-25",{"$f":"COUNTIFS('Daily Diary'!A:A,'Grafico Strategie Settimanali'!B146,'Daily Diary'!E:E,\"BANCA PAREGGIO\")","v":0},{"$f":"COUNTIFS('Daily Diary'!A:A,'Grafico Strategie Settimanali'!B146,'Daily Diary'!E:E,\"PUNTA SQ.CASA\")","v":0},{"$f":"COUNTIFS('Daily Diary'!A:A,'Grafico Strategie Settimanali'!B146,'Daily Diary'!E:E,\"PUNTA SQ.OSPITE\")","v":0},{"$f":"COUNTIFS('Daily Diary'!A:A,'Grafico Strategie Settimanali'!B146,'Daily Diary'!E:E,\"BANCA SFAVORITA\")","v":0},{"$f":"COUNTIFS('Daily Diary'!A:A,'Grafico Strategie Settimanali'!B146,'Daily Diary'!E:E,\"PUNTA OVER\")","v":0},{"$f":"COUNTIFS('Daily Diary'!A:A,'Grafico Strategie Settimanali'!B146,'Daily Diary'!E:E,\"PUNTA UNDER\")","v":0},{"$f":"COUNTIFS('Daily Diary'!A:A,'Grafico Strategie Settimanali'!B146,'Daily Diary'!E:E,\"SCALPING\")","v":0},{"$f":"COUNTIFS('Daily Diary'!A:A,'Grafico Strategie Settimanali'!B146,'Daily Diary'!E:E,\"GT90\")","v":0},{"$f":"COUNTIFS('Daily Diary'!A:A,'Grafico Strategie Settimanali'!B146,'Daily Diary'!E:E,\"GT110\")","v":0},{"$f":"COUNTIFS('Daily Diary'!A:A,'Grafico Strategie Settimanali'!B146,'Daily Diary'!E:E,\"ALERT GOAL\")","v":0},{"$f":"COUNTIFS('Daily Diary'!A:A,'Grafico Strategie Settimanali'!B146,'Daily Diary'!E:E,\"DRAW NO BET\")","v":0},{"$f":"COUNTIFS('Daily Diary'!A:A,'Grafico Strategie Settimanali'!B146,'Daily Diary'!E:E,\"ALTRO\")","v":0},{"$f":"COUNTIFS('Daily Diary'!A:A,'Grafico Strategie Settimanali'!B146,'Daily Diary'!E:E,\"BANCA PAREGGIO\",'Daily Diary'!E:E,\"BANCA PAREGGIO\",'Daily Diary'!K:K,\"WIN\")","v":0},{"$f":"COUNTIFS('Daily Diary'!A:A,'Grafico Strategie Settimanali'!B146,'Daily Diary'!E:E,\"PUNTA SQ.CASA\",'Daily Diary'!E:E,\"PUNTA SQ.CASA\",'Daily Diary'!K:K,\"WIN\")","v":0},{"$f":"COUNTIFS('Daily Diary'!A:A,'Grafico Strategie Settimanali'!B146,'Daily Diary'!E:E,\"PUNTA SQ.OSPITE\",'Daily Diary'!E:E,\"PUNTA SQ.OSPITE\",'Daily Diary'!K:K,\"WIN\")","v":0},{"$f":"COUNTIFS('Daily Diary'!A:A,'Grafico Strategie Settimanali'!B146,'Daily Diary'!E:E,\"BANCA SFAVORITA\",'Daily Diary'!E:E,\"BANCA SFAVORITA\",'Daily Diary'!K:K,\"WIN\")","v":0},{"$f":"COUNTIFS('Daily Diary'!A:A,'Grafico Strategie Settimanali'!B146,'Daily Diary'!E:E,\"PUNTA OVER\",'Daily Diary'!E:E,\"PUNTA OVER\",'Daily Diary'!K:K,\"WIN\")","v":0},{"$f":"COUNTIFS('Daily Diary'!A:A,'Grafico Strategie Settimanali'!B146,'Daily Diary'!E:E,\"PUNTA UNDER\",'Daily Diary'!E:E,\"PUNTA UNDER\",'Daily Diary'!K:K,\"WIN\")","v":0},{"$f":"COUNTIFS('Daily Diary'!A:A,'Grafico Strategie Settimanali'!B146,'Daily Diary'!E:E,\"SCALPING\",'Daily Diary'!E:E,\"SCALPING\",'Daily Diary'!K:K,\"WIN\")","v":0},{"$f":"COUNTIFS('Daily Diary'!A:A,'Grafico Strategie Settimanali'!B146,'Daily Diary'!E:E,\"GT 90\",'Daily Diary'!E:E,\"GT 90\",'Daily Diary'!K:K,\"WIN\")","v":0},{"$f":"COUNTIFS('Daily Diary'!A:A,'Grafico Strategie Settimanali'!B146,'Daily Diary'!E:E,\"GT 110\",'Daily Diary'!E:E,\"GT 110\",'Daily Diary'!K:K,\"WIN\")","v":0},{"$f":"COUNTIFS('Daily Diary'!A:A,'Grafico Strategie Settimanali'!B146,'Daily Diary'!E:E,\"ALERT GOAL\",'Daily Diary'!E:E,\"ALERT GOAL\",'Daily Diary'!K:K,\"WIN\")","v":0},{"$f":"COUNTIFS('Daily Diary'!A:A,'Grafico Strategie Settimanali'!B146,'Daily Diary'!E:E,\"DRAW NO BET\",'Daily Diary'!E:E,\"DRAW NO BET\",'Daily Diary'!K:K,\"WIN\")","v":0},{"$f":"COUNTIFS('Daily Diary'!A:A,'Grafico Strategie Settimanali'!B146,'Daily Diary'!E:E,\"ALTRO\",'Daily Diary'!E:E,\"ALTRO\",'Daily Diary'!K:K,\"WIN\")","v":0},{"$error":"#DIV/0!"},{"$error":"#DIV/0!"},{"$error":"#DIV/0!"},{"$error":"#DIV/0!"},{"$error":"#DIV/0!"},{"$error":"#DIV/0!"},{"$error":"#DIV/0!"},{"$error":"#DIV/0!"},{"$error":"#DIV/0!"},{"$error":"#DIV/0!"},{"$error":"#DIV/0!"},{"$error":"#DIV/0!"}]
[0,"2023-09-26",{"$f":"COUNTIFS('Daily Diary'!A:A,'Grafico Strategie Settimanali'!B147,'Daily Diary'!E:E,\"BANCA PAREGGIO\")","v":0},{"$f":"COUNTIFS('Daily Diary'!A:A,'Grafico Strategie Settimanali'!B147,'Daily Diary'!E:E,\"PUNTA SQ.CASA\")","v":0},{"$f":"COUNTIFS('Daily Diary'!A:A,'Grafico Strategie Settimanali'!B147,'Daily Diary'!E:E,\"PUNTA SQ.OSPITE\")","v":0},{"$f":"COUNTIFS('Daily Diary'!A:A,'Grafico Strategie Settimanali'!B147,'Daily Diary'!E:E,\"BANCA SFAVORITA\")","v":0},{"$f":"COUNTIFS('Daily Diary'!A:A,'Grafico Strategie Settimanali'!B147,'Daily Diary'!E:E,\"PUNTA OVER\")","v":0},{"$f":"COUNTIFS('Daily Diary'!A:A,'Grafico Strategie Settimanali'!B147,'Daily Diary'!E:E,\"PUNTA UNDER\")","v":0},{"$f":"COUNTIFS('Daily Diary'!A:A,'Grafico Strategie Settimanali'!B147,'Daily Diary'!E:E,\"SCALPING\")","v":0},{"$f":"COUNTIFS('Daily Diary'!A:A,'Grafico Strategie Settimanali'!B147,'Daily Diary'!E:E,\"GT90\")","v":0},{"$f":"COUNTIFS('Daily Diary'!A:A,'Grafico Strategie Settimanali'!B147,'Daily Diary'!E:E,\"GT110\")","v":0},{"$f":"COUNTIFS('Daily Diary'!A:A,'Grafico Strategie Settimanali'!B147,'Daily Diary'!E:E,\"ALERT GOAL\")","v":0},{"$f":"COUNTIFS('Daily Diary'!A:A,'Grafico Strategie Settimanali'!B147,'Daily Diary'!E:E,\"DRAW NO BET\")","v":0},{"$f":"COUNTIFS('Daily Diary'!A:A,'Grafico Strategie Settimanali'!B147,'Daily Diary'!E:E,\"ALTRO\")","v":0},{"$f":"COUNTIFS('Daily Diary'!A:A,'Grafico Strategie Settimanali'!B147,'Daily Diary'!E:E,\"BANCA PAREGGIO\",'Daily Diary'!E:E,\"BANCA PAREGGIO\",'Daily Diary'!K:K,\"WIN\")","v":0},{"$f":"COUNTIFS('Daily Diary'!A:A,'Grafico Strategie Settimanali'!B147,'Daily Diary'!E:E,\"PUNTA SQ.CASA\",'Daily Diary'!E:E,\"PUNTA SQ.CASA\",'Daily Diary'!K:K,\"WIN\")","v":0},{"$f":"COUNTIFS('Daily Diary'!A:A,'Grafico Strategie Settimanali'!B147,'Daily Diary'!E:E,\"PUNTA SQ.OSPITE\",'Daily Diary'!E:E,\"PUNTA SQ.OSPITE\",'Daily Diary'!K:K,\"WIN\")","v":0},{"$f":"COUNTIFS('Daily Diary'!A:A,'Grafico Strategie Settimanali'!B147,'Daily Diary'!E:E,\"BANCA SFAVORITA\",'Daily Diary'!E:E,\"BANCA SFAVORITA\",'Daily Diary'!K:K,\"WIN\")","v":0},{"$f":"COUNTIFS('Daily Diary'!A:A,'Grafico Strategie Settimanali'!B147,'Daily Diary'!E:E,\"PUNTA OVER\",'Daily Diary'!E:E,\"PUNTA OVER\",'Daily Diary'!K:K,\"WIN\")","v":0},{"$f":"COUNTIFS('Daily Diary'!A:A,'Grafico Strategie Settimanali'!B147,'Daily Diary'!E:E,\"PUNTA UNDER\",'Daily Diary'!E:E,\"PUNTA UNDER\",'Daily Diary'!K:K,\"WIN\")","v":0},{"$f":"COUNTIFS('Daily Diary'!A:A,'Grafico Strategie Settimanali'!B147,'Daily Diary'!E:E,\"SCALPING\",'Daily Diary'!E:E,\"SCALPING\",'Daily Diary'!K:K,\"WIN\")","v":0},{"$f":"COUNTIFS('Daily Diary'!A:A,'Grafico Strategie Settimanali'!B147,'Daily Diary'!E:E,\"GT 90\",'Daily Diary'!E:E,\"GT 90\",'Daily Diary'!K:K,\"WIN\")","v":0},{"$f":"COUNTIFS('Daily Diary'!A:A,'Grafico Strategie Settimanali'!B147,'Daily Diary'!E:E,\"GT 110\",'Daily Diary'!E:E,\"GT 110\",'Daily Diary'!K:K,\"WIN\")","v":0},{"$f":"COUNTIFS('Daily Diary'!A:A,'Grafico Strategie Settimanali'!B147,'Daily Diary'!E:E,\"ALERT GOAL\",'Daily Diary'!E:E,\"ALERT GOAL\",'Daily Diary'!K:K,\"WIN\")","v":0},{"$f":"COUNTIFS('Daily Diary'!A:A,'Grafico Strategie Settimanali'!B147,'Daily Diary'!E:E,\"DRAW NO BET\",'Daily Diary'!E:E,\"DRAW NO BET\",'Daily Diary'!K:K,\"WIN\")","v":0},{"$f":"COUNTIFS('Daily Diary'!A:A,'Grafico Strategie Settimanali'!B147,'Daily Diary'!E:E,\"ALTRO\",'Daily Diary'!E:E,\"ALTRO\",'Daily Diary'!K:K,\"WIN\")","v":0},{"$error":"#DIV/0!"},{"$error":"#DIV/0!"},{"$error":"#DIV/0!"},{"$error":"#DIV/0!"},{"$error":"#DIV/0!"},{"$error":"#DIV/0!"},{"$error":"#DIV/0!"},{"$error":"#DIV/0!"},{"$error":"#DIV/0!"},{"$error":"#DIV/0!"},{"$error":"#DIV/0!"},{"$error":"#DIV/0!"}]
[0,"2023-09-27",{"$f":"COUNTIFS('Daily Diary'!A:A,'Grafico Strategie Settimanali'!B148,'Daily Diary'!E:E,\"BANCA PAREGGIO\")","v":0},{"$f":"COUNTIFS('Daily Diary'!A:A,'Grafico Strategie Settimanali'!B148,'Daily Diary'!E:E,\"PUNTA SQ.CASA\")","v":0},{"$f":"COUNTIFS('Daily Diary'!A:A,'Grafico Strategie Settimanali'!B148,'Daily Diary'!E:E,\"PUNTA SQ.OSPITE\")","v":0},{"$f":"COUNTIFS('Daily Diary'!A:A,'Grafico Strategie Settimanali'!B148,'Daily Diary'!E:E,\"BANCA SFAVORITA\")","v":0},{"$f":"COUNTIFS('Daily Diary'!A:A,'Grafico Strategie Settimanali'!B148,'Daily Diary'!E:E,\"PUNTA OVER\")","v":0},{"$f":"COUNTIFS('Daily Diary'!A:A,'Grafico Strategie Settimanali'!B148,'Daily Diary'!E:E,\"PUNTA UNDER\")","v":0},{"$f":"COUNTIFS('Daily Diary'!A:A,'Grafico Strategie Settimanali'!B148,'Daily Diary'!E:E,\"SCALPING\")","v":0},{"$f":"COUNTIFS('Daily Diary'!A:A,'Grafico Strategie Settimanali'!B148,'Daily Diary'!E:E,\"GT90\")","v":0},{"$f":"COUNTIFS('Daily Diary'!A:A,'Grafico Strategie Settimanali'!B148,'Daily Diary'!E:E,\"GT110\")","v":0},{"$f":"COUNTIFS('Daily Diary'!A:A,'Grafico Strategie Settimanali'!B148,'Daily Diary'!E:E,\"ALERT GOAL\")","v":0},{"$f":"COUNTIFS('Daily Diary'!A:A,'Grafico Strategie Settimanali'!B148,'Daily Diary'!E:E,\"DRAW NO BET\")","v":0},{"$f":"COUNTIFS('Daily Diary'!A:A,'Grafico Strategie Settimanali'!B148,'Daily Diary'!E:E,\"ALTRO\")","v":0},{"$f":"COUNTIFS('Daily Diary'!A:A,'Grafico Strategie Settimanali'!B148,'Daily Diary'!E:E,\"BANCA PAREGGIO\",'Daily Diary'!E:E,\"BANCA PAREGGIO\",'Daily Diary'!K:K,\"WIN\")","v":0},{"$f":"COUNTIFS('Daily Diary'!A:A,'Grafico Strategie Settimanali'!B148,'Daily Diary'!E:E,\"PUNTA SQ.CASA\",'Daily Diary'!E:E,\"PUNTA SQ.CASA\",'Daily Diary'!K:K,\"WIN\")","v":0},{"$f":"COUNTIFS('Daily Diary'!A:A,'Grafico Strategie Settimanali'!B148,'Daily Diary'!E:E,\"PUNTA SQ.OSPITE\",'Daily Diary'!E:E,\"PUNTA SQ.OSPITE\",'Daily Diary'!K:K,\"WIN\")","v":0},{"$f":"COUNTIFS('Daily Diary'!A:A,'Grafico Strategie Settimanali'!B148,'Daily Diary'!E:E,\"BANCA SFAVORITA\",'Daily Diary'!E:E,\"BANCA SFAVORITA\",'Daily Diary'!K:K,\"WIN\")","v":0},{"$f":"COUNTIFS('Daily Diary'!A:A,'Grafico Strategie Settimanali'!B148,'Daily Diary'!E:E,\"PUNTA OVER\",'Daily Diary'!E:E,\"PUNTA OVER\",'Daily Diary'!K:K,\"WIN\")","v":0},{"$f":"COUNTIFS('Daily Diary'!A:A,'Grafico Strategie Settimanali'!B148,'Daily Diary'!E:E,\"PUNTA UNDER\",'Daily Diary'!E:E,\"PUNTA UNDER\",'Daily Diary'!K:K,\"WIN\")","v":0},{"$f":"COUNTIFS('Daily Diary'!A:A,'Grafico Strategie Settimanali'!B148,'Daily Diary'!E:E,\"SCALPING\",'Daily Diary'!E:E,\"SCALPING\",'Daily Diary'!K:K,\"WIN\")","v":0},{"$f":"COUNTIFS('Daily Diary'!A:A,'Grafico Strategie Settimanali'!B148,'Daily Diary'!E:E,\"GT 90\",'Daily Diary'!E:E,\"GT 90\",'Daily Diary'!K:K,\"WIN\")","v":0},{"$f":"COUNTIFS('Daily Diary'!A:A,'Grafico Strategie Settimanali'!B148,'Daily Diary'!E:E,\"GT 110\",'Daily Diary'!E:E,\"GT 110\",'Daily Diary'!K:K,\"WIN\")","v":0},{"$f":"COUNTIFS('Daily Diary'!A:A,'Grafico Strategie Settimanali'!B148,'Daily Diary'!E:E,\"ALERT GOAL\",'Daily Diary'!E:E,\"ALERT GOAL\",'Daily Diary'!K:K,\"WIN\")","v":0},{"$f":"COUNTIFS('Daily Diary'!A:A,'Grafico Strategie Settimanali'!B148,'Daily Diary'!E:E,\"DRAW NO BET\",'Daily Diary'!E:E,\"DRAW NO BET\",'Daily Diary'!K:K,\"WIN\")","v":0},{"$f":"COUNTIFS('Daily Diary'!A:A,'Grafico Strategie Settimanali'!B148,'Daily Diary'!E:E,\"ALTRO\",'Daily Diary'!E:E,\"ALTRO\",'Daily Diary'!K:K,\"WIN\")","v":0},{"$error":"#DIV/0!"},{"$error":"#DIV/0!"},{"$error":"#DIV/0!"},{"$error":"#DIV/0!"},{"$error":"#DIV/0!"},{"$error":"#DIV/0!"},{"$error":"#DIV/0!"},{"$error":"#DIV/0!"},{"$error":"#DIV/0!"},{"$error":"#DIV/0!"},{"$error":"#DIV/0!"},{"$error":"#DIV/0!"}]
[0,"2023-09-28",{"$f":"COUNTIFS('Daily Diary'!A:A,'Grafico Strategie Settimanali'!B149,'Daily Diary'!E:E,\"BANCA PAREGGIO\")","v":0},{"$f":"COUNTIFS('Daily Diary'!A:A,'Grafico Strategie Settimanali'!B149,'Daily Diary'!E:E,\"PUNTA SQ.CASA\")","v":0},{"$f":"COUNTIFS('Daily Diary'!A:A,'Grafico Strategie Settimanali'!B149,'Daily Diary'!E:E,\"PUNTA SQ.OSPITE\")","v":0},{"$f":"COUNTIFS('Daily Diary'!A:A,'Grafico Strategie Settimanali'!B149,'Daily Diary'!E:E,\"BANCA SFAVORITA\")","v":0},{"$f":"COUNTIFS('Daily Diary'!A:A,'Grafico Strategie Settimanali'!B149,'Daily Diary'!E:E,\"PUNTA OVER\")","v":0},{"$f":"COUNTIFS('Daily Diary'!A:A,'Grafico Strategie Settimanali'!B149,'Daily Diary'!E:E,\"PUNTA UNDER\")","v":0},{"$f":"COUNTIFS('Daily Diary'!A:A,'Grafico Strategie Settimanali'!B149,'Daily Diary'!E:E,\"SCALPING\")","v":0},{"$f":"COUNTIFS('Daily Diary'!A:A,'Grafico Strategie Settimanali'!B149,'Daily Diary'!E:E,\"GT90\")","v":0},{"$f":"COUNTIFS('Daily Diary'!A:A,'Grafico Strategie Settimanali'!B149,'Daily Diary'!E:E,\"GT110\")","v":0},{"$f":"COUNTIFS('Daily Diary'!A:A,'Grafico Strategie Settimanali'!B149,'Daily Diary'!E:E,\"ALERT GOAL\")","v":0},{"$f":"COUNTIFS('Daily Diary'!A:A,'Grafico Strategie Settimanali'!B149,'Daily Diary'!E:E,\"DRAW NO BET\")","v":0},{"$f":"COUNTIFS('Daily Diary'!A:A,'Grafico Strategie Settimanali'!B149,'Daily Diary'!E:E,\"ALTRO\")","v":0},{"$f":"COUNTIFS('Daily Diary'!A:A,'Grafico Strategie Settimanali'!B149,'Daily Diary'!E:E,\"BANCA PAREGGIO\",'Daily Diary'!E:E,\"BANCA PAREGGIO\",'Daily Diary'!K:K,\"WIN\")","v":0},{"$f":"COUNTIFS('Daily Diary'!A:A,'Grafico Strategie Settimanali'!B149,'Daily Diary'!E:E,\"PUNTA SQ.CASA\",'Daily Diary'!E:E,\"PUNTA SQ.CASA\",'Daily Diary'!K:K,\"WIN\")","v":0},{"$f":"COUNTIFS('Daily Diary'!A:A,'Grafico Strategie Settimanali'!B149,'Daily Diary'!E:E,\"PUNTA SQ.OSPITE\",'Daily Diary'!E:E,\"PUNTA SQ.OSPITE\",'Daily Diary'!K:K,\"WIN\")","v":0},{"$f":"COUNTIFS('Daily Diary'!A:A,'Grafico Strategie Settimanali'!B149,'Daily Diary'!E:E,\"BANCA SFAVORITA\",'Daily Diary'!E:E,\"BANCA SFAVORITA\",'Daily Diary'!K:K,\"WIN\")","v":0},{"$f":"COUNTIFS('Daily Diary'!A:A,'Grafico Strategie Settimanali'!B149,'Daily Diary'!E:E,\"PUNTA OVER\",'Daily Diary'!E:E,\"PUNTA OVER\",'Daily Diary'!K:K,\"WIN\")","v":0},{"$f":"COUNTIFS('Daily Diary'!A:A,'Grafico Strategie Settimanali'!B149,'Daily Diary'!E:E,\"PUNTA UNDER\",'Daily Diary'!E:E,\"PUNTA UNDER\",'Daily Diary'!K:K,\"WIN\")","v":0},{"$f":"COUNTIFS('Daily Diary'!A:A,'Grafico Strategie Settimanali'!B149,'Daily Diary'!E:E,\"SCALPING\",'Daily Diary'!E:E,\"SCALPING\",'Daily Diary'!K:K,\"WIN\")","v":0},{"$f":"COUNTIFS('Daily Diary'!A:A,'Grafico Strategie Settimanali'!B149,'Daily Diary'!E:E,\"GT 90\",'Daily Diary'!E:E,\"GT 90\",'Daily Diary'!K:K,\"WIN\")","v":0},{"$f":"COUNTIFS('Daily Diary'!A:A,'Grafico Strategie Settimanali'!B149,'Daily Diary'!E:E,\"GT 110\",'Daily Diary'!E:E,\"GT 110\",'Daily Diary'!K:K,\"WIN\")","v":0},{"$f":"COUNTIFS('Daily Diary'!A:A,'Grafico Strategie Settimanali'!B149,'Daily Diary'!E:E,\"ALERT GOAL\",'Daily Diary'!E:E,\"ALERT GOAL\",'Daily Diary'!K:K,\"WIN\")","v":0},{"$f":"COUNTIFS('Daily Diary'!A:A,'Grafico Strategie Settimanali'!B149,'Daily Diary'!E:E,\"DRAW NO BET\",'Daily Diary'!E:E,\"DRAW NO BET\",'Daily Diary'!K:K,\"WIN\")","v":0},{"$f":"COUNTIFS('Daily Diary'!A:A,'Grafico Strategie Settimanali'!B149,'Daily Diary'!E:E,\"ALTRO\",'Daily Diary'!E:E,\"ALTRO\",'Daily Diary'!K:K,\"WIN\")","v":0},{"$error":"#DIV/0!"},{"$error":"#DIV/0!"},{"$error":"#DIV/0!"},{"$error":"#DIV/0!"},{"$error":"#DIV/0!"},{"$error":"#DIV/0!"},{"$error":"#DIV/0!"},{"$error":"#DIV/0!"},{"$error":"#DIV/0!"},{"$error":"#DIV/0!"},{"$error":"#DIV/0!"},{"$error":"#DIV/0!"}]
[0,"2023-09-29",{"$f":"COUNTIFS('Daily Diary'!A:A,'Grafico Strategie Settimanali'!B150,'Daily Diary'!E:E,\"BANCA PAREGGIO\")","v":0},{"$f":"COUNTIFS('Daily Diary'!A:A,'Grafico Strategie Settimanali'!B150,'Daily Diary'!E:E,\"PUNTA SQ.CASA\")","v":0},{"$f":"COUNTIFS('Daily Diary'!A:A,'Grafico Strategie Settimanali'!B150,'Daily Diary'!E:E,\"PUNTA SQ.OSPITE\")","v":0},{"$f":"COUNTIFS('Daily Diary'!A:A,'Grafico Strategie Settimanali'!B150,'Daily Diary'!E:E,\"BANCA SFAVORITA\")","v":0},{"$f":"COUNTIFS('Daily Diary'!A:A,'Grafico Strategie Settimanali'!B150,'Daily Diary'!E:E,\"PUNTA OVER\")","v":0},{"$f":"COUNTIFS('Daily Diary'!A:A,'Grafico Strategie Settimanali'!B150,'Daily Diary'!E:E,\"PUNTA UNDER\")","v":0},{"$f":"COUNTIFS('Daily Diary'!A:A,'Grafico Strategie Settimanali'!B150,'Daily Diary'!E:E,\"SCALPING\")","v":0},{"$f":"COUNTIFS('Daily Diary'!A:A,'Grafico Strategie Settimanali'!B150,'Daily Diary'!E:E,\"GT90\")","v":0},{"$f":"COUNTIFS('Daily Diary'!A:A,'Grafico Strategie Settimanali'!B150,'Daily Diary'!E:E,\"GT110\")","v":0},{"$f":"COUNTIFS('Daily Diary'!A:A,'Grafico Strategie Settimanali'!B150,'Daily Diary'!E:E,\"ALERT GOAL\")","v":0},{"$f":"COUNTIFS('Daily Diary'!A:A,'Grafico Strategie Settimanali'!B150,'Daily Diary'!E:E,\"DRAW NO BET\")","v":0},{"$f":"COUNTIFS('Daily Diary'!A:A,'Grafico Strategie Settimanali'!B150,'Daily Diary'!E:E,\"ALTRO\")","v":0},{"$f":"COUNTIFS('Daily Diary'!A:A,'Grafico Strategie Settimanali'!B150,'Daily Diary'!E:E,\"BANCA PAREGGIO\",'Daily Diary'!E:E,\"BANCA PAREGGIO\",'Daily Diary'!K:K,\"WIN\")","v":0},{"$f":"COUNTIFS('Daily Diary'!A:A,'Grafico Strategie Settimanali'!B150,'Daily Diary'!E:E,\"PUNTA SQ.CASA\",'Daily Diary'!E:E,\"PUNTA SQ.CASA\",'Daily Diary'!K:K,\"WIN\")","v":0},{"$f":"COUNTIFS('Daily Diary'!A:A,'Grafico Strategie Settimanali'!B150,'Daily Diary'!E:E,\"PUNTA SQ.OSPITE\",'Daily Diary'!E:E,\"PUNTA SQ.OSPITE\",'Daily Diary'!K:K,\"WIN\")","v":0},{"$f":"COUNTIFS('Daily Diary'!A:A,'Grafico Strategie Settimanali'!B150,'Daily Diary'!E:E,\"BANCA SFAVORITA\",'Daily Diary'!E:E,\"BANCA SFAVORITA\",'Daily Diary'!K:K,\"WIN\")","v":0},{"$f":"COUNTIFS('Daily Diary'!A:A,'Grafico Strategie Settimanali'!B150,'Daily Diary'!E:E,\"PUNTA OVER\",'Daily Diary'!E:E,\"PUNTA OVER\",'Daily Diary'!K:K,\"WIN\")","v":0},{"$f":"COUNTIFS('Daily Diary'!A:A,'Grafico Strategie Settimanali'!B150,'Daily Diary'!E:E,\"PUNTA UNDER\",'Daily Diary'!E:E,\"PUNTA UNDER\",'Daily Diary'!K:K,\"WIN\")","v":0},{"$f":"COUNTIFS('Daily Diary'!A:A,'Grafico Strategie Settimanali'!B150,'Daily Diary'!E:E,\"SCALPING\",'Daily Diary'!E:E,\"SCALPING\",'Daily Diary'!K:K,\"WIN\")","v":0},{"$f":"COUNTIFS('Daily Diary'!A:A,'Grafico Strategie Settimanali'!B150,'Daily Diary'!E:E,\"GT 90\",'Daily Diary'!E:E,\"GT 90\",'Daily Diary'!K:K,\"WIN\")","v":0},{"$f":"COUNTIFS('Daily Diary'!A:A,'Grafico Strategie Settimanali'!B150,'Daily Diary'!E:E,\"GT 110\",'Daily Diary'!E:E,\"GT 110\",'Daily Diary'!K:K,\"WIN\")","v":0},{"$f":"COUNTIFS('Daily Diary'!A:A,'Grafico Strategie Settimanali'!B150,'Daily Diary'!E:E,\"ALERT GOAL\",'Daily Diary'!E:E,\"ALERT GOAL\",'Daily Diary'!K:K,\"WIN\")","v":0},{"$f":"COUNTIFS('Daily Diary'!A:A,'Grafico Strategie Settimanali'!B150,'Daily Diary'!E:E,\"DRAW NO BET\",'Daily Diary'!E:E,\"DRAW NO BET\",'Daily Diary'!K:K,\"WIN\")","v":0},{"$f":"COUNTIFS('Daily Diary'!A:A,'Grafico Strategie Settimanali'!B150,'Daily Diary'!E:E,\"ALTRO\",'Daily Diary'!E:E,\"ALTRO\",'Daily Diary'!K:K,\"WIN\")","v":0},{"$error":"#DIV/0!"},{"$error":"#DIV/0!"},{"$error":"#DIV/0!"},{"$error":"#DIV/0!"},{"$error":"#DIV/0!"},{"$error":"#DIV/0!"},{"$error":"#DIV/0!"},{"$error":"#DIV/0!"},{"$error":"#DIV/0!"},{"$error":"#DIV/0!"},{"$error":"#DIV/0!"},{"$error":"#DIV/0!"}]
[0,"2023-09-30",{"$f":"COUNTIFS('Daily Diary'!A:A,'Grafico Strategie Settimanali'!B151,'Daily Diary'!E:E,\"BANCA PAREGGIO\")","v":0},{"$f":"COUNTIFS('Daily Diary'!A:A,'Grafico Strategie Settimanali'!B151,'Daily Diary'!E:E,\"PUNTA SQ.CASA\")","v":0},{"$f":"COUNTIFS('Daily Diary'!A:A,'Grafico Strategie Settimanali'!B151,'Daily Diary'!E:E,\"PUNTA SQ.OSPITE\")","v":0},{"$f":"COUNTIFS('Daily Diary'!A:A,'Grafico Strategie Settimanali'!B151,'Daily Diary'!E:E,\"BANCA SFAVORITA\")","v":0},{"$f":"COUNTIFS('Daily Diary'!A:A,'Grafico Strategie Settimanali'!B151,'Daily Diary'!E:E,\"PUNTA OVER\")","v":0},{"$f":"COUNTIFS('Daily Diary'!A:A,'Grafico Strategie Settimanali'!B151,'Daily Diary'!E:E,\"PUNTA UNDER\")","v":0},{"$f":"COUNTIFS('Daily Diary'!A:A,'Grafico Strategie Settimanali'!B151,'Daily Diary'!E:E,\"SCALPING\")","v":0},{"$f":"COUNTIFS('Daily Diary'!A:A,'Grafico Strategie Settimanali'!B151,'Daily Diary'!E:E,\"GT90\")","v":0},{"$f":"COUNTIFS('Daily Diary'!A:A,'Grafico Strategie Settimanali'!B151,'Daily Diary'!E:E,\"GT110\")","v":0},{"$f":"COUNTIFS('Daily Diary'!A:A,'Grafico Strategie Settimanali'!B151,'Daily Diary'!E:E,\"ALERT GOAL\")","v":0},{"$f":"COUNTIFS('Daily Diary'!A:A,'Grafico Strategie Settimanali'!B151,'Daily Diary'!E:E,\"DRAW NO BET\")","v":0},{"$f":"COUNTIFS('Daily Diary'!A:A,'Grafico Strategie Settimanali'!B151,'Daily Diary'!E:E,\"ALTRO\")","v":0},{"$f":"COUNTIFS('Daily Diary'!A:A,'Grafico Strategie Settimanali'!B151,'Daily Diary'!E:E,\"BANCA PAREGGIO\",'Daily Diary'!E:E,\"BANCA PAREGGIO\",'Daily Diary'!K:K,\"WIN\")","v":0},{"$f":"COUNTIFS('Daily Diary'!A:A,'Grafico Strategie Settimanali'!B151,'Daily Diary'!E:E,\"PUNTA SQ.CASA\",'Daily Diary'!E:E,\"PUNTA SQ.CASA\",'Daily Diary'!K:K,\"WIN\")","v":0},{"$f":"COUNTIFS('Daily Diary'!A:A,'Grafico Strategie Settimanali'!B151,'Daily Diary'!E:E,\"PUNTA SQ.OSPITE\",'Daily Diary'!E:E,\"PUNTA SQ.OSPITE\",'Daily Diary'!K:K,\"WIN\")","v":0},{"$f":"COUNTIFS('Daily Diary'!A:A,'Grafico Strategie Settimanali'!B151,'Daily Diary'!E:E,\"BANCA SFAVORITA\",'Daily Diary'!E:E,\"BANCA SFAVORITA\",'Daily Diary'!K:K,\"WIN\")","v":0},{"$f":"COUNTIFS('Daily Diary'!A:A,'Grafico Strategie Settimanali'!B151,'Daily Diary'!E:E,\"PUNTA OVER\",'Daily Diary'!E:E,\"PUNTA OVER\",'Daily Diary'!K:K,\"WIN\")","v":0},{"$f":"COUNTIFS('Daily Diary'!A:A,'Grafico Strategie Settimanali'!B151,'Daily Diary'!E:E,\"PUNTA UNDER\",'Daily Diary'!E:E,\"PUNTA UNDER\",'Daily Diary'!K:K,\"WIN\")","v":0},{"$f":"COUNTIFS('Daily Diary'!A:A,'Grafico Strategie Settimanali'!B151,'Daily Diary'!E:E,\"SCALPING\",'Daily Diary'!E:E,\"SCALPING\",'Daily Diary'!K:K,\"WIN\")","v":0},{"$f":"COUNTIFS('Daily Diary'!A:A,'Grafico Strategie Settimanali'!B151,'Daily Diary'!E:E,\"GT 90\",'Daily Diary'!E:E,\"GT 90\",'Daily Diary'!K:K,\"WIN\")","v":0},{"$f":"COUNTIFS('Daily Diary'!A:A,'Grafico Strategie Settimanali'!B151,'Daily Diary'!E:E,\"GT 110\",'Daily Diary'!E:E,\"GT 110\",'Daily Diary'!K:K,\"WIN\")","v":0},{"$f":"COUNTIFS('Daily Diary'!A:A,'Grafico Strategie Settimanali'!B151,'Daily Diary'!E:E,\"ALERT GOAL\",'Daily Diary'!E:E,\"ALERT GOAL\",'Daily Diary'!K:K,\"WIN\")","v":0},{"$f":"COUNTIFS('Daily Diary'!A:A,'Grafico Strategie Settimanali'!B151,'Daily Diary'!E:E,\"DRAW NO BET\",'Daily Diary'!E:E,\"DRAW NO BET\",'Daily Diary'!K:K,\"WIN\")","v":0},{"$f":"COUNTIFS('Daily Diary'!A:A,'Grafico Strategie Settimanali'!B151,'Daily Diary'!E:E,\"ALTRO\",'Daily Diary'!E:E,\"ALTRO\",'Daily Diary'!K:K,\"WIN\")","v":0},{"$error":"#DIV/0!"},{"$error":"#DIV/0!"},{"$error":"#DIV/0!"},{"$error":"#DIV/0!"},{"$error":"#DIV/0!"},{"$error":"#DIV/0!"},{"$error":"#DIV/0!"},{"$error":"#DIV/0!"},{"$error":"#DIV/0!"},{"$error":"#DIV/0!"},{"$error":"#DIV/0!"},{"$error":"#DIV/0!"}]
[0,"2023-10-01",{"$f":"COUNTIFS('Daily Diary'!A:A,'Grafico Strategie Settimanali'!B152,'Daily Diary'!E:E,\"BANCA PAREGGIO\")","v":0},{"$f":"COUNTIFS('Daily Diary'!A:A,'Grafico Strategie Settimanali'!B152,'Daily Diary'!E:E,\"PUNTA SQ.CASA\")","v":0},{"$f":"COUNTIFS('Daily Diary'!A:A,'Grafico Strategie Settimanali'!B152,'Daily Diary'!E:E,\"PUNTA SQ.OSPITE\")","v":0},{"$f":"COUNTIFS('Daily Diary'!A:A,'Grafico Strategie Settimanali'!B152,'Daily Diary'!E:E,\"BANCA SFAVORITA\")","v":0},{"$f":"COUNTIFS('Daily Diary'!A:A,'Grafico Strategie Settimanali'!B152,'Daily Diary'!E:E,\"PUNTA OVER\")","v":0},{"$f":"COUNTIFS('Daily Diary'!A:A,'Grafico Strategie Settimanali'!B152,'Daily Diary'!E:E,\"PUNTA UNDER\")","v":0},{"$f":"COUNTIFS('Daily Diary'!A:A,'Grafico Strategie Settimanali'!B152,'Daily Diary'!E:E,\"SCALPING\")","v":0},{"$f":"COUNTIFS('Daily Diary'!A:A,'Grafico Strategie Settimanali'!B152,'Daily Diary'!E:E,\"GT90\")","v":0},{"$f":"COUNTIFS('Daily Diary'!A:A,'Grafico Strategie Settimanali'!B152,'Daily Diary'!E:E,\"GT110\")","v":0},{"$f":"COUNTIFS('Daily Diary'!A:A,'Grafico Strategie Settimanali'!B152,'Daily Diary'!E:E,\"ALERT GOAL\")","v":0},{"$f":"COUNTIFS('Daily Diary'!A:A,'Grafico Strategie Settimanali'!B152,'Daily Diary'!E:E,\"DRAW NO BET\")","v":0},{"$f":"COUNTIFS('Daily Diary'!A:A,'Grafico Strategie Settimanali'!B152,'Daily Diary'!E:E,\"ALTRO\")","v":0},{"$f":"COUNTIFS('Daily Diary'!A:A,'Grafico Strategie Settimanali'!B152,'Daily Diary'!E:E,\"BANCA PAREGGIO\",'Daily Diary'!E:E,\"BANCA PAREGGIO\",'Daily Diary'!K:K,\"WIN\")","v":0},{"$f":"COUNTIFS('Daily Diary'!A:A,'Grafico Strategie Settimanali'!B152,'Daily Diary'!E:E,\"PUNTA SQ.CASA\",'Daily Diary'!E:E,\"PUNTA SQ.CASA\",'Daily Diary'!K:K,\"WIN\")","v":0},{"$f":"COUNTIFS('Daily Diary'!A:A,'Grafico Strategie Settimanali'!B152,'Daily Diary'!E:E,\"PUNTA SQ.OSPITE\",'Daily Diary'!E:E,\"PUNTA SQ.OSPITE\",'Daily Diary'!K:K,\"WIN\")","v":0},{"$f":"COUNTIFS('Daily Diary'!A:A,'Grafico Strategie Settimanali'!B152,'Daily Diary'!E:E,\"BANCA SFAVORITA\",'Daily Diary'!E:E,\"BANCA SFAVORITA\",'Daily Diary'!K:K,\"WIN\")","v":0},{"$f":"COUNTIFS('Daily Diary'!A:A,'Grafico Strategie Settimanali'!B152,'Daily Diary'!E:E,\"PUNTA OVER\",'Daily Diary'!E:E,\"PUNTA OVER\",'Daily Diary'!K:K,\"WIN\")","v":0},{"$f":"COUNTIFS('Daily Diary'!A:A,'Grafico Strategie Settimanali'!B152,'Daily Diary'!E:E,\"PUNTA UNDER\",'Daily Diary'!E:E,\"PUNTA UNDER\",'Daily Diary'!K:K,\"WIN\")","v":0},{"$f":"COUNTIFS('Daily Diary'!A:A,'Grafico Strategie Settimanali'!B152,'Daily Diary'!E:E,\"SCALPING\",'Daily Diary'!E:E,\"SCALPING\",'Daily Diary'!K:K,\"WIN\")","v":0},{"$f":"COUNTIFS('Daily Diary'!A:A,'Grafico Strategie Settimanali'!B152,'Daily Diary'!E:E,\"GT 90\",'Daily Diary'!E:E,\"GT 90\",'Daily Diary'!K:K,\"WIN\")","v":0},{"$f":"COUNTIFS('Daily Diary'!A:A,'Grafico Strategie Settimanali'!B152,'Daily Diary'!E:E,\"GT 110\",'Daily Diary'!E:E,\"GT 110\",'Daily Diary'!K:K,\"WIN\")","v":0},{"$f":"COUNTIFS('Daily Diary'!A:A,'Grafico Strategie Settimanali'!B152,'Daily Diary'!E:E,\"ALERT GOAL\",'Daily Diary'!E:E,\"ALERT GOAL\",'Daily Diary'!K:K,\"WIN\")","v":0},{"$f":"COUNTIFS('Daily Diary'!A:A,'Grafico Strategie Settimanali'!B152,'Daily Diary'!E:E,\"DRAW NO BET\",'Daily Diary'!E:E,\"DRAW NO BET\",'Daily Diary'!K:K,\"WIN\")","v":0},{"$f":"COUNTIFS('Daily Diary'!A:A,'Grafico Strategie Settimanali'!B152,'Daily Diary'!E:E,\"ALTRO\",'Daily Diary'!E:E,\"ALTRO\",'Daily Diary'!K:K,\"WIN\")","v":0},{"$error":"#DIV/0!"},{"$error":"#DIV/0!"},{"$error":"#DIV/0!"},{"$error":"#DIV/0!"},{"$error":"#DIV/0!"},{"$error":"#DIV/0!"},{"$error":"#DIV/0!"},{"$error":"#DIV/0!"},{"$error":"#DIV/0!"},{"$error":"#DIV/0!"},{"$error":"#DIV/0!"},{"$error":"#DIV/0!"}]
[0,"2023-10-02",{"$f":"COUNTIFS('Daily Diary'!A:A,'Grafico Strategie Settimanali'!B153,'Daily Diary'!E:E,\"BANCA PAREGGIO\")","v":0},{"$f":"COUNTIFS('Daily Diary'!A:A,'Grafico Strategie Settimanali'!B153,'Daily Diary'!E:E,\"PUNTA SQ.CASA\")","v":0},{"$f":"COUNTIFS('Daily Diary'!A:A,'Grafico Strategie Settimanali'!B153,'Daily Diary'!E:E,\"PUNTA SQ.OSPITE\")","v":0},{"$f":"COUNTIFS('Daily Diary'!A:A,'Grafico Strategie Settimanali'!B153,'Daily Diary'!E:E,\"BANCA SFAVORITA\")","v":0},{"$f":"COUNTIFS('Daily Diary'!A:A,'Grafico Strategie Settimanali'!B153,'Daily Diary'!E:E,\"PUNTA OVER\")","v":0},{"$f":"COUNTIFS('Daily Diary'!A:A,'Grafico Strategie Settimanali'!B153,'Daily Diary'!E:E,\"PUNTA UNDER\")","v":0},{"$f":"COUNTIFS('Daily Diary'!A:A,'Grafico Strategie Settimanali'!B153,'Daily Diary'!E:E,\"SCALPING\")","v":0},{"$f":"COUNTIFS('Daily Diary'!A:A,'Grafico Strategie Settimanali'!B153,'Daily Diary'!E:E,\"GT90\")","v":0},{"$f":"COUNTIFS('Daily Diary'!A:A,'Grafico Strategie Settimanali'!B153,'Daily Diary'!E:E,\"GT110\")","v":0},{"$f":"COUNTIFS('Daily Diary'!A:A,'Grafico Strategie Settimanali'!B153,'Daily Diary'!E:E,\"ALERT GOAL\")","v":0},{"$f":"COUNTIFS('Daily Diary'!A:A,'Grafico Strategie Settimanali'!B153,'Daily Diary'!E:E,\"DRAW NO BET\")","v":0},{"$f":"COUNTIFS('Daily Diary'!A:A,'Grafico Strategie Settimanali'!B153,'Daily Diary'!E:E,\"ALTRO\")","v":0},{"$f":"COUNTIFS('Daily Diary'!A:A,'Grafico Strategie Settimanali'!B153,'Daily Diary'!E:E,\"BANCA PAREGGIO\",'Daily Diary'!E:E,\"BANCA PAREGGIO\",'Daily Diary'!K:K,\"WIN\")","v":0},{"$f":"COUNTIFS('Daily Diary'!A:A,'Grafico Strategie Settimanali'!B153,'Daily Diary'!E:E,\"PUNTA SQ.CASA\",'Daily Diary'!E:E,\"PUNTA SQ.CASA\",'Daily Diary'!K:K,\"WIN\")","v":0},{"$f":"COUNTIFS('Daily Diary'!A:A,'Grafico Strategie Settimanali'!B153,'Daily Diary'!E:E,\"PUNTA SQ.OSPITE\",'Daily Diary'!E:E,\"PUNTA SQ.OSPITE\",'Daily Diary'!K:K,\"WIN\")","v":0},{"$f":"COUNTIFS('Daily Diary'!A:A,'Grafico Strategie Settimanali'!B153,'Daily Diary'!E:E,\"BANCA SFAVORITA\",'Daily Diary'!E:E,\"BANCA SFAVORITA\",'Daily Diary'!K:K,\"WIN\")","v":0},{"$f":"COUNTIFS('Daily Diary'!A:A,'Grafico Strategie Settimanali'!B153,'Daily Diary'!E:E,\"PUNTA OVER\",'Daily Diary'!E:E,\"PUNTA OVER\",'Daily Diary'!K:K,\"WIN\")","v":0},{"$f":"COUNTIFS('Daily Diary'!A:A,'Grafico Strategie Settimanali'!B153,'Daily Diary'!E:E,\"PUNTA UNDER\",'Daily Diary'!E:E,\"PUNTA UNDER\",'Daily Diary'!K:K,\"WIN\")","v":0},{"$f":"COUNTIFS('Daily Diary'!A:A,'Grafico Strategie Settimanali'!B153,'Daily Diary'!E:E,\"SCALPING\",'Daily Diary'!E:E,\"SCALPING\",'Daily Diary'!K:K,\"WIN\")","v":0},{"$f":"COUNTIFS('Daily Diary'!A:A,'Grafico Strategie Settimanali'!B153,'Daily Diary'!E:E,\"GT 90\",'Daily Diary'!E:E,\"GT 90\",'Daily Diary'!K:K,\"WIN\")","v":0},{"$f":"COUNTIFS('Daily Diary'!A:A,'Grafico Strategie Settimanali'!B153,'Daily Diary'!E:E,\"GT 110\",'Daily Diary'!E:E,\"GT 110\",'Daily Diary'!K:K,\"WIN\")","v":0},{"$f":"COUNTIFS('Daily Diary'!A:A,'Grafico Strategie Settimanali'!B153,'Daily Diary'!E:E,\"ALERT GOAL\",'Daily Diary'!E:E,\"ALERT GOAL\",'Daily Diary'!K:K,\"WIN\")","v":0},{"$f":"COUNTIFS('Daily Diary'!A:A,'Grafico Strategie Settimanali'!B153,'Daily Diary'!E:E,\"DRAW NO BET\",'Daily Diary'!E:E,\"DRAW NO BET\",'Daily Diary'!K:K,\"WIN\")","v":0},{"$f":"COUNTIFS('Daily Diary'!A:A,'Grafico Strategie Settimanali'!B153,'Daily Diary'!E:E,\"ALTRO\",'Daily Diary'!E:E,\"ALTRO\",'Daily Diary'!K:K,\"WIN\")","v":0},{"$error":"#DIV/0!"},{"$error":"#DIV/0!"},{"$error":"#DIV/0!"},{"$error":"#DIV/0!"},{"$error":"#DIV/0!"},{"$error":"#DIV/0!"},{"$error":"#DIV/0!"},{"$error":"#DIV/0!"},{"$error":"#DIV/0!"},{"$error":"#DIV/0!"},{"$error":"#DIV/0!"},{"$error":"#DIV/0!"}]
[0,"2023-10-03",{"$f":"COUNTIFS('Daily Diary'!A:A,'Grafico Strategie Settimanali'!B154,'Daily Diary'!E:E,\"BANCA PAREGGIO\")","v":0},{"$f":"COUNTIFS('Daily Diary'!A:A,'Grafico Strategie Settimanali'!B154,'Daily Diary'!E:E,\"PUNTA SQ.CASA\")","v":0},{"$f":"COUNTIFS('Daily Diary'!A:A,'Grafico Strategie Settimanali'!B154,'Daily Diary'!E:E,\"PUNTA SQ.OSPITE\")","v":0},{"$f":"COUNTIFS('Daily Diary'!A:A,'Grafico Strategie Settimanali'!B154,'Daily Diary'!E:E,\"BANCA SFAVORITA\")","v":0},{"$f":"COUNTIFS('Daily Diary'!A:A,'Grafico Strategie Settimanali'!B154,'Daily Diary'!E:E,\"PUNTA OVER\")","v":0},{"$f":"COUNTIFS('Daily Diary'!A:A,'Grafico Strategie Settimanali'!B154,'Daily Diary'!E:E,\"PUNTA UNDER\")","v":0},{"$f":"COUNTIFS('Daily Diary'!A:A,'Grafico Strategie Settimanali'!B154,'Daily Diary'!E:E,\"SCALPING\")","v":0},{"$f":"COUNTIFS('Daily Diary'!A:A,'Grafico Strategie Settimanali'!B154,'Daily Diary'!E:E,\"GT90\")","v":0},{"$f":"COUNTIFS('Daily Diary'!A:A,'Grafico Strategie Settimanali'!B154,'Daily Diary'!E:E,\"GT110\")","v":0},{"$f":"COUNTIFS('Daily Diary'!A:A,'Grafico Strategie Settimanali'!B154,'Daily Diary'!E:E,\"ALERT GOAL\")","v":0},{"$f":"COUNTIFS('Daily Diary'!A:A,'Grafico Strategie Settimanali'!B154,'Daily Diary'!E:E,\"DRAW NO BET\")","v":0},{"$f":"COUNTIFS('Daily Diary'!A:A,'Grafico Strategie Settimanali'!B154,'Daily Diary'!E:E,\"ALTRO\")","v":0},{"$f":"COUNTIFS('Daily Diary'!A:A,'Grafico Strategie Settimanali'!B154,'Daily Diary'!E:E,\"BANCA PAREGGIO\",'Daily Diary'!E:E,\"BANCA PAREGGIO\",'Daily Diary'!K:K,\"WIN\")","v":0},{"$f":"COUNTIFS('Daily Diary'!A:A,'Grafico Strategie Settimanali'!B154,'Daily Diary'!E:E,\"PUNTA SQ.CASA\",'Daily Diary'!E:E,\"PUNTA SQ.CASA\",'Daily Diary'!K:K,\"WIN\")","v":0},{"$f":"COUNTIFS('Daily Diary'!A:A,'Grafico Strategie Settimanali'!B154,'Daily Diary'!E:E,\"PUNTA SQ.OSPITE\",'Daily Diary'!E:E,\"PUNTA SQ.OSPITE\",'Daily Diary'!K:K,\"WIN\")","v":0},{"$f":"COUNTIFS('Daily Diary'!A:A,'Grafico Strategie Settimanali'!B154,'Daily Diary'!E:E,\"BANCA SFAVORITA\",'Daily Diary'!E:E,\"BANCA SFAVORITA\",'Daily Diary'!K:K,\"WIN\")","v":0},{"$f":"COUNTIFS('Daily Diary'!A:A,'Grafico Strategie Settimanali'!B154,'Daily Diary'!E:E,\"PUNTA OVER\",'Daily Diary'!E:E,\"PUNTA OVER\",'Daily Diary'!K:K,\"WIN\")","v":0},{"$f":"COUNTIFS('Daily Diary'!A:A,'Grafico Strategie Settimanali'!B154,'Daily Diary'!E:E,\"PUNTA UNDER\",'Daily Diary'!E:E,\"PUNTA UNDER\",'Daily Diary'!K:K,\"WIN\")","v":0},{"$f":"COUNTIFS('Daily Diary'!A:A,'Grafico Strategie Settimanali'!B154,'Daily Diary'!E:E,\"SCALPING\",'Daily Diary'!E:E,\"SCALPING\",'Daily Diary'!K:K,\"WIN\")","v":0},{"$f":"COUNTIFS('Daily Diary'!A:A,'Grafico Strategie Settimanali'!B154,'Daily Diary'!E:E,\"GT 90\",'Daily Diary'!E:E,\"GT 90\",'Daily Diary'!K:K,\"WIN\")","v":0},{"$f":"COUNTIFS('Daily Diary'!A:A,'Grafico Strategie Settimanali'!B154,'Daily Diary'!E:E,\"GT 110\",'Daily Diary'!E:E,\"GT 110\",'Daily Diary'!K:K,\"WIN\")","v":0},{"$f":"COUNTIFS('Daily Diary'!A:A,'Grafico Strategie Settimanali'!B154,'Daily Diary'!E:E,\"ALERT GOAL\",'Daily Diary'!E:E,\"ALERT GOAL\",'Daily Diary'!K:K,\"WIN\")","v":0},{"$f":"COUNTIFS('Daily Diary'!A:A,'Grafico Strategie Settimanali'!B154,'Daily Diary'!E:E,\"DRAW NO BET\",'Daily Diary'!E:E,\"DRAW NO BET\",'Daily Diary'!K:K,\"WIN\")","v":0},{"$f":"COUNTIFS('Daily Diary'!A:A,'Grafico Strategie Settimanali'!B154,'Daily Diary'!E:E,\"ALTRO\",'Daily Diary'!E:E,\"ALTRO\",'Daily Diary'!K:K,\"WIN\")","v":0},{"$error":"#DIV/0!"},{"$error":"#DIV/0!"},{"$error":"#DIV/0!"},{"$error":"#DIV/0!"},{"$error":"#DIV/0!"},{"$error":"#DIV/0!"},{"$error":"#DIV/0!"},{"$error":"#DIV/0!"},{"$error":"#DIV/0!"},{"$error":"#DIV/0!"},{"$error":"#DIV/0!"},{"$error":"#DIV/0!"}]
[0,"2023-10-04",{"$f":"COUNTIFS('Daily Diary'!A:A,'Grafico Strategie Settimanali'!B155,'Daily Diary'!E:E,\"BANCA PAREGGIO\")","v":0},{"$f":"COUNTIFS('Daily Diary'!A:A,'Grafico Strategie Settimanali'!B155,'Daily Diary'!E:E,\"PUNTA SQ.CASA\")","v":0},{"$f":"COUNTIFS('Daily Diary'!A:A,'Grafico Strategie Settimanali'!B155,'Daily Diary'!E:E,\"PUNTA SQ.OSPITE\")","v":0},{"$f":"COUNTIFS('Daily Diary'!A:A,'Grafico Strategie Settimanali'!B155,'Daily Diary'!E:E,\"BANCA SFAVORITA\")","v":0},{"$f":"COUNTIFS('Daily Diary'!A:A,'Grafico Strategie Settimanali'!B155,'Daily Diary'!E:E,\"PUNTA OVER\")","v":0},{"$f":"COUNTIFS('Daily Diary'!A:A,'Grafico Strategie Settimanali'!B155,'Daily Diary'!E:E,\"PUNTA UNDER\")","v":0},{"$f":"COUNTIFS('Daily Diary'!A:A,'Grafico Strategie Settimanali'!B155,'Daily Diary'!E:E,\"SCALPING\")","v":0},{"$f":"COUNTIFS('Daily Diary'!A:A,'Grafico Strategie Settimanali'!B155,'Daily Diary'!E:E,\"GT90\")","v":0},{"$f":"COUNTIFS('Daily Diary'!A:A,'Grafico Strategie Settimanali'!B155,'Daily Diary'!E:E,\"GT110\")","v":0},{"$f":"COUNTIFS('Daily Diary'!A:A,'Grafico Strategie Settimanali'!B155,'Daily Diary'!E:E,\"ALERT GOAL\")","v":0},{"$f":"COUNTIFS('Daily Diary'!A:A,'Grafico Strategie Settimanali'!B155,'Daily Diary'!E:E,\"DRAW NO BET\")","v":0},{"$f":"COUNTIFS('Daily Diary'!A:A,'Grafico Strategie Settimanali'!B155,'Daily Diary'!E:E,\"ALTRO\")","v":0},{"$f":"COUNTIFS('Daily Diary'!A:A,'Grafico Strategie Settimanali'!B155,'Daily Diary'!E:E,\"BANCA PAREGGIO\",'Daily Diary'!E:E,\"BANCA PAREGGIO\",'Daily Diary'!K:K,\"WIN\")","v":0},{"$f":"COUNTIFS('Daily Diary'!A:A,'Grafico Strategie Settimanali'!B155,'Daily Diary'!E:E,\"PUNTA SQ.CASA\",'Daily Diary'!E:E,\"PUNTA SQ.CASA\",'Daily Diary'!K:K,\"WIN\")","v":0},{"$f":"COUNTIFS('Daily Diary'!A:A,'Grafico Strategie Settimanali'!B155,'Daily Diary'!E:E,\"PUNTA SQ.OSPITE\",'Daily Diary'!E:E,\"PUNTA SQ.OSPITE\",'Daily Diary'!K:K,\"WIN\")","v":0},{"$f":"COUNTIFS('Daily Diary'!A:A,'Grafico Strategie Settimanali'!B155,'Daily Diary'!E:E,\"BANCA SFAVORITA\",'Daily Diary'!E:E,\"BANCA SFAVORITA\",'Daily Diary'!K:K,\"WIN\")","v":0},{"$f":"COUNTIFS('Daily Diary'!A:A,'Grafico Strategie Settimanali'!B155,'Daily Diary'!E:E,\"PUNTA OVER\",'Daily Diary'!E:E,\"PUNTA OVER\",'Daily Diary'!K:K,\"WIN\")","v":0},{"$f":"COUNTIFS('Daily Diary'!A:A,'Grafico Strategie Settimanali'!B155,'Daily Diary'!E:E,\"PUNTA UNDER\",'Daily Diary'!E:E,\"PUNTA UNDER\",'Daily Diary'!K:K,\"WIN\")","v":0},{"$f":"COUNTIFS('Daily Diary'!A:A,'Grafico Strategie Settimanali'!B155,'Daily Diary'!E:E,\"SCALPING\",'Daily Diary'!E:E,\"SCALPING\",'Daily Diary'!K:K,\"WIN\")","v":0},{"$f":"COUNTIFS('Daily Diary'!A:A,'Grafico Strategie Settimanali'!B155,'Daily Diary'!E:E,\"GT 90\",'Daily Diary'!E:E,\"GT 90\",'Daily Diary'!K:K,\"WIN\")","v":0},{"$f":"COUNTIFS('Daily Diary'!A:A,'Grafico Strategie Settimanali'!B155,'Daily Diary'!E:E,\"GT 110\",'Daily Diary'!E:E,\"GT 110\",'Daily Diary'!K:K,\"WIN\")","v":0},{"$f":"COUNTIFS('Daily Diary'!A:A,'Grafico Strategie Settimanali'!B155,'Daily Diary'!E:E,\"ALERT GOAL\",'Daily Diary'!E:E,\"ALERT GOAL\",'Daily Diary'!K:K,\"WIN\")","v":0},{"$f":"COUNTIFS('Daily Diary'!A:A,'Grafico Strategie Settimanali'!B155,'Daily Diary'!E:E,\"DRAW NO BET\",'Daily Diary'!E:E,\"DRAW NO BET\",'Daily Diary'!K:K,\"WIN\")","v":0},{"$f":"COUNTIFS('Daily Diary'!A:A,'Grafico Strategie Settimanali'!B155,'Daily Diary'!E:E,\"ALTRO\",'Daily Diary'!E:E,\"ALTRO\",'Daily Diary'!K:K,\"WIN\")","v":0},{"$error":"#DIV/0!"},{"$error":"#DIV/0!"},{"$error":"#DIV/0!"},{"$error":"#DIV/0!"},{"$error":"#DIV/0!"},{"$error":"#DIV/0!"},{"$error":"#DIV/0!"},{"$error":"#DIV/0!"},{"$error":"#DIV/0!"},{"$error":"#DIV/0!"},{"$error":"#DIV/0!"},{"$error":"#DIV/0!"}]
[0,"2023-10-05",{"$f":"COUNTIFS('Daily Diary'!A:A,'Grafico Strategie Settimanali'!B156,'Daily Diary'!E:E,\"BANCA PAREGGIO\")","v":0},{"$f":"COUNTIFS('Daily Diary'!A:A,'Grafico Strategie Settimanali'!B156,'Daily Diary'!E:E,\"PUNTA SQ.CASA\")","v":0},{"$f":"COUNTIFS('Daily Diary'!A:A,'Grafico Strategie Settimanali'!B156,'Daily Diary'!E:E,\"PUNTA SQ.OSPITE\")","v":0},{"$f":"COUNTIFS('Daily Diary'!A:A,'Grafico Strategie Settimanali'!B156,'Daily Diary'!E:E,\"BANCA SFAVORITA\")","v":0},{"$f":"COUNTIFS('Daily Diary'!A:A,'Grafico Strategie Settimanali'!B156,'Daily Diary'!E:E,\"PUNTA OVER\")","v":0},{"$f":"COUNTIFS('Daily Diary'!A:A,'Grafico Strategie Settimanali'!B156,'Daily Diary'!E:E,\"PUNTA UNDER\")","v":0},{"$f":"COUNTIFS('Daily Diary'!A:A,'Grafico Strategie Settimanali'!B156,'Daily Diary'!E:E,\"SCALPING\")","v":0},{"$f":"COUNTIFS('Daily Diary'!A:A,'Grafico Strategie Settimanali'!B156,'Daily Diary'!E:E,\"GT90\")","v":0},{"$f":"COUNTIFS('Daily Diary'!A:A,'Grafico Strategie Settimanali'!B156,'Daily Diary'!E:E,\"GT110\")","v":0},{"$f":"COUNTIFS('Daily Diary'!A:A,'Grafico Strategie Settimanali'!B156,'Daily Diary'!E:E,\"ALERT GOAL\")","v":0},{"$f":"COUNTIFS('Daily Diary'!A:A,'Grafico Strategie Settimanali'!B156,'Daily Diary'!E:E,\"DRAW NO BET\")","v":0},{"$f":"COUNTIFS('Daily Diary'!A:A,'Grafico Strategie Settimanali'!B156,'Daily Diary'!E:E,\"ALTRO\")","v":0},{"$f":"COUNTIFS('Daily Diary'!A:A,'Grafico Strategie Settimanali'!B156,'Daily Diary'!E:E,\"BANCA PAREGGIO\",'Daily Diary'!E:E,\"BANCA PAREGGIO\",'Daily Diary'!K:K,\"WIN\")","v":0},{"$f":"COUNTIFS('Daily Diary'!A:A,'Grafico Strategie Settimanali'!B156,'Daily Diary'!E:E,\"PUNTA SQ.CASA\",'Daily Diary'!E:E,\"PUNTA SQ.CASA\",'Daily Diary'!K:K,\"WIN\")","v":0},{"$f":"COUNTIFS('Daily Diary'!A:A,'Grafico Strategie Settimanali'!B156,'Daily Diary'!E:E,\"PUNTA SQ.OSPITE\",'Daily Diary'!E:E,\"PUNTA SQ.OSPITE\",'Daily Diary'!K:K,\"WIN\")","v":0},{"$f":"COUNTIFS('Daily Diary'!A:A,'Grafico Strategie Settimanali'!B156,'Daily Diary'!E:E,\"BANCA SFAVORITA\",'Daily Diary'!E:E,\"BANCA SFAVORITA\",'Daily Diary'!K:K,\"WIN\")","v":0},{"$f":"COUNTIFS('Daily Diary'!A:A,'Grafico Strategie Settimanali'!B156,'Daily Diary'!E:E,\"PUNTA OVER\",'Daily Diary'!E:E,\"PUNTA OVER\",'Daily Diary'!K:K,\"WIN\")","v":0},{"$f":"COUNTIFS('Daily Diary'!A:A,'Grafico Strategie Settimanali'!B156,'Daily Diary'!E:E,\"PUNTA UNDER\",'Daily Diary'!E:E,\"PUNTA UNDER\",'Daily Diary'!K:K,\"WIN\")","v":0},{"$f":"COUNTIFS('Daily Diary'!A:A,'Grafico Strategie Settimanali'!B156,'Daily Diary'!E:E,\"SCALPING\",'Daily Diary'!E:E,\"SCALPING\",'Daily Diary'!K:K,\"WIN\")","v":0},{"$f":"COUNTIFS('Daily Diary'!A:A,'Grafico Strategie Settimanali'!B156,'Daily Diary'!E:E,\"GT 90\",'Daily Diary'!E:E,\"GT 90\",'Daily Diary'!K:K,\"WIN\")","v":0},{"$f":"COUNTIFS('Daily Diary'!A:A,'Grafico Strategie Settimanali'!B156,'Daily Diary'!E:E,\"GT 110\",'Daily Diary'!E:E,\"GT 110\",'Daily Diary'!K:K,\"WIN\")","v":0},{"$f":"COUNTIFS('Daily Diary'!A:A,'Grafico Strategie Settimanali'!B156,'Daily Diary'!E:E,\"ALERT GOAL\",'Daily Diary'!E:E,\"ALERT GOAL\",'Daily Diary'!K:K,\"WIN\")","v":0},{"$f":"COUNTIFS('Daily Diary'!A:A,'Grafico Strategie Settimanali'!B156,'Daily Diary'!E:E,\"DRAW NO BET\",'Daily Diary'!E:E,\"DRAW NO BET\",'Daily Diary'!K:K,\"WIN\")","v":0},{"$f":"COUNTIFS('Daily Diary'!A:A,'Grafico Strategie Settimanali'!B156,'Daily Diary'!E:E,\"ALTRO\",'Daily Diary'!E:E,\"ALTRO\",'Daily Diary'!K:K,\"WIN\")","v":0},{"$error":"#DIV/0!"},{"$error":"#DIV/0!"},{"$error":"#DIV/0!"},{"$error":"#DIV/0!"},{"$error":"#DIV/0!"},{"$error":"#DIV/0!"},{"$error":"#DIV/0!"},{"$error":"#DIV/0!"},{"$error":"#DIV/0!"},{"$f":"X156/L156","v":{"$error":"#DIV/0!"}},{"$error":"#DIV/0!"},{"$error":"#DIV/0!"}]
[0,"2023-10-06",{"$f":"COUNTIFS('Daily Diary'!A:A,'Grafico Strategie Settimanali'!B157,'Daily Diary'!E:E,\"BANCA PAREGGIO\")","v":0},{"$f":"COUNTIFS('Daily Diary'!A:A,'Grafico Strategie Settimanali'!B157,'Daily Diary'!E:E,\"PUNTA SQ.CASA\")","v":0},{"$f":"COUNTIFS('Daily Diary'!A:A,'Grafico Strategie Settimanali'!B157,'Daily Diary'!E:E,\"PUNTA SQ.OSPITE\")","v":0},{"$f":"COUNTIFS('Daily Diary'!A:A,'Grafico Strategie Settimanali'!B157,'Daily Diary'!E:E,\"BANCA SFAVORITA\")","v":0},{"$f":"COUNTIFS('Daily Diary'!A:A,'Grafico Strategie Settimanali'!B157,'Daily Diary'!E:E,\"PUNTA OVER\")","v":0},{"$f":"COUNTIFS('Daily Diary'!A:A,'Grafico Strategie Settimanali'!B157,'Daily Diary'!E:E,\"PUNTA UNDER\")","v":0},{"$f":"COUNTIFS('Daily Diary'!A:A,'Grafico Strategie Settimanali'!B157,'Daily Diary'!E:E,\"SCALPING\")","v":0},{"$f":"COUNTIFS('Daily Diary'!A:A,'Grafico Strategie Settimanali'!B157,'Daily Diary'!E:E,\"GT90\")","v":0},{"$f":"COUNTIFS('Daily Diary'!A:A,'Grafico Strategie Settimanali'!B157,'Daily Diary'!E:E,\"GT110\")","v":0},{"$f":"COUNTIFS('Daily Diary'!A:A,'Grafico Strategie Settimanali'!B157,'Daily Diary'!E:E,\"ALERT GOAL\")","v":0},{"$f":"COUNTIFS('Daily Diary'!A:A,'Grafico Strategie Settimanali'!B157,'Daily Diary'!E:E,\"DRAW NO BET\")","v":0},{"$f":"COUNTIFS('Daily Diary'!A:A,'Grafico Strategie Settimanali'!B157,'Daily Diary'!E:E,\"ALTRO\")","v":0},{"$f":"COUNTIFS('Daily Diary'!A:A,'Grafico Strategie Settimanali'!B157,'Daily Diary'!E:E,\"BANCA PAREGGIO\",'Daily Diary'!E:E,\"BANCA PAREGGIO\",'Daily Diary'!K:K,\"WIN\")","v":0},{"$f":"COUNTIFS('Daily Diary'!A:A,'Grafico Strategie Settimanali'!B157,'Daily Diary'!E:E,\"PUNTA SQ.CASA\",'Daily Diary'!E:E,\"PUNTA SQ.CASA\",'Daily Diary'!K:K,\"WIN\")","v":0},{"$f":"COUNTIFS('Daily Diary'!A:A,'Grafico Strategie Settimanali'!B157,'Daily Diary'!E:E,\"PUNTA SQ.OSPITE\",'Daily Diary'!E:E,\"PUNTA SQ.OSPITE\",'Daily Diary'!K:K,\"WIN\")","v":0},{"$f":"COUNTIFS('Daily Diary'!A:A,'Grafico Strategie Settimanali'!B157,'Daily Diary'!E:E,\"BANCA SFAVORITA\",'Daily Diary'!E:E,\"BANCA SFAVORITA\",'Daily Diary'!K:K,\"WIN\")","v":0},{"$f":"COUNTIFS('Daily Diary'!A:A,'Grafico Strategie Settimanali'!B157,'Daily Diary'!E:E,\"PUNTA OVER\",'Daily Diary'!E:E,\"PUNTA OVER\",'Daily Diary'!K:K,\"WIN\")","v":0},{"$f":"COUNTIFS('Daily Diary'!A:A,'Grafico Strategie Settimanali'!B157,'Daily Diary'!E:E,\"PUNTA UNDER\",'Daily Diary'!E:E,\"PUNTA UNDER\",'Daily Diary'!K:K,\"WIN\")","v":0},{"$f":"COUNTIFS('Daily Diary'!A:A,'Grafico Strategie Settimanali'!B157,'Daily Diary'!E:E,\"SCALPING\",'Daily Diary'!E:E,\"SCALPING\",'Daily Diary'!K:K,\"WIN\")","v":0},{"$f":"COUNTIFS('Daily Diary'!A:A,'Grafico Strategie Settimanali'!B157,'Daily Diary'!E:E,\"GT 90\",'Daily Diary'!E:E,\"GT 90\",'Daily Diary'!K:K,\"WIN\")","v":0},{"$f":"COUNTIFS('Daily Diary'!A:A,'Grafico Strategie Settimanali'!B157,'Daily Diary'!E:E,\"GT 110\",'Daily Diary'!E:E,\"GT 110\",'Daily Diary'!K:K,\"WIN\")","v":0},{"$f":"COUNTIFS('Daily Diary'!A:A,'Grafico Strategie Settimanali'!B157,'Daily Diary'!E:E,\"ALERT GOAL\",'Daily Diary'!E:E,\"ALERT GOAL\",'Daily Diary'!K:K,\"WIN\")","v":0},{"$f":"COUNTIFS('Daily Diary'!A:A,'Grafico Strategie Settimanali'!B157,'Daily Diary'!E:E,\"DRAW NO BET\",'Daily Diary'!E:E,\"DRAW NO BET\",'Daily Diary'!K:K,\"WIN\")","v":0},{"$f":"COUNTIFS('Daily Diary'!A:A,'Grafico Strategie Settimanali'!B157,'Daily Diary'!E:E,\"ALTRO\",'Daily Diary'!E:E,\"ALTRO\",'Daily Diary'!K:K,\"WIN\")","v":0},{"$error":"#DIV/0!"},{"$error":"#DIV/0!"},{"$error":"#DIV/0!"},{"$error":"#DIV/0!"},{"$error":"#DIV/0!"},{"$error":"#DIV/0!"},{"$error":"#DIV/0!"},{"$error":"#DIV/0!"},{"$error":"#DIV/0!"},{"$error":"#DIV/0!"},{"$error":"#DIV/0!"},{"$error":"#DIV/0!"}]
[0,"2023-10-07",{"$f":"COUNTIFS('Daily Diary'!A:A,'Grafico Strategie Settimanali'!B158,'Daily Diary'!E:E,\"BANCA PAREGGIO\")","v":0},{"$f":"COUNTIFS('Daily Diary'!A:A,'Grafico Strategie Settimanali'!B158,'Daily Diary'!E:E,\"PUNTA SQ.CASA\")","v":0},{"$f":"COUNTIFS('Daily Diary'!A:A,'Grafico Strategie Settimanali'!B158,'Daily Diary'!E:E,\"PUNTA SQ.OSPITE\")","v":0},{"$f":"COUNTIFS('Daily Diary'!A:A,'Grafico Strategie Settimanali'!B158,'Daily Diary'!E:E,\"BANCA SFAVORITA\")","v":0},{"$f":"COUNTIFS('Daily Diary'!A:A,'Grafico Strategie Settimanali'!B158,'Daily Diary'!E:E,\"PUNTA OVER\")","v":0},{"$f":"COUNTIFS('Daily Diary'!A:A,'Grafico Strategie Settimanali'!B158,'Daily Diary'!E:E,\"PUNTA UNDER\")","v":0},{"$f":"COUNTIFS('Daily Diary'!A:A,'Grafico Strategie Settimanali'!B158,'Daily Diary'!E:E,\"SCALPING\")","v":0},{"$f":"COUNTIFS('Daily Diary'!A:A,'Grafico Strategie Settimanali'!B158,'Daily Diary'!E:E,\"GT90\")","v":0},{"$f":"COUNTIFS('Daily Diary'!A:A,'Grafico Strategie Settimanali'!B158,'Daily Diary'!E:E,\"GT110\")","v":0},{"$f":"COUNTIFS('Daily Diary'!A:A,'Grafico Strategie Settimanali'!B158,'Daily Diary'!E:E,\"ALERT GOAL\")","v":0},{"$f":"COUNTIFS('Daily Diary'!A:A,'Grafico Strategie Settimanali'!B158,'Daily Diary'!E:E,\"DRAW NO BET\")","v":0},{"$f":"COUNTIFS('Daily Diary'!A:A,'Grafico Strategie Settimanali'!B158,'Daily Diary'!E:E,\"ALTRO\")","v":0},{"$f":"COUNTIFS('Daily Diary'!A:A,'Grafico Strategie Settimanali'!B158,'Daily Diary'!E:E,\"BANCA PAREGGIO\",'Daily Diary'!E:E,\"BANCA PAREGGIO\",'Daily Diary'!K:K,\"WIN\")","v":0},{"$f":"COUNTIFS('Daily Diary'!A:A,'Grafico Strategie Settimanali'!B158,'Daily Diary'!E:E,\"PUNTA SQ.CASA\",'Daily Diary'!E:E,\"PUNTA SQ.CASA\",'Daily Diary'!K:K,\"WIN\")","v":0},{"$f":"COUNTIFS('Daily Diary'!A:A,'Grafico Strategie Settimanali'!B158,'Daily Diary'!E:E,\"PUNTA SQ.OSPITE\",'Daily Diary'!E:E,\"PUNTA SQ.OSPITE\",'Daily Diary'!K:K,\"WIN\")","v":0},{"$f":"COUNTIFS('Daily Diary'!A:A,'Grafico Strategie Settimanali'!B158,'Daily Diary'!E:E,\"BANCA SFAVORITA\",'Daily Diary'!E:E,\"BANCA SFAVORITA\",'Daily Diary'!K:K,\"WIN\")","v":0},{"$f":"COUNTIFS('Daily Diary'!A:A,'Grafico Strategie Settimanali'!B158,'Daily Diary'!E:E,\"PUNTA OVER\",'Daily Diary'!E:E,\"PUNTA OVER\",'Daily Diary'!K:K,\"WIN\")","v":0},{"$f":"COUNTIFS('Daily Diary'!A:A,'Grafico Strategie Settimanali'!B158,'Daily Diary'!E:E,\"PUNTA UNDER\",'Daily Diary'!E:E,\"PUNTA UNDER\",'Daily Diary'!K:K,\"WIN\")","v":0},{"$f":"COUNTIFS('Daily Diary'!A:A,'Grafico Strategie Settimanali'!B158,'Daily Diary'!E:E,\"SCALPING\",'Daily Diary'!E:E,\"SCALPING\",'Daily Diary'!K:K,\"WIN\")","v":0},{"$f":"COUNTIFS('Daily Diary'!A:A,'Grafico Strategie Settimanali'!B158,'Daily Diary'!E:E,\"GT 90\",'Daily Diary'!E:E,\"GT 90\",'Daily Diary'!K:K,\"WIN\")","v":0},{"$f":"COUNTIFS('Daily Diary'!A:A,'Grafico Strategie Settimanali'!B158,'Daily Diary'!E:E,\"GT 110\",'Daily Diary'!E:E,\"GT 110\",'Daily Diary'!K:K,\"WIN\")","v":0},{"$f":"COUNTIFS('Daily Diary'!A:A,'Grafico Strategie Settimanali'!B158,'Daily Diary'!E:E,\"ALERT GOAL\",'Daily Diary'!E:E,\"ALERT GOAL\",'Daily Diary'!K:K,\"WIN\")","v":0},{"$f":"COUNTIFS('Daily Diary'!A:A,'Grafico Strategie Settimanali'!B158,'Daily Diary'!E:E,\"DRAW NO BET\",'Daily Diary'!E:E,\"DRAW NO BET\",'Daily Diary'!K:K,\"WIN\")","v":0},{"$f":"COUNTIFS('Daily Diary'!A:A,'Grafico Strategie Settimanali'!B158,'Daily Diary'!E:E,\"ALTRO\",'Daily Diary'!E:E,\"ALTRO\",'Daily Diary'!K:K,\"WIN\")","v":0},{"$error":"#DIV/0!"},{"$error":"#DIV/0!"},{"$error":"#DIV/0!"},{"$error":"#DIV/0!"},{"$error":"#DIV/0!"},{"$error":"#DIV/0!"},{"$error":"#DIV/0!"},{"$error":"#DIV/0!"},{"$error":"#DIV/0!"},{"$error":"#DIV/0!"},{"$error":"#DIV/0!"},{"$error":"#DIV/0!"}]
[0,"2023-10-08",{"$f":"COUNTIFS('Daily Diary'!A:A,'Grafico Strategie Settimanali'!B159,'Daily Diary'!E:E,\"BANCA PAREGGIO\")","v":0},{"$f":"COUNTIFS('Daily Diary'!A:A,'Grafico Strategie Settimanali'!B159,'Daily Diary'!E:E,\"PUNTA SQ.CASA\")","v":0},{"$f":"COUNTIFS('Daily Diary'!A:A,'Grafico Strategie Settimanali'!B159,'Daily Diary'!E:E,\"PUNTA SQ.OSPITE\")","v":0},{"$f":"COUNTIFS('Daily Diary'!A:A,'Grafico Strategie Settimanali'!B159,'Daily Diary'!E:E,\"BANCA SFAVORITA\")","v":0},{"$f":"COUNTIFS('Daily Diary'!A:A,'Grafico Strategie Settimanali'!B159,'Daily Diary'!E:E,\"PUNTA OVER\")","v":0},{"$f":"COUNTIFS('Daily Diary'!A:A,'Grafico Strategie Settimanali'!B159,'Daily Diary'!E:E,\"PUNTA UNDER\")","v":0},{"$f":"COUNTIFS('Daily Diary'!A:A,'Grafico Strategie Settimanali'!B159,'Daily Diary'!E:E,\"SCALPING\")","v":0},{"$f":"COUNTIFS('Daily Diary'!A:A,'Grafico Strategie Settimanali'!B159,'Daily Diary'!E:E,\"GT90\")","v":0},{"$f":"COUNTIFS('Daily Diary'!A:A,'Grafico Strategie Settimanali'!B159,'Daily Diary'!E:E,\"GT110\")","v":0},{"$f":"COUNTIFS('Daily Diary'!A:A,'Grafico Strategie Settimanali'!B159,'Daily Diary'!E:E,\"ALERT GOAL\")","v":0},{"$f":"COUNTIFS('Daily Diary'!A:A,'Grafico Strategie Settimanali'!B159,'Daily Diary'!E:E,\"DRAW NO BET\")","v":0},{"$f":"COUNTIFS('Daily Diary'!A:A,'Grafico Strategie Settimanali'!B159,'Daily Diary'!E:E,\"ALTRO\")","v":0},{"$f":"COUNTIFS('Daily Diary'!A:A,'Grafico Strategie Settimanali'!B159,'Daily Diary'!E:E,\"BANCA PAREGGIO\",'Daily Diary'!E:E,\"BANCA PAREGGIO\",'Daily Diary'!K:K,\"WIN\")","v":0},{"$f":"COUNTIFS('Daily Diary'!A:A,'Grafico Strategie Settimanali'!B159,'Daily Diary'!E:E,\"PUNTA SQ.CASA\",'Daily Diary'!E:E,\"PUNTA SQ.CASA\",'Daily Diary'!K:K,\"WIN\")","v":0},{"$f":"COUNTIFS('Daily Diary'!A:A,'Grafico Strategie Settimanali'!B159,'Daily Diary'!E:E,\"PUNTA SQ.OSPITE\",'Daily Diary'!E:E,\"PUNTA SQ.OSPITE\",'Daily Diary'!K:K,\"WIN\")","v":0},{"$f":"COUNTIFS('Daily Diary'!A:A,'Grafico Strategie Settimanali'!B159,'Daily Diary'!E:E,\"BANCA SFAVORITA\",'Daily Diary'!E:E,\"BANCA SFAVORITA\",'Daily Diary'!K:K,\"WIN\")","v":0},{"$f":"COUNTIFS('Daily Diary'!A:A,'Grafico Strategie Settimanali'!B159,'Daily Diary'!E:E,\"PUNTA OVER\",'Daily Diary'!E:E,\"PUNTA OVER\",'Daily Diary'!K:K,\"WIN\")","v":0},{"$f":"COUNTIFS('Daily Diary'!A:A,'Grafico Strategie Settimanali'!B159,'Daily Diary'!E:E,\"PUNTA UNDER\",'Daily Diary'!E:E,\"PUNTA UNDER\",'Daily Diary'!K:K,\"WIN\")","v":0},{"$f":"COUNTIFS('Daily Diary'!A:A,'Grafico Strategie Settimanali'!B159,'Daily Diary'!E:E,\"SCALPING\",'Daily Diary'!E:E,\"SCALPING\",'Daily Diary'!K:K,\"WIN\")","v":0},{"$f":"COUNTIFS('Daily Diary'!A:A,'Grafico Strategie Settimanali'!B159,'Daily Diary'!E:E,\"GT 90\",'Daily Diary'!E:E,\"GT 90\",'Daily Diary'!K:K,\"WIN\")","v":0},{"$f":"COUNTIFS('Daily Diary'!A:A,'Grafico Strategie Settimanali'!B159,'Daily Diary'!E:E,\"GT 110\",'Daily Diary'!E:E,\"GT 110\",'Daily Diary'!K:K,\"WIN\")","v":0},{"$f":"COUNTIFS('Daily Diary'!A:A,'Grafico Strategie Settimanali'!B159,'Daily Diary'!E:E,\"ALERT GOAL\",'Daily Diary'!E:E,\"ALERT GOAL\",'Daily Diary'!K:K,\"WIN\")","v":0},{"$f":"COUNTIFS('Daily Diary'!A:A,'Grafico Strategie Settimanali'!B159,'Daily Diary'!E:E,\"DRAW NO BET\",'Daily Diary'!E:E,\"DRAW NO BET\",'Daily Diary'!K:K,\"WIN\")","v":0},{"$f":"COUNTIFS('Daily Diary'!A:A,'Grafico Strategie Settimanali'!B159,'Daily Diary'!E:E,\"ALTRO\",'Daily Diary'!E:E,\"ALTRO\",'Daily Diary'!K:K,\"WIN\")","v":0},{"$error":"#DIV/0!"},{"$error":"#DIV/0!"},{"$error":"#DIV/0!"},{"$error":"#DIV/0!"},{"$error":"#DIV/0!"},{"$error":"#DIV/0!"},{"$error":"#DIV/0!"},{"$error":"#DIV/0!"},{"$error":"#DIV/0!"},{"$error":"#DIV/0!"},{"$error":"#DIV/0!"},{"$error":"#DIV/0!"}]
[0,"2023-10-09",{"$f":"COUNTIFS('Daily Diary'!A:A,'Grafico Strategie Settimanali'!B160,'Daily Diary'!E:E,\"BANCA PAREGGIO\")","v":0},{"$f":"COUNTIFS('Daily Diary'!A:A,'Grafico Strategie Settimanali'!B160,'Daily Diary'!E:E,\"PUNTA SQ.CASA\")","v":0},{"$f":"COUNTIFS('Daily Diary'!A:A,'Grafico Strategie Settimanali'!B160,'Daily Diary'!E:E,\"PUNTA SQ.OSPITE\")","v":0},{"$f":"COUNTIFS('Daily Diary'!A:A,'Grafico Strategie Settimanali'!B160,'Daily Diary'!E:E,\"BANCA SFAVORITA\")","v":0},{"$f":"COUNTIFS('Daily Diary'!A:A,'Grafico Strategie Settimanali'!B160,'Daily Diary'!E:E,\"PUNTA OVER\")","v":0},{"$f":"COUNTIFS('Daily Diary'!A:A,'Grafico Strategie Settimanali'!B160,'Daily Diary'!E:E,\"PUNTA UNDER\")","v":0},{"$f":"COUNTIFS('Daily Diary'!A:A,'Grafico Strategie Settimanali'!B160,'Daily Diary'!E:E,\"SCALPING\")","v":0},{"$f":"COUNTIFS('Daily Diary'!A:A,'Grafico Strategie Settimanali'!B160,'Daily Diary'!E:E,\"GT90\")","v":0},{"$f":"COUNTIFS('Daily Diary'!A:A,'Grafico Strategie Settimanali'!B160,'Daily Diary'!E:E,\"GT110\")","v":0},{"$f":"COUNTIFS('Daily Diary'!A:A,'Grafico Strategie Settimanali'!B160,'Daily Diary'!E:E,\"ALERT GOAL\")","v":0},{"$f":"COUNTIFS('Daily Diary'!A:A,'Grafico Strategie Settimanali'!B160,'Daily Diary'!E:E,\"DRAW NO BET\")","v":0},{"$f":"COUNTIFS('Daily Diary'!A:A,'Grafico Strategie Settimanali'!B160,'Daily Diary'!E:E,\"ALTRO\")","v":0},{"$f":"COUNTIFS('Daily Diary'!A:A,'Grafico Strategie Settimanali'!B160,'Daily Diary'!E:E,\"BANCA PAREGGIO\",'Daily Diary'!E:E,\"BANCA PAREGGIO\",'Daily Diary'!K:K,\"WIN\")","v":0},{"$f":"COUNTIFS('Daily Diary'!A:A,'Grafico Strategie Settimanali'!B160,'Daily Diary'!E:E,\"PUNTA SQ.CASA\",'Daily Diary'!E:E,\"PUNTA SQ.CASA\",'Daily Diary'!K:K,\"WIN\")","v":0},{"$f":"COUNTIFS('Daily Diary'!A:A,'Grafico Strategie Settimanali'!B160,'Daily Diary'!E:E,\"PUNTA SQ.OSPITE\",'Daily Diary'!E:E,\"PUNTA SQ.OSPITE\",'Daily Diary'!K:K,\"WIN\")","v":0},{"$f":"COUNTIFS('Daily Diary'!A:A,'Grafico Strategie Settimanali'!B160,'Daily Diary'!E:E,\"BANCA SFAVORITA\",'Daily Diary'!E:E,\"BANCA SFAVORITA\",'Daily Diary'!K:K,\"WIN\")","v":0},{"$f":"COUNTIFS('Daily Diary'!A:A,'Grafico Strategie Settimanali'!B160,'Daily Diary'!E:E,\"PUNTA OVER\",'Daily Diary'!E:E,\"PUNTA OVER\",'Daily Diary'!K:K,\"WIN\")","v":0},{"$f":"COUNTIFS('Daily Diary'!A:A,'Grafico Strategie Settimanali'!B160,'Daily Diary'!E:E,\"PUNTA UNDER\",'Daily Diary'!E:E,\"PUNTA UNDER\",'Daily Diary'!K:K,\"WIN\")","v":0},{"$f":"COUNTIFS('Daily Diary'!A:A,'Grafico Strategie Settimanali'!B160,'Daily Diary'!E:E,\"SCALPING\",'Daily Diary'!E:E,\"SCALPING\",'Daily Diary'!K:K,\"WIN\")","v":0},{"$f":"COUNTIFS('Daily Diary'!A:A,'Grafico Strategie Settimanali'!B160,'Daily Diary'!E:E,\"GT 90\",'Daily Diary'!E:E,\"GT 90\",'Daily Diary'!K:K,\"WIN\")","v":0},{"$f":"COUNTIFS('Daily Diary'!A:A,'Grafico Strategie Settimanali'!B160,'Daily Diary'!E:E,\"GT 110\",'Daily Diary'!E:E,\"GT 110\",'Daily Diary'!K:K,\"WIN\")","v":0},{"$f":"COUNTIFS('Daily Diary'!A:A,'Grafico Strategie Settimanali'!B160,'Daily Diary'!E:E,\"ALERT GOAL\",'Daily Diary'!E:E,\"ALERT GOAL\",'Daily Diary'!K:K,\"WIN\")","v":0},{"$f":"COUNTIFS('Daily Diary'!A:A,'Grafico Strategie Settimanali'!B160,'Daily Diary'!E:E,\"DRAW NO BET\",'Daily Diary'!E:E,\"DRAW NO BET\",'Daily Diary'!K:K,\"WIN\")","v":0},{"$f":"COUNTIFS('Daily Diary'!A:A,'Grafico Strategie Settimanali'!B160,'Daily Diary'!E:E,\"ALTRO\",'Daily Diary'!E:E,\"ALTRO\",'Daily Diary'!K:K,\"WIN\")","v":0},{"$error":"#DIV/0!"},{"$error":"#DIV/0!"},{"$error":"#DIV/0!"},{"$error":"#DIV/0!"},{"$error":"#DIV/0!"},{"$error":"#DIV/0!"},{"$error":"#DIV/0!"},{"$error":"#DIV/0!"},{"$error":"#DIV/0!"},{"$error":"#DIV/0!"},{"$error":"#DIV/0!"},{"$error":"#DIV/0!"}]
[0,"2023-10-10",{"$f":"COUNTIFS('Daily Diary'!A:A,'Grafico Strategie Settimanali'!B161,'Daily Diary'!E:E,\"BANCA PAREGGIO\")","v":0},{"$f":"COUNTIFS('Daily Diary'!A:A,'Grafico Strategie Settimanali'!B161,'Daily Diary'!E:E,\"PUNTA SQ.CASA\")","v":0},{"$f":"COUNTIFS('Daily Diary'!A:A,'Grafico Strategie Settimanali'!B161,'Daily Diary'!E:E,\"PUNTA SQ.OSPITE\")","v":0},{"$f":"COUNTIFS('Daily Diary'!A:A,'Grafico Strategie Settimanali'!B161,'Daily Diary'!E:E,\"BANCA SFAVORITA\")","v":0},{"$f":"COUNTIFS('Daily Diary'!A:A,'Grafico Strategie Settimanali'!B161,'Daily Diary'!E:E,\"PUNTA OVER\")","v":0},{"$f":"COUNTIFS('Daily Diary'!A:A,'Grafico Strategie Settimanali'!B161,'Daily Diary'!E:E,\"PUNTA UNDER\")","v":0},{"$f":"COUNTIFS('Daily Diary'!A:A,'Grafico Strategie Settimanali'!B161,'Daily Diary'!E:E,\"SCALPING\")","v":0},{"$f":"COUNTIFS('Daily Diary'!A:A,'Grafico Strategie Settimanali'!B161,'Daily Diary'!E:E,\"GT90\")","v":0},{"$f":"COUNTIFS('Daily Diary'!A:A,'Grafico Strategie Settimanali'!B161,'Daily Diary'!E:E,\"GT110\")","v":0},{"$f":"COUNTIFS('Daily Diary'!A:A,'Grafico Strategie Settimanali'!B161,'Daily Diary'!E:E,\"ALERT GOAL\")","v":0},{"$f":"COUNTIFS('Daily Diary'!A:A,'Grafico Strategie Settimanali'!B161,'Daily Diary'!E:E,\"DRAW NO BET\")","v":0},{"$f":"COUNTIFS('Daily Diary'!A:A,'Grafico Strategie Settimanali'!B161,'Daily Diary'!E:E,\"ALTRO\")","v":0},{"$f":"COUNTIFS('Daily Diary'!A:A,'Grafico Strategie Settimanali'!B161,'Daily Diary'!E:E,\"BANCA PAREGGIO\",'Daily Diary'!E:E,\"BANCA PAREGGIO\",'Daily Diary'!K:K,\"WIN\")","v":0},{"$f":"COUNTIFS('Daily Diary'!A:A,'Grafico Strategie Settimanali'!B161,'Daily Diary'!E:E,\"PUNTA SQ.CASA\",'Daily Diary'!E:E,\"PUNTA SQ.CASA\",'Daily Diary'!K:K,\"WIN\")","v":0},{"$f":"COUNTIFS('Daily Diary'!A:A,'Grafico Strategie Settimanali'!B161,'Daily Diary'!E:E,\"PUNTA SQ.OSPITE\",'Daily Diary'!E:E,\"PUNTA SQ.OSPITE\",'Daily Diary'!K:K,\"WIN\")","v":0},{"$f":"COUNTIFS('Daily Diary'!A:A,'Grafico Strategie Settimanali'!B161,'Daily Diary'!E:E,\"BANCA SFAVORITA\",'Daily Diary'!E:E,\"BANCA SFAVORITA\",'Daily Diary'!K:K,\"WIN\")","v":0},{"$f":"COUNTIFS('Daily Diary'!A:A,'Grafico Strategie Settimanali'!B161,'Daily Diary'!E:E,\"PUNTA OVER\",'Daily Diary'!E:E,\"PUNTA OVER\",'Daily Diary'!K:K,\"WIN\")","v":0},{"$f":"COUNTIFS('Daily Diary'!A:A,'Grafico Strategie Settimanali'!B161,'Daily Diary'!E:E,\"PUNTA UNDER\",'Daily Diary'!E:E,\"PUNTA UNDER\",'Daily Diary'!K:K,\"WIN\")","v":0},{"$f":"COUNTIFS('Daily Diary'!A:A,'Grafico Strategie Settimanali'!B161,'Daily Diary'!E:E,\"SCALPING\",'Daily Diary'!E:E,\"SCALPING\",'Daily Diary'!K:K,\"WIN\")","v":0},{"$f":"COUNTIFS('Daily Diary'!A:A,'Grafico Strategie Settimanali'!B161,'Daily Diary'!E:E,\"GT 90\",'Daily Diary'!E:E,\"GT 90\",'Daily Diary'!K:K,\"WIN\")","v":0},{"$f":"COUNTIFS('Daily Diary'!A:A,'Grafico Strategie Settimanali'!B161,'Daily Diary'!E:E,\"GT 110\",'Daily Diary'!E:E,\"GT 110\",'Daily Diary'!K:K,\"WIN\")","v":0},{"$f":"COUNTIFS('Daily Diary'!A:A,'Grafico Strategie Settimanali'!B161,'Daily Diary'!E:E,\"ALERT GOAL\",'Daily Diary'!E:E,\"ALERT GOAL\",'Daily Diary'!K:K,\"WIN\")","v":0},{"$f":"COUNTIFS('Daily Diary'!A:A,'Grafico Strategie Settimanali'!B161,'Daily Diary'!E:E,\"DRAW NO BET\",'Daily Diary'!E:E,\"DRAW NO BET\",'Daily Diary'!K:K,\"WIN\")","v":0},{"$f":"COUNTIFS('Daily Diary'!A:A,'Grafico Strategie Settimanali'!B161,'Daily Diary'!E:E,\"ALTRO\",'Daily Diary'!E:E,\"ALTRO\",'Daily Diary'!K:K,\"WIN\")","v":0},{"$error":"#DIV/0!"},{"$error":"#DIV/0!"},{"$error":"#DIV/0!"},{"$error":"#DIV/0!"},{"$error":"#DIV/0!"},{"$error":"#DIV/0!"},{"$error":"#DIV/0!"},{"$error":"#DIV/0!"},{"$error":"#DIV/0!"},{"$error":"#DIV/0!"},{"$error":"#DIV/0!"},{"$error":"#DIV/0!"}]
[0,"2023-10-11",{"$f":"COUNTIFS('Daily Diary'!A:A,'Grafico Strategie Settimanali'!B162,'Daily Diary'!E:E,\"BANCA PAREGGIO\")","v":0},{"$f":"COUNTIFS('Daily Diary'!A:A,'Grafico Strategie Settimanali'!B162,'Daily Diary'!E:E,\"PUNTA SQ.CASA\")","v":0},{"$f":"COUNTIFS('Daily Diary'!A:A,'Grafico Strategie Settimanali'!B162,'Daily Diary'!E:E,\"PUNTA SQ.OSPITE\")","v":0},{"$f":"COUNTIFS('Daily Diary'!A:A,'Grafico Strategie Settimanali'!B162,'Daily Diary'!E:E,\"BANCA SFAVORITA\")","v":0},{"$f":"COUNTIFS('Daily Diary'!A:A,'Grafico Strategie Settimanali'!B162,'Daily Diary'!E:E,\"PUNTA OVER\")","v":0},{"$f":"COUNTIFS('Daily Diary'!A:A,'Grafico Strategie Settimanali'!B162,'Daily Diary'!E:E,\"PUNTA UNDER\")","v":0},{"$f":"COUNTIFS('Daily Diary'!A:A,'Grafico Strategie Settimanali'!B162,'Daily Diary'!E:E,\"SCALPING\")","v":0},{"$f":"COUNTIFS('Daily Diary'!A:A,'Grafico Strategie Settimanali'!B162,'Daily Diary'!E:E,\"GT90\")","v":0},{"$f":"COUNTIFS('Daily Diary'!A:A,'Grafico Strategie Settimanali'!B162,'Daily Diary'!E:E,\"GT110\")","v":0},{"$f":"COUNTIFS('Daily Diary'!A:A,'Grafico Strategie Settimanali'!B162,'Daily Diary'!E:E,\"ALERT GOAL\")","v":0},{"$f":"COUNTIFS('Daily Diary'!A:A,'Grafico Strategie Settimanali'!B162,'Daily Diary'!E:E,\"DRAW NO BET\")","v":0},{"$f":"COUNTIFS('Daily Diary'!A:A,'Grafico Strategie Settimanali'!B162,'Daily Diary'!E:E,\"ALTRO\")","v":0},{"$f":"COUNTIFS('Daily Diary'!A:A,'Grafico Strategie Settimanali'!B162,'Daily Diary'!E:E,\"BANCA PAREGGIO\",'Daily Diary'!E:E,\"BANCA PAREGGIO\",'Daily Diary'!K:K,\"WIN\")","v":0},{"$f":"COUNTIFS('Daily Diary'!A:A,'Grafico Strategie Settimanali'!B162,'Daily Diary'!E:E,\"PUNTA SQ.CASA\",'Daily Diary'!E:E,\"PUNTA SQ.CASA\",'Daily Diary'!K:K,\"WIN\")","v":0},{"$f":"COUNTIFS('Daily Diary'!A:A,'Grafico Strategie Settimanali'!B162,'Daily Diary'!E:E,\"PUNTA SQ.OSPITE\",'Daily Diary'!E:E,\"PUNTA SQ.OSPITE\",'Daily Diary'!K:K,\"WIN\")","v":0},{"$f":"COUNTIFS('Daily Diary'!A:A,'Grafico Strategie Settimanali'!B162,'Daily Diary'!E:E,\"BANCA SFAVORITA\",'Daily Diary'!E:E,\"BANCA SFAVORITA\",'Daily Diary'!K:K,\"WIN\")","v":0},{"$f":"COUNTIFS('Daily Diary'!A:A,'Grafico Strategie Settimanali'!B162,'Daily Diary'!E:E,\"PUNTA OVER\",'Daily Diary'!E:E,\"PUNTA OVER\",'Daily Diary'!K:K,\"WIN\")","v":0},{"$f":"COUNTIFS('Daily Diary'!A:A,'Grafico Strategie Settimanali'!B162,'Daily Diary'!E:E,\"PUNTA UNDER\",'Daily Diary'!E:E,\"PUNTA UNDER\",'Daily Diary'!K:K,\"WIN\")","v":0},{"$f":"COUNTIFS('Daily Diary'!A:A,'Grafico Strategie Settimanali'!B162,'Daily Diary'!E:E,\"SCALPING\",'Daily Diary'!E:E,\"SCALPING\",'Daily Diary'!K:K,\"WIN\")","v":0},{"$f":"COUNTIFS('Daily Diary'!A:A,'Grafico Strategie Settimanali'!B162,'Daily Diary'!E:E,\"GT 90\",'Daily Diary'!E:E,\"GT 90\",'Daily Diary'!K:K,\"WIN\")","v":0},{"$f":"COUNTIFS('Daily Diary'!A:A,'Grafico Strategie Settimanali'!B162,'Daily Diary'!E:E,\"GT 110\",'Daily Diary'!E:E,\"GT 110\",'Daily Diary'!K:K,\"WIN\")","v":0},{"$f":"COUNTIFS('Daily Diary'!A:A,'Grafico Strategie Settimanali'!B162,'Daily Diary'!E:E,\"ALERT GOAL\",'Daily Diary'!E:E,\"ALERT GOAL\",'Daily Diary'!K:K,\"WIN\")","v":0},{"$f":"COUNTIFS('Daily Diary'!A:A,'Grafico Strategie Settimanali'!B162,'Daily Diary'!E:E,\"DRAW NO BET\",'Daily Diary'!E:E,\"DRAW NO BET\",'Daily Diary'!K:K,\"WIN\")","v":0},{"$f":"COUNTIFS('Daily Diary'!A:A,'Grafico Strategie Settimanali'!B162,'Daily Diary'!E:E,\"ALTRO\",'Daily Diary'!E:E,\"ALTRO\",'Daily Diary'!K:K,\"WIN\")","v":0},{"$error":"#DIV/0!"},{"$error":"#DIV/0!"},{"$error":"#DIV/0!"},{"$error":"#DIV/0!"},{"$error":"#DIV/0!"},{"$error":"#DIV/0!"},{"$error":"#DIV/0!"},{"$error":"#DIV/0!"},{"$error":"#DIV/0!"},{"$error":"#DIV/0!"},{"$error":"#DIV/0!"},{"$error":"#DIV/0!"}]
[0,"2023-10-12",{"$f":"COUNTIFS('Daily Diary'!A:A,'Grafico Strategie Settimanali'!B163,'Daily Diary'!E:E,\"BANCA PAREGGIO\")","v":0},{"$f":"COUNTIFS('Daily Diary'!A:A,'Grafico Strategie Settimanali'!B163,'Daily Diary'!E:E,\"PUNTA SQ.CASA\")","v":0},{"$f":"COUNTIFS('Daily Diary'!A:A,'Grafico Strategie Settimanali'!B163,'Daily Diary'!E:E,\"PUNTA SQ.OSPITE\")","v":0},{"$f":"COUNTIFS('Daily Diary'!A:A,'Grafico Strategie Settimanali'!B163,'Daily Diary'!E:E,\"BANCA SFAVORITA\")","v":0},{"$f":"COUNTIFS('Daily Diary'!A:A,'Grafico Strategie Settimanali'!B163,'Daily Diary'!E:E,\"PUNTA OVER\")","v":0},{"$f":"COUNTIFS('Daily Diary'!A:A,'Grafico Strategie Settimanali'!B163,'Daily Diary'!E:E,\"PUNTA UNDER\")","v":0},{"$f":"COUNTIFS('Daily Diary'!A:A,'Grafico Strategie Settimanali'!B163,'Daily Diary'!E:E,\"SCALPING\")","v":0},{"$f":"COUNTIFS('Daily Diary'!A:A,'Grafico Strategie Settimanali'!B163,'Daily Diary'!E:E,\"GT90\")","v":0},{"$f":"COUNTIFS('Daily Diary'!A:A,'Grafico Strategie Settimanali'!B163,'Daily Diary'!E:E,\"GT110\")","v":0},{"$f":"COUNTIFS('Daily Diary'!A:A,'Grafico Strategie Settimanali'!B163,'Daily Diary'!E:E,\"ALERT GOAL\")","v":0},{"$f":"COUNTIFS('Daily Diary'!A:A,'Grafico Strategie Settimanali'!B163,'Daily Diary'!E:E,\"DRAW NO BET\")","v":0},{"$f":"COUNTIFS('Daily Diary'!A:A,'Grafico Strategie Settimanali'!B163,'Daily Diary'!E:E,\"ALTRO\")","v":0},{"$f":"COUNTIFS('Daily Diary'!A:A,'Grafico Strategie Settimanali'!B163,'Daily Diary'!E:E,\"BANCA PAREGGIO\",'Daily Diary'!E:E,\"BANCA PAREGGIO\",'Daily Diary'!K:K,\"WIN\")","v":0},{"$f":"COUNTIFS('Daily Diary'!A:A,'Grafico Strategie Settimanali'!B163,'Daily Diary'!E:E,\"PUNTA SQ.CASA\",'Daily Diary'!E:E,\"PUNTA SQ.CASA\",'Daily Diary'!K:K,\"WIN\")","v":0},{"$f":"COUNTIFS('Daily Diary'!A:A,'Grafico Strategie Settimanali'!B163,'Daily Diary'!E:E,\"PUNTA SQ.OSPITE\",'Daily Diary'!E:E,\"PUNTA SQ.OSPITE\",'Daily Diary'!K:K,\"WIN\")","v":0},{"$f":"COUNTIFS('Daily Diary'!A:A,'Grafico Strategie Settimanali'!B163,'Daily Diary'!E:E,\"BANCA SFAVORITA\",'Daily Diary'!E:E,\"BANCA SFAVORITA\",'Daily Diary'!K:K,\"WIN\")","v":0},{"$f":"COUNTIFS('Daily Diary'!A:A,'Grafico Strategie Settimanali'!B163,'Daily Diary'!E:E,\"PUNTA OVER\",'Daily Diary'!E:E,\"PUNTA OVER\",'Daily Diary'!K:K,\"WIN\")","v":0},{"$f":"COUNTIFS('Daily Diary'!A:A,'Grafico Strategie Settimanali'!B163,'Daily Diary'!E:E,\"PUNTA UNDER\",'Daily Diary'!E:E,\"PUNTA UNDER\",'Daily Diary'!K:K,\"WIN\")","v":0},{"$f":"COUNTIFS('Daily Diary'!A:A,'Grafico Strategie Settimanali'!B163,'Daily Diary'!E:E,\"SCALPING\",'Daily Diary'!E:E,\"SCALPING\",'Daily Diary'!K:K,\"WIN\")","v":0},{"$f":"COUNTIFS('Daily Diary'!A:A,'Grafico Strategie Settimanali'!B163,'Daily Diary'!E:E,\"GT 90\",'Daily Diary'!E:E,\"GT 90\",'Daily Diary'!K:K,\"WIN\")","v":0},{"$f":"COUNTIFS('Daily Diary'!A:A,'Grafico Strategie Settimanali'!B163,'Daily Diary'!E:E,\"GT 110\",'Daily Diary'!E:E,\"GT 110\",'Daily Diary'!K:K,\"WIN\")","v":0},{"$f":"COUNTIFS('Daily Diary'!A:A,'Grafico Strategie Settimanali'!B163,'Daily Diary'!E:E,\"ALERT GOAL\",'Daily Diary'!E:E,\"ALERT GOAL\",'Daily Diary'!K:K,\"WIN\")","v":0},{"$f":"COUNTIFS('Daily Diary'!A:A,'Grafico Strategie Settimanali'!B163,'Daily Diary'!E:E,\"DRAW NO BET\",'Daily Diary'!E:E,\"DRAW NO BET\",'Daily Diary'!K:K,\"WIN\")","v":0},{"$f":"COUNTIFS('Daily Diary'!A:A,'Grafico Strategie Settimanali'!B163,'Daily Diary'!E:E,\"ALTRO\",'Daily Diary'!E:E,\"ALTRO\",'Daily Diary'!K:K,\"WIN\")","v":0},{"$error":"#DIV/0!"},{"$error":"#DIV/0!"},{"$error":"#DIV/0!"},{"$error":"#DIV/0!"},{"$error":"#DIV/0!"},{"$error":"#DIV/0!"},{"$error":"#DIV/0!"},{"$error":"#DIV/0!"},{"$error":"#DIV/0!"},{"$error":"#DIV/0!"},{"$error":"#DIV/0!"},{"$error":"#DIV/0!"}]
[0,"2023-10-13",{"$f":"COUNTIFS('Daily Diary'!A:A,'Grafico Strategie Settimanali'!B164,'Daily Diary'!E:E,\"BANCA PAREGGIO\")","v":0},{"$f":"COUNTIFS('Daily Diary'!A:A,'Grafico Strategie Settimanali'!B164,'Daily Diary'!E:E,\"PUNTA SQ.CASA\")","v":0},{"$f":"COUNTIFS('Daily Diary'!A:A,'Grafico Strategie Settimanali'!B164,'Daily Diary'!E:E,\"PUNTA SQ.OSPITE\")","v":0},{"$f":"COUNTIFS('Daily Diary'!A:A,'Grafico Strategie Settimanali'!B164,'Daily Diary'!E:E,\"BANCA SFAVORITA\")","v":0},{"$f":"COUNTIFS('Daily Diary'!A:A,'Grafico Strategie Settimanali'!B164,'Daily Diary'!E:E,\"PUNTA OVER\")","v":0},{"$f":"COUNTIFS('Daily Diary'!A:A,'Grafico Strategie Settimanali'!B164,'Daily Diary'!E:E,\"PUNTA UNDER\")","v":0},{"$f":"COUNTIFS('Daily Diary'!A:A,'Grafico Strategie Settimanali'!B164,'Daily Diary'!E:E,\"SCALPING\")","v":0},{"$f":"COUNTIFS('Daily Diary'!A:A,'Grafico Strategie Settimanali'!B164,'Daily Diary'!E:E,\"GT90\")","v":0},{"$f":"COUNTIFS('Daily Diary'!A:A,'Grafico Strategie Settimanali'!B164,'Daily Diary'!E:E,\"GT110\")","v":0},{"$f":"COUNTIFS('Daily Diary'!A:A,'Grafico Strategie Settimanali'!B164,'Daily Diary'!E:E,\"ALERT GOAL\")","v":0},{"$f":"COUNTIFS('Daily Diary'!A:A,'Grafico Strategie Settimanali'!B164,'Daily Diary'!E:E,\"DRAW NO BET\")","v":0},{"$f":"COUNTIFS('Daily Diary'!A:A,'Grafico Strategie Settimanali'!B164,'Daily Diary'!E:E,\"ALTRO\")","v":0},{"$f":"COUNTIFS('Daily Diary'!A:A,'Grafico Strategie Settimanali'!B164,'Daily Diary'!E:E,\"BANCA PAREGGIO\",'Daily Diary'!E:E,\"BANCA PAREGGIO\",'Daily Diary'!K:K,\"WIN\")","v":0},{"$f":"COUNTIFS('Daily Diary'!A:A,'Grafico Strategie Settimanali'!B164,'Daily Diary'!E:E,\"PUNTA SQ.CASA\",'Daily Diary'!E:E,\"PUNTA SQ.CASA\",'Daily Diary'!K:K,\"WIN\")","v":0},{"$f":"COUNTIFS('Daily Diary'!A:A,'Grafico Strategie Settimanali'!B164,'Daily Diary'!E:E,\"PUNTA SQ.OSPITE\",'Daily Diary'!E:E,\"PUNTA SQ.OSPITE\",'Daily Diary'!K:K,\"WIN\")","v":0},{"$f":"COUNTIFS('Daily Diary'!A:A,'Grafico Strategie Settimanali'!B164,'Daily Diary'!E:E,\"BANCA SFAVORITA\",'Daily Diary'!E:E,\"BANCA SFAVORITA\",'Daily Diary'!K:K,\"WIN\")","v":0},{"$f":"COUNTIFS('Daily Diary'!A:A,'Grafico Strategie Settimanali'!B164,'Daily Diary'!E:E,\"PUNTA OVER\",'Daily Diary'!E:E,\"PUNTA OVER\",'Daily Diary'!K:K,\"WIN\")","v":0},{"$f":"COUNTIFS('Daily Diary'!A:A,'Grafico Strategie Settimanali'!B164,'Daily Diary'!E:E,\"PUNTA UNDER\",'Daily Diary'!E:E,\"PUNTA UNDER\",'Daily Diary'!K:K,\"WIN\")","v":0},{"$f":"COUNTIFS('Daily Diary'!A:A,'Grafico Strategie Settimanali'!B164,'Daily Diary'!E:E,\"SCALPING\",'Daily Diary'!E:E,\"SCALPING\",'Daily Diary'!K:K,\"WIN\")","v":0},{"$f":"COUNTIFS('Daily Diary'!A:A,'Grafico Strategie Settimanali'!B164,'Daily Diary'!E:E,\"GT 90\",'Daily Diary'!E:E,\"GT 90\",'Daily Diary'!K:K,\"WIN\")","v":0},{"$f":"COUNTIFS('Daily Diary'!A:A,'Grafico Strategie Settimanali'!B164,'Daily Diary'!E:E,\"GT 110\",'Daily Diary'!E:E,\"GT 110\",'Daily Diary'!K:K,\"WIN\")","v":0},{"$f":"COUNTIFS('Daily Diary'!A:A,'Grafico Strategie Settimanali'!B164,'Daily Diary'!E:E,\"ALERT GOAL\",'Daily Diary'!E:E,\"ALERT GOAL\",'Daily Diary'!K:K,\"WIN\")","v":0},{"$f":"COUNTIFS('Daily Diary'!A:A,'Grafico Strategie Settimanali'!B164,'Daily Diary'!E:E,\"DRAW NO BET\",'Daily Diary'!E:E,\"DRAW NO BET\",'Daily Diary'!K:K,\"WIN\")","v":0},{"$f":"COUNTIFS('Daily Diary'!A:A,'Grafico Strategie Settimanali'!B164,'Daily Diary'!E:E,\"ALTRO\",'Daily Diary'!E:E,\"ALTRO\",'Daily Diary'!K:K,\"WIN\")","v":0},{"$error":"#DIV/0!"},{"$error":"#DIV/0!"},{"$error":"#DIV/0!"},{"$error":"#DIV/0!"},{"$error":"#DIV/0!"},{"$error":"#DIV/0!"},{"$error":"#DIV/0!"},{"$error":"#DIV/0!"},{"$error":"#DIV/0!"},{"$error":"#DIV/0!"},{"$error":"#DIV/0!"},{"$error":"#DIV/0!"}]
[0,"2023-10-14",{"$f":"COUNTIFS('Daily Diary'!A:A,'Grafico Strategie Settimanali'!B165,'Daily Diary'!E:E,\"BANCA PAREGGIO\")","v":0},{"$f":"COUNTIFS('Daily Diary'!A:A,'Grafico Strategie Settimanali'!B165,'Daily Diary'!E:E,\"PUNTA SQ.CASA\")","v":0},{"$f":"COUNTIFS('Daily Diary'!A:A,'Grafico Strategie Settimanali'!B165,'Daily Diary'!E:E,\"PUNTA SQ.OSPITE\")","v":0},{"$f":"COUNTIFS('Daily Diary'!A:A,'Grafico Strategie Settimanali'!B165,'Daily Diary'!E:E,\"BANCA SFAVORITA\")","v":0},{"$f":"COUNTIFS('Daily Diary'!A:A,'Grafico Strategie Settimanali'!B165,'Daily Diary'!E:E,\"PUNTA OVER\")","v":0},{"$f":"COUNTIFS('Daily Diary'!A:A,'Grafico Strategie Settimanali'!B165,'Daily Diary'!E:E,\"PUNTA UNDER\")","v":0},{"$f":"COUNTIFS('Daily Diary'!A:A,'Grafico Strategie Settimanali'!B165,'Daily Diary'!E:E,\"SCALPING\")","v":0},{"$f":"COUNTIFS('Daily Diary'!A:A,'Grafico Strategie Settimanali'!B165,'Daily Diary'!E:E,\"GT90\")","v":0},{"$f":"COUNTIFS('Daily Diary'!A:A,'Grafico Strategie Settimanali'!B165,'Daily Diary'!E:E,\"GT110\")","v":0},{"$f":"COUNTIFS('Daily Diary'!A:A,'Grafico Strategie Settimanali'!B165,'Daily Diary'!E:E,\"ALERT GOAL\")","v":0},{"$f":"COUNTIFS('Daily Diary'!A:A,'Grafico Strategie Settimanali'!B165,'Daily Diary'!E:E,\"DRAW NO BET\")","v":0},{"$f":"COUNTIFS('Daily Diary'!A:A,'Grafico Strategie Settimanali'!B165,'Daily Diary'!E:E,\"ALTRO\")","v":0},{"$f":"COUNTIFS('Daily Diary'!A:A,'Grafico Strategie Settimanali'!B165,'Daily Diary'!E:E,\"BANCA PAREGGIO\",'Daily Diary'!E:E,\"BANCA PAREGGIO\",'Daily Diary'!K:K,\"WIN\")","v":0},{"$f":"COUNTIFS('Daily Diary'!A:A,'Grafico Strategie Settimanali'!B165,'Daily Diary'!E:E,\"PUNTA SQ.CASA\",'Daily Diary'!E:E,\"PUNTA SQ.CASA\",'Daily Diary'!K:K,\"WIN\")","v":0},{"$f":"COUNTIFS('Daily Diary'!A:A,'Grafico Strategie Settimanali'!B165,'Daily Diary'!E:E,\"PUNTA SQ.OSPITE\",'Daily Diary'!E:E,\"PUNTA SQ.OSPITE\",'Daily Diary'!K:K,\"WIN\")","v":0},{"$f":"COUNTIFS('Daily Diary'!A:A,'Grafico Strategie Settimanali'!B165,'Daily Diary'!E:E,\"BANCA SFAVORITA\",'Daily Diary'!E:E,\"BANCA SFAVORITA\",'Daily Diary'!K:K,\"WIN\")","v":0},{"$f":"COUNTIFS('Daily Diary'!A:A,'Grafico Strategie Settimanali'!B165,'Daily Diary'!E:E,\"PUNTA OVER\",'Daily Diary'!E:E,\"PUNTA OVER\",'Daily Diary'!K:K,\"WIN\")","v":0},{"$f":"COUNTIFS('Daily Diary'!A:A,'Grafico Strategie Settimanali'!B165,'Daily Diary'!E:E,\"PUNTA UNDER\",'Daily Diary'!E:E,\"PUNTA UNDER\",'Daily Diary'!K:K,\"WIN\")","v":0},{"$f":"COUNTIFS('Daily Diary'!A:A,'Grafico Strategie Settimanali'!B165,'Daily Diary'!E:E,\"SCALPING\",'Daily Diary'!E:E,\"SCALPING\",'Daily Diary'!K:K,\"WIN\")","v":0},{"$f":"COUNTIFS('Daily Diary'!A:A,'Grafico Strategie Settimanali'!B165,'Daily Diary'!E:E,\"GT 90\",'Daily Diary'!E:E,\"GT 90\",'Daily Diary'!K:K,\"WIN\")","v":0},{"$f":"COUNTIFS('Daily Diary'!A:A,'Grafico Strategie Settimanali'!B165,'Daily Diary'!E:E,\"GT 110\",'Daily Diary'!E:E,\"GT 110\",'Daily Diary'!K:K,\"WIN\")","v":0},{"$f":"COUNTIFS('Daily Diary'!A:A,'Grafico Strategie Settimanali'!B165,'Daily Diary'!E:E,\"ALERT GOAL\",'Daily Diary'!E:E,\"ALERT GOAL\",'Daily Diary'!K:K,\"WIN\")","v":0},{"$f":"COUNTIFS('Daily Diary'!A:A,'Grafico Strategie Settimanali'!B165,'Daily Diary'!E:E,\"DRAW NO BET\",'Daily Diary'!E:E,\"DRAW NO BET\",'Daily Diary'!K:K,\"WIN\")","v":0},{"$f":"COUNTIFS('Daily Diary'!A:A,'Grafico Strategie Settimanali'!B165,'Daily Diary'!E:E,\"ALTRO\",'Daily Diary'!E:E,\"ALTRO\",'Daily Diary'!K:K,\"WIN\")","v":0},{"$error":"#DIV/0!"},{"$error":"#DIV/0!"},{"$error":"#DIV/0!"},{"$error":"#DIV/0!"},{"$error":"#DIV/0!"},{"$error":"#DIV/0!"},{"$error":"#DIV/0!"},{"$error":"#DIV/0!"},{"$error":"#DIV/0!"},{"$error":"#DIV/0!"},{"$error":"#DIV/0!"},{"$error":"#DIV/0!"}]
[0,"2023-10-15",{"$f":"COUNTIFS('Daily Diary'!A:A,'Grafico Strategie Settimanali'!B166,'Daily Diary'!E:E,\"BANCA PAREGGIO\")","v":0},{"$f":"COUNTIFS('Daily Diary'!A:A,'Grafico Strategie Settimanali'!B166,'Daily Diary'!E:E,\"PUNTA SQ.CASA\")","v":0},{"$f":"COUNTIFS('Daily Diary'!A:A,'Grafico Strategie Settimanali'!B166,'Daily Diary'!E:E,\"PUNTA SQ.OSPITE\")","v":0},{"$f":"COUNTIFS('Daily Diary'!A:A,'Grafico Strategie Settimanali'!B166,'Daily Diary'!E:E,\"BANCA SFAVORITA\")","v":0},{"$f":"COUNTIFS('Daily Diary'!A:A,'Grafico Strategie Settimanali'!B166,'Daily Diary'!E:E,\"PUNTA OVER\")","v":0},{"$f":"COUNTIFS('Daily Diary'!A:A,'Grafico Strategie Settimanali'!B166,'Daily Diary'!E:E,\"PUNTA UNDER\")","v":0},{"$f":"COUNTIFS('Daily Diary'!A:A,'Grafico Strategie Settimanali'!B166,'Daily Diary'!E:E,\"SCALPING\")","v":0},{"$f":"COUNTIFS('Daily Diary'!A:A,'Grafico Strategie Settimanali'!B166,'Daily Diary'!E:E,\"GT90\")","v":0},{"$f":"COUNTIFS('Daily Diary'!A:A,'Grafico Strategie Settimanali'!B166,'Daily Diary'!E:E,\"GT110\")","v":0},{"$f":"COUNTIFS('Daily Diary'!A:A,'Grafico Strategie Settimanali'!B166,'Daily Diary'!E:E,\"ALERT GOAL\")","v":0},{"$f":"COUNTIFS('Daily Diary'!A:A,'Grafico Strategie Settimanali'!B166,'Daily Diary'!E:E,\"DRAW NO BET\")","v":0},{"$f":"COUNTIFS('Daily Diary'!A:A,'Grafico Strategie Settimanali'!B166,'Daily Diary'!E:E,\"ALTRO\")","v":0},{"$f":"COUNTIFS('Daily Diary'!A:A,'Grafico Strategie Settimanali'!B166,'Daily Diary'!E:E,\"BANCA PAREGGIO\",'Daily Diary'!E:E,\"BANCA PAREGGIO\",'Daily Diary'!K:K,\"WIN\")","v":0},{"$f":"COUNTIFS('Daily Diary'!A:A,'Grafico Strategie Settimanali'!B166,'Daily Diary'!E:E,\"PUNTA SQ.CASA\",'Daily Diary'!E:E,\"PUNTA SQ.CASA\",'Daily Diary'!K:K,\"WIN\")","v":0},{"$f":"COUNTIFS('Daily Diary'!A:A,'Grafico Strategie Settimanali'!B166,'Daily Diary'!E:E,\"PUNTA SQ.OSPITE\",'Daily Diary'!E:E,\"PUNTA SQ.OSPITE\",'Daily Diary'!K:K,\"WIN\")","v":0},{"$f":"COUNTIFS('Daily Diary'!A:A,'Grafico Strategie Settimanali'!B166,'Daily Diary'!E:E,\"BANCA SFAVORITA\",'Daily Diary'!E:E,\"BANCA SFAVORITA\",'Daily Diary'!K:K,\"WIN\")","v":0},{"$f":"COUNTIFS('Daily Diary'!A:A,'Grafico Strategie Settimanali'!B166,'Daily Diary'!E:E,\"PUNTA OVER\",'Daily Diary'!E:E,\"PUNTA OVER\",'Daily Diary'!K:K,\"WIN\")","v":0},{"$f":"COUNTIFS('Daily Diary'!A:A,'Grafico Strategie Settimanali'!B166,'Daily Diary'!E:E,\"PUNTA UNDER\",'Daily Diary'!E:E,\"PUNTA UNDER\",'Daily Diary'!K:K,\"WIN\")","v":0},{"$f":"COUNTIFS('Daily Diary'!A:A,'Grafico Strategie Settimanali'!B166,'Daily Diary'!E:E,\"SCALPING\",'Daily Diary'!E:E,\"SCALPING\",'Daily Diary'!K:K,\"WIN\")","v":0},{"$f":"COUNTIFS('Daily Diary'!A:A,'Grafico Strategie Settimanali'!B166,'Daily Diary'!E:E,\"GT 90\",'Daily Diary'!E:E,\"GT 90\",'Daily Diary'!K:K,\"WIN\")","v":0},{"$f":"COUNTIFS('Daily Diary'!A:A,'Grafico Strategie Settimanali'!B166,'Daily Diary'!E:E,\"GT 110\",'Daily Diary'!E:E,\"GT 110\",'Daily Diary'!K:K,\"WIN\")","v":0},{"$f":"COUNTIFS('Daily Diary'!A:A,'Grafico Strategie Settimanali'!B166,'Daily Diary'!E:E,\"ALERT GOAL\",'Daily Diary'!E:E,\"ALERT GOAL\",'Daily Diary'!K:K,\"WIN\")","v":0},{"$f":"COUNTIFS('Daily Diary'!A:A,'Grafico Strategie Settimanali'!B166,'Daily Diary'!E:E,\"DRAW NO BET\",'Daily Diary'!E:E,\"DRAW NO BET\",'Daily Diary'!K:K,\"WIN\")","v":0},{"$f":"COUNTIFS('Daily Diary'!A:A,'Grafico Strategie Settimanali'!B166,'Daily Diary'!E:E,\"ALTRO\",'Daily Diary'!E:E,\"ALTRO\",'Daily Diary'!K:K,\"WIN\")","v":0},{"$error":"#DIV/0!"},{"$error":"#DIV/0!"},{"$error":"#DIV/0!"},{"$error":"#DIV/0!"},{"$error":"#DIV/0!"},{"$error":"#DIV/0!"},{"$error":"#DIV/0!"},{"$error":"#DIV/0!"},{"$error":"#DIV/0!"},{"$error":"#DIV/0!"},{"$error":"#DIV/0!"},{"$error":"#DIV/0!"}]
[0,"2023-10-16",{"$f":"COUNTIFS('Daily Diary'!A:A,'Grafico Strategie Settimanali'!B167,'Daily Diary'!E:E,\"BANCA PAREGGIO\")","v":0},{"$f":"COUNTIFS('Daily Diary'!A:A,'Grafico Strategie Settimanali'!B167,'Daily Diary'!E:E,\"PUNTA SQ.CASA\")","v":0},{"$f":"COUNTIFS('Daily Diary'!A:A,'Grafico Strategie Settimanali'!B167,'Daily Diary'!E:E,\"PUNTA SQ.OSPITE\")","v":0},{"$f":"COUNTIFS('Daily Diary'!A:A,'Grafico Strategie Settimanali'!B167,'Daily Diary'!E:E,\"BANCA SFAVORITA\")","v":0},{"$f":"COUNTIFS('Daily Diary'!A:A,'Grafico Strategie Settimanali'!B167,'Daily Diary'!E:E,\"PUNTA OVER\")","v":0},{"$f":"COUNTIFS('Daily Diary'!A:A,'Grafico Strategie Settimanali'!B167,'Daily Diary'!E:E,\"PUNTA UNDER\")","v":0},{"$f":"COUNTIFS('Daily Diary'!A:A,'Grafico Strategie Settimanali'!B167,'Daily Diary'!E:E,\"SCALPING\")","v":0},{"$f":"COUNTIFS('Daily Diary'!A:A,'Grafico Strategie Settimanali'!B167,'Daily Diary'!E:E,\"GT90\")","v":0},{"$f":"COUNTIFS('Daily Diary'!A:A,'Grafico Strategie Settimanali'!B167,'Daily Diary'!E:E,\"GT110\")","v":0},{"$f":"COUNTIFS('Daily Diary'!A:A,'Grafico Strategie Settimanali'!B167,'Daily Diary'!E:E,\"ALERT GOAL\")","v":0},{"$f":"COUNTIFS('Daily Diary'!A:A,'Grafico Strategie Settimanali'!B167,'Daily Diary'!E:E,\"DRAW NO BET\")","v":0},{"$f":"COUNTIFS('Daily Diary'!A:A,'Grafico Strategie Settimanali'!B167,'Daily Diary'!E:E,\"ALTRO\")","v":0},{"$f":"COUNTIFS('Daily Diary'!A:A,'Grafico Strategie Settimanali'!B167,'Daily Diary'!E:E,\"BANCA PAREGGIO\",'Daily Diary'!E:E,\"BANCA PAREGGIO\",'Daily Diary'!K:K,\"WIN\")","v":0},{"$f":"COUNTIFS('Daily Diary'!A:A,'Grafico Strategie Settimanali'!B167,'Daily Diary'!E:E,\"PUNTA SQ.CASA\",'Daily Diary'!E:E,\"PUNTA SQ.CASA\",'Daily Diary'!K:K,\"WIN\")","v":0},{"$f":"COUNTIFS('Daily Diary'!A:A,'Grafico Strategie Settimanali'!B167,'Daily Diary'!E:E,\"PUNTA SQ.OSPITE\",'Daily Diary'!E:E,\"PUNTA SQ.OSPITE\",'Daily Diary'!K:K,\"WIN\")","v":0},{"$f":"COUNTIFS('Daily Diary'!A:A,'Grafico Strategie Settimanali'!B167,'Daily Diary'!E:E,\"BANCA SFAVORITA\",'Daily Diary'!E:E,\"BANCA SFAVORITA\",'Daily Diary'!K:K,\"WIN\")","v":0},{"$f":"COUNTIFS('Daily Diary'!A:A,'Grafico Strategie Settimanali'!B167,'Daily Diary'!E:E,\"PUNTA OVER\",'Daily Diary'!E:E,\"PUNTA OVER\",'Daily Diary'!K:K,\"WIN\")","v":0},{"$f":"COUNTIFS('Daily Diary'!A:A,'Grafico Strategie Settimanali'!B167,'Daily Diary'!E:E,\"PUNTA UNDER\",'Daily Diary'!E:E,\"PUNTA UNDER\",'Daily Diary'!K:K,\"WIN\")","v":0},{"$f":"COUNTIFS('Daily Diary'!A:A,'Grafico Strategie Settimanali'!B167,'Daily Diary'!E:E,\"SCALPING\",'Daily Diary'!E:E,\"SCALPING\",'Daily Diary'!K:K,\"WIN\")","v":0},{"$f":"COUNTIFS('Daily Diary'!A:A,'Grafico Strategie Settimanali'!B167,'Daily Diary'!E:E,\"GT 90\",'Daily Diary'!E:E,\"GT 90\",'Daily Diary'!K:K,\"WIN\")","v":0},{"$f":"COUNTIFS('Daily Diary'!A:A,'Grafico Strategie Settimanali'!B167,'Daily Diary'!E:E,\"GT 110\",'Daily Diary'!E:E,\"GT 110\",'Daily Diary'!K:K,\"WIN\")","v":0},{"$f":"COUNTIFS('Daily Diary'!A:A,'Grafico Strategie Settimanali'!B167,'Daily Diary'!E:E,\"ALERT GOAL\",'Daily Diary'!E:E,\"ALERT GOAL\",'Daily Diary'!K:K,\"WIN\")","v":0},{"$f":"COUNTIFS('Daily Diary'!A:A,'Grafico Strategie Settimanali'!B167,'Daily Diary'!E:E,\"DRAW NO BET\",'Daily Diary'!E:E,\"DRAW NO BET\",'Daily Diary'!K:K,\"WIN\")","v":0},{"$f":"COUNTIFS('Daily Diary'!A:A,'Grafico Strategie Settimanali'!B167,'Daily Diary'!E:E,\"ALTRO\",'Daily Diary'!E:E,\"ALTRO\",'Daily Diary'!K:K,\"WIN\")","v":0},{"$error":"#DIV/0!"},{"$error":"#DIV/0!"},{"$error":"#DIV/0!"},{"$error":"#DIV/0!"},{"$error":"#DIV/0!"},{"$error":"#DIV/0!"},{"$error":"#DIV/0!"},{"$error":"#DIV/0!"},{"$error":"#DIV/0!"},{"$error":"#DIV/0!"},{"$error":"#DIV/0!"},{"$error":"#DIV/0!"}]
[0,"2023-10-17",{"$f":"COUNTIFS('Daily Diary'!A:A,'Grafico Strategie Settimanali'!B168,'Daily Diary'!E:E,\"BANCA PAREGGIO\")","v":0},{"$f":"COUNTIFS('Daily Diary'!A:A,'Grafico Strategie Settimanali'!B168,'Daily Diary'!E:E,\"PUNTA SQ.CASA\")","v":0},{"$f":"COUNTIFS('Daily Diary'!A:A,'Grafico Strategie Settimanali'!B168,'Daily Diary'!E:E,\"PUNTA SQ.OSPITE\")","v":0},{"$f":"COUNTIFS('Daily Diary'!A:A,'Grafico Strategie Settimanali'!B168,'Daily Diary'!E:E,\"BANCA SFAVORITA\")","v":0},{"$f":"COUNTIFS('Daily Diary'!A:A,'Grafico Strategie Settimanali'!B168,'Daily Diary'!E:E,\"PUNTA OVER\")","v":0},{"$f":"COUNTIFS('Daily Diary'!A:A,'Grafico Strategie Settimanali'!B168,'Daily Diary'!E:E,\"PUNTA UNDER\")","v":0},{"$f":"COUNTIFS('Daily Diary'!A:A,'Grafico Strategie Settimanali'!B168,'Daily Diary'!E:E,\"SCALPING\")","v":0},{"$f":"COUNTIFS('Daily Diary'!A:A,'Grafico Strategie Settimanali'!B168,'Daily Diary'!E:E,\"GT90\")","v":0},{"$f":"COUNTIFS('Daily Diary'!A:A,'Grafico Strategie Settimanali'!B168,'Daily Diary'!E:E,\"GT110\")","v":0},{"$f":"COUNTIFS('Daily Diary'!A:A,'Grafico Strategie Settimanali'!B168,'Daily Diary'!E:E,\"ALERT GOAL\")","v":0},{"$f":"COUNTIFS('Daily Diary'!A:A,'Grafico Strategie Settimanali'!B168,'Daily Diary'!E:E,\"DRAW NO BET\")","v":0},{"$f":"COUNTIFS('Daily Diary'!A:A,'Grafico Strategie Settimanali'!B168,'Daily Diary'!E:E,\"ALTRO\")","v":0},{"$f":"COUNTIFS('Daily Diary'!A:A,'Grafico Strategie Settimanali'!B168,'Daily Diary'!E:E,\"BANCA PAREGGIO\",'Daily Diary'!E:E,\"BANCA PAREGGIO\",'Daily Diary'!K:K,\"WIN\")","v":0},{"$f":"COUNTIFS('Daily Diary'!A:A,'Grafico Strategie Settimanali'!B168,'Daily Diary'!E:E,\"PUNTA SQ.CASA\",'Daily Diary'!E:E,\"PUNTA SQ.CASA\",'Daily Diary'!K:K,\"WIN\")","v":0},{"$f":"COUNTIFS('Daily Diary'!A:A,'Grafico Strategie Settimanali'!B168,'Daily Diary'!E:E,\"PUNTA SQ.OSPITE\",'Daily Diary'!E:E,\"PUNTA SQ.OSPITE\",'Daily Diary'!K:K,\"WIN\")","v":0},{"$f":"COUNTIFS('Daily Diary'!A:A,'Grafico Strategie Settimanali'!B168,'Daily Diary'!E:E,\"BANCA SFAVORITA\",'Daily Diary'!E:E,\"BANCA SFAVORITA\",'Daily Diary'!K:K,\"WIN\")","v":0},{"$f":"COUNTIFS('Daily Diary'!A:A,'Grafico Strategie Settimanali'!B168,'Daily Diary'!E:E,\"PUNTA OVER\",'Daily Diary'!E:E,\"PUNTA OVER\",'Daily Diary'!K:K,\"WIN\")","v":0},{"$f":"COUNTIFS('Daily Diary'!A:A,'Grafico Strategie Settimanali'!B168,'Daily Diary'!E:E,\"PUNTA UNDER\",'Daily Diary'!E:E,\"PUNTA UNDER\",'Daily Diary'!K:K,\"WIN\")","v":0},{"$f":"COUNTIFS('Daily Diary'!A:A,'Grafico Strategie Settimanali'!B168,'Daily Diary'!E:E,\"SCALPING\",'Daily Diary'!E:E,\"SCALPING\",'Daily Diary'!K:K,\"WIN\")","v":0},{"$f":"COUNTIFS('Daily Diary'!A:A,'Grafico Strategie Settimanali'!B168,'Daily Diary'!E:E,\"GT 90\",'Daily Diary'!E:E,\"GT 90\",'Daily Diary'!K:K,\"WIN\")","v":0},{"$f":"COUNTIFS('Daily Diary'!A:A,'Grafico Strategie Settimanali'!B168,'Daily Diary'!E:E,\"GT 110\",'Daily Diary'!E:E,\"GT 110\",'Daily Diary'!K:K,\"WIN\")","v":0},{"$f":"COUNTIFS('Daily Diary'!A:A,'Grafico Strategie Settimanali'!B168,'Daily Diary'!E:E,\"ALERT GOAL\",'Daily Diary'!E:E,\"ALERT GOAL\",'Daily Diary'!K:K,\"WIN\")","v":0},{"$f":"COUNTIFS('Daily Diary'!A:A,'Grafico Strategie Settimanali'!B168,'Daily Diary'!E:E,\"DRAW NO BET\",'Daily Diary'!E:E,\"DRAW NO BET\",'Daily Diary'!K:K,\"WIN\")","v":0},{"$f":"COUNTIFS('Daily Diary'!A:A,'Grafico Strategie Settimanali'!B168,'Daily Diary'!E:E,\"ALTRO\",'Daily Diary'!E:E,\"ALTRO\",'Daily Diary'!K:K,\"WIN\")","v":0},{"$error":"#DIV/0!"},{"$error":"#DIV/0!"},{"$error":"#DIV/0!"},{"$error":"#DIV/0!"},{"$error":"#DIV/0!"},{"$error":"#DIV/0!"},{"$error":"#DIV/0!"},{"$error":"#DIV/0!"},{"$error":"#DIV/0!"},{"$error":"#DIV/0!"},{"$error":"#DIV/0!"},{"$error":"#DIV/0!"}]
[0,"2023-10-18",{"$f":"COUNTIFS('Daily Diary'!A:A,'Grafico Strategie Settimanali'!B169,'Daily Diary'!E:E,\"BANCA PAREGGIO\")","v":0},{"$f":"COUNTIFS('Daily Diary'!A:A,'Grafico Strategie Settimanali'!B169,'Daily Diary'!E:E,\"PUNTA SQ.CASA\")","v":0},{"$f":"COUNTIFS('Daily Diary'!A:A,'Grafico Strategie Settimanali'!B169,'Daily Diary'!E:E,\"PUNTA SQ.OSPITE\")","v":0},{"$f":"COUNTIFS('Daily Diary'!A:A,'Grafico Strategie Settimanali'!B169,'Daily Diary'!E:E,\"BANCA SFAVORITA\")","v":0},{"$f":"COUNTIFS('Daily Diary'!A:A,'Grafico Strategie Settimanali'!B169,'Daily Diary'!E:E,\"PUNTA OVER\")","v":0},{"$f":"COUNTIFS('Daily Diary'!A:A,'Grafico Strategie Settimanali'!B169,'Daily Diary'!E:E,\"PUNTA UNDER\")","v":0},{"$f":"COUNTIFS('Daily Diary'!A:A,'Grafico Strategie Settimanali'!B169,'Daily Diary'!E:E,\"SCALPING\")","v":0},{"$f":"COUNTIFS('Daily Diary'!A:A,'Grafico Strategie Settimanali'!B169,'Daily Diary'!E:E,\"GT90\")","v":0},{"$f":"COUNTIFS('Daily Diary'!A:A,'Grafico Strategie Settimanali'!B169,'Daily Diary'!E:E,\"GT110\")","v":0},{"$f":"COUNTIFS('Daily Diary'!A:A,'Grafico Strategie Settimanali'!B169,'Daily Diary'!E:E,\"ALERT GOAL\")","v":0},{"$f":"COUNTIFS('Daily Diary'!A:A,'Grafico Strategie Settimanali'!B169,'Daily Diary'!E:E,\"DRAW NO BET\")","v":0},{"$f":"COUNTIFS('Daily Diary'!A:A,'Grafico Strategie Settimanali'!B169,'Daily Diary'!E:E,\"ALTRO\")","v":0},{"$f":"COUNTIFS('Daily Diary'!A:A,'Grafico Strategie Settimanali'!B169,'Daily Diary'!E:E,\"BANCA PAREGGIO\",'Daily Diary'!E:E,\"BANCA PAREGGIO\",'Daily Diary'!K:K,\"WIN\")","v":0},{"$f":"COUNTIFS('Daily Diary'!A:A,'Grafico Strategie Settimanali'!B169,'Daily Diary'!E:E,\"PUNTA SQ.CASA\",'Daily Diary'!E:E,\"PUNTA SQ.CASA\",'Daily Diary'!K:K,\"WIN\")","v":0},{"$f":"COUNTIFS('Daily Diary'!A:A,'Grafico Strategie Settimanali'!B169,'Daily Diary'!E:E,\"PUNTA SQ.OSPITE\",'Daily Diary'!E:E,\"PUNTA SQ.OSPITE\",'Daily Diary'!K:K,\"WIN\")","v":0},{"$f":"COUNTIFS('Daily Diary'!A:A,'Grafico Strategie Settimanali'!B169,'Daily Diary'!E:E,\"BANCA SFAVORITA\",'Daily Diary'!E:E,\"BANCA SFAVORITA\",'Daily Diary'!K:K,\"WIN\")","v":0},{"$f":"COUNTIFS('Daily Diary'!A:A,'Grafico Strategie Settimanali'!B169,'Daily Diary'!E:E,\"PUNTA OVER\",'Daily Diary'!E:E,\"PUNTA OVER\",'Daily Diary'!K:K,\"WIN\")","v":0},{"$f":"COUNTIFS('Daily Diary'!A:A,'Grafico Strategie Settimanali'!B169,'Daily Diary'!E:E,\"PUNTA UNDER\",'Daily Diary'!E:E,\"PUNTA UNDER\",'Daily Diary'!K:K,\"WIN\")","v":0},{"$f":"COUNTIFS('Daily Diary'!A:A,'Grafico Strategie Settimanali'!B169,'Daily Diary'!E:E,\"SCALPING\",'Daily Diary'!E:E,\"SCALPING\",'Daily Diary'!K:K,\"WIN\")","v":0},{"$f":"COUNTIFS('Daily Diary'!A:A,'Grafico Strategie Settimanali'!B169,'Daily Diary'!E:E,\"GT 90\",'Daily Diary'!E:E,\"GT 90\",'Daily Diary'!K:K,\"WIN\")","v":0},{"$f":"COUNTIFS('Daily Diary'!A:A,'Grafico Strategie Settimanali'!B169,'Daily Diary'!E:E,\"GT 110\",'Daily Diary'!E:E,\"GT 110\",'Daily Diary'!K:K,\"WIN\")","v":0},{"$f":"COUNTIFS('Daily Diary'!A:A,'Grafico Strategie Settimanali'!B169,'Daily Diary'!E:E,\"ALERT GOAL\",'Daily Diary'!E:E,\"ALERT GOAL\",'Daily Diary'!K:K,\"WIN\")","v":0},{"$f":"COUNTIFS('Daily Diary'!A:A,'Grafico Strategie Settimanali'!B169,'Daily Diary'!E:E,\"DRAW NO BET\",'Daily Diary'!E:E,\"DRAW NO BET\",'Daily Diary'!K:K,\"WIN\")","v":0},{"$f":"COUNTIFS('Daily Diary'!A:A,'Grafico Strategie Settimanali'!B169,'Daily Diary'!E:E,\"ALTRO\",'Daily Diary'!E:E,\"ALTRO\",'Daily Diary'!K:K,\"WIN\")","v":0},{"$error":"#DIV/0!"},{"$error":"#DIV/0!"},{"$error":"#DIV/0!"},{"$error":"#DIV/0!"},{"$error":"#DIV/0!"},{"$error":"#DIV/0!"},{"$error":"#DIV/0!"},{"$error":"#DIV/0!"},{"$error":"#DIV/0!"},{"$error":"#DIV/0!"},{"$error":"#DIV/0!"},{"$error":"#DIV/0!"}]
[0,"2023-10-19",{"$f":"COUNTIFS('Daily Diary'!A:A,'Grafico Strategie Settimanali'!B170,'Daily Diary'!E:E,\"BANCA PAREGGIO\")","v":0},{"$f":"COUNTIFS('Daily Diary'!A:A,'Grafico Strategie Settimanali'!B170,'Daily Diary'!E:E,\"PUNTA SQ.CASA\")","v":0},{"$f":"COUNTIFS('Daily Diary'!A:A,'Grafico Strategie Settimanali'!B170,'Daily Diary'!E:E,\"PUNTA SQ.OSPITE\")","v":0},{"$f":"COUNTIFS('Daily Diary'!A:A,'Grafico Strategie Settimanali'!B170,'Daily Diary'!E:E,\"BANCA SFAVORITA\")","v":0},{"$f":"COUNTIFS('Daily Diary'!A:A,'Grafico Strategie Settimanali'!B170,'Daily Diary'!E:E,\"PUNTA OVER\")","v":0},{"$f":"COUNTIFS('Daily Diary'!A:A,'Grafico Strategie Settimanali'!B170,'Daily Diary'!E:E,\"PUNTA UNDER\")","v":0},{"$f":"COUNTIFS('Daily Diary'!A:A,'Grafico Strategie Settimanali'!B170,'Daily Diary'!E:E,\"SCALPING\")","v":0},{"$f":"COUNTIFS('Daily Diary'!A:A,'Grafico Strategie Settimanali'!B170,'Daily Diary'!E:E,\"GT90\")","v":0},{"$f":"COUNTIFS('Daily Diary'!A:A,'Grafico Strategie Settimanali'!B170,'Daily Diary'!E:E,\"GT110\")","v":0},{"$f":"COUNTIFS('Daily Diary'!A:A,'Grafico Strategie Settimanali'!B170,'Daily Diary'!E:E,\"ALERT GOAL\")","v":0},{"$f":"COUNTIFS('Daily Diary'!A:A,'Grafico Strategie Settimanali'!B170,'Daily Diary'!E:E,\"DRAW NO BET\")","v":0},{"$f":"COUNTIFS('Daily Diary'!A:A,'Grafico Strategie Settimanali'!B170,'Daily Diary'!E:E,\"ALTRO\")","v":0},{"$f":"COUNTIFS('Daily Diary'!A:A,'Grafico Strategie Settimanali'!B170,'Daily Diary'!E:E,\"BANCA PAREGGIO\",'Daily Diary'!E:E,\"BANCA PAREGGIO\",'Daily Diary'!K:K,\"WIN\")","v":0},{"$f":"COUNTIFS('Daily Diary'!A:A,'Grafico Strategie Settimanali'!B170,'Daily Diary'!E:E,\"PUNTA SQ.CASA\",'Daily Diary'!E:E,\"PUNTA SQ.CASA\",'Daily Diary'!K:K,\"WIN\")","v":0},{"$f":"COUNTIFS('Daily Diary'!A:A,'Grafico Strategie Settimanali'!B170,'Daily Diary'!E:E,\"PUNTA SQ.OSPITE\",'Daily Diary'!E:E,\"PUNTA SQ.OSPITE\",'Daily Diary'!K:K,\"WIN\")","v":0},{"$f":"COUNTIFS('Daily Diary'!A:A,'Grafico Strategie Settimanali'!B170,'Daily Diary'!E:E,\"BANCA SFAVORITA\",'Daily Diary'!E:E,\"BANCA SFAVORITA\",'Daily Diary'!K:K,\"WIN\")","v":0},{"$f":"COUNTIFS('Daily Diary'!A:A,'Grafico Strategie Settimanali'!B170,'Daily Diary'!E:E,\"PUNTA OVER\",'Daily Diary'!E:E,\"PUNTA OVER\",'Daily Diary'!K:K,\"WIN\")","v":0},{"$f":"COUNTIFS('Daily Diary'!A:A,'Grafico Strategie Settimanali'!B170,'Daily Diary'!E:E,\"PUNTA UNDER\",'Daily Diary'!E:E,\"PUNTA UNDER\",'Daily Diary'!K:K,\"WIN\")","v":0},{"$f":"COUNTIFS('Daily Diary'!A:A,'Grafico Strategie Settimanali'!B170,'Daily Diary'!E:E,\"SCALPING\",'Daily Diary'!E:E,\"SCALPING\",'Daily Diary'!K:K,\"WIN\")","v":0},{"$f":"COUNTIFS('Daily Diary'!A:A,'Grafico Strategie Settimanali'!B170,'Daily Diary'!E:E,\"GT 90\",'Daily Diary'!E:E,\"GT 90\",'Daily Diary'!K:K,\"WIN\")","v":0},{"$f":"COUNTIFS('Daily Diary'!A:A,'Grafico Strategie Settimanali'!B170,'Daily Diary'!E:E,\"GT 110\",'Daily Diary'!E:E,\"GT 110\",'Daily Diary'!K:K,\"WIN\")","v":0},{"$f":"COUNTIFS('Daily Diary'!A:A,'Grafico Strategie Settimanali'!B170,'Daily Diary'!E:E,\"ALERT GOAL\",'Daily Diary'!E:E,\"ALERT GOAL\",'Daily Diary'!K:K,\"WIN\")","v":0},{"$f":"COUNTIFS('Daily Diary'!A:A,'Grafico Strategie Settimanali'!B170,'Daily Diary'!E:E,\"DRAW NO BET\",'Daily Diary'!E:E,\"DRAW NO BET\",'Daily Diary'!K:K,\"WIN\")","v":0},{"$f":"COUNTIFS('Daily Diary'!A:A,'Grafico Strategie Settimanali'!B170,'Daily Diary'!E:E,\"ALTRO\",'Daily Diary'!E:E,\"ALTRO\",'Daily Diary'!K:K,\"WIN\")","v":0},{"$error":"#DIV/0!"},{"$error":"#DIV/0!"},{"$error":"#DIV/0!"},{"$error":"#DIV/0!"},{"$error":"#DIV/0!"},{"$error":"#DIV/0!"},{"$error":"#DIV/0!"},{"$error":"#DIV/0!"},{"$error":"#DIV/0!"},{"$error":"#DIV/0!"},{"$error":"#DIV/0!"},{"$error":"#DIV/0!"}]
[0,"2023-10-20",{"$f":"COUNTIFS('Daily Diary'!A:A,'Grafico Strategie Settimanali'!B171,'Daily Diary'!E:E,\"BANCA PAREGGIO\")","v":0},{"$f":"COUNTIFS('Daily Diary'!A:A,'Grafico Strategie Settimanali'!B171,'Daily Diary'!E:E,\"PUNTA SQ.CASA\")","v":0},{"$f":"COUNTIFS('Daily Diary'!A:A,'Grafico Strategie Settimanali'!B171,'Daily Diary'!E:E,\"PUNTA SQ.OSPITE\")","v":0},{"$f":"COUNTIFS('Daily Diary'!A:A,'Grafico Strategie Settimanali'!B171,'Daily Diary'!E:E,\"BANCA SFAVORITA\")","v":0},{"$f":"COUNTIFS('Daily Diary'!A:A,'Grafico Strategie Settimanali'!B171,'Daily Diary'!E:E,\"PUNTA OVER\")","v":0},{"$f":"COUNTIFS('Daily Diary'!A:A,'Grafico Strategie Settimanali'!B171,'Daily Diary'!E:E,\"PUNTA UNDER\")","v":0},{"$f":"COUNTIFS('Daily Diary'!A:A,'Grafico Strategie Settimanali'!B171,'Daily Diary'!E:E,\"SCALPING\")","v":0},{"$f":"COUNTIFS('Daily Diary'!A:A,'Grafico Strategie Settimanali'!B171,'Daily Diary'!E:E,\"GT90\")","v":0},{"$f":"COUNTIFS('Daily Diary'!A:A,'Grafico Strategie Settimanali'!B171,'Daily Diary'!E:E,\"GT110\")","v":0},{"$f":"COUNTIFS('Daily Diary'!A:A,'Grafico Strategie Settimanali'!B171,'Daily Diary'!E:E,\"ALERT GOAL\")","v":0},{"$f":"COUNTIFS('Daily Diary'!A:A,'Grafico Strategie Settimanali'!B171,'Daily Diary'!E:E,\"DRAW NO BET\")","v":0},{"$f":"COUNTIFS('Daily Diary'!A:A,'Grafico Strategie Settimanali'!B171,'Daily Diary'!E:E,\"ALTRO\")","v":0},{"$f":"COUNTIFS('Daily Diary'!A:A,'Grafico Strategie Settimanali'!B171,'Daily Diary'!E:E,\"BANCA PAREGGIO\",'Daily Diary'!E:E,\"BANCA PAREGGIO\",'Daily Diary'!K:K,\"WIN\")","v":0},{"$f":"COUNTIFS('Daily Diary'!A:A,'Grafico Strategie Settimanali'!B171,'Daily Diary'!E:E,\"PUNTA SQ.CASA\",'Daily Diary'!E:E,\"PUNTA SQ.CASA\",'Daily Diary'!K:K,\"WIN\")","v":0},{"$f":"COUNTIFS('Daily Diary'!A:A,'Grafico Strategie Settimanali'!B171,'Daily Diary'!E:E,\"PUNTA SQ.OSPITE\",'Daily Diary'!E:E,\"PUNTA SQ.OSPITE\",'Daily Diary'!K:K,\"WIN\")","v":0},{"$f":"COUNTIFS('Daily Diary'!A:A,'Grafico Strategie Settimanali'!B171,'Daily Diary'!E:E,\"BANCA SFAVORITA\",'Daily Diary'!E:E,\"BANCA SFAVORITA\",'Daily Diary'!K:K,\"WIN\")","v":0},{"$f":"COUNTIFS('Daily Diary'!A:A,'Grafico Strategie Settimanali'!B171,'Daily Diary'!E:E,\"PUNTA OVER\",'Daily Diary'!E:E,\"PUNTA OVER\",'Daily Diary'!K:K,\"WIN\")","v":0},{"$f":"COUNTIFS('Daily Diary'!A:A,'Grafico Strategie Settimanali'!B171,'Daily Diary'!E:E,\"PUNTA UNDER\",'Daily Diary'!E:E,\"PUNTA UNDER\",'Daily Diary'!K:K,\"WIN\")","v":0},{"$f":"COUNTIFS('Daily Diary'!A:A,'Grafico Strategie Settimanali'!B171,'Daily Diary'!E:E,\"SCALPING\",'Daily Diary'!E:E,\"SCALPING\",'Daily Diary'!K:K,\"WIN\")","v":0},{"$f":"COUNTIFS('Daily Diary'!A:A,'Grafico Strategie Settimanali'!B171,'Daily Diary'!E:E,\"GT 90\",'Daily Diary'!E:E,\"GT 90\",'Daily Diary'!K:K,\"WIN\")","v":0},{"$f":"COUNTIFS('Daily Diary'!A:A,'Grafico Strategie Settimanali'!B171,'Daily Diary'!E:E,\"GT 110\",'Daily Diary'!E:E,\"GT 110\",'Daily Diary'!K:K,\"WIN\")","v":0},{"$f":"COUNTIFS('Daily Diary'!A:A,'Grafico Strategie Settimanali'!B171,'Daily Diary'!E:E,\"ALERT GOAL\",'Daily Diary'!E:E,\"ALERT GOAL\",'Daily Diary'!K:K,\"WIN\")","v":0},{"$f":"COUNTIFS('Daily Diary'!A:A,'Grafico Strategie Settimanali'!B171,'Daily Diary'!E:E,\"DRAW NO BET\",'Daily Diary'!E:E,\"DRAW NO BET\",'Daily Diary'!K:K,\"WIN\")","v":0},{"$f":"COUNTIFS('Daily Diary'!A:A,'Grafico Strategie Settimanali'!B171,'Daily Diary'!E:E,\"ALTRO\",'Daily Diary'!E:E,\"ALTRO\",'Daily Diary'!K:K,\"WIN\")","v":0},{"$error":"#DIV/0!"},{"$error":"#DIV/0!"},{"$error":"#DIV/0!"},{"$error":"#DIV/0!"},{"$error":"#DIV/0!"},{"$error":"#DIV/0!"},{"$error":"#DIV/0!"},{"$error":"#DIV/0!"},{"$error":"#DIV/0!"},{"$error":"#DIV/0!"},{"$error":"#DIV/0!"},{"$error":"#DIV/0!"}]
[0,"2023-10-21",{"$f":"COUNTIFS('Daily Diary'!A:A,'Grafico Strategie Settimanali'!B172,'Daily Diary'!E:E,\"BANCA PAREGGIO\")","v":0},{"$f":"COUNTIFS('Daily Diary'!A:A,'Grafico Strategie Settimanali'!B172,'Daily Diary'!E:E,\"PUNTA SQ.CASA\")","v":0},{"$f":"COUNTIFS('Daily Diary'!A:A,'Grafico Strategie Settimanali'!B172,'Daily Diary'!E:E,\"PUNTA SQ.OSPITE\")","v":0},{"$f":"COUNTIFS('Daily Diary'!A:A,'Grafico Strategie Settimanali'!B172,'Daily Diary'!E:E,\"BANCA SFAVORITA\")","v":0},{"$f":"COUNTIFS('Daily Diary'!A:A,'Grafico Strategie Settimanali'!B172,'Daily Diary'!E:E,\"PUNTA OVER\")","v":0},{"$f":"COUNTIFS('Daily Diary'!A:A,'Grafico Strategie Settimanali'!B172,'Daily Diary'!E:E,\"PUNTA UNDER\")","v":0},{"$f":"COUNTIFS('Daily Diary'!A:A,'Grafico Strategie Settimanali'!B172,'Daily Diary'!E:E,\"SCALPING\")","v":0},{"$f":"COUNTIFS('Daily Diary'!A:A,'Grafico Strategie Settimanali'!B172,'Daily Diary'!E:E,\"GT90\")","v":0},{"$f":"COUNTIFS('Daily Diary'!A:A,'Grafico Strategie Settimanali'!B172,'Daily Diary'!E:E,\"GT110\")","v":0},{"$f":"COUNTIFS('Daily Diary'!A:A,'Grafico Strategie Settimanali'!B172,'Daily Diary'!E:E,\"ALERT GOAL\")","v":0},{"$f":"COUNTIFS('Daily Diary'!A:A,'Grafico Strategie Settimanali'!B172,'Daily Diary'!E:E,\"DRAW NO BET\")","v":0},{"$f":"COUNTIFS('Daily Diary'!A:A,'Grafico Strategie Settimanali'!B172,'Daily Diary'!E:E,\"ALTRO\")","v":0},{"$f":"COUNTIFS('Daily Diary'!A:A,'Grafico Strategie Settimanali'!B172,'Daily Diary'!E:E,\"BANCA PAREGGIO\",'Daily Diary'!E:E,\"BANCA PAREGGIO\",'Daily Diary'!K:K,\"WIN\")","v":0},{"$f":"COUNTIFS('Daily Diary'!A:A,'Grafico Strategie Settimanali'!B172,'Daily Diary'!E:E,\"PUNTA SQ.CASA\",'Daily Diary'!E:E,\"PUNTA SQ.CASA\",'Daily Diary'!K:K,\"WIN\")","v":0},{"$f":"COUNTIFS('Daily Diary'!A:A,'Grafico Strategie Settimanali'!B172,'Daily Diary'!E:E,\"PUNTA SQ.OSPITE\",'Daily Diary'!E:E,\"PUNTA SQ.OSPITE\",'Daily Diary'!K:K,\"WIN\")","v":0},{"$f":"COUNTIFS('Daily Diary'!A:A,'Grafico Strategie Settimanali'!B172,'Daily Diary'!E:E,\"BANCA SFAVORITA\",'Daily Diary'!E:E,\"BANCA SFAVORITA\",'Daily Diary'!K:K,\"WIN\")","v":0},{"$f":"COUNTIFS('Daily Diary'!A:A,'Grafico Strategie Settimanali'!B172,'Daily Diary'!E:E,\"PUNTA OVER\",'Daily Diary'!E:E,\"PUNTA OVER\",'Daily Diary'!K:K,\"WIN\")","v":0},{"$f":"COUNTIFS('Daily Diary'!A:A,'Grafico Strategie Settimanali'!B172,'Daily Diary'!E:E,\"PUNTA UNDER\",'Daily Diary'!E:E,\"PUNTA UNDER\",'Daily Diary'!K:K,\"WIN\")","v":0},{"$f":"COUNTIFS('Daily Diary'!A:A,'Grafico Strategie Settimanali'!B172,'Daily Diary'!E:E,\"SCALPING\",'Daily Diary'!E:E,\"SCALPING\",'Daily Diary'!K:K,\"WIN\")","v":0},{"$f":"COUNTIFS('Daily Diary'!A:A,'Grafico Strategie Settimanali'!B172,'Daily Diary'!E:E,\"GT 90\",'Daily Diary'!E:E,\"GT 90\",'Daily Diary'!K:K,\"WIN\")","v":0},{"$f":"COUNTIFS('Daily Diary'!A:A,'Grafico Strategie Settimanali'!B172,'Daily Diary'!E:E,\"GT 110\",'Daily Diary'!E:E,\"GT 110\",'Daily Diary'!K:K,\"WIN\")","v":0},{"$f":"COUNTIFS('Daily Diary'!A:A,'Grafico Strategie Settimanali'!B172,'Daily Diary'!E:E,\"ALERT GOAL\",'Daily Diary'!E:E,\"ALERT GOAL\",'Daily Diary'!K:K,\"WIN\")","v":0},{"$f":"COUNTIFS('Daily Diary'!A:A,'Grafico Strategie Settimanali'!B172,'Daily Diary'!E:E,\"DRAW NO BET\",'Daily Diary'!E:E,\"DRAW NO BET\",'Daily Diary'!K:K,\"WIN\")","v":0},{"$f":"COUNTIFS('Daily Diary'!A:A,'Grafico Strategie Settimanali'!B172,'Daily Diary'!E:E,\"ALTRO\",'Daily Diary'!E:E,\"ALTRO\",'Daily Diary'!K:K,\"WIN\")","v":0},{"$error":"#DIV/0!"},{"$error":"#DIV/0!"},{"$error":"#DIV/0!"},{"$error":"#DIV/0!"},{"$error":"#DIV/0!"},{"$error":"#DIV/0!"},{"$error":"#DIV/0!"},{"$error":"#DIV/0!"},{"$error":"#DIV/0!"},{"$error":"#DIV/0!"},{"$error":"#DIV/0!"},{"$error":"#DIV/0!"}]
[0,"2023-10-22",{"$f":"COUNTIFS('Daily Diary'!A:A,'Grafico Strategie Settimanali'!B173,'Daily Diary'!E:E,\"BANCA PAREGGIO\")","v":0},{"$f":"COUNTIFS('Daily Diary'!A:A,'Grafico Strategie Settimanali'!B173,'Daily Diary'!E:E,\"PUNTA SQ.CASA\")","v":0},{"$f":"COUNTIFS('Daily Diary'!A:A,'Grafico Strategie Settimanali'!B173,'Daily Diary'!E:E,\"PUNTA SQ.OSPITE\")","v":0},{"$f":"COUNTIFS('Daily Diary'!A:A,'Grafico Strategie Settimanali'!B173,'Daily Diary'!E:E,\"BANCA SFAVORITA\")","v":0},{"$f":"COUNTIFS('Daily Diary'!A:A,'Grafico Strategie Settimanali'!B173,'Daily Diary'!E:E,\"PUNTA OVER\")","v":0},{"$f":"COUNTIFS('Daily Diary'!A:A,'Grafico Strategie Settimanali'!B173,'Daily Diary'!E:E,\"PUNTA UNDER\")","v":0},{"$f":"COUNTIFS('Daily Diary'!A:A,'Grafico Strategie Settimanali'!B173,'Daily Diary'!E:E,\"SCALPING\")","v":0},{"$f":"COUNTIFS('Daily Diary'!A:A,'Grafico Strategie Settimanali'!B173,'Daily Diary'!E:E,\"GT90\")","v":0},{"$f":"COUNTIFS('Daily Diary'!A:A,'Grafico Strategie Settimanali'!B173,'Daily Diary'!E:E,\"GT110\")","v":0},{"$f":"COUNTIFS('Daily Diary'!A:A,'Grafico Strategie Settimanali'!B173,'Daily Diary'!E:E,\"ALERT GOAL\")","v":0},{"$f":"COUNTIFS('Daily Diary'!A:A,'Grafico Strategie Settimanali'!B173,'Daily Diary'!E:E,\"DRAW NO BET\")","v":0},{"$f":"COUNTIFS('Daily Diary'!A:A,'Grafico Strategie Settimanali'!B173,'Daily Diary'!E:E,\"ALTRO\")","v":0},{"$f":"COUNTIFS('Daily Diary'!A:A,'Grafico Strategie Settimanali'!B173,'Daily Diary'!E:E,\"BANCA PAREGGIO\",'Daily Diary'!E:E,\"BANCA PAREGGIO\",'Daily Diary'!K:K,\"WIN\")","v":0},{"$f":"COUNTIFS('Daily Diary'!A:A,'Grafico Strategie Settimanali'!B173,'Daily Diary'!E:E,\"PUNTA SQ.CASA\",'Daily Diary'!E:E,\"PUNTA SQ.CASA\",'Daily Diary'!K:K,\"WIN\")","v":0},{"$f":"COUNTIFS('Daily Diary'!A:A,'Grafico Strategie Settimanali'!B173,'Daily Diary'!E:E,\"PUNTA SQ.OSPITE\",'Daily Diary'!E:E,\"PUNTA SQ.OSPITE\",'Daily Diary'!K:K,\"WIN\")","v":0},{"$f":"COUNTIFS('Daily Diary'!A:A,'Grafico Strategie Settimanali'!B173,'Daily Diary'!E:E,\"BANCA SFAVORITA\",'Daily Diary'!E:E,\"BANCA SFAVORITA\",'Daily Diary'!K:K,\"WIN\")","v":0},{"$f":"COUNTIFS('Daily Diary'!A:A,'Grafico Strategie Settimanali'!B173,'Daily Diary'!E:E,\"PUNTA OVER\",'Daily Diary'!E:E,\"PUNTA OVER\",'Daily Diary'!K:K,\"WIN\")","v":0},{"$f":"COUNTIFS('Daily Diary'!A:A,'Grafico Strategie Settimanali'!B173,'Daily Diary'!E:E,\"PUNTA UNDER\",'Daily Diary'!E:E,\"PUNTA UNDER\",'Daily Diary'!K:K,\"WIN\")","v":0},{"$f":"COUNTIFS('Daily Diary'!A:A,'Grafico Strategie Settimanali'!B173,'Daily Diary'!E:E,\"SCALPING\",'Daily Diary'!E:E,\"SCALPING\",'Daily Diary'!K:K,\"WIN\")","v":0},{"$f":"COUNTIFS('Daily Diary'!A:A,'Grafico Strategie Settimanali'!B173,'Daily Diary'!E:E,\"GT 90\",'Daily Diary'!E:E,\"GT 90\",'Daily Diary'!K:K,\"WIN\")","v":0},{"$f":"COUNTIFS('Daily Diary'!A:A,'Grafico Strategie Settimanali'!B173,'Daily Diary'!E:E,\"GT 110\",'Daily Diary'!E:E,\"GT 110\",'Daily Diary'!K:K,\"WIN\")","v":0},{"$f":"COUNTIFS('Daily Diary'!A:A,'Grafico Strategie Settimanali'!B173,'Daily Diary'!E:E,\"ALERT GOAL\",'Daily Diary'!E:E,\"ALERT GOAL\",'Daily Diary'!K:K,\"WIN\")","v":0},{"$f":"COUNTIFS('Daily Diary'!A:A,'Grafico Strategie Settimanali'!B173,'Daily Diary'!E:E,\"DRAW NO BET\",'Daily Diary'!E:E,\"DRAW NO BET\",'Daily Diary'!K:K,\"WIN\")","v":0},{"$f":"COUNTIFS('Daily Diary'!A:A,'Grafico Strategie Settimanali'!B173,'Daily Diary'!E:E,\"ALTRO\",'Daily Diary'!E:E,\"ALTRO\",'Daily Diary'!K:K,\"WIN\")","v":0},{"$error":"#DIV/0!"},{"$error":"#DIV/0!"},{"$error":"#DIV/0!"},{"$error":"#DIV/0!"},{"$error":"#DIV/0!"},{"$error":"#DIV/0!"},{"$error":"#DIV/0!"},{"$error":"#DIV/0!"},{"$error":"#DIV/0!"},{"$error":"#DIV/0!"},{"$error":"#DIV/0!"},{"$error":"#DIV/0!"}]
[0,"2023-10-23",{"$f":"COUNTIFS('Daily Diary'!A:A,'Grafico Strategie Settimanali'!B174,'Daily Diary'!E:E,\"BANCA PAREGGIO\")","v":0},{"$f":"COUNTIFS('Daily Diary'!A:A,'Grafico Strategie Settimanali'!B174,'Daily Diary'!E:E,\"PUNTA SQ.CASA\")","v":0},{"$f":"COUNTIFS('Daily Diary'!A:A,'Grafico Strategie Settimanali'!B174,'Daily Diary'!E:E,\"PUNTA SQ.OSPITE\")","v":0},{"$f":"COUNTIFS('Daily Diary'!A:A,'Grafico Strategie Settimanali'!B174,'Daily Diary'!E:E,\"BANCA SFAVORITA\")","v":0},{"$f":"COUNTIFS('Daily Diary'!A:A,'Grafico Strategie Settimanali'!B174,'Daily Diary'!E:E,\"PUNTA OVER\")","v":0},{"$f":"COUNTIFS('Daily Diary'!A:A,'Grafico Strategie Settimanali'!B174,'Daily Diary'!E:E,\"PUNTA UNDER\")","v":0},{"$f":"COUNTIFS('Daily Diary'!A:A,'Grafico Strategie Settimanali'!B174,'Daily Diary'!E:E,\"SCALPING\")","v":0},{"$f":"COUNTIFS('Daily Diary'!A:A,'Grafico Strategie Settimanali'!B174,'Daily Diary'!E:E,\"GT90\")","v":0},{"$f":"COUNTIFS('Daily Diary'!A:A,'Grafico Strategie Settimanali'!B174,'Daily Diary'!E:E,\"GT110\")","v":0},{"$f":"COUNTIFS('Daily Diary'!A:A,'Grafico Strategie Settimanali'!B174,'Daily Diary'!E:E,\"ALERT GOAL\")","v":0},{"$f":"COUNTIFS('Daily Diary'!A:A,'Grafico Strategie Settimanali'!B174,'Daily Diary'!E:E,\"DRAW NO BET\")","v":0},{"$f":"COUNTIFS('Daily Diary'!A:A,'Grafico Strategie Settimanali'!B174,'Daily Diary'!E:E,\"ALTRO\")","v":0},{"$f":"COUNTIFS('Daily Diary'!A:A,'Grafico Strategie Settimanali'!B174,'Daily Diary'!E:E,\"BANCA PAREGGIO\",'Daily Diary'!E:E,\"BANCA PAREGGIO\",'Daily Diary'!K:K,\"WIN\")","v":0},{"$f":"COUNTIFS('Daily Diary'!A:A,'Grafico Strategie Settimanali'!B174,'Daily Diary'!E:E,\"PUNTA SQ.CASA\",'Daily Diary'!E:E,\"PUNTA SQ.CASA\",'Daily Diary'!K:K,\"WIN\")","v":0},{"$f":"COUNTIFS('Daily Diary'!A:A,'Grafico Strategie Settimanali'!B174,'Daily Diary'!E:E,\"PUNTA SQ.OSPITE\",'Daily Diary'!E:E,\"PUNTA SQ.OSPITE\",'Daily Diary'!K:K,\"WIN\")","v":0},{"$f":"COUNTIFS('Daily Diary'!A:A,'Grafico Strategie Settimanali'!B174,'Daily Diary'!E:E,\"BANCA SFAVORITA\",'Daily Diary'!E:E,\"BANCA SFAVORITA\",'Daily Diary'!K:K,\"WIN\")","v":0},{"$f":"COUNTIFS('Daily Diary'!A:A,'Grafico Strategie Settimanali'!B174,'Daily Diary'!E:E,\"PUNTA OVER\",'Daily Diary'!E:E,\"PUNTA OVER\",'Daily Diary'!K:K,\"WIN\")","v":0},{"$f":"COUNTIFS('Daily Diary'!A:A,'Grafico Strategie Settimanali'!B174,'Daily Diary'!E:E,\"PUNTA UNDER\",'Daily Diary'!E:E,\"PUNTA UNDER\",'Daily Diary'!K:K,\"WIN\")","v":0},{"$f":"COUNTIFS('Daily Diary'!A:A,'Grafico Strategie Settimanali'!B174,'Daily Diary'!E:E,\"SCALPING\",'Daily Diary'!E:E,\"SCALPING\",'Daily Diary'!K:K,\"WIN\")","v":0},{"$f":"COUNTIFS('Daily Diary'!A:A,'Grafico Strategie Settimanali'!B174,'Daily Diary'!E:E,\"GT 90\",'Daily Diary'!E:E,\"GT 90\",'Daily Diary'!K:K,\"WIN\")","v":0},{"$f":"COUNTIFS('Daily Diary'!A:A,'Grafico Strategie Settimanali'!B174,'Daily Diary'!E:E,\"GT 110\",'Daily Diary'!E:E,\"GT 110\",'Daily Diary'!K:K,\"WIN\")","v":0},{"$f":"COUNTIFS('Daily Diary'!A:A,'Grafico Strategie Settimanali'!B174,'Daily Diary'!E:E,\"ALERT GOAL\",'Daily Diary'!E:E,\"ALERT GOAL\",'Daily Diary'!K:K,\"WIN\")","v":0},{"$f":"COUNTIFS('Daily Diary'!A:A,'Grafico Strategie Settimanali'!B174,'Daily Diary'!E:E,\"DRAW NO BET\",'Daily Diary'!E:E,\"DRAW NO BET\",'Daily Diary'!K:K,\"WIN\")","v":0},{"$f":"COUNTIFS('Daily Diary'!A:A,'Grafico Strategie Settimanali'!B174,'Daily Diary'!E:E,\"ALTRO\",'Daily Diary'!E:E,\"ALTRO\",'Daily Diary'!K:K,\"WIN\")","v":0},{"$error":"#DIV/0!"},{"$error":"#DIV/0!"},{"$error":"#DIV/0!"},{"$error":"#DIV/0!"},{"$error":"#DIV/0!"},{"$error":"#DIV/0!"},{"$error":"#DIV/0!"},{"$error":"#DIV/0!"},{"$error":"#DIV/0!"},{"$error":"#DIV/0!"},{"$error":"#DIV/0!"},{"$error":"#DIV/0!"}]
[0,"2023-10-24",{"$f":"COUNTIFS('Daily Diary'!A:A,'Grafico Strategie Settimanali'!B175,'Daily Diary'!E:E,\"BANCA PAREGGIO\")","v":0},{"$f":"COUNTIFS('Daily Diary'!A:A,'Grafico Strategie Settimanali'!B175,'Daily Diary'!E:E,\"PUNTA SQ.CASA\")","v":0},{"$f":"COUNTIFS('Daily Diary'!A:A,'Grafico Strategie Settimanali'!B175,'Daily Diary'!E:E,\"PUNTA SQ.OSPITE\")","v":0},{"$f":"COUNTIFS('Daily Diary'!A:A,'Grafico Strategie Settimanali'!B175,'Daily Diary'!E:E,\"BANCA SFAVORITA\")","v":0},{"$f":"COUNTIFS('Daily Diary'!A:A,'Grafico Strategie Settimanali'!B175,'Daily Diary'!E:E,\"PUNTA OVER\")","v":0},{"$f":"COUNTIFS('Daily Diary'!A:A,'Grafico Strategie Settimanali'!B175,'Daily Diary'!E:E,\"PUNTA UNDER\")","v":0},{"$f":"COUNTIFS('Daily Diary'!A:A,'Grafico Strategie Settimanali'!B175,'Daily Diary'!E:E,\"SCALPING\")","v":0},{"$f":"COUNTIFS('Daily Diary'!A:A,'Grafico Strategie Settimanali'!B175,'Daily Diary'!E:E,\"GT90\")","v":0},{"$f":"COUNTIFS('Daily Diary'!A:A,'Grafico Strategie Settimanali'!B175,'Daily Diary'!E:E,\"GT110\")","v":0},{"$f":"COUNTIFS('Daily Diary'!A:A,'Grafico Strategie Settimanali'!B175,'Daily Diary'!E:E,\"ALERT GOAL\")","v":0},{"$f":"COUNTIFS('Daily Diary'!A:A,'Grafico Strategie Settimanali'!B175,'Daily Diary'!E:E,\"DRAW NO BET\")","v":0},{"$f":"COUNTIFS('Daily Diary'!A:A,'Grafico Strategie Settimanali'!B175,'Daily Diary'!E:E,\"ALTRO\")","v":0},{"$f":"COUNTIFS('Daily Diary'!A:A,'Grafico Strategie Settimanali'!B175,'Daily Diary'!E:E,\"BANCA PAREGGIO\",'Daily Diary'!E:E,\"BANCA PAREGGIO\",'Daily Diary'!K:K,\"WIN\")","v":0},{"$f":"COUNTIFS('Daily Diary'!A:A,'Grafico Strategie Settimanali'!B175,'Daily Diary'!E:E,\"PUNTA SQ.CASA\",'Daily Diary'!E:E,\"PUNTA SQ.CASA\",'Daily Diary'!K:K,\"WIN\")","v":0},{"$f":"COUNTIFS('Daily Diary'!A:A,'Grafico Strategie Settimanali'!B175,'Daily Diary'!E:E,\"PUNTA SQ.OSPITE\",'Daily Diary'!E:E,\"PUNTA SQ.OSPITE\",'Daily Diary'!K:K,\"WIN\")","v":0},{"$f":"COUNTIFS('Daily Diary'!A:A,'Grafico Strategie Settimanali'!B175,'Daily Diary'!E:E,\"BANCA SFAVORITA\",'Daily Diary'!E:E,\"BANCA SFAVORITA\",'Daily Diary'!K:K,\"WIN\")","v":0},{"$f":"COUNTIFS('Daily Diary'!A:A,'Grafico Strategie Settimanali'!B175,'Daily Diary'!E:E,\"PUNTA OVER\",'Daily Diary'!E:E,\"PUNTA OVER\",'Daily Diary'!K:K,\"WIN\")","v":0},{"$f":"COUNTIFS('Daily Diary'!A:A,'Grafico Strategie Settimanali'!B175,'Daily Diary'!E:E,\"PUNTA UNDER\",'Daily Diary'!E:E,\"PUNTA UNDER\",'Daily Diary'!K:K,\"WIN\")","v":0},{"$f":"COUNTIFS('Daily Diary'!A:A,'Grafico Strategie Settimanali'!B175,'Daily Diary'!E:E,\"SCALPING\",'Daily Diary'!E:E,\"SCALPING\",'Daily Diary'!K:K,\"WIN\")","v":0},{"$f":"COUNTIFS('Daily Diary'!A:A,'Grafico Strategie Settimanali'!B175,'Daily Diary'!E:E,\"GT 90\",'Daily Diary'!E:E,\"GT 90\",'Daily Diary'!K:K,\"WIN\")","v":0},{"$f":"COUNTIFS('Daily Diary'!A:A,'Grafico Strategie Settimanali'!B175,'Daily Diary'!E:E,\"GT 110\",'Daily Diary'!E:E,\"GT 110\",'Daily Diary'!K:K,\"WIN\")","v":0},{"$f":"COUNTIFS('Daily Diary'!A:A,'Grafico Strategie Settimanali'!B175,'Daily Diary'!E:E,\"ALERT GOAL\",'Daily Diary'!E:E,\"ALERT GOAL\",'Daily Diary'!K:K,\"WIN\")","v":0},{"$f":"COUNTIFS('Daily Diary'!A:A,'Grafico Strategie Settimanali'!B175,'Daily Diary'!E:E,\"DRAW NO BET\",'Daily Diary'!E:E,\"DRAW NO BET\",'Daily Diary'!K:K,\"WIN\")","v":0},{"$f":"COUNTIFS('Daily Diary'!A:A,'Grafico Strategie Settimanali'!B175,'Daily Diary'!E:E,\"ALTRO\",'Daily Diary'!E:E,\"ALTRO\",'Daily Diary'!K:K,\"WIN\")","v":0},{"$error":"#DIV/0!"},{"$error":"#DIV/0!"},{"$error":"#DIV/0!"},{"$error":"#DIV/0!"},{"$error":"#DIV/0!"},{"$error":"#DIV/0!"},{"$error":"#DIV/0!"},{"$error":"#DIV/0!"},{"$error":"#DIV/0!"},{"$error":"#DIV/0!"},{"$error":"#DIV/0!"},{"$error":"#DIV/0!"}]
[0,"2023-10-25",{"$f":"COUNTIFS('Daily Diary'!A:A,'Grafico Strategie Settimanali'!B176,'Daily Diary'!E:E,\"BANCA PAREGGIO\")","v":0},{"$f":"COUNTIFS('Daily Diary'!A:A,'Grafico Strategie Settimanali'!B176,'Daily Diary'!E:E,\"PUNTA SQ.CASA\")","v":0},{"$f":"COUNTIFS('Daily Diary'!A:A,'Grafico Strategie Settimanali'!B176,'Daily Diary'!E:E,\"PUNTA SQ.OSPITE\")","v":0},{"$f":"COUNTIFS('Daily Diary'!A:A,'Grafico Strategie Settimanali'!B176,'Daily Diary'!E:E,\"BANCA SFAVORITA\")","v":0},{"$f":"COUNTIFS('Daily Diary'!A:A,'Grafico Strategie Settimanali'!B176,'Daily Diary'!E:E,\"PUNTA OVER\")","v":0},{"$f":"COUNTIFS('Daily Diary'!A:A,'Grafico Strategie Settimanali'!B176,'Daily Diary'!E:E,\"PUNTA UNDER\")","v":0},{"$f":"COUNTIFS('Daily Diary'!A:A,'Grafico Strategie Settimanali'!B176,'Daily Diary'!E:E,\"SCALPING\")","v":0},{"$f":"COUNTIFS('Daily Diary'!A:A,'Grafico Strategie Settimanali'!B176,'Daily Diary'!E:E,\"GT90\")","v":0},{"$f":"COUNTIFS('Daily Diary'!A:A,'Grafico Strategie Settimanali'!B176,'Daily Diary'!E:E,\"GT110\")","v":0},{"$f":"COUNTIFS('Daily Diary'!A:A,'Grafico Strategie Settimanali'!B176,'Daily Diary'!E:E,\"ALERT GOAL\")","v":0},{"$f":"COUNTIFS('Daily Diary'!A:A,'Grafico Strategie Settimanali'!B176,'Daily Diary'!E:E,\"DRAW NO BET\")","v":0},{"$f":"COUNTIFS('Daily Diary'!A:A,'Grafico Strategie Settimanali'!B176,'Daily Diary'!E:E,\"ALTRO\")","v":0},{"$f":"COUNTIFS('Daily Diary'!A:A,'Grafico Strategie Settimanali'!B176,'Daily Diary'!E:E,\"BANCA PAREGGIO\",'Daily Diary'!E:E,\"BANCA PAREGGIO\",'Daily Diary'!K:K,\"WIN\")","v":0},{"$f":"COUNTIFS('Daily Diary'!A:A,'Grafico Strategie Settimanali'!B176,'Daily Diary'!E:E,\"PUNTA SQ.CASA\",'Daily Diary'!E:E,\"PUNTA SQ.CASA\",'Daily Diary'!K:K,\"WIN\")","v":0},{"$f":"COUNTIFS('Daily Diary'!A:A,'Grafico Strategie Settimanali'!B176,'Daily Diary'!E:E,\"PUNTA SQ.OSPITE\",'Daily Diary'!E:E,\"PUNTA SQ.OSPITE\",'Daily Diary'!K:K,\"WIN\")","v":0},{"$f":"COUNTIFS('Daily Diary'!A:A,'Grafico Strategie Settimanali'!B176,'Daily Diary'!E:E,\"BANCA SFAVORITA\",'Daily Diary'!E:E,\"BANCA SFAVORITA\",'Daily Diary'!K:K,\"WIN\")","v":0},{"$f":"COUNTIFS('Daily Diary'!A:A,'Grafico Strategie Settimanali'!B176,'Daily Diary'!E:E,\"PUNTA OVER\",'Daily Diary'!E:E,\"PUNTA OVER\",'Daily Diary'!K:K,\"WIN\")","v":0},{"$f":"COUNTIFS('Daily Diary'!A:A,'Grafico Strategie Settimanali'!B176,'Daily Diary'!E:E,\"PUNTA UNDER\",'Daily Diary'!E:E,\"PUNTA UNDER\",'Daily Diary'!K:K,\"WIN\")","v":0},{"$f":"COUNTIFS('Daily Diary'!A:A,'Grafico Strategie Settimanali'!B176,'Daily Diary'!E:E,\"SCALPING\",'Daily Diary'!E:E,\"SCALPING\",'Daily Diary'!K:K,\"WIN\")","v":0},{"$f":"COUNTIFS('Daily Diary'!A:A,'Grafico Strategie Settimanali'!B176,'Daily Diary'!E:E,\"GT 90\",'Daily Diary'!E:E,\"GT 90\",'Daily Diary'!K:K,\"WIN\")","v":0},{"$f":"COUNTIFS('Daily Diary'!A:A,'Grafico Strategie Settimanali'!B176,'Daily Diary'!E:E,\"GT 110\",'Daily Diary'!E:E,\"GT 110\",'Daily Diary'!K:K,\"WIN\")","v":0},{"$f":"COUNTIFS('Daily Diary'!A:A,'Grafico Strategie Settimanali'!B176,'Daily Diary'!E:E,\"ALERT GOAL\",'Daily Diary'!E:E,\"ALERT GOAL\",'Daily Diary'!K:K,\"WIN\")","v":0},{"$f":"COUNTIFS('Daily Diary'!A:A,'Grafico Strategie Settimanali'!B176,'Daily Diary'!E:E,\"DRAW NO BET\",'Daily Diary'!E:E,\"DRAW NO BET\",'Daily Diary'!K:K,\"WIN\")","v":0},{"$f":"COUNTIFS('Daily Diary'!A:A,'Grafico Strategie Settimanali'!B176,'Daily Diary'!E:E,\"ALTRO\",'Daily Diary'!E:E,\"ALTRO\",'Daily Diary'!K:K,\"WIN\")","v":0},{"$error":"#DIV/0!"},{"$error":"#DIV/0!"},{"$error":"#DIV/0!"},{"$error":"#DIV/0!"},{"$error":"#DIV/0!"},{"$error":"#DIV/0!"},{"$error":"#DIV/0!"},{"$error":"#DIV/0!"},{"$error":"#DIV/0!"},{"$error":"#DIV/0!"},{"$error":"#DIV/0!"},{"$error":"#DIV/0!"}]
[0,"2023-10-26",{"$f":"COUNTIFS('Daily Diary'!A:A,'Grafico Strategie Settimanali'!B177,'Daily Diary'!E:E,\"BANCA PAREGGIO\")","v":0},{"$f":"COUNTIFS('Daily Diary'!A:A,'Grafico Strategie Settimanali'!B177,'Daily Diary'!E:E,\"PUNTA SQ.CASA\")","v":0},{"$f":"COUNTIFS('Daily Diary'!A:A,'Grafico Strategie Settimanali'!B177,'Daily Diary'!E:E,\"PUNTA SQ.OSPITE\")","v":0},{"$f":"COUNTIFS('Daily Diary'!A:A,'Grafico Strategie Settimanali'!B177,'Daily Diary'!E:E,\"BANCA SFAVORITA\")","v":0},{"$f":"COUNTIFS('Daily Diary'!A:A,'Grafico Strategie Settimanali'!B177,'Daily Diary'!E:E,\"PUNTA OVER\")","v":0},{"$f":"COUNTIFS('Daily Diary'!A:A,'Grafico Strategie Settimanali'!B177,'Daily Diary'!E:E,\"PUNTA UNDER\")","v":0},{"$f":"COUNTIFS('Daily Diary'!A:A,'Grafico Strategie Settimanali'!B177,'Daily Diary'!E:E,\"SCALPING\")","v":0},{"$f":"COUNTIFS('Daily Diary'!A:A,'Grafico Strategie Settimanali'!B177,'Daily Diary'!E:E,\"GT90\")","v":0},{"$f":"COUNTIFS('Daily Diary'!A:A,'Grafico Strategie Settimanali'!B177,'Daily Diary'!E:E,\"GT110\")","v":0},{"$f":"COUNTIFS('Daily Diary'!A:A,'Grafico Strategie Settimanali'!B177,'Daily Diary'!E:E,\"ALERT GOAL\")","v":0},{"$f":"COUNTIFS('Daily Diary'!A:A,'Grafico Strategie Settimanali'!B177,'Daily Diary'!E:E,\"DRAW NO BET\")","v":0},{"$f":"COUNTIFS('Daily Diary'!A:A,'Grafico Strategie Settimanali'!B177,'Daily Diary'!E:E,\"ALTRO\")","v":0},{"$f":"COUNTIFS('Daily Diary'!A:A,'Grafico Strategie Settimanali'!B177,'Daily Diary'!E:E,\"BANCA PAREGGIO\",'Daily Diary'!E:E,\"BANCA PAREGGIO\",'Daily Diary'!K:K,\"WIN\")","v":0},{"$f":"COUNTIFS('Daily Diary'!A:A,'Grafico Strategie Settimanali'!B177,'Daily Diary'!E:E,\"PUNTA SQ.CASA\",'Daily Diary'!E:E,\"PUNTA SQ.CASA\",'Daily Diary'!K:K,\"WIN\")","v":0},{"$f":"COUNTIFS('Daily Diary'!A:A,'Grafico Strategie Settimanali'!B177,'Daily Diary'!E:E,\"PUNTA SQ.OSPITE\",'Daily Diary'!E:E,\"PUNTA SQ.OSPITE\",'Daily Diary'!K:K,\"WIN\")","v":0},{"$f":"COUNTIFS('Daily Diary'!A:A,'Grafico Strategie Settimanali'!B177,'Daily Diary'!E:E,\"BANCA SFAVORITA\",'Daily Diary'!E:E,\"BANCA SFAVORITA\",'Daily Diary'!K:K,\"WIN\")","v":0},{"$f":"COUNTIFS('Daily Diary'!A:A,'Grafico Strategie Settimanali'!B177,'Daily Diary'!E:E,\"PUNTA OVER\",'Daily Diary'!E:E,\"PUNTA OVER\",'Daily Diary'!K:K,\"WIN\")","v":0},{"$f":"COUNTIFS('Daily Diary'!A:A,'Grafico Strategie Settimanali'!B177,'Daily Diary'!E:E,\"PUNTA UNDER\",'Daily Diary'!E:E,\"PUNTA UNDER\",'Daily Diary'!K:K,\"WIN\")","v":0},{"$f":"COUNTIFS('Daily Diary'!A:A,'Grafico Strategie Settimanali'!B177,'Daily Diary'!E:E,\"SCALPING\",'Daily Diary'!E:E,\"SCALPING\",'Daily Diary'!K:K,\"WIN\")","v":0},{"$f":"COUNTIFS('Daily Diary'!A:A,'Grafico Strategie Settimanali'!B177,'Daily Diary'!E:E,\"GT 90\",'Daily Diary'!E:E,\"GT 90\",'Daily Diary'!K:K,\"WIN\")","v":0},{"$f":"COUNTIFS('Daily Diary'!A:A,'Grafico Strategie Settimanali'!B177,'Daily Diary'!E:E,\"GT 110\",'Daily Diary'!E:E,\"GT 110\",'Daily Diary'!K:K,\"WIN\")","v":0},{"$f":"COUNTIFS('Daily Diary'!A:A,'Grafico Strategie Settimanali'!B177,'Daily Diary'!E:E,\"ALERT GOAL\",'Daily Diary'!E:E,\"ALERT GOAL\",'Daily Diary'!K:K,\"WIN\")","v":0},{"$f":"COUNTIFS('Daily Diary'!A:A,'Grafico Strategie Settimanali'!B177,'Daily Diary'!E:E,\"DRAW NO BET\",'Daily Diary'!E:E,\"DRAW NO BET\",'Daily Diary'!K:K,\"WIN\")","v":0},{"$f":"COUNTIFS('Daily Diary'!A:A,'Grafico Strategie Settimanali'!B177,'Daily Diary'!E:E,\"ALTRO\",'Daily Diary'!E:E,\"ALTRO\",'Daily Diary'!K:K,\"WIN\")","v":0},{"$error":"#DIV/0!"},{"$error":"#DIV/0!"},{"$error":"#DIV/0!"},{"$error":"#DIV/0!"},{"$error":"#DIV/0!"},{"$error":"#DIV/0!"},{"$error":"#DIV/0!"},{"$error":"#DIV/0!"},{"$error":"#DIV/0!"},{"$error":"#DIV/0!"},{"$error":"#DIV/0!"},{"$error":"#DIV/0!"}]
[0,"2023-10-27",{"$f":"COUNTIFS('Daily Diary'!A:A,'Grafico Strategie Settimanali'!B178,'Daily Diary'!E:E,\"BANCA PAREGGIO\")","v":0},{"$f":"COUNTIFS('Daily Diary'!A:A,'Grafico Strategie Settimanali'!B178,'Daily Diary'!E:E,\"PUNTA SQ.CASA\")","v":0},{"$f":"COUNTIFS('Daily Diary'!A:A,'Grafico Strategie Settimanali'!B178,'Daily Diary'!E:E,\"PUNTA SQ.OSPITE\")","v":0},{"$f":"COUNTIFS('Daily Diary'!A:A,'Grafico Strategie Settimanali'!B178,'Daily Diary'!E:E,\"BANCA SFAVORITA\")","v":0},{"$f":"COUNTIFS('Daily Diary'!A:A,'Grafico Strategie Settimanali'!B178,'Daily Diary'!E:E,\"PUNTA OVER\")","v":0},{"$f":"COUNTIFS('Daily Diary'!A:A,'Grafico Strategie Settimanali'!B178,'Daily Diary'!E:E,\"PUNTA UNDER\")","v":0},{"$f":"COUNTIFS('Daily Diary'!A:A,'Grafico Strategie Settimanali'!B178,'Daily Diary'!E:E,\"SCALPING\")","v":0},{"$f":"COUNTIFS('Daily Diary'!A:A,'Grafico Strategie Settimanali'!B178,'Daily Diary'!E:E,\"GT90\")","v":0},{"$f":"COUNTIFS('Daily Diary'!A:A,'Grafico Strategie Settimanali'!B178,'Daily Diary'!E:E,\"GT110\")","v":0},{"$f":"COUNTIFS('Daily Diary'!A:A,'Grafico Strategie Settimanali'!B178,'Daily Diary'!E:E,\"ALERT GOAL\")","v":0},{"$f":"COUNTIFS('Daily Diary'!A:A,'Grafico Strategie Settimanali'!B178,'Daily Diary'!E:E,\"DRAW NO BET\")","v":0},{"$f":"COUNTIFS('Daily Diary'!A:A,'Grafico Strategie Settimanali'!B178,'Daily Diary'!E:E,\"ALTRO\")","v":0},{"$f":"COUNTIFS('Daily Diary'!A:A,'Grafico Strategie Settimanali'!B178,'Daily Diary'!E:E,\"BANCA PAREGGIO\",'Daily Diary'!E:E,\"BANCA PAREGGIO\",'Daily Diary'!K:K,\"WIN\")","v":0},{"$f":"COUNTIFS('Daily Diary'!A:A,'Grafico Strategie Settimanali'!B178,'Daily Diary'!E:E,\"PUNTA SQ.CASA\",'Daily Diary'!E:E,\"PUNTA SQ.CASA\",'Daily Diary'!K:K,\"WIN\")","v":0},{"$f":"COUNTIFS('Daily Diary'!A:A,'Grafico Strategie Settimanali'!B178,'Daily Diary'!E:E,\"PUNTA SQ.OSPITE\",'Daily Diary'!E:E,\"PUNTA SQ.OSPITE\",'Daily Diary'!K:K,\"WIN\")","v":0},{"$f":"COUNTIFS('Daily Diary'!A:A,'Grafico Strategie Settimanali'!B178,'Daily Diary'!E:E,\"BANCA SFAVORITA\",'Daily Diary'!E:E,\"BANCA SFAVORITA\",'Daily Diary'!K:K,\"WIN\")","v":0},{"$f":"COUNTIFS('Daily Diary'!A:A,'Grafico Strategie Settimanali'!B178,'Daily Diary'!E:E,\"PUNTA OVER\",'Daily Diary'!E:E,\"PUNTA OVER\",'Daily Diary'!K:K,\"WIN\")","v":0},{"$f":"COUNTIFS('Daily Diary'!A:A,'Grafico Strategie Settimanali'!B178,'Daily Diary'!E:E,\"PUNTA UNDER\",'Daily Diary'!E:E,\"PUNTA UNDER\",'Daily Diary'!K:K,\"WIN\")","v":0},{"$f":"COUNTIFS('Daily Diary'!A:A,'Grafico Strategie Settimanali'!B178,'Daily Diary'!E:E,\"SCALPING\",'Daily Diary'!E:E,\"SCALPING\",'Daily Diary'!K:K,\"WIN\")","v":0},{"$f":"COUNTIFS('Daily Diary'!A:A,'Grafico Strategie Settimanali'!B178,'Daily Diary'!E:E,\"GT 90\",'Daily Diary'!E:E,\"GT 90\",'Daily Diary'!K:K,\"WIN\")","v":0},{"$f":"COUNTIFS('Daily Diary'!A:A,'Grafico Strategie Settimanali'!B178,'Daily Diary'!E:E,\"GT 110\",'Daily Diary'!E:E,\"GT 110\",'Daily Diary'!K:K,\"WIN\")","v":0},{"$f":"COUNTIFS('Daily Diary'!A:A,'Grafico Strategie Settimanali'!B178,'Daily Diary'!E:E,\"ALERT GOAL\",'Daily Diary'!E:E,\"ALERT GOAL\",'Daily Diary'!K:K,\"WIN\")","v":0},{"$f":"COUNTIFS('Daily Diary'!A:A,'Grafico Strategie Settimanali'!B178,'Daily Diary'!E:E,\"DRAW NO BET\",'Daily Diary'!E:E,\"DRAW NO BET\",'Daily Diary'!K:K,\"WIN\")","v":0},{"$f":"COUNTIFS('Daily Diary'!A:A,'Grafico Strategie Settimanali'!B178,'Daily Diary'!E:E,\"ALTRO\",'Daily Diary'!E:E,\"ALTRO\",'Daily Diary'!K:K,\"WIN\")","v":0},{"$error":"#DIV/0!"},{"$error":"#DIV/0!"},{"$error":"#DIV/0!"},{"$error":"#DIV/0!"},{"$error":"#DIV/0!"},{"$error":"#DIV/0!"},{"$error":"#DIV/0!"},{"$error":"#DIV/0!"},{"$error":"#DIV/0!"},{"$error":"#DIV/0!"},{"$error":"#DIV/0!"},{"$error":"#DIV/0!"}]
[0,"2023-10-28",{"$f":"COUNTIFS('Daily Diary'!A:A,'Grafico Strategie Settimanali'!B179,'Daily Diary'!E:E,\"BANCA PAREGGIO\")","v":0},{"$f":"COUNTIFS('Daily Diary'!A:A,'Grafico Strategie Settimanali'!B179,'Daily Diary'!E:E,\"PUNTA SQ.CASA\")","v":0},{"$f":"COUNTIFS('Daily Diary'!A:A,'Grafico Strategie Settimanali'!B179,'Daily Diary'!E:E,\"PUNTA SQ.OSPITE\")","v":0},{"$f":"COUNTIFS('Daily Diary'!A:A,'Grafico Strategie Settimanali'!B179,'Daily Diary'!E:E,\"BANCA SFAVORITA\")","v":0},{"$f":"COUNTIFS('Daily Diary'!A:A,'Grafico Strategie Settimanali'!B179,'Daily Diary'!E:E,\"PUNTA OVER\")","v":0},{"$f":"COUNTIFS('Daily Diary'!A:A,'Grafico Strategie Settimanali'!B179,'Daily Diary'!E:E,\"PUNTA UNDER\")","v":0},{"$f":"COUNTIFS('Daily Diary'!A:A,'Grafico Strategie Settimanali'!B179,'Daily Diary'!E:E,\"SCALPING\")","v":0},{"$f":"COUNTIFS('Daily Diary'!A:A,'Grafico Strategie Settimanali'!B179,'Daily Diary'!E:E,\"GT90\")","v":0},{"$f":"COUNTIFS('Daily Diary'!A:A,'Grafico Strategie Settimanali'!B179,'Daily Diary'!E:E,\"GT110\")","v":0},{"$f":"COUNTIFS('Daily Diary'!A:A,'Grafico Strategie Settimanali'!B179,'Daily Diary'!E:E,\"ALERT GOAL\")","v":0},{"$f":"COUNTIFS('Daily Diary'!A:A,'Grafico Strategie Settimanali'!B179,'Daily Diary'!E:E,\"DRAW NO BET\")","v":0},{"$f":"COUNTIFS('Daily Diary'!A:A,'Grafico Strategie Settimanali'!B179,'Daily Diary'!E:E,\"ALTRO\")","v":0},{"$f":"COUNTIFS('Daily Diary'!A:A,'Grafico Strategie Settimanali'!B179,'Daily Diary'!E:E,\"BANCA PAREGGIO\",'Daily Diary'!E:E,\"BANCA PAREGGIO\",'Daily Diary'!K:K,\"WIN\")","v":0},{"$f":"COUNTIFS('Daily Diary'!A:A,'Grafico Strategie Settimanali'!B179,'Daily Diary'!E:E,\"PUNTA SQ.CASA\",'Daily Diary'!E:E,\"PUNTA SQ.CASA\",'Daily Diary'!K:K,\"WIN\")","v":0},{"$f":"COUNTIFS('Daily Diary'!A:A,'Grafico Strategie Settimanali'!B179,'Daily Diary'!E:E,\"PUNTA SQ.OSPITE\",'Daily Diary'!E:E,\"PUNTA SQ.OSPITE\",'Daily Diary'!K:K,\"WIN\")","v":0},{"$f":"COUNTIFS('Daily Diary'!A:A,'Grafico Strategie Settimanali'!B179,'Daily Diary'!E:E,\"BANCA SFAVORITA\",'Daily Diary'!E:E,\"BANCA SFAVORITA\",'Daily Diary'!K:K,\"WIN\")","v":0},{"$f":"COUNTIFS('Daily Diary'!A:A,'Grafico Strategie Settimanali'!B179,'Daily Diary'!E:E,\"PUNTA OVER\",'Daily Diary'!E:E,\"PUNTA OVER\",'Daily Diary'!K:K,\"WIN\")","v":0},{"$f":"COUNTIFS('Daily Diary'!A:A,'Grafico Strategie Settimanali'!B179,'Daily Diary'!E:E,\"PUNTA UNDER\",'Daily Diary'!E:E,\"PUNTA UNDER\",'Daily Diary'!K:K,\"WIN\")","v":0},{"$f":"COUNTIFS('Daily Diary'!A:A,'Grafico Strategie Settimanali'!B179,'Daily Diary'!E:E,\"SCALPING\",'Daily Diary'!E:E,\"SCALPING\",'Daily Diary'!K:K,\"WIN\")","v":0},{"$f":"COUNTIFS('Daily Diary'!A:A,'Grafico Strategie Settimanali'!B179,'Daily Diary'!E:E,\"GT 90\",'Daily Diary'!E:E,\"GT 90\",'Daily Diary'!K:K,\"WIN\")","v":0},{"$f":"COUNTIFS('Daily Diary'!A:A,'Grafico Strategie Settimanali'!B179,'Daily Diary'!E:E,\"GT 110\",'Daily Diary'!E:E,\"GT 110\",'Daily Diary'!K:K,\"WIN\")","v":0},{"$f":"COUNTIFS('Daily Diary'!A:A,'Grafico Strategie Settimanali'!B179,'Daily Diary'!E:E,\"ALERT GOAL\",'Daily Diary'!E:E,\"ALERT GOAL\",'Daily Diary'!K:K,\"WIN\")","v":0},{"$f":"COUNTIFS('Daily Diary'!A:A,'Grafico Strategie Settimanali'!B179,'Daily Diary'!E:E,\"DRAW NO BET\",'Daily Diary'!E:E,\"DRAW NO BET\",'Daily Diary'!K:K,\"WIN\")","v":0},{"$f":"COUNTIFS('Daily Diary'!A:A,'Grafico Strategie Settimanali'!B179,'Daily Diary'!E:E,\"ALTRO\",'Daily Diary'!E:E,\"ALTRO\",'Daily Diary'!K:K,\"WIN\")","v":0},{"$error":"#DIV/0!"},{"$error":"#DIV/0!"},{"$error":"#DIV/0!"},{"$error":"#DIV/0!"},{"$error":"#DIV/0!"},{"$error":"#DIV/0!"},{"$error":"#DIV/0!"},{"$error":"#DIV/0!"},{"$error":"#DIV/0!"},{"$error":"#DIV/0!"},{"$error":"#DIV/0!"},{"$error":"#DIV/0!"}]
[0,"2023-10-29",{"$f":"COUNTIFS('Daily Diary'!A:A,'Grafico Strategie Settimanali'!B180,'Daily Diary'!E:E,\"BANCA PAREGGIO\")","v":0},{"$f":"COUNTIFS('Daily Diary'!A:A,'Grafico Strategie Settimanali'!B180,'Daily Diary'!E:E,\"PUNTA SQ.CASA\")","v":0},{"$f":"COUNTIFS('Daily Diary'!A:A,'Grafico Strategie Settimanali'!B180,'Daily Diary'!E:E,\"PUNTA SQ.OSPITE\")","v":0},{"$f":"COUNTIFS('Daily Diary'!A:A,'Grafico Strategie Settimanali'!B180,'Daily Diary'!E:E,\"BANCA SFAVORITA\")","v":0},{"$f":"COUNTIFS('Daily Diary'!A:A,'Grafico Strategie Settimanali'!B180,'Daily Diary'!E:E,\"PUNTA OVER\")","v":0},{"$f":"COUNTIFS('Daily Diary'!A:A,'Grafico Strategie Settimanali'!B180,'Daily Diary'!E:E,\"PUNTA UNDER\")","v":0},{"$f":"COUNTIFS('Daily Diary'!A:A,'Grafico Strategie Settimanali'!B180,'Daily Diary'!E:E,\"SCALPING\")","v":0},{"$f":"COUNTIFS('Daily Diary'!A:A,'Grafico Strategie Settimanali'!B180,'Daily Diary'!E:E,\"GT90\")","v":0},{"$f":"COUNTIFS('Daily Diary'!A:A,'Grafico Strategie Settimanali'!B180,'Daily Diary'!E:E,\"GT110\")","v":0},{"$f":"COUNTIFS('Daily Diary'!A:A,'Grafico Strategie Settimanali'!B180,'Daily Diary'!E:E,\"ALERT GOAL\")","v":0},{"$f":"COUNTIFS('Daily Diary'!A:A,'Grafico Strategie Settimanali'!B180,'Daily Diary'!E:E,\"DRAW NO BET\")","v":0},{"$f":"COUNTIFS('Daily Diary'!A:A,'Grafico Strategie Settimanali'!B180,'Daily Diary'!E:E,\"ALTRO\")","v":0},{"$f":"COUNTIFS('Daily Diary'!A:A,'Grafico Strategie Settimanali'!B180,'Daily Diary'!E:E,\"BANCA PAREGGIO\",'Daily Diary'!E:E,\"BANCA PAREGGIO\",'Daily Diary'!K:K,\"WIN\")","v":0},{"$f":"COUNTIFS('Daily Diary'!A:A,'Grafico Strategie Settimanali'!B180,'Daily Diary'!E:E,\"PUNTA SQ.CASA\",'Daily Diary'!E:E,\"PUNTA SQ.CASA\",'Daily Diary'!K:K,\"WIN\")","v":0},{"$f":"COUNTIFS('Daily Diary'!A:A,'Grafico Strategie Settimanali'!B180,'Daily Diary'!E:E,\"PUNTA SQ.OSPITE\",'Daily Diary'!E:E,\"PUNTA SQ.OSPITE\",'Daily Diary'!K:K,\"WIN\")","v":0},{"$f":"COUNTIFS('Daily Diary'!A:A,'Grafico Strategie Settimanali'!B180,'Daily Diary'!E:E,\"BANCA SFAVORITA\",'Daily Diary'!E:E,\"BANCA SFAVORITA\",'Daily Diary'!K:K,\"WIN\")","v":0},{"$f":"COUNTIFS('Daily Diary'!A:A,'Grafico Strategie Settimanali'!B180,'Daily Diary'!E:E,\"PUNTA OVER\",'Daily Diary'!E:E,\"PUNTA OVER\",'Daily Diary'!K:K,\"WIN\")","v":0},{"$f":"COUNTIFS('Daily Diary'!A:A,'Grafico Strategie Settimanali'!B180,'Daily Diary'!E:E,\"PUNTA UNDER\",'Daily Diary'!E:E,\"PUNTA UNDER\",'Daily Diary'!K:K,\"WIN\")","v":0},{"$f":"COUNTIFS('Daily Diary'!A:A,'Grafico Strategie Settimanali'!B180,'Daily Diary'!E:E,\"SCALPING\",'Daily Diary'!E:E,\"SCALPING\",'Daily Diary'!K:K,\"WIN\")","v":0},{"$f":"COUNTIFS('Daily Diary'!A:A,'Grafico Strategie Settimanali'!B180,'Daily Diary'!E:E,\"GT 90\",'Daily Diary'!E:E,\"GT 90\",'Daily Diary'!K:K,\"WIN\")","v":0},{"$f":"COUNTIFS('Daily Diary'!A:A,'Grafico Strategie Settimanali'!B180,'Daily Diary'!E:E,\"GT 110\",'Daily Diary'!E:E,\"GT 110\",'Daily Diary'!K:K,\"WIN\")","v":0},{"$f":"COUNTIFS('Daily Diary'!A:A,'Grafico Strategie Settimanali'!B180,'Daily Diary'!E:E,\"ALERT GOAL\",'Daily Diary'!E:E,\"ALERT GOAL\",'Daily Diary'!K:K,\"WIN\")","v":0},{"$f":"COUNTIFS('Daily Diary'!A:A,'Grafico Strategie Settimanali'!B180,'Daily Diary'!E:E,\"DRAW NO BET\",'Daily Diary'!E:E,\"DRAW NO BET\",'Daily Diary'!K:K,\"WIN\")","v":0},{"$f":"COUNTIFS('Daily Diary'!A:A,'Grafico Strategie Settimanali'!B180,'Daily Diary'!E:E,\"ALTRO\",'Daily Diary'!E:E,\"ALTRO\",'Daily Diary'!K:K,\"WIN\")","v":0},{"$error":"#DIV/0!"},{"$error":"#DIV/0!"},{"$error":"#DIV/0!"},{"$error":"#DIV/0!"},{"$error":"#DIV/0!"},{"$error":"#DIV/0!"},{"$error":"#DIV/0!"},{"$error":"#DIV/0!"},{"$error":"#DIV/0!"},{"$error":"#DIV/0!"},{"$error":"#DIV/0!"},{"$error":"#DIV/0!"}]
[0,"2023-10-30",{"$f":"COUNTIFS('Daily Diary'!A:A,'Grafico Strategie Settimanali'!B181,'Daily Diary'!E:E,\"BANCA PAREGGIO\")","v":0},{"$f":"COUNTIFS('Daily Diary'!A:A,'Grafico Strategie Settimanali'!B181,'Daily Diary'!E:E,\"PUNTA SQ.CASA\")","v":0},{"$f":"COUNTIFS('Daily Diary'!A:A,'Grafico Strategie Settimanali'!B181,'Daily Diary'!E:E,\"PUNTA SQ.OSPITE\")","v":0},{"$f":"COUNTIFS('Daily Diary'!A:A,'Grafico Strategie Settimanali'!B181,'Daily Diary'!E:E,\"BANCA SFAVORITA\")","v":0},{"$f":"COUNTIFS('Daily Diary'!A:A,'Grafico Strategie Settimanali'!B181,'Daily Diary'!E:E,\"PUNTA OVER\")","v":0},{"$f":"COUNTIFS('Daily Diary'!A:A,'Grafico Strategie Settimanali'!B181,'Daily Diary'!E:E,\"PUNTA UNDER\")","v":0},{"$f":"COUNTIFS('Daily Diary'!A:A,'Grafico Strategie Settimanali'!B181,'Daily Diary'!E:E,\"SCALPING\")","v":0},{"$f":"COUNTIFS('Daily Diary'!A:A,'Grafico Strategie Settimanali'!B181,'Daily Diary'!E:E,\"GT90\")","v":0},{"$f":"COUNTIFS('Daily Diary'!A:A,'Grafico Strategie Settimanali'!B181,'Daily Diary'!E:E,\"GT110\")","v":0},{"$f":"COUNTIFS('Daily Diary'!A:A,'Grafico Strategie Settimanali'!B181,'Daily Diary'!E:E,\"ALERT GOAL\")","v":0},{"$f":"COUNTIFS('Daily Diary'!A:A,'Grafico Strategie Settimanali'!B181,'Daily Diary'!E:E,\"DRAW NO BET\")","v":0},{"$f":"COUNTIFS('Daily Diary'!A:A,'Grafico Strategie Settimanali'!B181,'Daily Diary'!E:E,\"ALTRO\")","v":0},{"$f":"COUNTIFS('Daily Diary'!A:A,'Grafico Strategie Settimanali'!B181,'Daily Diary'!E:E,\"BANCA PAREGGIO\",'Daily Diary'!E:E,\"BANCA PAREGGIO\",'Daily Diary'!K:K,\"WIN\")","v":0},{"$f":"COUNTIFS('Daily Diary'!A:A,'Grafico Strategie Settimanali'!B181,'Daily Diary'!E:E,\"PUNTA SQ.CASA\",'Daily Diary'!E:E,\"PUNTA SQ.CASA\",'Daily Diary'!K:K,\"WIN\")","v":0},{"$f":"COUNTIFS('Daily Diary'!A:A,'Grafico Strategie Settimanali'!B181,'Daily Diary'!E:E,\"PUNTA SQ.OSPITE\",'Daily Diary'!E:E,\"PUNTA SQ.OSPITE\",'Daily Diary'!K:K,\"WIN\")","v":0},{"$f":"COUNTIFS('Daily Diary'!A:A,'Grafico Strategie Settimanali'!B181,'Daily Diary'!E:E,\"BANCA SFAVORITA\",'Daily Diary'!E:E,\"BANCA SFAVORITA\",'Daily Diary'!K:K,\"WIN\")","v":0},{"$f":"COUNTIFS('Daily Diary'!A:A,'Grafico Strategie Settimanali'!B181,'Daily Diary'!E:E,\"PUNTA OVER\",'Daily Diary'!E:E,\"PUNTA OVER\",'Daily Diary'!K:K,\"WIN\")","v":0},{"$f":"COUNTIFS('Daily Diary'!A:A,'Grafico Strategie Settimanali'!B181,'Daily Diary'!E:E,\"PUNTA UNDER\",'Daily Diary'!E:E,\"PUNTA UNDER\",'Daily Diary'!K:K,\"WIN\")","v":0},{"$f":"COUNTIFS('Daily Diary'!A:A,'Grafico Strategie Settimanali'!B181,'Daily Diary'!E:E,\"SCALPING\",'Daily Diary'!E:E,\"SCALPING\",'Daily Diary'!K:K,\"WIN\")","v":0},{"$f":"COUNTIFS('Daily Diary'!A:A,'Grafico Strategie Settimanali'!B181,'Daily Diary'!E:E,\"GT 90\",'Daily Diary'!E:E,\"GT 90\",'Daily Diary'!K:K,\"WIN\")","v":0},{"$f":"COUNTIFS('Daily Diary'!A:A,'Grafico Strategie Settimanali'!B181,'Daily Diary'!E:E,\"GT 110\",'Daily Diary'!E:E,\"GT 110\",'Daily Diary'!K:K,\"WIN\")","v":0},{"$f":"COUNTIFS('Daily Diary'!A:A,'Grafico Strategie Settimanali'!B181,'Daily Diary'!E:E,\"ALERT GOAL\",'Daily Diary'!E:E,\"ALERT GOAL\",'Daily Diary'!K:K,\"WIN\")","v":0},{"$f":"COUNTIFS('Daily Diary'!A:A,'Grafico Strategie Settimanali'!B181,'Daily Diary'!E:E,\"DRAW NO BET\",'Daily Diary'!E:E,\"DRAW NO BET\",'Daily Diary'!K:K,\"WIN\")","v":0},{"$f":"COUNTIFS('Daily Diary'!A:A,'Grafico Strategie Settimanali'!B181,'Daily Diary'!E:E,\"ALTRO\",'Daily Diary'!E:E,\"ALTRO\",'Daily Diary'!K:K,\"WIN\")","v":0},{"$error":"#DIV/0!"},{"$error":"#DIV/0!"},{"$error":"#DIV/0!"},{"$error":"#DIV/0!"},{"$error":"#DIV/0!"},{"$error":"#DIV/0!"},{"$error":"#DIV/0!"},{"$error":"#DIV/0!"},{"$error":"#DIV/0!"},{"$error":"#DIV/0!"},{"$error":"#DIV/0!"},{"$error":"#DIV/0!"}]
[0,"2023-10-31",{"$f":"COUNTIFS('Daily Diary'!A:A,'Grafico Strategie Settimanali'!B182,'Daily Diary'!E:E,\"BANCA PAREGGIO\")","v":0},{"$f":"COUNTIFS('Daily Diary'!A:A,'Grafico Strategie Settimanali'!B182,'Daily Diary'!E:E,\"PUNTA SQ.CASA\")","v":0},{"$f":"COUNTIFS('Daily Diary'!A:A,'Grafico Strategie Settimanali'!B182,'Daily Diary'!E:E,\"PUNTA SQ.OSPITE\")","v":0},{"$f":"COUNTIFS('Daily Diary'!A:A,'Grafico Strategie Settimanali'!B182,'Daily Diary'!E:E,\"BANCA SFAVORITA\")","v":0},{"$f":"COUNTIFS('Daily Diary'!A:A,'Grafico Strategie Settimanali'!B182,'Daily Diary'!E:E,\"PUNTA OVER\")","v":0},{"$f":"COUNTIFS('Daily Diary'!A:A,'Grafico Strategie Settimanali'!B182,'Daily Diary'!E:E,\"PUNTA UNDER\")","v":0},{"$f":"COUNTIFS('Daily Diary'!A:A,'Grafico Strategie Settimanali'!B182,'Daily Diary'!E:E,\"SCALPING\")","v":0},{"$f":"COUNTIFS('Daily Diary'!A:A,'Grafico Strategie Settimanali'!B182,'Daily Diary'!E:E,\"GT90\")","v":0},{"$f":"COUNTIFS('Daily Diary'!A:A,'Grafico Strategie Settimanali'!B182,'Daily Diary'!E:E,\"GT110\")","v":0},{"$f":"COUNTIFS('Daily Diary'!A:A,'Grafico Strategie Settimanali'!B182,'Daily Diary'!E:E,\"ALERT GOAL\")","v":0},{"$f":"COUNTIFS('Daily Diary'!A:A,'Grafico Strategie Settimanali'!B182,'Daily Diary'!E:E,\"DRAW NO BET\")","v":0},{"$f":"COUNTIFS('Daily Diary'!A:A,'Grafico Strategie Settimanali'!B182,'Daily Diary'!E:E,\"ALTRO\")","v":0},{"$f":"COUNTIFS('Daily Diary'!A:A,'Grafico Strategie Settimanali'!B182,'Daily Diary'!E:E,\"BANCA PAREGGIO\",'Daily Diary'!E:E,\"BANCA PAREGGIO\",'Daily Diary'!K:K,\"WIN\")","v":0},{"$f":"COUNTIFS('Daily Diary'!A:A,'Grafico Strategie Settimanali'!B182,'Daily Diary'!E:E,\"PUNTA SQ.CASA\",'Daily Diary'!E:E,\"PUNTA SQ.CASA\",'Daily Diary'!K:K,\"WIN\")","v":0},{"$f":"COUNTIFS('Daily Diary'!A:A,'Grafico Strategie Settimanali'!B182,'Daily Diary'!E:E,\"PUNTA SQ.OSPITE\",'Daily Diary'!E:E,\"PUNTA SQ.OSPITE\",'Daily Diary'!K:K,\"WIN\")","v":0},{"$f":"COUNTIFS('Daily Diary'!A:A,'Grafico Strategie Settimanali'!B182,'Daily Diary'!E:E,\"BANCA SFAVORITA\",'Daily Diary'!E:E,\"BANCA SFAVORITA\",'Daily Diary'!K:K,\"WIN\")","v":0},{"$f":"COUNTIFS('Daily Diary'!A:A,'Grafico Strategie Settimanali'!B182,'Daily Diary'!E:E,\"PUNTA OVER\",'Daily Diary'!E:E,\"PUNTA OVER\",'Daily Diary'!K:K,\"WIN\")","v":0},{"$f":"COUNTIFS('Daily Diary'!A:A,'Grafico Strategie Settimanali'!B182,'Daily Diary'!E:E,\"PUNTA UNDER\",'Daily Diary'!E:E,\"PUNTA UNDER\",'Daily Diary'!K:K,\"WIN\")","v":0},{"$f":"COUNTIFS('Daily Diary'!A:A,'Grafico Strategie Settimanali'!B182,'Daily Diary'!E:E,\"SCALPING\",'Daily Diary'!E:E,\"SCALPING\",'Daily Diary'!K:K,\"WIN\")","v":0},{"$f":"COUNTIFS('Daily Diary'!A:A,'Grafico Strategie Settimanali'!B182,'Daily Diary'!E:E,\"GT 90\",'Daily Diary'!E:E,\"GT 90\",'Daily Diary'!K:K,\"WIN\")","v":0},{"$f":"COUNTIFS('Daily Diary'!A:A,'Grafico Strategie Settimanali'!B182,'Daily Diary'!E:E,\"GT 110\",'Daily Diary'!E:E,\"GT 110\",'Daily Diary'!K:K,\"WIN\")","v":0},{"$f":"COUNTIFS('Daily Diary'!A:A,'Grafico Strategie Settimanali'!B182,'Daily Diary'!E:E,\"ALERT GOAL\",'Daily Diary'!E:E,\"ALERT GOAL\",'Daily Diary'!K:K,\"WIN\")","v":0},{"$f":"COUNTIFS('Daily Diary'!A:A,'Grafico Strategie Settimanali'!B182,'Daily Diary'!E:E,\"DRAW NO BET\",'Daily Diary'!E:E,\"DRAW NO BET\",'Daily Diary'!K:K,\"WIN\")","v":0},{"$f":"COUNTIFS('Daily Diary'!A:A,'Grafico Strategie Settimanali'!B182,'Daily Diary'!E:E,\"ALTRO\",'Daily Diary'!E:E,\"ALTRO\",'Daily Diary'!K:K,\"WIN\")","v":0},{"$error":"#DIV/0!"},{"$error":"#DIV/0!"},{"$error":"#DIV/0!"},{"$error":"#DIV/0!"},{"$error":"#DIV/0!"},{"$error":"#DIV/0!"},{"$error":"#DIV/0!"},{"$error":"#DIV/0!"},{"$error":"#DIV/0!"},{"$error":"#DIV/0!"},{"$error":"#DIV/0!"},{"$error":"#DIV/0!"}]
[0,"2023-11-01",{"$f":"COUNTIFS('Daily Diary'!A:A,'Grafico Strategie Settimanali'!B183,'Daily Diary'!E:E,\"BANCA PAREGGIO\")","v":0},{"$f":"COUNTIFS('Daily Diary'!A:A,'Grafico Strategie Settimanali'!B183,'Daily Diary'!E:E,\"PUNTA SQ.CASA\")","v":0},{"$f":"COUNTIFS('Daily Diary'!A:A,'Grafico Strategie Settimanali'!B183,'Daily Diary'!E:E,\"PUNTA SQ.OSPITE\")","v":0},{"$f":"COUNTIFS('Daily Diary'!A:A,'Grafico Strategie Settimanali'!B183,'Daily Diary'!E:E,\"BANCA SFAVORITA\")","v":0},{"$f":"COUNTIFS('Daily Diary'!A:A,'Grafico Strategie Settimanali'!B183,'Daily Diary'!E:E,\"PUNTA OVER\")","v":0},{"$f":"COUNTIFS('Daily Diary'!A:A,'Grafico Strategie Settimanali'!B183,'Daily Diary'!E:E,\"PUNTA UNDER\")","v":0},{"$f":"COUNTIFS('Daily Diary'!A:A,'Grafico Strategie Settimanali'!B183,'Daily Diary'!E:E,\"SCALPING\")","v":0},{"$f":"COUNTIFS('Daily Diary'!A:A,'Grafico Strategie Settimanali'!B183,'Daily Diary'!E:E,\"GT90\")","v":0},{"$f":"COUNTIFS('Daily Diary'!A:A,'Grafico Strategie Settimanali'!B183,'Daily Diary'!E:E,\"GT110\")","v":0},{"$f":"COUNTIFS('Daily Diary'!A:A,'Grafico Strategie Settimanali'!B183,'Daily Diary'!E:E,\"ALERT GOAL\")","v":0},{"$f":"COUNTIFS('Daily Diary'!A:A,'Grafico Strategie Settimanali'!B183,'Daily Diary'!E:E,\"DRAW NO BET\")","v":0},{"$f":"COUNTIFS('Daily Diary'!A:A,'Grafico Strategie Settimanali'!B183,'Daily Diary'!E:E,\"ALTRO\")","v":0},{"$f":"COUNTIFS('Daily Diary'!A:A,'Grafico Strategie Settimanali'!B183,'Daily Diary'!E:E,\"BANCA PAREGGIO\",'Daily Diary'!E:E,\"BANCA PAREGGIO\",'Daily Diary'!K:K,\"WIN\")","v":0},{"$f":"COUNTIFS('Daily Diary'!A:A,'Grafico Strategie Settimanali'!B183,'Daily Diary'!E:E,\"PUNTA SQ.CASA\",'Daily Diary'!E:E,\"PUNTA SQ.CASA\",'Daily Diary'!K:K,\"WIN\")","v":0},{"$f":"COUNTIFS('Daily Diary'!A:A,'Grafico Strategie Settimanali'!B183,'Daily Diary'!E:E,\"PUNTA SQ.OSPITE\",'Daily Diary'!E:E,\"PUNTA SQ.OSPITE\",'Daily Diary'!K:K,\"WIN\")","v":0},{"$f":"COUNTIFS('Daily Diary'!A:A,'Grafico Strategie Settimanali'!B183,'Daily Diary'!E:E,\"BANCA SFAVORITA\",'Daily Diary'!E:E,\"BANCA SFAVORITA\",'Daily Diary'!K:K,\"WIN\")","v":0},{"$f":"COUNTIFS('Daily Diary'!A:A,'Grafico Strategie Settimanali'!B183,'Daily Diary'!E:E,\"PUNTA OVER\",'Daily Diary'!E:E,\"PUNTA OVER\",'Daily Diary'!K:K,\"WIN\")","v":0},{"$f":"COUNTIFS('Daily Diary'!A:A,'Grafico Strategie Settimanali'!B183,'Daily Diary'!E:E,\"PUNTA UNDER\",'Daily Diary'!E:E,\"PUNTA UNDER\",'Daily Diary'!K:K,\"WIN\")","v":0},{"$f":"COUNTIFS('Daily Diary'!A:A,'Grafico Strategie Settimanali'!B183,'Daily Diary'!E:E,\"SCALPING\",'Daily Diary'!E:E,\"SCALPING\",'Daily Diary'!K:K,\"WIN\")","v":0},{"$f":"COUNTIFS('Daily Diary'!A:A,'Grafico Strategie Settimanali'!B183,'Daily Diary'!E:E,\"GT 90\",'Daily Diary'!E:E,\"GT 90\",'Daily Diary'!K:K,\"WIN\")","v":0},{"$f":"COUNTIFS('Daily Diary'!A:A,'Grafico Strategie Settimanali'!B183,'Daily Diary'!E:E,\"GT 110\",'Daily Diary'!E:E,\"GT 110\",'Daily Diary'!K:K,\"WIN\")","v":0},{"$f":"COUNTIFS('Daily Diary'!A:A,'Grafico Strategie Settimanali'!B183,'Daily Diary'!E:E,\"ALERT GOAL\",'Daily Diary'!E:E,\"ALERT GOAL\",'Daily Diary'!K:K,\"WIN\")","v":0},{"$f":"COUNTIFS('Daily Diary'!A:A,'Grafico Strategie Settimanali'!B183,'Daily Diary'!E:E,\"DRAW NO BET\",'Daily Diary'!E:E,\"DRAW NO BET\",'Daily Diary'!K:K,\"WIN\")","v":0},{"$f":"COUNTIFS('Daily Diary'!A:A,'Grafico Strategie Settimanali'!B183,'Daily Diary'!E:E,\"ALTRO\",'Daily Diary'!E:E,\"ALTRO\",'Daily Diary'!K:K,\"WIN\")","v":0},{"$error":"#DIV/0!"},{"$error":"#DIV/0!"},{"$error":"#DIV/0!"},{"$error":"#DIV/0!"},{"$error":"#DIV/0!"},{"$error":"#DIV/0!"},{"$error":"#DIV/0!"},{"$error":"#DIV/0!"},{"$error":"#DIV/0!"},{"$error":"#DIV/0!"},{"$error":"#DIV/0!"},{"$error":"#DIV/0!"}]
[0,"2023-11-02",{"$f":"COUNTIFS('Daily Diary'!A:A,'Grafico Strategie Settimanali'!B184,'Daily Diary'!E:E,\"BANCA PAREGGIO\")","v":0},{"$f":"COUNTIFS('Daily Diary'!A:A,'Grafico Strategie Settimanali'!B184,'Daily Diary'!E:E,\"PUNTA SQ.CASA\")","v":0},{"$f":"COUNTIFS('Daily Diary'!A:A,'Grafico Strategie Settimanali'!B184,'Daily Diary'!E:E,\"PUNTA SQ.OSPITE\")","v":0},{"$f":"COUNTIFS('Daily Diary'!A:A,'Grafico Strategie Settimanali'!B184,'Daily Diary'!E:E,\"BANCA SFAVORITA\")","v":0},{"$f":"COUNTIFS('Daily Diary'!A:A,'Grafico Strategie Settimanali'!B184,'Daily Diary'!E:E,\"PUNTA OVER\")","v":0},{"$f":"COUNTIFS('Daily Diary'!A:A,'Grafico Strategie Settimanali'!B184,'Daily Diary'!E:E,\"PUNTA UNDER\")","v":0},{"$f":"COUNTIFS('Daily Diary'!A:A,'Grafico Strategie Settimanali'!B184,'Daily Diary'!E:E,\"SCALPING\")","v":0},{"$f":"COUNTIFS('Daily Diary'!A:A,'Grafico Strategie Settimanali'!B184,'Daily Diary'!E:E,\"GT90\")","v":0},{"$f":"COUNTIFS('Daily Diary'!A:A,'Grafico Strategie Settimanali'!B184,'Daily Diary'!E:E,\"GT110\")","v":0},{"$f":"COUNTIFS('Daily Diary'!A:A,'Grafico Strategie Settimanali'!B184,'Daily Diary'!E:E,\"ALERT GOAL\")","v":0},{"$f":"COUNTIFS('Daily Diary'!A:A,'Grafico Strategie Settimanali'!B184,'Daily Diary'!E:E,\"DRAW NO BET\")","v":0},{"$f":"COUNTIFS('Daily Diary'!A:A,'Grafico Strategie Settimanali'!B184,'Daily Diary'!E:E,\"ALTRO\")","v":0},{"$f":"COUNTIFS('Daily Diary'!A:A,'Grafico Strategie Settimanali'!B184,'Daily Diary'!E:E,\"BANCA PAREGGIO\",'Daily Diary'!E:E,\"BANCA PAREGGIO\",'Daily Diary'!K:K,\"WIN\")","v":0},{"$f":"COUNTIFS('Daily Diary'!A:A,'Grafico Strategie Settimanali'!B184,'Daily Diary'!E:E,\"PUNTA SQ.CASA\",'Daily Diary'!E:E,\"PUNTA SQ.CASA\",'Daily Diary'!K:K,\"WIN\")","v":0},{"$f":"COUNTIFS('Daily Diary'!A:A,'Grafico Strategie Settimanali'!B184,'Daily Diary'!E:E,\"PUNTA SQ.OSPITE\",'Daily Diary'!E:E,\"PUNTA SQ.OSPITE\",'Daily Diary'!K:K,\"WIN\")","v":0},{"$f":"COUNTIFS('Daily Diary'!A:A,'Grafico Strategie Settimanali'!B184,'Daily Diary'!E:E,\"BANCA SFAVORITA\",'Daily Diary'!E:E,\"BANCA SFAVORITA\",'Daily Diary'!K:K,\"WIN\")","v":0},{"$f":"COUNTIFS('Daily Diary'!A:A,'Grafico Strategie Settimanali'!B184,'Daily Diary'!E:E,\"PUNTA OVER\",'Daily Diary'!E:E,\"PUNTA OVER\",'Daily Diary'!K:K,\"WIN\")","v":0},{"$f":"COUNTIFS('Daily Diary'!A:A,'Grafico Strategie Settimanali'!B184,'Daily Diary'!E:E,\"PUNTA UNDER\",'Daily Diary'!E:E,\"PUNTA UNDER\",'Daily Diary'!K:K,\"WIN\")","v":0},{"$f":"COUNTIFS('Daily Diary'!A:A,'Grafico Strategie Settimanali'!B184,'Daily Diary'!E:E,\"SCALPING\",'Daily Diary'!E:E,\"SCALPING\",'Daily Diary'!K:K,\"WIN\")","v":0},{"$f":"COUNTIFS('Daily Diary'!A:A,'Grafico Strategie Settimanali'!B184,'Daily Diary'!E:E,\"GT 90\",'Daily Diary'!E:E,\"GT 90\",'Daily Diary'!K:K,\"WIN\")","v":0},{"$f":"COUNTIFS('Daily Diary'!A:A,'Grafico Strategie Settimanali'!B184,'Daily Diary'!E:E,\"GT 110\",'Daily Diary'!E:E,\"GT 110\",'Daily Diary'!K:K,\"WIN\")","v":0},{"$f":"COUNTIFS('Daily Diary'!A:A,'Grafico Strategie Settimanali'!B184,'Daily Diary'!E:E,\"ALERT GOAL\",'Daily Diary'!E:E,\"ALERT GOAL\",'Daily Diary'!K:K,\"WIN\")","v":0},{"$f":"COUNTIFS('Daily Diary'!A:A,'Grafico Strategie Settimanali'!B184,'Daily Diary'!E:E,\"DRAW NO BET\",'Daily Diary'!E:E,\"DRAW NO BET\",'Daily Diary'!K:K,\"WIN\")","v":0},{"$f":"COUNTIFS('Daily Diary'!A:A,'Grafico Strategie Settimanali'!B184,'Daily Diary'!E:E,\"ALTRO\",'Daily Diary'!E:E,\"ALTRO\",'Daily Diary'!K:K,\"WIN\")","v":0},{"$error":"#DIV/0!"},{"$error":"#DIV/0!"},{"$error":"#DIV/0!"},{"$error":"#DIV/0!"},{"$error":"#DIV/0!"},{"$error":"#DIV/0!"},{"$error":"#DIV/0!"},{"$error":"#DIV/0!"},{"$error":"#DIV/0!"},{"$error":"#DIV/0!"},{"$error":"#DIV/0!"},{"$error":"#DIV/0!"}]
[0,"2023-11-03",{"$f":"COUNTIFS('Daily Diary'!A:A,'Grafico Strategie Settimanali'!B185,'Daily Diary'!E:E,\"BANCA PAREGGIO\")","v":0},{"$f":"COUNTIFS('Daily Diary'!A:A,'Grafico Strategie Settimanali'!B185,'Daily Diary'!E:E,\"PUNTA SQ.CASA\")","v":0},{"$f":"COUNTIFS('Daily Diary'!A:A,'Grafico Strategie Settimanali'!B185,'Daily Diary'!E:E,\"PUNTA SQ.OSPITE\")","v":0},{"$f":"COUNTIFS('Daily Diary'!A:A,'Grafico Strategie Settimanali'!B185,'Daily Diary'!E:E,\"BANCA SFAVORITA\")","v":0},{"$f":"COUNTIFS('Daily Diary'!A:A,'Grafico Strategie Settimanali'!B185,'Daily Diary'!E:E,\"PUNTA OVER\")","v":0},{"$f":"COUNTIFS('Daily Diary'!A:A,'Grafico Strategie Settimanali'!B185,'Daily Diary'!E:E,\"PUNTA UNDER\")","v":0},{"$f":"COUNTIFS('Daily Diary'!A:A,'Grafico Strategie Settimanali'!B185,'Daily Diary'!E:E,\"SCALPING\")","v":0},{"$f":"COUNTIFS('Daily Diary'!A:A,'Grafico Strategie Settimanali'!B185,'Daily Diary'!E:E,\"GT90\")","v":0},{"$f":"COUNTIFS('Daily Diary'!A:A,'Grafico Strategie Settimanali'!B185,'Daily Diary'!E:E,\"GT110\")","v":0},{"$f":"COUNTIFS('Daily Diary'!A:A,'Grafico Strategie Settimanali'!B185,'Daily Diary'!E:E,\"ALERT GOAL\")","v":0},{"$f":"COUNTIFS('Daily Diary'!A:A,'Grafico Strategie Settimanali'!B185,'Daily Diary'!E:E,\"DRAW NO BET\")","v":0},{"$f":"COUNTIFS('Daily Diary'!A:A,'Grafico Strategie Settimanali'!B185,'Daily Diary'!E:E,\"ALTRO\")","v":0},{"$f":"COUNTIFS('Daily Diary'!A:A,'Grafico Strategie Settimanali'!B185,'Daily Diary'!E:E,\"BANCA PAREGGIO\",'Daily Diary'!E:E,\"BANCA PAREGGIO\",'Daily Diary'!K:K,\"WIN\")","v":0},{"$f":"COUNTIFS('Daily Diary'!A:A,'Grafico Strategie Settimanali'!B185,'Daily Diary'!E:E,\"PUNTA SQ.CASA\",'Daily Diary'!E:E,\"PUNTA SQ.CASA\",'Daily Diary'!K:K,\"WIN\")","v":0},{"$f":"COUNTIFS('Daily Diary'!A:A,'Grafico Strategie Settimanali'!B185,'Daily Diary'!E:E,\"PUNTA SQ.OSPITE\",'Daily Diary'!E:E,\"PUNTA SQ.OSPITE\",'Daily Diary'!K:K,\"WIN\")","v":0},{"$f":"COUNTIFS('Daily Diary'!A:A,'Grafico Strategie Settimanali'!B185,'Daily Diary'!E:E,\"BANCA SFAVORITA\",'Daily Diary'!E:E,\"BANCA SFAVORITA\",'Daily Diary'!K:K,\"WIN\")","v":0},{"$f":"COUNTIFS('Daily Diary'!A:A,'Grafico Strategie Settimanali'!B185,'Daily Diary'!E:E,\"PUNTA OVER\",'Daily Diary'!E:E,\"PUNTA OVER\",'Daily Diary'!K:K,\"WIN\")","v":0},{"$f":"COUNTIFS('Daily Diary'!A:A,'Grafico Strategie Settimanali'!B185,'Daily Diary'!E:E,\"PUNTA UNDER\",'Daily Diary'!E:E,\"PUNTA UNDER\",'Daily Diary'!K:K,\"WIN\")","v":0},{"$f":"COUNTIFS('Daily Diary'!A:A,'Grafico Strategie Settimanali'!B185,'Daily Diary'!E:E,\"SCALPING\",'Daily Diary'!E:E,\"SCALPING\",'Daily Diary'!K:K,\"WIN\")","v":0},{"$f":"COUNTIFS('Daily Diary'!A:A,'Grafico Strategie Settimanali'!B185,'Daily Diary'!E:E,\"GT 90\",'Daily Diary'!E:E,\"GT 90\",'Daily Diary'!K:K,\"WIN\")","v":0},{"$f":"COUNTIFS('Daily Diary'!A:A,'Grafico Strategie Settimanali'!B185,'Daily Diary'!E:E,\"GT 110\",'Daily Diary'!E:E,\"GT 110\",'Daily Diary'!K:K,\"WIN\")","v":0},{"$f":"COUNTIFS('Daily Diary'!A:A,'Grafico Strategie Settimanali'!B185,'Daily Diary'!E:E,\"ALERT GOAL\",'Daily Diary'!E:E,\"ALERT GOAL\",'Daily Diary'!K:K,\"WIN\")","v":0},{"$f":"COUNTIFS('Daily Diary'!A:A,'Grafico Strategie Settimanali'!B185,'Daily Diary'!E:E,\"DRAW NO BET\",'Daily Diary'!E:E,\"DRAW NO BET\",'Daily Diary'!K:K,\"WIN\")","v":0},{"$f":"COUNTIFS('Daily Diary'!A:A,'Grafico Strategie Settimanali'!B185,'Daily Diary'!E:E,\"ALTRO\",'Daily Diary'!E:E,\"ALTRO\",'Daily Diary'!K:K,\"WIN\")","v":0},{"$error":"#DIV/0!"},{"$error":"#DIV/0!"},{"$error":"#DIV/0!"},{"$error":"#DIV/0!"},{"$error":"#DIV/0!"},{"$error":"#DIV/0!"},{"$error":"#DIV/0!"},{"$error":"#DIV/0!"},{"$error":"#DIV/0!"},{"$error":"#DIV/0!"},{"$error":"#DIV/0!"},{"$error":"#DIV/0!"}]
[0,"2023-11-04",{"$f":"COUNTIFS('Daily Diary'!A:A,'Grafico Strategie Settimanali'!B186,'Daily Diary'!E:E,\"BANCA PAREGGIO\")","v":0},{"$f":"COUNTIFS('Daily Diary'!A:A,'Grafico Strategie Settimanali'!B186,'Daily Diary'!E:E,\"PUNTA SQ.CASA\")","v":0},{"$f":"COUNTIFS('Daily Diary'!A:A,'Grafico Strategie Settimanali'!B186,'Daily Diary'!E:E,\"PUNTA SQ.OSPITE\")","v":0},{"$f":"COUNTIFS('Daily Diary'!A:A,'Grafico Strategie Settimanali'!B186,'Daily Diary'!E:E,\"BANCA SFAVORITA\")","v":0},{"$f":"COUNTIFS('Daily Diary'!A:A,'Grafico Strategie Settimanali'!B186,'Daily Diary'!E:E,\"PUNTA OVER\")","v":0},{"$f":"COUNTIFS('Daily Diary'!A:A,'Grafico Strategie Settimanali'!B186,'Daily Diary'!E:E,\"PUNTA UNDER\")","v":0},{"$f":"COUNTIFS('Daily Diary'!A:A,'Grafico Strategie Settimanali'!B186,'Daily Diary'!E:E,\"SCALPING\")","v":0},{"$f":"COUNTIFS('Daily Diary'!A:A,'Grafico Strategie Settimanali'!B186,'Daily Diary'!E:E,\"GT90\")","v":0},{"$f":"COUNTIFS('Daily Diary'!A:A,'Grafico Strategie Settimanali'!B186,'Daily Diary'!E:E,\"GT110\")","v":0},{"$f":"COUNTIFS('Daily Diary'!A:A,'Grafico Strategie Settimanali'!B186,'Daily Diary'!E:E,\"ALERT GOAL\")","v":0},{"$f":"COUNTIFS('Daily Diary'!A:A,'Grafico Strategie Settimanali'!B186,'Daily Diary'!E:E,\"DRAW NO BET\")","v":0},{"$f":"COUNTIFS('Daily Diary'!A:A,'Grafico Strategie Settimanali'!B186,'Daily Diary'!E:E,\"ALTRO\")","v":0},{"$f":"COUNTIFS('Daily Diary'!A:A,'Grafico Strategie Settimanali'!B186,'Daily Diary'!E:E,\"BANCA PAREGGIO\",'Daily Diary'!E:E,\"BANCA PAREGGIO\",'Daily Diary'!K:K,\"WIN\")","v":0},{"$f":"COUNTIFS('Daily Diary'!A:A,'Grafico Strategie Settimanali'!B186,'Daily Diary'!E:E,\"PUNTA SQ.CASA\",'Daily Diary'!E:E,\"PUNTA SQ.CASA\",'Daily Diary'!K:K,\"WIN\")","v":0},{"$f":"COUNTIFS('Daily Diary'!A:A,'Grafico Strategie Settimanali'!B186,'Daily Diary'!E:E,\"PUNTA SQ.OSPITE\",'Daily Diary'!E:E,\"PUNTA SQ.OSPITE\",'Daily Diary'!K:K,\"WIN\")","v":0},{"$f":"COUNTIFS('Daily Diary'!A:A,'Grafico Strategie Settimanali'!B186,'Daily Diary'!E:E,\"BANCA SFAVORITA\",'Daily Diary'!E:E,\"BANCA SFAVORITA\",'Daily Diary'!K:K,\"WIN\")","v":0},{"$f":"COUNTIFS('Daily Diary'!A:A,'Grafico Strategie Settimanali'!B186,'Daily Diary'!E:E,\"PUNTA OVER\",'Daily Diary'!E:E,\"PUNTA OVER\",'Daily Diary'!K:K,\"WIN\")","v":0},{"$f":"COUNTIFS('Daily Diary'!A:A,'Grafico Strategie Settimanali'!B186,'Daily Diary'!E:E,\"PUNTA UNDER\",'Daily Diary'!E:E,\"PUNTA UNDER\",'Daily Diary'!K:K,\"WIN\")","v":0},{"$f":"COUNTIFS('Daily Diary'!A:A,'Grafico Strategie Settimanali'!B186,'Daily Diary'!E:E,\"SCALPING\",'Daily Diary'!E:E,\"SCALPING\",'Daily Diary'!K:K,\"WIN\")","v":0},{"$f":"COUNTIFS('Daily Diary'!A:A,'Grafico Strategie Settimanali'!B186,'Daily Diary'!E:E,\"GT 90\",'Daily Diary'!E:E,\"GT 90\",'Daily Diary'!K:K,\"WIN\")","v":0},{"$f":"COUNTIFS('Daily Diary'!A:A,'Grafico Strategie Settimanali'!B186,'Daily Diary'!E:E,\"GT 110\",'Daily Diary'!E:E,\"GT 110\",'Daily Diary'!K:K,\"WIN\")","v":0},{"$f":"COUNTIFS('Daily Diary'!A:A,'Grafico Strategie Settimanali'!B186,'Daily Diary'!E:E,\"ALERT GOAL\",'Daily Diary'!E:E,\"ALERT GOAL\",'Daily Diary'!K:K,\"WIN\")","v":0},{"$f":"COUNTIFS('Daily Diary'!A:A,'Grafico Strategie Settimanali'!B186,'Daily Diary'!E:E,\"DRAW NO BET\",'Daily Diary'!E:E,\"DRAW NO BET\",'Daily Diary'!K:K,\"WIN\")","v":0},{"$f":"COUNTIFS('Daily Diary'!A:A,'Grafico Strategie Settimanali'!B186,'Daily Diary'!E:E,\"ALTRO\",'Daily Diary'!E:E,\"ALTRO\",'Daily Diary'!K:K,\"WIN\")","v":0},{"$error":"#DIV/0!"},{"$error":"#DIV/0!"},{"$error":"#DIV/0!"},{"$error":"#DIV/0!"},{"$error":"#DIV/0!"},{"$error":"#DIV/0!"},{"$error":"#DIV/0!"},{"$error":"#DIV/0!"},{"$error":"#DIV/0!"},{"$error":"#DIV/0!"},{"$error":"#DIV/0!"},{"$error":"#DIV/0!"}]
[0,"2023-11-05",{"$f":"COUNTIFS('Daily Diary'!A:A,'Grafico Strategie Settimanali'!B187,'Daily Diary'!E:E,\"BANCA PAREGGIO\")","v":0},{"$f":"COUNTIFS('Daily Diary'!A:A,'Grafico Strategie Settimanali'!B187,'Daily Diary'!E:E,\"PUNTA SQ.CASA\")","v":0},{"$f":"COUNTIFS('Daily Diary'!A:A,'Grafico Strategie Settimanali'!B187,'Daily Diary'!E:E,\"PUNTA SQ.OSPITE\")","v":0},{"$f":"COUNTIFS('Daily Diary'!A:A,'Grafico Strategie Settimanali'!B187,'Daily Diary'!E:E,\"BANCA SFAVORITA\")","v":0},{"$f":"COUNTIFS('Daily Diary'!A:A,'Grafico Strategie Settimanali'!B187,'Daily Diary'!E:E,\"PUNTA OVER\")","v":0},{"$f":"COUNTIFS('Daily Diary'!A:A,'Grafico Strategie Settimanali'!B187,'Daily Diary'!E:E,\"PUNTA UNDER\")","v":0},{"$f":"COUNTIFS('Daily Diary'!A:A,'Grafico Strategie Settimanali'!B187,'Daily Diary'!E:E,\"SCALPING\")","v":0},{"$f":"COUNTIFS('Daily Diary'!A:A,'Grafico Strategie Settimanali'!B187,'Daily Diary'!E:E,\"GT90\")","v":0},{"$f":"COUNTIFS('Daily Diary'!A:A,'Grafico Strategie Settimanali'!B187,'Daily Diary'!E:E,\"GT110\")","v":0},{"$f":"COUNTIFS('Daily Diary'!A:A,'Grafico Strategie Settimanali'!B187,'Daily Diary'!E:E,\"ALERT GOAL\")","v":0},{"$f":"COUNTIFS('Daily Diary'!A:A,'Grafico Strategie Settimanali'!B187,'Daily Diary'!E:E,\"DRAW NO BET\")","v":0},{"$f":"COUNTIFS('Daily Diary'!A:A,'Grafico Strategie Settimanali'!B187,'Daily Diary'!E:E,\"ALTRO\")","v":0},{"$f":"COUNTIFS('Daily Diary'!A:A,'Grafico Strategie Settimanali'!B187,'Daily Diary'!E:E,\"BANCA PAREGGIO\",'Daily Diary'!E:E,\"BANCA PAREGGIO\",'Daily Diary'!K:K,\"WIN\")","v":0},{"$f":"COUNTIFS('Daily Diary'!A:A,'Grafico Strategie Settimanali'!B187,'Daily Diary'!E:E,\"PUNTA SQ.CASA\",'Daily Diary'!E:E,\"PUNTA SQ.CASA\",'Daily Diary'!K:K,\"WIN\")","v":0},{"$f":"COUNTIFS('Daily Diary'!A:A,'Grafico Strategie Settimanali'!B187,'Daily Diary'!E:E,\"PUNTA SQ.OSPITE\",'Daily Diary'!E:E,\"PUNTA SQ.OSPITE\",'Daily Diary'!K:K,\"WIN\")","v":0},{"$f":"COUNTIFS('Daily Diary'!A:A,'Grafico Strategie Settimanali'!B187,'Daily Diary'!E:E,\"BANCA SFAVORITA\",'Daily Diary'!E:E,\"BANCA SFAVORITA\",'Daily Diary'!K:K,\"WIN\")","v":0},{"$f":"COUNTIFS('Daily Diary'!A:A,'Grafico Strategie Settimanali'!B187,'Daily Diary'!E:E,\"PUNTA OVER\",'Daily Diary'!E:E,\"PUNTA OVER\",'Daily Diary'!K:K,\"WIN\")","v":0},{"$f":"COUNTIFS('Daily Diary'!A:A,'Grafico Strategie Settimanali'!B187,'Daily Diary'!E:E,\"PUNTA UNDER\",'Daily Diary'!E:E,\"PUNTA UNDER\",'Daily Diary'!K:K,\"WIN\")","v":0},{"$f":"COUNTIFS('Daily Diary'!A:A,'Grafico Strategie Settimanali'!B187,'Daily Diary'!E:E,\"SCALPING\",'Daily Diary'!E:E,\"SCALPING\",'Daily Diary'!K:K,\"WIN\")","v":0},{"$f":"COUNTIFS('Daily Diary'!A:A,'Grafico Strategie Settimanali'!B187,'Daily Diary'!E:E,\"GT 90\",'Daily Diary'!E:E,\"GT 90\",'Daily Diary'!K:K,\"WIN\")","v":0},{"$f":"COUNTIFS('Daily Diary'!A:A,'Grafico Strategie Settimanali'!B187,'Daily Diary'!E:E,\"GT 110\",'Daily Diary'!E:E,\"GT 110\",'Daily Diary'!K:K,\"WIN\")","v":0},{"$f":"COUNTIFS('Daily Diary'!A:A,'Grafico Strategie Settimanali'!B187,'Daily Diary'!E:E,\"ALERT GOAL\",'Daily Diary'!E:E,\"ALERT GOAL\",'Daily Diary'!K:K,\"WIN\")","v":0},{"$f":"COUNTIFS('Daily Diary'!A:A,'Grafico Strategie Settimanali'!B187,'Daily Diary'!E:E,\"DRAW NO BET\",'Daily Diary'!E:E,\"DRAW NO BET\",'Daily Diary'!K:K,\"WIN\")","v":0},{"$f":"COUNTIFS('Daily Diary'!A:A,'Grafico Strategie Settimanali'!B187,'Daily Diary'!E:E,\"ALTRO\",'Daily Diary'!E:E,\"ALTRO\",'Daily Diary'!K:K,\"WIN\")","v":0},{"$error":"#DIV/0!"},{"$error":"#DIV/0!"},{"$error":"#DIV/0!"},{"$error":"#DIV/0!"},{"$error":"#DIV/0!"},{"$error":"#DIV/0!"},{"$error":"#DIV/0!"},{"$error":"#DIV/0!"},{"$error":"#DIV/0!"},{"$error":"#DIV/0!"},{"$error":"#DIV/0!"},{"$error":"#DIV/0!"}]
[0,"2023-11-06",{"$f":"COUNTIFS('Daily Diary'!A:A,'Grafico Strategie Settimanali'!B188,'Daily Diary'!E:E,\"BANCA PAREGGIO\")","v":0},{"$f":"COUNTIFS('Daily Diary'!A:A,'Grafico Strategie Settimanali'!B188,'Daily Diary'!E:E,\"PUNTA SQ.CASA\")","v":0},{"$f":"COUNTIFS('Daily Diary'!A:A,'Grafico Strategie Settimanali'!B188,'Daily Diary'!E:E,\"PUNTA SQ.OSPITE\")","v":0},{"$f":"COUNTIFS('Daily Diary'!A:A,'Grafico Strategie Settimanali'!B188,'Daily Diary'!E:E,\"BANCA SFAVORITA\")","v":0},{"$f":"COUNTIFS('Daily Diary'!A:A,'Grafico Strategie Settimanali'!B188,'Daily Diary'!E:E,\"PUNTA OVER\")","v":0},{"$f":"COUNTIFS('Daily Diary'!A:A,'Grafico Strategie Settimanali'!B188,'Daily Diary'!E:E,\"PUNTA UNDER\")","v":0},{"$f":"COUNTIFS('Daily Diary'!A:A,'Grafico Strategie Settimanali'!B188,'Daily Diary'!E:E,\"SCALPING\")","v":0},{"$f":"COUNTIFS('Daily Diary'!A:A,'Grafico Strategie Settimanali'!B188,'Daily Diary'!E:E,\"GT90\")","v":0},{"$f":"COUNTIFS('Daily Diary'!A:A,'Grafico Strategie Settimanali'!B188,'Daily Diary'!E:E,\"GT110\")","v":0},{"$f":"COUNTIFS('Daily Diary'!A:A,'Grafico Strategie Settimanali'!B188,'Daily Diary'!E:E,\"ALERT GOAL\")","v":0},{"$f":"COUNTIFS('Daily Diary'!A:A,'Grafico Strategie Settimanali'!B188,'Daily Diary'!E:E,\"DRAW NO BET\")","v":0},{"$f":"COUNTIFS('Daily Diary'!A:A,'Grafico Strategie Settimanali'!B188,'Daily Diary'!E:E,\"ALTRO\")","v":0},{"$f":"COUNTIFS('Daily Diary'!A:A,'Grafico Strategie Settimanali'!B188,'Daily Diary'!E:E,\"BANCA PAREGGIO\",'Daily Diary'!E:E,\"BANCA PAREGGIO\",'Daily Diary'!K:K,\"WIN\")","v":0},{"$f":"COUNTIFS('Daily Diary'!A:A,'Grafico Strategie Settimanali'!B188,'Daily Diary'!E:E,\"PUNTA SQ.CASA\",'Daily Diary'!E:E,\"PUNTA SQ.CASA\",'Daily Diary'!K:K,\"WIN\")","v":0},{"$f":"COUNTIFS('Daily Diary'!A:A,'Grafico Strategie Settimanali'!B188,'Daily Diary'!E:E,\"PUNTA SQ.OSPITE\",'Daily Diary'!E:E,\"PUNTA SQ.OSPITE\",'Daily Diary'!K:K,\"WIN\")","v":0},{"$f":"COUNTIFS('Daily Diary'!A:A,'Grafico Strategie Settimanali'!B188,'Daily Diary'!E:E,\"BANCA SFAVORITA\",'Daily Diary'!E:E,\"BANCA SFAVORITA\",'Daily Diary'!K:K,\"WIN\")","v":0},{"$f":"COUNTIFS('Daily Diary'!A:A,'Grafico Strategie Settimanali'!B188,'Daily Diary'!E:E,\"PUNTA OVER\",'Daily Diary'!E:E,\"PUNTA OVER\",'Daily Diary'!K:K,\"WIN\")","v":0},{"$f":"COUNTIFS('Daily Diary'!A:A,'Grafico Strategie Settimanali'!B188,'Daily Diary'!E:E,\"PUNTA UNDER\",'Daily Diary'!E:E,\"PUNTA UNDER\",'Daily Diary'!K:K,\"WIN\")","v":0},{"$f":"COUNTIFS('Daily Diary'!A:A,'Grafico Strategie Settimanali'!B188,'Daily Diary'!E:E,\"SCALPING\",'Daily Diary'!E:E,\"SCALPING\",'Daily Diary'!K:K,\"WIN\")","v":0},{"$f":"COUNTIFS('Daily Diary'!A:A,'Grafico Strategie Settimanali'!B188,'Daily Diary'!E:E,\"GT 90\",'Daily Diary'!E:E,\"GT 90\",'Daily Diary'!K:K,\"WIN\")","v":0},{"$f":"COUNTIFS('Daily Diary'!A:A,'Grafico Strategie Settimanali'!B188,'Daily Diary'!E:E,\"GT 110\",'Daily Diary'!E:E,\"GT 110\",'Daily Diary'!K:K,\"WIN\")","v":0},{"$f":"COUNTIFS('Daily Diary'!A:A,'Grafico Strategie Settimanali'!B188,'Daily Diary'!E:E,\"ALERT GOAL\",'Daily Diary'!E:E,\"ALERT GOAL\",'Daily Diary'!K:K,\"WIN\")","v":0},{"$f":"COUNTIFS('Daily Diary'!A:A,'Grafico Strategie Settimanali'!B188,'Daily Diary'!E:E,\"DRAW NO BET\",'Daily Diary'!E:E,\"DRAW NO BET\",'Daily Diary'!K:K,\"WIN\")","v":0},{"$f":"COUNTIFS('Daily Diary'!A:A,'Grafico Strategie Settimanali'!B188,'Daily Diary'!E:E,\"ALTRO\",'Daily Diary'!E:E,\"ALTRO\",'Daily Diary'!K:K,\"WIN\")","v":0},{"$error":"#DIV/0!"},{"$error":"#DIV/0!"},{"$error":"#DIV/0!"},{"$error":"#DIV/0!"},{"$error":"#DIV/0!"},{"$error":"#DIV/0!"},{"$error":"#DIV/0!"},{"$error":"#DIV/0!"},{"$error":"#DIV/0!"},{"$error":"#DIV/0!"},{"$error":"#DIV/0!"},{"$error":"#DIV/0!"}]
[0,"2023-11-07",{"$f":"COUNTIFS('Daily Diary'!A:A,'Grafico Strategie Settimanali'!B189,'Daily Diary'!E:E,\"BANCA PAREGGIO\")","v":0},{"$f":"COUNTIFS('Daily Diary'!A:A,'Grafico Strategie Settimanali'!B189,'Daily Diary'!E:E,\"PUNTA SQ.CASA\")","v":0},{"$f":"COUNTIFS('Daily Diary'!A:A,'Grafico Strategie Settimanali'!B189,'Daily Diary'!E:E,\"PUNTA SQ.OSPITE\")","v":0},{"$f":"COUNTIFS('Daily Diary'!A:A,'Grafico Strategie Settimanali'!B189,'Daily Diary'!E:E,\"BANCA SFAVORITA\")","v":0},{"$f":"COUNTIFS('Daily Diary'!A:A,'Grafico Strategie Settimanali'!B189,'Daily Diary'!E:E,\"PUNTA OVER\")","v":0},{"$f":"COUNTIFS('Daily Diary'!A:A,'Grafico Strategie Settimanali'!B189,'Daily Diary'!E:E,\"PUNTA UNDER\")","v":0},{"$f":"COUNTIFS('Daily Diary'!A:A,'Grafico Strategie Settimanali'!B189,'Daily Diary'!E:E,\"SCALPING\")","v":0},{"$f":"COUNTIFS('Daily Diary'!A:A,'Grafico Strategie Settimanali'!B189,'Daily Diary'!E:E,\"GT90\")","v":0},{"$f":"COUNTIFS('Daily Diary'!A:A,'Grafico Strategie Settimanali'!B189,'Daily Diary'!E:E,\"GT110\")","v":0},{"$f":"COUNTIFS('Daily Diary'!A:A,'Grafico Strategie Settimanali'!B189,'Daily Diary'!E:E,\"ALERT GOAL\")","v":0},{"$f":"COUNTIFS('Daily Diary'!A:A,'Grafico Strategie Settimanali'!B189,'Daily Diary'!E:E,\"DRAW NO BET\")","v":0},{"$f":"COUNTIFS('Daily Diary'!A:A,'Grafico Strategie Settimanali'!B189,'Daily Diary'!E:E,\"ALTRO\")","v":0},{"$f":"COUNTIFS('Daily Diary'!A:A,'Grafico Strategie Settimanali'!B189,'Daily Diary'!E:E,\"BANCA PAREGGIO\",'Daily Diary'!E:E,\"BANCA PAREGGIO\",'Daily Diary'!K:K,\"WIN\")","v":0},{"$f":"COUNTIFS('Daily Diary'!A:A,'Grafico Strategie Settimanali'!B189,'Daily Diary'!E:E,\"PUNTA SQ.CASA\",'Daily Diary'!E:E,\"PUNTA SQ.CASA\",'Daily Diary'!K:K,\"WIN\")","v":0},{"$f":"COUNTIFS('Daily Diary'!A:A,'Grafico Strategie Settimanali'!B189,'Daily Diary'!E:E,\"PUNTA SQ.OSPITE\",'Daily Diary'!E:E,\"PUNTA SQ.OSPITE\",'Daily Diary'!K:K,\"WIN\")","v":0},{"$f":"COUNTIFS('Daily Diary'!A:A,'Grafico Strategie Settimanali'!B189,'Daily Diary'!E:E,\"BANCA SFAVORITA\",'Daily Diary'!E:E,\"BANCA SFAVORITA\",'Daily Diary'!K:K,\"WIN\")","v":0},{"$f":"COUNTIFS('Daily Diary'!A:A,'Grafico Strategie Settimanali'!B189,'Daily Diary'!E:E,\"PUNTA OVER\",'Daily Diary'!E:E,\"PUNTA OVER\",'Daily Diary'!K:K,\"WIN\")","v":0},{"$f":"COUNTIFS('Daily Diary'!A:A,'Grafico Strategie Settimanali'!B189,'Daily Diary'!E:E,\"PUNTA UNDER\",'Daily Diary'!E:E,\"PUNTA UNDER\",'Daily Diary'!K:K,\"WIN\")","v":0},{"$f":"COUNTIFS('Daily Diary'!A:A,'Grafico Strategie Settimanali'!B189,'Daily Diary'!E:E,\"SCALPING\",'Daily Diary'!E:E,\"SCALPING\",'Daily Diary'!K:K,\"WIN\")","v":0},{"$f":"COUNTIFS('Daily Diary'!A:A,'Grafico Strategie Settimanali'!B189,'Daily Diary'!E:E,\"GT 90\",'Daily Diary'!E:E,\"GT 90\",'Daily Diary'!K:K,\"WIN\")","v":0},{"$f":"COUNTIFS('Daily Diary'!A:A,'Grafico Strategie Settimanali'!B189,'Daily Diary'!E:E,\"GT 110\",'Daily Diary'!E:E,\"GT 110\",'Daily Diary'!K:K,\"WIN\")","v":0},{"$f":"COUNTIFS('Daily Diary'!A:A,'Grafico Strategie Settimanali'!B189,'Daily Diary'!E:E,\"ALERT GOAL\",'Daily Diary'!E:E,\"ALERT GOAL\",'Daily Diary'!K:K,\"WIN\")","v":0},{"$f":"COUNTIFS('Daily Diary'!A:A,'Grafico Strategie Settimanali'!B189,'Daily Diary'!E:E,\"DRAW NO BET\",'Daily Diary'!E:E,\"DRAW NO BET\",'Daily Diary'!K:K,\"WIN\")","v":0},{"$f":"COUNTIFS('Daily Diary'!A:A,'Grafico Strategie Settimanali'!B189,'Daily Diary'!E:E,\"ALTRO\",'Daily Diary'!E:E,\"ALTRO\",'Daily Diary'!K:K,\"WIN\")","v":0},{"$error":"#DIV/0!"},{"$error":"#DIV/0!"},{"$error":"#DIV/0!"},{"$error":"#DIV/0!"},{"$error":"#DIV/0!"},{"$error":"#DIV/0!"},{"$error":"#DIV/0!"},{"$error":"#DIV/0!"},{"$error":"#DIV/0!"},{"$error":"#DIV/0!"},{"$error":"#DIV/0!"},{"$error":"#DIV/0!"}]
[0,"2023-11-08",{"$f":"COUNTIFS('Daily Diary'!A:A,'Grafico Strategie Settimanali'!B190,'Daily Diary'!E:E,\"BANCA PAREGGIO\")","v":0},{"$f":"COUNTIFS('Daily Diary'!A:A,'Grafico Strategie Settimanali'!B190,'Daily Diary'!E:E,\"PUNTA SQ.CASA\")","v":0},{"$f":"COUNTIFS('Daily Diary'!A:A,'Grafico Strategie Settimanali'!B190,'Daily Diary'!E:E,\"PUNTA SQ.OSPITE\")","v":0},{"$f":"COUNTIFS('Daily Diary'!A:A,'Grafico Strategie Settimanali'!B190,'Daily Diary'!E:E,\"BANCA SFAVORITA\")","v":0},{"$f":"COUNTIFS('Daily Diary'!A:A,'Grafico Strategie Settimanali'!B190,'Daily Diary'!E:E,\"PUNTA OVER\")","v":0},{"$f":"COUNTIFS('Daily Diary'!A:A,'Grafico Strategie Settimanali'!B190,'Daily Diary'!E:E,\"PUNTA UNDER\")","v":0},{"$f":"COUNTIFS('Daily Diary'!A:A,'Grafico Strategie Settimanali'!B190,'Daily Diary'!E:E,\"SCALPING\")","v":0},{"$f":"COUNTIFS('Daily Diary'!A:A,'Grafico Strategie Settimanali'!B190,'Daily Diary'!E:E,\"GT90\")","v":0},{"$f":"COUNTIFS('Daily Diary'!A:A,'Grafico Strategie Settimanali'!B190,'Daily Diary'!E:E,\"GT110\")","v":0},{"$f":"COUNTIFS('Daily Diary'!A:A,'Grafico Strategie Settimanali'!B190,'Daily Diary'!E:E,\"ALERT GOAL\")","v":0},{"$f":"COUNTIFS('Daily Diary'!A:A,'Grafico Strategie Settimanali'!B190,'Daily Diary'!E:E,\"DRAW NO BET\")","v":0},{"$f":"COUNTIFS('Daily Diary'!A:A,'Grafico Strategie Settimanali'!B190,'Daily Diary'!E:E,\"ALTRO\")","v":0},{"$f":"COUNTIFS('Daily Diary'!A:A,'Grafico Strategie Settimanali'!B190,'Daily Diary'!E:E,\"BANCA PAREGGIO\",'Daily Diary'!E:E,\"BANCA PAREGGIO\",'Daily Diary'!K:K,\"WIN\")","v":0},{"$f":"COUNTIFS('Daily Diary'!A:A,'Grafico Strategie Settimanali'!B190,'Daily Diary'!E:E,\"PUNTA SQ.CASA\",'Daily Diary'!E:E,\"PUNTA SQ.CASA\",'Daily Diary'!K:K,\"WIN\")","v":0},{"$f":"COUNTIFS('Daily Diary'!A:A,'Grafico Strategie Settimanali'!B190,'Daily Diary'!E:E,\"PUNTA SQ.OSPITE\",'Daily Diary'!E:E,\"PUNTA SQ.OSPITE\",'Daily Diary'!K:K,\"WIN\")","v":0},{"$f":"COUNTIFS('Daily Diary'!A:A,'Grafico Strategie Settimanali'!B190,'Daily Diary'!E:E,\"BANCA SFAVORITA\",'Daily Diary'!E:E,\"BANCA SFAVORITA\",'Daily Diary'!K:K,\"WIN\")","v":0},{"$f":"COUNTIFS('Daily Diary'!A:A,'Grafico Strategie Settimanali'!B190,'Daily Diary'!E:E,\"PUNTA OVER\",'Daily Diary'!E:E,\"PUNTA OVER\",'Daily Diary'!K:K,\"WIN\")","v":0},{"$f":"COUNTIFS('Daily Diary'!A:A,'Grafico Strategie Settimanali'!B190,'Daily Diary'!E:E,\"PUNTA UNDER\",'Daily Diary'!E:E,\"PUNTA UNDER\",'Daily Diary'!K:K,\"WIN\")","v":0},{"$f":"COUNTIFS('Daily Diary'!A:A,'Grafico Strategie Settimanali'!B190,'Daily Diary'!E:E,\"SCALPING\",'Daily Diary'!E:E,\"SCALPING\",'Daily Diary'!K:K,\"WIN\")","v":0},{"$f":"COUNTIFS('Daily Diary'!A:A,'Grafico Strategie Settimanali'!B190,'Daily Diary'!E:E,\"GT 90\",'Daily Diary'!E:E,\"GT 90\",'Daily Diary'!K:K,\"WIN\")","v":0},{"$f":"COUNTIFS('Daily Diary'!A:A,'Grafico Strategie Settimanali'!B190,'Daily Diary'!E:E,\"GT 110\",'Daily Diary'!E:E,\"GT 110\",'Daily Diary'!K:K,\"WIN\")","v":0},{"$f":"COUNTIFS('Daily Diary'!A:A,'Grafico Strategie Settimanali'!B190,'Daily Diary'!E:E,\"ALERT GOAL\",'Daily Diary'!E:E,\"ALERT GOAL\",'Daily Diary'!K:K,\"WIN\")","v":0},{"$f":"COUNTIFS('Daily Diary'!A:A,'Grafico Strategie Settimanali'!B190,'Daily Diary'!E:E,\"DRAW NO BET\",'Daily Diary'!E:E,\"DRAW NO BET\",'Daily Diary'!K:K,\"WIN\")","v":0},{"$f":"COUNTIFS('Daily Diary'!A:A,'Grafico Strategie Settimanali'!B190,'Daily Diary'!E:E,\"ALTRO\",'Daily Diary'!E:E,\"ALTRO\",'Daily Diary'!K:K,\"WIN\")","v":0},{"$error":"#DIV/0!"},{"$error":"#DIV/0!"},{"$error":"#DIV/0!"},{"$error":"#DIV/0!"},{"$error":"#DIV/0!"},{"$error":"#DIV/0!"},{"$error":"#DIV/0!"},{"$error":"#DIV/0!"},{"$error":"#DIV/0!"},{"$error":"#DIV/0!"},{"$error":"#DIV/0!"},{"$error":"#DIV/0!"}]
[0,"2023-11-09",{"$f":"COUNTIFS('Daily Diary'!A:A,'Grafico Strategie Settimanali'!B191,'Daily Diary'!E:E,\"BANCA PAREGGIO\")","v":0},{"$f":"COUNTIFS('Daily Diary'!A:A,'Grafico Strategie Settimanali'!B191,'Daily Diary'!E:E,\"PUNTA SQ.CASA\")","v":0},{"$f":"COUNTIFS('Daily Diary'!A:A,'Grafico Strategie Settimanali'!B191,'Daily Diary'!E:E,\"PUNTA SQ.OSPITE\")","v":0},{"$f":"COUNTIFS('Daily Diary'!A:A,'Grafico Strategie Settimanali'!B191,'Daily Diary'!E:E,\"BANCA SFAVORITA\")","v":0},{"$f":"COUNTIFS('Daily Diary'!A:A,'Grafico Strategie Settimanali'!B191,'Daily Diary'!E:E,\"PUNTA OVER\")","v":0},{"$f":"COUNTIFS('Daily Diary'!A:A,'Grafico Strategie Settimanali'!B191,'Daily Diary'!E:E,\"PUNTA UNDER\")","v":0},{"$f":"COUNTIFS('Daily Diary'!A:A,'Grafico Strategie Settimanali'!B191,'Daily Diary'!E:E,\"SCALPING\")","v":0},{"$f":"COUNTIFS('Daily Diary'!A:A,'Grafico Strategie Settimanali'!B191,'Daily Diary'!E:E,\"GT90\")","v":0},{"$f":"COUNTIFS('Daily Diary'!A:A,'Grafico Strategie Settimanali'!B191,'Daily Diary'!E:E,\"GT110\")","v":0},{"$f":"COUNTIFS('Daily Diary'!A:A,'Grafico Strategie Settimanali'!B191,'Daily Diary'!E:E,\"ALERT GOAL\")","v":0},{"$f":"COUNTIFS('Daily Diary'!A:A,'Grafico Strategie Settimanali'!B191,'Daily Diary'!E:E,\"DRAW NO BET\")","v":0},{"$f":"COUNTIFS('Daily Diary'!A:A,'Grafico Strategie Settimanali'!B191,'Daily Diary'!E:E,\"ALTRO\")","v":0},{"$f":"COUNTIFS('Daily Diary'!A:A,'Grafico Strategie Settimanali'!B191,'Daily Diary'!E:E,\"BANCA PAREGGIO\",'Daily Diary'!E:E,\"BANCA PAREGGIO\",'Daily Diary'!K:K,\"WIN\")","v":0},{"$f":"COUNTIFS('Daily Diary'!A:A,'Grafico Strategie Settimanali'!B191,'Daily Diary'!E:E,\"PUNTA SQ.CASA\",'Daily Diary'!E:E,\"PUNTA SQ.CASA\",'Daily Diary'!K:K,\"WIN\")","v":0},{"$f":"COUNTIFS('Daily Diary'!A:A,'Grafico Strategie Settimanali'!B191,'Daily Diary'!E:E,\"PUNTA SQ.OSPITE\",'Daily Diary'!E:E,\"PUNTA SQ.OSPITE\",'Daily Diary'!K:K,\"WIN\")","v":0},{"$f":"COUNTIFS('Daily Diary'!A:A,'Grafico Strategie Settimanali'!B191,'Daily Diary'!E:E,\"BANCA SFAVORITA\",'Daily Diary'!E:E,\"BANCA SFAVORITA\",'Daily Diary'!K:K,\"WIN\")","v":0},{"$f":"COUNTIFS('Daily Diary'!A:A,'Grafico Strategie Settimanali'!B191,'Daily Diary'!E:E,\"PUNTA OVER\",'Daily Diary'!E:E,\"PUNTA OVER\",'Daily Diary'!K:K,\"WIN\")","v":0},{"$f":"COUNTIFS('Daily Diary'!A:A,'Grafico Strategie Settimanali'!B191,'Daily Diary'!E:E,\"PUNTA UNDER\",'Daily Diary'!E:E,\"PUNTA UNDER\",'Daily Diary'!K:K,\"WIN\")","v":0},{"$f":"COUNTIFS('Daily Diary'!A:A,'Grafico Strategie Settimanali'!B191,'Daily Diary'!E:E,\"SCALPING\",'Daily Diary'!E:E,\"SCALPING\",'Daily Diary'!K:K,\"WIN\")","v":0},{"$f":"COUNTIFS('Daily Diary'!A:A,'Grafico Strategie Settimanali'!B191,'Daily Diary'!E:E,\"GT 90\",'Daily Diary'!E:E,\"GT 90\",'Daily Diary'!K:K,\"WIN\")","v":0},{"$f":"COUNTIFS('Daily Diary'!A:A,'Grafico Strategie Settimanali'!B191,'Daily Diary'!E:E,\"GT 110\",'Daily Diary'!E:E,\"GT 110\",'Daily Diary'!K:K,\"WIN\")","v":0},{"$f":"COUNTIFS('Daily Diary'!A:A,'Grafico Strategie Settimanali'!B191,'Daily Diary'!E:E,\"ALERT GOAL\",'Daily Diary'!E:E,\"ALERT GOAL\",'Daily Diary'!K:K,\"WIN\")","v":0},{"$f":"COUNTIFS('Daily Diary'!A:A,'Grafico Strategie Settimanali'!B191,'Daily Diary'!E:E,\"DRAW NO BET\",'Daily Diary'!E:E,\"DRAW NO BET\",'Daily Diary'!K:K,\"WIN\")","v":0},{"$f":"COUNTIFS('Daily Diary'!A:A,'Grafico Strategie Settimanali'!B191,'Daily Diary'!E:E,\"ALTRO\",'Daily Diary'!E:E,\"ALTRO\",'Daily Diary'!K:K,\"WIN\")","v":0},{"$error":"#DIV/0!"},{"$error":"#DIV/0!"},{"$error":"#DIV/0!"},{"$error":"#DIV/0!"},{"$error":"#DIV/0!"},{"$error":"#DIV/0!"},{"$error":"#DIV/0!"},{"$error":"#DIV/0!"},{"$error":"#DIV/0!"},{"$error":"#DIV/0!"},{"$error":"#DIV/0!"},{"$error":"#DIV/0!"}]
[0,"2023-11-10",{"$f":"COUNTIFS('Daily Diary'!A:A,'Grafico Strategie Settimanali'!B192,'Daily Diary'!E:E,\"BANCA PAREGGIO\")","v":0},{"$f":"COUNTIFS('Daily Diary'!A:A,'Grafico Strategie Settimanali'!B192,'Daily Diary'!E:E,\"PUNTA SQ.CASA\")","v":0},{"$f":"COUNTIFS('Daily Diary'!A:A,'Grafico Strategie Settimanali'!B192,'Daily Diary'!E:E,\"PUNTA SQ.OSPITE\")","v":0},{"$f":"COUNTIFS('Daily Diary'!A:A,'Grafico Strategie Settimanali'!B192,'Daily Diary'!E:E,\"BANCA SFAVORITA\")","v":0},{"$f":"COUNTIFS('Daily Diary'!A:A,'Grafico Strategie Settimanali'!B192,'Daily Diary'!E:E,\"PUNTA OVER\")","v":0},{"$f":"COUNTIFS('Daily Diary'!A:A,'Grafico Strategie Settimanali'!B192,'Daily Diary'!E:E,\"PUNTA UNDER\")","v":0},{"$f":"COUNTIFS('Daily Diary'!A:A,'Grafico Strategie Settimanali'!B192,'Daily Diary'!E:E,\"SCALPING\")","v":0},{"$f":"COUNTIFS('Daily Diary'!A:A,'Grafico Strategie Settimanali'!B192,'Daily Diary'!E:E,\"GT90\")","v":0},{"$f":"COUNTIFS('Daily Diary'!A:A,'Grafico Strategie Settimanali'!B192,'Daily Diary'!E:E,\"GT110\")","v":0},{"$f":"COUNTIFS('Daily Diary'!A:A,'Grafico Strategie Settimanali'!B192,'Daily Diary'!E:E,\"ALERT GOAL\")","v":0},{"$f":"COUNTIFS('Daily Diary'!A:A,'Grafico Strategie Settimanali'!B192,'Daily Diary'!E:E,\"DRAW NO BET\")","v":0},{"$f":"COUNTIFS('Daily Diary'!A:A,'Grafico Strategie Settimanali'!B192,'Daily Diary'!E:E,\"ALTRO\")","v":0},{"$f":"COUNTIFS('Daily Diary'!A:A,'Grafico Strategie Settimanali'!B192,'Daily Diary'!E:E,\"BANCA PAREGGIO\",'Daily Diary'!E:E,\"BANCA PAREGGIO\",'Daily Diary'!K:K,\"WIN\")","v":0},{"$f":"COUNTIFS('Daily Diary'!A:A,'Grafico Strategie Settimanali'!B192,'Daily Diary'!E:E,\"PUNTA SQ.CASA\",'Daily Diary'!E:E,\"PUNTA SQ.CASA\",'Daily Diary'!K:K,\"WIN\")","v":0},{"$f":"COUNTIFS('Daily Diary'!A:A,'Grafico Strategie Settimanali'!B192,'Daily Diary'!E:E,\"PUNTA SQ.OSPITE\",'Daily Diary'!E:E,\"PUNTA SQ.OSPITE\",'Daily Diary'!K:K,\"WIN\")","v":0},{"$f":"COUNTIFS('Daily Diary'!A:A,'Grafico Strategie Settimanali'!B192,'Daily Diary'!E:E,\"BANCA SFAVORITA\",'Daily Diary'!E:E,\"BANCA SFAVORITA\",'Daily Diary'!K:K,\"WIN\")","v":0},{"$f":"COUNTIFS('Daily Diary'!A:A,'Grafico Strategie Settimanali'!B192,'Daily Diary'!E:E,\"PUNTA OVER\",'Daily Diary'!E:E,\"PUNTA OVER\",'Daily Diary'!K:K,\"WIN\")","v":0},{"$f":"COUNTIFS('Daily Diary'!A:A,'Grafico Strategie Settimanali'!B192,'Daily Diary'!E:E,\"PUNTA UNDER\",'Daily Diary'!E:E,\"PUNTA UNDER\",'Daily Diary'!K:K,\"WIN\")","v":0},{"$f":"COUNTIFS('Daily Diary'!A:A,'Grafico Strategie Settimanali'!B192,'Daily Diary'!E:E,\"SCALPING\",'Daily Diary'!E:E,\"SCALPING\",'Daily Diary'!K:K,\"WIN\")","v":0},{"$f":"COUNTIFS('Daily Diary'!A:A,'Grafico Strategie Settimanali'!B192,'Daily Diary'!E:E,\"GT 90\",'Daily Diary'!E:E,\"GT 90\",'Daily Diary'!K:K,\"WIN\")","v":0},{"$f":"COUNTIFS('Daily Diary'!A:A,'Grafico Strategie Settimanali'!B192,'Daily Diary'!E:E,\"GT 110\",'Daily Diary'!E:E,\"GT 110\",'Daily Diary'!K:K,\"WIN\")","v":0},{"$f":"COUNTIFS('Daily Diary'!A:A,'Grafico Strategie Settimanali'!B192,'Daily Diary'!E:E,\"ALERT GOAL\",'Daily Diary'!E:E,\"ALERT GOAL\",'Daily Diary'!K:K,\"WIN\")","v":0},{"$f":"COUNTIFS('Daily Diary'!A:A,'Grafico Strategie Settimanali'!B192,'Daily Diary'!E:E,\"DRAW NO BET\",'Daily Diary'!E:E,\"DRAW NO BET\",'Daily Diary'!K:K,\"WIN\")","v":0},{"$f":"COUNTIFS('Daily Diary'!A:A,'Grafico Strategie Settimanali'!B192,'Daily Diary'!E:E,\"ALTRO\",'Daily Diary'!E:E,\"ALTRO\",'Daily Diary'!K:K,\"WIN\")","v":0},{"$error":"#DIV/0!"},{"$error":"#DIV/0!"},{"$error":"#DIV/0!"},{"$error":"#DIV/0!"},{"$error":"#DIV/0!"},{"$error":"#DIV/0!"},{"$error":"#DIV/0!"},{"$error":"#DIV/0!"},{"$error":"#DIV/0!"},{"$error":"#DIV/0!"},{"$error":"#DIV/0!"},{"$error":"#DIV/0!"}]
[0,"2023-11-11",{"$f":"COUNTIFS('Daily Diary'!A:A,'Grafico Strategie Settimanali'!B193,'Daily Diary'!E:E,\"BANCA PAREGGIO\")","v":0},{"$f":"COUNTIFS('Daily Diary'!A:A,'Grafico Strategie Settimanali'!B193,'Daily Diary'!E:E,\"PUNTA SQ.CASA\")","v":0},{"$f":"COUNTIFS('Daily Diary'!A:A,'Grafico Strategie Settimanali'!B193,'Daily Diary'!E:E,\"PUNTA SQ.OSPITE\")","v":0},{"$f":"COUNTIFS('Daily Diary'!A:A,'Grafico Strategie Settimanali'!B193,'Daily Diary'!E:E,\"BANCA SFAVORITA\")","v":0},{"$f":"COUNTIFS('Daily Diary'!A:A,'Grafico Strategie Settimanali'!B193,'Daily Diary'!E:E,\"PUNTA OVER\")","v":0},{"$f":"COUNTIFS('Daily Diary'!A:A,'Grafico Strategie Settimanali'!B193,'Daily Diary'!E:E,\"PUNTA UNDER\")","v":0},{"$f":"COUNTIFS('Daily Diary'!A:A,'Grafico Strategie Settimanali'!B193,'Daily Diary'!E:E,\"SCALPING\")","v":0},{"$f":"COUNTIFS('Daily Diary'!A:A,'Grafico Strategie Settimanali'!B193,'Daily Diary'!E:E,\"GT90\")","v":0},{"$f":"COUNTIFS('Daily Diary'!A:A,'Grafico Strategie Settimanali'!B193,'Daily Diary'!E:E,\"GT110\")","v":0},{"$f":"COUNTIFS('Daily Diary'!A:A,'Grafico Strategie Settimanali'!B193,'Daily Diary'!E:E,\"ALERT GOAL\")","v":0},{"$f":"COUNTIFS('Daily Diary'!A:A,'Grafico Strategie Settimanali'!B193,'Daily Diary'!E:E,\"DRAW NO BET\")","v":0},{"$f":"COUNTIFS('Daily Diary'!A:A,'Grafico Strategie Settimanali'!B193,'Daily Diary'!E:E,\"ALTRO\")","v":0},{"$f":"COUNTIFS('Daily Diary'!A:A,'Grafico Strategie Settimanali'!B193,'Daily Diary'!E:E,\"BANCA PAREGGIO\",'Daily Diary'!E:E,\"BANCA PAREGGIO\",'Daily Diary'!K:K,\"WIN\")","v":0},{"$f":"COUNTIFS('Daily Diary'!A:A,'Grafico Strategie Settimanali'!B193,'Daily Diary'!E:E,\"PUNTA SQ.CASA\",'Daily Diary'!E:E,\"PUNTA SQ.CASA\",'Daily Diary'!K:K,\"WIN\")","v":0},{"$f":"COUNTIFS('Daily Diary'!A:A,'Grafico Strategie Settimanali'!B193,'Daily Diary'!E:E,\"PUNTA SQ.OSPITE\",'Daily Diary'!E:E,\"PUNTA SQ.OSPITE\",'Daily Diary'!K:K,\"WIN\")","v":0},{"$f":"COUNTIFS('Daily Diary'!A:A,'Grafico Strategie Settimanali'!B193,'Daily Diary'!E:E,\"BANCA SFAVORITA\",'Daily Diary'!E:E,\"BANCA SFAVORITA\",'Daily Diary'!K:K,\"WIN\")","v":0},{"$f":"COUNTIFS('Daily Diary'!A:A,'Grafico Strategie Settimanali'!B193,'Daily Diary'!E:E,\"PUNTA OVER\",'Daily Diary'!E:E,\"PUNTA OVER\",'Daily Diary'!K:K,\"WIN\")","v":0},{"$f":"COUNTIFS('Daily Diary'!A:A,'Grafico Strategie Settimanali'!B193,'Daily Diary'!E:E,\"PUNTA UNDER\",'Daily Diary'!E:E,\"PUNTA UNDER\",'Daily Diary'!K:K,\"WIN\")","v":0},{"$f":"COUNTIFS('Daily Diary'!A:A,'Grafico Strategie Settimanali'!B193,'Daily Diary'!E:E,\"SCALPING\",'Daily Diary'!E:E,\"SCALPING\",'Daily Diary'!K:K,\"WIN\")","v":0},{"$f":"COUNTIFS('Daily Diary'!A:A,'Grafico Strategie Settimanali'!B193,'Daily Diary'!E:E,\"GT 90\",'Daily Diary'!E:E,\"GT 90\",'Daily Diary'!K:K,\"WIN\")","v":0},{"$f":"COUNTIFS('Daily Diary'!A:A,'Grafico Strategie Settimanali'!B193,'Daily Diary'!E:E,\"GT 110\",'Daily Diary'!E:E,\"GT 110\",'Daily Diary'!K:K,\"WIN\")","v":0},{"$f":"COUNTIFS('Daily Diary'!A:A,'Grafico Strategie Settimanali'!B193,'Daily Diary'!E:E,\"ALERT GOAL\",'Daily Diary'!E:E,\"ALERT GOAL\",'Daily Diary'!K:K,\"WIN\")","v":0},{"$f":"COUNTIFS('Daily Diary'!A:A,'Grafico Strategie Settimanali'!B193,'Daily Diary'!E:E,\"DRAW NO BET\",'Daily Diary'!E:E,\"DRAW NO BET\",'Daily Diary'!K:K,\"WIN\")","v":0},{"$f":"COUNTIFS('Daily Diary'!A:A,'Grafico Strategie Settimanali'!B193,'Daily Diary'!E:E,\"ALTRO\",'Daily Diary'!E:E,\"ALTRO\",'Daily Diary'!K:K,\"WIN\")","v":0},{"$error":"#DIV/0!"},{"$error":"#DIV/0!"},{"$error":"#DIV/0!"},{"$error":"#DIV/0!"},{"$error":"#DIV/0!"},{"$error":"#DIV/0!"},{"$error":"#DIV/0!"},{"$error":"#DIV/0!"},{"$error":"#DIV/0!"},{"$error":"#DIV/0!"},{"$error":"#DIV/0!"},{"$error":"#DIV/0!"}]
[0,"2023-11-12",{"$f":"COUNTIFS('Daily Diary'!A:A,'Grafico Strategie Settimanali'!B194,'Daily Diary'!E:E,\"BANCA PAREGGIO\")","v":0},{"$f":"COUNTIFS('Daily Diary'!A:A,'Grafico Strategie Settimanali'!B194,'Daily Diary'!E:E,\"PUNTA SQ.CASA\")","v":0},{"$f":"COUNTIFS('Daily Diary'!A:A,'Grafico Strategie Settimanali'!B194,'Daily Diary'!E:E,\"PUNTA SQ.OSPITE\")","v":0},{"$f":"COUNTIFS('Daily Diary'!A:A,'Grafico Strategie Settimanali'!B194,'Daily Diary'!E:E,\"BANCA SFAVORITA\")","v":0},{"$f":"COUNTIFS('Daily Diary'!A:A,'Grafico Strategie Settimanali'!B194,'Daily Diary'!E:E,\"PUNTA OVER\")","v":0},{"$f":"COUNTIFS('Daily Diary'!A:A,'Grafico Strategie Settimanali'!B194,'Daily Diary'!E:E,\"PUNTA UNDER\")","v":0},{"$f":"COUNTIFS('Daily Diary'!A:A,'Grafico Strategie Settimanali'!B194,'Daily Diary'!E:E,\"SCALPING\")","v":0},{"$f":"COUNTIFS('Daily Diary'!A:A,'Grafico Strategie Settimanali'!B194,'Daily Diary'!E:E,\"GT90\")","v":0},{"$f":"COUNTIFS('Daily Diary'!A:A,'Grafico Strategie Settimanali'!B194,'Daily Diary'!E:E,\"GT110\")","v":0},{"$f":"COUNTIFS('Daily Diary'!A:A,'Grafico Strategie Settimanali'!B194,'Daily Diary'!E:E,\"ALERT GOAL\")","v":0},{"$f":"COUNTIFS('Daily Diary'!A:A,'Grafico Strategie Settimanali'!B194,'Daily Diary'!E:E,\"DRAW NO BET\")","v":0},{"$f":"COUNTIFS('Daily Diary'!A:A,'Grafico Strategie Settimanali'!B194,'Daily Diary'!E:E,\"ALTRO\")","v":0},{"$f":"COUNTIFS('Daily Diary'!A:A,'Grafico Strategie Settimanali'!B194,'Daily Diary'!E:E,\"BANCA PAREGGIO\",'Daily Diary'!E:E,\"BANCA PAREGGIO\",'Daily Diary'!K:K,\"WIN\")","v":0},{"$f":"COUNTIFS('Daily Diary'!A:A,'Grafico Strategie Settimanali'!B194,'Daily Diary'!E:E,\"PUNTA SQ.CASA\",'Daily Diary'!E:E,\"PUNTA SQ.CASA\",'Daily Diary'!K:K,\"WIN\")","v":0},{"$f":"COUNTIFS('Daily Diary'!A:A,'Grafico Strategie Settimanali'!B194,'Daily Diary'!E:E,\"PUNTA SQ.OSPITE\",'Daily Diary'!E:E,\"PUNTA SQ.OSPITE\",'Daily Diary'!K:K,\"WIN\")","v":0},{"$f":"COUNTIFS('Daily Diary'!A:A,'Grafico Strategie Settimanali'!B194,'Daily Diary'!E:E,\"BANCA SFAVORITA\",'Daily Diary'!E:E,\"BANCA SFAVORITA\",'Daily Diary'!K:K,\"WIN\")","v":0},{"$f":"COUNTIFS('Daily Diary'!A:A,'Grafico Strategie Settimanali'!B194,'Daily Diary'!E:E,\"PUNTA OVER\",'Daily Diary'!E:E,\"PUNTA OVER\",'Daily Diary'!K:K,\"WIN\")","v":0},{"$f":"COUNTIFS('Daily Diary'!A:A,'Grafico Strategie Settimanali'!B194,'Daily Diary'!E:E,\"PUNTA UNDER\",'Daily Diary'!E:E,\"PUNTA UNDER\",'Daily Diary'!K:K,\"WIN\")","v":0},{"$f":"COUNTIFS('Daily Diary'!A:A,'Grafico Strategie Settimanali'!B194,'Daily Diary'!E:E,\"SCALPING\",'Daily Diary'!E:E,\"SCALPING\",'Daily Diary'!K:K,\"WIN\")","v":0},{"$f":"COUNTIFS('Daily Diary'!A:A,'Grafico Strategie Settimanali'!B194,'Daily Diary'!E:E,\"GT 90\",'Daily Diary'!E:E,\"GT 90\",'Daily Diary'!K:K,\"WIN\")","v":0},{"$f":"COUNTIFS('Daily Diary'!A:A,'Grafico Strategie Settimanali'!B194,'Daily Diary'!E:E,\"GT 110\",'Daily Diary'!E:E,\"GT 110\",'Daily Diary'!K:K,\"WIN\")","v":0},{"$f":"COUNTIFS('Daily Diary'!A:A,'Grafico Strategie Settimanali'!B194,'Daily Diary'!E:E,\"ALERT GOAL\",'Daily Diary'!E:E,\"ALERT GOAL\",'Daily Diary'!K:K,\"WIN\")","v":0},{"$f":"COUNTIFS('Daily Diary'!A:A,'Grafico Strategie Settimanali'!B194,'Daily Diary'!E:E,\"DRAW NO BET\",'Daily Diary'!E:E,\"DRAW NO BET\",'Daily Diary'!K:K,\"WIN\")","v":0},{"$f":"COUNTIFS('Daily Diary'!A:A,'Grafico Strategie Settimanali'!B194,'Daily Diary'!E:E,\"ALTRO\",'Daily Diary'!E:E,\"ALTRO\",'Daily Diary'!K:K,\"WIN\")","v":0},{"$error":"#DIV/0!"},{"$error":"#DIV/0!"},{"$error":"#DIV/0!"},{"$error":"#DIV/0!"},{"$error":"#DIV/0!"},{"$error":"#DIV/0!"},{"$error":"#DIV/0!"},{"$error":"#DIV/0!"},{"$error":"#DIV/0!"},{"$error":"#DIV/0!"},{"$error":"#DIV/0!"},{"$error":"#DIV/0!"}]
[0,"2023-11-13",{"$f":"COUNTIFS('Daily Diary'!A:A,'Grafico Strategie Settimanali'!B195,'Daily Diary'!E:E,\"BANCA PAREGGIO\")","v":0},{"$f":"COUNTIFS('Daily Diary'!A:A,'Grafico Strategie Settimanali'!B195,'Daily Diary'!E:E,\"PUNTA SQ.CASA\")","v":0},{"$f":"COUNTIFS('Daily Diary'!A:A,'Grafico Strategie Settimanali'!B195,'Daily Diary'!E:E,\"PUNTA SQ.OSPITE\")","v":0},{"$f":"COUNTIFS('Daily Diary'!A:A,'Grafico Strategie Settimanali'!B195,'Daily Diary'!E:E,\"BANCA SFAVORITA\")","v":0},{"$f":"COUNTIFS('Daily Diary'!A:A,'Grafico Strategie Settimanali'!B195,'Daily Diary'!E:E,\"PUNTA OVER\")","v":0},{"$f":"COUNTIFS('Daily Diary'!A:A,'Grafico Strategie Settimanali'!B195,'Daily Diary'!E:E,\"PUNTA UNDER\")","v":0},{"$f":"COUNTIFS('Daily Diary'!A:A,'Grafico Strategie Settimanali'!B195,'Daily Diary'!E:E,\"SCALPING\")","v":0},{"$f":"COUNTIFS('Daily Diary'!A:A,'Grafico Strategie Settimanali'!B195,'Daily Diary'!E:E,\"GT90\")","v":0},{"$f":"COUNTIFS('Daily Diary'!A:A,'Grafico Strategie Settimanali'!B195,'Daily Diary'!E:E,\"GT110\")","v":0},{"$f":"COUNTIFS('Daily Diary'!A:A,'Grafico Strategie Settimanali'!B195,'Daily Diary'!E:E,\"ALERT GOAL\")","v":0},{"$f":"COUNTIFS('Daily Diary'!A:A,'Grafico Strategie Settimanali'!B195,'Daily Diary'!E:E,\"DRAW NO BET\")","v":0},{"$f":"COUNTIFS('Daily Diary'!A:A,'Grafico Strategie Settimanali'!B195,'Daily Diary'!E:E,\"ALTRO\")","v":0},{"$f":"COUNTIFS('Daily Diary'!A:A,'Grafico Strategie Settimanali'!B195,'Daily Diary'!E:E,\"BANCA PAREGGIO\",'Daily Diary'!E:E,\"BANCA PAREGGIO\",'Daily Diary'!K:K,\"WIN\")","v":0},{"$f":"COUNTIFS('Daily Diary'!A:A,'Grafico Strategie Settimanali'!B195,'Daily Diary'!E:E,\"PUNTA SQ.CASA\",'Daily Diary'!E:E,\"PUNTA SQ.CASA\",'Daily Diary'!K:K,\"WIN\")","v":0},{"$f":"COUNTIFS('Daily Diary'!A:A,'Grafico Strategie Settimanali'!B195,'Daily Diary'!E:E,\"PUNTA SQ.OSPITE\",'Daily Diary'!E:E,\"PUNTA SQ.OSPITE\",'Daily Diary'!K:K,\"WIN\")","v":0},{"$f":"COUNTIFS('Daily Diary'!A:A,'Grafico Strategie Settimanali'!B195,'Daily Diary'!E:E,\"BANCA SFAVORITA\",'Daily Diary'!E:E,\"BANCA SFAVORITA\",'Daily Diary'!K:K,\"WIN\")","v":0},{"$f":"COUNTIFS('Daily Diary'!A:A,'Grafico Strategie Settimanali'!B195,'Daily Diary'!E:E,\"PUNTA OVER\",'Daily Diary'!E:E,\"PUNTA OVER\",'Daily Diary'!K:K,\"WIN\")","v":0},{"$f":"COUNTIFS('Daily Diary'!A:A,'Grafico Strategie Settimanali'!B195,'Daily Diary'!E:E,\"PUNTA UNDER\",'Daily Diary'!E:E,\"PUNTA UNDER\",'Daily Diary'!K:K,\"WIN\")","v":0},{"$f":"COUNTIFS('Daily Diary'!A:A,'Grafico Strategie Settimanali'!B195,'Daily Diary'!E:E,\"SCALPING\",'Daily Diary'!E:E,\"SCALPING\",'Daily Diary'!K:K,\"WIN\")","v":0},{"$f":"COUNTIFS('Daily Diary'!A:A,'Grafico Strategie Settimanali'!B195,'Daily Diary'!E:E,\"GT 90\",'Daily Diary'!E:E,\"GT 90\",'Daily Diary'!K:K,\"WIN\")","v":0},{"$f":"COUNTIFS('Daily Diary'!A:A,'Grafico Strategie Settimanali'!B195,'Daily Diary'!E:E,\"GT 110\",'Daily Diary'!E:E,\"GT 110\",'Daily Diary'!K:K,\"WIN\")","v":0},{"$f":"COUNTIFS('Daily Diary'!A:A,'Grafico Strategie Settimanali'!B195,'Daily Diary'!E:E,\"ALERT GOAL\",'Daily Diary'!E:E,\"ALERT GOAL\",'Daily Diary'!K:K,\"WIN\")","v":0},{"$f":"COUNTIFS('Daily Diary'!A:A,'Grafico Strategie Settimanali'!B195,'Daily Diary'!E:E,\"DRAW NO BET\",'Daily Diary'!E:E,\"DRAW NO BET\",'Daily Diary'!K:K,\"WIN\")","v":0},{"$f":"COUNTIFS('Daily Diary'!A:A,'Grafico Strategie Settimanali'!B195,'Daily Diary'!E:E,\"ALTRO\",'Daily Diary'!E:E,\"ALTRO\",'Daily Diary'!K:K,\"WIN\")","v":0},{"$error":"#DIV/0!"},{"$error":"#DIV/0!"},{"$error":"#DIV/0!"},{"$error":"#DIV/0!"},{"$error":"#DIV/0!"},{"$error":"#DIV/0!"},{"$error":"#DIV/0!"},{"$error":"#DIV/0!"},{"$error":"#DIV/0!"},{"$error":"#DIV/0!"},{"$error":"#DIV/0!"},{"$error":"#DIV/0!"}]
[0,"2023-11-14",{"$f":"COUNTIFS('Daily Diary'!A:A,'Grafico Strategie Settimanali'!B196,'Daily Diary'!E:E,\"BANCA PAREGGIO\")","v":0},{"$f":"COUNTIFS('Daily Diary'!A:A,'Grafico Strategie Settimanali'!B196,'Daily Diary'!E:E,\"PUNTA SQ.CASA\")","v":0},{"$f":"COUNTIFS('Daily Diary'!A:A,'Grafico Strategie Settimanali'!B196,'Daily Diary'!E:E,\"PUNTA SQ.OSPITE\")","v":0},{"$f":"COUNTIFS('Daily Diary'!A:A,'Grafico Strategie Settimanali'!B196,'Daily Diary'!E:E,\"BANCA SFAVORITA\")","v":0},{"$f":"COUNTIFS('Daily Diary'!A:A,'Grafico Strategie Settimanali'!B196,'Daily Diary'!E:E,\"PUNTA OVER\")","v":0},{"$f":"COUNTIFS('Daily Diary'!A:A,'Grafico Strategie Settimanali'!B196,'Daily Diary'!E:E,\"PUNTA UNDER\")","v":0},{"$f":"COUNTIFS('Daily Diary'!A:A,'Grafico Strategie Settimanali'!B196,'Daily Diary'!E:E,\"SCALPING\")","v":0},{"$f":"COUNTIFS('Daily Diary'!A:A,'Grafico Strategie Settimanali'!B196,'Daily Diary'!E:E,\"GT90\")","v":0},{"$f":"COUNTIFS('Daily Diary'!A:A,'Grafico Strategie Settimanali'!B196,'Daily Diary'!E:E,\"GT110\")","v":0},{"$f":"COUNTIFS('Daily Diary'!A:A,'Grafico Strategie Settimanali'!B196,'Daily Diary'!E:E,\"ALERT GOAL\")","v":0},{"$f":"COUNTIFS('Daily Diary'!A:A,'Grafico Strategie Settimanali'!B196,'Daily Diary'!E:E,\"DRAW NO BET\")","v":0},{"$f":"COUNTIFS('Daily Diary'!A:A,'Grafico Strategie Settimanali'!B196,'Daily Diary'!E:E,\"ALTRO\")","v":0},{"$f":"COUNTIFS('Daily Diary'!A:A,'Grafico Strategie Settimanali'!B196,'Daily Diary'!E:E,\"BANCA PAREGGIO\",'Daily Diary'!E:E,\"BANCA PAREGGIO\",'Daily Diary'!K:K,\"WIN\")","v":0},{"$f":"COUNTIFS('Daily Diary'!A:A,'Grafico Strategie Settimanali'!B196,'Daily Diary'!E:E,\"PUNTA SQ.CASA\",'Daily Diary'!E:E,\"PUNTA SQ.CASA\",'Daily Diary'!K:K,\"WIN\")","v":0},{"$f":"COUNTIFS('Daily Diary'!A:A,'Grafico Strategie Settimanali'!B196,'Daily Diary'!E:E,\"PUNTA SQ.OSPITE\",'Daily Diary'!E:E,\"PUNTA SQ.OSPITE\",'Daily Diary'!K:K,\"WIN\")","v":0},{"$f":"COUNTIFS('Daily Diary'!A:A,'Grafico Strategie Settimanali'!B196,'Daily Diary'!E:E,\"BANCA SFAVORITA\",'Daily Diary'!E:E,\"BANCA SFAVORITA\",'Daily Diary'!K:K,\"WIN\")","v":0},{"$f":"COUNTIFS('Daily Diary'!A:A,'Grafico Strategie Settimanali'!B196,'Daily Diary'!E:E,\"PUNTA OVER\",'Daily Diary'!E:E,\"PUNTA OVER\",'Daily Diary'!K:K,\"WIN\")","v":0},{"$f":"COUNTIFS('Daily Diary'!A:A,'Grafico Strategie Settimanali'!B196,'Daily Diary'!E:E,\"PUNTA UNDER\",'Daily Diary'!E:E,\"PUNTA UNDER\",'Daily Diary'!K:K,\"WIN\")","v":0},{"$f":"COUNTIFS('Daily Diary'!A:A,'Grafico Strategie Settimanali'!B196,'Daily Diary'!E:E,\"SCALPING\",'Daily Diary'!E:E,\"SCALPING\",'Daily Diary'!K:K,\"WIN\")","v":0},{"$f":"COUNTIFS('Daily Diary'!A:A,'Grafico Strategie Settimanali'!B196,'Daily Diary'!E:E,\"GT 90\",'Daily Diary'!E:E,\"GT 90\",'Daily Diary'!K:K,\"WIN\")","v":0},{"$f":"COUNTIFS('Daily Diary'!A:A,'Grafico Strategie Settimanali'!B196,'Daily Diary'!E:E,\"GT 110\",'Daily Diary'!E:E,\"GT 110\",'Daily Diary'!K:K,\"WIN\")","v":0},{"$f":"COUNTIFS('Daily Diary'!A:A,'Grafico Strategie Settimanali'!B196,'Daily Diary'!E:E,\"ALERT GOAL\",'Daily Diary'!E:E,\"ALERT GOAL\",'Daily Diary'!K:K,\"WIN\")","v":0},{"$f":"COUNTIFS('Daily Diary'!A:A,'Grafico Strategie Settimanali'!B196,'Daily Diary'!E:E,\"DRAW NO BET\",'Daily Diary'!E:E,\"DRAW NO BET\",'Daily Diary'!K:K,\"WIN\")","v":0},{"$f":"COUNTIFS('Daily Diary'!A:A,'Grafico Strategie Settimanali'!B196,'Daily Diary'!E:E,\"ALTRO\",'Daily Diary'!E:E,\"ALTRO\",'Daily Diary'!K:K,\"WIN\")","v":0},{"$error":"#DIV/0!"},{"$error":"#DIV/0!"},{"$error":"#DIV/0!"},{"$error":"#DIV/0!"},{"$error":"#DIV/0!"},{"$error":"#DIV/0!"},{"$error":"#DIV/0!"},{"$error":"#DIV/0!"},{"$error":"#DIV/0!"},{"$error":"#DIV/0!"},{"$error":"#DIV/0!"},{"$error":"#DIV/0!"}]
[0,"2023-11-15",{"$f":"COUNTIFS('Daily Diary'!A:A,'Grafico Strategie Settimanali'!B197,'Daily Diary'!E:E,\"BANCA PAREGGIO\")","v":0},{"$f":"COUNTIFS('Daily Diary'!A:A,'Grafico Strategie Settimanali'!B197,'Daily Diary'!E:E,\"PUNTA SQ.CASA\")","v":0},{"$f":"COUNTIFS('Daily Diary'!A:A,'Grafico Strategie Settimanali'!B197,'Daily Diary'!E:E,\"PUNTA SQ.OSPITE\")","v":0},{"$f":"COUNTIFS('Daily Diary'!A:A,'Grafico Strategie Settimanali'!B197,'Daily Diary'!E:E,\"BANCA SFAVORITA\")","v":0},{"$f":"COUNTIFS('Daily Diary'!A:A,'Grafico Strategie Settimanali'!B197,'Daily Diary'!E:E,\"PUNTA OVER\")","v":0},{"$f":"COUNTIFS('Daily Diary'!A:A,'Grafico Strategie Settimanali'!B197,'Daily Diary'!E:E,\"PUNTA UNDER\")","v":0},{"$f":"COUNTIFS('Daily Diary'!A:A,'Grafico Strategie Settimanali'!B197,'Daily Diary'!E:E,\"SCALPING\")","v":0},{"$f":"COUNTIFS('Daily Diary'!A:A,'Grafico Strategie Settimanali'!B197,'Daily Diary'!E:E,\"GT90\")","v":0},{"$f":"COUNTIFS('Daily Diary'!A:A,'Grafico Strategie Settimanali'!B197,'Daily Diary'!E:E,\"GT110\")","v":0},{"$f":"COUNTIFS('Daily Diary'!A:A,'Grafico Strategie Settimanali'!B197,'Daily Diary'!E:E,\"ALERT GOAL\")","v":0},{"$f":"COUNTIFS('Daily Diary'!A:A,'Grafico Strategie Settimanali'!B197,'Daily Diary'!E:E,\"DRAW NO BET\")","v":0},{"$f":"COUNTIFS('Daily Diary'!A:A,'Grafico Strategie Settimanali'!B197,'Daily Diary'!E:E,\"ALTRO\")","v":0},{"$f":"COUNTIFS('Daily Diary'!A:A,'Grafico Strategie Settimanali'!B197,'Daily Diary'!E:E,\"BANCA PAREGGIO\",'Daily Diary'!E:E,\"BANCA PAREGGIO\",'Daily Diary'!K:K,\"WIN\")","v":0},{"$f":"COUNTIFS('Daily Diary'!A:A,'Grafico Strategie Settimanali'!B197,'Daily Diary'!E:E,\"PUNTA SQ.CASA\",'Daily Diary'!E:E,\"PUNTA SQ.CASA\",'Daily Diary'!K:K,\"WIN\")","v":0},{"$f":"COUNTIFS('Daily Diary'!A:A,'Grafico Strategie Settimanali'!B197,'Daily Diary'!E:E,\"PUNTA SQ.OSPITE\",'Daily Diary'!E:E,\"PUNTA SQ.OSPITE\",'Daily Diary'!K:K,\"WIN\")","v":0},{"$f":"COUNTIFS('Daily Diary'!A:A,'Grafico Strategie Settimanali'!B197,'Daily Diary'!E:E,\"BANCA SFAVORITA\",'Daily Diary'!E:E,\"BANCA SFAVORITA\",'Daily Diary'!K:K,\"WIN\")","v":0},{"$f":"COUNTIFS('Daily Diary'!A:A,'Grafico Strategie Settimanali'!B197,'Daily Diary'!E:E,\"PUNTA OVER\",'Daily Diary'!E:E,\"PUNTA OVER\",'Daily Diary'!K:K,\"WIN\")","v":0},{"$f":"COUNTIFS('Daily Diary'!A:A,'Grafico Strategie Settimanali'!B197,'Daily Diary'!E:E,\"PUNTA UNDER\",'Daily Diary'!E:E,\"PUNTA UNDER\",'Daily Diary'!K:K,\"WIN\")","v":0},{"$f":"COUNTIFS('Daily Diary'!A:A,'Grafico Strategie Settimanali'!B197,'Daily Diary'!E:E,\"SCALPING\",'Daily Diary'!E:E,\"SCALPING\",'Daily Diary'!K:K,\"WIN\")","v":0},{"$f":"COUNTIFS('Daily Diary'!A:A,'Grafico Strategie Settimanali'!B197,'Daily Diary'!E:E,\"GT 90\",'Daily Diary'!E:E,\"GT 90\",'Daily Diary'!K:K,\"WIN\")","v":0},{"$f":"COUNTIFS('Daily Diary'!A:A,'Grafico Strategie Settimanali'!B197,'Daily Diary'!E:E,\"GT 110\",'Daily Diary'!E:E,\"GT 110\",'Daily Diary'!K:K,\"WIN\")","v":0},{"$f":"COUNTIFS('Daily Diary'!A:A,'Grafico Strategie Settimanali'!B197,'Daily Diary'!E:E,\"ALERT GOAL\",'Daily Diary'!E:E,\"ALERT GOAL\",'Daily Diary'!K:K,\"WIN\")","v":0},{"$f":"COUNTIFS('Daily Diary'!A:A,'Grafico Strategie Settimanali'!B197,'Daily Diary'!E:E,\"DRAW NO BET\",'Daily Diary'!E:E,\"DRAW NO BET\",'Daily Diary'!K:K,\"WIN\")","v":0},{"$f":"COUNTIFS('Daily Diary'!A:A,'Grafico Strategie Settimanali'!B197,'Daily Diary'!E:E,\"ALTRO\",'Daily Diary'!E:E,\"ALTRO\",'Daily Diary'!K:K,\"WIN\")","v":0},{"$error":"#DIV/0!"},{"$error":"#DIV/0!"},{"$error":"#DIV/0!"},{"$error":"#DIV/0!"},{"$error":"#DIV/0!"},{"$error":"#DIV/0!"},{"$error":"#DIV/0!"},{"$error":"#DIV/0!"},{"$error":"#DIV/0!"},{"$error":"#DIV/0!"},{"$error":"#DIV/0!"},{"$error":"#DIV/0!"}]
[0,"2023-11-16",{"$f":"COUNTIFS('Daily Diary'!A:A,'Grafico Strategie Settimanali'!B198,'Daily Diary'!E:E,\"BANCA PAREGGIO\")","v":0},{"$f":"COUNTIFS('Daily Diary'!A:A,'Grafico Strategie Settimanali'!B198,'Daily Diary'!E:E,\"PUNTA SQ.CASA\")","v":0},{"$f":"COUNTIFS('Daily Diary'!A:A,'Grafico Strategie Settimanali'!B198,'Daily Diary'!E:E,\"PUNTA SQ.OSPITE\")","v":0},{"$f":"COUNTIFS('Daily Diary'!A:A,'Grafico Strategie Settimanali'!B198,'Daily Diary'!E:E,\"BANCA SFAVORITA\")","v":0},{"$f":"COUNTIFS('Daily Diary'!A:A,'Grafico Strategie Settimanali'!B198,'Daily Diary'!E:E,\"PUNTA OVER\")","v":0},{"$f":"COUNTIFS('Daily Diary'!A:A,'Grafico Strategie Settimanali'!B198,'Daily Diary'!E:E,\"PUNTA UNDER\")","v":0},{"$f":"COUNTIFS('Daily Diary'!A:A,'Grafico Strategie Settimanali'!B198,'Daily Diary'!E:E,\"SCALPING\")","v":0},{"$f":"COUNTIFS('Daily Diary'!A:A,'Grafico Strategie Settimanali'!B198,'Daily Diary'!E:E,\"GT90\")","v":0},{"$f":"COUNTIFS('Daily Diary'!A:A,'Grafico Strategie Settimanali'!B198,'Daily Diary'!E:E,\"GT110\")","v":0},{"$f":"COUNTIFS('Daily Diary'!A:A,'Grafico Strategie Settimanali'!B198,'Daily Diary'!E:E,\"ALERT GOAL\")","v":0},{"$f":"COUNTIFS('Daily Diary'!A:A,'Grafico Strategie Settimanali'!B198,'Daily Diary'!E:E,\"DRAW NO BET\")","v":0},{"$f":"COUNTIFS('Daily Diary'!A:A,'Grafico Strategie Settimanali'!B198,'Daily Diary'!E:E,\"ALTRO\")","v":0},{"$f":"COUNTIFS('Daily Diary'!A:A,'Grafico Strategie Settimanali'!B198,'Daily Diary'!E:E,\"BANCA PAREGGIO\",'Daily Diary'!E:E,\"BANCA PAREGGIO\",'Daily Diary'!K:K,\"WIN\")","v":0},{"$f":"COUNTIFS('Daily Diary'!A:A,'Grafico Strategie Settimanali'!B198,'Daily Diary'!E:E,\"PUNTA SQ.CASA\",'Daily Diary'!E:E,\"PUNTA SQ.CASA\",'Daily Diary'!K:K,\"WIN\")","v":0},{"$f":"COUNTIFS('Daily Diary'!A:A,'Grafico Strategie Settimanali'!B198,'Daily Diary'!E:E,\"PUNTA SQ.OSPITE\",'Daily Diary'!E:E,\"PUNTA SQ.OSPITE\",'Daily Diary'!K:K,\"WIN\")","v":0},{"$f":"COUNTIFS('Daily Diary'!A:A,'Grafico Strategie Settimanali'!B198,'Daily Diary'!E:E,\"BANCA SFAVORITA\",'Daily Diary'!E:E,\"BANCA SFAVORITA\",'Daily Diary'!K:K,\"WIN\")","v":0},{"$f":"COUNTIFS('Daily Diary'!A:A,'Grafico Strategie Settimanali'!B198,'Daily Diary'!E:E,\"PUNTA OVER\",'Daily Diary'!E:E,\"PUNTA OVER\",'Daily Diary'!K:K,\"WIN\")","v":0},{"$f":"COUNTIFS('Daily Diary'!A:A,'Grafico Strategie Settimanali'!B198,'Daily Diary'!E:E,\"PUNTA UNDER\",'Daily Diary'!E:E,\"PUNTA UNDER\",'Daily Diary'!K:K,\"WIN\")","v":0},{"$f":"COUNTIFS('Daily Diary'!A:A,'Grafico Strategie Settimanali'!B198,'Daily Diary'!E:E,\"SCALPING\",'Daily Diary'!E:E,\"SCALPING\",'Daily Diary'!K:K,\"WIN\")","v":0},{"$f":"COUNTIFS('Daily Diary'!A:A,'Grafico Strategie Settimanali'!B198,'Daily Diary'!E:E,\"GT 90\",'Daily Diary'!E:E,\"GT 90\",'Daily Diary'!K:K,\"WIN\")","v":0},{"$f":"COUNTIFS('Daily Diary'!A:A,'Grafico Strategie Settimanali'!B198,'Daily Diary'!E:E,\"GT 110\",'Daily Diary'!E:E,\"GT 110\",'Daily Diary'!K:K,\"WIN\")","v":0},{"$f":"COUNTIFS('Daily Diary'!A:A,'Grafico Strategie Settimanali'!B198,'Daily Diary'!E:E,\"ALERT GOAL\",'Daily Diary'!E:E,\"ALERT GOAL\",'Daily Diary'!K:K,\"WIN\")","v":0},{"$f":"COUNTIFS('Daily Diary'!A:A,'Grafico Strategie Settimanali'!B198,'Daily Diary'!E:E,\"DRAW NO BET\",'Daily Diary'!E:E,\"DRAW NO BET\",'Daily Diary'!K:K,\"WIN\")","v":0},{"$f":"COUNTIFS('Daily Diary'!A:A,'Grafico Strategie Settimanali'!B198,'Daily Diary'!E:E,\"ALTRO\",'Daily Diary'!E:E,\"ALTRO\",'Daily Diary'!K:K,\"WIN\")","v":0},{"$error":"#DIV/0!"},{"$error":"#DIV/0!"},{"$error":"#DIV/0!"},{"$error":"#DIV/0!"},{"$error":"#DIV/0!"},{"$error":"#DIV/0!"},{"$error":"#DIV/0!"},{"$error":"#DIV/0!"},{"$error":"#DIV/0!"},{"$error":"#DIV/0!"},{"$error":"#DIV/0!"},{"$error":"#DIV/0!"}]
[0,"2023-11-17",{"$f":"COUNTIFS('Daily Diary'!A:A,'Grafico Strategie Settimanali'!B199,'Daily Diary'!E:E,\"BANCA PAREGGIO\")","v":0},{"$f":"COUNTIFS('Daily Diary'!A:A,'Grafico Strategie Settimanali'!B199,'Daily Diary'!E:E,\"PUNTA SQ.CASA\")","v":0},{"$f":"COUNTIFS('Daily Diary'!A:A,'Grafico Strategie Settimanali'!B199,'Daily Diary'!E:E,\"PUNTA SQ.OSPITE\")","v":0},{"$f":"COUNTIFS('Daily Diary'!A:A,'Grafico Strategie Settimanali'!B199,'Daily Diary'!E:E,\"BANCA SFAVORITA\")","v":0},{"$f":"COUNTIFS('Daily Diary'!A:A,'Grafico Strategie Settimanali'!B199,'Daily Diary'!E:E,\"PUNTA OVER\")","v":0},{"$f":"COUNTIFS('Daily Diary'!A:A,'Grafico Strategie Settimanali'!B199,'Daily Diary'!E:E,\"PUNTA UNDER\")","v":0},{"$f":"COUNTIFS('Daily Diary'!A:A,'Grafico Strategie Settimanali'!B199,'Daily Diary'!E:E,\"SCALPING\")","v":0},{"$f":"COUNTIFS('Daily Diary'!A:A,'Grafico Strategie Settimanali'!B199,'Daily Diary'!E:E,\"GT90\")","v":0},{"$f":"COUNTIFS('Daily Diary'!A:A,'Grafico Strategie Settimanali'!B199,'Daily Diary'!E:E,\"GT110\")","v":0},{"$f":"COUNTIFS('Daily Diary'!A:A,'Grafico Strategie Settimanali'!B199,'Daily Diary'!E:E,\"ALERT GOAL\")","v":0},{"$f":"COUNTIFS('Daily Diary'!A:A,'Grafico Strategie Settimanali'!B199,'Daily Diary'!E:E,\"DRAW NO BET\")","v":0},{"$f":"COUNTIFS('Daily Diary'!A:A,'Grafico Strategie Settimanali'!B199,'Daily Diary'!E:E,\"ALTRO\")","v":0},{"$f":"COUNTIFS('Daily Diary'!A:A,'Grafico Strategie Settimanali'!B199,'Daily Diary'!E:E,\"BANCA PAREGGIO\",'Daily Diary'!E:E,\"BANCA PAREGGIO\",'Daily Diary'!K:K,\"WIN\")","v":0},{"$f":"COUNTIFS('Daily Diary'!A:A,'Grafico Strategie Settimanali'!B199,'Daily Diary'!E:E,\"PUNTA SQ.CASA\",'Daily Diary'!E:E,\"PUNTA SQ.CASA\",'Daily Diary'!K:K,\"WIN\")","v":0},{"$f":"COUNTIFS('Daily Diary'!A:A,'Grafico Strategie Settimanali'!B199,'Daily Diary'!E:E,\"PUNTA SQ.OSPITE\",'Daily Diary'!E:E,\"PUNTA SQ.OSPITE\",'Daily Diary'!K:K,\"WIN\")","v":0},{"$f":"COUNTIFS('Daily Diary'!A:A,'Grafico Strategie Settimanali'!B199,'Daily Diary'!E:E,\"BANCA SFAVORITA\",'Daily Diary'!E:E,\"BANCA SFAVORITA\",'Daily Diary'!K:K,\"WIN\")","v":0},{"$f":"COUNTIFS('Daily Diary'!A:A,'Grafico Strategie Settimanali'!B199,'Daily Diary'!E:E,\"PUNTA OVER\",'Daily Diary'!E:E,\"PUNTA OVER\",'Daily Diary'!K:K,\"WIN\")","v":0},{"$f":"COUNTIFS('Daily Diary'!A:A,'Grafico Strategie Settimanali'!B199,'Daily Diary'!E:E,\"PUNTA UNDER\",'Daily Diary'!E:E,\"PUNTA UNDER\",'Daily Diary'!K:K,\"WIN\")","v":0},{"$f":"COUNTIFS('Daily Diary'!A:A,'Grafico Strategie Settimanali'!B199,'Daily Diary'!E:E,\"SCALPING\",'Daily Diary'!E:E,\"SCALPING\",'Daily Diary'!K:K,\"WIN\")","v":0},{"$f":"COUNTIFS('Daily Diary'!A:A,'Grafico Strategie Settimanali'!B199,'Daily Diary'!E:E,\"GT 90\",'Daily Diary'!E:E,\"GT 90\",'Daily Diary'!K:K,\"WIN\")","v":0},{"$f":"COUNTIFS('Daily Diary'!A:A,'Grafico Strategie Settimanali'!B199,'Daily Diary'!E:E,\"GT 110\",'Daily Diary'!E:E,\"GT 110\",'Daily Diary'!K:K,\"WIN\")","v":0},{"$f":"COUNTIFS('Daily Diary'!A:A,'Grafico Strategie Settimanali'!B199,'Daily Diary'!E:E,\"ALERT GOAL\",'Daily Diary'!E:E,\"ALERT GOAL\",'Daily Diary'!K:K,\"WIN\")","v":0},{"$f":"COUNTIFS('Daily Diary'!A:A,'Grafico Strategie Settimanali'!B199,'Daily Diary'!E:E,\"DRAW NO BET\",'Daily Diary'!E:E,\"DRAW NO BET\",'Daily Diary'!K:K,\"WIN\")","v":0},{"$f":"COUNTIFS('Daily Diary'!A:A,'Grafico Strategie Settimanali'!B199,'Daily Diary'!E:E,\"ALTRO\",'Daily Diary'!E:E,\"ALTRO\",'Daily Diary'!K:K,\"WIN\")","v":0},{"$error":"#DIV/0!"},{"$error":"#DIV/0!"},{"$error":"#DIV/0!"},{"$error":"#DIV/0!"},{"$error":"#DIV/0!"},{"$error":"#DIV/0!"},{"$error":"#DIV/0!"},{"$error":"#DIV/0!"},{"$error":"#DIV/0!"},{"$error":"#DIV/0!"},{"$error":"#DIV/0!"},{"$error":"#DIV/0!"}]
[0,"2023-11-18",{"$f":"COUNTIFS('Daily Diary'!A:A,'Grafico Strategie Settimanali'!B200,'Daily Diary'!E:E,\"BANCA PAREGGIO\")","v":0},{"$f":"COUNTIFS('Daily Diary'!A:A,'Grafico Strategie Settimanali'!B200,'Daily Diary'!E:E,\"PUNTA SQ.CASA\")","v":0},{"$f":"COUNTIFS('Daily Diary'!A:A,'Grafico Strategie Settimanali'!B200,'Daily Diary'!E:E,\"PUNTA SQ.OSPITE\")","v":0},{"$f":"COUNTIFS('Daily Diary'!A:A,'Grafico Strategie Settimanali'!B200,'Daily Diary'!E:E,\"BANCA SFAVORITA\")","v":0},{"$f":"COUNTIFS('Daily Diary'!A:A,'Grafico Strategie Settimanali'!B200,'Daily Diary'!E:E,\"PUNTA OVER\")","v":0},{"$f":"COUNTIFS('Daily Diary'!A:A,'Grafico Strategie Settimanali'!B200,'Daily Diary'!E:E,\"PUNTA UNDER\")","v":0},{"$f":"COUNTIFS('Daily Diary'!A:A,'Grafico Strategie Settimanali'!B200,'Daily Diary'!E:E,\"SCALPING\")","v":0},{"$f":"COUNTIFS('Daily Diary'!A:A,'Grafico Strategie Settimanali'!B200,'Daily Diary'!E:E,\"GT90\")","v":0},{"$f":"COUNTIFS('Daily Diary'!A:A,'Grafico Strategie Settimanali'!B200,'Daily Diary'!E:E,\"GT110\")","v":0},{"$f":"COUNTIFS('Daily Diary'!A:A,'Grafico Strategie Settimanali'!B200,'Daily Diary'!E:E,\"ALERT GOAL\")","v":0},{"$f":"COUNTIFS('Daily Diary'!A:A,'Grafico Strategie Settimanali'!B200,'Daily Diary'!E:E,\"DRAW NO BET\")","v":0},{"$f":"COUNTIFS('Daily Diary'!A:A,'Grafico Strategie Settimanali'!B200,'Daily Diary'!E:E,\"ALTRO\")","v":0},{"$f":"COUNTIFS('Daily Diary'!A:A,'Grafico Strategie Settimanali'!B200,'Daily Diary'!E:E,\"BANCA PAREGGIO\",'Daily Diary'!E:E,\"BANCA PAREGGIO\",'Daily Diary'!K:K,\"WIN\")","v":0},{"$f":"COUNTIFS('Daily Diary'!A:A,'Grafico Strategie Settimanali'!B200,'Daily Diary'!E:E,\"PUNTA SQ.CASA\",'Daily Diary'!E:E,\"PUNTA SQ.CASA\",'Daily Diary'!K:K,\"WIN\")","v":0},{"$f":"COUNTIFS('Daily Diary'!A:A,'Grafico Strategie Settimanali'!B200,'Daily Diary'!E:E,\"PUNTA SQ.OSPITE\",'Daily Diary'!E:E,\"PUNTA SQ.OSPITE\",'Daily Diary'!K:K,\"WIN\")","v":0},{"$f":"COUNTIFS('Daily Diary'!A:A,'Grafico Strategie Settimanali'!B200,'Daily Diary'!E:E,\"BANCA SFAVORITA\",'Daily Diary'!E:E,\"BANCA SFAVORITA\",'Daily Diary'!K:K,\"WIN\")","v":0},{"$f":"COUNTIFS('Daily Diary'!A:A,'Grafico Strategie Settimanali'!B200,'Daily Diary'!E:E,\"PUNTA OVER\",'Daily Diary'!E:E,\"PUNTA OVER\",'Daily Diary'!K:K,\"WIN\")","v":0},{"$f":"COUNTIFS('Daily Diary'!A:A,'Grafico Strategie Settimanali'!B200,'Daily Diary'!E:E,\"PUNTA UNDER\",'Daily Diary'!E:E,\"PUNTA UNDER\",'Daily Diary'!K:K,\"WIN\")","v":0},{"$f":"COUNTIFS('Daily Diary'!A:A,'Grafico Strategie Settimanali'!B200,'Daily Diary'!E:E,\"SCALPING\",'Daily Diary'!E:E,\"SCALPING\",'Daily Diary'!K:K,\"WIN\")","v":0},{"$f":"COUNTIFS('Daily Diary'!A:A,'Grafico Strategie Settimanali'!B200,'Daily Diary'!E:E,\"GT 90\",'Daily Diary'!E:E,\"GT 90\",'Daily Diary'!K:K,\"WIN\")","v":0},{"$f":"COUNTIFS('Daily Diary'!A:A,'Grafico Strategie Settimanali'!B200,'Daily Diary'!E:E,\"GT 110\",'Daily Diary'!E:E,\"GT 110\",'Daily Diary'!K:K,\"WIN\")","v":0},{"$f":"COUNTIFS('Daily Diary'!A:A,'Grafico Strategie Settimanali'!B200,'Daily Diary'!E:E,\"ALERT GOAL\",'Daily Diary'!E:E,\"ALERT GOAL\",'Daily Diary'!K:K,\"WIN\")","v":0},{"$f":"COUNTIFS('Daily Diary'!A:A,'Grafico Strategie Settimanali'!B200,'Daily Diary'!E:E,\"DRAW NO BET\",'Daily Diary'!E:E,\"DRAW NO BET\",'Daily Diary'!K:K,\"WIN\")","v":0},{"$f":"COUNTIFS('Daily Diary'!A:A,'Grafico Strategie Settimanali'!B200,'Daily Diary'!E:E,\"ALTRO\",'Daily Diary'!E:E,\"ALTRO\",'Daily Diary'!K:K,\"WIN\")","v":0},{"$error":"#DIV/0!"},{"$error":"#DIV/0!"},{"$error":"#DIV/0!"},{"$error":"#DIV/0!"},{"$error":"#DIV/0!"},{"$error":"#DIV/0!"},{"$error":"#DIV/0!"},{"$error":"#DIV/0!"},{"$f":"W200/K200","v":{"$error":"#DIV/0!"}},{"$error":"#DIV/0!"},{"$error":"#DIV/0!"},{"$error":"#DIV/0!"}]
[0,"2023-11-19",{"$f":"COUNTIFS('Daily Diary'!A:A,'Grafico Strategie Settimanali'!B201,'Daily Diary'!E:E,\"BANCA PAREGGIO\")","v":0},{"$f":"COUNTIFS('Daily Diary'!A:A,'Grafico Strategie Settimanali'!B201,'Daily Diary'!E:E,\"PUNTA SQ.CASA\")","v":0},{"$f":"COUNTIFS('Daily Diary'!A:A,'Grafico Strategie Settimanali'!B201,'Daily Diary'!E:E,\"PUNTA SQ.OSPITE\")","v":0},{"$f":"COUNTIFS('Daily Diary'!A:A,'Grafico Strategie Settimanali'!B201,'Daily Diary'!E:E,\"BANCA SFAVORITA\")","v":0},{"$f":"COUNTIFS('Daily Diary'!A:A,'Grafico Strategie Settimanali'!B201,'Daily Diary'!E:E,\"PUNTA OVER\")","v":0},{"$f":"COUNTIFS('Daily Diary'!A:A,'Grafico Strategie Settimanali'!B201,'Daily Diary'!E:E,\"PUNTA UNDER\")","v":0},{"$f":"COUNTIFS('Daily Diary'!A:A,'Grafico Strategie Settimanali'!B201,'Daily Diary'!E:E,\"SCALPING\")","v":0},{"$f":"COUNTIFS('Daily Diary'!A:A,'Grafico Strategie Settimanali'!B201,'Daily Diary'!E:E,\"GT90\")","v":0},{"$f":"COUNTIFS('Daily Diary'!A:A,'Grafico Strategie Settimanali'!B201,'Daily Diary'!E:E,\"GT110\")","v":0},{"$f":"COUNTIFS('Daily Diary'!A:A,'Grafico Strategie Settimanali'!B201,'Daily Diary'!E:E,\"ALERT GOAL\")","v":0},{"$f":"COUNTIFS('Daily Diary'!A:A,'Grafico Strategie Settimanali'!B201,'Daily Diary'!E:E,\"DRAW NO BET\")","v":0},{"$f":"COUNTIFS('Daily Diary'!A:A,'Grafico Strategie Settimanali'!B201,'Daily Diary'!E:E,\"ALTRO\")","v":0},{"$f":"COUNTIFS('Daily Diary'!A:A,'Grafico Strategie Settimanali'!B201,'Daily Diary'!E:E,\"BANCA PAREGGIO\",'Daily Diary'!E:E,\"BANCA PAREGGIO\",'Daily Diary'!K:K,\"WIN\")","v":0},{"$f":"COUNTIFS('Daily Diary'!A:A,'Grafico Strategie Settimanali'!B201,'Daily Diary'!E:E,\"PUNTA SQ.CASA\",'Daily Diary'!E:E,\"PUNTA SQ.CASA\",'Daily Diary'!K:K,\"WIN\")","v":0},{"$f":"COUNTIFS('Daily Diary'!A:A,'Grafico Strategie Settimanali'!B201,'Daily Diary'!E:E,\"PUNTA SQ.OSPITE\",'Daily Diary'!E:E,\"PUNTA SQ.OSPITE\",'Daily Diary'!K:K,\"WIN\")","v":0},{"$f":"COUNTIFS('Daily Diary'!A:A,'Grafico Strategie Settimanali'!B201,'Daily Diary'!E:E,\"BANCA SFAVORITA\",'Daily Diary'!E:E,\"BANCA SFAVORITA\",'Daily Diary'!K:K,\"WIN\")","v":0},{"$f":"COUNTIFS('Daily Diary'!A:A,'Grafico Strategie Settimanali'!B201,'Daily Diary'!E:E,\"PUNTA OVER\",'Daily Diary'!E:E,\"PUNTA OVER\",'Daily Diary'!K:K,\"WIN\")","v":0},{"$f":"COUNTIFS('Daily Diary'!A:A,'Grafico Strategie Settimanali'!B201,'Daily Diary'!E:E,\"PUNTA UNDER\",'Daily Diary'!E:E,\"PUNTA UNDER\",'Daily Diary'!K:K,\"WIN\")","v":0},{"$f":"COUNTIFS('Daily Diary'!A:A,'Grafico Strategie Settimanali'!B201,'Daily Diary'!E:E,\"SCALPING\",'Daily Diary'!E:E,\"SCALPING\",'Daily Diary'!K:K,\"WIN\")","v":0},{"$f":"COUNTIFS('Daily Diary'!A:A,'Grafico Strategie Settimanali'!B201,'Daily Diary'!E:E,\"GT 90\",'Daily Diary'!E:E,\"GT 90\",'Daily Diary'!K:K,\"WIN\")","v":0},{"$f":"COUNTIFS('Daily Diary'!A:A,'Grafico Strategie Settimanali'!B201,'Daily Diary'!E:E,\"GT 110\",'Daily Diary'!E:E,\"GT 110\",'Daily Diary'!K:K,\"WIN\")","v":0},{"$f":"COUNTIFS('Daily Diary'!A:A,'Grafico Strategie Settimanali'!B201,'Daily Diary'!E:E,\"ALERT GOAL\",'Daily Diary'!E:E,\"ALERT GOAL\",'Daily Diary'!K:K,\"WIN\")","v":0},{"$f":"COUNTIFS('Daily Diary'!A:A,'Grafico Strategie Settimanali'!B201,'Daily Diary'!E:E,\"DRAW NO BET\",'Daily Diary'!E:E,\"DRAW NO BET\",'Daily Diary'!K:K,\"WIN\")","v":0},{"$f":"COUNTIFS('Daily Diary'!A:A,'Grafico Strategie Settimanali'!B201,'Daily Diary'!E:E,\"ALTRO\",'Daily Diary'!E:E,\"ALTRO\",'Daily Diary'!K:K,\"WIN\")","v":0},{"$error":"#DIV/0!"},{"$error":"#DIV/0!"},{"$error":"#DIV/0!"},{"$error":"#DIV/0!"},{"$error":"#DIV/0!"},{"$error":"#DIV/0!"},{"$error":"#DIV/0!"},{"$error":"#DIV/0!"},{"$error":"#DIV/0!"},{"$error":"#DIV/0!"},{"$error":"#DIV/0!"},{"$error":"#DIV/0!"}]
[0,"2023-11-20",{"$f":"COUNTIFS('Daily Diary'!A:A,'Grafico Strategie Settimanali'!B202,'Daily Diary'!E:E,\"BANCA PAREGGIO\")","v":0},{"$f":"COUNTIFS('Daily Diary'!A:A,'Grafico Strategie Settimanali'!B202,'Daily Diary'!E:E,\"PUNTA SQ.CASA\")","v":0},{"$f":"COUNTIFS('Daily Diary'!A:A,'Grafico Strategie Settimanali'!B202,'Daily Diary'!E:E,\"PUNTA SQ.OSPITE\")","v":0},{"$f":"COUNTIFS('Daily Diary'!A:A,'Grafico Strategie Settimanali'!B202,'Daily Diary'!E:E,\"BANCA SFAVORITA\")","v":0},{"$f":"COUNTIFS('Daily Diary'!A:A,'Grafico Strategie Settimanali'!B202,'Daily Diary'!E:E,\"PUNTA OVER\")","v":0},{"$f":"COUNTIFS('Daily Diary'!A:A,'Grafico Strategie Settimanali'!B202,'Daily Diary'!E:E,\"PUNTA UNDER\")","v":0},{"$f":"COUNTIFS('Daily Diary'!A:A,'Grafico Strategie Settimanali'!B202,'Daily Diary'!E:E,\"SCALPING\")","v":0},{"$f":"COUNTIFS('Daily Diary'!A:A,'Grafico Strategie Settimanali'!B202,'Daily Diary'!E:E,\"GT90\")","v":0},{"$f":"COUNTIFS('Daily Diary'!A:A,'Grafico Strategie Settimanali'!B202,'Daily Diary'!E:E,\"GT110\")","v":0},{"$f":"COUNTIFS('Daily Diary'!A:A,'Grafico Strategie Settimanali'!B202,'Daily Diary'!E:E,\"ALERT GOAL\")","v":0},{"$f":"COUNTIFS('Daily Diary'!A:A,'Grafico Strategie Settimanali'!B202,'Daily Diary'!E:E,\"DRAW NO BET\")","v":0},{"$f":"COUNTIFS('Daily Diary'!A:A,'Grafico Strategie Settimanali'!B202,'Daily Diary'!E:E,\"ALTRO\")","v":0},{"$f":"COUNTIFS('Daily Diary'!A:A,'Grafico Strategie Settimanali'!B202,'Daily Diary'!E:E,\"BANCA PAREGGIO\",'Daily Diary'!E:E,\"BANCA PAREGGIO\",'Daily Diary'!K:K,\"WIN\")","v":0},{"$f":"COUNTIFS('Daily Diary'!A:A,'Grafico Strategie Settimanali'!B202,'Daily Diary'!E:E,\"PUNTA SQ.CASA\",'Daily Diary'!E:E,\"PUNTA SQ.CASA\",'Daily Diary'!K:K,\"WIN\")","v":0},{"$f":"COUNTIFS('Daily Diary'!A:A,'Grafico Strategie Settimanali'!B202,'Daily Diary'!E:E,\"PUNTA SQ.OSPITE\",'Daily Diary'!E:E,\"PUNTA SQ.OSPITE\",'Daily Diary'!K:K,\"WIN\")","v":0},{"$f":"COUNTIFS('Daily Diary'!A:A,'Grafico Strategie Settimanali'!B202,'Daily Diary'!E:E,\"BANCA SFAVORITA\",'Daily Diary'!E:E,\"BANCA SFAVORITA\",'Daily Diary'!K:K,\"WIN\")","v":0},{"$f":"COUNTIFS('Daily Diary'!A:A,'Grafico Strategie Settimanali'!B202,'Daily Diary'!E:E,\"PUNTA OVER\",'Daily Diary'!E:E,\"PUNTA OVER\",'Daily Diary'!K:K,\"WIN\")","v":0},{"$f":"COUNTIFS('Daily Diary'!A:A,'Grafico Strategie Settimanali'!B202,'Daily Diary'!E:E,\"PUNTA UNDER\",'Daily Diary'!E:E,\"PUNTA UNDER\",'Daily Diary'!K:K,\"WIN\")","v":0},{"$f":"COUNTIFS('Daily Diary'!A:A,'Grafico Strategie Settimanali'!B202,'Daily Diary'!E:E,\"SCALPING\",'Daily Diary'!E:E,\"SCALPING\",'Daily Diary'!K:K,\"WIN\")","v":0},{"$f":"COUNTIFS('Daily Diary'!A:A,'Grafico Strategie Settimanali'!B202,'Daily Diary'!E:E,\"GT 90\",'Daily Diary'!E:E,\"GT 90\",'Daily Diary'!K:K,\"WIN\")","v":0},{"$f":"COUNTIFS('Daily Diary'!A:A,'Grafico Strategie Settimanali'!B202,'Daily Diary'!E:E,\"GT 110\",'Daily Diary'!E:E,\"GT 110\",'Daily Diary'!K:K,\"WIN\")","v":0},{"$f":"COUNTIFS('Daily Diary'!A:A,'Grafico Strategie Settimanali'!B202,'Daily Diary'!E:E,\"ALERT GOAL\",'Daily Diary'!E:E,\"ALERT GOAL\",'Daily Diary'!K:K,\"WIN\")","v":0},{"$f":"COUNTIFS('Daily Diary'!A:A,'Grafico Strategie Settimanali'!B202,'Daily Diary'!E:E,\"DRAW NO BET\",'Daily Diary'!E:E,\"DRAW NO BET\",'Daily Diary'!K:K,\"WIN\")","v":0},{"$f":"COUNTIFS('Daily Diary'!A:A,'Grafico Strategie Settimanali'!B202,'Daily Diary'!E:E,\"ALTRO\",'Daily Diary'!E:E,\"ALTRO\",'Daily Diary'!K:K,\"WIN\")","v":0},{"$error":"#DIV/0!"},{"$error":"#DIV/0!"},{"$error":"#DIV/0!"},{"$error":"#DIV/0!"},{"$error":"#DIV/0!"},{"$error":"#DIV/0!"},{"$error":"#DIV/0!"},{"$error":"#DIV/0!"},{"$error":"#DIV/0!"},{"$error":"#DIV/0!"},{"$error":"#DIV/0!"},{"$error":"#DIV/0!"}]
[0,"2023-11-21",{"$f":"COUNTIFS('Daily Diary'!A:A,'Grafico Strategie Settimanali'!B203,'Daily Diary'!E:E,\"BANCA PAREGGIO\")","v":0},{"$f":"COUNTIFS('Daily Diary'!A:A,'Grafico Strategie Settimanali'!B203,'Daily Diary'!E:E,\"PUNTA SQ.CASA\")","v":0},{"$f":"COUNTIFS('Daily Diary'!A:A,'Grafico Strategie Settimanali'!B203,'Daily Diary'!E:E,\"PUNTA SQ.OSPITE\")","v":0},{"$f":"COUNTIFS('Daily Diary'!A:A,'Grafico Strategie Settimanali'!B203,'Daily Diary'!E:E,\"BANCA SFAVORITA\")","v":0},{"$f":"COUNTIFS('Daily Diary'!A:A,'Grafico Strategie Settimanali'!B203,'Daily Diary'!E:E,\"PUNTA OVER\")","v":0},{"$f":"COUNTIFS('Daily Diary'!A:A,'Grafico Strategie Settimanali'!B203,'Daily Diary'!E:E,\"PUNTA UNDER\")","v":0},{"$f":"COUNTIFS('Daily Diary'!A:A,'Grafico Strategie Settimanali'!B203,'Daily Diary'!E:E,\"SCALPING\")","v":0},{"$f":"COUNTIFS('Daily Diary'!A:A,'Grafico Strategie Settimanali'!B203,'Daily Diary'!E:E,\"GT90\")","v":0},{"$f":"COUNTIFS('Daily Diary'!A:A,'Grafico Strategie Settimanali'!B203,'Daily Diary'!E:E,\"GT110\")","v":0},{"$f":"COUNTIFS('Daily Diary'!A:A,'Grafico Strategie Settimanali'!B203,'Daily Diary'!E:E,\"ALERT GOAL\")","v":0},{"$f":"COUNTIFS('Daily Diary'!A:A,'Grafico Strategie Settimanali'!B203,'Daily Diary'!E:E,\"DRAW NO BET\")","v":0},{"$f":"COUNTIFS('Daily Diary'!A:A,'Grafico Strategie Settimanali'!B203,'Daily Diary'!E:E,\"ALTRO\")","v":0},{"$f":"COUNTIFS('Daily Diary'!A:A,'Grafico Strategie Settimanali'!B203,'Daily Diary'!E:E,\"BANCA PAREGGIO\",'Daily Diary'!E:E,\"BANCA PAREGGIO\",'Daily Diary'!K:K,\"WIN\")","v":0},{"$f":"COUNTIFS('Daily Diary'!A:A,'Grafico Strategie Settimanali'!B203,'Daily Diary'!E:E,\"PUNTA SQ.CASA\",'Daily Diary'!E:E,\"PUNTA SQ.CASA\",'Daily Diary'!K:K,\"WIN\")","v":0},{"$f":"COUNTIFS('Daily Diary'!A:A,'Grafico Strategie Settimanali'!B203,'Daily Diary'!E:E,\"PUNTA SQ.OSPITE\",'Daily Diary'!E:E,\"PUNTA SQ.OSPITE\",'Daily Diary'!K:K,\"WIN\")","v":0},{"$f":"COUNTIFS('Daily Diary'!A:A,'Grafico Strategie Settimanali'!B203,'Daily Diary'!E:E,\"BANCA SFAVORITA\",'Daily Diary'!E:E,\"BANCA SFAVORITA\",'Daily Diary'!K:K,\"WIN\")","v":0},{"$f":"COUNTIFS('Daily Diary'!A:A,'Grafico Strategie Settimanali'!B203,'Daily Diary'!E:E,\"PUNTA OVER\",'Daily Diary'!E:E,\"PUNTA OVER\",'Daily Diary'!K:K,\"WIN\")","v":0},{"$f":"COUNTIFS('Daily Diary'!A:A,'Grafico Strategie Settimanali'!B203,'Daily Diary'!E:E,\"PUNTA UNDER\",'Daily Diary'!E:E,\"PUNTA UNDER\",'Daily Diary'!K:K,\"WIN\")","v":0},{"$f":"COUNTIFS('Daily Diary'!A:A,'Grafico Strategie Settimanali'!B203,'Daily Diary'!E:E,\"SCALPING\",'Daily Diary'!E:E,\"SCALPING\",'Daily Diary'!K:K,\"WIN\")","v":0},{"$f":"COUNTIFS('Daily Diary'!A:A,'Grafico Strategie Settimanali'!B203,'Daily Diary'!E:E,\"GT 90\",'Daily Diary'!E:E,\"GT 90\",'Daily Diary'!K:K,\"WIN\")","v":0},{"$f":"COUNTIFS('Daily Diary'!A:A,'Grafico Strategie Settimanali'!B203,'Daily Diary'!E:E,\"GT 110\",'Daily Diary'!E:E,\"GT 110\",'Daily Diary'!K:K,\"WIN\")","v":0},{"$f":"COUNTIFS('Daily Diary'!A:A,'Grafico Strategie Settimanali'!B203,'Daily Diary'!E:E,\"ALERT GOAL\",'Daily Diary'!E:E,\"ALERT GOAL\",'Daily Diary'!K:K,\"WIN\")","v":0},{"$f":"COUNTIFS('Daily Diary'!A:A,'Grafico Strategie Settimanali'!B203,'Daily Diary'!E:E,\"DRAW NO BET\",'Daily Diary'!E:E,\"DRAW NO BET\",'Daily Diary'!K:K,\"WIN\")","v":0},{"$f":"COUNTIFS('Daily Diary'!A:A,'Grafico Strategie Settimanali'!B203,'Daily Diary'!E:E,\"ALTRO\",'Daily Diary'!E:E,\"ALTRO\",'Daily Diary'!K:K,\"WIN\")","v":0},{"$error":"#DIV/0!"},{"$error":"#DIV/0!"},{"$error":"#DIV/0!"},{"$error":"#DIV/0!"},{"$error":"#DIV/0!"},{"$error":"#DIV/0!"},{"$error":"#DIV/0!"},{"$error":"#DIV/0!"},{"$error":"#DIV/0!"},{"$error":"#DIV/0!"},{"$error":"#DIV/0!"},{"$error":"#DIV/0!"}]
[0,"2023-11-22",{"$f":"COUNTIFS('Daily Diary'!A:A,'Grafico Strategie Settimanali'!B204,'Daily Diary'!E:E,\"BANCA PAREGGIO\")","v":0},{"$f":"COUNTIFS('Daily Diary'!A:A,'Grafico Strategie Settimanali'!B204,'Daily Diary'!E:E,\"PUNTA SQ.CASA\")","v":0},{"$f":"COUNTIFS('Daily Diary'!A:A,'Grafico Strategie Settimanali'!B204,'Daily Diary'!E:E,\"PUNTA SQ.OSPITE\")","v":0},{"$f":"COUNTIFS('Daily Diary'!A:A,'Grafico Strategie Settimanali'!B204,'Daily Diary'!E:E,\"BANCA SFAVORITA\")","v":0},{"$f":"COUNTIFS('Daily Diary'!A:A,'Grafico Strategie Settimanali'!B204,'Daily Diary'!E:E,\"PUNTA OVER\")","v":0},{"$f":"COUNTIFS('Daily Diary'!A:A,'Grafico Strategie Settimanali'!B204,'Daily Diary'!E:E,\"PUNTA UNDER\")","v":0},{"$f":"COUNTIFS('Daily Diary'!A:A,'Grafico Strategie Settimanali'!B204,'Daily Diary'!E:E,\"SCALPING\")","v":0},{"$f":"COUNTIFS('Daily Diary'!A:A,'Grafico Strategie Settimanali'!B204,'Daily Diary'!E:E,\"GT90\")","v":0},{"$f":"COUNTIFS('Daily Diary'!A:A,'Grafico Strategie Settimanali'!B204,'Daily Diary'!E:E,\"GT110\")","v":0},{"$f":"COUNTIFS('Daily Diary'!A:A,'Grafico Strategie Settimanali'!B204,'Daily Diary'!E:E,\"ALERT GOAL\")","v":0},{"$f":"COUNTIFS('Daily Diary'!A:A,'Grafico Strategie Settimanali'!B204,'Daily Diary'!E:E,\"DRAW NO BET\")","v":0},{"$f":"COUNTIFS('Daily Diary'!A:A,'Grafico Strategie Settimanali'!B204,'Daily Diary'!E:E,\"ALTRO\")","v":0},{"$f":"COUNTIFS('Daily Diary'!A:A,'Grafico Strategie Settimanali'!B204,'Daily Diary'!E:E,\"BANCA PAREGGIO\",'Daily Diary'!E:E,\"BANCA PAREGGIO\",'Daily Diary'!K:K,\"WIN\")","v":0},{"$f":"COUNTIFS('Daily Diary'!A:A,'Grafico Strategie Settimanali'!B204,'Daily Diary'!E:E,\"PUNTA SQ.CASA\",'Daily Diary'!E:E,\"PUNTA SQ.CASA\",'Daily Diary'!K:K,\"WIN\")","v":0},{"$f":"COUNTIFS('Daily Diary'!A:A,'Grafico Strategie Settimanali'!B204,'Daily Diary'!E:E,\"PUNTA SQ.OSPITE\",'Daily Diary'!E:E,\"PUNTA SQ.OSPITE\",'Daily Diary'!K:K,\"WIN\")","v":0},{"$f":"COUNTIFS('Daily Diary'!A:A,'Grafico Strategie Settimanali'!B204,'Daily Diary'!E:E,\"BANCA SFAVORITA\",'Daily Diary'!E:E,\"BANCA SFAVORITA\",'Daily Diary'!K:K,\"WIN\")","v":0},{"$f":"COUNTIFS('Daily Diary'!A:A,'Grafico Strategie Settimanali'!B204,'Daily Diary'!E:E,\"PUNTA OVER\",'Daily Diary'!E:E,\"PUNTA OVER\",'Daily Diary'!K:K,\"WIN\")","v":0},{"$f":"COUNTIFS('Daily Diary'!A:A,'Grafico Strategie Settimanali'!B204,'Daily Diary'!E:E,\"PUNTA UNDER\",'Daily Diary'!E:E,\"PUNTA UNDER\",'Daily Diary'!K:K,\"WIN\")","v":0},{"$f":"COUNTIFS('Daily Diary'!A:A,'Grafico Strategie Settimanali'!B204,'Daily Diary'!E:E,\"SCALPING\",'Daily Diary'!E:E,\"SCALPING\",'Daily Diary'!K:K,\"WIN\")","v":0},{"$f":"COUNTIFS('Daily Diary'!A:A,'Grafico Strategie Settimanali'!B204,'Daily Diary'!E:E,\"GT 90\",'Daily Diary'!E:E,\"GT 90\",'Daily Diary'!K:K,\"WIN\")","v":0},{"$f":"COUNTIFS('Daily Diary'!A:A,'Grafico Strategie Settimanali'!B204,'Daily Diary'!E:E,\"GT 110\",'Daily Diary'!E:E,\"GT 110\",'Daily Diary'!K:K,\"WIN\")","v":0},{"$f":"COUNTIFS('Daily Diary'!A:A,'Grafico Strategie Settimanali'!B204,'Daily Diary'!E:E,\"ALERT GOAL\",'Daily Diary'!E:E,\"ALERT GOAL\",'Daily Diary'!K:K,\"WIN\")","v":0},{"$f":"COUNTIFS('Daily Diary'!A:A,'Grafico Strategie Settimanali'!B204,'Daily Diary'!E:E,\"DRAW NO BET\",'Daily Diary'!E:E,\"DRAW NO BET\",'Daily Diary'!K:K,\"WIN\")","v":0},{"$f":"COUNTIFS('Daily Diary'!A:A,'Grafico Strategie Settimanali'!B204,'Daily Diary'!E:E,\"ALTRO\",'Daily Diary'!E:E,\"ALTRO\",'Daily Diary'!K:K,\"WIN\")","v":0},{"$error":"#DIV/0!"},{"$error":"#DIV/0!"},{"$error":"#DIV/0!"},{"$error":"#DIV/0!"},{"$error":"#DIV/0!"},{"$error":"#DIV/0!"},{"$error":"#DIV/0!"},{"$error":"#DIV/0!"},{"$error":"#DIV/0!"},{"$error":"#DIV/0!"},{"$error":"#DIV/0!"},{"$error":"#DIV/0!"}]
[0,"2023-11-23",{"$f":"COUNTIFS('Daily Diary'!A:A,'Grafico Strategie Settimanali'!B205,'Daily Diary'!E:E,\"BANCA PAREGGIO\")","v":0},{"$f":"COUNTIFS('Daily Diary'!A:A,'Grafico Strategie Settimanali'!B205,'Daily Diary'!E:E,\"PUNTA SQ.CASA\")","v":0},{"$f":"COUNTIFS('Daily Diary'!A:A,'Grafico Strategie Settimanali'!B205,'Daily Diary'!E:E,\"PUNTA SQ.OSPITE\")","v":0},{"$f":"COUNTIFS('Daily Diary'!A:A,'Grafico Strategie Settimanali'!B205,'Daily Diary'!E:E,\"BANCA SFAVORITA\")","v":0},{"$f":"COUNTIFS('Daily Diary'!A:A,'Grafico Strategie Settimanali'!B205,'Daily Diary'!E:E,\"PUNTA OVER\")","v":0},{"$f":"COUNTIFS('Daily Diary'!A:A,'Grafico Strategie Settimanali'!B205,'Daily Diary'!E:E,\"PUNTA UNDER\")","v":0},{"$f":"COUNTIFS('Daily Diary'!A:A,'Grafico Strategie Settimanali'!B205,'Daily Diary'!E:E,\"SCALPING\")","v":0},{"$f":"COUNTIFS('Daily Diary'!A:A,'Grafico Strategie Settimanali'!B205,'Daily Diary'!E:E,\"GT90\")","v":0},{"$f":"COUNTIFS('Daily Diary'!A:A,'Grafico Strategie Settimanali'!B205,'Daily Diary'!E:E,\"GT110\")","v":0},{"$f":"COUNTIFS('Daily Diary'!A:A,'Grafico Strategie Settimanali'!B205,'Daily Diary'!E:E,\"ALERT GOAL\")","v":0},{"$f":"COUNTIFS('Daily Diary'!A:A,'Grafico Strategie Settimanali'!B205,'Daily Diary'!E:E,\"DRAW NO BET\")","v":0},{"$f":"COUNTIFS('Daily Diary'!A:A,'Grafico Strategie Settimanali'!B205,'Daily Diary'!E:E,\"ALTRO\")","v":0},{"$f":"COUNTIFS('Daily Diary'!A:A,'Grafico Strategie Settimanali'!B205,'Daily Diary'!E:E,\"BANCA PAREGGIO\",'Daily Diary'!E:E,\"BANCA PAREGGIO\",'Daily Diary'!K:K,\"WIN\")","v":0},{"$f":"COUNTIFS('Daily Diary'!A:A,'Grafico Strategie Settimanali'!B205,'Daily Diary'!E:E,\"PUNTA SQ.CASA\",'Daily Diary'!E:E,\"PUNTA SQ.CASA\",'Daily Diary'!K:K,\"WIN\")","v":0},{"$f":"COUNTIFS('Daily Diary'!A:A,'Grafico Strategie Settimanali'!B205,'Daily Diary'!E:E,\"PUNTA SQ.OSPITE\",'Daily Diary'!E:E,\"PUNTA SQ.OSPITE\",'Daily Diary'!K:K,\"WIN\")","v":0},{"$f":"COUNTIFS('Daily Diary'!A:A,'Grafico Strategie Settimanali'!B205,'Daily Diary'!E:E,\"BANCA SFAVORITA\",'Daily Diary'!E:E,\"BANCA SFAVORITA\",'Daily Diary'!K:K,\"WIN\")","v":0},{"$f":"COUNTIFS('Daily Diary'!A:A,'Grafico Strategie Settimanali'!B205,'Daily Diary'!E:E,\"PUNTA OVER\",'Daily Diary'!E:E,\"PUNTA OVER\",'Daily Diary'!K:K,\"WIN\")","v":0},{"$f":"COUNTIFS('Daily Diary'!A:A,'Grafico Strategie Settimanali'!B205,'Daily Diary'!E:E,\"PUNTA UNDER\",'Daily Diary'!E:E,\"PUNTA UNDER\",'Daily Diary'!K:K,\"WIN\")","v":0},{"$f":"COUNTIFS('Daily Diary'!A:A,'Grafico Strategie Settimanali'!B205,'Daily Diary'!E:E,\"SCALPING\",'Daily Diary'!E:E,\"SCALPING\",'Daily Diary'!K:K,\"WIN\")","v":0},{"$f":"COUNTIFS('Daily Diary'!A:A,'Grafico Strategie Settimanali'!B205,'Daily Diary'!E:E,\"GT 90\",'Daily Diary'!E:E,\"GT 90\",'Daily Diary'!K:K,\"WIN\")","v":0},{"$f":"COUNTIFS('Daily Diary'!A:A,'Grafico Strategie Settimanali'!B205,'Daily Diary'!E:E,\"GT 110\",'Daily Diary'!E:E,\"GT 110\",'Daily Diary'!K:K,\"WIN\")","v":0},{"$f":"COUNTIFS('Daily Diary'!A:A,'Grafico Strategie Settimanali'!B205,'Daily Diary'!E:E,\"ALERT GOAL\",'Daily Diary'!E:E,\"ALERT GOAL\",'Daily Diary'!K:K,\"WIN\")","v":0},{"$f":"COUNTIFS('Daily Diary'!A:A,'Grafico Strategie Settimanali'!B205,'Daily Diary'!E:E,\"DRAW NO BET\",'Daily Diary'!E:E,\"DRAW NO BET\",'Daily Diary'!K:K,\"WIN\")","v":0},{"$f":"COUNTIFS('Daily Diary'!A:A,'Grafico Strategie Settimanali'!B205,'Daily Diary'!E:E,\"ALTRO\",'Daily Diary'!E:E,\"ALTRO\",'Daily Diary'!K:K,\"WIN\")","v":0},{"$error":"#DIV/0!"},{"$error":"#DIV/0!"},{"$error":"#DIV/0!"},{"$error":"#DIV/0!"},{"$error":"#DIV/0!"},{"$error":"#DIV/0!"},{"$error":"#DIV/0!"},{"$error":"#DIV/0!"},{"$error":"#DIV/0!"},{"$error":"#DIV/0!"},{"$error":"#DIV/0!"},{"$error":"#DIV/0!"}]
[0,"2023-11-24",{"$f":"COUNTIFS('Daily Diary'!A:A,'Grafico Strategie Settimanali'!B206,'Daily Diary'!E:E,\"BANCA PAREGGIO\")","v":0},{"$f":"COUNTIFS('Daily Diary'!A:A,'Grafico Strategie Settimanali'!B206,'Daily Diary'!E:E,\"PUNTA SQ.CASA\")","v":0},{"$f":"COUNTIFS('Daily Diary'!A:A,'Grafico Strategie Settimanali'!B206,'Daily Diary'!E:E,\"PUNTA SQ.OSPITE\")","v":0},{"$f":"COUNTIFS('Daily Diary'!A:A,'Grafico Strategie Settimanali'!B206,'Daily Diary'!E:E,\"BANCA SFAVORITA\")","v":0},{"$f":"COUNTIFS('Daily Diary'!A:A,'Grafico Strategie Settimanali'!B206,'Daily Diary'!E:E,\"PUNTA OVER\")","v":0},{"$f":"COUNTIFS('Daily Diary'!A:A,'Grafico Strategie Settimanali'!B206,'Daily Diary'!E:E,\"PUNTA UNDER\")","v":0},{"$f":"COUNTIFS('Daily Diary'!A:A,'Grafico Strategie Settimanali'!B206,'Daily Diary'!E:E,\"SCALPING\")","v":0},{"$f":"COUNTIFS('Daily Diary'!A:A,'Grafico Strategie Settimanali'!B206,'Daily Diary'!E:E,\"GT90\")","v":0},{"$f":"COUNTIFS('Daily Diary'!A:A,'Grafico Strategie Settimanali'!B206,'Daily Diary'!E:E,\"GT110\")","v":0},{"$f":"COUNTIFS('Daily Diary'!A:A,'Grafico Strategie Settimanali'!B206,'Daily Diary'!E:E,\"ALERT GOAL\")","v":0},{"$f":"COUNTIFS('Daily Diary'!A:A,'Grafico Strategie Settimanali'!B206,'Daily Diary'!E:E,\"DRAW NO BET\")","v":0},{"$f":"COUNTIFS('Daily Diary'!A:A,'Grafico Strategie Settimanali'!B206,'Daily Diary'!E:E,\"ALTRO\")","v":0},{"$f":"COUNTIFS('Daily Diary'!A:A,'Grafico Strategie Settimanali'!B206,'Daily Diary'!E:E,\"BANCA PAREGGIO\",'Daily Diary'!E:E,\"BANCA PAREGGIO\",'Daily Diary'!K:K,\"WIN\")","v":0},{"$f":"COUNTIFS('Daily Diary'!A:A,'Grafico Strategie Settimanali'!B206,'Daily Diary'!E:E,\"PUNTA SQ.CASA\",'Daily Diary'!E:E,\"PUNTA SQ.CASA\",'Daily Diary'!K:K,\"WIN\")","v":0},{"$f":"COUNTIFS('Daily Diary'!A:A,'Grafico Strategie Settimanali'!B206,'Daily Diary'!E:E,\"PUNTA SQ.OSPITE\",'Daily Diary'!E:E,\"PUNTA SQ.OSPITE\",'Daily Diary'!K:K,\"WIN\")","v":0},{"$f":"COUNTIFS('Daily Diary'!A:A,'Grafico Strategie Settimanali'!B206,'Daily Diary'!E:E,\"BANCA SFAVORITA\",'Daily Diary'!E:E,\"BANCA SFAVORITA\",'Daily Diary'!K:K,\"WIN\")","v":0},{"$f":"COUNTIFS('Daily Diary'!A:A,'Grafico Strategie Settimanali'!B206,'Daily Diary'!E:E,\"PUNTA OVER\",'Daily Diary'!E:E,\"PUNTA OVER\",'Daily Diary'!K:K,\"WIN\")","v":0},{"$f":"COUNTIFS('Daily Diary'!A:A,'Grafico Strategie Settimanali'!B206,'Daily Diary'!E:E,\"PUNTA UNDER\",'Daily Diary'!E:E,\"PUNTA UNDER\",'Daily Diary'!K:K,\"WIN\")","v":0},{"$f":"COUNTIFS('Daily Diary'!A:A,'Grafico Strategie Settimanali'!B206,'Daily Diary'!E:E,\"SCALPING\",'Daily Diary'!E:E,\"SCALPING\",'Daily Diary'!K:K,\"WIN\")","v":0},{"$f":"COUNTIFS('Daily Diary'!A:A,'Grafico Strategie Settimanali'!B206,'Daily Diary'!E:E,\"GT 90\",'Daily Diary'!E:E,\"GT 90\",'Daily Diary'!K:K,\"WIN\")","v":0},{"$f":"COUNTIFS('Daily Diary'!A:A,'Grafico Strategie Settimanali'!B206,'Daily Diary'!E:E,\"GT 110\",'Daily Diary'!E:E,\"GT 110\",'Daily Diary'!K:K,\"WIN\")","v":0},{"$f":"COUNTIFS('Daily Diary'!A:A,'Grafico Strategie Settimanali'!B206,'Daily Diary'!E:E,\"ALERT GOAL\",'Daily Diary'!E:E,\"ALERT GOAL\",'Daily Diary'!K:K,\"WIN\")","v":0},{"$f":"COUNTIFS('Daily Diary'!A:A,'Grafico Strategie Settimanali'!B206,'Daily Diary'!E:E,\"DRAW NO BET\",'Daily Diary'!E:E,\"DRAW NO BET\",'Daily Diary'!K:K,\"WIN\")","v":0},{"$f":"COUNTIFS('Daily Diary'!A:A,'Grafico Strategie Settimanali'!B206,'Daily Diary'!E:E,\"ALTRO\",'Daily Diary'!E:E,\"ALTRO\",'Daily Diary'!K:K,\"WIN\")","v":0},{"$f":"O206/C206","v":{"$error":"#DIV/0!"}},{"$f":"P206/D206","v":{"$error":"#DIV/0!"}},{"$error":"#DIV/0!"},{"$error":"#DIV/0!"},{"$error":"#DIV/0!"},{"$f":"T206/H206","v":{"$error":"#DIV/0!"}},{"$error":"#DIV/0!"},{"$error":"#DIV/0!"},{"$error":"#DIV/0!"},{"$error":"#DIV/0!"},{"$error":"#DIV/0!"},{"$error":"#DIV/0!"}]
[{"$f":"SUM(C207:N207)","v":0},{"$f":"B206+1","v":"2023-11-25"},{"$f":"COUNTIFS('Daily Diary'!A:A,'Grafico Strategie Settimanali'!B207,'Daily Diary'!E:E,\"BANCA PAREGGIO\")","v":0},{"$f":"COUNTIFS('Daily Diary'!A:A,'Grafico Strategie Settimanali'!B207,'Daily Diary'!E:E,\"PUNTA SQ.CASA\")","v":0},{"$f":"COUNTIFS('Daily Diary'!A:A,'Grafico Strategie Settimanali'!B207,'Daily Diary'!E:E,\"PUNTA SQ.OSPITE\")","v":0},{"$f":"COUNTIFS('Daily Diary'!A:A,'Grafico Strategie Settimanali'!B207,'Daily Diary'!E:E,\"BANCA SFAVORITA\")","v":0},{"$f":"COUNTIFS('Daily Diary'!A:A,'Grafico Strategie Settimanali'!B207,'Daily Diary'!E:E,\"PUNTA OVER\")","v":0},{"$f":"COUNTIFS('Daily Diary'!A:A,'Grafico Strategie Settimanali'!B207,'Daily Diary'!E:E,\"PUNTA UNDER\")","v":0},{"$f":"COUNTIFS('Daily Diary'!A:A,'Grafico Strategie Settimanali'!B207,'Daily Diary'!E:E,\"SCALPING\")","v":0},{"$f":"COUNTIFS('Daily Diary'!A:A,'Grafico Strategie Settimanali'!B207,'Daily Diary'!E:E,\"GT90\")","v":0},{"$f":"COUNTIFS('Daily Diary'!A:A,'Grafico Strategie Settimanali'!B207,'Daily Diary'!E:E,\"GT110\")","v":0},{"$f":"COUNTIFS('Daily Diary'!A:A,'Grafico Strategie Settimanali'!B207,'Daily Diary'!E:E,\"ALERT GOAL\")","v":0},{"$f":"COUNTIFS('Daily Diary'!A:A,'Grafico Strategie Settimanali'!B207,'Daily Diary'!E:E,\"DRAW NO BET\")","v":0},{"$f":"COUNTIFS('Daily Diary'!A:A,'Grafico Strategie Settimanali'!B207,'Daily Diary'!E:E,\"ALTRO\")","v":0},{"$f":"COUNTIFS('Daily Diary'!A:A,'Grafico Strategie Settimanali'!B207,'Daily Diary'!E:E,\"BANCA PAREGGIO\",'Daily Diary'!E:E,\"BANCA PAREGGIO\",'Daily Diary'!K:K,\"WIN\")","v":0},{"$f":"COUNTIFS('Daily Diary'!A:A,'Grafico Strategie Settimanali'!B207,'Daily Diary'!E:E,\"PUNTA SQ.CASA\",'Daily Diary'!E:E,\"PUNTA SQ.CASA\",'Daily Diary'!K:K,\"WIN\")","v":0},{"$f":"COUNTIFS('Daily Diary'!A:A,'Grafico Strategie Settimanali'!B207,'Daily Diary'!E:E,\"PUNTA SQ.OSPITE\",'Daily Diary'!E:E,\"PUNTA SQ.OSPITE\",'Daily Diary'!K:K,\"WIN\")","v":0},{"$f":"COUNTIFS('Daily Diary'!A:A,'Grafico Strategie Settimanali'!B207,'Daily Diary'!E:E,\"BANCA SFAVORITA\",'Daily Diary'!E:E,\"BANCA SFAVORITA\",'Daily Diary'!K:K,\"WIN\")","v":0},{"$f":"COUNTIFS('Daily Diary'!A:A,'Grafico Strategie Settimanali'!B207,'Daily Diary'!E:E,\"PUNTA OVER\",'Daily Diary'!E:E,\"PUNTA OVER\",'Daily Diary'!K:K,\"WIN\")","v":0},{"$f":"COUNTIFS('Daily Diary'!A:A,'Grafico Strategie Settimanali'!B207,'Daily Diary'!E:E,\"PUNTA UNDER\",'Daily Diary'!E:E,\"PUNTA UNDER\",'Daily Diary'!K:K,\"WIN\")","v":0},{"$f":"COUNTIFS('Daily Diary'!A:A,'Grafico Strategie Settimanali'!B207,'Daily Diary'!E:E,\"SCALPING\",'Daily Diary'!E:E,\"SCALPING\",'Daily Diary'!K:K,\"WIN\")","v":0},{"$f":"COUNTIFS('Daily Diary'!A:A,'Grafico Strategie Settimanali'!B207,'Daily Diary'!E:E,\"GT 90\",'Daily Diary'!E:E,\"GT 90\",'Daily Diary'!K:K,\"WIN\")","v":0},{"$f":"COUNTIFS('Daily Diary'!A:A,'Grafico Strategie Settimanali'!B207,'Daily Diary'!E:E,\"GT 110\",'Daily Diary'!E:E,\"GT 110\",'Daily Diary'!K:K,\"WIN\")","v":0},{"$f":"COUNTIFS('Daily Diary'!A:A,'Grafico Strategie Settimanali'!B207,'Daily Diary'!E:E,\"ALERT GOAL\",'Daily Diary'!E:E,\"ALERT GOAL\",'Daily Diary'!K:K,\"WIN\")","v":0},{"$f":"COUNTIFS('Daily Diary'!A:A,'Grafico Strategie Settimanali'!B207,'Daily Diary'!E:E,\"DRAW NO BET\",'Daily Diary'!E:E,\"DRAW NO BET\",'Daily Diary'!K:K,\"WIN\")","v":0},{"$f":"COUNTIFS('Daily Diary'!A:A,'Grafico Strategie Settimanali'!B207,'Daily Diary'!E:E,\"ALTRO\",'Daily Diary'!E:E,\"ALTRO\",'Daily Diary'!K:K,\"WIN\")","v":0},{"$error":"#DIV/0!"},{"$error":"#DIV/0!"},{"$error":"#DIV/0!"},{"$error":"#DIV/0!"},{"$error":"#DIV/0!"},{"$error":"#DIV/0!"},{"$error":"#DIV/0!"},{"$error":"#DIV/0!"},{"$error":"#DIV/0!"},{"$error":"#DIV/0!"},{"$error":"#DIV/0!"},{"$error":"#DIV/0!"}]
[0,"2023-11-26",{"$f":"COUNTIFS('Daily Diary'!A:A,'Grafico Strategie Settimanali'!B208,'Daily Diary'!E:E,\"BANCA PAREGGIO\")","v":0},{"$f":"COUNTIFS('Daily Diary'!A:A,'Grafico Strategie Settimanali'!B208,'Daily Diary'!E:E,\"PUNTA SQ.CASA\")","v":0},{"$f":"COUNTIFS('Daily Diary'!A:A,'Grafico Strategie Settimanali'!B208,'Daily Diary'!E:E,\"PUNTA SQ.OSPITE\")","v":0},{"$f":"COUNTIFS('Daily Diary'!A:A,'Grafico Strategie Settimanali'!B208,'Daily Diary'!E:E,\"BANCA SFAVORITA\")","v":0},{"$f":"COUNTIFS('Daily Diary'!A:A,'Grafico Strategie Settimanali'!B208,'Daily Diary'!E:E,\"PUNTA OVER\")","v":0},{"$f":"COUNTIFS('Daily Diary'!A:A,'Grafico Strategie Settimanali'!B208,'Daily Diary'!E:E,\"PUNTA UNDER\")","v":0},{"$f":"COUNTIFS('Daily Diary'!A:A,'Grafico Strategie Settimanali'!B208,'Daily Diary'!E:E,\"SCALPING\")","v":0},{"$f":"COUNTIFS('Daily Diary'!A:A,'Grafico Strategie Settimanali'!B208,'Daily Diary'!E:E,\"GT90\")","v":0},{"$f":"COUNTIFS('Daily Diary'!A:A,'Grafico Strategie Settimanali'!B208,'Daily Diary'!E:E,\"GT110\")","v":0},{"$f":"COUNTIFS('Daily Diary'!A:A,'Grafico Strategie Settimanali'!B208,'Daily Diary'!E:E,\"ALERT GOAL\")","v":0},{"$f":"COUNTIFS('Daily Diary'!A:A,'Grafico Strategie Settimanali'!B208,'Daily Diary'!E:E,\"DRAW NO BET\")","v":0},{"$f":"COUNTIFS('Daily Diary'!A:A,'Grafico Strategie Settimanali'!B208,'Daily Diary'!E:E,\"ALTRO\")","v":0},{"$f":"COUNTIFS('Daily Diary'!A:A,'Grafico Strategie Settimanali'!B208,'Daily Diary'!E:E,\"BANCA PAREGGIO\",'Daily Diary'!E:E,\"BANCA PAREGGIO\",'Daily Diary'!K:K,\"WIN\")","v":0},{"$f":"COUNTIFS('Daily Diary'!A:A,'Grafico Strategie Settimanali'!B208,'Daily Diary'!E:E,\"PUNTA SQ.CASA\",'Daily Diary'!E:E,\"PUNTA SQ.CASA\",'Daily Diary'!K:K,\"WIN\")","v":0},{"$f":"COUNTIFS('Daily Diary'!A:A,'Grafico Strategie Settimanali'!B208,'Daily Diary'!E:E,\"PUNTA SQ.OSPITE\",'Daily Diary'!E:E,\"PUNTA SQ.OSPITE\",'Daily Diary'!K:K,\"WIN\")","v":0},{"$f":"COUNTIFS('Daily Diary'!A:A,'Grafico Strategie Settimanali'!B208,'Daily Diary'!E:E,\"BANCA SFAVORITA\",'Daily Diary'!E:E,\"BANCA SFAVORITA\",'Daily Diary'!K:K,\"WIN\")","v":0},{"$f":"COUNTIFS('Daily Diary'!A:A,'Grafico Strategie Settimanali'!B208,'Daily Diary'!E:E,\"PUNTA OVER\",'Daily Diary'!E:E,\"PUNTA OVER\",'Daily Diary'!K:K,\"WIN\")","v":0},{"$f":"COUNTIFS('Daily Diary'!A:A,'Grafico Strategie Settimanali'!B208,'Daily Diary'!E:E,\"PUNTA UNDER\",'Daily Diary'!E:E,\"PUNTA UNDER\",'Daily Diary'!K:K,\"WIN\")","v":0},{"$f":"COUNTIFS('Daily Diary'!A:A,'Grafico Strategie Settimanali'!B208,'Daily Diary'!E:E,\"SCALPING\",'Daily Diary'!E:E,\"SCALPING\",'Daily Diary'!K:K,\"WIN\")","v":0},{"$f":"COUNTIFS('Daily Diary'!A:A,'Grafico Strategie Settimanali'!B208,'Daily Diary'!E:E,\"GT 90\",'Daily Diary'!E:E,\"GT 90\",'Daily Diary'!K:K,\"WIN\")","v":0},{"$f":"COUNTIFS('Daily Diary'!A:A,'Grafico Strategie Settimanali'!B208,'Daily Diary'!E:E,\"GT 110\",'Daily Diary'!E:E,\"GT 110\",'Daily Diary'!K:K,\"WIN\")","v":0},{"$f":"COUNTIFS('Daily Diary'!A:A,'Grafico Strategie Settimanali'!B208,'Daily Diary'!E:E,\"ALERT GOAL\",'Daily Diary'!E:E,\"ALERT GOAL\",'Daily Diary'!K:K,\"WIN\")","v":0},{"$f":"COUNTIFS('Daily Diary'!A:A,'Grafico Strategie Settimanali'!B208,'Daily Diary'!E:E,\"DRAW NO BET\",'Daily Diary'!E:E,\"DRAW NO BET\",'Daily Diary'!K:K,\"WIN\")","v":0},{"$f":"COUNTIFS('Daily Diary'!A:A,'Grafico Strategie Settimanali'!B208,'Daily Diary'!E:E,\"ALTRO\",'Daily Diary'!E:E,\"ALTRO\",'Daily Diary'!K:K,\"WIN\")","v":0},{"$error":"#DIV/0!"},{"$error":"#DIV/0!"},{"$error":"#DIV/0!"},{"$error":"#DIV/0!"},{"$error":"#DIV/0!"},{"$error":"#DIV/0!"},{"$error":"#DIV/0!"},{"$error":"#DIV/0!"},{"$error":"#DIV/0!"},{"$error":"#DIV/0!"},{"$error":"#DIV/0!"},{"$error":"#DIV/0!"}]
[0,"2023-11-27",{"$f":"COUNTIFS('Daily Diary'!A:A,'Grafico Strategie Settimanali'!B209,'Daily Diary'!E:E,\"BANCA PAREGGIO\")","v":0},{"$f":"COUNTIFS('Daily Diary'!A:A,'Grafico Strategie Settimanali'!B209,'Daily Diary'!E:E,\"PUNTA SQ.CASA\")","v":0},{"$f":"COUNTIFS('Daily Diary'!A:A,'Grafico Strategie Settimanali'!B209,'Daily Diary'!E:E,\"PUNTA SQ.OSPITE\")","v":0},{"$f":"COUNTIFS('Daily Diary'!A:A,'Grafico Strategie Settimanali'!B209,'Daily Diary'!E:E,\"BANCA SFAVORITA\")","v":0},{"$f":"COUNTIFS('Daily Diary'!A:A,'Grafico Strategie Settimanali'!B209,'Daily Diary'!E:E,\"PUNTA OVER\")","v":0},{"$f":"COUNTIFS('Daily Diary'!A:A,'Grafico Strategie Settimanali'!B209,'Daily Diary'!E:E,\"PUNTA UNDER\")","v":0},{"$f":"COUNTIFS('Daily Diary'!A:A,'Grafico Strategie Settimanali'!B209,'Daily Diary'!E:E,\"SCALPING\")","v":0},{"$f":"COUNTIFS('Daily Diary'!A:A,'Grafico Strategie Settimanali'!B209,'Daily Diary'!E:E,\"GT90\")","v":0},{"$f":"COUNTIFS('Daily Diary'!A:A,'Grafico Strategie Settimanali'!B209,'Daily Diary'!E:E,\"GT110\")","v":0},{"$f":"COUNTIFS('Daily Diary'!A:A,'Grafico Strategie Settimanali'!B209,'Daily Diary'!E:E,\"ALERT GOAL\")","v":0},{"$f":"COUNTIFS('Daily Diary'!A:A,'Grafico Strategie Settimanali'!B209,'Daily Diary'!E:E,\"DRAW NO BET\")","v":0},{"$f":"COUNTIFS('Daily Diary'!A:A,'Grafico Strategie Settimanali'!B209,'Daily Diary'!E:E,\"ALTRO\")","v":0},{"$f":"COUNTIFS('Daily Diary'!A:A,'Grafico Strategie Settimanali'!B209,'Daily Diary'!E:E,\"BANCA PAREGGIO\",'Daily Diary'!E:E,\"BANCA PAREGGIO\",'Daily Diary'!K:K,\"WIN\")","v":0},{"$f":"COUNTIFS('Daily Diary'!A:A,'Grafico Strategie Settimanali'!B209,'Daily Diary'!E:E,\"PUNTA SQ.CASA\",'Daily Diary'!E:E,\"PUNTA SQ.CASA\",'Daily Diary'!K:K,\"WIN\")","v":0},{"$f":"COUNTIFS('Daily Diary'!A:A,'Grafico Strategie Settimanali'!B209,'Daily Diary'!E:E,\"PUNTA SQ.OSPITE\",'Daily Diary'!E:E,\"PUNTA SQ.OSPITE\",'Daily Diary'!K:K,\"WIN\")","v":0},{"$f":"COUNTIFS('Daily Diary'!A:A,'Grafico Strategie Settimanali'!B209,'Daily Diary'!E:E,\"BANCA SFAVORITA\",'Daily Diary'!E:E,\"BANCA SFAVORITA\",'Daily Diary'!K:K,\"WIN\")","v":0},{"$f":"COUNTIFS('Daily Diary'!A:A,'Grafico Strategie Settimanali'!B209,'Daily Diary'!E:E,\"PUNTA OVER\",'Daily Diary'!E:E,\"PUNTA OVER\",'Daily Diary'!K:K,\"WIN\")","v":0},{"$f":"COUNTIFS('Daily Diary'!A:A,'Grafico Strategie Settimanali'!B209,'Daily Diary'!E:E,\"PUNTA UNDER\",'Daily Diary'!E:E,\"PUNTA UNDER\",'Daily Diary'!K:K,\"WIN\")","v":0},{"$f":"COUNTIFS('Daily Diary'!A:A,'Grafico Strategie Settimanali'!B209,'Daily Diary'!E:E,\"SCALPING\",'Daily Diary'!E:E,\"SCALPING\",'Daily Diary'!K:K,\"WIN\")","v":0},{"$f":"COUNTIFS('Daily Diary'!A:A,'Grafico Strategie Settimanali'!B209,'Daily Diary'!E:E,\"GT 90\",'Daily Diary'!E:E,\"GT 90\",'Daily Diary'!K:K,\"WIN\")","v":0},{"$f":"COUNTIFS('Daily Diary'!A:A,'Grafico Strategie Settimanali'!B209,'Daily Diary'!E:E,\"GT 110\",'Daily Diary'!E:E,\"GT 110\",'Daily Diary'!K:K,\"WIN\")","v":0},{"$f":"COUNTIFS('Daily Diary'!A:A,'Grafico Strategie Settimanali'!B209,'Daily Diary'!E:E,\"ALERT GOAL\",'Daily Diary'!E:E,\"ALERT GOAL\",'Daily Diary'!K:K,\"WIN\")","v":0},{"$f":"COUNTIFS('Daily Diary'!A:A,'Grafico Strategie Settimanali'!B209,'Daily Diary'!E:E,\"DRAW NO BET\",'Daily Diary'!E:E,\"DRAW NO BET\",'Daily Diary'!K:K,\"WIN\")","v":0},{"$f":"COUNTIFS('Daily Diary'!A:A,'Grafico Strategie Settimanali'!B209,'Daily Diary'!E:E,\"ALTRO\",'Daily Diary'!E:E,\"ALTRO\",'Daily Diary'!K:K,\"WIN\")","v":0},{"$error":"#DIV/0!"},{"$error":"#DIV/0!"},{"$error":"#DIV/0!"},{"$error":"#DIV/0!"},{"$error":"#DIV/0!"},{"$error":"#DIV/0!"},{"$error":"#DIV/0!"},{"$error":"#DIV/0!"},{"$error":"#DIV/0!"},{"$error":"#DIV/0!"},{"$error":"#DIV/0!"},{"$error":"#DIV/0!"}]
[0,"2023-11-28",{"$f":"COUNTIFS('Daily Diary'!A:A,'Grafico Strategie Settimanali'!B210,'Daily Diary'!E:E,\"BANCA PAREGGIO\")","v":0},{"$f":"COUNTIFS('Daily Diary'!A:A,'Grafico Strategie Settimanali'!B210,'Daily Diary'!E:E,\"PUNTA SQ.CASA\")","v":0},{"$f":"COUNTIFS('Daily Diary'!A:A,'Grafico Strategie Settimanali'!B210,'Daily Diary'!E:E,\"PUNTA SQ.OSPITE\")","v":0},{"$f":"COUNTIFS('Daily Diary'!A:A,'Grafico Strategie Settimanali'!B210,'Daily Diary'!E:E,\"BANCA SFAVORITA\")","v":0},{"$f":"COUNTIFS('Daily Diary'!A:A,'Grafico Strategie Settimanali'!B210,'Daily Diary'!E:E,\"PUNTA OVER\")","v":0},{"$f":"COUNTIFS('Daily Diary'!A:A,'Grafico Strategie Settimanali'!B210,'Daily Diary'!E:E,\"PUNTA UNDER\")","v":0},{"$f":"COUNTIFS('Daily Diary'!A:A,'Grafico Strategie Settimanali'!B210,'Daily Diary'!E:E,\"SCALPING\")","v":0},{"$f":"COUNTIFS('Daily Diary'!A:A,'Grafico Strategie Settimanali'!B210,'Daily Diary'!E:E,\"GT90\")","v":0},{"$f":"COUNTIFS('Daily Diary'!A:A,'Grafico Strategie Settimanali'!B210,'Daily Diary'!E:E,\"GT110\")","v":0},{"$f":"COUNTIFS('Daily Diary'!A:A,'Grafico Strategie Settimanali'!B210,'Daily Diary'!E:E,\"ALERT GOAL\")","v":0},{"$f":"COUNTIFS('Daily Diary'!A:A,'Grafico Strategie Settimanali'!B210,'Daily Diary'!E:E,\"DRAW NO BET\")","v":0},{"$f":"COUNTIFS('Daily Diary'!A:A,'Grafico Strategie Settimanali'!B210,'Daily Diary'!E:E,\"ALTRO\")","v":0},{"$f":"COUNTIFS('Daily Diary'!A:A,'Grafico Strategie Settimanali'!B210,'Daily Diary'!E:E,\"BANCA PAREGGIO\",'Daily Diary'!E:E,\"BANCA PAREGGIO\",'Daily Diary'!K:K,\"WIN\")","v":0},{"$f":"COUNTIFS('Daily Diary'!A:A,'Grafico Strategie Settimanali'!B210,'Daily Diary'!E:E,\"PUNTA SQ.CASA\",'Daily Diary'!E:E,\"PUNTA SQ.CASA\",'Daily Diary'!K:K,\"WIN\")","v":0},{"$f":"COUNTIFS('Daily Diary'!A:A,'Grafico Strategie Settimanali'!B210,'Daily Diary'!E:E,\"PUNTA SQ.OSPITE\",'Daily Diary'!E:E,\"PUNTA SQ.OSPITE\",'Daily Diary'!K:K,\"WIN\")","v":0},{"$f":"COUNTIFS('Daily Diary'!A:A,'Grafico Strategie Settimanali'!B210,'Daily Diary'!E:E,\"BANCA SFAVORITA\",'Daily Diary'!E:E,\"BANCA SFAVORITA\",'Daily Diary'!K:K,\"WIN\")","v":0},{"$f":"COUNTIFS('Daily Diary'!A:A,'Grafico Strategie Settimanali'!B210,'Daily Diary'!E:E,\"PUNTA OVER\",'Daily Diary'!E:E,\"PUNTA OVER\",'Daily Diary'!K:K,\"WIN\")","v":0},{"$f":"COUNTIFS('Daily Diary'!A:A,'Grafico Strategie Settimanali'!B210,'Daily Diary'!E:E,\"PUNTA UNDER\",'Daily Diary'!E:E,\"PUNTA UNDER\",'Daily Diary'!K:K,\"WIN\")","v":0},{"$f":"COUNTIFS('Daily Diary'!A:A,'Grafico Strategie Settimanali'!B210,'Daily Diary'!E:E,\"SCALPING\",'Daily Diary'!E:E,\"SCALPING\",'Daily Diary'!K:K,\"WIN\")","v":0},{"$f":"COUNTIFS('Daily Diary'!A:A,'Grafico Strategie Settimanali'!B210,'Daily Diary'!E:E,\"GT 90\",'Daily Diary'!E:E,\"GT 90\",'Daily Diary'!K:K,\"WIN\")","v":0},{"$f":"COUNTIFS('Daily Diary'!A:A,'Grafico Strategie Settimanali'!B210,'Daily Diary'!E:E,\"GT 110\",'Daily Diary'!E:E,\"GT 110\",'Daily Diary'!K:K,\"WIN\")","v":0},{"$f":"COUNTIFS('Daily Diary'!A:A,'Grafico Strategie Settimanali'!B210,'Daily Diary'!E:E,\"ALERT GOAL\",'Daily Diary'!E:E,\"ALERT GOAL\",'Daily Diary'!K:K,\"WIN\")","v":0},{"$f":"COUNTIFS('Daily Diary'!A:A,'Grafico Strategie Settimanali'!B210,'Daily Diary'!E:E,\"DRAW NO BET\",'Daily Diary'!E:E,\"DRAW NO BET\",'Daily Diary'!K:K,\"WIN\")","v":0},{"$f":"COUNTIFS('Daily Diary'!A:A,'Grafico Strategie Settimanali'!B210,'Daily Diary'!E:E,\"ALTRO\",'Daily Diary'!E:E,\"ALTRO\",'Daily Diary'!K:K,\"WIN\")","v":0},{"$error":"#DIV/0!"},{"$error":"#DIV/0!"},{"$error":"#DIV/0!"},{"$error":"#DIV/0!"},{"$error":"#DIV/0!"},{"$error":"#DIV/0!"},{"$error":"#DIV/0!"},{"$error":"#DIV/0!"},{"$error":"#DIV/0!"},{"$error":"#DIV/0!"},{"$error":"#DIV/0!"},{"$error":"#DIV/0!"}]
[0,"2023-11-29",{"$f":"COUNTIFS('Daily Diary'!A:A,'Grafico Strategie Settimanali'!B211,'Daily Diary'!E:E,\"BANCA PAREGGIO\")","v":0},{"$f":"COUNTIFS('Daily Diary'!A:A,'Grafico Strategie Settimanali'!B211,'Daily Diary'!E:E,\"PUNTA SQ.CASA\")","v":0},{"$f":"COUNTIFS('Daily Diary'!A:A,'Grafico Strategie Settimanali'!B211,'Daily Diary'!E:E,\"PUNTA SQ.OSPITE\")","v":0},{"$f":"COUNTIFS('Daily Diary'!A:A,'Grafico Strategie Settimanali'!B211,'Daily Diary'!E:E,\"BANCA SFAVORITA\")","v":0},{"$f":"COUNTIFS('Daily Diary'!A:A,'Grafico Strategie Settimanali'!B211,'Daily Diary'!E:E,\"PUNTA OVER\")","v":0},{"$f":"COUNTIFS('Daily Diary'!A:A,'Grafico Strategie Settimanali'!B211,'Daily Diary'!E:E,\"PUNTA UNDER\")","v":0},{"$f":"COUNTIFS('Daily Diary'!A:A,'Grafico Strategie Settimanali'!B211,'Daily Diary'!E:E,\"SCALPING\")","v":0},{"$f":"COUNTIFS('Daily Diary'!A:A,'Grafico Strategie Settimanali'!B211,'Daily Diary'!E:E,\"GT90\")","v":0},{"$f":"COUNTIFS('Daily Diary'!A:A,'Grafico Strategie Settimanali'!B211,'Daily Diary'!E:E,\"GT110\")","v":0},{"$f":"COUNTIFS('Daily Diary'!A:A,'Grafico Strategie Settimanali'!B211,'Daily Diary'!E:E,\"ALERT GOAL\")","v":0},{"$f":"COUNTIFS('Daily Diary'!A:A,'Grafico Strategie Settimanali'!B211,'Daily Diary'!E:E,\"DRAW NO BET\")","v":0},{"$f":"COUNTIFS('Daily Diary'!A:A,'Grafico Strategie Settimanali'!B211,'Daily Diary'!E:E,\"ALTRO\")","v":0},{"$f":"COUNTIFS('Daily Diary'!A:A,'Grafico Strategie Settimanali'!B211,'Daily Diary'!E:E,\"BANCA PAREGGIO\",'Daily Diary'!E:E,\"BANCA PAREGGIO\",'Daily Diary'!K:K,\"WIN\")","v":0},{"$f":"COUNTIFS('Daily Diary'!A:A,'Grafico Strategie Settimanali'!B211,'Daily Diary'!E:E,\"PUNTA SQ.CASA\",'Daily Diary'!E:E,\"PUNTA SQ.CASA\",'Daily Diary'!K:K,\"WIN\")","v":0},{"$f":"COUNTIFS('Daily Diary'!A:A,'Grafico Strategie Settimanali'!B211,'Daily Diary'!E:E,\"PUNTA SQ.OSPITE\",'Daily Diary'!E:E,\"PUNTA SQ.OSPITE\",'Daily Diary'!K:K,\"WIN\")","v":0},{"$f":"COUNTIFS('Daily Diary'!A:A,'Grafico Strategie Settimanali'!B211,'Daily Diary'!E:E,\"BANCA SFAVORITA\",'Daily Diary'!E:E,\"BANCA SFAVORITA\",'Daily Diary'!K:K,\"WIN\")","v":0},{"$f":"COUNTIFS('Daily Diary'!A:A,'Grafico Strategie Settimanali'!B211,'Daily Diary'!E:E,\"PUNTA OVER\",'Daily Diary'!E:E,\"PUNTA OVER\",'Daily Diary'!K:K,\"WIN\")","v":0},{"$f":"COUNTIFS('Daily Diary'!A:A,'Grafico Strategie Settimanali'!B211,'Daily Diary'!E:E,\"PUNTA UNDER\",'Daily Diary'!E:E,\"PUNTA UNDER\",'Daily Diary'!K:K,\"WIN\")","v":0},{"$f":"COUNTIFS('Daily Diary'!A:A,'Grafico Strategie Settimanali'!B211,'Daily Diary'!E:E,\"SCALPING\",'Daily Diary'!E:E,\"SCALPING\",'Daily Diary'!K:K,\"WIN\")","v":0},{"$f":"COUNTIFS('Daily Diary'!A:A,'Grafico Strategie Settimanali'!B211,'Daily Diary'!E:E,\"GT 90\",'Daily Diary'!E:E,\"GT 90\",'Daily Diary'!K:K,\"WIN\")","v":0},{"$f":"COUNTIFS('Daily Diary'!A:A,'Grafico Strategie Settimanali'!B211,'Daily Diary'!E:E,\"GT 110\",'Daily Diary'!E:E,\"GT 110\",'Daily Diary'!K:K,\"WIN\")","v":0},{"$f":"COUNTIFS('Daily Diary'!A:A,'Grafico Strategie Settimanali'!B211,'Daily Diary'!E:E,\"ALERT GOAL\",'Daily Diary'!E:E,\"ALERT GOAL\",'Daily Diary'!K:K,\"WIN\")","v":0},{"$f":"COUNTIFS('Daily Diary'!A:A,'Grafico Strategie Settimanali'!B211,'Daily Diary'!E:E,\"DRAW NO BET\",'Daily Diary'!E:E,\"DRAW NO BET\",'Daily Diary'!K:K,\"WIN\")","v":0},{"$f":"COUNTIFS('Daily Diary'!A:A,'Grafico Strategie Settimanali'!B211,'Daily Diary'!E:E,\"ALTRO\",'Daily Diary'!E:E,\"ALTRO\",'Daily Diary'!K:K,\"WIN\")","v":0},{"$error":"#DIV/0!"},{"$error":"#DIV/0!"},{"$error":"#DIV/0!"},{"$error":"#DIV/0!"},{"$error":"#DIV/0!"},{"$error":"#DIV/0!"},{"$error":"#DIV/0!"},{"$error":"#DIV/0!"},{"$error":"#DIV/0!"},{"$error":"#DIV/0!"},{"$error":"#DIV/0!"},{"$error":"#DIV/0!"}]
[0,"2023-11-30",{"$f":"COUNTIFS('Daily Diary'!A:A,'Grafico Strategie Settimanali'!B212,'Daily Diary'!E:E,\"BANCA PAREGGIO\")","v":0},{"$f":"COUNTIFS('Daily Diary'!A:A,'Grafico Strategie Settimanali'!B212,'Daily Diary'!E:E,\"PUNTA SQ.CASA\")","v":0},{"$f":"COUNTIFS('Daily Diary'!A:A,'Grafico Strategie Settimanali'!B212,'Daily Diary'!E:E,\"PUNTA SQ.OSPITE\")","v":0},{"$f":"COUNTIFS('Daily Diary'!A:A,'Grafico Strategie Settimanali'!B212,'Daily Diary'!E:E,\"BANCA SFAVORITA\")","v":0},{"$f":"COUNTIFS('Daily Diary'!A:A,'Grafico Strategie Settimanali'!B212,'Daily Diary'!E:E,\"PUNTA OVER\")","v":0},{"$f":"COUNTIFS('Daily Diary'!A:A,'Grafico Strategie Settimanali'!B212,'Daily Diary'!E:E,\"PUNTA UNDER\")","v":0},{"$f":"COUNTIFS('Daily Diary'!A:A,'Grafico Strategie Settimanali'!B212,'Daily Diary'!E:E,\"SCALPING\")","v":0},{"$f":"COUNTIFS('Daily Diary'!A:A,'Grafico Strategie Settimanali'!B212,'Daily Diary'!E:E,\"GT90\")","v":0},{"$f":"COUNTIFS('Daily Diary'!A:A,'Grafico Strategie Settimanali'!B212,'Daily Diary'!E:E,\"GT110\")","v":0},{"$f":"COUNTIFS('Daily Diary'!A:A,'Grafico Strategie Settimanali'!B212,'Daily Diary'!E:E,\"ALERT GOAL\")","v":0},{"$f":"COUNTIFS('Daily Diary'!A:A,'Grafico Strategie Settimanali'!B212,'Daily Diary'!E:E,\"DRAW NO BET\")","v":0},{"$f":"COUNTIFS('Daily Diary'!A:A,'Grafico Strategie Settimanali'!B212,'Daily Diary'!E:E,\"ALTRO\")","v":0},{"$f":"COUNTIFS('Daily Diary'!A:A,'Grafico Strategie Settimanali'!B212,'Daily Diary'!E:E,\"BANCA PAREGGIO\",'Daily Diary'!E:E,\"BANCA PAREGGIO\",'Daily Diary'!K:K,\"WIN\")","v":0},{"$f":"COUNTIFS('Daily Diary'!A:A,'Grafico Strategie Settimanali'!B212,'Daily Diary'!E:E,\"PUNTA SQ.CASA\",'Daily Diary'!E:E,\"PUNTA SQ.CASA\",'Daily Diary'!K:K,\"WIN\")","v":0},{"$f":"COUNTIFS('Daily Diary'!A:A,'Grafico Strategie Settimanali'!B212,'Daily Diary'!E:E,\"PUNTA SQ.OSPITE\",'Daily Diary'!E:E,\"PUNTA SQ.OSPITE\",'Daily Diary'!K:K,\"WIN\")","v":0},{"$f":"COUNTIFS('Daily Diary'!A:A,'Grafico Strategie Settimanali'!B212,'Daily Diary'!E:E,\"BANCA SFAVORITA\",'Daily Diary'!E:E,\"BANCA SFAVORITA\",'Daily Diary'!K:K,\"WIN\")","v":0},{"$f":"COUNTIFS('Daily Diary'!A:A,'Grafico Strategie Settimanali'!B212,'Daily Diary'!E:E,\"PUNTA OVER\",'Daily Diary'!E:E,\"PUNTA OVER\",'Daily Diary'!K:K,\"WIN\")","v":0},{"$f":"COUNTIFS('Daily Diary'!A:A,'Grafico Strategie Settimanali'!B212,'Daily Diary'!E:E,\"PUNTA UNDER\",'Daily Diary'!E:E,\"PUNTA UNDER\",'Daily Diary'!K:K,\"WIN\")","v":0},{"$f":"COUNTIFS('Daily Diary'!A:A,'Grafico Strategie Settimanali'!B212,'Daily Diary'!E:E,\"SCALPING\",'Daily Diary'!E:E,\"SCALPING\",'Daily Diary'!K:K,\"WIN\")","v":0},{"$f":"COUNTIFS('Daily Diary'!A:A,'Grafico Strategie Settimanali'!B212,'Daily Diary'!E:E,\"GT 90\",'Daily Diary'!E:E,\"GT 90\",'Daily Diary'!K:K,\"WIN\")","v":0},{"$f":"COUNTIFS('Daily Diary'!A:A,'Grafico Strategie Settimanali'!B212,'Daily Diary'!E:E,\"GT 110\",'Daily Diary'!E:E,\"GT 110\",'Daily Diary'!K:K,\"WIN\")","v":0},{"$f":"COUNTIFS('Daily Diary'!A:A,'Grafico Strategie Settimanali'!B212,'Daily Diary'!E:E,\"ALERT GOAL\",'Daily Diary'!E:E,\"ALERT GOAL\",'Daily Diary'!K:K,\"WIN\")","v":0},{"$f":"COUNTIFS('Daily Diary'!A:A,'Grafico Strategie Settimanali'!B212,'Daily Diary'!E:E,\"DRAW NO BET\",'Daily Diary'!E:E,\"DRAW NO BET\",'Daily Diary'!K:K,\"WIN\")","v":0},{"$f":"COUNTIFS('Daily Diary'!A:A,'Grafico Strategie Settimanali'!B212,'Daily Diary'!E:E,\"ALTRO\",'Daily Diary'!E:E,\"ALTRO\",'Daily Diary'!K:K,\"WIN\")","v":0},{"$error":"#DIV/0!"},{"$error":"#DIV/0!"},{"$error":"#DIV/0!"},{"$error":"#DIV/0!"},{"$error":"#DIV/0!"},{"$error":"#DIV/0!"},{"$error":"#DIV/0!"},{"$error":"#DIV/0!"},{"$error":"#DIV/0!"},{"$error":"#DIV/0!"},{"$error":"#DIV/0!"},{"$error":"#DIV/0!"}]
[0,"2023-12-01",{"$f":"COUNTIFS('Daily Diary'!A:A,'Grafico Strategie Settimanali'!B213,'Daily Diary'!E:E,\"BANCA PAREGGIO\")","v":0},{"$f":"COUNTIFS('Daily Diary'!A:A,'Grafico Strategie Settimanali'!B213,'Daily Diary'!E:E,\"PUNTA SQ.CASA\")","v":0},{"$f":"COUNTIFS('Daily Diary'!A:A,'Grafico Strategie Settimanali'!B213,'Daily Diary'!E:E,\"PUNTA SQ.OSPITE\")","v":0},{"$f":"COUNTIFS('Daily Diary'!A:A,'Grafico Strategie Settimanali'!B213,'Daily Diary'!E:E,\"BANCA SFAVORITA\")","v":0},{"$f":"COUNTIFS('Daily Diary'!A:A,'Grafico Strategie Settimanali'!B213,'Daily Diary'!E:E,\"PUNTA OVER\")","v":0},{"$f":"COUNTIFS('Daily Diary'!A:A,'Grafico Strategie Settimanali'!B213,'Daily Diary'!E:E,\"PUNTA UNDER\")","v":0},{"$f":"COUNTIFS('Daily Diary'!A:A,'Grafico Strategie Settimanali'!B213,'Daily Diary'!E:E,\"SCALPING\")","v":0},{"$f":"COUNTIFS('Daily Diary'!A:A,'Grafico Strategie Settimanali'!B213,'Daily Diary'!E:E,\"GT90\")","v":0},{"$f":"COUNTIFS('Daily Diary'!A:A,'Grafico Strategie Settimanali'!B213,'Daily Diary'!E:E,\"GT110\")","v":0},{"$f":"COUNTIFS('Daily Diary'!A:A,'Grafico Strategie Settimanali'!B213,'Daily Diary'!E:E,\"ALERT GOAL\")","v":0},{"$f":"COUNTIFS('Daily Diary'!A:A,'Grafico Strategie Settimanali'!B213,'Daily Diary'!E:E,\"DRAW NO BET\")","v":0},{"$f":"COUNTIFS('Daily Diary'!A:A,'Grafico Strategie Settimanali'!B213,'Daily Diary'!E:E,\"ALTRO\")","v":0},{"$f":"COUNTIFS('Daily Diary'!A:A,'Grafico Strategie Settimanali'!B213,'Daily Diary'!E:E,\"BANCA PAREGGIO\",'Daily Diary'!E:E,\"BANCA PAREGGIO\",'Daily Diary'!K:K,\"WIN\")","v":0},{"$f":"COUNTIFS('Daily Diary'!A:A,'Grafico Strategie Settimanali'!B213,'Daily Diary'!E:E,\"PUNTA SQ.CASA\",'Daily Diary'!E:E,\"PUNTA SQ.CASA\",'Daily Diary'!K:K,\"WIN\")","v":0},{"$f":"COUNTIFS('Daily Diary'!A:A,'Grafico Strategie Settimanali'!B213,'Daily Diary'!E:E,\"PUNTA SQ.OSPITE\",'Daily Diary'!E:E,\"PUNTA SQ.OSPITE\",'Daily Diary'!K:K,\"WIN\")","v":0},{"$f":"COUNTIFS('Daily Diary'!A:A,'Grafico Strategie Settimanali'!B213,'Daily Diary'!E:E,\"BANCA SFAVORITA\",'Daily Diary'!E:E,\"BANCA SFAVORITA\",'Daily Diary'!K:K,\"WIN\")","v":0},{"$f":"COUNTIFS('Daily Diary'!A:A,'Grafico Strategie Settimanali'!B213,'Daily Diary'!E:E,\"PUNTA OVER\",'Daily Diary'!E:E,\"PUNTA OVER\",'Daily Diary'!K:K,\"WIN\")","v":0},{"$f":"COUNTIFS('Daily Diary'!A:A,'Grafico Strategie Settimanali'!B213,'Daily Diary'!E:E,\"PUNTA UNDER\",'Daily Diary'!E:E,\"PUNTA UNDER\",'Daily Diary'!K:K,\"WIN\")","v":0},{"$f":"COUNTIFS('Daily Diary'!A:A,'Grafico Strategie Settimanali'!B213,'Daily Diary'!E:E,\"SCALPING\",'Daily Diary'!E:E,\"SCALPING\",'Daily Diary'!K:K,\"WIN\")","v":0},{"$f":"COUNTIFS('Daily Diary'!A:A,'Grafico Strategie Settimanali'!B213,'Daily Diary'!E:E,\"GT 90\",'Daily Diary'!E:E,\"GT 90\",'Daily Diary'!K:K,\"WIN\")","v":0},{"$f":"COUNTIFS('Daily Diary'!A:A,'Grafico Strategie Settimanali'!B213,'Daily Diary'!E:E,\"GT 110\",'Daily Diary'!E:E,\"GT 110\",'Daily Diary'!K:K,\"WIN\")","v":0},{"$f":"COUNTIFS('Daily Diary'!A:A,'Grafico Strategie Settimanali'!B213,'Daily Diary'!E:E,\"ALERT GOAL\",'Daily Diary'!E:E,\"ALERT GOAL\",'Daily Diary'!K:K,\"WIN\")","v":0},{"$f":"COUNTIFS('Daily Diary'!A:A,'Grafico Strategie Settimanali'!B213,'Daily Diary'!E:E,\"DRAW NO BET\",'Daily Diary'!E:E,\"DRAW NO BET\",'Daily Diary'!K:K,\"WIN\")","v":0},{"$f":"COUNTIFS('Daily Diary'!A:A,'Grafico Strategie Settimanali'!B213,'Daily Diary'!E:E,\"ALTRO\",'Daily Diary'!E:E,\"ALTRO\",'Daily Diary'!K:K,\"WIN\")","v":0},{"$error":"#DIV/0!"},{"$error":"#DIV/0!"},{"$error":"#DIV/0!"},{"$error":"#DIV/0!"},{"$error":"#DIV/0!"},{"$error":"#DIV/0!"},{"$error":"#DIV/0!"},{"$error":"#DIV/0!"},{"$error":"#DIV/0!"},{"$error":"#DIV/0!"},{"$error":"#DIV/0!"},{"$error":"#DIV/0!"}]
[0,"2023-12-02",{"$f":"COUNTIFS('Daily Diary'!A:A,'Grafico Strategie Settimanali'!B214,'Daily Diary'!E:E,\"BANCA PAREGGIO\")","v":0},{"$f":"COUNTIFS('Daily Diary'!A:A,'Grafico Strategie Settimanali'!B214,'Daily Diary'!E:E,\"PUNTA SQ.CASA\")","v":0},{"$f":"COUNTIFS('Daily Diary'!A:A,'Grafico Strategie Settimanali'!B214,'Daily Diary'!E:E,\"PUNTA SQ.OSPITE\")","v":0},{"$f":"COUNTIFS('Daily Diary'!A:A,'Grafico Strategie Settimanali'!B214,'Daily Diary'!E:E,\"BANCA SFAVORITA\")","v":0},{"$f":"COUNTIFS('Daily Diary'!A:A,'Grafico Strategie Settimanali'!B214,'Daily Diary'!E:E,\"PUNTA OVER\")","v":0},{"$f":"COUNTIFS('Daily Diary'!A:A,'Grafico Strategie Settimanali'!B214,'Daily Diary'!E:E,\"PUNTA UNDER\")","v":0},{"$f":"COUNTIFS('Daily Diary'!A:A,'Grafico Strategie Settimanali'!B214,'Daily Diary'!E:E,\"SCALPING\")","v":0},{"$f":"COUNTIFS('Daily Diary'!A:A,'Grafico Strategie Settimanali'!B214,'Daily Diary'!E:E,\"GT90\")","v":0},{"$f":"COUNTIFS('Daily Diary'!A:A,'Grafico Strategie Settimanali'!B214,'Daily Diary'!E:E,\"GT110\")","v":0},{"$f":"COUNTIFS('Daily Diary'!A:A,'Grafico Strategie Settimanali'!B214,'Daily Diary'!E:E,\"ALERT GOAL\")","v":0},{"$f":"COUNTIFS('Daily Diary'!A:A,'Grafico Strategie Settimanali'!B214,'Daily Diary'!E:E,\"DRAW NO BET\")","v":0},{"$f":"COUNTIFS('Daily Diary'!A:A,'Grafico Strategie Settimanali'!B214,'Daily Diary'!E:E,\"ALTRO\")","v":0},{"$f":"COUNTIFS('Daily Diary'!A:A,'Grafico Strategie Settimanali'!B214,'Daily Diary'!E:E,\"BANCA PAREGGIO\",'Daily Diary'!E:E,\"BANCA PAREGGIO\",'Daily Diary'!K:K,\"WIN\")","v":0},{"$f":"COUNTIFS('Daily Diary'!A:A,'Grafico Strategie Settimanali'!B214,'Daily Diary'!E:E,\"PUNTA SQ.CASA\",'Daily Diary'!E:E,\"PUNTA SQ.CASA\",'Daily Diary'!K:K,\"WIN\")","v":0},{"$f":"COUNTIFS('Daily Diary'!A:A,'Grafico Strategie Settimanali'!B214,'Daily Diary'!E:E,\"PUNTA SQ.OSPITE\",'Daily Diary'!E:E,\"PUNTA SQ.OSPITE\",'Daily Diary'!K:K,\"WIN\")","v":0},{"$f":"COUNTIFS('Daily Diary'!A:A,'Grafico Strategie Settimanali'!B214,'Daily Diary'!E:E,\"BANCA SFAVORITA\",'Daily Diary'!E:E,\"BANCA SFAVORITA\",'Daily Diary'!K:K,\"WIN\")","v":0},{"$f":"COUNTIFS('Daily Diary'!A:A,'Grafico Strategie Settimanali'!B214,'Daily Diary'!E:E,\"PUNTA OVER\",'Daily Diary'!E:E,\"PUNTA OVER\",'Daily Diary'!K:K,\"WIN\")","v":0},{"$f":"COUNTIFS('Daily Diary'!A:A,'Grafico Strategie Settimanali'!B214,'Daily Diary'!E:E,\"PUNTA UNDER\",'Daily Diary'!E:E,\"PUNTA UNDER\",'Daily Diary'!K:K,\"WIN\")","v":0},{"$f":"COUNTIFS('Daily Diary'!A:A,'Grafico Strategie Settimanali'!B214,'Daily Diary'!E:E,\"SCALPING\",'Daily Diary'!E:E,\"SCALPING\",'Daily Diary'!K:K,\"WIN\")","v":0},{"$f":"COUNTIFS('Daily Diary'!A:A,'Grafico Strategie Settimanali'!B214,'Daily Diary'!E:E,\"GT 90\",'Daily Diary'!E:E,\"GT 90\",'Daily Diary'!K:K,\"WIN\")","v":0},{"$f":"COUNTIFS('Daily Diary'!A:A,'Grafico Strategie Settimanali'!B214,'Daily Diary'!E:E,\"GT 110\",'Daily Diary'!E:E,\"GT 110\",'Daily Diary'!K:K,\"WIN\")","v":0},{"$f":"COUNTIFS('Daily Diary'!A:A,'Grafico Strategie Settimanali'!B214,'Daily Diary'!E:E,\"ALERT GOAL\",'Daily Diary'!E:E,\"ALERT GOAL\",'Daily Diary'!K:K,\"WIN\")","v":0},{"$f":"COUNTIFS('Daily Diary'!A:A,'Grafico Strategie Settimanali'!B214,'Daily Diary'!E:E,\"DRAW NO BET\",'Daily Diary'!E:E,\"DRAW NO BET\",'Daily Diary'!K:K,\"WIN\")","v":0},{"$f":"COUNTIFS('Daily Diary'!A:A,'Grafico Strategie Settimanali'!B214,'Daily Diary'!E:E,\"ALTRO\",'Daily Diary'!E:E,\"ALTRO\",'Daily Diary'!K:K,\"WIN\")","v":0},{"$error":"#DIV/0!"},{"$error":"#DIV/0!"},{"$error":"#DIV/0!"},{"$error":"#DIV/0!"},{"$error":"#DIV/0!"},{"$error":"#DIV/0!"},{"$error":"#DIV/0!"},{"$error":"#DIV/0!"},{"$error":"#DIV/0!"},{"$error":"#DIV/0!"},{"$error":"#DIV/0!"},{"$error":"#DIV/0!"}]
[0,"2023-12-03",{"$f":"COUNTIFS('Daily Diary'!A:A,'Grafico Strategie Settimanali'!B215,'Daily Diary'!E:E,\"BANCA PAREGGIO\")","v":0},{"$f":"COUNTIFS('Daily Diary'!A:A,'Grafico Strategie Settimanali'!B215,'Daily Diary'!E:E,\"PUNTA SQ.CASA\")","v":0},{"$f":"COUNTIFS('Daily Diary'!A:A,'Grafico Strategie Settimanali'!B215,'Daily Diary'!E:E,\"PUNTA SQ.OSPITE\")","v":0},{"$f":"COUNTIFS('Daily Diary'!A:A,'Grafico Strategie Settimanali'!B215,'Daily Diary'!E:E,\"BANCA SFAVORITA\")","v":0},{"$f":"COUNTIFS('Daily Diary'!A:A,'Grafico Strategie Settimanali'!B215,'Daily Diary'!E:E,\"PUNTA OVER\")","v":0},{"$f":"COUNTIFS('Daily Diary'!A:A,'Grafico Strategie Settimanali'!B215,'Daily Diary'!E:E,\"PUNTA UNDER\")","v":0},{"$f":"COUNTIFS('Daily Diary'!A:A,'Grafico Strategie Settimanali'!B215,'Daily Diary'!E:E,\"SCALPING\")","v":0},{"$f":"COUNTIFS('Daily Diary'!A:A,'Grafico Strategie Settimanali'!B215,'Daily Diary'!E:E,\"GT90\")","v":0},{"$f":"COUNTIFS('Daily Diary'!A:A,'Grafico Strategie Settimanali'!B215,'Daily Diary'!E:E,\"GT110\")","v":0},{"$f":"COUNTIFS('Daily Diary'!A:A,'Grafico Strategie Settimanali'!B215,'Daily Diary'!E:E,\"ALERT GOAL\")","v":0},{"$f":"COUNTIFS('Daily Diary'!A:A,'Grafico Strategie Settimanali'!B215,'Daily Diary'!E:E,\"DRAW NO BET\")","v":0},{"$f":"COUNTIFS('Daily Diary'!A:A,'Grafico Strategie Settimanali'!B215,'Daily Diary'!E:E,\"ALTRO\")","v":0},{"$f":"COUNTIFS('Daily Diary'!A:A,'Grafico Strategie Settimanali'!B215,'Daily Diary'!E:E,\"BANCA PAREGGIO\",'Daily Diary'!E:E,\"BANCA PAREGGIO\",'Daily Diary'!K:K,\"WIN\")","v":0},{"$f":"COUNTIFS('Daily Diary'!A:A,'Grafico Strategie Settimanali'!B215,'Daily Diary'!E:E,\"PUNTA SQ.CASA\",'Daily Diary'!E:E,\"PUNTA SQ.CASA\",'Daily Diary'!K:K,\"WIN\")","v":0},{"$f":"COUNTIFS('Daily Diary'!A:A,'Grafico Strategie Settimanali'!B215,'Daily Diary'!E:E,\"PUNTA SQ.OSPITE\",'Daily Diary'!E:E,\"PUNTA SQ.OSPITE\",'Daily Diary'!K:K,\"WIN\")","v":0},{"$f":"COUNTIFS('Daily Diary'!A:A,'Grafico Strategie Settimanali'!B215,'Daily Diary'!E:E,\"BANCA SFAVORITA\",'Daily Diary'!E:E,\"BANCA SFAVORITA\",'Daily Diary'!K:K,\"WIN\")","v":0},{"$f":"COUNTIFS('Daily Diary'!A:A,'Grafico Strategie Settimanali'!B215,'Daily Diary'!E:E,\"PUNTA OVER\",'Daily Diary'!E:E,\"PUNTA OVER\",'Daily Diary'!K:K,\"WIN\")","v":0},{"$f":"COUNTIFS('Daily Diary'!A:A,'Grafico Strategie Settimanali'!B215,'Daily Diary'!E:E,\"PUNTA UNDER\",'Daily Diary'!E:E,\"PUNTA UNDER\",'Daily Diary'!K:K,\"WIN\")","v":0},{"$f":"COUNTIFS('Daily Diary'!A:A,'Grafico Strategie Settimanali'!B215,'Daily Diary'!E:E,\"SCALPING\",'Daily Diary'!E:E,\"SCALPING\",'Daily Diary'!K:K,\"WIN\")","v":0},{"$f":"COUNTIFS('Daily Diary'!A:A,'Grafico Strategie Settimanali'!B215,'Daily Diary'!E:E,\"GT 90\",'Daily Diary'!E:E,\"GT 90\",'Daily Diary'!K:K,\"WIN\")","v":0},{"$f":"COUNTIFS('Daily Diary'!A:A,'Grafico Strategie Settimanali'!B215,'Daily Diary'!E:E,\"GT 110\",'Daily Diary'!E:E,\"GT 110\",'Daily Diary'!K:K,\"WIN\")","v":0},{"$f":"COUNTIFS('Daily Diary'!A:A,'Grafico Strategie Settimanali'!B215,'Daily Diary'!E:E,\"ALERT GOAL\",'Daily Diary'!E:E,\"ALERT GOAL\",'Daily Diary'!K:K,\"WIN\")","v":0},{"$f":"COUNTIFS('Daily Diary'!A:A,'Grafico Strategie Settimanali'!B215,'Daily Diary'!E:E,\"DRAW NO BET\",'Daily Diary'!E:E,\"DRAW NO BET\",'Daily Diary'!K:K,\"WIN\")","v":0},{"$f":"COUNTIFS('Daily Diary'!A:A,'Grafico Strategie Settimanali'!B215,'Daily Diary'!E:E,\"ALTRO\",'Daily Diary'!E:E,\"ALTRO\",'Daily Diary'!K:K,\"WIN\")","v":0},{"$error":"#DIV/0!"},{"$error":"#DIV/0!"},{"$error":"#DIV/0!"},{"$error":"#DIV/0!"},{"$error":"#DIV/0!"},{"$error":"#DIV/0!"},{"$error":"#DIV/0!"},{"$error":"#DIV/0!"},{"$error":"#DIV/0!"},{"$error":"#DIV/0!"},{"$error":"#DIV/0!"},{"$error":"#DIV/0!"}]
[0,"2023-12-04",{"$f":"COUNTIFS('Daily Diary'!A:A,'Grafico Strategie Settimanali'!B216,'Daily Diary'!E:E,\"BANCA PAREGGIO\")","v":0},{"$f":"COUNTIFS('Daily Diary'!A:A,'Grafico Strategie Settimanali'!B216,'Daily Diary'!E:E,\"PUNTA SQ.CASA\")","v":0},{"$f":"COUNTIFS('Daily Diary'!A:A,'Grafico Strategie Settimanali'!B216,'Daily Diary'!E:E,\"PUNTA SQ.OSPITE\")","v":0},{"$f":"COUNTIFS('Daily Diary'!A:A,'Grafico Strategie Settimanali'!B216,'Daily Diary'!E:E,\"BANCA SFAVORITA\")","v":0},{"$f":"COUNTIFS('Daily Diary'!A:A,'Grafico Strategie Settimanali'!B216,'Daily Diary'!E:E,\"PUNTA OVER\")","v":0},{"$f":"COUNTIFS('Daily Diary'!A:A,'Grafico Strategie Settimanali'!B216,'Daily Diary'!E:E,\"PUNTA UNDER\")","v":0},{"$f":"COUNTIFS('Daily Diary'!A:A,'Grafico Strategie Settimanali'!B216,'Daily Diary'!E:E,\"SCALPING\")","v":0},{"$f":"COUNTIFS('Daily Diary'!A:A,'Grafico Strategie Settimanali'!B216,'Daily Diary'!E:E,\"GT90\")","v":0},{"$f":"COUNTIFS('Daily Diary'!A:A,'Grafico Strategie Settimanali'!B216,'Daily Diary'!E:E,\"GT110\")","v":0},{"$f":"COUNTIFS('Daily Diary'!A:A,'Grafico Strategie Settimanali'!B216,'Daily Diary'!E:E,\"ALERT GOAL\")","v":0},{"$f":"COUNTIFS('Daily Diary'!A:A,'Grafico Strategie Settimanali'!B216,'Daily Diary'!E:E,\"DRAW NO BET\")","v":0},{"$f":"COUNTIFS('Daily Diary'!A:A,'Grafico Strategie Settimanali'!B216,'Daily Diary'!E:E,\"ALTRO\")","v":0},{"$f":"COUNTIFS('Daily Diary'!A:A,'Grafico Strategie Settimanali'!B216,'Daily Diary'!E:E,\"BANCA PAREGGIO\",'Daily Diary'!E:E,\"BANCA PAREGGIO\",'Daily Diary'!K:K,\"WIN\")","v":0},{"$f":"COUNTIFS('Daily Diary'!A:A,'Grafico Strategie Settimanali'!B216,'Daily Diary'!E:E,\"PUNTA SQ.CASA\",'Daily Diary'!E:E,\"PUNTA SQ.CASA\",'Daily Diary'!K:K,\"WIN\")","v":0},{"$f":"COUNTIFS('Daily Diary'!A:A,'Grafico Strategie Settimanali'!B216,'Daily Diary'!E:E,\"PUNTA SQ.OSPITE\",'Daily Diary'!E:E,\"PUNTA SQ.OSPITE\",'Daily Diary'!K:K,\"WIN\")","v":0},{"$f":"COUNTIFS('Daily Diary'!A:A,'Grafico Strategie Settimanali'!B216,'Daily Diary'!E:E,\"BANCA SFAVORITA\",'Daily Diary'!E:E,\"BANCA SFAVORITA\",'Daily Diary'!K:K,\"WIN\")","v":0},{"$f":"COUNTIFS('Daily Diary'!A:A,'Grafico Strategie Settimanali'!B216,'Daily Diary'!E:E,\"PUNTA OVER\",'Daily Diary'!E:E,\"PUNTA OVER\",'Daily Diary'!K:K,\"WIN\")","v":0},{"$f":"COUNTIFS('Daily Diary'!A:A,'Grafico Strategie Settimanali'!B216,'Daily Diary'!E:E,\"PUNTA UNDER\",'Daily Diary'!E:E,\"PUNTA UNDER\",'Daily Diary'!K:K,\"WIN\")","v":0},{"$f":"COUNTIFS('Daily Diary'!A:A,'Grafico Strategie Settimanali'!B216,'Daily Diary'!E:E,\"SCALPING\",'Daily Diary'!E:E,\"SCALPING\",'Daily Diary'!K:K,\"WIN\")","v":0},{"$f":"COUNTIFS('Daily Diary'!A:A,'Grafico Strategie Settimanali'!B216,'Daily Diary'!E:E,\"GT 90\",'Daily Diary'!E:E,\"GT 90\",'Daily Diary'!K:K,\"WIN\")","v":0},{"$f":"COUNTIFS('Daily Diary'!A:A,'Grafico Strategie Settimanali'!B216,'Daily Diary'!E:E,\"GT 110\",'Daily Diary'!E:E,\"GT 110\",'Daily Diary'!K:K,\"WIN\")","v":0},{"$f":"COUNTIFS('Daily Diary'!A:A,'Grafico Strategie Settimanali'!B216,'Daily Diary'!E:E,\"ALERT GOAL\",'Daily Diary'!E:E,\"ALERT GOAL\",'Daily Diary'!K:K,\"WIN\")","v":0},{"$f":"COUNTIFS('Daily Diary'!A:A,'Grafico Strategie Settimanali'!B216,'Daily Diary'!E:E,\"DRAW NO BET\",'Daily Diary'!E:E,\"DRAW NO BET\",'Daily Diary'!K:K,\"WIN\")","v":0},{"$f":"COUNTIFS('Daily Diary'!A:A,'Grafico Strategie Settimanali'!B216,'Daily Diary'!E:E,\"ALTRO\",'Daily Diary'!E:E,\"ALTRO\",'Daily Diary'!K:K,\"WIN\")","v":0},{"$error":"#DIV/0!"},{"$error":"#DIV/0!"},{"$error":"#DIV/0!"},{"$error":"#DIV/0!"},{"$error":"#DIV/0!"},{"$error":"#DIV/0!"},{"$error":"#DIV/0!"},{"$error":"#DIV/0!"},{"$error":"#DIV/0!"},{"$error":"#DIV/0!"},{"$error":"#DIV/0!"},{"$error":"#DIV/0!"}]
[0,"2023-12-05",{"$f":"COUNTIFS('Daily Diary'!A:A,'Grafico Strategie Settimanali'!B217,'Daily Diary'!E:E,\"BANCA PAREGGIO\")","v":0},{"$f":"COUNTIFS('Daily Diary'!A:A,'Grafico Strategie Settimanali'!B217,'Daily Diary'!E:E,\"PUNTA SQ.CASA\")","v":0},{"$f":"COUNTIFS('Daily Diary'!A:A,'Grafico Strategie Settimanali'!B217,'Daily Diary'!E:E,\"PUNTA SQ.OSPITE\")","v":0},{"$f":"COUNTIFS('Daily Diary'!A:A,'Grafico Strategie Settimanali'!B217,'Daily Diary'!E:E,\"BANCA SFAVORITA\")","v":0},{"$f":"COUNTIFS('Daily Diary'!A:A,'Grafico Strategie Settimanali'!B217,'Daily Diary'!E:E,\"PUNTA OVER\")","v":0},{"$f":"COUNTIFS('Daily Diary'!A:A,'Grafico Strategie Settimanali'!B217,'Daily Diary'!E:E,\"PUNTA UNDER\")","v":0},{"$f":"COUNTIFS('Daily Diary'!A:A,'Grafico Strategie Settimanali'!B217,'Daily Diary'!E:E,\"SCALPING\")","v":0},{"$f":"COUNTIFS('Daily Diary'!A:A,'Grafico Strategie Settimanali'!B217,'Daily Diary'!E:E,\"GT90\")","v":0},{"$f":"COUNTIFS('Daily Diary'!A:A,'Grafico Strategie Settimanali'!B217,'Daily Diary'!E:E,\"GT110\")","v":0},{"$f":"COUNTIFS('Daily Diary'!A:A,'Grafico Strategie Settimanali'!B217,'Daily Diary'!E:E,\"ALERT GOAL\")","v":0},{"$f":"COUNTIFS('Daily Diary'!A:A,'Grafico Strategie Settimanali'!B217,'Daily Diary'!E:E,\"DRAW NO BET\")","v":0},{"$f":"COUNTIFS('Daily Diary'!A:A,'Grafico Strategie Settimanali'!B217,'Daily Diary'!E:E,\"ALTRO\")","v":0},{"$f":"COUNTIFS('Daily Diary'!A:A,'Grafico Strategie Settimanali'!B217,'Daily Diary'!E:E,\"BANCA PAREGGIO\",'Daily Diary'!E:E,\"BANCA PAREGGIO\",'Daily Diary'!K:K,\"WIN\")","v":0},{"$f":"COUNTIFS('Daily Diary'!A:A,'Grafico Strategie Settimanali'!B217,'Daily Diary'!E:E,\"PUNTA SQ.CASA\",'Daily Diary'!E:E,\"PUNTA SQ.CASA\",'Daily Diary'!K:K,\"WIN\")","v":0},{"$f":"COUNTIFS('Daily Diary'!A:A,'Grafico Strategie Settimanali'!B217,'Daily Diary'!E:E,\"PUNTA SQ.OSPITE\",'Daily Diary'!E:E,\"PUNTA SQ.OSPITE\",'Daily Diary'!K:K,\"WIN\")","v":0},{"$f":"COUNTIFS('Daily Diary'!A:A,'Grafico Strategie Settimanali'!B217,'Daily Diary'!E:E,\"BANCA SFAVORITA\",'Daily Diary'!E:E,\"BANCA SFAVORITA\",'Daily Diary'!K:K,\"WIN\")","v":0},{"$f":"COUNTIFS('Daily Diary'!A:A,'Grafico Strategie Settimanali'!B217,'Daily Diary'!E:E,\"PUNTA OVER\",'Daily Diary'!E:E,\"PUNTA OVER\",'Daily Diary'!K:K,\"WIN\")","v":0},{"$f":"COUNTIFS('Daily Diary'!A:A,'Grafico Strategie Settimanali'!B217,'Daily Diary'!E:E,\"PUNTA UNDER\",'Daily Diary'!E:E,\"PUNTA UNDER\",'Daily Diary'!K:K,\"WIN\")","v":0},{"$f":"COUNTIFS('Daily Diary'!A:A,'Grafico Strategie Settimanali'!B217,'Daily Diary'!E:E,\"SCALPING\",'Daily Diary'!E:E,\"SCALPING\",'Daily Diary'!K:K,\"WIN\")","v":0},{"$f":"COUNTIFS('Daily Diary'!A:A,'Grafico Strategie Settimanali'!B217,'Daily Diary'!E:E,\"GT 90\",'Daily Diary'!E:E,\"GT 90\",'Daily Diary'!K:K,\"WIN\")","v":0},{"$f":"COUNTIFS('Daily Diary'!A:A,'Grafico Strategie Settimanali'!B217,'Daily Diary'!E:E,\"GT 110\",'Daily Diary'!E:E,\"GT 110\",'Daily Diary'!K:K,\"WIN\")","v":0},{"$f":"COUNTIFS('Daily Diary'!A:A,'Grafico Strategie Settimanali'!B217,'Daily Diary'!E:E,\"ALERT GOAL\",'Daily Diary'!E:E,\"ALERT GOAL\",'Daily Diary'!K:K,\"WIN\")","v":0},{"$f":"COUNTIFS('Daily Diary'!A:A,'Grafico Strategie Settimanali'!B217,'Daily Diary'!E:E,\"DRAW NO BET\",'Daily Diary'!E:E,\"DRAW NO BET\",'Daily Diary'!K:K,\"WIN\")","v":0},{"$f":"COUNTIFS('Daily Diary'!A:A,'Grafico Strategie Settimanali'!B217,'Daily Diary'!E:E,\"ALTRO\",'Daily Diary'!E:E,\"ALTRO\",'Daily Diary'!K:K,\"WIN\")","v":0},{"$error":"#DIV/0!"},{"$error":"#DIV/0!"},{"$error":"#DIV/0!"},{"$error":"#DIV/0!"},{"$error":"#DIV/0!"},{"$error":"#DIV/0!"},{"$error":"#DIV/0!"},{"$error":"#DIV/0!"},{"$error":"#DIV/0!"},{"$error":"#DIV/0!"},{"$error":"#DIV/0!"},{"$error":"#DIV/0!"}]
[0,"2023-12-06",{"$f":"COUNTIFS('Daily Diary'!A:A,'Grafico Strategie Settimanali'!B218,'Daily Diary'!E:E,\"BANCA PAREGGIO\")","v":0},{"$f":"COUNTIFS('Daily Diary'!A:A,'Grafico Strategie Settimanali'!B218,'Daily Diary'!E:E,\"PUNTA SQ.CASA\")","v":0},{"$f":"COUNTIFS('Daily Diary'!A:A,'Grafico Strategie Settimanali'!B218,'Daily Diary'!E:E,\"PUNTA SQ.OSPITE\")","v":0},{"$f":"COUNTIFS('Daily Diary'!A:A,'Grafico Strategie Settimanali'!B218,'Daily Diary'!E:E,\"BANCA SFAVORITA\")","v":0},{"$f":"COUNTIFS('Daily Diary'!A:A,'Grafico Strategie Settimanali'!B218,'Daily Diary'!E:E,\"PUNTA OVER\")","v":0},{"$f":"COUNTIFS('Daily Diary'!A:A,'Grafico Strategie Settimanali'!B218,'Daily Diary'!E:E,\"PUNTA UNDER\")","v":0},{"$f":"COUNTIFS('Daily Diary'!A:A,'Grafico Strategie Settimanali'!B218,'Daily Diary'!E:E,\"SCALPING\")","v":0},{"$f":"COUNTIFS('Daily Diary'!A:A,'Grafico Strategie Settimanali'!B218,'Daily Diary'!E:E,\"GT90\")","v":0},{"$f":"COUNTIFS('Daily Diary'!A:A,'Grafico Strategie Settimanali'!B218,'Daily Diary'!E:E,\"GT110\")","v":0},{"$f":"COUNTIFS('Daily Diary'!A:A,'Grafico Strategie Settimanali'!B218,'Daily Diary'!E:E,\"ALERT GOAL\")","v":0},{"$f":"COUNTIFS('Daily Diary'!A:A,'Grafico Strategie Settimanali'!B218,'Daily Diary'!E:E,\"DRAW NO BET\")","v":0},{"$f":"COUNTIFS('Daily Diary'!A:A,'Grafico Strategie Settimanali'!B218,'Daily Diary'!E:E,\"ALTRO\")","v":0},{"$f":"COUNTIFS('Daily Diary'!A:A,'Grafico Strategie Settimanali'!B218,'Daily Diary'!E:E,\"BANCA PAREGGIO\",'Daily Diary'!E:E,\"BANCA PAREGGIO\",'Daily Diary'!K:K,\"WIN\")","v":0},{"$f":"COUNTIFS('Daily Diary'!A:A,'Grafico Strategie Settimanali'!B218,'Daily Diary'!E:E,\"PUNTA SQ.CASA\",'Daily Diary'!E:E,\"PUNTA SQ.CASA\",'Daily Diary'!K:K,\"WIN\")","v":0},{"$f":"COUNTIFS('Daily Diary'!A:A,'Grafico Strategie Settimanali'!B218,'Daily Diary'!E:E,\"PUNTA SQ.OSPITE\",'Daily Diary'!E:E,\"PUNTA SQ.OSPITE\",'Daily Diary'!K:K,\"WIN\")","v":0},{"$f":"COUNTIFS('Daily Diary'!A:A,'Grafico Strategie Settimanali'!B218,'Daily Diary'!E:E,\"BANCA SFAVORITA\",'Daily Diary'!E:E,\"BANCA SFAVORITA\",'Daily Diary'!K:K,\"WIN\")","v":0},{"$f":"COUNTIFS('Daily Diary'!A:A,'Grafico Strategie Settimanali'!B218,'Daily Diary'!E:E,\"PUNTA OVER\",'Daily Diary'!E:E,\"PUNTA OVER\",'Daily Diary'!K:K,\"WIN\")","v":0},{"$f":"COUNTIFS('Daily Diary'!A:A,'Grafico Strategie Settimanali'!B218,'Daily Diary'!E:E,\"PUNTA UNDER\",'Daily Diary'!E:E,\"PUNTA UNDER\",'Daily Diary'!K:K,\"WIN\")","v":0},{"$f":"COUNTIFS('Daily Diary'!A:A,'Grafico Strategie Settimanali'!B218,'Daily Diary'!E:E,\"SCALPING\",'Daily Diary'!E:E,\"SCALPING\",'Daily Diary'!K:K,\"WIN\")","v":0},{"$f":"COUNTIFS('Daily Diary'!A:A,'Grafico Strategie Settimanali'!B218,'Daily Diary'!E:E,\"GT 90\",'Daily Diary'!E:E,\"GT 90\",'Daily Diary'!K:K,\"WIN\")","v":0},{"$f":"COUNTIFS('Daily Diary'!A:A,'Grafico Strategie Settimanali'!B218,'Daily Diary'!E:E,\"GT 110\",'Daily Diary'!E:E,\"GT 110\",'Daily Diary'!K:K,\"WIN\")","v":0},{"$f":"COUNTIFS('Daily Diary'!A:A,'Grafico Strategie Settimanali'!B218,'Daily Diary'!E:E,\"ALERT GOAL\",'Daily Diary'!E:E,\"ALERT GOAL\",'Daily Diary'!K:K,\"WIN\")","v":0},{"$f":"COUNTIFS('Daily Diary'!A:A,'Grafico Strategie Settimanali'!B218,'Daily Diary'!E:E,\"DRAW NO BET\",'Daily Diary'!E:E,\"DRAW NO BET\",'Daily Diary'!K:K,\"WIN\")","v":0},{"$f":"COUNTIFS('Daily Diary'!A:A,'Grafico Strategie Settimanali'!B218,'Daily Diary'!E:E,\"ALTRO\",'Daily Diary'!E:E,\"ALTRO\",'Daily Diary'!K:K,\"WIN\")","v":0},{"$error":"#DIV/0!"},{"$error":"#DIV/0!"},{"$error":"#DIV/0!"},{"$error":"#DIV/0!"},{"$error":"#DIV/0!"},{"$error":"#DIV/0!"},{"$error":"#DIV/0!"},{"$error":"#DIV/0!"},{"$error":"#DIV/0!"},{"$error":"#DIV/0!"},{"$error":"#DIV/0!"},{"$error":"#DIV/0!"}]
[0,"2023-12-07",{"$f":"COUNTIFS('Daily Diary'!A:A,'Grafico Strategie Settimanali'!B219,'Daily Diary'!E:E,\"BANCA PAREGGIO\")","v":0},{"$f":"COUNTIFS('Daily Diary'!A:A,'Grafico Strategie Settimanali'!B219,'Daily Diary'!E:E,\"PUNTA SQ.CASA\")","v":0},{"$f":"COUNTIFS('Daily Diary'!A:A,'Grafico Strategie Settimanali'!B219,'Daily Diary'!E:E,\"PUNTA SQ.OSPITE\")","v":0},{"$f":"COUNTIFS('Daily Diary'!A:A,'Grafico Strategie Settimanali'!B219,'Daily Diary'!E:E,\"BANCA SFAVORITA\")","v":0},{"$f":"COUNTIFS('Daily Diary'!A:A,'Grafico Strategie Settimanali'!B219,'Daily Diary'!E:E,\"PUNTA OVER\")","v":0},{"$f":"COUNTIFS('Daily Diary'!A:A,'Grafico Strategie Settimanali'!B219,'Daily Diary'!E:E,\"PUNTA UNDER\")","v":0},{"$f":"COUNTIFS('Daily Diary'!A:A,'Grafico Strategie Settimanali'!B219,'Daily Diary'!E:E,\"SCALPING\")","v":0},{"$f":"COUNTIFS('Daily Diary'!A:A,'Grafico Strategie Settimanali'!B219,'Daily Diary'!E:E,\"GT90\")","v":0},{"$f":"COUNTIFS('Daily Diary'!A:A,'Grafico Strategie Settimanali'!B219,'Daily Diary'!E:E,\"GT110\")","v":0},{"$f":"COUNTIFS('Daily Diary'!A:A,'Grafico Strategie Settimanali'!B219,'Daily Diary'!E:E,\"ALERT GOAL\")","v":0},{"$f":"COUNTIFS('Daily Diary'!A:A,'Grafico Strategie Settimanali'!B219,'Daily Diary'!E:E,\"DRAW NO BET\")","v":0},{"$f":"COUNTIFS('Daily Diary'!A:A,'Grafico Strategie Settimanali'!B219,'Daily Diary'!E:E,\"ALTRO\")","v":0},{"$f":"COUNTIFS('Daily Diary'!A:A,'Grafico Strategie Settimanali'!B219,'Daily Diary'!E:E,\"BANCA PAREGGIO\",'Daily Diary'!E:E,\"BANCA PAREGGIO\",'Daily Diary'!K:K,\"WIN\")","v":0},{"$f":"COUNTIFS('Daily Diary'!A:A,'Grafico Strategie Settimanali'!B219,'Daily Diary'!E:E,\"PUNTA SQ.CASA\",'Daily Diary'!E:E,\"PUNTA SQ.CASA\",'Daily Diary'!K:K,\"WIN\")","v":0},{"$f":"COUNTIFS('Daily Diary'!A:A,'Grafico Strategie Settimanali'!B219,'Daily Diary'!E:E,\"PUNTA SQ.OSPITE\",'Daily Diary'!E:E,\"PUNTA SQ.OSPITE\",'Daily Diary'!K:K,\"WIN\")","v":0},{"$f":"COUNTIFS('Daily Diary'!A:A,'Grafico Strategie Settimanali'!B219,'Daily Diary'!E:E,\"BANCA SFAVORITA\",'Daily Diary'!E:E,\"BANCA SFAVORITA\",'Daily Diary'!K:K,\"WIN\")","v":0},{"$f":"COUNTIFS('Daily Diary'!A:A,'Grafico Strategie Settimanali'!B219,'Daily Diary'!E:E,\"PUNTA OVER\",'Daily Diary'!E:E,\"PUNTA OVER\",'Daily Diary'!K:K,\"WIN\")","v":0},{"$f":"COUNTIFS('Daily Diary'!A:A,'Grafico Strategie Settimanali'!B219,'Daily Diary'!E:E,\"PUNTA UNDER\",'Daily Diary'!E:E,\"PUNTA UNDER\",'Daily Diary'!K:K,\"WIN\")","v":0},{"$f":"COUNTIFS('Daily Diary'!A:A,'Grafico Strategie Settimanali'!B219,'Daily Diary'!E:E,\"SCALPING\",'Daily Diary'!E:E,\"SCALPING\",'Daily Diary'!K:K,\"WIN\")","v":0},{"$f":"COUNTIFS('Daily Diary'!A:A,'Grafico Strategie Settimanali'!B219,'Daily Diary'!E:E,\"GT 90\",'Daily Diary'!E:E,\"GT 90\",'Daily Diary'!K:K,\"WIN\")","v":0},{"$f":"COUNTIFS('Daily Diary'!A:A,'Grafico Strategie Settimanali'!B219,'Daily Diary'!E:E,\"GT 110\",'Daily Diary'!E:E,\"GT 110\",'Daily Diary'!K:K,\"WIN\")","v":0},{"$f":"COUNTIFS('Daily Diary'!A:A,'Grafico Strategie Settimanali'!B219,'Daily Diary'!E:E,\"ALERT GOAL\",'Daily Diary'!E:E,\"ALERT GOAL\",'Daily Diary'!K:K,\"WIN\")","v":0},{"$f":"COUNTIFS('Daily Diary'!A:A,'Grafico Strategie Settimanali'!B219,'Daily Diary'!E:E,\"DRAW NO BET\",'Daily Diary'!E:E,\"DRAW NO BET\",'Daily Diary'!K:K,\"WIN\")","v":0},{"$f":"COUNTIFS('Daily Diary'!A:A,'Grafico Strategie Settimanali'!B219,'Daily Diary'!E:E,\"ALTRO\",'Daily Diary'!E:E,\"ALTRO\",'Daily Diary'!K:K,\"WIN\")","v":0},{"$error":"#DIV/0!"},{"$error":"#DIV/0!"},{"$error":"#DIV/0!"},{"$error":"#DIV/0!"},{"$error":"#DIV/0!"},{"$error":"#DIV/0!"},{"$error":"#DIV/0!"},{"$error":"#DIV/0!"},{"$error":"#DIV/0!"},{"$error":"#DIV/0!"},{"$error":"#DIV/0!"},{"$error":"#DIV/0!"}]
[0,"2023-12-08",{"$f":"COUNTIFS('Daily Diary'!A:A,'Grafico Strategie Settimanali'!B220,'Daily Diary'!E:E,\"BANCA PAREGGIO\")","v":0},{"$f":"COUNTIFS('Daily Diary'!A:A,'Grafico Strategie Settimanali'!B220,'Daily Diary'!E:E,\"PUNTA SQ.CASA\")","v":0},{"$f":"COUNTIFS('Daily Diary'!A:A,'Grafico Strategie Settimanali'!B220,'Daily Diary'!E:E,\"PUNTA SQ.OSPITE\")","v":0},{"$f":"COUNTIFS('Daily Diary'!A:A,'Grafico Strategie Settimanali'!B220,'Daily Diary'!E:E,\"BANCA SFAVORITA\")","v":0},{"$f":"COUNTIFS('Daily Diary'!A:A,'Grafico Strategie Settimanali'!B220,'Daily Diary'!E:E,\"PUNTA OVER\")","v":0},{"$f":"COUNTIFS('Daily Diary'!A:A,'Grafico Strategie Settimanali'!B220,'Daily Diary'!E:E,\"PUNTA UNDER\")","v":0},{"$f":"COUNTIFS('Daily Diary'!A:A,'Grafico Strategie Settimanali'!B220,'Daily Diary'!E:E,\"SCALPING\")","v":0},{"$f":"COUNTIFS('Daily Diary'!A:A,'Grafico Strategie Settimanali'!B220,'Daily Diary'!E:E,\"GT90\")","v":0},{"$f":"COUNTIFS('Daily Diary'!A:A,'Grafico Strategie Settimanali'!B220,'Daily Diary'!E:E,\"GT110\")","v":0},{"$f":"COUNTIFS('Daily Diary'!A:A,'Grafico Strategie Settimanali'!B220,'Daily Diary'!E:E,\"ALERT GOAL\")","v":0},{"$f":"COUNTIFS('Daily Diary'!A:A,'Grafico Strategie Settimanali'!B220,'Daily Diary'!E:E,\"DRAW NO BET\")","v":0},{"$f":"COUNTIFS('Daily Diary'!A:A,'Grafico Strategie Settimanali'!B220,'Daily Diary'!E:E,\"ALTRO\")","v":0},{"$f":"COUNTIFS('Daily Diary'!A:A,'Grafico Strategie Settimanali'!B220,'Daily Diary'!E:E,\"BANCA PAREGGIO\",'Daily Diary'!E:E,\"BANCA PAREGGIO\",'Daily Diary'!K:K,\"WIN\")","v":0},{"$f":"COUNTIFS('Daily Diary'!A:A,'Grafico Strategie Settimanali'!B220,'Daily Diary'!E:E,\"PUNTA SQ.CASA\",'Daily Diary'!E:E,\"PUNTA SQ.CASA\",'Daily Diary'!K:K,\"WIN\")","v":0},{"$f":"COUNTIFS('Daily Diary'!A:A,'Grafico Strategie Settimanali'!B220,'Daily Diary'!E:E,\"PUNTA SQ.OSPITE\",'Daily Diary'!E:E,\"PUNTA SQ.OSPITE\",'Daily Diary'!K:K,\"WIN\")","v":0},{"$f":"COUNTIFS('Daily Diary'!A:A,'Grafico Strategie Settimanali'!B220,'Daily Diary'!E:E,\"BANCA SFAVORITA\",'Daily Diary'!E:E,\"BANCA SFAVORITA\",'Daily Diary'!K:K,\"WIN\")","v":0},{"$f":"COUNTIFS('Daily Diary'!A:A,'Grafico Strategie Settimanali'!B220,'Daily Diary'!E:E,\"PUNTA OVER\",'Daily Diary'!E:E,\"PUNTA OVER\",'Daily Diary'!K:K,\"WIN\")","v":0},{"$f":"COUNTIFS('Daily Diary'!A:A,'Grafico Strategie Settimanali'!B220,'Daily Diary'!E:E,\"PUNTA UNDER\",'Daily Diary'!E:E,\"PUNTA UNDER\",'Daily Diary'!K:K,\"WIN\")","v":0},{"$f":"COUNTIFS('Daily Diary'!A:A,'Grafico Strategie Settimanali'!B220,'Daily Diary'!E:E,\"SCALPING\",'Daily Diary'!E:E,\"SCALPING\",'Daily Diary'!K:K,\"WIN\")","v":0},{"$f":"COUNTIFS('Daily Diary'!A:A,'Grafico Strategie Settimanali'!B220,'Daily Diary'!E:E,\"GT 90\",'Daily Diary'!E:E,\"GT 90\",'Daily Diary'!K:K,\"WIN\")","v":0},{"$f":"COUNTIFS('Daily Diary'!A:A,'Grafico Strategie Settimanali'!B220,'Daily Diary'!E:E,\"GT 110\",'Daily Diary'!E:E,\"GT 110\",'Daily Diary'!K:K,\"WIN\")","v":0},{"$f":"COUNTIFS('Daily Diary'!A:A,'Grafico Strategie Settimanali'!B220,'Daily Diary'!E:E,\"ALERT GOAL\",'Daily Diary'!E:E,\"ALERT GOAL\",'Daily Diary'!K:K,\"WIN\")","v":0},{"$f":"COUNTIFS('Daily Diary'!A:A,'Grafico Strategie Settimanali'!B220,'Daily Diary'!E:E,\"DRAW NO BET\",'Daily Diary'!E:E,\"DRAW NO BET\",'Daily Diary'!K:K,\"WIN\")","v":0},{"$f":"COUNTIFS('Daily Diary'!A:A,'Grafico Strategie Settimanali'!B220,'Daily Diary'!E:E,\"ALTRO\",'Daily Diary'!E:E,\"ALTRO\",'Daily Diary'!K:K,\"WIN\")","v":0},{"$error":"#DIV/0!"},{"$error":"#DIV/0!"},{"$error":"#DIV/0!"},{"$error":"#DIV/0!"},{"$error":"#DIV/0!"},{"$error":"#DIV/0!"},{"$error":"#DIV/0!"},{"$error":"#DIV/0!"},{"$error":"#DIV/0!"},{"$error":"#DIV/0!"},{"$error":"#DIV/0!"},{"$error":"#DIV/0!"}]
[0,"2023-12-09",{"$f":"COUNTIFS('Daily Diary'!A:A,'Grafico Strategie Settimanali'!B221,'Daily Diary'!E:E,\"BANCA PAREGGIO\")","v":0},{"$f":"COUNTIFS('Daily Diary'!A:A,'Grafico Strategie Settimanali'!B221,'Daily Diary'!E:E,\"PUNTA SQ.CASA\")","v":0},{"$f":"COUNTIFS('Daily Diary'!A:A,'Grafico Strategie Settimanali'!B221,'Daily Diary'!E:E,\"PUNTA SQ.OSPITE\")","v":0},{"$f":"COUNTIFS('Daily Diary'!A:A,'Grafico Strategie Settimanali'!B221,'Daily Diary'!E:E,\"BANCA SFAVORITA\")","v":0},{"$f":"COUNTIFS('Daily Diary'!A:A,'Grafico Strategie Settimanali'!B221,'Daily Diary'!E:E,\"PUNTA OVER\")","v":0},{"$f":"COUNTIFS('Daily Diary'!A:A,'Grafico Strategie Settimanali'!B221,'Daily Diary'!E:E,\"PUNTA UNDER\")","v":0},{"$f":"COUNTIFS('Daily Diary'!A:A,'Grafico Strategie Settimanali'!B221,'Daily Diary'!E:E,\"SCALPING\")","v":0},{"$f":"COUNTIFS('Daily Diary'!A:A,'Grafico Strategie Settimanali'!B221,'Daily Diary'!E:E,\"GT90\")","v":0},{"$f":"COUNTIFS('Daily Diary'!A:A,'Grafico Strategie Settimanali'!B221,'Daily Diary'!E:E,\"GT110\")","v":0},{"$f":"COUNTIFS('Daily Diary'!A:A,'Grafico Strategie Settimanali'!B221,'Daily Diary'!E:E,\"ALERT GOAL\")","v":0},{"$f":"COUNTIFS('Daily Diary'!A:A,'Grafico Strategie Settimanali'!B221,'Daily Diary'!E:E,\"DRAW NO BET\")","v":0},{"$f":"COUNTIFS('Daily Diary'!A:A,'Grafico Strategie Settimanali'!B221,'Daily Diary'!E:E,\"ALTRO\")","v":0},{"$f":"COUNTIFS('Daily Diary'!A:A,'Grafico Strategie Settimanali'!B221,'Daily Diary'!E:E,\"BANCA PAREGGIO\",'Daily Diary'!E:E,\"BANCA PAREGGIO\",'Daily Diary'!K:K,\"WIN\")","v":0},{"$f":"COUNTIFS('Daily Diary'!A:A,'Grafico Strategie Settimanali'!B221,'Daily Diary'!E:E,\"PUNTA SQ.CASA\",'Daily Diary'!E:E,\"PUNTA SQ.CASA\",'Daily Diary'!K:K,\"WIN\")","v":0},{"$f":"COUNTIFS('Daily Diary'!A:A,'Grafico Strategie Settimanali'!B221,'Daily Diary'!E:E,\"PUNTA SQ.OSPITE\",'Daily Diary'!E:E,\"PUNTA SQ.OSPITE\",'Daily Diary'!K:K,\"WIN\")","v":0},{"$f":"COUNTIFS('Daily Diary'!A:A,'Grafico Strategie Settimanali'!B221,'Daily Diary'!E:E,\"BANCA SFAVORITA\",'Daily Diary'!E:E,\"BANCA SFAVORITA\",'Daily Diary'!K:K,\"WIN\")","v":0},{"$f":"COUNTIFS('Daily Diary'!A:A,'Grafico Strategie Settimanali'!B221,'Daily Diary'!E:E,\"PUNTA OVER\",'Daily Diary'!E:E,\"PUNTA OVER\",'Daily Diary'!K:K,\"WIN\")","v":0},{"$f":"COUNTIFS('Daily Diary'!A:A,'Grafico Strategie Settimanali'!B221,'Daily Diary'!E:E,\"PUNTA UNDER\",'Daily Diary'!E:E,\"PUNTA UNDER\",'Daily Diary'!K:K,\"WIN\")","v":0},{"$f":"COUNTIFS('Daily Diary'!A:A,'Grafico Strategie Settimanali'!B221,'Daily Diary'!E:E,\"SCALPING\",'Daily Diary'!E:E,\"SCALPING\",'Daily Diary'!K:K,\"WIN\")","v":0},{"$f":"COUNTIFS('Daily Diary'!A:A,'Grafico Strategie Settimanali'!B221,'Daily Diary'!E:E,\"GT 90\",'Daily Diary'!E:E,\"GT 90\",'Daily Diary'!K:K,\"WIN\")","v":0},{"$f":"COUNTIFS('Daily Diary'!A:A,'Grafico Strategie Settimanali'!B221,'Daily Diary'!E:E,\"GT 110\",'Daily Diary'!E:E,\"GT 110\",'Daily Diary'!K:K,\"WIN\")","v":0},{"$f":"COUNTIFS('Daily Diary'!A:A,'Grafico Strategie Settimanali'!B221,'Daily Diary'!E:E,\"ALERT GOAL\",'Daily Diary'!E:E,\"ALERT GOAL\",'Daily Diary'!K:K,\"WIN\")","v":0},{"$f":"COUNTIFS('Daily Diary'!A:A,'Grafico Strategie Settimanali'!B221,'Daily Diary'!E:E,\"DRAW NO BET\",'Daily Diary'!E:E,\"DRAW NO BET\",'Daily Diary'!K:K,\"WIN\")","v":0},{"$f":"COUNTIFS('Daily Diary'!A:A,'Grafico Strategie Settimanali'!B221,'Daily Diary'!E:E,\"ALTRO\",'Daily Diary'!E:E,\"ALTRO\",'Daily Diary'!K:K,\"WIN\")","v":0},{"$error":"#DIV/0!"},{"$error":"#DIV/0!"},{"$error":"#DIV/0!"},{"$error":"#DIV/0!"},{"$error":"#DIV/0!"},{"$error":"#DIV/0!"},{"$error":"#DIV/0!"},{"$error":"#DIV/0!"},{"$error":"#DIV/0!"},{"$error":"#DIV/0!"},{"$error":"#DIV/0!"},{"$error":"#DIV/0!"}]
[0,"2023-12-10",{"$f":"COUNTIFS('Daily Diary'!A:A,'Grafico Strategie Settimanali'!B222,'Daily Diary'!E:E,\"BANCA PAREGGIO\")","v":0},{"$f":"COUNTIFS('Daily Diary'!A:A,'Grafico Strategie Settimanali'!B222,'Daily Diary'!E:E,\"PUNTA SQ.CASA\")","v":0},{"$f":"COUNTIFS('Daily Diary'!A:A,'Grafico Strategie Settimanali'!B222,'Daily Diary'!E:E,\"PUNTA SQ.OSPITE\")","v":0},{"$f":"COUNTIFS('Daily Diary'!A:A,'Grafico Strategie Settimanali'!B222,'Daily Diary'!E:E,\"BANCA SFAVORITA\")","v":0},{"$f":"COUNTIFS('Daily Diary'!A:A,'Grafico Strategie Settimanali'!B222,'Daily Diary'!E:E,\"PUNTA OVER\")","v":0},{"$f":"COUNTIFS('Daily Diary'!A:A,'Grafico Strategie Settimanali'!B222,'Daily Diary'!E:E,\"PUNTA UNDER\")","v":0},{"$f":"COUNTIFS('Daily Diary'!A:A,'Grafico Strategie Settimanali'!B222,'Daily Diary'!E:E,\"SCALPING\")","v":0},{"$f":"COUNTIFS('Daily Diary'!A:A,'Grafico Strategie Settimanali'!B222,'Daily Diary'!E:E,\"GT90\")","v":0},{"$f":"COUNTIFS('Daily Diary'!A:A,'Grafico Strategie Settimanali'!B222,'Daily Diary'!E:E,\"GT110\")","v":0},{"$f":"COUNTIFS('Daily Diary'!A:A,'Grafico Strategie Settimanali'!B222,'Daily Diary'!E:E,\"ALERT GOAL\")","v":0},{"$f":"COUNTIFS('Daily Diary'!A:A,'Grafico Strategie Settimanali'!B222,'Daily Diary'!E:E,\"DRAW NO BET\")","v":0},{"$f":"COUNTIFS('Daily Diary'!A:A,'Grafico Strategie Settimanali'!B222,'Daily Diary'!E:E,\"ALTRO\")","v":0},{"$f":"COUNTIFS('Daily Diary'!A:A,'Grafico Strategie Settimanali'!B222,'Daily Diary'!E:E,\"BANCA PAREGGIO\",'Daily Diary'!E:E,\"BANCA PAREGGIO\",'Daily Diary'!K:K,\"WIN\")","v":0},{"$f":"COUNTIFS('Daily Diary'!A:A,'Grafico Strategie Settimanali'!B222,'Daily Diary'!E:E,\"PUNTA SQ.CASA\",'Daily Diary'!E:E,\"PUNTA SQ.CASA\",'Daily Diary'!K:K,\"WIN\")","v":0},{"$f":"COUNTIFS('Daily Diary'!A:A,'Grafico Strategie Settimanali'!B222,'Daily Diary'!E:E,\"PUNTA SQ.OSPITE\",'Daily Diary'!E:E,\"PUNTA SQ.OSPITE\",'Daily Diary'!K:K,\"WIN\")","v":0},{"$f":"COUNTIFS('Daily Diary'!A:A,'Grafico Strategie Settimanali'!B222,'Daily Diary'!E:E,\"BANCA SFAVORITA\",'Daily Diary'!E:E,\"BANCA SFAVORITA\",'Daily Diary'!K:K,\"WIN\")","v":0},{"$f":"COUNTIFS('Daily Diary'!A:A,'Grafico Strategie Settimanali'!B222,'Daily Diary'!E:E,\"PUNTA OVER\",'Daily Diary'!E:E,\"PUNTA OVER\",'Daily Diary'!K:K,\"WIN\")","v":0},{"$f":"COUNTIFS('Daily Diary'!A:A,'Grafico Strategie Settimanali'!B222,'Daily Diary'!E:E,\"PUNTA UNDER\",'Daily Diary'!E:E,\"PUNTA UNDER\",'Daily Diary'!K:K,\"WIN\")","v":0},{"$f":"COUNTIFS('Daily Diary'!A:A,'Grafico Strategie Settimanali'!B222,'Daily Diary'!E:E,\"SCALPING\",'Daily Diary'!E:E,\"SCALPING\",'Daily Diary'!K:K,\"WIN\")","v":0},{"$f":"COUNTIFS('Daily Diary'!A:A,'Grafico Strategie Settimanali'!B222,'Daily Diary'!E:E,\"GT 90\",'Daily Diary'!E:E,\"GT 90\",'Daily Diary'!K:K,\"WIN\")","v":0},{"$f":"COUNTIFS('Daily Diary'!A:A,'Grafico Strategie Settimanali'!B222,'Daily Diary'!E:E,\"GT 110\",'Daily Diary'!E:E,\"GT 110\",'Daily Diary'!K:K,\"WIN\")","v":0},{"$f":"COUNTIFS('Daily Diary'!A:A,'Grafico Strategie Settimanali'!B222,'Daily Diary'!E:E,\"ALERT GOAL\",'Daily Diary'!E:E,\"ALERT GOAL\",'Daily Diary'!K:K,\"WIN\")","v":0},{"$f":"COUNTIFS('Daily Diary'!A:A,'Grafico Strategie Settimanali'!B222,'Daily Diary'!E:E,\"DRAW NO BET\",'Daily Diary'!E:E,\"DRAW NO BET\",'Daily Diary'!K:K,\"WIN\")","v":0},{"$f":"COUNTIFS('Daily Diary'!A:A,'Grafico Strategie Settimanali'!B222,'Daily Diary'!E:E,\"ALTRO\",'Daily Diary'!E:E,\"ALTRO\",'Daily Diary'!K:K,\"WIN\")","v":0},{"$error":"#DIV/0!"},{"$error":"#DIV/0!"},{"$error":"#DIV/0!"},{"$error":"#DIV/0!"},{"$error":"#DIV/0!"},{"$error":"#DIV/0!"},{"$error":"#DIV/0!"},{"$error":"#DIV/0!"},{"$error":"#DIV/0!"},{"$error":"#DIV/0!"},{"$error":"#DIV/0!"},{"$error":"#DIV/0!"}]
[0,"2023-12-11",{"$f":"COUNTIFS('Daily Diary'!A:A,'Grafico Strategie Settimanali'!B223,'Daily Diary'!E:E,\"BANCA PAREGGIO\")","v":0},{"$f":"COUNTIFS('Daily Diary'!A:A,'Grafico Strategie Settimanali'!B223,'Daily Diary'!E:E,\"PUNTA SQ.CASA\")","v":0},{"$f":"COUNTIFS('Daily Diary'!A:A,'Grafico Strategie Settimanali'!B223,'Daily Diary'!E:E,\"PUNTA SQ.OSPITE\")","v":0},{"$f":"COUNTIFS('Daily Diary'!A:A,'Grafico Strategie Settimanali'!B223,'Daily Diary'!E:E,\"BANCA SFAVORITA\")","v":0},{"$f":"COUNTIFS('Daily Diary'!A:A,'Grafico Strategie Settimanali'!B223,'Daily Diary'!E:E,\"PUNTA OVER\")","v":0},{"$f":"COUNTIFS('Daily Diary'!A:A,'Grafico Strategie Settimanali'!B223,'Daily Diary'!E:E,\"PUNTA UNDER\")","v":0},{"$f":"COUNTIFS('Daily Diary'!A:A,'Grafico Strategie Settimanali'!B223,'Daily Diary'!E:E,\"SCALPING\")","v":0},{"$f":"COUNTIFS('Daily Diary'!A:A,'Grafico Strategie Settimanali'!B223,'Daily Diary'!E:E,\"GT90\")","v":0},{"$f":"COUNTIFS('Daily Diary'!A:A,'Grafico Strategie Settimanali'!B223,'Daily Diary'!E:E,\"GT110\")","v":0},{"$f":"COUNTIFS('Daily Diary'!A:A,'Grafico Strategie Settimanali'!B223,'Daily Diary'!E:E,\"ALERT GOAL\")","v":0},{"$f":"COUNTIFS('Daily Diary'!A:A,'Grafico Strategie Settimanali'!B223,'Daily Diary'!E:E,\"DRAW NO BET\")","v":0},{"$f":"COUNTIFS('Daily Diary'!A:A,'Grafico Strategie Settimanali'!B223,'Daily Diary'!E:E,\"ALTRO\")","v":0},{"$f":"COUNTIFS('Daily Diary'!A:A,'Grafico Strategie Settimanali'!B223,'Daily Diary'!E:E,\"BANCA PAREGGIO\",'Daily Diary'!E:E,\"BANCA PAREGGIO\",'Daily Diary'!K:K,\"WIN\")","v":0},{"$f":"COUNTIFS('Daily Diary'!A:A,'Grafico Strategie Settimanali'!B223,'Daily Diary'!E:E,\"PUNTA SQ.CASA\",'Daily Diary'!E:E,\"PUNTA SQ.CASA\",'Daily Diary'!K:K,\"WIN\")","v":0},{"$f":"COUNTIFS('Daily Diary'!A:A,'Grafico Strategie Settimanali'!B223,'Daily Diary'!E:E,\"PUNTA SQ.OSPITE\",'Daily Diary'!E:E,\"PUNTA SQ.OSPITE\",'Daily Diary'!K:K,\"WIN\")","v":0},{"$f":"COUNTIFS('Daily Diary'!A:A,'Grafico Strategie Settimanali'!B223,'Daily Diary'!E:E,\"BANCA SFAVORITA\",'Daily Diary'!E:E,\"BANCA SFAVORITA\",'Daily Diary'!K:K,\"WIN\")","v":0},{"$f":"COUNTIFS('Daily Diary'!A:A,'Grafico Strategie Settimanali'!B223,'Daily Diary'!E:E,\"PUNTA OVER\",'Daily Diary'!E:E,\"PUNTA OVER\",'Daily Diary'!K:K,\"WIN\")","v":0},{"$f":"COUNTIFS('Daily Diary'!A:A,'Grafico Strategie Settimanali'!B223,'Daily Diary'!E:E,\"PUNTA UNDER\",'Daily Diary'!E:E,\"PUNTA UNDER\",'Daily Diary'!K:K,\"WIN\")","v":0},{"$f":"COUNTIFS('Daily Diary'!A:A,'Grafico Strategie Settimanali'!B223,'Daily Diary'!E:E,\"SCALPING\",'Daily Diary'!E:E,\"SCALPING\",'Daily Diary'!K:K,\"WIN\")","v":0},{"$f":"COUNTIFS('Daily Diary'!A:A,'Grafico Strategie Settimanali'!B223,'Daily Diary'!E:E,\"GT 90\",'Daily Diary'!E:E,\"GT 90\",'Daily Diary'!K:K,\"WIN\")","v":0},{"$f":"COUNTIFS('Daily Diary'!A:A,'Grafico Strategie Settimanali'!B223,'Daily Diary'!E:E,\"GT 110\",'Daily Diary'!E:E,\"GT 110\",'Daily Diary'!K:K,\"WIN\")","v":0},{"$f":"COUNTIFS('Daily Diary'!A:A,'Grafico Strategie Settimanali'!B223,'Daily Diary'!E:E,\"ALERT GOAL\",'Daily Diary'!E:E,\"ALERT GOAL\",'Daily Diary'!K:K,\"WIN\")","v":0},{"$f":"COUNTIFS('Daily Diary'!A:A,'Grafico Strategie Settimanali'!B223,'Daily Diary'!E:E,\"DRAW NO BET\",'Daily Diary'!E:E,\"DRAW NO BET\",'Daily Diary'!K:K,\"WIN\")","v":0},{"$f":"COUNTIFS('Daily Diary'!A:A,'Grafico Strategie Settimanali'!B223,'Daily Diary'!E:E,\"ALTRO\",'Daily Diary'!E:E,\"ALTRO\",'Daily Diary'!K:K,\"WIN\")","v":0},{"$error":"#DIV/0!"},{"$error":"#DIV/0!"},{"$error":"#DIV/0!"},{"$error":"#DIV/0!"},{"$error":"#DIV/0!"},{"$error":"#DIV/0!"},{"$error":"#DIV/0!"},{"$error":"#DIV/0!"},{"$error":"#DIV/0!"},{"$error":"#DIV/0!"},{"$error":"#DIV/0!"},{"$error":"#DIV/0!"}]
[0,"2023-12-12",{"$f":"COUNTIFS('Daily Diary'!A:A,'Grafico Strategie Settimanali'!B224,'Daily Diary'!E:E,\"BANCA PAREGGIO\")","v":0},{"$f":"COUNTIFS('Daily Diary'!A:A,'Grafico Strategie Settimanali'!B224,'Daily Diary'!E:E,\"PUNTA SQ.CASA\")","v":0},{"$f":"COUNTIFS('Daily Diary'!A:A,'Grafico Strategie Settimanali'!B224,'Daily Diary'!E:E,\"PUNTA SQ.OSPITE\")","v":0},{"$f":"COUNTIFS('Daily Diary'!A:A,'Grafico Strategie Settimanali'!B224,'Daily Diary'!E:E,\"BANCA SFAVORITA\")","v":0},{"$f":"COUNTIFS('Daily Diary'!A:A,'Grafico Strategie Settimanali'!B224,'Daily Diary'!E:E,\"PUNTA OVER\")","v":0},{"$f":"COUNTIFS('Daily Diary'!A:A,'Grafico Strategie Settimanali'!B224,'Daily Diary'!E:E,\"PUNTA UNDER\")","v":0},{"$f":"COUNTIFS('Daily Diary'!A:A,'Grafico Strategie Settimanali'!B224,'Daily Diary'!E:E,\"SCALPING\")","v":0},{"$f":"COUNTIFS('Daily Diary'!A:A,'Grafico Strategie Settimanali'!B224,'Daily Diary'!E:E,\"GT90\")","v":0},{"$f":"COUNTIFS('Daily Diary'!A:A,'Grafico Strategie Settimanali'!B224,'Daily Diary'!E:E,\"GT110\")","v":0},{"$f":"COUNTIFS('Daily Diary'!A:A,'Grafico Strategie Settimanali'!B224,'Daily Diary'!E:E,\"ALERT GOAL\")","v":0},{"$f":"COUNTIFS('Daily Diary'!A:A,'Grafico Strategie Settimanali'!B224,'Daily Diary'!E:E,\"DRAW NO BET\")","v":0},{"$f":"COUNTIFS('Daily Diary'!A:A,'Grafico Strategie Settimanali'!B224,'Daily Diary'!E:E,\"ALTRO\")","v":0},{"$f":"COUNTIFS('Daily Diary'!A:A,'Grafico Strategie Settimanali'!B224,'Daily Diary'!E:E,\"BANCA PAREGGIO\",'Daily Diary'!E:E,\"BANCA PAREGGIO\",'Daily Diary'!K:K,\"WIN\")","v":0},{"$f":"COUNTIFS('Daily Diary'!A:A,'Grafico Strategie Settimanali'!B224,'Daily Diary'!E:E,\"PUNTA SQ.CASA\",'Daily Diary'!E:E,\"PUNTA SQ.CASA\",'Daily Diary'!K:K,\"WIN\")","v":0},{"$f":"COUNTIFS('Daily Diary'!A:A,'Grafico Strategie Settimanali'!B224,'Daily Diary'!E:E,\"PUNTA SQ.OSPITE\",'Daily Diary'!E:E,\"PUNTA SQ.OSPITE\",'Daily Diary'!K:K,\"WIN\")","v":0},{"$f":"COUNTIFS('Daily Diary'!A:A,'Grafico Strategie Settimanali'!B224,'Daily Diary'!E:E,\"BANCA SFAVORITA\",'Daily Diary'!E:E,\"BANCA SFAVORITA\",'Daily Diary'!K:K,\"WIN\")","v":0},{"$f":"COUNTIFS('Daily Diary'!A:A,'Grafico Strategie Settimanali'!B224,'Daily Diary'!E:E,\"PUNTA OVER\",'Daily Diary'!E:E,\"PUNTA OVER\",'Daily Diary'!K:K,\"WIN\")","v":0},{"$f":"COUNTIFS('Daily Diary'!A:A,'Grafico Strategie Settimanali'!B224,'Daily Diary'!E:E,\"PUNTA UNDER\",'Daily Diary'!E:E,\"PUNTA UNDER\",'Daily Diary'!K:K,\"WIN\")","v":0},{"$f":"COUNTIFS('Daily Diary'!A:A,'Grafico Strategie Settimanali'!B224,'Daily Diary'!E:E,\"SCALPING\",'Daily Diary'!E:E,\"SCALPING\",'Daily Diary'!K:K,\"WIN\")","v":0},{"$f":"COUNTIFS('Daily Diary'!A:A,'Grafico Strategie Settimanali'!B224,'Daily Diary'!E:E,\"GT 90\",'Daily Diary'!E:E,\"GT 90\",'Daily Diary'!K:K,\"WIN\")","v":0},{"$f":"COUNTIFS('Daily Diary'!A:A,'Grafico Strategie Settimanali'!B224,'Daily Diary'!E:E,\"GT 110\",'Daily Diary'!E:E,\"GT 110\",'Daily Diary'!K:K,\"WIN\")","v":0},{"$f":"COUNTIFS('Daily Diary'!A:A,'Grafico Strategie Settimanali'!B224,'Daily Diary'!E:E,\"ALERT GOAL\",'Daily Diary'!E:E,\"ALERT GOAL\",'Daily Diary'!K:K,\"WIN\")","v":0},{"$f":"COUNTIFS('Daily Diary'!A:A,'Grafico Strategie Settimanali'!B224,'Daily Diary'!E:E,\"DRAW NO BET\",'Daily Diary'!E:E,\"DRAW NO BET\",'Daily Diary'!K:K,\"WIN\")","v":0},{"$f":"COUNTIFS('Daily Diary'!A:A,'Grafico Strategie Settimanali'!B224,'Daily Diary'!E:E,\"ALTRO\",'Daily Diary'!E:E,\"ALTRO\",'Daily Diary'!K:K,\"WIN\")","v":0},{"$error":"#DIV/0!"},{"$error":"#DIV/0!"},{"$error":"#DIV/0!"},{"$error":"#DIV/0!"},{"$error":"#DIV/0!"},{"$error":"#DIV/0!"},{"$error":"#DIV/0!"},{"$error":"#DIV/0!"},{"$error":"#DIV/0!"},{"$error":"#DIV/0!"},{"$error":"#DIV/0!"},{"$error":"#DIV/0!"}]
[0,"2023-12-13",{"$f":"COUNTIFS('Daily Diary'!A:A,'Grafico Strategie Settimanali'!B225,'Daily Diary'!E:E,\"BANCA PAREGGIO\")","v":0},{"$f":"COUNTIFS('Daily Diary'!A:A,'Grafico Strategie Settimanali'!B225,'Daily Diary'!E:E,\"PUNTA SQ.CASA\")","v":0},{"$f":"COUNTIFS('Daily Diary'!A:A,'Grafico Strategie Settimanali'!B225,'Daily Diary'!E:E,\"PUNTA SQ.OSPITE\")","v":0},{"$f":"COUNTIFS('Daily Diary'!A:A,'Grafico Strategie Settimanali'!B225,'Daily Diary'!E:E,\"BANCA SFAVORITA\")","v":0},{"$f":"COUNTIFS('Daily Diary'!A:A,'Grafico Strategie Settimanali'!B225,'Daily Diary'!E:E,\"PUNTA OVER\")","v":0},{"$f":"COUNTIFS('Daily Diary'!A:A,'Grafico Strategie Settimanali'!B225,'Daily Diary'!E:E,\"PUNTA UNDER\")","v":0},{"$f":"COUNTIFS('Daily Diary'!A:A,'Grafico Strategie Settimanali'!B225,'Daily Diary'!E:E,\"SCALPING\")","v":0},{"$f":"COUNTIFS('Daily Diary'!A:A,'Grafico Strategie Settimanali'!B225,'Daily Diary'!E:E,\"GT90\")","v":0},{"$f":"COUNTIFS('Daily Diary'!A:A,'Grafico Strategie Settimanali'!B225,'Daily Diary'!E:E,\"GT110\")","v":0},{"$f":"COUNTIFS('Daily Diary'!A:A,'Grafico Strategie Settimanali'!B225,'Daily Diary'!E:E,\"ALERT GOAL\")","v":0},{"$f":"COUNTIFS('Daily Diary'!A:A,'Grafico Strategie Settimanali'!B225,'Daily Diary'!E:E,\"DRAW NO BET\")","v":0},{"$f":"COUNTIFS('Daily Diary'!A:A,'Grafico Strategie Settimanali'!B225,'Daily Diary'!E:E,\"ALTRO\")","v":0},{"$f":"COUNTIFS('Daily Diary'!A:A,'Grafico Strategie Settimanali'!B225,'Daily Diary'!E:E,\"BANCA PAREGGIO\",'Daily Diary'!E:E,\"BANCA PAREGGIO\",'Daily Diary'!K:K,\"WIN\")","v":0},{"$f":"COUNTIFS('Daily Diary'!A:A,'Grafico Strategie Settimanali'!B225,'Daily Diary'!E:E,\"PUNTA SQ.CASA\",'Daily Diary'!E:E,\"PUNTA SQ.CASA\",'Daily Diary'!K:K,\"WIN\")","v":0},{"$f":"COUNTIFS('Daily Diary'!A:A,'Grafico Strategie Settimanali'!B225,'Daily Diary'!E:E,\"PUNTA SQ.OSPITE\",'Daily Diary'!E:E,\"PUNTA SQ.OSPITE\",'Daily Diary'!K:K,\"WIN\")","v":0},{"$f":"COUNTIFS('Daily Diary'!A:A,'Grafico Strategie Settimanali'!B225,'Daily Diary'!E:E,\"BANCA SFAVORITA\",'Daily Diary'!E:E,\"BANCA SFAVORITA\",'Daily Diary'!K:K,\"WIN\")","v":0},{"$f":"COUNTIFS('Daily Diary'!A:A,'Grafico Strategie Settimanali'!B225,'Daily Diary'!E:E,\"PUNTA OVER\",'Daily Diary'!E:E,\"PUNTA OVER\",'Daily Diary'!K:K,\"WIN\")","v":0},{"$f":"COUNTIFS('Daily Diary'!A:A,'Grafico Strategie Settimanali'!B225,'Daily Diary'!E:E,\"PUNTA UNDER\",'Daily Diary'!E:E,\"PUNTA UNDER\",'Daily Diary'!K:K,\"WIN\")","v":0},{"$f":"COUNTIFS('Daily Diary'!A:A,'Grafico Strategie Settimanali'!B225,'Daily Diary'!E:E,\"SCALPING\",'Daily Diary'!E:E,\"SCALPING\",'Daily Diary'!K:K,\"WIN\")","v":0},{"$f":"COUNTIFS('Daily Diary'!A:A,'Grafico Strategie Settimanali'!B225,'Daily Diary'!E:E,\"GT 90\",'Daily Diary'!E:E,\"GT 90\",'Daily Diary'!K:K,\"WIN\")","v":0},{"$f":"COUNTIFS('Daily Diary'!A:A,'Grafico Strategie Settimanali'!B225,'Daily Diary'!E:E,\"GT 110\",'Daily Diary'!E:E,\"GT 110\",'Daily Diary'!K:K,\"WIN\")","v":0},{"$f":"COUNTIFS('Daily Diary'!A:A,'Grafico Strategie Settimanali'!B225,'Daily Diary'!E:E,\"ALERT GOAL\",'Daily Diary'!E:E,\"ALERT GOAL\",'Daily Diary'!K:K,\"WIN\")","v":0},{"$f":"COUNTIFS('Daily Diary'!A:A,'Grafico Strategie Settimanali'!B225,'Daily Diary'!E:E,\"DRAW NO BET\",'Daily Diary'!E:E,\"DRAW NO BET\",'Daily Diary'!K:K,\"WIN\")","v":0},{"$f":"COUNTIFS('Daily Diary'!A:A,'Grafico Strategie Settimanali'!B225,'Daily Diary'!E:E,\"ALTRO\",'Daily Diary'!E:E,\"ALTRO\",'Daily Diary'!K:K,\"WIN\")","v":0},{"$error":"#DIV/0!"},{"$error":"#DIV/0!"},{"$error":"#DIV/0!"},{"$error":"#DIV/0!"},{"$error":"#DIV/0!"},{"$error":"#DIV/0!"},{"$error":"#DIV/0!"},{"$error":"#DIV/0!"},{"$error":"#DIV/0!"},{"$error":"#DIV/0!"},{"$error":"#DIV/0!"},{"$error":"#DIV/0!"}]
[0,"2023-12-14",{"$f":"COUNTIFS('Daily Diary'!A:A,'Grafico Strategie Settimanali'!B226,'Daily Diary'!E:E,\"BANCA PAREGGIO\")","v":0},{"$f":"COUNTIFS('Daily Diary'!A:A,'Grafico Strategie Settimanali'!B226,'Daily Diary'!E:E,\"PUNTA SQ.CASA\")","v":0},{"$f":"COUNTIFS('Daily Diary'!A:A,'Grafico Strategie Settimanali'!B226,'Daily Diary'!E:E,\"PUNTA SQ.OSPITE\")","v":0},{"$f":"COUNTIFS('Daily Diary'!A:A,'Grafico Strategie Settimanali'!B226,'Daily Diary'!E:E,\"BANCA SFAVORITA\")","v":0},{"$f":"COUNTIFS('Daily Diary'!A:A,'Grafico Strategie Settimanali'!B226,'Daily Diary'!E:E,\"PUNTA OVER\")","v":0},{"$f":"COUNTIFS('Daily Diary'!A:A,'Grafico Strategie Settimanali'!B226,'Daily Diary'!E:E,\"PUNTA UNDER\")","v":0},{"$f":"COUNTIFS('Daily Diary'!A:A,'Grafico Strategie Settimanali'!B226,'Daily Diary'!E:E,\"SCALPING\")","v":0},{"$f":"COUNTIFS('Daily Diary'!A:A,'Grafico Strategie Settimanali'!B226,'Daily Diary'!E:E,\"GT90\")","v":0},{"$f":"COUNTIFS('Daily Diary'!A:A,'Grafico Strategie Settimanali'!B226,'Daily Diary'!E:E,\"GT110\")","v":0},{"$f":"COUNTIFS('Daily Diary'!A:A,'Grafico Strategie Settimanali'!B226,'Daily Diary'!E:E,\"ALERT GOAL\")","v":0},{"$f":"COUNTIFS('Daily Diary'!A:A,'Grafico Strategie Settimanali'!B226,'Daily Diary'!E:E,\"DRAW NO BET\")","v":0},{"$f":"COUNTIFS('Daily Diary'!A:A,'Grafico Strategie Settimanali'!B226,'Daily Diary'!E:E,\"ALTRO\")","v":0},{"$f":"COUNTIFS('Daily Diary'!A:A,'Grafico Strategie Settimanali'!B226,'Daily Diary'!E:E,\"BANCA PAREGGIO\",'Daily Diary'!E:E,\"BANCA PAREGGIO\",'Daily Diary'!K:K,\"WIN\")","v":0},{"$f":"COUNTIFS('Daily Diary'!A:A,'Grafico Strategie Settimanali'!B226,'Daily Diary'!E:E,\"PUNTA SQ.CASA\",'Daily Diary'!E:E,\"PUNTA SQ.CASA\",'Daily Diary'!K:K,\"WIN\")","v":0},{"$f":"COUNTIFS('Daily Diary'!A:A,'Grafico Strategie Settimanali'!B226,'Daily Diary'!E:E,\"PUNTA SQ.OSPITE\",'Daily Diary'!E:E,\"PUNTA SQ.OSPITE\",'Daily Diary'!K:K,\"WIN\")","v":0},{"$f":"COUNTIFS('Daily Diary'!A:A,'Grafico Strategie Settimanali'!B226,'Daily Diary'!E:E,\"BANCA SFAVORITA\",'Daily Diary'!E:E,\"BANCA SFAVORITA\",'Daily Diary'!K:K,\"WIN\")","v":0},{"$f":"COUNTIFS('Daily Diary'!A:A,'Grafico Strategie Settimanali'!B226,'Daily Diary'!E:E,\"PUNTA OVER\",'Daily Diary'!E:E,\"PUNTA OVER\",'Daily Diary'!K:K,\"WIN\")","v":0},{"$f":"COUNTIFS('Daily Diary'!A:A,'Grafico Strategie Settimanali'!B226,'Daily Diary'!E:E,\"PUNTA UNDER\",'Daily Diary'!E:E,\"PUNTA UNDER\",'Daily Diary'!K:K,\"WIN\")","v":0},{"$f":"COUNTIFS('Daily Diary'!A:A,'Grafico Strategie Settimanali'!B226,'Daily Diary'!E:E,\"SCALPING\",'Daily Diary'!E:E,\"SCALPING\",'Daily Diary'!K:K,\"WIN\")","v":0},{"$f":"COUNTIFS('Daily Diary'!A:A,'Grafico Strategie Settimanali'!B226,'Daily Diary'!E:E,\"GT 90\",'Daily Diary'!E:E,\"GT 90\",'Daily Diary'!K:K,\"WIN\")","v":0},{"$f":"COUNTIFS('Daily Diary'!A:A,'Grafico Strategie Settimanali'!B226,'Daily Diary'!E:E,\"GT 110\",'Daily Diary'!E:E,\"GT 110\",'Daily Diary'!K:K,\"WIN\")","v":0},{"$f":"COUNTIFS('Daily Diary'!A:A,'Grafico Strategie Settimanali'!B226,'Daily Diary'!E:E,\"ALERT GOAL\",'Daily Diary'!E:E,\"ALERT GOAL\",'Daily Diary'!K:K,\"WIN\")","v":0},{"$f":"COUNTIFS('Daily Diary'!A:A,'Grafico Strategie Settimanali'!B226,'Daily Diary'!E:E,\"DRAW NO BET\",'Daily Diary'!E:E,\"DRAW NO BET\",'Daily Diary'!K:K,\"WIN\")","v":0},{"$f":"COUNTIFS('Daily Diary'!A:A,'Grafico Strategie Settimanali'!B226,'Daily Diary'!E:E,\"ALTRO\",'Daily Diary'!E:E,\"ALTRO\",'Daily Diary'!K:K,\"WIN\")","v":0},{"$error":"#DIV/0!"},{"$error":"#DIV/0!"},{"$error":"#DIV/0!"},{"$error":"#DIV/0!"},{"$error":"#DIV/0!"},{"$error":"#DIV/0!"},{"$error":"#DIV/0!"},{"$error":"#DIV/0!"},{"$error":"#DIV/0!"},{"$error":"#DIV/0!"},{"$error":"#DIV/0!"},{"$error":"#DIV/0!"}]
[0,"2023-12-15",{"$f":"COUNTIFS('Daily Diary'!A:A,'Grafico Strategie Settimanali'!B227,'Daily Diary'!E:E,\"BANCA PAREGGIO\")","v":0},{"$f":"COUNTIFS('Daily Diary'!A:A,'Grafico Strategie Settimanali'!B227,'Daily Diary'!E:E,\"PUNTA SQ.CASA\")","v":0},{"$f":"COUNTIFS('Daily Diary'!A:A,'Grafico Strategie Settimanali'!B227,'Daily Diary'!E:E,\"PUNTA SQ.OSPITE\")","v":0},{"$f":"COUNTIFS('Daily Diary'!A:A,'Grafico Strategie Settimanali'!B227,'Daily Diary'!E:E,\"BANCA SFAVORITA\")","v":0},{"$f":"COUNTIFS('Daily Diary'!A:A,'Grafico Strategie Settimanali'!B227,'Daily Diary'!E:E,\"PUNTA OVER\")","v":0},{"$f":"COUNTIFS('Daily Diary'!A:A,'Grafico Strategie Settimanali'!B227,'Daily Diary'!E:E,\"PUNTA UNDER\")","v":0},{"$f":"COUNTIFS('Daily Diary'!A:A,'Grafico Strategie Settimanali'!B227,'Daily Diary'!E:E,\"SCALPING\")","v":0},{"$f":"COUNTIFS('Daily Diary'!A:A,'Grafico Strategie Settimanali'!B227,'Daily Diary'!E:E,\"GT90\")","v":0},{"$f":"COUNTIFS('Daily Diary'!A:A,'Grafico Strategie Settimanali'!B227,'Daily Diary'!E:E,\"GT110\")","v":0},{"$f":"COUNTIFS('Daily Diary'!A:A,'Grafico Strategie Settimanali'!B227,'Daily Diary'!E:E,\"ALERT GOAL\")","v":0},{"$f":"COUNTIFS('Daily Diary'!A:A,'Grafico Strategie Settimanali'!B227,'Daily Diary'!E:E,\"DRAW NO BET\")","v":0},{"$f":"COUNTIFS('Daily Diary'!A:A,'Grafico Strategie Settimanali'!B227,'Daily Diary'!E:E,\"ALTRO\")","v":0},{"$f":"COUNTIFS('Daily Diary'!A:A,'Grafico Strategie Settimanali'!B227,'Daily Diary'!E:E,\"BANCA PAREGGIO\",'Daily Diary'!E:E,\"BANCA PAREGGIO\",'Daily Diary'!K:K,\"WIN\")","v":0},{"$f":"COUNTIFS('Daily Diary'!A:A,'Grafico Strategie Settimanali'!B227,'Daily Diary'!E:E,\"PUNTA SQ.CASA\",'Daily Diary'!E:E,\"PUNTA SQ.CASA\",'Daily Diary'!K:K,\"WIN\")","v":0},{"$f":"COUNTIFS('Daily Diary'!A:A,'Grafico Strategie Settimanali'!B227,'Daily Diary'!E:E,\"PUNTA SQ.OSPITE\",'Daily Diary'!E:E,\"PUNTA SQ.OSPITE\",'Daily Diary'!K:K,\"WIN\")","v":0},{"$f":"COUNTIFS('Daily Diary'!A:A,'Grafico Strategie Settimanali'!B227,'Daily Diary'!E:E,\"BANCA SFAVORITA\",'Daily Diary'!E:E,\"BANCA SFAVORITA\",'Daily Diary'!K:K,\"WIN\")","v":0},{"$f":"COUNTIFS('Daily Diary'!A:A,'Grafico Strategie Settimanali'!B227,'Daily Diary'!E:E,\"PUNTA OVER\",'Daily Diary'!E:E,\"PUNTA OVER\",'Daily Diary'!K:K,\"WIN\")","v":0},{"$f":"COUNTIFS('Daily Diary'!A:A,'Grafico Strategie Settimanali'!B227,'Daily Diary'!E:E,\"PUNTA UNDER\",'Daily Diary'!E:E,\"PUNTA UNDER\",'Daily Diary'!K:K,\"WIN\")","v":0},{"$f":"COUNTIFS('Daily Diary'!A:A,'Grafico Strategie Settimanali'!B227,'Daily Diary'!E:E,\"SCALPING\",'Daily Diary'!E:E,\"SCALPING\",'Daily Diary'!K:K,\"WIN\")","v":0},{"$f":"COUNTIFS('Daily Diary'!A:A,'Grafico Strategie Settimanali'!B227,'Daily Diary'!E:E,\"GT 90\",'Daily Diary'!E:E,\"GT 90\",'Daily Diary'!K:K,\"WIN\")","v":0},{"$f":"COUNTIFS('Daily Diary'!A:A,'Grafico Strategie Settimanali'!B227,'Daily Diary'!E:E,\"GT 110\",'Daily Diary'!E:E,\"GT 110\",'Daily Diary'!K:K,\"WIN\")","v":0},{"$f":"COUNTIFS('Daily Diary'!A:A,'Grafico Strategie Settimanali'!B227,'Daily Diary'!E:E,\"ALERT GOAL\",'Daily Diary'!E:E,\"ALERT GOAL\",'Daily Diary'!K:K,\"WIN\")","v":0},{"$f":"COUNTIFS('Daily Diary'!A:A,'Grafico Strategie Settimanali'!B227,'Daily Diary'!E:E,\"DRAW NO BET\",'Daily Diary'!E:E,\"DRAW NO BET\",'Daily Diary'!K:K,\"WIN\")","v":0},{"$f":"COUNTIFS('Daily Diary'!A:A,'Grafico Strategie Settimanali'!B227,'Daily Diary'!E:E,\"ALTRO\",'Daily Diary'!E:E,\"ALTRO\",'Daily Diary'!K:K,\"WIN\")","v":0},{"$error":"#DIV/0!"},{"$error":"#DIV/0!"},{"$error":"#DIV/0!"},{"$error":"#DIV/0!"},{"$error":"#DIV/0!"},{"$error":"#DIV/0!"},{"$error":"#DIV/0!"},{"$error":"#DIV/0!"},{"$error":"#DIV/0!"},{"$error":"#DIV/0!"},{"$error":"#DIV/0!"},{"$error":"#DIV/0!"}]
[0,"2023-12-16",{"$f":"COUNTIFS('Daily Diary'!A:A,'Grafico Strategie Settimanali'!B228,'Daily Diary'!E:E,\"BANCA PAREGGIO\")","v":0},{"$f":"COUNTIFS('Daily Diary'!A:A,'Grafico Strategie Settimanali'!B228,'Daily Diary'!E:E,\"PUNTA SQ.CASA\")","v":0},{"$f":"COUNTIFS('Daily Diary'!A:A,'Grafico Strategie Settimanali'!B228,'Daily Diary'!E:E,\"PUNTA SQ.OSPITE\")","v":0},{"$f":"COUNTIFS('Daily Diary'!A:A,'Grafico Strategie Settimanali'!B228,'Daily Diary'!E:E,\"BANCA SFAVORITA\")","v":0},{"$f":"COUNTIFS('Daily Diary'!A:A,'Grafico Strategie Settimanali'!B228,'Daily Diary'!E:E,\"PUNTA OVER\")","v":0},{"$f":"COUNTIFS('Daily Diary'!A:A,'Grafico Strategie Settimanali'!B228,'Daily Diary'!E:E,\"PUNTA UNDER\")","v":0},{"$f":"COUNTIFS('Daily Diary'!A:A,'Grafico Strategie Settimanali'!B228,'Daily Diary'!E:E,\"SCALPING\")","v":0},{"$f":"COUNTIFS('Daily Diary'!A:A,'Grafico Strategie Settimanali'!B228,'Daily Diary'!E:E,\"GT90\")","v":0},{"$f":"COUNTIFS('Daily Diary'!A:A,'Grafico Strategie Settimanali'!B228,'Daily Diary'!E:E,\"GT110\")","v":0},{"$f":"COUNTIFS('Daily Diary'!A:A,'Grafico Strategie Settimanali'!B228,'Daily Diary'!E:E,\"ALERT GOAL\")","v":0},{"$f":"COUNTIFS('Daily Diary'!A:A,'Grafico Strategie Settimanali'!B228,'Daily Diary'!E:E,\"DRAW NO BET\")","v":0},{"$f":"COUNTIFS('Daily Diary'!A:A,'Grafico Strategie Settimanali'!B228,'Daily Diary'!E:E,\"ALTRO\")","v":0},{"$f":"COUNTIFS('Daily Diary'!A:A,'Grafico Strategie Settimanali'!B228,'Daily Diary'!E:E,\"BANCA PAREGGIO\",'Daily Diary'!E:E,\"BANCA PAREGGIO\",'Daily Diary'!K:K,\"WIN\")","v":0},{"$f":"COUNTIFS('Daily Diary'!A:A,'Grafico Strategie Settimanali'!B228,'Daily Diary'!E:E,\"PUNTA SQ.CASA\",'Daily Diary'!E:E,\"PUNTA SQ.CASA\",'Daily Diary'!K:K,\"WIN\")","v":0},{"$f":"COUNTIFS('Daily Diary'!A:A,'Grafico Strategie Settimanali'!B228,'Daily Diary'!E:E,\"PUNTA SQ.OSPITE\",'Daily Diary'!E:E,\"PUNTA SQ.OSPITE\",'Daily Diary'!K:K,\"WIN\")","v":0},{"$f":"COUNTIFS('Daily Diary'!A:A,'Grafico Strategie Settimanali'!B228,'Daily Diary'!E:E,\"BANCA SFAVORITA\",'Daily Diary'!E:E,\"BANCA SFAVORITA\",'Daily Diary'!K:K,\"WIN\")","v":0},{"$f":"COUNTIFS('Daily Diary'!A:A,'Grafico Strategie Settimanali'!B228,'Daily Diary'!E:E,\"PUNTA OVER\",'Daily Diary'!E:E,\"PUNTA OVER\",'Daily Diary'!K:K,\"WIN\")","v":0},{"$f":"COUNTIFS('Daily Diary'!A:A,'Grafico Strategie Settimanali'!B228,'Daily Diary'!E:E,\"PUNTA UNDER\",'Daily Diary'!E:E,\"PUNTA UNDER\",'Daily Diary'!K:K,\"WIN\")","v":0},{"$f":"COUNTIFS('Daily Diary'!A:A,'Grafico Strategie Settimanali'!B228,'Daily Diary'!E:E,\"SCALPING\",'Daily Diary'!E:E,\"SCALPING\",'Daily Diary'!K:K,\"WIN\")","v":0},{"$f":"COUNTIFS('Daily Diary'!A:A,'Grafico Strategie Settimanali'!B228,'Daily Diary'!E:E,\"GT 90\",'Daily Diary'!E:E,\"GT 90\",'Daily Diary'!K:K,\"WIN\")","v":0},{"$f":"COUNTIFS('Daily Diary'!A:A,'Grafico Strategie Settimanali'!B228,'Daily Diary'!E:E,\"GT 110\",'Daily Diary'!E:E,\"GT 110\",'Daily Diary'!K:K,\"WIN\")","v":0},{"$f":"COUNTIFS('Daily Diary'!A:A,'Grafico Strategie Settimanali'!B228,'Daily Diary'!E:E,\"ALERT GOAL\",'Daily Diary'!E:E,\"ALERT GOAL\",'Daily Diary'!K:K,\"WIN\")","v":0},{"$f":"COUNTIFS('Daily Diary'!A:A,'Grafico Strategie Settimanali'!B228,'Daily Diary'!E:E,\"DRAW NO BET\",'Daily Diary'!E:E,\"DRAW NO BET\",'Daily Diary'!K:K,\"WIN\")","v":0},{"$f":"COUNTIFS('Daily Diary'!A:A,'Grafico Strategie Settimanali'!B228,'Daily Diary'!E:E,\"ALTRO\",'Daily Diary'!E:E,\"ALTRO\",'Daily Diary'!K:K,\"WIN\")","v":0},{"$error":"#DIV/0!"},{"$error":"#DIV/0!"},{"$error":"#DIV/0!"},{"$error":"#DIV/0!"},{"$error":"#DIV/0!"},{"$error":"#DIV/0!"},{"$error":"#DIV/0!"},{"$error":"#DIV/0!"},{"$error":"#DIV/0!"},{"$error":"#DIV/0!"},{"$error":"#DIV/0!"},{"$error":"#DIV/0!"}]
[0,"2023-12-17",{"$f":"COUNTIFS('Daily Diary'!A:A,'Grafico Strategie Settimanali'!B229,'Daily Diary'!E:E,\"BANCA PAREGGIO\")","v":0},{"$f":"COUNTIFS('Daily Diary'!A:A,'Grafico Strategie Settimanali'!B229,'Daily Diary'!E:E,\"PUNTA SQ.CASA\")","v":0},{"$f":"COUNTIFS('Daily Diary'!A:A,'Grafico Strategie Settimanali'!B229,'Daily Diary'!E:E,\"PUNTA SQ.OSPITE\")","v":0},{"$f":"COUNTIFS('Daily Diary'!A:A,'Grafico Strategie Settimanali'!B229,'Daily Diary'!E:E,\"BANCA SFAVORITA\")","v":0},{"$f":"COUNTIFS('Daily Diary'!A:A,'Grafico Strategie Settimanali'!B229,'Daily Diary'!E:E,\"PUNTA OVER\")","v":0},{"$f":"COUNTIFS('Daily Diary'!A:A,'Grafico Strategie Settimanali'!B229,'Daily Diary'!E:E,\"PUNTA UNDER\")","v":0},{"$f":"COUNTIFS('Daily Diary'!A:A,'Grafico Strategie Settimanali'!B229,'Daily Diary'!E:E,\"SCALPING\")","v":0},{"$f":"COUNTIFS('Daily Diary'!A:A,'Grafico Strategie Settimanali'!B229,'Daily Diary'!E:E,\"GT90\")","v":0},{"$f":"COUNTIFS('Daily Diary'!A:A,'Grafico Strategie Settimanali'!B229,'Daily Diary'!E:E,\"GT110\")","v":0},{"$f":"COUNTIFS('Daily Diary'!A:A,'Grafico Strategie Settimanali'!B229,'Daily Diary'!E:E,\"ALERT GOAL\")","v":0},{"$f":"COUNTIFS('Daily Diary'!A:A,'Grafico Strategie Settimanali'!B229,'Daily Diary'!E:E,\"DRAW NO BET\")","v":0},{"$f":"COUNTIFS('Daily Diary'!A:A,'Grafico Strategie Settimanali'!B229,'Daily Diary'!E:E,\"ALTRO\")","v":0},{"$f":"COUNTIFS('Daily Diary'!A:A,'Grafico Strategie Settimanali'!B229,'Daily Diary'!E:E,\"BANCA PAREGGIO\",'Daily Diary'!E:E,\"BANCA PAREGGIO\",'Daily Diary'!K:K,\"WIN\")","v":0},{"$f":"COUNTIFS('Daily Diary'!A:A,'Grafico Strategie Settimanali'!B229,'Daily Diary'!E:E,\"PUNTA SQ.CASA\",'Daily Diary'!E:E,\"PUNTA SQ.CASA\",'Daily Diary'!K:K,\"WIN\")","v":0},{"$f":"COUNTIFS('Daily Diary'!A:A,'Grafico Strategie Settimanali'!B229,'Daily Diary'!E:E,\"PUNTA SQ.OSPITE\",'Daily Diary'!E:E,\"PUNTA SQ.OSPITE\",'Daily Diary'!K:K,\"WIN\")","v":0},{"$f":"COUNTIFS('Daily Diary'!A:A,'Grafico Strategie Settimanali'!B229,'Daily Diary'!E:E,\"BANCA SFAVORITA\",'Daily Diary'!E:E,\"BANCA SFAVORITA\",'Daily Diary'!K:K,\"WIN\")","v":0},{"$f":"COUNTIFS('Daily Diary'!A:A,'Grafico Strategie Settimanali'!B229,'Daily Diary'!E:E,\"PUNTA OVER\",'Daily Diary'!E:E,\"PUNTA OVER\",'Daily Diary'!K:K,\"WIN\")","v":0},{"$f":"COUNTIFS('Daily Diary'!A:A,'Grafico Strategie Settimanali'!B229,'Daily Diary'!E:E,\"PUNTA UNDER\",'Daily Diary'!E:E,\"PUNTA UNDER\",'Daily Diary'!K:K,\"WIN\")","v":0},{"$f":"COUNTIFS('Daily Diary'!A:A,'Grafico Strategie Settimanali'!B229,'Daily Diary'!E:E,\"SCALPING\",'Daily Diary'!E:E,\"SCALPING\",'Daily Diary'!K:K,\"WIN\")","v":0},{"$f":"COUNTIFS('Daily Diary'!A:A,'Grafico Strategie Settimanali'!B229,'Daily Diary'!E:E,\"GT 90\",'Daily Diary'!E:E,\"GT 90\",'Daily Diary'!K:K,\"WIN\")","v":0},{"$f":"COUNTIFS('Daily Diary'!A:A,'Grafico Strategie Settimanali'!B229,'Daily Diary'!E:E,\"GT 110\",'Daily Diary'!E:E,\"GT 110\",'Daily Diary'!K:K,\"WIN\")","v":0},{"$f":"COUNTIFS('Daily Diary'!A:A,'Grafico Strategie Settimanali'!B229,'Daily Diary'!E:E,\"ALERT GOAL\",'Daily Diary'!E:E,\"ALERT GOAL\",'Daily Diary'!K:K,\"WIN\")","v":0},{"$f":"COUNTIFS('Daily Diary'!A:A,'Grafico Strategie Settimanali'!B229,'Daily Diary'!E:E,\"DRAW NO BET\",'Daily Diary'!E:E,\"DRAW NO BET\",'Daily Diary'!K:K,\"WIN\")","v":0},{"$f":"COUNTIFS('Daily Diary'!A:A,'Grafico Strategie Settimanali'!B229,'Daily Diary'!E:E,\"ALTRO\",'Daily Diary'!E:E,\"ALTRO\",'Daily Diary'!K:K,\"WIN\")","v":0},{"$error":"#DIV/0!"},{"$error":"#DIV/0!"},{"$error":"#DIV/0!"},{"$error":"#DIV/0!"},{"$error":"#DIV/0!"},{"$error":"#DIV/0!"},{"$error":"#DIV/0!"},{"$error":"#DIV/0!"},{"$error":"#DIV/0!"},{"$error":"#DIV/0!"},{"$error":"#DIV/0!"},{"$error":"#DIV/0!"}]
[0,"2023-12-18",{"$f":"COUNTIFS('Daily Diary'!A:A,'Grafico Strategie Settimanali'!B230,'Daily Diary'!E:E,\"BANCA PAREGGIO\")","v":0},{"$f":"COUNTIFS('Daily Diary'!A:A,'Grafico Strategie Settimanali'!B230,'Daily Diary'!E:E,\"PUNTA SQ.CASA\")","v":0},{"$f":"COUNTIFS('Daily Diary'!A:A,'Grafico Strategie Settimanali'!B230,'Daily Diary'!E:E,\"PUNTA SQ.OSPITE\")","v":0},{"$f":"COUNTIFS('Daily Diary'!A:A,'Grafico Strategie Settimanali'!B230,'Daily Diary'!E:E,\"BANCA SFAVORITA\")","v":0},{"$f":"COUNTIFS('Daily Diary'!A:A,'Grafico Strategie Settimanali'!B230,'Daily Diary'!E:E,\"PUNTA OVER\")","v":0},{"$f":"COUNTIFS('Daily Diary'!A:A,'Grafico Strategie Settimanali'!B230,'Daily Diary'!E:E,\"PUNTA UNDER\")","v":0},{"$f":"COUNTIFS('Daily Diary'!A:A,'Grafico Strategie Settimanali'!B230,'Daily Diary'!E:E,\"SCALPING\")","v":0},{"$f":"COUNTIFS('Daily Diary'!A:A,'Grafico Strategie Settimanali'!B230,'Daily Diary'!E:E,\"GT90\")","v":0},{"$f":"COUNTIFS('Daily Diary'!A:A,'Grafico Strategie Settimanali'!B230,'Daily Diary'!E:E,\"GT110\")","v":0},{"$f":"COUNTIFS('Daily Diary'!A:A,'Grafico Strategie Settimanali'!B230,'Daily Diary'!E:E,\"ALERT GOAL\")","v":0},{"$f":"COUNTIFS('Daily Diary'!A:A,'Grafico Strategie Settimanali'!B230,'Daily Diary'!E:E,\"DRAW NO BET\")","v":0},{"$f":"COUNTIFS('Daily Diary'!A:A,'Grafico Strategie Settimanali'!B230,'Daily Diary'!E:E,\"ALTRO\")","v":0},{"$f":"COUNTIFS('Daily Diary'!A:A,'Grafico Strategie Settimanali'!B230,'Daily Diary'!E:E,\"BANCA PAREGGIO\",'Daily Diary'!E:E,\"BANCA PAREGGIO\",'Daily Diary'!K:K,\"WIN\")","v":0},{"$f":"COUNTIFS('Daily Diary'!A:A,'Grafico Strategie Settimanali'!B230,'Daily Diary'!E:E,\"PUNTA SQ.CASA\",'Daily Diary'!E:E,\"PUNTA SQ.CASA\",'Daily Diary'!K:K,\"WIN\")","v":0},{"$f":"COUNTIFS('Daily Diary'!A:A,'Grafico Strategie Settimanali'!B230,'Daily Diary'!E:E,\"PUNTA SQ.OSPITE\",'Daily Diary'!E:E,\"PUNTA SQ.OSPITE\",'Daily Diary'!K:K,\"WIN\")","v":0},{"$f":"COUNTIFS('Daily Diary'!A:A,'Grafico Strategie Settimanali'!B230,'Daily Diary'!E:E,\"BANCA SFAVORITA\",'Daily Diary'!E:E,\"BANCA SFAVORITA\",'Daily Diary'!K:K,\"WIN\")","v":0},{"$f":"COUNTIFS('Daily Diary'!A:A,'Grafico Strategie Settimanali'!B230,'Daily Diary'!E:E,\"PUNTA OVER\",'Daily Diary'!E:E,\"PUNTA OVER\",'Daily Diary'!K:K,\"WIN\")","v":0},{"$f":"COUNTIFS('Daily Diary'!A:A,'Grafico Strategie Settimanali'!B230,'Daily Diary'!E:E,\"PUNTA UNDER\",'Daily Diary'!E:E,\"PUNTA UNDER\",'Daily Diary'!K:K,\"WIN\")","v":0},{"$f":"COUNTIFS('Daily Diary'!A:A,'Grafico Strategie Settimanali'!B230,'Daily Diary'!E:E,\"SCALPING\",'Daily Diary'!E:E,\"SCALPING\",'Daily Diary'!K:K,\"WIN\")","v":0},{"$f":"COUNTIFS('Daily Diary'!A:A,'Grafico Strategie Settimanali'!B230,'Daily Diary'!E:E,\"GT 90\",'Daily Diary'!E:E,\"GT 90\",'Daily Diary'!K:K,\"WIN\")","v":0},{"$f":"COUNTIFS('Daily Diary'!A:A,'Grafico Strategie Settimanali'!B230,'Daily Diary'!E:E,\"GT 110\",'Daily Diary'!E:E,\"GT 110\",'Daily Diary'!K:K,\"WIN\")","v":0},{"$f":"COUNTIFS('Daily Diary'!A:A,'Grafico Strategie Settimanali'!B230,'Daily Diary'!E:E,\"ALERT GOAL\",'Daily Diary'!E:E,\"ALERT GOAL\",'Daily Diary'!K:K,\"WIN\")","v":0},{"$f":"COUNTIFS('Daily Diary'!A:A,'Grafico Strategie Settimanali'!B230,'Daily Diary'!E:E,\"DRAW NO BET\",'Daily Diary'!E:E,\"DRAW NO BET\",'Daily Diary'!K:K,\"WIN\")","v":0},{"$f":"COUNTIFS('Daily Diary'!A:A,'Grafico Strategie Settimanali'!B230,'Daily Diary'!E:E,\"ALTRO\",'Daily Diary'!E:E,\"ALTRO\",'Daily Diary'!K:K,\"WIN\")","v":0},{"$error":"#DIV/0!"},{"$error":"#DIV/0!"},{"$error":"#DIV/0!"},{"$error":"#DIV/0!"},{"$error":"#DIV/0!"},{"$error":"#DIV/0!"},{"$error":"#DIV/0!"},{"$error":"#DIV/0!"},{"$error":"#DIV/0!"},{"$error":"#DIV/0!"},{"$error":"#DIV/0!"},{"$error":"#DIV/0!"}]
[0,"2023-12-19",{"$f":"COUNTIFS('Daily Diary'!A:A,'Grafico Strategie Settimanali'!B231,'Daily Diary'!E:E,\"BANCA PAREGGIO\")","v":0},{"$f":"COUNTIFS('Daily Diary'!A:A,'Grafico Strategie Settimanali'!B231,'Daily Diary'!E:E,\"PUNTA SQ.CASA\")","v":0},{"$f":"COUNTIFS('Daily Diary'!A:A,'Grafico Strategie Settimanali'!B231,'Daily Diary'!E:E,\"PUNTA SQ.OSPITE\")","v":0},{"$f":"COUNTIFS('Daily Diary'!A:A,'Grafico Strategie Settimanali'!B231,'Daily Diary'!E:E,\"BANCA SFAVORITA\")","v":0},{"$f":"COUNTIFS('Daily Diary'!A:A,'Grafico Strategie Settimanali'!B231,'Daily Diary'!E:E,\"PUNTA OVER\")","v":0},{"$f":"COUNTIFS('Daily Diary'!A:A,'Grafico Strategie Settimanali'!B231,'Daily Diary'!E:E,\"PUNTA UNDER\")","v":0},{"$f":"COUNTIFS('Daily Diary'!A:A,'Grafico Strategie Settimanali'!B231,'Daily Diary'!E:E,\"SCALPING\")","v":0},{"$f":"COUNTIFS('Daily Diary'!A:A,'Grafico Strategie Settimanali'!B231,'Daily Diary'!E:E,\"GT90\")","v":0},{"$f":"COUNTIFS('Daily Diary'!A:A,'Grafico Strategie Settimanali'!B231,'Daily Diary'!E:E,\"GT110\")","v":0},{"$f":"COUNTIFS('Daily Diary'!A:A,'Grafico Strategie Settimanali'!B231,'Daily Diary'!E:E,\"ALERT GOAL\")","v":0},{"$f":"COUNTIFS('Daily Diary'!A:A,'Grafico Strategie Settimanali'!B231,'Daily Diary'!E:E,\"DRAW NO BET\")","v":0},{"$f":"COUNTIFS('Daily Diary'!A:A,'Grafico Strategie Settimanali'!B231,'Daily Diary'!E:E,\"ALTRO\")","v":0},{"$f":"COUNTIFS('Daily Diary'!A:A,'Grafico Strategie Settimanali'!B231,'Daily Diary'!E:E,\"BANCA PAREGGIO\",'Daily Diary'!E:E,\"BANCA PAREGGIO\",'Daily Diary'!K:K,\"WIN\")","v":0},{"$f":"COUNTIFS('Daily Diary'!A:A,'Grafico Strategie Settimanali'!B231,'Daily Diary'!E:E,\"PUNTA SQ.CASA\",'Daily Diary'!E:E,\"PUNTA SQ.CASA\",'Daily Diary'!K:K,\"WIN\")","v":0},{"$f":"COUNTIFS('Daily Diary'!A:A,'Grafico Strategie Settimanali'!B231,'Daily Diary'!E:E,\"PUNTA SQ.OSPITE\",'Daily Diary'!E:E,\"PUNTA SQ.OSPITE\",'Daily Diary'!K:K,\"WIN\")","v":0},{"$f":"COUNTIFS('Daily Diary'!A:A,'Grafico Strategie Settimanali'!B231,'Daily Diary'!E:E,\"BANCA SFAVORITA\",'Daily Diary'!E:E,\"BANCA SFAVORITA\",'Daily Diary'!K:K,\"WIN\")","v":0},{"$f":"COUNTIFS('Daily Diary'!A:A,'Grafico Strategie Settimanali'!B231,'Daily Diary'!E:E,\"PUNTA OVER\",'Daily Diary'!E:E,\"PUNTA OVER\",'Daily Diary'!K:K,\"WIN\")","v":0},{"$f":"COUNTIFS('Daily Diary'!A:A,'Grafico Strategie Settimanali'!B231,'Daily Diary'!E:E,\"PUNTA UNDER\",'Daily Diary'!E:E,\"PUNTA UNDER\",'Daily Diary'!K:K,\"WIN\")","v":0},{"$f":"COUNTIFS('Daily Diary'!A:A,'Grafico Strategie Settimanali'!B231,'Daily Diary'!E:E,\"SCALPING\",'Daily Diary'!E:E,\"SCALPING\",'Daily Diary'!K:K,\"WIN\")","v":0},{"$f":"COUNTIFS('Daily Diary'!A:A,'Grafico Strategie Settimanali'!B231,'Daily Diary'!E:E,\"GT 90\",'Daily Diary'!E:E,\"GT 90\",'Daily Diary'!K:K,\"WIN\")","v":0},{"$f":"COUNTIFS('Daily Diary'!A:A,'Grafico Strategie Settimanali'!B231,'Daily Diary'!E:E,\"GT 110\",'Daily Diary'!E:E,\"GT 110\",'Daily Diary'!K:K,\"WIN\")","v":0},{"$f":"COUNTIFS('Daily Diary'!A:A,'Grafico Strategie Settimanali'!B231,'Daily Diary'!E:E,\"ALERT GOAL\",'Daily Diary'!E:E,\"ALERT GOAL\",'Daily Diary'!K:K,\"WIN\")","v":0},{"$f":"COUNTIFS('Daily Diary'!A:A,'Grafico Strategie Settimanali'!B231,'Daily Diary'!E:E,\"DRAW NO BET\",'Daily Diary'!E:E,\"DRAW NO BET\",'Daily Diary'!K:K,\"WIN\")","v":0},{"$f":"COUNTIFS('Daily Diary'!A:A,'Grafico Strategie Settimanali'!B231,'Daily Diary'!E:E,\"ALTRO\",'Daily Diary'!E:E,\"ALTRO\",'Daily Diary'!K:K,\"WIN\")","v":0},{"$error":"#DIV/0!"},{"$error":"#DIV/0!"},{"$error":"#DIV/0!"},{"$error":"#DIV/0!"},{"$error":"#DIV/0!"},{"$error":"#DIV/0!"},{"$error":"#DIV/0!"},{"$error":"#DIV/0!"},{"$error":"#DIV/0!"},{"$error":"#DIV/0!"},{"$error":"#DIV/0!"},{"$error":"#DIV/0!"}]
[0,"2023-12-20",{"$f":"COUNTIFS('Daily Diary'!A:A,'Grafico Strategie Settimanali'!B232,'Daily Diary'!E:E,\"BANCA PAREGGIO\")","v":0},{"$f":"COUNTIFS('Daily Diary'!A:A,'Grafico Strategie Settimanali'!B232,'Daily Diary'!E:E,\"PUNTA SQ.CASA\")","v":0},{"$f":"COUNTIFS('Daily Diary'!A:A,'Grafico Strategie Settimanali'!B232,'Daily Diary'!E:E,\"PUNTA SQ.OSPITE\")","v":0},{"$f":"COUNTIFS('Daily Diary'!A:A,'Grafico Strategie Settimanali'!B232,'Daily Diary'!E:E,\"BANCA SFAVORITA\")","v":0},{"$f":"COUNTIFS('Daily Diary'!A:A,'Grafico Strategie Settimanali'!B232,'Daily Diary'!E:E,\"PUNTA OVER\")","v":0},{"$f":"COUNTIFS('Daily Diary'!A:A,'Grafico Strategie Settimanali'!B232,'Daily Diary'!E:E,\"PUNTA UNDER\")","v":0},{"$f":"COUNTIFS('Daily Diary'!A:A,'Grafico Strategie Settimanali'!B232,'Daily Diary'!E:E,\"SCALPING\")","v":0},{"$f":"COUNTIFS('Daily Diary'!A:A,'Grafico Strategie Settimanali'!B232,'Daily Diary'!E:E,\"GT90\")","v":0},{"$f":"COUNTIFS('Daily Diary'!A:A,'Grafico Strategie Settimanali'!B232,'Daily Diary'!E:E,\"GT110\")","v":0},{"$f":"COUNTIFS('Daily Diary'!A:A,'Grafico Strategie Settimanali'!B232,'Daily Diary'!E:E,\"ALERT GOAL\")","v":0},{"$f":"COUNTIFS('Daily Diary'!A:A,'Grafico Strategie Settimanali'!B232,'Daily Diary'!E:E,\"DRAW NO BET\")","v":0},{"$f":"COUNTIFS('Daily Diary'!A:A,'Grafico Strategie Settimanali'!B232,'Daily Diary'!E:E,\"ALTRO\")","v":0},{"$f":"COUNTIFS('Daily Diary'!A:A,'Grafico Strategie Settimanali'!B232,'Daily Diary'!E:E,\"BANCA PAREGGIO\",'Daily Diary'!E:E,\"BANCA PAREGGIO\",'Daily Diary'!K:K,\"WIN\")","v":0},{"$f":"COUNTIFS('Daily Diary'!A:A,'Grafico Strategie Settimanali'!B232,'Daily Diary'!E:E,\"PUNTA SQ.CASA\",'Daily Diary'!E:E,\"PUNTA SQ.CASA\",'Daily Diary'!K:K,\"WIN\")","v":0},{"$f":"COUNTIFS('Daily Diary'!A:A,'Grafico Strategie Settimanali'!B232,'Daily Diary'!E:E,\"PUNTA SQ.OSPITE\",'Daily Diary'!E:E,\"PUNTA SQ.OSPITE\",'Daily Diary'!K:K,\"WIN\")","v":0},{"$f":"COUNTIFS('Daily Diary'!A:A,'Grafico Strategie Settimanali'!B232,'Daily Diary'!E:E,\"BANCA SFAVORITA\",'Daily Diary'!E:E,\"BANCA SFAVORITA\",'Daily Diary'!K:K,\"WIN\")","v":0},{"$f":"COUNTIFS('Daily Diary'!A:A,'Grafico Strategie Settimanali'!B232,'Daily Diary'!E:E,\"PUNTA OVER\",'Daily Diary'!E:E,\"PUNTA OVER\",'Daily Diary'!K:K,\"WIN\")","v":0},{"$f":"COUNTIFS('Daily Diary'!A:A,'Grafico Strategie Settimanali'!B232,'Daily Diary'!E:E,\"PUNTA UNDER\",'Daily Diary'!E:E,\"PUNTA UNDER\",'Daily Diary'!K:K,\"WIN\")","v":0},{"$f":"COUNTIFS('Daily Diary'!A:A,'Grafico Strategie Settimanali'!B232,'Daily Diary'!E:E,\"SCALPING\",'Daily Diary'!E:E,\"SCALPING\",'Daily Diary'!K:K,\"WIN\")","v":0},{"$f":"COUNTIFS('Daily Diary'!A:A,'Grafico Strategie Settimanali'!B232,'Daily Diary'!E:E,\"GT 90\",'Daily Diary'!E:E,\"GT 90\",'Daily Diary'!K:K,\"WIN\")","v":0},{"$f":"COUNTIFS('Daily Diary'!A:A,'Grafico Strategie Settimanali'!B232,'Daily Diary'!E:E,\"GT 110\",'Daily Diary'!E:E,\"GT 110\",'Daily Diary'!K:K,\"WIN\")","v":0},{"$f":"COUNTIFS('Daily Diary'!A:A,'Grafico Strategie Settimanali'!B232,'Daily Diary'!E:E,\"ALERT GOAL\",'Daily Diary'!E:E,\"ALERT GOAL\",'Daily Diary'!K:K,\"WIN\")","v":0},{"$f":"COUNTIFS('Daily Diary'!A:A,'Grafico Strategie Settimanali'!B232,'Daily Diary'!E:E,\"DRAW NO BET\",'Daily Diary'!E:E,\"DRAW NO BET\",'Daily Diary'!K:K,\"WIN\")","v":0},{"$f":"COUNTIFS('Daily Diary'!A:A,'Grafico Strategie Settimanali'!B232,'Daily Diary'!E:E,\"ALTRO\",'Daily Diary'!E:E,\"ALTRO\",'Daily Diary'!K:K,\"WIN\")","v":0},{"$error":"#DIV/0!"},{"$error":"#DIV/0!"},{"$error":"#DIV/0!"},{"$error":"#DIV/0!"},{"$error":"#DIV/0!"},{"$error":"#DIV/0!"},{"$error":"#DIV/0!"},{"$error":"#DIV/0!"},{"$error":"#DIV/0!"},{"$error":"#DIV/0!"},{"$error":"#DIV/0!"},{"$error":"#DIV/0!"}]
[0,"2023-12-21",{"$f":"COUNTIFS('Daily Diary'!A:A,'Grafico Strategie Settimanali'!B233,'Daily Diary'!E:E,\"BANCA PAREGGIO\")","v":0},{"$f":"COUNTIFS('Daily Diary'!A:A,'Grafico Strategie Settimanali'!B233,'Daily Diary'!E:E,\"PUNTA SQ.CASA\")","v":0},{"$f":"COUNTIFS('Daily Diary'!A:A,'Grafico Strategie Settimanali'!B233,'Daily Diary'!E:E,\"PUNTA SQ.OSPITE\")","v":0},{"$f":"COUNTIFS('Daily Diary'!A:A,'Grafico Strategie Settimanali'!B233,'Daily Diary'!E:E,\"BANCA SFAVORITA\")","v":0},{"$f":"COUNTIFS('Daily Diary'!A:A,'Grafico Strategie Settimanali'!B233,'Daily Diary'!E:E,\"PUNTA OVER\")","v":0},{"$f":"COUNTIFS('Daily Diary'!A:A,'Grafico Strategie Settimanali'!B233,'Daily Diary'!E:E,\"PUNTA UNDER\")","v":0},{"$f":"COUNTIFS('Daily Diary'!A:A,'Grafico Strategie Settimanali'!B233,'Daily Diary'!E:E,\"SCALPING\")","v":0},{"$f":"COUNTIFS('Daily Diary'!A:A,'Grafico Strategie Settimanali'!B233,'Daily Diary'!E:E,\"GT90\")","v":0},{"$f":"COUNTIFS('Daily Diary'!A:A,'Grafico Strategie Settimanali'!B233,'Daily Diary'!E:E,\"GT110\")","v":0},{"$f":"COUNTIFS('Daily Diary'!A:A,'Grafico Strategie Settimanali'!B233,'Daily Diary'!E:E,\"ALERT GOAL\")","v":0},{"$f":"COUNTIFS('Daily Diary'!A:A,'Grafico Strategie Settimanali'!B233,'Daily Diary'!E:E,\"DRAW NO BET\")","v":0},{"$f":"COUNTIFS('Daily Diary'!A:A,'Grafico Strategie Settimanali'!B233,'Daily Diary'!E:E,\"ALTRO\")","v":0},{"$f":"COUNTIFS('Daily Diary'!A:A,'Grafico Strategie Settimanali'!B233,'Daily Diary'!E:E,\"BANCA PAREGGIO\",'Daily Diary'!E:E,\"BANCA PAREGGIO\",'Daily Diary'!K:K,\"WIN\")","v":0},{"$f":"COUNTIFS('Daily Diary'!A:A,'Grafico Strategie Settimanali'!B233,'Daily Diary'!E:E,\"PUNTA SQ.CASA\",'Daily Diary'!E:E,\"PUNTA SQ.CASA\",'Daily Diary'!K:K,\"WIN\")","v":0},{"$f":"COUNTIFS('Daily Diary'!A:A,'Grafico Strategie Settimanali'!B233,'Daily Diary'!E:E,\"PUNTA SQ.OSPITE\",'Daily Diary'!E:E,\"PUNTA SQ.OSPITE\",'Daily Diary'!K:K,\"WIN\")","v":0},{"$f":"COUNTIFS('Daily Diary'!A:A,'Grafico Strategie Settimanali'!B233,'Daily Diary'!E:E,\"BANCA SFAVORITA\",'Daily Diary'!E:E,\"BANCA SFAVORITA\",'Daily Diary'!K:K,\"WIN\")","v":0},{"$f":"COUNTIFS('Daily Diary'!A:A,'Grafico Strategie Settimanali'!B233,'Daily Diary'!E:E,\"PUNTA OVER\",'Daily Diary'!E:E,\"PUNTA OVER\",'Daily Diary'!K:K,\"WIN\")","v":0},{"$f":"COUNTIFS('Daily Diary'!A:A,'Grafico Strategie Settimanali'!B233,'Daily Diary'!E:E,\"PUNTA UNDER\",'Daily Diary'!E:E,\"PUNTA UNDER\",'Daily Diary'!K:K,\"WIN\")","v":0},{"$f":"COUNTIFS('Daily Diary'!A:A,'Grafico Strategie Settimanali'!B233,'Daily Diary'!E:E,\"SCALPING\",'Daily Diary'!E:E,\"SCALPING\",'Daily Diary'!K:K,\"WIN\")","v":0},{"$f":"COUNTIFS('Daily Diary'!A:A,'Grafico Strategie Settimanali'!B233,'Daily Diary'!E:E,\"GT 90\",'Daily Diary'!E:E,\"GT 90\",'Daily Diary'!K:K,\"WIN\")","v":0},{"$f":"COUNTIFS('Daily Diary'!A:A,'Grafico Strategie Settimanali'!B233,'Daily Diary'!E:E,\"GT 110\",'Daily Diary'!E:E,\"GT 110\",'Daily Diary'!K:K,\"WIN\")","v":0},{"$f":"COUNTIFS('Daily Diary'!A:A,'Grafico Strategie Settimanali'!B233,'Daily Diary'!E:E,\"ALERT GOAL\",'Daily Diary'!E:E,\"ALERT GOAL\",'Daily Diary'!K:K,\"WIN\")","v":0},{"$f":"COUNTIFS('Daily Diary'!A:A,'Grafico Strategie Settimanali'!B233,'Daily Diary'!E:E,\"DRAW NO BET\",'Daily Diary'!E:E,\"DRAW NO BET\",'Daily Diary'!K:K,\"WIN\")","v":0},{"$f":"COUNTIFS('Daily Diary'!A:A,'Grafico Strategie Settimanali'!B233,'Daily Diary'!E:E,\"ALTRO\",'Daily Diary'!E:E,\"ALTRO\",'Daily Diary'!K:K,\"WIN\")","v":0},{"$error":"#DIV/0!"},{"$error":"#DIV/0!"},{"$error":"#DIV/0!"},{"$error":"#DIV/0!"},{"$error":"#DIV/0!"},{"$error":"#DIV/0!"},{"$error":"#DIV/0!"},{"$error":"#DIV/0!"},{"$error":"#DIV/0!"},{"$error":"#DIV/0!"},{"$error":"#DIV/0!"},{"$error":"#DIV/0!"}]
[0,"2023-12-22",{"$f":"COUNTIFS('Daily Diary'!A:A,'Grafico Strategie Settimanali'!B234,'Daily Diary'!E:E,\"BANCA PAREGGIO\")","v":0},{"$f":"COUNTIFS('Daily Diary'!A:A,'Grafico Strategie Settimanali'!B234,'Daily Diary'!E:E,\"PUNTA SQ.CASA\")","v":0},{"$f":"COUNTIFS('Daily Diary'!A:A,'Grafico Strategie Settimanali'!B234,'Daily Diary'!E:E,\"PUNTA SQ.OSPITE\")","v":0},{"$f":"COUNTIFS('Daily Diary'!A:A,'Grafico Strategie Settimanali'!B234,'Daily Diary'!E:E,\"BANCA SFAVORITA\")","v":0},{"$f":"COUNTIFS('Daily Diary'!A:A,'Grafico Strategie Settimanali'!B234,'Daily Diary'!E:E,\"PUNTA OVER\")","v":0},{"$f":"COUNTIFS('Daily Diary'!A:A,'Grafico Strategie Settimanali'!B234,'Daily Diary'!E:E,\"PUNTA UNDER\")","v":0},{"$f":"COUNTIFS('Daily Diary'!A:A,'Grafico Strategie Settimanali'!B234,'Daily Diary'!E:E,\"SCALPING\")","v":0},{"$f":"COUNTIFS('Daily Diary'!A:A,'Grafico Strategie Settimanali'!B234,'Daily Diary'!E:E,\"GT90\")","v":0},{"$f":"COUNTIFS('Daily Diary'!A:A,'Grafico Strategie Settimanali'!B234,'Daily Diary'!E:E,\"GT110\")","v":0},{"$f":"COUNTIFS('Daily Diary'!A:A,'Grafico Strategie Settimanali'!B234,'Daily Diary'!E:E,\"ALERT GOAL\")","v":0},{"$f":"COUNTIFS('Daily Diary'!A:A,'Grafico Strategie Settimanali'!B234,'Daily Diary'!E:E,\"DRAW NO BET\")","v":0},{"$f":"COUNTIFS('Daily Diary'!A:A,'Grafico Strategie Settimanali'!B234,'Daily Diary'!E:E,\"ALTRO\")","v":0},{"$f":"COUNTIFS('Daily Diary'!A:A,'Grafico Strategie Settimanali'!B234,'Daily Diary'!E:E,\"BANCA PAREGGIO\",'Daily Diary'!E:E,\"BANCA PAREGGIO\",'Daily Diary'!K:K,\"WIN\")","v":0},{"$f":"COUNTIFS('Daily Diary'!A:A,'Grafico Strategie Settimanali'!B234,'Daily Diary'!E:E,\"PUNTA SQ.CASA\",'Daily Diary'!E:E,\"PUNTA SQ.CASA\",'Daily Diary'!K:K,\"WIN\")","v":0},{"$f":"COUNTIFS('Daily Diary'!A:A,'Grafico Strategie Settimanali'!B234,'Daily Diary'!E:E,\"PUNTA SQ.OSPITE\",'Daily Diary'!E:E,\"PUNTA SQ.OSPITE\",'Daily Diary'!K:K,\"WIN\")","v":0},{"$f":"COUNTIFS('Daily Diary'!A:A,'Grafico Strategie Settimanali'!B234,'Daily Diary'!E:E,\"BANCA SFAVORITA\",'Daily Diary'!E:E,\"BANCA SFAVORITA\",'Daily Diary'!K:K,\"WIN\")","v":0},{"$f":"COUNTIFS('Daily Diary'!A:A,'Grafico Strategie Settimanali'!B234,'Daily Diary'!E:E,\"PUNTA OVER\",'Daily Diary'!E:E,\"PUNTA OVER\",'Daily Diary'!K:K,\"WIN\")","v":0},{"$f":"COUNTIFS('Daily Diary'!A:A,'Grafico Strategie Settimanali'!B234,'Daily Diary'!E:E,\"PUNTA UNDER\",'Daily Diary'!E:E,\"PUNTA UNDER\",'Daily Diary'!K:K,\"WIN\")","v":0},{"$f":"COUNTIFS('Daily Diary'!A:A,'Grafico Strategie Settimanali'!B234,'Daily Diary'!E:E,\"SCALPING\",'Daily Diary'!E:E,\"SCALPING\",'Daily Diary'!K:K,\"WIN\")","v":0},{"$f":"COUNTIFS('Daily Diary'!A:A,'Grafico Strategie Settimanali'!B234,'Daily Diary'!E:E,\"GT 90\",'Daily Diary'!E:E,\"GT 90\",'Daily Diary'!K:K,\"WIN\")","v":0},{"$f":"COUNTIFS('Daily Diary'!A:A,'Grafico Strategie Settimanali'!B234,'Daily Diary'!E:E,\"GT 110\",'Daily Diary'!E:E,\"GT 110\",'Daily Diary'!K:K,\"WIN\")","v":0},{"$f":"COUNTIFS('Daily Diary'!A:A,'Grafico Strategie Settimanali'!B234,'Daily Diary'!E:E,\"ALERT GOAL\",'Daily Diary'!E:E,\"ALERT GOAL\",'Daily Diary'!K:K,\"WIN\")","v":0},{"$f":"COUNTIFS('Daily Diary'!A:A,'Grafico Strategie Settimanali'!B234,'Daily Diary'!E:E,\"DRAW NO BET\",'Daily Diary'!E:E,\"DRAW NO BET\",'Daily Diary'!K:K,\"WIN\")","v":0},{"$f":"COUNTIFS('Daily Diary'!A:A,'Grafico Strategie Settimanali'!B234,'Daily Diary'!E:E,\"ALTRO\",'Daily Diary'!E:E,\"ALTRO\",'Daily Diary'!K:K,\"WIN\")","v":0},{"$error":"#DIV/0!"},{"$error":"#DIV/0!"},{"$error":"#DIV/0!"},{"$error":"#DIV/0!"},{"$error":"#DIV/0!"},{"$error":"#DIV/0!"},{"$error":"#DIV/0!"},{"$error":"#DIV/0!"},{"$error":"#DIV/0!"},{"$error":"#DIV/0!"},{"$error":"#DIV/0!"},{"$error":"#DIV/0!"}]
[0,"2023-12-23",{"$f":"COUNTIFS('Daily Diary'!A:A,'Grafico Strategie Settimanali'!B235,'Daily Diary'!E:E,\"BANCA PAREGGIO\")","v":0},{"$f":"COUNTIFS('Daily Diary'!A:A,'Grafico Strategie Settimanali'!B235,'Daily Diary'!E:E,\"PUNTA SQ.CASA\")","v":0},{"$f":"COUNTIFS('Daily Diary'!A:A,'Grafico Strategie Settimanali'!B235,'Daily Diary'!E:E,\"PUNTA SQ.OSPITE\")","v":0},{"$f":"COUNTIFS('Daily Diary'!A:A,'Grafico Strategie Settimanali'!B235,'Daily Diary'!E:E,\"BANCA SFAVORITA\")","v":0},{"$f":"COUNTIFS('Daily Diary'!A:A,'Grafico Strategie Settimanali'!B235,'Daily Diary'!E:E,\"PUNTA OVER\")","v":0},{"$f":"COUNTIFS('Daily Diary'!A:A,'Grafico Strategie Settimanali'!B235,'Daily Diary'!E:E,\"PUNTA UNDER\")","v":0},{"$f":"COUNTIFS('Daily Diary'!A:A,'Grafico Strategie Settimanali'!B235,'Daily Diary'!E:E,\"SCALPING\")","v":0},{"$f":"COUNTIFS('Daily Diary'!A:A,'Grafico Strategie Settimanali'!B235,'Daily Diary'!E:E,\"GT90\")","v":0},{"$f":"COUNTIFS('Daily Diary'!A:A,'Grafico Strategie Settimanali'!B235,'Daily Diary'!E:E,\"GT110\")","v":0},{"$f":"COUNTIFS('Daily Diary'!A:A,'Grafico Strategie Settimanali'!B235,'Daily Diary'!E:E,\"ALERT GOAL\")","v":0},{"$f":"COUNTIFS('Daily Diary'!A:A,'Grafico Strategie Settimanali'!B235,'Daily Diary'!E:E,\"DRAW NO BET\")","v":0},{"$f":"COUNTIFS('Daily Diary'!A:A,'Grafico Strategie Settimanali'!B235,'Daily Diary'!E:E,\"ALTRO\")","v":0},{"$f":"COUNTIFS('Daily Diary'!A:A,'Grafico Strategie Settimanali'!B235,'Daily Diary'!E:E,\"BANCA PAREGGIO\",'Daily Diary'!E:E,\"BANCA PAREGGIO\",'Daily Diary'!K:K,\"WIN\")","v":0},{"$f":"COUNTIFS('Daily Diary'!A:A,'Grafico Strategie Settimanali'!B235,'Daily Diary'!E:E,\"PUNTA SQ.CASA\",'Daily Diary'!E:E,\"PUNTA SQ.CASA\",'Daily Diary'!K:K,\"WIN\")","v":0},{"$f":"COUNTIFS('Daily Diary'!A:A,'Grafico Strategie Settimanali'!B235,'Daily Diary'!E:E,\"PUNTA SQ.OSPITE\",'Daily Diary'!E:E,\"PUNTA SQ.OSPITE\",'Daily Diary'!K:K,\"WIN\")","v":0},{"$f":"COUNTIFS('Daily Diary'!A:A,'Grafico Strategie Settimanali'!B235,'Daily Diary'!E:E,\"BANCA SFAVORITA\",'Daily Diary'!E:E,\"BANCA SFAVORITA\",'Daily Diary'!K:K,\"WIN\")","v":0},{"$f":"COUNTIFS('Daily Diary'!A:A,'Grafico Strategie Settimanali'!B235,'Daily Diary'!E:E,\"PUNTA OVER\",'Daily Diary'!E:E,\"PUNTA OVER\",'Daily Diary'!K:K,\"WIN\")","v":0},{"$f":"COUNTIFS('Daily Diary'!A:A,'Grafico Strategie Settimanali'!B235,'Daily Diary'!E:E,\"PUNTA UNDER\",'Daily Diary'!E:E,\"PUNTA UNDER\",'Daily Diary'!K:K,\"WIN\")","v":0},{"$f":"COUNTIFS('Daily Diary'!A:A,'Grafico Strategie Settimanali'!B235,'Daily Diary'!E:E,\"SCALPING\",'Daily Diary'!E:E,\"SCALPING\",'Daily Diary'!K:K,\"WIN\")","v":0},{"$f":"COUNTIFS('Daily Diary'!A:A,'Grafico Strategie Settimanali'!B235,'Daily Diary'!E:E,\"GT 90\",'Daily Diary'!E:E,\"GT 90\",'Daily Diary'!K:K,\"WIN\")","v":0},{"$f":"COUNTIFS('Daily Diary'!A:A,'Grafico Strategie Settimanali'!B235,'Daily Diary'!E:E,\"GT 110\",'Daily Diary'!E:E,\"GT 110\",'Daily Diary'!K:K,\"WIN\")","v":0},{"$f":"COUNTIFS('Daily Diary'!A:A,'Grafico Strategie Settimanali'!B235,'Daily Diary'!E:E,\"ALERT GOAL\",'Daily Diary'!E:E,\"ALERT GOAL\",'Daily Diary'!K:K,\"WIN\")","v":0},{"$f":"COUNTIFS('Daily Diary'!A:A,'Grafico Strategie Settimanali'!B235,'Daily Diary'!E:E,\"DRAW NO BET\",'Daily Diary'!E:E,\"DRAW NO BET\",'Daily Diary'!K:K,\"WIN\")","v":0},{"$f":"COUNTIFS('Daily Diary'!A:A,'Grafico Strategie Settimanali'!B235,'Daily Diary'!E:E,\"ALTRO\",'Daily Diary'!E:E,\"ALTRO\",'Daily Diary'!K:K,\"WIN\")","v":0},{"$error":"#DIV/0!"},{"$error":"#DIV/0!"},{"$error":"#DIV/0!"},{"$error":"#DIV/0!"},{"$error":"#DIV/0!"},{"$error":"#DIV/0!"},{"$error":"#DIV/0!"},{"$error":"#DIV/0!"},{"$error":"#DIV/0!"},{"$error":"#DIV/0!"},{"$error":"#DIV/0!"},{"$error":"#DIV/0!"}]
[0,"2023-12-24",{"$f":"COUNTIFS('Daily Diary'!A:A,'Grafico Strategie Settimanali'!B236,'Daily Diary'!E:E,\"BANCA PAREGGIO\")","v":0},{"$f":"COUNTIFS('Daily Diary'!A:A,'Grafico Strategie Settimanali'!B236,'Daily Diary'!E:E,\"PUNTA SQ.CASA\")","v":0},{"$f":"COUNTIFS('Daily Diary'!A:A,'Grafico Strategie Settimanali'!B236,'Daily Diary'!E:E,\"PUNTA SQ.OSPITE\")","v":0},{"$f":"COUNTIFS('Daily Diary'!A:A,'Grafico Strategie Settimanali'!B236,'Daily Diary'!E:E,\"BANCA SFAVORITA\")","v":0},{"$f":"COUNTIFS('Daily Diary'!A:A,'Grafico Strategie Settimanali'!B236,'Daily Diary'!E:E,\"PUNTA OVER\")","v":0},{"$f":"COUNTIFS('Daily Diary'!A:A,'Grafico Strategie Settimanali'!B236,'Daily Diary'!E:E,\"PUNTA UNDER\")","v":0},{"$f":"COUNTIFS('Daily Diary'!A:A,'Grafico Strategie Settimanali'!B236,'Daily Diary'!E:E,\"SCALPING\")","v":0},{"$f":"COUNTIFS('Daily Diary'!A:A,'Grafico Strategie Settimanali'!B236,'Daily Diary'!E:E,\"GT90\")","v":0},{"$f":"COUNTIFS('Daily Diary'!A:A,'Grafico Strategie Settimanali'!B236,'Daily Diary'!E:E,\"GT110\")","v":0},{"$f":"COUNTIFS('Daily Diary'!A:A,'Grafico Strategie Settimanali'!B236,'Daily Diary'!E:E,\"ALERT GOAL\")","v":0},{"$f":"COUNTIFS('Daily Diary'!A:A,'Grafico Strategie Settimanali'!B236,'Daily Diary'!E:E,\"DRAW NO BET\")","v":0},{"$f":"COUNTIFS('Daily Diary'!A:A,'Grafico Strategie Settimanali'!B236,'Daily Diary'!E:E,\"ALTRO\")","v":0},{"$f":"COUNTIFS('Daily Diary'!A:A,'Grafico Strategie Settimanali'!B236,'Daily Diary'!E:E,\"BANCA PAREGGIO\",'Daily Diary'!E:E,\"BANCA PAREGGIO\",'Daily Diary'!K:K,\"WIN\")","v":0},{"$f":"COUNTIFS('Daily Diary'!A:A,'Grafico Strategie Settimanali'!B236,'Daily Diary'!E:E,\"PUNTA SQ.CASA\",'Daily Diary'!E:E,\"PUNTA SQ.CASA\",'Daily Diary'!K:K,\"WIN\")","v":0},{"$f":"COUNTIFS('Daily Diary'!A:A,'Grafico Strategie Settimanali'!B236,'Daily Diary'!E:E,\"PUNTA SQ.OSPITE\",'Daily Diary'!E:E,\"PUNTA SQ.OSPITE\",'Daily Diary'!K:K,\"WIN\")","v":0},{"$f":"COUNTIFS('Daily Diary'!A:A,'Grafico Strategie Settimanali'!B236,'Daily Diary'!E:E,\"BANCA SFAVORITA\",'Daily Diary'!E:E,\"BANCA SFAVORITA\",'Daily Diary'!K:K,\"WIN\")","v":0},{"$f":"COUNTIFS('Daily Diary'!A:A,'Grafico Strategie Settimanali'!B236,'Daily Diary'!E:E,\"PUNTA OVER\",'Daily Diary'!E:E,\"PUNTA OVER\",'Daily Diary'!K:K,\"WIN\")","v":0},{"$f":"COUNTIFS('Daily Diary'!A:A,'Grafico Strategie Settimanali'!B236,'Daily Diary'!E:E,\"PUNTA UNDER\",'Daily Diary'!E:E,\"PUNTA UNDER\",'Daily Diary'!K:K,\"WIN\")","v":0},{"$f":"COUNTIFS('Daily Diary'!A:A,'Grafico Strategie Settimanali'!B236,'Daily Diary'!E:E,\"SCALPING\",'Daily Diary'!E:E,\"SCALPING\",'Daily Diary'!K:K,\"WIN\")","v":0},{"$f":"COUNTIFS('Daily Diary'!A:A,'Grafico Strategie Settimanali'!B236,'Daily Diary'!E:E,\"GT 90\",'Daily Diary'!E:E,\"GT 90\",'Daily Diary'!K:K,\"WIN\")","v":0},{"$f":"COUNTIFS('Daily Diary'!A:A,'Grafico Strategie Settimanali'!B236,'Daily Diary'!E:E,\"GT 110\",'Daily Diary'!E:E,\"GT 110\",'Daily Diary'!K:K,\"WIN\")","v":0},{"$f":"COUNTIFS('Daily Diary'!A:A,'Grafico Strategie Settimanali'!B236,'Daily Diary'!E:E,\"ALERT GOAL\",'Daily Diary'!E:E,\"ALERT GOAL\",'Daily Diary'!K:K,\"WIN\")","v":0},{"$f":"COUNTIFS('Daily Diary'!A:A,'Grafico Strategie Settimanali'!B236,'Daily Diary'!E:E,\"DRAW NO BET\",'Daily Diary'!E:E,\"DRAW NO BET\",'Daily Diary'!K:K,\"WIN\")","v":0},{"$f":"COUNTIFS('Daily Diary'!A:A,'Grafico Strategie Settimanali'!B236,'Daily Diary'!E:E,\"ALTRO\",'Daily Diary'!E:E,\"ALTRO\",'Daily Diary'!K:K,\"WIN\")","v":0},{"$error":"#DIV/0!"},{"$error":"#DIV/0!"},{"$error":"#DIV/0!"},{"$error":"#DIV/0!"},{"$error":"#DIV/0!"},{"$error":"#DIV/0!"},{"$error":"#DIV/0!"},{"$error":"#DIV/0!"},{"$error":"#DIV/0!"},{"$error":"#DIV/0!"},{"$error":"#DIV/0!"},{"$error":"#DIV/0!"}]
[0,"2023-12-25",{"$f":"COUNTIFS('Daily Diary'!A:A,'Grafico Strategie Settimanali'!B237,'Daily Diary'!E:E,\"BANCA PAREGGIO\")","v":0},{"$f":"COUNTIFS('Daily Diary'!A:A,'Grafico Strategie Settimanali'!B237,'Daily Diary'!E:E,\"PUNTA SQ.CASA\")","v":0},{"$f":"COUNTIFS('Daily Diary'!A:A,'Grafico Strategie Settimanali'!B237,'Daily Diary'!E:E,\"PUNTA SQ.OSPITE\")","v":0},{"$f":"COUNTIFS('Daily Diary'!A:A,'Grafico Strategie Settimanali'!B237,'Daily Diary'!E:E,\"BANCA SFAVORITA\")","v":0},{"$f":"COUNTIFS('Daily Diary'!A:A,'Grafico Strategie Settimanali'!B237,'Daily Diary'!E:E,\"PUNTA OVER\")","v":0},{"$f":"COUNTIFS('Daily Diary'!A:A,'Grafico Strategie Settimanali'!B237,'Daily Diary'!E:E,\"PUNTA UNDER\")","v":0},{"$f":"COUNTIFS('Daily Diary'!A:A,'Grafico Strategie Settimanali'!B237,'Daily Diary'!E:E,\"SCALPING\")","v":0},{"$f":"COUNTIFS('Daily Diary'!A:A,'Grafico Strategie Settimanali'!B237,'Daily Diary'!E:E,\"GT90\")","v":0},{"$f":"COUNTIFS('Daily Diary'!A:A,'Grafico Strategie Settimanali'!B237,'Daily Diary'!E:E,\"GT110\")","v":0},{"$f":"COUNTIFS('Daily Diary'!A:A,'Grafico Strategie Settimanali'!B237,'Daily Diary'!E:E,\"ALERT GOAL\")","v":0},{"$f":"COUNTIFS('Daily Diary'!A:A,'Grafico Strategie Settimanali'!B237,'Daily Diary'!E:E,\"DRAW NO BET\")","v":0},{"$f":"COUNTIFS('Daily Diary'!A:A,'Grafico Strategie Settimanali'!B237,'Daily Diary'!E:E,\"ALTRO\")","v":0},{"$f":"COUNTIFS('Daily Diary'!A:A,'Grafico Strategie Settimanali'!B237,'Daily Diary'!E:E,\"BANCA PAREGGIO\",'Daily Diary'!E:E,\"BANCA PAREGGIO\",'Daily Diary'!K:K,\"WIN\")","v":0},{"$f":"COUNTIFS('Daily Diary'!A:A,'Grafico Strategie Settimanali'!B237,'Daily Diary'!E:E,\"PUNTA SQ.CASA\",'Daily Diary'!E:E,\"PUNTA SQ.CASA\",'Daily Diary'!K:K,\"WIN\")","v":0},{"$f":"COUNTIFS('Daily Diary'!A:A,'Grafico Strategie Settimanali'!B237,'Daily Diary'!E:E,\"PUNTA SQ.OSPITE\",'Daily Diary'!E:E,\"PUNTA SQ.OSPITE\",'Daily Diary'!K:K,\"WIN\")","v":0},{"$f":"COUNTIFS('Daily Diary'!A:A,'Grafico Strategie Settimanali'!B237,'Daily Diary'!E:E,\"BANCA SFAVORITA\",'Daily Diary'!E:E,\"BANCA SFAVORITA\",'Daily Diary'!K:K,\"WIN\")","v":0},{"$f":"COUNTIFS('Daily Diary'!A:A,'Grafico Strategie Settimanali'!B237,'Daily Diary'!E:E,\"PUNTA OVER\",'Daily Diary'!E:E,\"PUNTA OVER\",'Daily Diary'!K:K,\"WIN\")","v":0},{"$f":"COUNTIFS('Daily Diary'!A:A,'Grafico Strategie Settimanali'!B237,'Daily Diary'!E:E,\"PUNTA UNDER\",'Daily Diary'!E:E,\"PUNTA UNDER\",'Daily Diary'!K:K,\"WIN\")","v":0},{"$f":"COUNTIFS('Daily Diary'!A:A,'Grafico Strategie Settimanali'!B237,'Daily Diary'!E:E,\"SCALPING\",'Daily Diary'!E:E,\"SCALPING\",'Daily Diary'!K:K,\"WIN\")","v":0},{"$f":"COUNTIFS('Daily Diary'!A:A,'Grafico Strategie Settimanali'!B237,'Daily Diary'!E:E,\"GT 90\",'Daily Diary'!E:E,\"GT 90\",'Daily Diary'!K:K,\"WIN\")","v":0},{"$f":"COUNTIFS('Daily Diary'!A:A,'Grafico Strategie Settimanali'!B237,'Daily Diary'!E:E,\"GT 110\",'Daily Diary'!E:E,\"GT 110\",'Daily Diary'!K:K,\"WIN\")","v":0},{"$f":"COUNTIFS('Daily Diary'!A:A,'Grafico Strategie Settimanali'!B237,'Daily Diary'!E:E,\"ALERT GOAL\",'Daily Diary'!E:E,\"ALERT GOAL\",'Daily Diary'!K:K,\"WIN\")","v":0},{"$f":"COUNTIFS('Daily Diary'!A:A,'Grafico Strategie Settimanali'!B237,'Daily Diary'!E:E,\"DRAW NO BET\",'Daily Diary'!E:E,\"DRAW NO BET\",'Daily Diary'!K:K,\"WIN\")","v":0},{"$f":"COUNTIFS('Daily Diary'!A:A,'Grafico Strategie Settimanali'!B237,'Daily Diary'!E:E,\"ALTRO\",'Daily Diary'!E:E,\"ALTRO\",'Daily Diary'!K:K,\"WIN\")","v":0},{"$error":"#DIV/0!"},{"$error":"#DIV/0!"},{"$error":"#DIV/0!"},{"$error":"#DIV/0!"},{"$error":"#DIV/0!"},{"$error":"#DIV/0!"},{"$error":"#DIV/0!"},{"$error":"#DIV/0!"},{"$error":"#DIV/0!"},{"$error":"#DIV/0!"},{"$error":"#DIV/0!"},{"$error":"#DIV/0!"}]
[0,"2023-12-26",{"$f":"COUNTIFS('Daily Diary'!A:A,'Grafico Strategie Settimanali'!B238,'Daily Diary'!E:E,\"BANCA PAREGGIO\")","v":0},{"$f":"COUNTIFS('Daily Diary'!A:A,'Grafico Strategie Settimanali'!B238,'Daily Diary'!E:E,\"PUNTA SQ.CASA\")","v":0},{"$f":"COUNTIFS('Daily Diary'!A:A,'Grafico Strategie Settimanali'!B238,'Daily Diary'!E:E,\"PUNTA SQ.OSPITE\")","v":0},{"$f":"COUNTIFS('Daily Diary'!A:A,'Grafico Strategie Settimanali'!B238,'Daily Diary'!E:E,\"BANCA SFAVORITA\")","v":0},{"$f":"COUNTIFS('Daily Diary'!A:A,'Grafico Strategie Settimanali'!B238,'Daily Diary'!E:E,\"PUNTA OVER\")","v":0},{"$f":"COUNTIFS('Daily Diary'!A:A,'Grafico Strategie Settimanali'!B238,'Daily Diary'!E:E,\"PUNTA UNDER\")","v":0},{"$f":"COUNTIFS('Daily Diary'!A:A,'Grafico Strategie Settimanali'!B238,'Daily Diary'!E:E,\"SCALPING\")","v":0},{"$f":"COUNTIFS('Daily Diary'!A:A,'Grafico Strategie Settimanali'!B238,'Daily Diary'!E:E,\"GT90\")","v":0},{"$f":"COUNTIFS('Daily Diary'!A:A,'Grafico Strategie Settimanali'!B238,'Daily Diary'!E:E,\"GT110\")","v":0},{"$f":"COUNTIFS('Daily Diary'!A:A,'Grafico Strategie Settimanali'!B238,'Daily Diary'!E:E,\"ALERT GOAL\")","v":0},{"$f":"COUNTIFS('Daily Diary'!A:A,'Grafico Strategie Settimanali'!B238,'Daily Diary'!E:E,\"DRAW NO BET\")","v":0},{"$f":"COUNTIFS('Daily Diary'!A:A,'Grafico Strategie Settimanali'!B238,'Daily Diary'!E:E,\"ALTRO\")","v":0},{"$f":"COUNTIFS('Daily Diary'!A:A,'Grafico Strategie Settimanali'!B238,'Daily Diary'!E:E,\"BANCA PAREGGIO\",'Daily Diary'!E:E,\"BANCA PAREGGIO\",'Daily Diary'!K:K,\"WIN\")","v":0},{"$f":"COUNTIFS('Daily Diary'!A:A,'Grafico Strategie Settimanali'!B238,'Daily Diary'!E:E,\"PUNTA SQ.CASA\",'Daily Diary'!E:E,\"PUNTA SQ.CASA\",'Daily Diary'!K:K,\"WIN\")","v":0},{"$f":"COUNTIFS('Daily Diary'!A:A,'Grafico Strategie Settimanali'!B238,'Daily Diary'!E:E,\"PUNTA SQ.OSPITE\",'Daily Diary'!E:E,\"PUNTA SQ.OSPITE\",'Daily Diary'!K:K,\"WIN\")","v":0},{"$f":"COUNTIFS('Daily Diary'!A:A,'Grafico Strategie Settimanali'!B238,'Daily Diary'!E:E,\"BANCA SFAVORITA\",'Daily Diary'!E:E,\"BANCA SFAVORITA\",'Daily Diary'!K:K,\"WIN\")","v":0},{"$f":"COUNTIFS('Daily Diary'!A:A,'Grafico Strategie Settimanali'!B238,'Daily Diary'!E:E,\"PUNTA OVER\",'Daily Diary'!E:E,\"PUNTA OVER\",'Daily Diary'!K:K,\"WIN\")","v":0},{"$f":"COUNTIFS('Daily Diary'!A:A,'Grafico Strategie Settimanali'!B238,'Daily Diary'!E:E,\"PUNTA UNDER\",'Daily Diary'!E:E,\"PUNTA UNDER\",'Daily Diary'!K:K,\"WIN\")","v":0},{"$f":"COUNTIFS('Daily Diary'!A:A,'Grafico Strategie Settimanali'!B238,'Daily Diary'!E:E,\"SCALPING\",'Daily Diary'!E:E,\"SCALPING\",'Daily Diary'!K:K,\"WIN\")","v":0},{"$f":"COUNTIFS('Daily Diary'!A:A,'Grafico Strategie Settimanali'!B238,'Daily Diary'!E:E,\"GT 90\",'Daily Diary'!E:E,\"GT 90\",'Daily Diary'!K:K,\"WIN\")","v":0},{"$f":"COUNTIFS('Daily Diary'!A:A,'Grafico Strategie Settimanali'!B238,'Daily Diary'!E:E,\"GT 110\",'Daily Diary'!E:E,\"GT 110\",'Daily Diary'!K:K,\"WIN\")","v":0},{"$f":"COUNTIFS('Daily Diary'!A:A,'Grafico Strategie Settimanali'!B238,'Daily Diary'!E:E,\"ALERT GOAL\",'Daily Diary'!E:E,\"ALERT GOAL\",'Daily Diary'!K:K,\"WIN\")","v":0},{"$f":"COUNTIFS('Daily Diary'!A:A,'Grafico Strategie Settimanali'!B238,'Daily Diary'!E:E,\"DRAW NO BET\",'Daily Diary'!E:E,\"DRAW NO BET\",'Daily Diary'!K:K,\"WIN\")","v":0},{"$f":"COUNTIFS('Daily Diary'!A:A,'Grafico Strategie Settimanali'!B238,'Daily Diary'!E:E,\"ALTRO\",'Daily Diary'!E:E,\"ALTRO\",'Daily Diary'!K:K,\"WIN\")","v":0},{"$error":"#DIV/0!"},{"$error":"#DIV/0!"},{"$error":"#DIV/0!"},{"$error":"#DIV/0!"},{"$error":"#DIV/0!"},{"$error":"#DIV/0!"},{"$error":"#DIV/0!"},{"$error":"#DIV/0!"},{"$error":"#DIV/0!"},{"$error":"#DIV/0!"},{"$error":"#DIV/0!"},{"$error":"#DIV/0!"}]
[0,"2023-12-27",{"$f":"COUNTIFS('Daily Diary'!A:A,'Grafico Strategie Settimanali'!B239,'Daily Diary'!E:E,\"BANCA PAREGGIO\")","v":0},{"$f":"COUNTIFS('Daily Diary'!A:A,'Grafico Strategie Settimanali'!B239,'Daily Diary'!E:E,\"PUNTA SQ.CASA\")","v":0},{"$f":"COUNTIFS('Daily Diary'!A:A,'Grafico Strategie Settimanali'!B239,'Daily Diary'!E:E,\"PUNTA SQ.OSPITE\")","v":0},{"$f":"COUNTIFS('Daily Diary'!A:A,'Grafico Strategie Settimanali'!B239,'Daily Diary'!E:E,\"BANCA SFAVORITA\")","v":0},{"$f":"COUNTIFS('Daily Diary'!A:A,'Grafico Strategie Settimanali'!B239,'Daily Diary'!E:E,\"PUNTA OVER\")","v":0},{"$f":"COUNTIFS('Daily Diary'!A:A,'Grafico Strategie Settimanali'!B239,'Daily Diary'!E:E,\"PUNTA UNDER\")","v":0},{"$f":"COUNTIFS('Daily Diary'!A:A,'Grafico Strategie Settimanali'!B239,'Daily Diary'!E:E,\"SCALPING\")","v":0},{"$f":"COUNTIFS('Daily Diary'!A:A,'Grafico Strategie Settimanali'!B239,'Daily Diary'!E:E,\"GT90\")","v":0},{"$f":"COUNTIFS('Daily Diary'!A:A,'Grafico Strategie Settimanali'!B239,'Daily Diary'!E:E,\"GT110\")","v":0},{"$f":"COUNTIFS('Daily Diary'!A:A,'Grafico Strategie Settimanali'!B239,'Daily Diary'!E:E,\"ALERT GOAL\")","v":0},{"$f":"COUNTIFS('Daily Diary'!A:A,'Grafico Strategie Settimanali'!B239,'Daily Diary'!E:E,\"DRAW NO BET\")","v":0},{"$f":"COUNTIFS('Daily Diary'!A:A,'Grafico Strategie Settimanali'!B239,'Daily Diary'!E:E,\"ALTRO\")","v":0},{"$f":"COUNTIFS('Daily Diary'!A:A,'Grafico Strategie Settimanali'!B239,'Daily Diary'!E:E,\"BANCA PAREGGIO\",'Daily Diary'!E:E,\"BANCA PAREGGIO\",'Daily Diary'!K:K,\"WIN\")","v":0},{"$f":"COUNTIFS('Daily Diary'!A:A,'Grafico Strategie Settimanali'!B239,'Daily Diary'!E:E,\"PUNTA SQ.CASA\",'Daily Diary'!E:E,\"PUNTA SQ.CASA\",'Daily Diary'!K:K,\"WIN\")","v":0},{"$f":"COUNTIFS('Daily Diary'!A:A,'Grafico Strategie Settimanali'!B239,'Daily Diary'!E:E,\"PUNTA SQ.OSPITE\",'Daily Diary'!E:E,\"PUNTA SQ.OSPITE\",'Daily Diary'!K:K,\"WIN\")","v":0},{"$f":"COUNTIFS('Daily Diary'!A:A,'Grafico Strategie Settimanali'!B239,'Daily Diary'!E:E,\"BANCA SFAVORITA\",'Daily Diary'!E:E,\"BANCA SFAVORITA\",'Daily Diary'!K:K,\"WIN\")","v":0},{"$f":"COUNTIFS('Daily Diary'!A:A,'Grafico Strategie Settimanali'!B239,'Daily Diary'!E:E,\"PUNTA OVER\",'Daily Diary'!E:E,\"PUNTA OVER\",'Daily Diary'!K:K,\"WIN\")","v":0},{"$f":"COUNTIFS('Daily Diary'!A:A,'Grafico Strategie Settimanali'!B239,'Daily Diary'!E:E,\"PUNTA UNDER\",'Daily Diary'!E:E,\"PUNTA UNDER\",'Daily Diary'!K:K,\"WIN\")","v":0},{"$f":"COUNTIFS('Daily Diary'!A:A,'Grafico Strategie Settimanali'!B239,'Daily Diary'!E:E,\"SCALPING\",'Daily Diary'!E:E,\"SCALPING\",'Daily Diary'!K:K,\"WIN\")","v":0},{"$f":"COUNTIFS('Daily Diary'!A:A,'Grafico Strategie Settimanali'!B239,'Daily Diary'!E:E,\"GT 90\",'Daily Diary'!E:E,\"GT 90\",'Daily Diary'!K:K,\"WIN\")","v":0},{"$f":"COUNTIFS('Daily Diary'!A:A,'Grafico Strategie Settimanali'!B239,'Daily Diary'!E:E,\"GT 110\",'Daily Diary'!E:E,\"GT 110\",'Daily Diary'!K:K,\"WIN\")","v":0},{"$f":"COUNTIFS('Daily Diary'!A:A,'Grafico Strategie Settimanali'!B239,'Daily Diary'!E:E,\"ALERT GOAL\",'Daily Diary'!E:E,\"ALERT GOAL\",'Daily Diary'!K:K,\"WIN\")","v":0},{"$f":"COUNTIFS('Daily Diary'!A:A,'Grafico Strategie Settimanali'!B239,'Daily Diary'!E:E,\"DRAW NO BET\",'Daily Diary'!E:E,\"DRAW NO BET\",'Daily Diary'!K:K,\"WIN\")","v":0},{"$f":"COUNTIFS('Daily Diary'!A:A,'Grafico Strategie Settimanali'!B239,'Daily Diary'!E:E,\"ALTRO\",'Daily Diary'!E:E,\"ALTRO\",'Daily Diary'!K:K,\"WIN\")","v":0},{"$error":"#DIV/0!"},{"$error":"#DIV/0!"},{"$error":"#DIV/0!"},{"$error":"#DIV/0!"},{"$error":"#DIV/0!"},{"$error":"#DIV/0!"},{"$error":"#DIV/0!"},{"$error":"#DIV/0!"},{"$error":"#DIV/0!"},{"$error":"#DIV/0!"},{"$error":"#DIV/0!"},{"$error":"#DIV/0!"}]
[0,"2023-12-28",{"$f":"COUNTIFS('Daily Diary'!A:A,'Grafico Strategie Settimanali'!B240,'Daily Diary'!E:E,\"BANCA PAREGGIO\")","v":0},{"$f":"COUNTIFS('Daily Diary'!A:A,'Grafico Strategie Settimanali'!B240,'Daily Diary'!E:E,\"PUNTA SQ.CASA\")","v":0},{"$f":"COUNTIFS('Daily Diary'!A:A,'Grafico Strategie Settimanali'!B240,'Daily Diary'!E:E,\"PUNTA SQ.OSPITE\")","v":0},{"$f":"COUNTIFS('Daily Diary'!A:A,'Grafico Strategie Settimanali'!B240,'Daily Diary'!E:E,\"BANCA SFAVORITA\")","v":0},{"$f":"COUNTIFS('Daily Diary'!A:A,'Grafico Strategie Settimanali'!B240,'Daily Diary'!E:E,\"PUNTA OVER\")","v":0},{"$f":"COUNTIFS('Daily Diary'!A:A,'Grafico Strategie Settimanali'!B240,'Daily Diary'!E:E,\"PUNTA UNDER\")","v":0},{"$f":"COUNTIFS('Daily Diary'!A:A,'Grafico Strategie Settimanali'!B240,'Daily Diary'!E:E,\"SCALPING\")","v":0},{"$f":"COUNTIFS('Daily Diary'!A:A,'Grafico Strategie Settimanali'!B240,'Daily Diary'!E:E,\"GT90\")","v":0},{"$f":"COUNTIFS('Daily Diary'!A:A,'Grafico Strategie Settimanali'!B240,'Daily Diary'!E:E,\"GT110\")","v":0},{"$f":"COUNTIFS('Daily Diary'!A:A,'Grafico Strategie Settimanali'!B240,'Daily Diary'!E:E,\"ALERT GOAL\")","v":0},{"$f":"COUNTIFS('Daily Diary'!A:A,'Grafico Strategie Settimanali'!B240,'Daily Diary'!E:E,\"DRAW NO BET\")","v":0},{"$f":"COUNTIFS('Daily Diary'!A:A,'Grafico Strategie Settimanali'!B240,'Daily Diary'!E:E,\"ALTRO\")","v":0},{"$f":"COUNTIFS('Daily Diary'!A:A,'Grafico Strategie Settimanali'!B240,'Daily Diary'!E:E,\"BANCA PAREGGIO\",'Daily Diary'!E:E,\"BANCA PAREGGIO\",'Daily Diary'!K:K,\"WIN\")","v":0},{"$f":"COUNTIFS('Daily Diary'!A:A,'Grafico Strategie Settimanali'!B240,'Daily Diary'!E:E,\"PUNTA SQ.CASA\",'Daily Diary'!E:E,\"PUNTA SQ.CASA\",'Daily Diary'!K:K,\"WIN\")","v":0},{"$f":"COUNTIFS('Daily Diary'!A:A,'Grafico Strategie Settimanali'!B240,'Daily Diary'!E:E,\"PUNTA SQ.OSPITE\",'Daily Diary'!E:E,\"PUNTA SQ.OSPITE\",'Daily Diary'!K:K,\"WIN\")","v":0},{"$f":"COUNTIFS('Daily Diary'!A:A,'Grafico Strategie Settimanali'!B240,'Daily Diary'!E:E,\"BANCA SFAVORITA\",'Daily Diary'!E:E,\"BANCA SFAVORITA\",'Daily Diary'!K:K,\"WIN\")","v":0},{"$f":"COUNTIFS('Daily Diary'!A:A,'Grafico Strategie Settimanali'!B240,'Daily Diary'!E:E,\"PUNTA OVER\",'Daily Diary'!E:E,\"PUNTA OVER\",'Daily Diary'!K:K,\"WIN\")","v":0},{"$f":"COUNTIFS('Daily Diary'!A:A,'Grafico Strategie Settimanali'!B240,'Daily Diary'!E:E,\"PUNTA UNDER\",'Daily Diary'!E:E,\"PUNTA UNDER\",'Daily Diary'!K:K,\"WIN\")","v":0},{"$f":"COUNTIFS('Daily Diary'!A:A,'Grafico Strategie Settimanali'!B240,'Daily Diary'!E:E,\"SCALPING\",'Daily Diary'!E:E,\"SCALPING\",'Daily Diary'!K:K,\"WIN\")","v":0},{"$f":"COUNTIFS('Daily Diary'!A:A,'Grafico Strategie Settimanali'!B240,'Daily Diary'!E:E,\"GT 90\",'Daily Diary'!E:E,\"GT 90\",'Daily Diary'!K:K,\"WIN\")","v":0},{"$f":"COUNTIFS('Daily Diary'!A:A,'Grafico Strategie Settimanali'!B240,'Daily Diary'!E:E,\"GT 110\",'Daily Diary'!E:E,\"GT 110\",'Daily Diary'!K:K,\"WIN\")","v":0},{"$f":"COUNTIFS('Daily Diary'!A:A,'Grafico Strategie Settimanali'!B240,'Daily Diary'!E:E,\"ALERT GOAL\",'Daily Diary'!E:E,\"ALERT GOAL\",'Daily Diary'!K:K,\"WIN\")","v":0},{"$f":"COUNTIFS('Daily Diary'!A:A,'Grafico Strategie Settimanali'!B240,'Daily Diary'!E:E,\"DRAW NO BET\",'Daily Diary'!E:E,\"DRAW NO BET\",'Daily Diary'!K:K,\"WIN\")","v":0},{"$f":"COUNTIFS('Daily Diary'!A:A,'Grafico Strategie Settimanali'!B240,'Daily Diary'!E:E,\"ALTRO\",'Daily Diary'!E:E,\"ALTRO\",'Daily Diary'!K:K,\"WIN\")","v":0},{"$error":"#DIV/0!"},{"$error":"#DIV/0!"},{"$error":"#DIV/0!"},{"$error":"#DIV/0!"},{"$error":"#DIV/0!"},{"$error":"#DIV/0!"},{"$error":"#DIV/0!"},{"$error":"#DIV/0!"},{"$error":"#DIV/0!"},{"$error":"#DIV/0!"},{"$error":"#DIV/0!"},{"$error":"#DIV/0!"}]
[0,"2023-12-29",{"$f":"COUNTIFS('Daily Diary'!A:A,'Grafico Strategie Settimanali'!B241,'Daily Diary'!E:E,\"BANCA PAREGGIO\")","v":0},{"$f":"COUNTIFS('Daily Diary'!A:A,'Grafico Strategie Settimanali'!B241,'Daily Diary'!E:E,\"PUNTA SQ.CASA\")","v":0},{"$f":"COUNTIFS('Daily Diary'!A:A,'Grafico Strategie Settimanali'!B241,'Daily Diary'!E:E,\"PUNTA SQ.OSPITE\")","v":0},{"$f":"COUNTIFS('Daily Diary'!A:A,'Grafico Strategie Settimanali'!B241,'Daily Diary'!E:E,\"BANCA SFAVORITA\")","v":0},{"$f":"COUNTIFS('Daily Diary'!A:A,'Grafico Strategie Settimanali'!B241,'Daily Diary'!E:E,\"PUNTA OVER\")","v":0},{"$f":"COUNTIFS('Daily Diary'!A:A,'Grafico Strategie Settimanali'!B241,'Daily Diary'!E:E,\"PUNTA UNDER\")","v":0},{"$f":"COUNTIFS('Daily Diary'!A:A,'Grafico Strategie Settimanali'!B241,'Daily Diary'!E:E,\"SCALPING\")","v":0},{"$f":"COUNTIFS('Daily Diary'!A:A,'Grafico Strategie Settimanali'!B241,'Daily Diary'!E:E,\"GT90\")","v":0},{"$f":"COUNTIFS('Daily Diary'!A:A,'Grafico Strategie Settimanali'!B241,'Daily Diary'!E:E,\"GT110\")","v":0},{"$f":"COUNTIFS('Daily Diary'!A:A,'Grafico Strategie Settimanali'!B241,'Daily Diary'!E:E,\"ALERT GOAL\")","v":0},{"$f":"COUNTIFS('Daily Diary'!A:A,'Grafico Strategie Settimanali'!B241,'Daily Diary'!E:E,\"DRAW NO BET\")","v":0},{"$f":"COUNTIFS('Daily Diary'!A:A,'Grafico Strategie Settimanali'!B241,'Daily Diary'!E:E,\"ALTRO\")","v":0},{"$f":"COUNTIFS('Daily Diary'!A:A,'Grafico Strategie Settimanali'!B241,'Daily Diary'!E:E,\"BANCA PAREGGIO\",'Daily Diary'!E:E,\"BANCA PAREGGIO\",'Daily Diary'!K:K,\"WIN\")","v":0},{"$f":"COUNTIFS('Daily Diary'!A:A,'Grafico Strategie Settimanali'!B241,'Daily Diary'!E:E,\"PUNTA SQ.CASA\",'Daily Diary'!E:E,\"PUNTA SQ.CASA\",'Daily Diary'!K:K,\"WIN\")","v":0},{"$f":"COUNTIFS('Daily Diary'!A:A,'Grafico Strategie Settimanali'!B241,'Daily Diary'!E:E,\"PUNTA SQ.OSPITE\",'Daily Diary'!E:E,\"PUNTA SQ.OSPITE\",'Daily Diary'!K:K,\"WIN\")","v":0},{"$f":"COUNTIFS('Daily Diary'!A:A,'Grafico Strategie Settimanali'!B241,'Daily Diary'!E:E,\"BANCA SFAVORITA\",'Daily Diary'!E:E,\"BANCA SFAVORITA\",'Daily Diary'!K:K,\"WIN\")","v":0},{"$f":"COUNTIFS('Daily Diary'!A:A,'Grafico Strategie Settimanali'!B241,'Daily Diary'!E:E,\"PUNTA OVER\",'Daily Diary'!E:E,\"PUNTA OVER\",'Daily Diary'!K:K,\"WIN\")","v":0},{"$f":"COUNTIFS('Daily Diary'!A:A,'Grafico Strategie Settimanali'!B241,'Daily Diary'!E:E,\"PUNTA UNDER\",'Daily Diary'!E:E,\"PUNTA UNDER\",'Daily Diary'!K:K,\"WIN\")","v":0},{"$f":"COUNTIFS('Daily Diary'!A:A,'Grafico Strategie Settimanali'!B241,'Daily Diary'!E:E,\"SCALPING\",'Daily Diary'!E:E,\"SCALPING\",'Daily Diary'!K:K,\"WIN\")","v":0},{"$f":"COUNTIFS('Daily Diary'!A:A,'Grafico Strategie Settimanali'!B241,'Daily Diary'!E:E,\"GT 90\",'Daily Diary'!E:E,\"GT 90\",'Daily Diary'!K:K,\"WIN\")","v":0},{"$f":"COUNTIFS('Daily Diary'!A:A,'Grafico Strategie Settimanali'!B241,'Daily Diary'!E:E,\"GT 110\",'Daily Diary'!E:E,\"GT 110\",'Daily Diary'!K:K,\"WIN\")","v":0},{"$f":"COUNTIFS('Daily Diary'!A:A,'Grafico Strategie Settimanali'!B241,'Daily Diary'!E:E,\"ALERT GOAL\",'Daily Diary'!E:E,\"ALERT GOAL\",'Daily Diary'!K:K,\"WIN\")","v":0},{"$f":"COUNTIFS('Daily Diary'!A:A,'Grafico Strategie Settimanali'!B241,'Daily Diary'!E:E,\"DRAW NO BET\",'Daily Diary'!E:E,\"DRAW NO BET\",'Daily Diary'!K:K,\"WIN\")","v":0},{"$f":"COUNTIFS('Daily Diary'!A:A,'Grafico Strategie Settimanali'!B241,'Daily Diary'!E:E,\"ALTRO\",'Daily Diary'!E:E,\"ALTRO\",'Daily Diary'!K:K,\"WIN\")","v":0},{"$error":"#DIV/0!"},{"$error":"#DIV/0!"},{"$error":"#DIV/0!"},{"$error":"#DIV/0!"},{"$error":"#DIV/0!"},{"$error":"#DIV/0!"},{"$error":"#DIV/0!"},{"$error":"#DIV/0!"},{"$error":"#DIV/0!"},{"$error":"#DIV/0!"},{"$error":"#DIV/0!"},{"$error":"#DIV/0!"}]
[0,"2023-12-30",{"$f":"COUNTIFS('Daily Diary'!A:A,'Grafico Strategie Settimanali'!B242,'Daily Diary'!E:E,\"BANCA PAREGGIO\")","v":0},{"$f":"COUNTIFS('Daily Diary'!A:A,'Grafico Strategie Settimanali'!B242,'Daily Diary'!E:E,\"PUNTA SQ.CASA\")","v":0},{"$f":"COUNTIFS('Daily Diary'!A:A,'Grafico Strategie Settimanali'!B242,'Daily Diary'!E:E,\"PUNTA SQ.OSPITE\")","v":0},{"$f":"COUNTIFS('Daily Diary'!A:A,'Grafico Strategie Settimanali'!B242,'Daily Diary'!E:E,\"BANCA SFAVORITA\")","v":0},{"$f":"COUNTIFS('Daily Diary'!A:A,'Grafico Strategie Settimanali'!B242,'Daily Diary'!E:E,\"PUNTA OVER\")","v":0},{"$f":"COUNTIFS('Daily Diary'!A:A,'Grafico Strategie Settimanali'!B242,'Daily Diary'!E:E,\"PUNTA UNDER\")","v":0},{"$f":"COUNTIFS('Daily Diary'!A:A,'Grafico Strategie Settimanali'!B242,'Daily Diary'!E:E,\"SCALPING\")","v":0},{"$f":"COUNTIFS('Daily Diary'!A:A,'Grafico Strategie Settimanali'!B242,'Daily Diary'!E:E,\"GT90\")","v":0},{"$f":"COUNTIFS('Daily Diary'!A:A,'Grafico Strategie Settimanali'!B242,'Daily Diary'!E:E,\"GT110\")","v":0},{"$f":"COUNTIFS('Daily Diary'!A:A,'Grafico Strategie Settimanali'!B242,'Daily Diary'!E:E,\"ALERT GOAL\")","v":0},{"$f":"COUNTIFS('Daily Diary'!A:A,'Grafico Strategie Settimanali'!B242,'Daily Diary'!E:E,\"DRAW NO BET\")","v":0},{"$f":"COUNTIFS('Daily Diary'!A:A,'Grafico Strategie Settimanali'!B242,'Daily Diary'!E:E,\"ALTRO\")","v":0},{"$f":"COUNTIFS('Daily Diary'!A:A,'Grafico Strategie Settimanali'!B242,'Daily Diary'!E:E,\"BANCA PAREGGIO\",'Daily Diary'!E:E,\"BANCA PAREGGIO\",'Daily Diary'!K:K,\"WIN\")","v":0},{"$f":"COUNTIFS('Daily Diary'!A:A,'Grafico Strategie Settimanali'!B242,'Daily Diary'!E:E,\"PUNTA SQ.CASA\",'Daily Diary'!E:E,\"PUNTA SQ.CASA\",'Daily Diary'!K:K,\"WIN\")","v":0},{"$f":"COUNTIFS('Daily Diary'!A:A,'Grafico Strategie Settimanali'!B242,'Daily Diary'!E:E,\"PUNTA SQ.OSPITE\",'Daily Diary'!E:E,\"PUNTA SQ.OSPITE\",'Daily Diary'!K:K,\"WIN\")","v":0},{"$f":"COUNTIFS('Daily Diary'!A:A,'Grafico Strategie Settimanali'!B242,'Daily Diary'!E:E,\"BANCA SFAVORITA\",'Daily Diary'!E:E,\"BANCA SFAVORITA\",'Daily Diary'!K:K,\"WIN\")","v":0},{"$f":"COUNTIFS('Daily Diary'!A:A,'Grafico Strategie Settimanali'!B242,'Daily Diary'!E:E,\"PUNTA OVER\",'Daily Diary'!E:E,\"PUNTA OVER\",'Daily Diary'!K:K,\"WIN\")","v":0},{"$f":"COUNTIFS('Daily Diary'!A:A,'Grafico Strategie Settimanali'!B242,'Daily Diary'!E:E,\"PUNTA UNDER\",'Daily Diary'!E:E,\"PUNTA UNDER\",'Daily Diary'!K:K,\"WIN\")","v":0},{"$f":"COUNTIFS('Daily Diary'!A:A,'Grafico Strategie Settimanali'!B242,'Daily Diary'!E:E,\"SCALPING\",'Daily Diary'!E:E,\"SCALPING\",'Daily Diary'!K:K,\"WIN\")","v":0},{"$f":"COUNTIFS('Daily Diary'!A:A,'Grafico Strategie Settimanali'!B242,'Daily Diary'!E:E,\"GT 90\",'Daily Diary'!E:E,\"GT 90\",'Daily Diary'!K:K,\"WIN\")","v":0},{"$f":"COUNTIFS('Daily Diary'!A:A,'Grafico Strategie Settimanali'!B242,'Daily Diary'!E:E,\"GT 110\",'Daily Diary'!E:E,\"GT 110\",'Daily Diary'!K:K,\"WIN\")","v":0},{"$f":"COUNTIFS('Daily Diary'!A:A,'Grafico Strategie Settimanali'!B242,'Daily Diary'!E:E,\"ALERT GOAL\",'Daily Diary'!E:E,\"ALERT GOAL\",'Daily Diary'!K:K,\"WIN\")","v":0},{"$f":"COUNTIFS('Daily Diary'!A:A,'Grafico Strategie Settimanali'!B242,'Daily Diary'!E:E,\"DRAW NO BET\",'Daily Diary'!E:E,\"DRAW NO BET\",'Daily Diary'!K:K,\"WIN\")","v":0},{"$f":"COUNTIFS('Daily Diary'!A:A,'Grafico Strategie Settimanali'!B242,'Daily Diary'!E:E,\"ALTRO\",'Daily Diary'!E:E,\"ALTRO\",'Daily Diary'!K:K,\"WIN\")","v":0},{"$error":"#DIV/0!"},{"$error":"#DIV/0!"},{"$error":"#DIV/0!"},{"$error":"#DIV/0!"},{"$error":"#DIV/0!"},{"$error":"#DIV/0!"},{"$error":"#DIV/0!"},{"$error":"#DIV/0!"},{"$error":"#DIV/0!"},{"$error":"#DIV/0!"},{"$error":"#DIV/0!"},{"$error":"#DIV/0!"}]
[0,"2023-12-31",{"$f":"COUNTIFS('Daily Diary'!A:A,'Grafico Strategie Settimanali'!B243,'Daily Diary'!E:E,\"BANCA PAREGGIO\")","v":0},{"$f":"COUNTIFS('Daily Diary'!A:A,'Grafico Strategie Settimanali'!B243,'Daily Diary'!E:E,\"PUNTA SQ.CASA\")","v":0},{"$f":"COUNTIFS('Daily Diary'!A:A,'Grafico Strategie Settimanali'!B243,'Daily Diary'!E:E,\"PUNTA SQ.OSPITE\")","v":0},{"$f":"COUNTIFS('Daily Diary'!A:A,'Grafico Strategie Settimanali'!B243,'Daily Diary'!E:E,\"BANCA SFAVORITA\")","v":0},{"$f":"COUNTIFS('Daily Diary'!A:A,'Grafico Strategie Settimanali'!B243,'Daily Diary'!E:E,\"PUNTA OVER\")","v":0},{"$f":"COUNTIFS('Daily Diary'!A:A,'Grafico Strategie Settimanali'!B243,'Daily Diary'!E:E,\"PUNTA UNDER\")","v":0},{"$f":"COUNTIFS('Daily Diary'!A:A,'Grafico Strategie Settimanali'!B243,'Daily Diary'!E:E,\"SCALPING\")","v":0},{"$f":"COUNTIFS('Daily Diary'!A:A,'Grafico Strategie Settimanali'!B243,'Daily Diary'!E:E,\"GT90\")","v":0},{"$f":"COUNTIFS('Daily Diary'!A:A,'Grafico Strategie Settimanali'!B243,'Daily Diary'!E:E,\"GT110\")","v":0},{"$f":"COUNTIFS('Daily Diary'!A:A,'Grafico Strategie Settimanali'!B243,'Daily Diary'!E:E,\"ALERT GOAL\")","v":0},{"$f":"COUNTIFS('Daily Diary'!A:A,'Grafico Strategie Settimanali'!B243,'Daily Diary'!E:E,\"DRAW NO BET\")","v":0},{"$f":"COUNTIFS('Daily Diary'!A:A,'Grafico Strategie Settimanali'!B243,'Daily Diary'!E:E,\"ALTRO\")","v":0},{"$f":"COUNTIFS('Daily Diary'!A:A,'Grafico Strategie Settimanali'!B243,'Daily Diary'!E:E,\"BANCA PAREGGIO\",'Daily Diary'!E:E,\"BANCA PAREGGIO\",'Daily Diary'!K:K,\"WIN\")","v":0},{"$f":"COUNTIFS('Daily Diary'!A:A,'Grafico Strategie Settimanali'!B243,'Daily Diary'!E:E,\"PUNTA SQ.CASA\",'Daily Diary'!E:E,\"PUNTA SQ.CASA\",'Daily Diary'!K:K,\"WIN\")","v":0},{"$f":"COUNTIFS('Daily Diary'!A:A,'Grafico Strategie Settimanali'!B243,'Daily Diary'!E:E,\"PUNTA SQ.OSPITE\",'Daily Diary'!E:E,\"PUNTA SQ.OSPITE\",'Daily Diary'!K:K,\"WIN\")","v":0},{"$f":"COUNTIFS('Daily Diary'!A:A,'Grafico Strategie Settimanali'!B243,'Daily Diary'!E:E,\"BANCA SFAVORITA\",'Daily Diary'!E:E,\"BANCA SFAVORITA\",'Daily Diary'!K:K,\"WIN\")","v":0},{"$f":"COUNTIFS('Daily Diary'!A:A,'Grafico Strategie Settimanali'!B243,'Daily Diary'!E:E,\"PUNTA OVER\",'Daily Diary'!E:E,\"PUNTA OVER\",'Daily Diary'!K:K,\"WIN\")","v":0},{"$f":"COUNTIFS('Daily Diary'!A:A,'Grafico Strategie Settimanali'!B243,'Daily Diary'!E:E,\"PUNTA UNDER\",'Daily Diary'!E:E,\"PUNTA UNDER\",'Daily Diary'!K:K,\"WIN\")","v":0},{"$f":"COUNTIFS('Daily Diary'!A:A,'Grafico Strategie Settimanali'!B243,'Daily Diary'!E:E,\"SCALPING\",'Daily Diary'!E:E,\"SCALPING\",'Daily Diary'!K:K,\"WIN\")","v":0},{"$f":"COUNTIFS('Daily Diary'!A:A,'Grafico Strategie Settimanali'!B243,'Daily Diary'!E:E,\"GT 90\",'Daily Diary'!E:E,\"GT 90\",'Daily Diary'!K:K,\"WIN\")","v":0},{"$f":"COUNTIFS('Daily Diary'!A:A,'Grafico Strategie Settimanali'!B243,'Daily Diary'!E:E,\"GT 110\",'Daily Diary'!E:E,\"GT 110\",'Daily Diary'!K:K,\"WIN\")","v":0},{"$f":"COUNTIFS('Daily Diary'!A:A,'Grafico Strategie Settimanali'!B243,'Daily Diary'!E:E,\"ALERT GOAL\",'Daily Diary'!E:E,\"ALERT GOAL\",'Daily Diary'!K:K,\"WIN\")","v":0},{"$f":"COUNTIFS('Daily Diary'!A:A,'Grafico Strategie Settimanali'!B243,'Daily Diary'!E:E,\"DRAW NO BET\",'Daily Diary'!E:E,\"DRAW NO BET\",'Daily Diary'!K:K,\"WIN\")","v":0},{"$f":"COUNTIFS('Daily Diary'!A:A,'Grafico Strategie Settimanali'!B243,'Daily Diary'!E:E,\"ALTRO\",'Daily Diary'!E:E,\"ALTRO\",'Daily Diary'!K:K,\"WIN\")","v":0},{"$error":"#DIV/0!"},{"$error":"#DIV/0!"},{"$error":"#DIV/0!"},{"$error":"#DIV/0!"},{"$error":"#DIV/0!"},{"$error":"#DIV/0!"},{"$error":"#DIV/0!"},{"$error":"#DIV/0!"},{"$error":"#DIV/0!"},{"$error":"#DIV/0!"},{"$error":"#DIV/0!"},{"$error":"#DIV/0!"}]
[0,"2024-01-01",{"$f":"COUNTIFS('Daily Diary'!A:A,'Grafico Strategie Settimanali'!B244,'Daily Diary'!E:E,\"BANCA PAREGGIO\")","v":0},{"$f":"COUNTIFS('Daily Diary'!A:A,'Grafico Strategie Settimanali'!B244,'Daily Diary'!E:E,\"PUNTA SQ.CASA\")","v":0},{"$f":"COUNTIFS('Daily Diary'!A:A,'Grafico Strategie Settimanali'!B244,'Daily Diary'!E:E,\"PUNTA SQ.OSPITE\")","v":0},{"$f":"COUNTIFS('Daily Diary'!A:A,'Grafico Strategie Settimanali'!B244,'Daily Diary'!E:E,\"BANCA SFAVORITA\")","v":0},{"$f":"COUNTIFS('Daily Diary'!A:A,'Grafico Strategie Settimanali'!B244,'Daily Diary'!E:E,\"PUNTA OVER\")","v":0},{"$f":"COUNTIFS('Daily Diary'!A:A,'Grafico Strategie Settimanali'!B244,'Daily Diary'!E:E,\"PUNTA UNDER\")","v":0},{"$f":"COUNTIFS('Daily Diary'!A:A,'Grafico Strategie Settimanali'!B244,'Daily Diary'!E:E,\"SCALPING\")","v":0},{"$f":"COUNTIFS('Daily Diary'!A:A,'Grafico Strategie Settimanali'!B244,'Daily Diary'!E:E,\"GT90\")","v":0},{"$f":"COUNTIFS('Daily Diary'!A:A,'Grafico Strategie Settimanali'!B244,'Daily Diary'!E:E,\"GT110\")","v":0},{"$f":"COUNTIFS('Daily Diary'!A:A,'Grafico Strategie Settimanali'!B244,'Daily Diary'!E:E,\"ALERT GOAL\")","v":0},{"$f":"COUNTIFS('Daily Diary'!A:A,'Grafico Strategie Settimanali'!B244,'Daily Diary'!E:E,\"DRAW NO BET\")","v":0},{"$f":"COUNTIFS('Daily Diary'!A:A,'Grafico Strategie Settimanali'!B244,'Daily Diary'!E:E,\"ALTRO\")","v":0},{"$f":"COUNTIFS('Daily Diary'!A:A,'Grafico Strategie Settimanali'!B244,'Daily Diary'!E:E,\"BANCA PAREGGIO\",'Daily Diary'!E:E,\"BANCA PAREGGIO\",'Daily Diary'!K:K,\"WIN\")","v":0},{"$f":"COUNTIFS('Daily Diary'!A:A,'Grafico Strategie Settimanali'!B244,'Daily Diary'!E:E,\"PUNTA SQ.CASA\",'Daily Diary'!E:E,\"PUNTA SQ.CASA\",'Daily Diary'!K:K,\"WIN\")","v":0},{"$f":"COUNTIFS('Daily Diary'!A:A,'Grafico Strategie Settimanali'!B244,'Daily Diary'!E:E,\"PUNTA SQ.OSPITE\",'Daily Diary'!E:E,\"PUNTA SQ.OSPITE\",'Daily Diary'!K:K,\"WIN\")","v":0},{"$f":"COUNTIFS('Daily Diary'!A:A,'Grafico Strategie Settimanali'!B244,'Daily Diary'!E:E,\"BANCA SFAVORITA\",'Daily Diary'!E:E,\"BANCA SFAVORITA\",'Daily Diary'!K:K,\"WIN\")","v":0},{"$f":"COUNTIFS('Daily Diary'!A:A,'Grafico Strategie Settimanali'!B244,'Daily Diary'!E:E,\"PUNTA OVER\",'Daily Diary'!E:E,\"PUNTA OVER\",'Daily Diary'!K:K,\"WIN\")","v":0},{"$f":"COUNTIFS('Daily Diary'!A:A,'Grafico Strategie Settimanali'!B244,'Daily Diary'!E:E,\"PUNTA UNDER\",'Daily Diary'!E:E,\"PUNTA UNDER\",'Daily Diary'!K:K,\"WIN\")","v":0},{"$f":"COUNTIFS('Daily Diary'!A:A,'Grafico Strategie Settimanali'!B244,'Daily Diary'!E:E,\"SCALPING\",'Daily Diary'!E:E,\"SCALPING\",'Daily Diary'!K:K,\"WIN\")","v":0},{"$f":"COUNTIFS('Daily Diary'!A:A,'Grafico Strategie Settimanali'!B244,'Daily Diary'!E:E,\"GT 90\",'Daily Diary'!E:E,\"GT 90\",'Daily Diary'!K:K,\"WIN\")","v":0},{"$f":"COUNTIFS('Daily Diary'!A:A,'Grafico Strategie Settimanali'!B244,'Daily Diary'!E:E,\"GT 110\",'Daily Diary'!E:E,\"GT 110\",'Daily Diary'!K:K,\"WIN\")","v":0},{"$f":"COUNTIFS('Daily Diary'!A:A,'Grafico Strategie Settimanali'!B244,'Daily Diary'!E:E,\"ALERT GOAL\",'Daily Diary'!E:E,\"ALERT GOAL\",'Daily Diary'!K:K,\"WIN\")","v":0},{"$f":"COUNTIFS('Daily Diary'!A:A,'Grafico Strategie Settimanali'!B244,'Daily Diary'!E:E,\"DRAW NO BET\",'Daily Diary'!E:E,\"DRAW NO BET\",'Daily Diary'!K:K,\"WIN\")","v":0},{"$f":"COUNTIFS('Daily Diary'!A:A,'Grafico Strategie Settimanali'!B244,'Daily Diary'!E:E,\"ALTRO\",'Daily Diary'!E:E,\"ALTRO\",'Daily Diary'!K:K,\"WIN\")","v":0},{"$error":"#DIV/0!"},{"$error":"#DIV/0!"},{"$error":"#DIV/0!"},{"$error":"#DIV/0!"},{"$error":"#DIV/0!"},{"$error":"#DIV/0!"},{"$error":"#DIV/0!"},{"$error":"#DIV/0!"},{"$error":"#DIV/0!"},{"$error":"#DIV/0!"},{"$error":"#DIV/0!"},{"$error":"#DIV/0!"}]
[0,"2024-01-02",{"$f":"COUNTIFS('Daily Diary'!A:A,'Grafico Strategie Settimanali'!B245,'Daily Diary'!E:E,\"BANCA PAREGGIO\")","v":0},{"$f":"COUNTIFS('Daily Diary'!A:A,'Grafico Strategie Settimanali'!B245,'Daily Diary'!E:E,\"PUNTA SQ.CASA\")","v":0},{"$f":"COUNTIFS('Daily Diary'!A:A,'Grafico Strategie Settimanali'!B245,'Daily Diary'!E:E,\"PUNTA SQ.OSPITE\")","v":0},{"$f":"COUNTIFS('Daily Diary'!A:A,'Grafico Strategie Settimanali'!B245,'Daily Diary'!E:E,\"BANCA SFAVORITA\")","v":0},{"$f":"COUNTIFS('Daily Diary'!A:A,'Grafico Strategie Settimanali'!B245,'Daily Diary'!E:E,\"PUNTA OVER\")","v":0},{"$f":"COUNTIFS('Daily Diary'!A:A,'Grafico Strategie Settimanali'!B245,'Daily Diary'!E:E,\"PUNTA UNDER\")","v":0},{"$f":"COUNTIFS('Daily Diary'!A:A,'Grafico Strategie Settimanali'!B245,'Daily Diary'!E:E,\"SCALPING\")","v":0},{"$f":"COUNTIFS('Daily Diary'!A:A,'Grafico Strategie Settimanali'!B245,'Daily Diary'!E:E,\"GT90\")","v":0},{"$f":"COUNTIFS('Daily Diary'!A:A,'Grafico Strategie Settimanali'!B245,'Daily Diary'!E:E,\"GT110\")","v":0},{"$f":"COUNTIFS('Daily Diary'!A:A,'Grafico Strategie Settimanali'!B245,'Daily Diary'!E:E,\"ALERT GOAL\")","v":0},{"$f":"COUNTIFS('Daily Diary'!A:A,'Grafico Strategie Settimanali'!B245,'Daily Diary'!E:E,\"DRAW NO BET\")","v":0},{"$f":"COUNTIFS('Daily Diary'!A:A,'Grafico Strategie Settimanali'!B245,'Daily Diary'!E:E,\"ALTRO\")","v":0},{"$f":"COUNTIFS('Daily Diary'!A:A,'Grafico Strategie Settimanali'!B245,'Daily Diary'!E:E,\"BANCA PAREGGIO\",'Daily Diary'!E:E,\"BANCA PAREGGIO\",'Daily Diary'!K:K,\"WIN\")","v":0},{"$f":"COUNTIFS('Daily Diary'!A:A,'Grafico Strategie Settimanali'!B245,'Daily Diary'!E:E,\"PUNTA SQ.CASA\",'Daily Diary'!E:E,\"PUNTA SQ.CASA\",'Daily Diary'!K:K,\"WIN\")","v":0},{"$f":"COUNTIFS('Daily Diary'!A:A,'Grafico Strategie Settimanali'!B245,'Daily Diary'!E:E,\"PUNTA SQ.OSPITE\",'Daily Diary'!E:E,\"PUNTA SQ.OSPITE\",'Daily Diary'!K:K,\"WIN\")","v":0},{"$f":"COUNTIFS('Daily Diary'!A:A,'Grafico Strategie Settimanali'!B245,'Daily Diary'!E:E,\"BANCA SFAVORITA\",'Daily Diary'!E:E,\"BANCA SFAVORITA\",'Daily Diary'!K:K,\"WIN\")","v":0},{"$f":"COUNTIFS('Daily Diary'!A:A,'Grafico Strategie Settimanali'!B245,'Daily Diary'!E:E,\"PUNTA OVER\",'Daily Diary'!E:E,\"PUNTA OVER\",'Daily Diary'!K:K,\"WIN\")","v":0},{"$f":"COUNTIFS('Daily Diary'!A:A,'Grafico Strategie Settimanali'!B245,'Daily Diary'!E:E,\"PUNTA UNDER\",'Daily Diary'!E:E,\"PUNTA UNDER\",'Daily Diary'!K:K,\"WIN\")","v":0},{"$f":"COUNTIFS('Daily Diary'!A:A,'Grafico Strategie Settimanali'!B245,'Daily Diary'!E:E,\"SCALPING\",'Daily Diary'!E:E,\"SCALPING\",'Daily Diary'!K:K,\"WIN\")","v":0},{"$f":"COUNTIFS('Daily Diary'!A:A,'Grafico Strategie Settimanali'!B245,'Daily Diary'!E:E,\"GT 90\",'Daily Diary'!E:E,\"GT 90\",'Daily Diary'!K:K,\"WIN\")","v":0},{"$f":"COUNTIFS('Daily Diary'!A:A,'Grafico Strategie Settimanali'!B245,'Daily Diary'!E:E,\"GT 110\",'Daily Diary'!E:E,\"GT 110\",'Daily Diary'!K:K,\"WIN\")","v":0},{"$f":"COUNTIFS('Daily Diary'!A:A,'Grafico Strategie Settimanali'!B245,'Daily Diary'!E:E,\"ALERT GOAL\",'Daily Diary'!E:E,\"ALERT GOAL\",'Daily Diary'!K:K,\"WIN\")","v":0},{"$f":"COUNTIFS('Daily Diary'!A:A,'Grafico Strategie Settimanali'!B245,'Daily Diary'!E:E,\"DRAW NO BET\",'Daily Diary'!E:E,\"DRAW NO BET\",'Daily Diary'!K:K,\"WIN\")","v":0},{"$f":"COUNTIFS('Daily Diary'!A:A,'Grafico Strategie Settimanali'!B245,'Daily Diary'!E:E,\"ALTRO\",'Daily Diary'!E:E,\"ALTRO\",'Daily Diary'!K:K,\"WIN\")","v":0},{"$error":"#DIV/0!"},{"$error":"#DIV/0!"},{"$error":"#DIV/0!"},{"$error":"#DIV/0!"},{"$error":"#DIV/0!"},{"$error":"#DIV/0!"},{"$error":"#DIV/0!"},{"$error":"#DIV/0!"},{"$error":"#DIV/0!"},{"$error":"#DIV/0!"},{"$error":"#DIV/0!"},{"$error":"#DIV/0!"}]
[0,"2024-01-03",{"$f":"COUNTIFS('Daily Diary'!A:A,'Grafico Strategie Settimanali'!B246,'Daily Diary'!E:E,\"BANCA PAREGGIO\")","v":0},{"$f":"COUNTIFS('Daily Diary'!A:A,'Grafico Strategie Settimanali'!B246,'Daily Diary'!E:E,\"PUNTA SQ.CASA\")","v":0},{"$f":"COUNTIFS('Daily Diary'!A:A,'Grafico Strategie Settimanali'!B246,'Daily Diary'!E:E,\"PUNTA SQ.OSPITE\")","v":0},{"$f":"COUNTIFS('Daily Diary'!A:A,'Grafico Strategie Settimanali'!B246,'Daily Diary'!E:E,\"BANCA SFAVORITA\")","v":0},{"$f":"COUNTIFS('Daily Diary'!A:A,'Grafico Strategie Settimanali'!B246,'Daily Diary'!E:E,\"PUNTA OVER\")","v":0},{"$f":"COUNTIFS('Daily Diary'!A:A,'Grafico Strategie Settimanali'!B246,'Daily Diary'!E:E,\"PUNTA UNDER\")","v":0},{"$f":"COUNTIFS('Daily Diary'!A:A,'Grafico Strategie Settimanali'!B246,'Daily Diary'!E:E,\"SCALPING\")","v":0},{"$f":"COUNTIFS('Daily Diary'!A:A,'Grafico Strategie Settimanali'!B246,'Daily Diary'!E:E,\"GT90\")","v":0},{"$f":"COUNTIFS('Daily Diary'!A:A,'Grafico Strategie Settimanali'!B246,'Daily Diary'!E:E,\"GT110\")","v":0},{"$f":"COUNTIFS('Daily Diary'!A:A,'Grafico Strategie Settimanali'!B246,'Daily Diary'!E:E,\"ALERT GOAL\")","v":0},{"$f":"COUNTIFS('Daily Diary'!A:A,'Grafico Strategie Settimanali'!B246,'Daily Diary'!E:E,\"DRAW NO BET\")","v":0},{"$f":"COUNTIFS('Daily Diary'!A:A,'Grafico Strategie Settimanali'!B246,'Daily Diary'!E:E,\"ALTRO\")","v":0},{"$f":"COUNTIFS('Daily Diary'!A:A,'Grafico Strategie Settimanali'!B246,'Daily Diary'!E:E,\"BANCA PAREGGIO\",'Daily Diary'!E:E,\"BANCA PAREGGIO\",'Daily Diary'!K:K,\"WIN\")","v":0},{"$f":"COUNTIFS('Daily Diary'!A:A,'Grafico Strategie Settimanali'!B246,'Daily Diary'!E:E,\"PUNTA SQ.CASA\",'Daily Diary'!E:E,\"PUNTA SQ.CASA\",'Daily Diary'!K:K,\"WIN\")","v":0},{"$f":"COUNTIFS('Daily Diary'!A:A,'Grafico Strategie Settimanali'!B246,'Daily Diary'!E:E,\"PUNTA SQ.OSPITE\",'Daily Diary'!E:E,\"PUNTA SQ.OSPITE\",'Daily Diary'!K:K,\"WIN\")","v":0},{"$f":"COUNTIFS('Daily Diary'!A:A,'Grafico Strategie Settimanali'!B246,'Daily Diary'!E:E,\"BANCA SFAVORITA\",'Daily Diary'!E:E,\"BANCA SFAVORITA\",'Daily Diary'!K:K,\"WIN\")","v":0},{"$f":"COUNTIFS('Daily Diary'!A:A,'Grafico Strategie Settimanali'!B246,'Daily Diary'!E:E,\"PUNTA OVER\",'Daily Diary'!E:E,\"PUNTA OVER\",'Daily Diary'!K:K,\"WIN\")","v":0},{"$f":"COUNTIFS('Daily Diary'!A:A,'Grafico Strategie Settimanali'!B246,'Daily Diary'!E:E,\"PUNTA UNDER\",'Daily Diary'!E:E,\"PUNTA UNDER\",'Daily Diary'!K:K,\"WIN\")","v":0},{"$f":"COUNTIFS('Daily Diary'!A:A,'Grafico Strategie Settimanali'!B246,'Daily Diary'!E:E,\"SCALPING\",'Daily Diary'!E:E,\"SCALPING\",'Daily Diary'!K:K,\"WIN\")","v":0},{"$f":"COUNTIFS('Daily Diary'!A:A,'Grafico Strategie Settimanali'!B246,'Daily Diary'!E:E,\"GT 90\",'Daily Diary'!E:E,\"GT 90\",'Daily Diary'!K:K,\"WIN\")","v":0},{"$f":"COUNTIFS('Daily Diary'!A:A,'Grafico Strategie Settimanali'!B246,'Daily Diary'!E:E,\"GT 110\",'Daily Diary'!E:E,\"GT 110\",'Daily Diary'!K:K,\"WIN\")","v":0},{"$f":"COUNTIFS('Daily Diary'!A:A,'Grafico Strategie Settimanali'!B246,'Daily Diary'!E:E,\"ALERT GOAL\",'Daily Diary'!E:E,\"ALERT GOAL\",'Daily Diary'!K:K,\"WIN\")","v":0},{"$f":"COUNTIFS('Daily Diary'!A:A,'Grafico Strategie Settimanali'!B246,'Daily Diary'!E:E,\"DRAW NO BET\",'Daily Diary'!E:E,\"DRAW NO BET\",'Daily Diary'!K:K,\"WIN\")","v":0},{"$f":"COUNTIFS('Daily Diary'!A:A,'Grafico Strategie Settimanali'!B246,'Daily Diary'!E:E,\"ALTRO\",'Daily Diary'!E:E,\"ALTRO\",'Daily Diary'!K:K,\"WIN\")","v":0},{"$error":"#DIV/0!"},{"$error":"#DIV/0!"},{"$error":"#DIV/0!"},{"$error":"#DIV/0!"},{"$error":"#DIV/0!"},{"$error":"#DIV/0!"},{"$error":"#DIV/0!"},{"$error":"#DIV/0!"},{"$error":"#DIV/0!"},{"$error":"#DIV/0!"},{"$error":"#DIV/0!"},{"$error":"#DIV/0!"}]
[0,"2024-01-04",{"$f":"COUNTIFS('Daily Diary'!A:A,'Grafico Strategie Settimanali'!B247,'Daily Diary'!E:E,\"BANCA PAREGGIO\")","v":0},{"$f":"COUNTIFS('Daily Diary'!A:A,'Grafico Strategie Settimanali'!B247,'Daily Diary'!E:E,\"PUNTA SQ.CASA\")","v":0},{"$f":"COUNTIFS('Daily Diary'!A:A,'Grafico Strategie Settimanali'!B247,'Daily Diary'!E:E,\"PUNTA SQ.OSPITE\")","v":0},{"$f":"COUNTIFS('Daily Diary'!A:A,'Grafico Strategie Settimanali'!B247,'Daily Diary'!E:E,\"BANCA SFAVORITA\")","v":0},{"$f":"COUNTIFS('Daily Diary'!A:A,'Grafico Strategie Settimanali'!B247,'Daily Diary'!E:E,\"PUNTA OVER\")","v":0},{"$f":"COUNTIFS('Daily Diary'!A:A,'Grafico Strategie Settimanali'!B247,'Daily Diary'!E:E,\"PUNTA UNDER\")","v":0},{"$f":"COUNTIFS('Daily Diary'!A:A,'Grafico Strategie Settimanali'!B247,'Daily Diary'!E:E,\"SCALPING\")","v":0},{"$f":"COUNTIFS('Daily Diary'!A:A,'Grafico Strategie Settimanali'!B247,'Daily Diary'!E:E,\"GT90\")","v":0},{"$f":"COUNTIFS('Daily Diary'!A:A,'Grafico Strategie Settimanali'!B247,'Daily Diary'!E:E,\"GT110\")","v":0},{"$f":"COUNTIFS('Daily Diary'!A:A,'Grafico Strategie Settimanali'!B247,'Daily Diary'!E:E,\"ALERT GOAL\")","v":0},{"$f":"COUNTIFS('Daily Diary'!A:A,'Grafico Strategie Settimanali'!B247,'Daily Diary'!E:E,\"DRAW NO BET\")","v":0},{"$f":"COUNTIFS('Daily Diary'!A:A,'Grafico Strategie Settimanali'!B247,'Daily Diary'!E:E,\"ALTRO\")","v":0},{"$f":"COUNTIFS('Daily Diary'!A:A,'Grafico Strategie Settimanali'!B247,'Daily Diary'!E:E,\"BANCA PAREGGIO\",'Daily Diary'!E:E,\"BANCA PAREGGIO\",'Daily Diary'!K:K,\"WIN\")","v":0},{"$f":"COUNTIFS('Daily Diary'!A:A,'Grafico Strategie Settimanali'!B247,'Daily Diary'!E:E,\"PUNTA SQ.CASA\",'Daily Diary'!E:E,\"PUNTA SQ.CASA\",'Daily Diary'!K:K,\"WIN\")","v":0},{"$f":"COUNTIFS('Daily Diary'!A:A,'Grafico Strategie Settimanali'!B247,'Daily Diary'!E:E,\"PUNTA SQ.OSPITE\",'Daily Diary'!E:E,\"PUNTA SQ.OSPITE\",'Daily Diary'!K:K,\"WIN\")","v":0},{"$f":"COUNTIFS('Daily Diary'!A:A,'Grafico Strategie Settimanali'!B247,'Daily Diary'!E:E,\"BANCA SFAVORITA\",'Daily Diary'!E:E,\"BANCA SFAVORITA\",'Daily Diary'!K:K,\"WIN\")","v":0},{"$f":"COUNTIFS('Daily Diary'!A:A,'Grafico Strategie Settimanali'!B247,'Daily Diary'!E:E,\"PUNTA OVER\",'Daily Diary'!E:E,\"PUNTA OVER\",'Daily Diary'!K:K,\"WIN\")","v":0},{"$f":"COUNTIFS('Daily Diary'!A:A,'Grafico Strategie Settimanali'!B247,'Daily Diary'!E:E,\"PUNTA UNDER\",'Daily Diary'!E:E,\"PUNTA UNDER\",'Daily Diary'!K:K,\"WIN\")","v":0},{"$f":"COUNTIFS('Daily Diary'!A:A,'Grafico Strategie Settimanali'!B247,'Daily Diary'!E:E,\"SCALPING\",'Daily Diary'!E:E,\"SCALPING\",'Daily Diary'!K:K,\"WIN\")","v":0},{"$f":"COUNTIFS('Daily Diary'!A:A,'Grafico Strategie Settimanali'!B247,'Daily Diary'!E:E,\"GT 90\",'Daily Diary'!E:E,\"GT 90\",'Daily Diary'!K:K,\"WIN\")","v":0},{"$f":"COUNTIFS('Daily Diary'!A:A,'Grafico Strategie Settimanali'!B247,'Daily Diary'!E:E,\"GT 110\",'Daily Diary'!E:E,\"GT 110\",'Daily Diary'!K:K,\"WIN\")","v":0},{"$f":"COUNTIFS('Daily Diary'!A:A,'Grafico Strategie Settimanali'!B247,'Daily Diary'!E:E,\"ALERT GOAL\",'Daily Diary'!E:E,\"ALERT GOAL\",'Daily Diary'!K:K,\"WIN\")","v":0},{"$f":"COUNTIFS('Daily Diary'!A:A,'Grafico Strategie Settimanali'!B247,'Daily Diary'!E:E,\"DRAW NO BET\",'Daily Diary'!E:E,\"DRAW NO BET\",'Daily Diary'!K:K,\"WIN\")","v":0},{"$f":"COUNTIFS('Daily Diary'!A:A,'Grafico Strategie Settimanali'!B247,'Daily Diary'!E:E,\"ALTRO\",'Daily Diary'!E:E,\"ALTRO\",'Daily Diary'!K:K,\"WIN\")","v":0},{"$error":"#DIV/0!"},{"$error":"#DIV/0!"},{"$error":"#DIV/0!"},{"$error":"#DIV/0!"},{"$error":"#DIV/0!"},{"$error":"#DIV/0!"},{"$error":"#DIV/0!"},{"$error":"#DIV/0!"},{"$error":"#DIV/0!"},{"$error":"#DIV/0!"},{"$error":"#DIV/0!"},{"$error":"#DIV/0!"}]
[0,"2024-01-05",{"$f":"COUNTIFS('Daily Diary'!A:A,'Grafico Strategie Settimanali'!B248,'Daily Diary'!E:E,\"BANCA PAREGGIO\")","v":0},{"$f":"COUNTIFS('Daily Diary'!A:A,'Grafico Strategie Settimanali'!B248,'Daily Diary'!E:E,\"PUNTA SQ.CASA\")","v":0},{"$f":"COUNTIFS('Daily Diary'!A:A,'Grafico Strategie Settimanali'!B248,'Daily Diary'!E:E,\"PUNTA SQ.OSPITE\")","v":0},{"$f":"COUNTIFS('Daily Diary'!A:A,'Grafico Strategie Settimanali'!B248,'Daily Diary'!E:E,\"BANCA SFAVORITA\")","v":0},{"$f":"COUNTIFS('Daily Diary'!A:A,'Grafico Strategie Settimanali'!B248,'Daily Diary'!E:E,\"PUNTA OVER\")","v":0},{"$f":"COUNTIFS('Daily Diary'!A:A,'Grafico Strategie Settimanali'!B248,'Daily Diary'!E:E,\"PUNTA UNDER\")","v":0},{"$f":"COUNTIFS('Daily Diary'!A:A,'Grafico Strategie Settimanali'!B248,'Daily Diary'!E:E,\"SCALPING\")","v":0},{"$f":"COUNTIFS('Daily Diary'!A:A,'Grafico Strategie Settimanali'!B248,'Daily Diary'!E:E,\"GT90\")","v":0},{"$f":"COUNTIFS('Daily Diary'!A:A,'Grafico Strategie Settimanali'!B248,'Daily Diary'!E:E,\"GT110\")","v":0},{"$f":"COUNTIFS('Daily Diary'!A:A,'Grafico Strategie Settimanali'!B248,'Daily Diary'!E:E,\"ALERT GOAL\")","v":0},{"$f":"COUNTIFS('Daily Diary'!A:A,'Grafico Strategie Settimanali'!B248,'Daily Diary'!E:E,\"DRAW NO BET\")","v":0},{"$f":"COUNTIFS('Daily Diary'!A:A,'Grafico Strategie Settimanali'!B248,'Daily Diary'!E:E,\"ALTRO\")","v":0},{"$f":"COUNTIFS('Daily Diary'!A:A,'Grafico Strategie Settimanali'!B248,'Daily Diary'!E:E,\"BANCA PAREGGIO\",'Daily Diary'!E:E,\"BANCA PAREGGIO\",'Daily Diary'!K:K,\"WIN\")","v":0},{"$f":"COUNTIFS('Daily Diary'!A:A,'Grafico Strategie Settimanali'!B248,'Daily Diary'!E:E,\"PUNTA SQ.CASA\",'Daily Diary'!E:E,\"PUNTA SQ.CASA\",'Daily Diary'!K:K,\"WIN\")","v":0},{"$f":"COUNTIFS('Daily Diary'!A:A,'Grafico Strategie Settimanali'!B248,'Daily Diary'!E:E,\"PUNTA SQ.OSPITE\",'Daily Diary'!E:E,\"PUNTA SQ.OSPITE\",'Daily Diary'!K:K,\"WIN\")","v":0},{"$f":"COUNTIFS('Daily Diary'!A:A,'Grafico Strategie Settimanali'!B248,'Daily Diary'!E:E,\"BANCA SFAVORITA\",'Daily Diary'!E:E,\"BANCA SFAVORITA\",'Daily Diary'!K:K,\"WIN\")","v":0},{"$f":"COUNTIFS('Daily Diary'!A:A,'Grafico Strategie Settimanali'!B248,'Daily Diary'!E:E,\"PUNTA OVER\",'Daily Diary'!E:E,\"PUNTA OVER\",'Daily Diary'!K:K,\"WIN\")","v":0},{"$f":"COUNTIFS('Daily Diary'!A:A,'Grafico Strategie Settimanali'!B248,'Daily Diary'!E:E,\"PUNTA UNDER\",'Daily Diary'!E:E,\"PUNTA UNDER\",'Daily Diary'!K:K,\"WIN\")","v":0},{"$f":"COUNTIFS('Daily Diary'!A:A,'Grafico Strategie Settimanali'!B248,'Daily Diary'!E:E,\"SCALPING\",'Daily Diary'!E:E,\"SCALPING\",'Daily Diary'!K:K,\"WIN\")","v":0},{"$f":"COUNTIFS('Daily Diary'!A:A,'Grafico Strategie Settimanali'!B248,'Daily Diary'!E:E,\"GT 90\",'Daily Diary'!E:E,\"GT 90\",'Daily Diary'!K:K,\"WIN\")","v":0},{"$f":"COUNTIFS('Daily Diary'!A:A,'Grafico Strategie Settimanali'!B248,'Daily Diary'!E:E,\"GT 110\",'Daily Diary'!E:E,\"GT 110\",'Daily Diary'!K:K,\"WIN\")","v":0},{"$f":"COUNTIFS('Daily Diary'!A:A,'Grafico Strategie Settimanali'!B248,'Daily Diary'!E:E,\"ALERT GOAL\",'Daily Diary'!E:E,\"ALERT GOAL\",'Daily Diary'!K:K,\"WIN\")","v":0},{"$f":"COUNTIFS('Daily Diary'!A:A,'Grafico Strategie Settimanali'!B248,'Daily Diary'!E:E,\"DRAW NO BET\",'Daily Diary'!E:E,\"DRAW NO BET\",'Daily Diary'!K:K,\"WIN\")","v":0},{"$f":"COUNTIFS('Daily Diary'!A:A,'Grafico Strategie Settimanali'!B248,'Daily Diary'!E:E,\"ALTRO\",'Daily Diary'!E:E,\"ALTRO\",'Daily Diary'!K:K,\"WIN\")","v":0},{"$error":"#DIV/0!"},{"$error":"#DIV/0!"},{"$error":"#DIV/0!"},{"$error":"#DIV/0!"},{"$error":"#DIV/0!"},{"$error":"#DIV/0!"},{"$error":"#DIV/0!"},{"$error":"#DIV/0!"},{"$error":"#DIV/0!"},{"$error":"#DIV/0!"},{"$error":"#DIV/0!"},{"$error":"#DIV/0!"}]
[0,"2024-01-06",{"$f":"COUNTIFS('Daily Diary'!A:A,'Grafico Strategie Settimanali'!B249,'Daily Diary'!E:E,\"BANCA PAREGGIO\")","v":0},{"$f":"COUNTIFS('Daily Diary'!A:A,'Grafico Strategie Settimanali'!B249,'Daily Diary'!E:E,\"PUNTA SQ.CASA\")","v":0},{"$f":"COUNTIFS('Daily Diary'!A:A,'Grafico Strategie Settimanali'!B249,'Daily Diary'!E:E,\"PUNTA SQ.OSPITE\")","v":0},{"$f":"COUNTIFS('Daily Diary'!A:A,'Grafico Strategie Settimanali'!B249,'Daily Diary'!E:E,\"BANCA SFAVORITA\")","v":0},{"$f":"COUNTIFS('Daily Diary'!A:A,'Grafico Strategie Settimanali'!B249,'Daily Diary'!E:E,\"PUNTA OVER\")","v":0},{"$f":"COUNTIFS('Daily Diary'!A:A,'Grafico Strategie Settimanali'!B249,'Daily Diary'!E:E,\"PUNTA UNDER\")","v":0},{"$f":"COUNTIFS('Daily Diary'!A:A,'Grafico Strategie Settimanali'!B249,'Daily Diary'!E:E,\"SCALPING\")","v":0},{"$f":"COUNTIFS('Daily Diary'!A:A,'Grafico Strategie Settimanali'!B249,'Daily Diary'!E:E,\"GT90\")","v":0},{"$f":"COUNTIFS('Daily Diary'!A:A,'Grafico Strategie Settimanali'!B249,'Daily Diary'!E:E,\"GT110\")","v":0},{"$f":"COUNTIFS('Daily Diary'!A:A,'Grafico Strategie Settimanali'!B249,'Daily Diary'!E:E,\"ALERT GOAL\")","v":0},{"$f":"COUNTIFS('Daily Diary'!A:A,'Grafico Strategie Settimanali'!B249,'Daily Diary'!E:E,\"DRAW NO BET\")","v":0},{"$f":"COUNTIFS('Daily Diary'!A:A,'Grafico Strategie Settimanali'!B249,'Daily Diary'!E:E,\"ALTRO\")","v":0},{"$f":"COUNTIFS('Daily Diary'!A:A,'Grafico Strategie Settimanali'!B249,'Daily Diary'!E:E,\"BANCA PAREGGIO\",'Daily Diary'!E:E,\"BANCA PAREGGIO\",'Daily Diary'!K:K,\"WIN\")","v":0},{"$f":"COUNTIFS('Daily Diary'!A:A,'Grafico Strategie Settimanali'!B249,'Daily Diary'!E:E,\"PUNTA SQ.CASA\",'Daily Diary'!E:E,\"PUNTA SQ.CASA\",'Daily Diary'!K:K,\"WIN\")","v":0},{"$f":"COUNTIFS('Daily Diary'!A:A,'Grafico Strategie Settimanali'!B249,'Daily Diary'!E:E,\"PUNTA SQ.OSPITE\",'Daily Diary'!E:E,\"PUNTA SQ.OSPITE\",'Daily Diary'!K:K,\"WIN\")","v":0},{"$f":"COUNTIFS('Daily Diary'!A:A,'Grafico Strategie Settimanali'!B249,'Daily Diary'!E:E,\"BANCA SFAVORITA\",'Daily Diary'!E:E,\"BANCA SFAVORITA\",'Daily Diary'!K:K,\"WIN\")","v":0},{"$f":"COUNTIFS('Daily Diary'!A:A,'Grafico Strategie Settimanali'!B249,'Daily Diary'!E:E,\"PUNTA OVER\",'Daily Diary'!E:E,\"PUNTA OVER\",'Daily Diary'!K:K,\"WIN\")","v":0},{"$f":"COUNTIFS('Daily Diary'!A:A,'Grafico Strategie Settimanali'!B249,'Daily Diary'!E:E,\"PUNTA UNDER\",'Daily Diary'!E:E,\"PUNTA UNDER\",'Daily Diary'!K:K,\"WIN\")","v":0},{"$f":"COUNTIFS('Daily Diary'!A:A,'Grafico Strategie Settimanali'!B249,'Daily Diary'!E:E,\"SCALPING\",'Daily Diary'!E:E,\"SCALPING\",'Daily Diary'!K:K,\"WIN\")","v":0},{"$f":"COUNTIFS('Daily Diary'!A:A,'Grafico Strategie Settimanali'!B249,'Daily Diary'!E:E,\"GT 90\",'Daily Diary'!E:E,\"GT 90\",'Daily Diary'!K:K,\"WIN\")","v":0},{"$f":"COUNTIFS('Daily Diary'!A:A,'Grafico Strategie Settimanali'!B249,'Daily Diary'!E:E,\"GT 110\",'Daily Diary'!E:E,\"GT 110\",'Daily Diary'!K:K,\"WIN\")","v":0},{"$f":"COUNTIFS('Daily Diary'!A:A,'Grafico Strategie Settimanali'!B249,'Daily Diary'!E:E,\"ALERT GOAL\",'Daily Diary'!E:E,\"ALERT GOAL\",'Daily Diary'!K:K,\"WIN\")","v":0},{"$f":"COUNTIFS('Daily Diary'!A:A,'Grafico Strategie Settimanali'!B249,'Daily Diary'!E:E,\"DRAW NO BET\",'Daily Diary'!E:E,\"DRAW NO BET\",'Daily Diary'!K:K,\"WIN\")","v":0},{"$f":"COUNTIFS('Daily Diary'!A:A,'Grafico Strategie Settimanali'!B249,'Daily Diary'!E:E,\"ALTRO\",'Daily Diary'!E:E,\"ALTRO\",'Daily Diary'!K:K,\"WIN\")","v":0},{"$error":"#DIV/0!"},{"$error":"#DIV/0!"},{"$error":"#DIV/0!"},{"$error":"#DIV/0!"},{"$error":"#DIV/0!"},{"$error":"#DIV/0!"},{"$error":"#DIV/0!"},{"$error":"#DIV/0!"},{"$error":"#DIV/0!"},{"$error":"#DIV/0!"},{"$error":"#DIV/0!"},{"$error":"#DIV/0!"}]
[0,"2024-01-07",{"$f":"COUNTIFS('Daily Diary'!A:A,'Grafico Strategie Settimanali'!B250,'Daily Diary'!E:E,\"BANCA PAREGGIO\")","v":0},{"$f":"COUNTIFS('Daily Diary'!A:A,'Grafico Strategie Settimanali'!B250,'Daily Diary'!E:E,\"PUNTA SQ.CASA\")","v":0},{"$f":"COUNTIFS('Daily Diary'!A:A,'Grafico Strategie Settimanali'!B250,'Daily Diary'!E:E,\"PUNTA SQ.OSPITE\")","v":0},{"$f":"COUNTIFS('Daily Diary'!A:A,'Grafico Strategie Settimanali'!B250,'Daily Diary'!E:E,\"BANCA SFAVORITA\")","v":0},{"$f":"COUNTIFS('Daily Diary'!A:A,'Grafico Strategie Settimanali'!B250,'Daily Diary'!E:E,\"PUNTA OVER\")","v":0},{"$f":"COUNTIFS('Daily Diary'!A:A,'Grafico Strategie Settimanali'!B250,'Daily Diary'!E:E,\"PUNTA UNDER\")","v":0},{"$f":"COUNTIFS('Daily Diary'!A:A,'Grafico Strategie Settimanali'!B250,'Daily Diary'!E:E,\"SCALPING\")","v":0},{"$f":"COUNTIFS('Daily Diary'!A:A,'Grafico Strategie Settimanali'!B250,'Daily Diary'!E:E,\"GT90\")","v":0},{"$f":"COUNTIFS('Daily Diary'!A:A,'Grafico Strategie Settimanali'!B250,'Daily Diary'!E:E,\"GT110\")","v":0},{"$f":"COUNTIFS('Daily Diary'!A:A,'Grafico Strategie Settimanali'!B250,'Daily Diary'!E:E,\"ALERT GOAL\")","v":0},{"$f":"COUNTIFS('Daily Diary'!A:A,'Grafico Strategie Settimanali'!B250,'Daily Diary'!E:E,\"DRAW NO BET\")","v":0},{"$f":"COUNTIFS('Daily Diary'!A:A,'Grafico Strategie Settimanali'!B250,'Daily Diary'!E:E,\"ALTRO\")","v":0},{"$f":"COUNTIFS('Daily Diary'!A:A,'Grafico Strategie Settimanali'!B250,'Daily Diary'!E:E,\"BANCA PAREGGIO\",'Daily Diary'!E:E,\"BANCA PAREGGIO\",'Daily Diary'!K:K,\"WIN\")","v":0},{"$f":"COUNTIFS('Daily Diary'!A:A,'Grafico Strategie Settimanali'!B250,'Daily Diary'!E:E,\"PUNTA SQ.CASA\",'Daily Diary'!E:E,\"PUNTA SQ.CASA\",'Daily Diary'!K:K,\"WIN\")","v":0},{"$f":"COUNTIFS('Daily Diary'!A:A,'Grafico Strategie Settimanali'!B250,'Daily Diary'!E:E,\"PUNTA SQ.OSPITE\",'Daily Diary'!E:E,\"PUNTA SQ.OSPITE\",'Daily Diary'!K:K,\"WIN\")","v":0},{"$f":"COUNTIFS('Daily Diary'!A:A,'Grafico Strategie Settimanali'!B250,'Daily Diary'!E:E,\"BANCA SFAVORITA\",'Daily Diary'!E:E,\"BANCA SFAVORITA\",'Daily Diary'!K:K,\"WIN\")","v":0},{"$f":"COUNTIFS('Daily Diary'!A:A,'Grafico Strategie Settimanali'!B250,'Daily Diary'!E:E,\"PUNTA OVER\",'Daily Diary'!E:E,\"PUNTA OVER\",'Daily Diary'!K:K,\"WIN\")","v":0},{"$f":"COUNTIFS('Daily Diary'!A:A,'Grafico Strategie Settimanali'!B250,'Daily Diary'!E:E,\"PUNTA UNDER\",'Daily Diary'!E:E,\"PUNTA UNDER\",'Daily Diary'!K:K,\"WIN\")","v":0},{"$f":"COUNTIFS('Daily Diary'!A:A,'Grafico Strategie Settimanali'!B250,'Daily Diary'!E:E,\"SCALPING\",'Daily Diary'!E:E,\"SCALPING\",'Daily Diary'!K:K,\"WIN\")","v":0},{"$f":"COUNTIFS('Daily Diary'!A:A,'Grafico Strategie Settimanali'!B250,'Daily Diary'!E:E,\"GT 90\",'Daily Diary'!E:E,\"GT 90\",'Daily Diary'!K:K,\"WIN\")","v":0},{"$f":"COUNTIFS('Daily Diary'!A:A,'Grafico Strategie Settimanali'!B250,'Daily Diary'!E:E,\"GT 110\",'Daily Diary'!E:E,\"GT 110\",'Daily Diary'!K:K,\"WIN\")","v":0},{"$f":"COUNTIFS('Daily Diary'!A:A,'Grafico Strategie Settimanali'!B250,'Daily Diary'!E:E,\"ALERT GOAL\",'Daily Diary'!E:E,\"ALERT GOAL\",'Daily Diary'!K:K,\"WIN\")","v":0},{"$f":"COUNTIFS('Daily Diary'!A:A,'Grafico Strategie Settimanali'!B250,'Daily Diary'!E:E,\"DRAW NO BET\",'Daily Diary'!E:E,\"DRAW NO BET\",'Daily Diary'!K:K,\"WIN\")","v":0},{"$f":"COUNTIFS('Daily Diary'!A:A,'Grafico Strategie Settimanali'!B250,'Daily Diary'!E:E,\"ALTRO\",'Daily Diary'!E:E,\"ALTRO\",'Daily Diary'!K:K,\"WIN\")","v":0},{"$error":"#DIV/0!"},{"$error":"#DIV/0!"},{"$error":"#DIV/0!"},{"$error":"#DIV/0!"},{"$error":"#DIV/0!"},{"$error":"#DIV/0!"},{"$error":"#DIV/0!"},{"$error":"#DIV/0!"},{"$error":"#DIV/0!"},{"$error":"#DIV/0!"},{"$error":"#DIV/0!"},{"$error":"#DIV/0!"}]
[0,"2024-01-08",{"$f":"COUNTIFS('Daily Diary'!A:A,'Grafico Strategie Settimanali'!B251,'Daily Diary'!E:E,\"BANCA PAREGGIO\")","v":0},{"$f":"COUNTIFS('Daily Diary'!A:A,'Grafico Strategie Settimanali'!B251,'Daily Diary'!E:E,\"PUNTA SQ.CASA\")","v":0},{"$f":"COUNTIFS('Daily Diary'!A:A,'Grafico Strategie Settimanali'!B251,'Daily Diary'!E:E,\"PUNTA SQ.OSPITE\")","v":0},{"$f":"COUNTIFS('Daily Diary'!A:A,'Grafico Strategie Settimanali'!B251,'Daily Diary'!E:E,\"BANCA SFAVORITA\")","v":0},{"$f":"COUNTIFS('Daily Diary'!A:A,'Grafico Strategie Settimanali'!B251,'Daily Diary'!E:E,\"PUNTA OVER\")","v":0},{"$f":"COUNTIFS('Daily Diary'!A:A,'Grafico Strategie Settimanali'!B251,'Daily Diary'!E:E,\"PUNTA UNDER\")","v":0},{"$f":"COUNTIFS('Daily Diary'!A:A,'Grafico Strategie Settimanali'!B251,'Daily Diary'!E:E,\"SCALPING\")","v":0},{"$f":"COUNTIFS('Daily Diary'!A:A,'Grafico Strategie Settimanali'!B251,'Daily Diary'!E:E,\"GT90\")","v":0},{"$f":"COUNTIFS('Daily Diary'!A:A,'Grafico Strategie Settimanali'!B251,'Daily Diary'!E:E,\"GT110\")","v":0},{"$f":"COUNTIFS('Daily Diary'!A:A,'Grafico Strategie Settimanali'!B251,'Daily Diary'!E:E,\"ALERT GOAL\")","v":0},{"$f":"COUNTIFS('Daily Diary'!A:A,'Grafico Strategie Settimanali'!B251,'Daily Diary'!E:E,\"DRAW NO BET\")","v":0},{"$f":"COUNTIFS('Daily Diary'!A:A,'Grafico Strategie Settimanali'!B251,'Daily Diary'!E:E,\"ALTRO\")","v":0},{"$f":"COUNTIFS('Daily Diary'!A:A,'Grafico Strategie Settimanali'!B251,'Daily Diary'!E:E,\"BANCA PAREGGIO\",'Daily Diary'!E:E,\"BANCA PAREGGIO\",'Daily Diary'!K:K,\"WIN\")","v":0},{"$f":"COUNTIFS('Daily Diary'!A:A,'Grafico Strategie Settimanali'!B251,'Daily Diary'!E:E,\"PUNTA SQ.CASA\",'Daily Diary'!E:E,\"PUNTA SQ.CASA\",'Daily Diary'!K:K,\"WIN\")","v":0},{"$f":"COUNTIFS('Daily Diary'!A:A,'Grafico Strategie Settimanali'!B251,'Daily Diary'!E:E,\"PUNTA SQ.OSPITE\",'Daily Diary'!E:E,\"PUNTA SQ.OSPITE\",'Daily Diary'!K:K,\"WIN\")","v":0},{"$f":"COUNTIFS('Daily Diary'!A:A,'Grafico Strategie Settimanali'!B251,'Daily Diary'!E:E,\"BANCA SFAVORITA\",'Daily Diary'!E:E,\"BANCA SFAVORITA\",'Daily Diary'!K:K,\"WIN\")","v":0},{"$f":"COUNTIFS('Daily Diary'!A:A,'Grafico Strategie Settimanali'!B251,'Daily Diary'!E:E,\"PUNTA OVER\",'Daily Diary'!E:E,\"PUNTA OVER\",'Daily Diary'!K:K,\"WIN\")","v":0},{"$f":"COUNTIFS('Daily Diary'!A:A,'Grafico Strategie Settimanali'!B251,'Daily Diary'!E:E,\"PUNTA UNDER\",'Daily Diary'!E:E,\"PUNTA UNDER\",'Daily Diary'!K:K,\"WIN\")","v":0},{"$f":"COUNTIFS('Daily Diary'!A:A,'Grafico Strategie Settimanali'!B251,'Daily Diary'!E:E,\"SCALPING\",'Daily Diary'!E:E,\"SCALPING\",'Daily Diary'!K:K,\"WIN\")","v":0},{"$f":"COUNTIFS('Daily Diary'!A:A,'Grafico Strategie Settimanali'!B251,'Daily Diary'!E:E,\"GT 90\",'Daily Diary'!E:E,\"GT 90\",'Daily Diary'!K:K,\"WIN\")","v":0},{"$f":"COUNTIFS('Daily Diary'!A:A,'Grafico Strategie Settimanali'!B251,'Daily Diary'!E:E,\"GT 110\",'Daily Diary'!E:E,\"GT 110\",'Daily Diary'!K:K,\"WIN\")","v":0},{"$f":"COUNTIFS('Daily Diary'!A:A,'Grafico Strategie Settimanali'!B251,'Daily Diary'!E:E,\"ALERT GOAL\",'Daily Diary'!E:E,\"ALERT GOAL\",'Daily Diary'!K:K,\"WIN\")","v":0},{"$f":"COUNTIFS('Daily Diary'!A:A,'Grafico Strategie Settimanali'!B251,'Daily Diary'!E:E,\"DRAW NO BET\",'Daily Diary'!E:E,\"DRAW NO BET\",'Daily Diary'!K:K,\"WIN\")","v":0},{"$f":"COUNTIFS('Daily Diary'!A:A,'Grafico Strategie Settimanali'!B251,'Daily Diary'!E:E,\"ALTRO\",'Daily Diary'!E:E,\"ALTRO\",'Daily Diary'!K:K,\"WIN\")","v":0},{"$error":"#DIV/0!"},{"$error":"#DIV/0!"},{"$error":"#DIV/0!"},{"$error":"#DIV/0!"},{"$error":"#DIV/0!"},{"$error":"#DIV/0!"},{"$error":"#DIV/0!"},{"$error":"#DIV/0!"},{"$error":"#DIV/0!"},{"$error":"#DIV/0!"},{"$error":"#DIV/0!"},{"$error":"#DIV/0!"}]
[0,"2024-01-09",{"$f":"COUNTIFS('Daily Diary'!A:A,'Grafico Strategie Settimanali'!B252,'Daily Diary'!E:E,\"BANCA PAREGGIO\")","v":0},{"$f":"COUNTIFS('Daily Diary'!A:A,'Grafico Strategie Settimanali'!B252,'Daily Diary'!E:E,\"PUNTA SQ.CASA\")","v":0},{"$f":"COUNTIFS('Daily Diary'!A:A,'Grafico Strategie Settimanali'!B252,'Daily Diary'!E:E,\"PUNTA SQ.OSPITE\")","v":0},{"$f":"COUNTIFS('Daily Diary'!A:A,'Grafico Strategie Settimanali'!B252,'Daily Diary'!E:E,\"BANCA SFAVORITA\")","v":0},{"$f":"COUNTIFS('Daily Diary'!A:A,'Grafico Strategie Settimanali'!B252,'Daily Diary'!E:E,\"PUNTA OVER\")","v":0},{"$f":"COUNTIFS('Daily Diary'!A:A,'Grafico Strategie Settimanali'!B252,'Daily Diary'!E:E,\"PUNTA UNDER\")","v":0},{"$f":"COUNTIFS('Daily Diary'!A:A,'Grafico Strategie Settimanali'!B252,'Daily Diary'!E:E,\"SCALPING\")","v":0},{"$f":"COUNTIFS('Daily Diary'!A:A,'Grafico Strategie Settimanali'!B252,'Daily Diary'!E:E,\"GT90\")","v":0},{"$f":"COUNTIFS('Daily Diary'!A:A,'Grafico Strategie Settimanali'!B252,'Daily Diary'!E:E,\"GT110\")","v":0},{"$f":"COUNTIFS('Daily Diary'!A:A,'Grafico Strategie Settimanali'!B252,'Daily Diary'!E:E,\"ALERT GOAL\")","v":0},{"$f":"COUNTIFS('Daily Diary'!A:A,'Grafico Strategie Settimanali'!B252,'Daily Diary'!E:E,\"DRAW NO BET\")","v":0},{"$f":"COUNTIFS('Daily Diary'!A:A,'Grafico Strategie Settimanali'!B252,'Daily Diary'!E:E,\"ALTRO\")","v":0},{"$f":"COUNTIFS('Daily Diary'!A:A,'Grafico Strategie Settimanali'!B252,'Daily Diary'!E:E,\"BANCA PAREGGIO\",'Daily Diary'!E:E,\"BANCA PAREGGIO\",'Daily Diary'!K:K,\"WIN\")","v":0},{"$f":"COUNTIFS('Daily Diary'!A:A,'Grafico Strategie Settimanali'!B252,'Daily Diary'!E:E,\"PUNTA SQ.CASA\",'Daily Diary'!E:E,\"PUNTA SQ.CASA\",'Daily Diary'!K:K,\"WIN\")","v":0},{"$f":"COUNTIFS('Daily Diary'!A:A,'Grafico Strategie Settimanali'!B252,'Daily Diary'!E:E,\"PUNTA SQ.OSPITE\",'Daily Diary'!E:E,\"PUNTA SQ.OSPITE\",'Daily Diary'!K:K,\"WIN\")","v":0},{"$f":"COUNTIFS('Daily Diary'!A:A,'Grafico Strategie Settimanali'!B252,'Daily Diary'!E:E,\"BANCA SFAVORITA\",'Daily Diary'!E:E,\"BANCA SFAVORITA\",'Daily Diary'!K:K,\"WIN\")","v":0},{"$f":"COUNTIFS('Daily Diary'!A:A,'Grafico Strategie Settimanali'!B252,'Daily Diary'!E:E,\"PUNTA OVER\",'Daily Diary'!E:E,\"PUNTA OVER\",'Daily Diary'!K:K,\"WIN\")","v":0},{"$f":"COUNTIFS('Daily Diary'!A:A,'Grafico Strategie Settimanali'!B252,'Daily Diary'!E:E,\"PUNTA UNDER\",'Daily Diary'!E:E,\"PUNTA UNDER\",'Daily Diary'!K:K,\"WIN\")","v":0},{"$f":"COUNTIFS('Daily Diary'!A:A,'Grafico Strategie Settimanali'!B252,'Daily Diary'!E:E,\"SCALPING\",'Daily Diary'!E:E,\"SCALPING\",'Daily Diary'!K:K,\"WIN\")","v":0},{"$f":"COUNTIFS('Daily Diary'!A:A,'Grafico Strategie Settimanali'!B252,'Daily Diary'!E:E,\"GT 90\",'Daily Diary'!E:E,\"GT 90\",'Daily Diary'!K:K,\"WIN\")","v":0},{"$f":"COUNTIFS('Daily Diary'!A:A,'Grafico Strategie Settimanali'!B252,'Daily Diary'!E:E,\"GT 110\",'Daily Diary'!E:E,\"GT 110\",'Daily Diary'!K:K,\"WIN\")","v":0},{"$f":"COUNTIFS('Daily Diary'!A:A,'Grafico Strategie Settimanali'!B252,'Daily Diary'!E:E,\"ALERT GOAL\",'Daily Diary'!E:E,\"ALERT GOAL\",'Daily Diary'!K:K,\"WIN\")","v":0},{"$f":"COUNTIFS('Daily Diary'!A:A,'Grafico Strategie Settimanali'!B252,'Daily Diary'!E:E,\"DRAW NO BET\",'Daily Diary'!E:E,\"DRAW NO BET\",'Daily Diary'!K:K,\"WIN\")","v":0},{"$f":"COUNTIFS('Daily Diary'!A:A,'Grafico Strategie Settimanali'!B252,'Daily Diary'!E:E,\"ALTRO\",'Daily Diary'!E:E,\"ALTRO\",'Daily Diary'!K:K,\"WIN\")","v":0},{"$error":"#DIV/0!"},{"$error":"#DIV/0!"},{"$error":"#DIV/0!"},{"$error":"#DIV/0!"},{"$error":"#DIV/0!"},{"$error":"#DIV/0!"},{"$error":"#DIV/0!"},{"$error":"#DIV/0!"},{"$error":"#DIV/0!"},{"$error":"#DIV/0!"},{"$error":"#DIV/0!"},{"$error":"#DIV/0!"}]
[0,"2024-01-10",{"$f":"COUNTIFS('Daily Diary'!A:A,'Grafico Strategie Settimanali'!B253,'Daily Diary'!E:E,\"BANCA PAREGGIO\")","v":0},{"$f":"COUNTIFS('Daily Diary'!A:A,'Grafico Strategie Settimanali'!B253,'Daily Diary'!E:E,\"PUNTA SQ.CASA\")","v":0},{"$f":"COUNTIFS('Daily Diary'!A:A,'Grafico Strategie Settimanali'!B253,'Daily Diary'!E:E,\"PUNTA SQ.OSPITE\")","v":0},{"$f":"COUNTIFS('Daily Diary'!A:A,'Grafico Strategie Settimanali'!B253,'Daily Diary'!E:E,\"BANCA SFAVORITA\")","v":0},{"$f":"COUNTIFS('Daily Diary'!A:A,'Grafico Strategie Settimanali'!B253,'Daily Diary'!E:E,\"PUNTA OVER\")","v":0},{"$f":"COUNTIFS('Daily Diary'!A:A,'Grafico Strategie Settimanali'!B253,'Daily Diary'!E:E,\"PUNTA UNDER\")","v":0},{"$f":"COUNTIFS('Daily Diary'!A:A,'Grafico Strategie Settimanali'!B253,'Daily Diary'!E:E,\"SCALPING\")","v":0},{"$f":"COUNTIFS('Daily Diary'!A:A,'Grafico Strategie Settimanali'!B253,'Daily Diary'!E:E,\"GT90\")","v":0},{"$f":"COUNTIFS('Daily Diary'!A:A,'Grafico Strategie Settimanali'!B253,'Daily Diary'!E:E,\"GT110\")","v":0},{"$f":"COUNTIFS('Daily Diary'!A:A,'Grafico Strategie Settimanali'!B253,'Daily Diary'!E:E,\"ALERT GOAL\")","v":0},{"$f":"COUNTIFS('Daily Diary'!A:A,'Grafico Strategie Settimanali'!B253,'Daily Diary'!E:E,\"DRAW NO BET\")","v":0},{"$f":"COUNTIFS('Daily Diary'!A:A,'Grafico Strategie Settimanali'!B253,'Daily Diary'!E:E,\"ALTRO\")","v":0},{"$f":"COUNTIFS('Daily Diary'!A:A,'Grafico Strategie Settimanali'!B253,'Daily Diary'!E:E,\"BANCA PAREGGIO\",'Daily Diary'!E:E,\"BANCA PAREGGIO\",'Daily Diary'!K:K,\"WIN\")","v":0},{"$f":"COUNTIFS('Daily Diary'!A:A,'Grafico Strategie Settimanali'!B253,'Daily Diary'!E:E,\"PUNTA SQ.CASA\",'Daily Diary'!E:E,\"PUNTA SQ.CASA\",'Daily Diary'!K:K,\"WIN\")","v":0},{"$f":"COUNTIFS('Daily Diary'!A:A,'Grafico Strategie Settimanali'!B253,'Daily Diary'!E:E,\"PUNTA SQ.OSPITE\",'Daily Diary'!E:E,\"PUNTA SQ.OSPITE\",'Daily Diary'!K:K,\"WIN\")","v":0},{"$f":"COUNTIFS('Daily Diary'!A:A,'Grafico Strategie Settimanali'!B253,'Daily Diary'!E:E,\"BANCA SFAVORITA\",'Daily Diary'!E:E,\"BANCA SFAVORITA\",'Daily Diary'!K:K,\"WIN\")","v":0},{"$f":"COUNTIFS('Daily Diary'!A:A,'Grafico Strategie Settimanali'!B253,'Daily Diary'!E:E,\"PUNTA OVER\",'Daily Diary'!E:E,\"PUNTA OVER\",'Daily Diary'!K:K,\"WIN\")","v":0},{"$f":"COUNTIFS('Daily Diary'!A:A,'Grafico Strategie Settimanali'!B253,'Daily Diary'!E:E,\"PUNTA UNDER\",'Daily Diary'!E:E,\"PUNTA UNDER\",'Daily Diary'!K:K,\"WIN\")","v":0},{"$f":"COUNTIFS('Daily Diary'!A:A,'Grafico Strategie Settimanali'!B253,'Daily Diary'!E:E,\"SCALPING\",'Daily Diary'!E:E,\"SCALPING\",'Daily Diary'!K:K,\"WIN\")","v":0},{"$f":"COUNTIFS('Daily Diary'!A:A,'Grafico Strategie Settimanali'!B253,'Daily Diary'!E:E,\"GT 90\",'Daily Diary'!E:E,\"GT 90\",'Daily Diary'!K:K,\"WIN\")","v":0},{"$f":"COUNTIFS('Daily Diary'!A:A,'Grafico Strategie Settimanali'!B253,'Daily Diary'!E:E,\"GT 110\",'Daily Diary'!E:E,\"GT 110\",'Daily Diary'!K:K,\"WIN\")","v":0},{"$f":"COUNTIFS('Daily Diary'!A:A,'Grafico Strategie Settimanali'!B253,'Daily Diary'!E:E,\"ALERT GOAL\",'Daily Diary'!E:E,\"ALERT GOAL\",'Daily Diary'!K:K,\"WIN\")","v":0},{"$f":"COUNTIFS('Daily Diary'!A:A,'Grafico Strategie Settimanali'!B253,'Daily Diary'!E:E,\"DRAW NO BET\",'Daily Diary'!E:E,\"DRAW NO BET\",'Daily Diary'!K:K,\"WIN\")","v":0},{"$f":"COUNTIFS('Daily Diary'!A:A,'Grafico Strategie Settimanali'!B253,'Daily Diary'!E:E,\"ALTRO\",'Daily Diary'!E:E,\"ALTRO\",'Daily Diary'!K:K,\"WIN\")","v":0},{"$error":"#DIV/0!"},{"$error":"#DIV/0!"},{"$error":"#DIV/0!"},{"$error":"#DIV/0!"},{"$error":"#DIV/0!"},{"$error":"#DIV/0!"},{"$error":"#DIV/0!"},{"$error":"#DIV/0!"},{"$error":"#DIV/0!"},{"$error":"#DIV/0!"},{"$error":"#DIV/0!"},{"$error":"#DIV/0!"}]
[0,"2024-01-11",{"$f":"COUNTIFS('Daily Diary'!A:A,'Grafico Strategie Settimanali'!B254,'Daily Diary'!E:E,\"BANCA PAREGGIO\")","v":0},{"$f":"COUNTIFS('Daily Diary'!A:A,'Grafico Strategie Settimanali'!B254,'Daily Diary'!E:E,\"PUNTA SQ.CASA\")","v":0},{"$f":"COUNTIFS('Daily Diary'!A:A,'Grafico Strategie Settimanali'!B254,'Daily Diary'!E:E,\"PUNTA SQ.OSPITE\")","v":0},{"$f":"COUNTIFS('Daily Diary'!A:A,'Grafico Strategie Settimanali'!B254,'Daily Diary'!E:E,\"BANCA SFAVORITA\")","v":0},{"$f":"COUNTIFS('Daily Diary'!A:A,'Grafico Strategie Settimanali'!B254,'Daily Diary'!E:E,\"PUNTA OVER\")","v":0},{"$f":"COUNTIFS('Daily Diary'!A:A,'Grafico Strategie Settimanali'!B254,'Daily Diary'!E:E,\"PUNTA UNDER\")","v":0},{"$f":"COUNTIFS('Daily Diary'!A:A,'Grafico Strategie Settimanali'!B254,'Daily Diary'!E:E,\"SCALPING\")","v":0},{"$f":"COUNTIFS('Daily Diary'!A:A,'Grafico Strategie Settimanali'!B254,'Daily Diary'!E:E,\"GT90\")","v":0},{"$f":"COUNTIFS('Daily Diary'!A:A,'Grafico Strategie Settimanali'!B254,'Daily Diary'!E:E,\"GT110\")","v":0},{"$f":"COUNTIFS('Daily Diary'!A:A,'Grafico Strategie Settimanali'!B254,'Daily Diary'!E:E,\"ALERT GOAL\")","v":0},{"$f":"COUNTIFS('Daily Diary'!A:A,'Grafico Strategie Settimanali'!B254,'Daily Diary'!E:E,\"DRAW NO BET\")","v":0},{"$f":"COUNTIFS('Daily Diary'!A:A,'Grafico Strategie Settimanali'!B254,'Daily Diary'!E:E,\"ALTRO\")","v":0},{"$f":"COUNTIFS('Daily Diary'!A:A,'Grafico Strategie Settimanali'!B254,'Daily Diary'!E:E,\"BANCA PAREGGIO\",'Daily Diary'!E:E,\"BANCA PAREGGIO\",'Daily Diary'!K:K,\"WIN\")","v":0},{"$f":"COUNTIFS('Daily Diary'!A:A,'Grafico Strategie Settimanali'!B254,'Daily Diary'!E:E,\"PUNTA SQ.CASA\",'Daily Diary'!E:E,\"PUNTA SQ.CASA\",'Daily Diary'!K:K,\"WIN\")","v":0},{"$f":"COUNTIFS('Daily Diary'!A:A,'Grafico Strategie Settimanali'!B254,'Daily Diary'!E:E,\"PUNTA SQ.OSPITE\",'Daily Diary'!E:E,\"PUNTA SQ.OSPITE\",'Daily Diary'!K:K,\"WIN\")","v":0},{"$f":"COUNTIFS('Daily Diary'!A:A,'Grafico Strategie Settimanali'!B254,'Daily Diary'!E:E,\"BANCA SFAVORITA\",'Daily Diary'!E:E,\"BANCA SFAVORITA\",'Daily Diary'!K:K,\"WIN\")","v":0},{"$f":"COUNTIFS('Daily Diary'!A:A,'Grafico Strategie Settimanali'!B254,'Daily Diary'!E:E,\"PUNTA OVER\",'Daily Diary'!E:E,\"PUNTA OVER\",'Daily Diary'!K:K,\"WIN\")","v":0},{"$f":"COUNTIFS('Daily Diary'!A:A,'Grafico Strategie Settimanali'!B254,'Daily Diary'!E:E,\"PUNTA UNDER\",'Daily Diary'!E:E,\"PUNTA UNDER\",'Daily Diary'!K:K,\"WIN\")","v":0},{"$f":"COUNTIFS('Daily Diary'!A:A,'Grafico Strategie Settimanali'!B254,'Daily Diary'!E:E,\"SCALPING\",'Daily Diary'!E:E,\"SCALPING\",'Daily Diary'!K:K,\"WIN\")","v":0},{"$f":"COUNTIFS('Daily Diary'!A:A,'Grafico Strategie Settimanali'!B254,'Daily Diary'!E:E,\"GT 90\",'Daily Diary'!E:E,\"GT 90\",'Daily Diary'!K:K,\"WIN\")","v":0},{"$f":"COUNTIFS('Daily Diary'!A:A,'Grafico Strategie Settimanali'!B254,'Daily Diary'!E:E,\"GT 110\",'Daily Diary'!E:E,\"GT 110\",'Daily Diary'!K:K,\"WIN\")","v":0},{"$f":"COUNTIFS('Daily Diary'!A:A,'Grafico Strategie Settimanali'!B254,'Daily Diary'!E:E,\"ALERT GOAL\",'Daily Diary'!E:E,\"ALERT GOAL\",'Daily Diary'!K:K,\"WIN\")","v":0},{"$f":"COUNTIFS('Daily Diary'!A:A,'Grafico Strategie Settimanali'!B254,'Daily Diary'!E:E,\"DRAW NO BET\",'Daily Diary'!E:E,\"DRAW NO BET\",'Daily Diary'!K:K,\"WIN\")","v":0},{"$f":"COUNTIFS('Daily Diary'!A:A,'Grafico Strategie Settimanali'!B254,'Daily Diary'!E:E,\"ALTRO\",'Daily Diary'!E:E,\"ALTRO\",'Daily Diary'!K:K,\"WIN\")","v":0},{"$error":"#DIV/0!"},{"$error":"#DIV/0!"},{"$error":"#DIV/0!"},{"$error":"#DIV/0!"},{"$error":"#DIV/0!"},{"$error":"#DIV/0!"},{"$error":"#DIV/0!"},{"$error":"#DIV/0!"},{"$error":"#DIV/0!"},{"$error":"#DIV/0!"},{"$error":"#DIV/0!"},{"$error":"#DIV/0!"}]
[0,"2024-01-12",{"$f":"COUNTIFS('Daily Diary'!A:A,'Grafico Strategie Settimanali'!B255,'Daily Diary'!E:E,\"BANCA PAREGGIO\")","v":0},{"$f":"COUNTIFS('Daily Diary'!A:A,'Grafico Strategie Settimanali'!B255,'Daily Diary'!E:E,\"PUNTA SQ.CASA\")","v":0},{"$f":"COUNTIFS('Daily Diary'!A:A,'Grafico Strategie Settimanali'!B255,'Daily Diary'!E:E,\"PUNTA SQ.OSPITE\")","v":0},{"$f":"COUNTIFS('Daily Diary'!A:A,'Grafico Strategie Settimanali'!B255,'Daily Diary'!E:E,\"BANCA SFAVORITA\")","v":0},{"$f":"COUNTIFS('Daily Diary'!A:A,'Grafico Strategie Settimanali'!B255,'Daily Diary'!E:E,\"PUNTA OVER\")","v":0},{"$f":"COUNTIFS('Daily Diary'!A:A,'Grafico Strategie Settimanali'!B255,'Daily Diary'!E:E,\"PUNTA UNDER\")","v":0},{"$f":"COUNTIFS('Daily Diary'!A:A,'Grafico Strategie Settimanali'!B255,'Daily Diary'!E:E,\"SCALPING\")","v":0},{"$f":"COUNTIFS('Daily Diary'!A:A,'Grafico Strategie Settimanali'!B255,'Daily Diary'!E:E,\"GT90\")","v":0},{"$f":"COUNTIFS('Daily Diary'!A:A,'Grafico Strategie Settimanali'!B255,'Daily Diary'!E:E,\"GT110\")","v":0},{"$f":"COUNTIFS('Daily Diary'!A:A,'Grafico Strategie Settimanali'!B255,'Daily Diary'!E:E,\"ALERT GOAL\")","v":0},{"$f":"COUNTIFS('Daily Diary'!A:A,'Grafico Strategie Settimanali'!B255,'Daily Diary'!E:E,\"DRAW NO BET\")","v":0},{"$f":"COUNTIFS('Daily Diary'!A:A,'Grafico Strategie Settimanali'!B255,'Daily Diary'!E:E,\"ALTRO\")","v":0},{"$f":"COUNTIFS('Daily Diary'!A:A,'Grafico Strategie Settimanali'!B255,'Daily Diary'!E:E,\"BANCA PAREGGIO\",'Daily Diary'!E:E,\"BANCA PAREGGIO\",'Daily Diary'!K:K,\"WIN\")","v":0},{"$f":"COUNTIFS('Daily Diary'!A:A,'Grafico Strategie Settimanali'!B255,'Daily Diary'!E:E,\"PUNTA SQ.CASA\",'Daily Diary'!E:E,\"PUNTA SQ.CASA\",'Daily Diary'!K:K,\"WIN\")","v":0},{"$f":"COUNTIFS('Daily Diary'!A:A,'Grafico Strategie Settimanali'!B255,'Daily Diary'!E:E,\"PUNTA SQ.OSPITE\",'Daily Diary'!E:E,\"PUNTA SQ.OSPITE\",'Daily Diary'!K:K,\"WIN\")","v":0},{"$f":"COUNTIFS('Daily Diary'!A:A,'Grafico Strategie Settimanali'!B255,'Daily Diary'!E:E,\"BANCA SFAVORITA\",'Daily Diary'!E:E,\"BANCA SFAVORITA\",'Daily Diary'!K:K,\"WIN\")","v":0},{"$f":"COUNTIFS('Daily Diary'!A:A,'Grafico Strategie Settimanali'!B255,'Daily Diary'!E:E,\"PUNTA OVER\",'Daily Diary'!E:E,\"PUNTA OVER\",'Daily Diary'!K:K,\"WIN\")","v":0},{"$f":"COUNTIFS('Daily Diary'!A:A,'Grafico Strategie Settimanali'!B255,'Daily Diary'!E:E,\"PUNTA UNDER\",'Daily Diary'!E:E,\"PUNTA UNDER\",'Daily Diary'!K:K,\"WIN\")","v":0},{"$f":"COUNTIFS('Daily Diary'!A:A,'Grafico Strategie Settimanali'!B255,'Daily Diary'!E:E,\"SCALPING\",'Daily Diary'!E:E,\"SCALPING\",'Daily Diary'!K:K,\"WIN\")","v":0},{"$f":"COUNTIFS('Daily Diary'!A:A,'Grafico Strategie Settimanali'!B255,'Daily Diary'!E:E,\"GT 90\",'Daily Diary'!E:E,\"GT 90\",'Daily Diary'!K:K,\"WIN\")","v":0},{"$f":"COUNTIFS('Daily Diary'!A:A,'Grafico Strategie Settimanali'!B255,'Daily Diary'!E:E,\"GT 110\",'Daily Diary'!E:E,\"GT 110\",'Daily Diary'!K:K,\"WIN\")","v":0},{"$f":"COUNTIFS('Daily Diary'!A:A,'Grafico Strategie Settimanali'!B255,'Daily Diary'!E:E,\"ALERT GOAL\",'Daily Diary'!E:E,\"ALERT GOAL\",'Daily Diary'!K:K,\"WIN\")","v":0},{"$f":"COUNTIFS('Daily Diary'!A:A,'Grafico Strategie Settimanali'!B255,'Daily Diary'!E:E,\"DRAW NO BET\",'Daily Diary'!E:E,\"DRAW NO BET\",'Daily Diary'!K:K,\"WIN\")","v":0},{"$f":"COUNTIFS('Daily Diary'!A:A,'Grafico Strategie Settimanali'!B255,'Daily Diary'!E:E,\"ALTRO\",'Daily Diary'!E:E,\"ALTRO\",'Daily Diary'!K:K,\"WIN\")","v":0},{"$error":"#DIV/0!"},{"$error":"#DIV/0!"},{"$error":"#DIV/0!"},{"$error":"#DIV/0!"},{"$error":"#DIV/0!"},{"$error":"#DIV/0!"},{"$error":"#DIV/0!"},{"$error":"#DIV/0!"},{"$error":"#DIV/0!"},{"$error":"#DIV/0!"},{"$error":"#DIV/0!"},{"$error":"#DIV/0!"}]
[0,"2024-01-13",{"$f":"COUNTIFS('Daily Diary'!A:A,'Grafico Strategie Settimanali'!B256,'Daily Diary'!E:E,\"BANCA PAREGGIO\")","v":0},{"$f":"COUNTIFS('Daily Diary'!A:A,'Grafico Strategie Settimanali'!B256,'Daily Diary'!E:E,\"PUNTA SQ.CASA\")","v":0},{"$f":"COUNTIFS('Daily Diary'!A:A,'Grafico Strategie Settimanali'!B256,'Daily Diary'!E:E,\"PUNTA SQ.OSPITE\")","v":0},{"$f":"COUNTIFS('Daily Diary'!A:A,'Grafico Strategie Settimanali'!B256,'Daily Diary'!E:E,\"BANCA SFAVORITA\")","v":0},{"$f":"COUNTIFS('Daily Diary'!A:A,'Grafico Strategie Settimanali'!B256,'Daily Diary'!E:E,\"PUNTA OVER\")","v":0},{"$f":"COUNTIFS('Daily Diary'!A:A,'Grafico Strategie Settimanali'!B256,'Daily Diary'!E:E,\"PUNTA UNDER\")","v":0},{"$f":"COUNTIFS('Daily Diary'!A:A,'Grafico Strategie Settimanali'!B256,'Daily Diary'!E:E,\"SCALPING\")","v":0},{"$f":"COUNTIFS('Daily Diary'!A:A,'Grafico Strategie Settimanali'!B256,'Daily Diary'!E:E,\"GT90\")","v":0},{"$f":"COUNTIFS('Daily Diary'!A:A,'Grafico Strategie Settimanali'!B256,'Daily Diary'!E:E,\"GT110\")","v":0},{"$f":"COUNTIFS('Daily Diary'!A:A,'Grafico Strategie Settimanali'!B256,'Daily Diary'!E:E,\"ALERT GOAL\")","v":0},{"$f":"COUNTIFS('Daily Diary'!A:A,'Grafico Strategie Settimanali'!B256,'Daily Diary'!E:E,\"DRAW NO BET\")","v":0},{"$f":"COUNTIFS('Daily Diary'!A:A,'Grafico Strategie Settimanali'!B256,'Daily Diary'!E:E,\"ALTRO\")","v":0},{"$f":"COUNTIFS('Daily Diary'!A:A,'Grafico Strategie Settimanali'!B256,'Daily Diary'!E:E,\"BANCA PAREGGIO\",'Daily Diary'!E:E,\"BANCA PAREGGIO\",'Daily Diary'!K:K,\"WIN\")","v":0},{"$f":"COUNTIFS('Daily Diary'!A:A,'Grafico Strategie Settimanali'!B256,'Daily Diary'!E:E,\"PUNTA SQ.CASA\",'Daily Diary'!E:E,\"PUNTA SQ.CASA\",'Daily Diary'!K:K,\"WIN\")","v":0},{"$f":"COUNTIFS('Daily Diary'!A:A,'Grafico Strategie Settimanali'!B256,'Daily Diary'!E:E,\"PUNTA SQ.OSPITE\",'Daily Diary'!E:E,\"PUNTA SQ.OSPITE\",'Daily Diary'!K:K,\"WIN\")","v":0},{"$f":"COUNTIFS('Daily Diary'!A:A,'Grafico Strategie Settimanali'!B256,'Daily Diary'!E:E,\"BANCA SFAVORITA\",'Daily Diary'!E:E,\"BANCA SFAVORITA\",'Daily Diary'!K:K,\"WIN\")","v":0},{"$f":"COUNTIFS('Daily Diary'!A:A,'Grafico Strategie Settimanali'!B256,'Daily Diary'!E:E,\"PUNTA OVER\",'Daily Diary'!E:E,\"PUNTA OVER\",'Daily Diary'!K:K,\"WIN\")","v":0},{"$f":"COUNTIFS('Daily Diary'!A:A,'Grafico Strategie Settimanali'!B256,'Daily Diary'!E:E,\"PUNTA UNDER\",'Daily Diary'!E:E,\"PUNTA UNDER\",'Daily Diary'!K:K,\"WIN\")","v":0},{"$f":"COUNTIFS('Daily Diary'!A:A,'Grafico Strategie Settimanali'!B256,'Daily Diary'!E:E,\"SCALPING\",'Daily Diary'!E:E,\"SCALPING\",'Daily Diary'!K:K,\"WIN\")","v":0},{"$f":"COUNTIFS('Daily Diary'!A:A,'Grafico Strategie Settimanali'!B256,'Daily Diary'!E:E,\"GT 90\",'Daily Diary'!E:E,\"GT 90\",'Daily Diary'!K:K,\"WIN\")","v":0},{"$f":"COUNTIFS('Daily Diary'!A:A,'Grafico Strategie Settimanali'!B256,'Daily Diary'!E:E,\"GT 110\",'Daily Diary'!E:E,\"GT 110\",'Daily Diary'!K:K,\"WIN\")","v":0},{"$f":"COUNTIFS('Daily Diary'!A:A,'Grafico Strategie Settimanali'!B256,'Daily Diary'!E:E,\"ALERT GOAL\",'Daily Diary'!E:E,\"ALERT GOAL\",'Daily Diary'!K:K,\"WIN\")","v":0},{"$f":"COUNTIFS('Daily Diary'!A:A,'Grafico Strategie Settimanali'!B256,'Daily Diary'!E:E,\"DRAW NO BET\",'Daily Diary'!E:E,\"DRAW NO BET\",'Daily Diary'!K:K,\"WIN\")","v":0},{"$f":"COUNTIFS('Daily Diary'!A:A,'Grafico Strategie Settimanali'!B256,'Daily Diary'!E:E,\"ALTRO\",'Daily Diary'!E:E,\"ALTRO\",'Daily Diary'!K:K,\"WIN\")","v":0},{"$error":"#DIV/0!"},{"$error":"#DIV/0!"},{"$error":"#DIV/0!"},{"$error":"#DIV/0!"},{"$error":"#DIV/0!"},{"$error":"#DIV/0!"},{"$error":"#DIV/0!"},{"$error":"#DIV/0!"},{"$error":"#DIV/0!"},{"$error":"#DIV/0!"},{"$error":"#DIV/0!"},{"$error":"#DIV/0!"}]
[0,"2024-01-14",{"$f":"COUNTIFS('Daily Diary'!A:A,'Grafico Strategie Settimanali'!B257,'Daily Diary'!E:E,\"BANCA PAREGGIO\")","v":0},{"$f":"COUNTIFS('Daily Diary'!A:A,'Grafico Strategie Settimanali'!B257,'Daily Diary'!E:E,\"PUNTA SQ.CASA\")","v":0},{"$f":"COUNTIFS('Daily Diary'!A:A,'Grafico Strategie Settimanali'!B257,'Daily Diary'!E:E,\"PUNTA SQ.OSPITE\")","v":0},{"$f":"COUNTIFS('Daily Diary'!A:A,'Grafico Strategie Settimanali'!B257,'Daily Diary'!E:E,\"BANCA SFAVORITA\")","v":0},{"$f":"COUNTIFS('Daily Diary'!A:A,'Grafico Strategie Settimanali'!B257,'Daily Diary'!E:E,\"PUNTA OVER\")","v":0},{"$f":"COUNTIFS('Daily Diary'!A:A,'Grafico Strategie Settimanali'!B257,'Daily Diary'!E:E,\"PUNTA UNDER\")","v":0},{"$f":"COUNTIFS('Daily Diary'!A:A,'Grafico Strategie Settimanali'!B257,'Daily Diary'!E:E,\"SCALPING\")","v":0},{"$f":"COUNTIFS('Daily Diary'!A:A,'Grafico Strategie Settimanali'!B257,'Daily Diary'!E:E,\"GT90\")","v":0},{"$f":"COUNTIFS('Daily Diary'!A:A,'Grafico Strategie Settimanali'!B257,'Daily Diary'!E:E,\"GT110\")","v":0},{"$f":"COUNTIFS('Daily Diary'!A:A,'Grafico Strategie Settimanali'!B257,'Daily Diary'!E:E,\"ALERT GOAL\")","v":0},{"$f":"COUNTIFS('Daily Diary'!A:A,'Grafico Strategie Settimanali'!B257,'Daily Diary'!E:E,\"DRAW NO BET\")","v":0},{"$f":"COUNTIFS('Daily Diary'!A:A,'Grafico Strategie Settimanali'!B257,'Daily Diary'!E:E,\"ALTRO\")","v":0},{"$f":"COUNTIFS('Daily Diary'!A:A,'Grafico Strategie Settimanali'!B257,'Daily Diary'!E:E,\"BANCA PAREGGIO\",'Daily Diary'!E:E,\"BANCA PAREGGIO\",'Daily Diary'!K:K,\"WIN\")","v":0},{"$f":"COUNTIFS('Daily Diary'!A:A,'Grafico Strategie Settimanali'!B257,'Daily Diary'!E:E,\"PUNTA SQ.CASA\",'Daily Diary'!E:E,\"PUNTA SQ.CASA\",'Daily Diary'!K:K,\"WIN\")","v":0},{"$f":"COUNTIFS('Daily Diary'!A:A,'Grafico Strategie Settimanali'!B257,'Daily Diary'!E:E,\"PUNTA SQ.OSPITE\",'Daily Diary'!E:E,\"PUNTA SQ.OSPITE\",'Daily Diary'!K:K,\"WIN\")","v":0},{"$f":"COUNTIFS('Daily Diary'!A:A,'Grafico Strategie Settimanali'!B257,'Daily Diary'!E:E,\"BANCA SFAVORITA\",'Daily Diary'!E:E,\"BANCA SFAVORITA\",'Daily Diary'!K:K,\"WIN\")","v":0},{"$f":"COUNTIFS('Daily Diary'!A:A,'Grafico Strategie Settimanali'!B257,'Daily Diary'!E:E,\"PUNTA OVER\",'Daily Diary'!E:E,\"PUNTA OVER\",'Daily Diary'!K:K,\"WIN\")","v":0},{"$f":"COUNTIFS('Daily Diary'!A:A,'Grafico Strategie Settimanali'!B257,'Daily Diary'!E:E,\"PUNTA UNDER\",'Daily Diary'!E:E,\"PUNTA UNDER\",'Daily Diary'!K:K,\"WIN\")","v":0},{"$f":"COUNTIFS('Daily Diary'!A:A,'Grafico Strategie Settimanali'!B257,'Daily Diary'!E:E,\"SCALPING\",'Daily Diary'!E:E,\"SCALPING\",'Daily Diary'!K:K,\"WIN\")","v":0},{"$f":"COUNTIFS('Daily Diary'!A:A,'Grafico Strategie Settimanali'!B257,'Daily Diary'!E:E,\"GT 90\",'Daily Diary'!E:E,\"GT 90\",'Daily Diary'!K:K,\"WIN\")","v":0},{"$f":"COUNTIFS('Daily Diary'!A:A,'Grafico Strategie Settimanali'!B257,'Daily Diary'!E:E,\"GT 110\",'Daily Diary'!E:E,\"GT 110\",'Daily Diary'!K:K,\"WIN\")","v":0},{"$f":"COUNTIFS('Daily Diary'!A:A,'Grafico Strategie Settimanali'!B257,'Daily Diary'!E:E,\"ALERT GOAL\",'Daily Diary'!E:E,\"ALERT GOAL\",'Daily Diary'!K:K,\"WIN\")","v":0},{"$f":"COUNTIFS('Daily Diary'!A:A,'Grafico Strategie Settimanali'!B257,'Daily Diary'!E:E,\"DRAW NO BET\",'Daily Diary'!E:E,\"DRAW NO BET\",'Daily Diary'!K:K,\"WIN\")","v":0},{"$f":"COUNTIFS('Daily Diary'!A:A,'Grafico Strategie Settimanali'!B257,'Daily Diary'!E:E,\"ALTRO\",'Daily Diary'!E:E,\"ALTRO\",'Daily Diary'!K:K,\"WIN\")","v":0},{"$error":"#DIV/0!"},{"$error":"#DIV/0!"},{"$error":"#DIV/0!"},{"$error":"#DIV/0!"},{"$error":"#DIV/0!"},{"$error":"#DIV/0!"},{"$error":"#DIV/0!"},{"$error":"#DIV/0!"},{"$error":"#DIV/0!"},{"$error":"#DIV/0!"},{"$error":"#DIV/0!"},{"$error":"#DIV/0!"}]
[0,"2024-01-15",{"$f":"COUNTIFS('Daily Diary'!A:A,'Grafico Strategie Settimanali'!B258,'Daily Diary'!E:E,\"BANCA PAREGGIO\")","v":0},{"$f":"COUNTIFS('Daily Diary'!A:A,'Grafico Strategie Settimanali'!B258,'Daily Diary'!E:E,\"PUNTA SQ.CASA\")","v":0},{"$f":"COUNTIFS('Daily Diary'!A:A,'Grafico Strategie Settimanali'!B258,'Daily Diary'!E:E,\"PUNTA SQ.OSPITE\")","v":0},{"$f":"COUNTIFS('Daily Diary'!A:A,'Grafico Strategie Settimanali'!B258,'Daily Diary'!E:E,\"BANCA SFAVORITA\")","v":0},{"$f":"COUNTIFS('Daily Diary'!A:A,'Grafico Strategie Settimanali'!B258,'Daily Diary'!E:E,\"PUNTA OVER\")","v":0},{"$f":"COUNTIFS('Daily Diary'!A:A,'Grafico Strategie Settimanali'!B258,'Daily Diary'!E:E,\"PUNTA UNDER\")","v":0},{"$f":"COUNTIFS('Daily Diary'!A:A,'Grafico Strategie Settimanali'!B258,'Daily Diary'!E:E,\"SCALPING\")","v":0},{"$f":"COUNTIFS('Daily Diary'!A:A,'Grafico Strategie Settimanali'!B258,'Daily Diary'!E:E,\"GT90\")","v":0},{"$f":"COUNTIFS('Daily Diary'!A:A,'Grafico Strategie Settimanali'!B258,'Daily Diary'!E:E,\"GT110\")","v":0},{"$f":"COUNTIFS('Daily Diary'!A:A,'Grafico Strategie Settimanali'!B258,'Daily Diary'!E:E,\"ALERT GOAL\")","v":0},{"$f":"COUNTIFS('Daily Diary'!A:A,'Grafico Strategie Settimanali'!B258,'Daily Diary'!E:E,\"DRAW NO BET\")","v":0},{"$f":"COUNTIFS('Daily Diary'!A:A,'Grafico Strategie Settimanali'!B258,'Daily Diary'!E:E,\"ALTRO\")","v":0},{"$f":"COUNTIFS('Daily Diary'!A:A,'Grafico Strategie Settimanali'!B258,'Daily Diary'!E:E,\"BANCA PAREGGIO\",'Daily Diary'!E:E,\"BANCA PAREGGIO\",'Daily Diary'!K:K,\"WIN\")","v":0},{"$f":"COUNTIFS('Daily Diary'!A:A,'Grafico Strategie Settimanali'!B258,'Daily Diary'!E:E,\"PUNTA SQ.CASA\",'Daily Diary'!E:E,\"PUNTA SQ.CASA\",'Daily Diary'!K:K,\"WIN\")","v":0},{"$f":"COUNTIFS('Daily Diary'!A:A,'Grafico Strategie Settimanali'!B258,'Daily Diary'!E:E,\"PUNTA SQ.OSPITE\",'Daily Diary'!E:E,\"PUNTA SQ.OSPITE\",'Daily Diary'!K:K,\"WIN\")","v":0},{"$f":"COUNTIFS('Daily Diary'!A:A,'Grafico Strategie Settimanali'!B258,'Daily Diary'!E:E,\"BANCA SFAVORITA\",'Daily Diary'!E:E,\"BANCA SFAVORITA\",'Daily Diary'!K:K,\"WIN\")","v":0},{"$f":"COUNTIFS('Daily Diary'!A:A,'Grafico Strategie Settimanali'!B258,'Daily Diary'!E:E,\"PUNTA OVER\",'Daily Diary'!E:E,\"PUNTA OVER\",'Daily Diary'!K:K,\"WIN\")","v":0},{"$f":"COUNTIFS('Daily Diary'!A:A,'Grafico Strategie Settimanali'!B258,'Daily Diary'!E:E,\"PUNTA UNDER\",'Daily Diary'!E:E,\"PUNTA UNDER\",'Daily Diary'!K:K,\"WIN\")","v":0},{"$f":"COUNTIFS('Daily Diary'!A:A,'Grafico Strategie Settimanali'!B258,'Daily Diary'!E:E,\"SCALPING\",'Daily Diary'!E:E,\"SCALPING\",'Daily Diary'!K:K,\"WIN\")","v":0},{"$f":"COUNTIFS('Daily Diary'!A:A,'Grafico Strategie Settimanali'!B258,'Daily Diary'!E:E,\"GT 90\",'Daily Diary'!E:E,\"GT 90\",'Daily Diary'!K:K,\"WIN\")","v":0},{"$f":"COUNTIFS('Daily Diary'!A:A,'Grafico Strategie Settimanali'!B258,'Daily Diary'!E:E,\"GT 110\",'Daily Diary'!E:E,\"GT 110\",'Daily Diary'!K:K,\"WIN\")","v":0},{"$f":"COUNTIFS('Daily Diary'!A:A,'Grafico Strategie Settimanali'!B258,'Daily Diary'!E:E,\"ALERT GOAL\",'Daily Diary'!E:E,\"ALERT GOAL\",'Daily Diary'!K:K,\"WIN\")","v":0},{"$f":"COUNTIFS('Daily Diary'!A:A,'Grafico Strategie Settimanali'!B258,'Daily Diary'!E:E,\"DRAW NO BET\",'Daily Diary'!E:E,\"DRAW NO BET\",'Daily Diary'!K:K,\"WIN\")","v":0},{"$f":"COUNTIFS('Daily Diary'!A:A,'Grafico Strategie Settimanali'!B258,'Daily Diary'!E:E,\"ALTRO\",'Daily Diary'!E:E,\"ALTRO\",'Daily Diary'!K:K,\"WIN\")","v":0},{"$error":"#DIV/0!"},{"$error":"#DIV/0!"},{"$error":"#DIV/0!"},{"$error":"#DIV/0!"},{"$error":"#DIV/0!"},{"$error":"#DIV/0!"},{"$error":"#DIV/0!"},{"$error":"#DIV/0!"},{"$error":"#DIV/0!"},{"$error":"#DIV/0!"},{"$error":"#DIV/0!"},{"$error":"#DIV/0!"}]
[0,"2024-01-16",{"$f":"COUNTIFS('Daily Diary'!A:A,'Grafico Strategie Settimanali'!B259,'Daily Diary'!E:E,\"BANCA PAREGGIO\")","v":0},{"$f":"COUNTIFS('Daily Diary'!A:A,'Grafico Strategie Settimanali'!B259,'Daily Diary'!E:E,\"PUNTA SQ.CASA\")","v":0},{"$f":"COUNTIFS('Daily Diary'!A:A,'Grafico Strategie Settimanali'!B259,'Daily Diary'!E:E,\"PUNTA SQ.OSPITE\")","v":0},{"$f":"COUNTIFS('Daily Diary'!A:A,'Grafico Strategie Settimanali'!B259,'Daily Diary'!E:E,\"BANCA SFAVORITA\")","v":0},{"$f":"COUNTIFS('Daily Diary'!A:A,'Grafico Strategie Settimanali'!B259,'Daily Diary'!E:E,\"PUNTA OVER\")","v":0},{"$f":"COUNTIFS('Daily Diary'!A:A,'Grafico Strategie Settimanali'!B259,'Daily Diary'!E:E,\"PUNTA UNDER\")","v":0},{"$f":"COUNTIFS('Daily Diary'!A:A,'Grafico Strategie Settimanali'!B259,'Daily Diary'!E:E,\"SCALPING\")","v":0},{"$f":"COUNTIFS('Daily Diary'!A:A,'Grafico Strategie Settimanali'!B259,'Daily Diary'!E:E,\"GT90\")","v":0},{"$f":"COUNTIFS('Daily Diary'!A:A,'Grafico Strategie Settimanali'!B259,'Daily Diary'!E:E,\"GT110\")","v":0},{"$f":"COUNTIFS('Daily Diary'!A:A,'Grafico Strategie Settimanali'!B259,'Daily Diary'!E:E,\"ALERT GOAL\")","v":0},{"$f":"COUNTIFS('Daily Diary'!A:A,'Grafico Strategie Settimanali'!B259,'Daily Diary'!E:E,\"DRAW NO BET\")","v":0},{"$f":"COUNTIFS('Daily Diary'!A:A,'Grafico Strategie Settimanali'!B259,'Daily Diary'!E:E,\"ALTRO\")","v":0},{"$f":"COUNTIFS('Daily Diary'!A:A,'Grafico Strategie Settimanali'!B259,'Daily Diary'!E:E,\"BANCA PAREGGIO\",'Daily Diary'!E:E,\"BANCA PAREGGIO\",'Daily Diary'!K:K,\"WIN\")","v":0},{"$f":"COUNTIFS('Daily Diary'!A:A,'Grafico Strategie Settimanali'!B259,'Daily Diary'!E:E,\"PUNTA SQ.CASA\",'Daily Diary'!E:E,\"PUNTA SQ.CASA\",'Daily Diary'!K:K,\"WIN\")","v":0},{"$f":"COUNTIFS('Daily Diary'!A:A,'Grafico Strategie Settimanali'!B259,'Daily Diary'!E:E,\"PUNTA SQ.OSPITE\",'Daily Diary'!E:E,\"PUNTA SQ.OSPITE\",'Daily Diary'!K:K,\"WIN\")","v":0},{"$f":"COUNTIFS('Daily Diary'!A:A,'Grafico Strategie Settimanali'!B259,'Daily Diary'!E:E,\"BANCA SFAVORITA\",'Daily Diary'!E:E,\"BANCA SFAVORITA\",'Daily Diary'!K:K,\"WIN\")","v":0},{"$f":"COUNTIFS('Daily Diary'!A:A,'Grafico Strategie Settimanali'!B259,'Daily Diary'!E:E,\"PUNTA OVER\",'Daily Diary'!E:E,\"PUNTA OVER\",'Daily Diary'!K:K,\"WIN\")","v":0},{"$f":"COUNTIFS('Daily Diary'!A:A,'Grafico Strategie Settimanali'!B259,'Daily Diary'!E:E,\"PUNTA UNDER\",'Daily Diary'!E:E,\"PUNTA UNDER\",'Daily Diary'!K:K,\"WIN\")","v":0},{"$f":"COUNTIFS('Daily Diary'!A:A,'Grafico Strategie Settimanali'!B259,'Daily Diary'!E:E,\"SCALPING\",'Daily Diary'!E:E,\"SCALPING\",'Daily Diary'!K:K,\"WIN\")","v":0},{"$f":"COUNTIFS('Daily Diary'!A:A,'Grafico Strategie Settimanali'!B259,'Daily Diary'!E:E,\"GT 90\",'Daily Diary'!E:E,\"GT 90\",'Daily Diary'!K:K,\"WIN\")","v":0},{"$f":"COUNTIFS('Daily Diary'!A:A,'Grafico Strategie Settimanali'!B259,'Daily Diary'!E:E,\"GT 110\",'Daily Diary'!E:E,\"GT 110\",'Daily Diary'!K:K,\"WIN\")","v":0},{"$f":"COUNTIFS('Daily Diary'!A:A,'Grafico Strategie Settimanali'!B259,'Daily Diary'!E:E,\"ALERT GOAL\",'Daily Diary'!E:E,\"ALERT GOAL\",'Daily Diary'!K:K,\"WIN\")","v":0},{"$f":"COUNTIFS('Daily Diary'!A:A,'Grafico Strategie Settimanali'!B259,'Daily Diary'!E:E,\"DRAW NO BET\",'Daily Diary'!E:E,\"DRAW NO BET\",'Daily Diary'!K:K,\"WIN\")","v":0},{"$f":"COUNTIFS('Daily Diary'!A:A,'Grafico Strategie Settimanali'!B259,'Daily Diary'!E:E,\"ALTRO\",'Daily Diary'!E:E,\"ALTRO\",'Daily Diary'!K:K,\"WIN\")","v":0},{"$error":"#DIV/0!"},{"$error":"#DIV/0!"},{"$error":"#DIV/0!"},{"$error":"#DIV/0!"},{"$error":"#DIV/0!"},{"$error":"#DIV/0!"},{"$error":"#DIV/0!"},{"$error":"#DIV/0!"},{"$error":"#DIV/0!"},{"$error":"#DIV/0!"},{"$error":"#DIV/0!"},{"$error":"#DIV/0!"}]
[0,"2024-01-17",{"$f":"COUNTIFS('Daily Diary'!A:A,'Grafico Strategie Settimanali'!B260,'Daily Diary'!E:E,\"BANCA PAREGGIO\")","v":0},{"$f":"COUNTIFS('Daily Diary'!A:A,'Grafico Strategie Settimanali'!B260,'Daily Diary'!E:E,\"PUNTA SQ.CASA\")","v":0},{"$f":"COUNTIFS('Daily Diary'!A:A,'Grafico Strategie Settimanali'!B260,'Daily Diary'!E:E,\"PUNTA SQ.OSPITE\")","v":0},{"$f":"COUNTIFS('Daily Diary'!A:A,'Grafico Strategie Settimanali'!B260,'Daily Diary'!E:E,\"BANCA SFAVORITA\")","v":0},{"$f":"COUNTIFS('Daily Diary'!A:A,'Grafico Strategie Settimanali'!B260,'Daily Diary'!E:E,\"PUNTA OVER\")","v":0},{"$f":"COUNTIFS('Daily Diary'!A:A,'Grafico Strategie Settimanali'!B260,'Daily Diary'!E:E,\"PUNTA UNDER\")","v":0},{"$f":"COUNTIFS('Daily Diary'!A:A,'Grafico Strategie Settimanali'!B260,'Daily Diary'!E:E,\"SCALPING\")","v":0},{"$f":"COUNTIFS('Daily Diary'!A:A,'Grafico Strategie Settimanali'!B260,'Daily Diary'!E:E,\"GT90\")","v":0},{"$f":"COUNTIFS('Daily Diary'!A:A,'Grafico Strategie Settimanali'!B260,'Daily Diary'!E:E,\"GT110\")","v":0},{"$f":"COUNTIFS('Daily Diary'!A:A,'Grafico Strategie Settimanali'!B260,'Daily Diary'!E:E,\"ALERT GOAL\")","v":0},{"$f":"COUNTIFS('Daily Diary'!A:A,'Grafico Strategie Settimanali'!B260,'Daily Diary'!E:E,\"DRAW NO BET\")","v":0},{"$f":"COUNTIFS('Daily Diary'!A:A,'Grafico Strategie Settimanali'!B260,'Daily Diary'!E:E,\"ALTRO\")","v":0},{"$f":"COUNTIFS('Daily Diary'!A:A,'Grafico Strategie Settimanali'!B260,'Daily Diary'!E:E,\"BANCA PAREGGIO\",'Daily Diary'!E:E,\"BANCA PAREGGIO\",'Daily Diary'!K:K,\"WIN\")","v":0},{"$f":"COUNTIFS('Daily Diary'!A:A,'Grafico Strategie Settimanali'!B260,'Daily Diary'!E:E,\"PUNTA SQ.CASA\",'Daily Diary'!E:E,\"PUNTA SQ.CASA\",'Daily Diary'!K:K,\"WIN\")","v":0},{"$f":"COUNTIFS('Daily Diary'!A:A,'Grafico Strategie Settimanali'!B260,'Daily Diary'!E:E,\"PUNTA SQ.OSPITE\",'Daily Diary'!E:E,\"PUNTA SQ.OSPITE\",'Daily Diary'!K:K,\"WIN\")","v":0},{"$f":"COUNTIFS('Daily Diary'!A:A,'Grafico Strategie Settimanali'!B260,'Daily Diary'!E:E,\"BANCA SFAVORITA\",'Daily Diary'!E:E,\"BANCA SFAVORITA\",'Daily Diary'!K:K,\"WIN\")","v":0},{"$f":"COUNTIFS('Daily Diary'!A:A,'Grafico Strategie Settimanali'!B260,'Daily Diary'!E:E,\"PUNTA OVER\",'Daily Diary'!E:E,\"PUNTA OVER\",'Daily Diary'!K:K,\"WIN\")","v":0},{"$f":"COUNTIFS('Daily Diary'!A:A,'Grafico Strategie Settimanali'!B260,'Daily Diary'!E:E,\"PUNTA UNDER\",'Daily Diary'!E:E,\"PUNTA UNDER\",'Daily Diary'!K:K,\"WIN\")","v":0},{"$f":"COUNTIFS('Daily Diary'!A:A,'Grafico Strategie Settimanali'!B260,'Daily Diary'!E:E,\"SCALPING\",'Daily Diary'!E:E,\"SCALPING\",'Daily Diary'!K:K,\"WIN\")","v":0},{"$f":"COUNTIFS('Daily Diary'!A:A,'Grafico Strategie Settimanali'!B260,'Daily Diary'!E:E,\"GT 90\",'Daily Diary'!E:E,\"GT 90\",'Daily Diary'!K:K,\"WIN\")","v":0},{"$f":"COUNTIFS('Daily Diary'!A:A,'Grafico Strategie Settimanali'!B260,'Daily Diary'!E:E,\"GT 110\",'Daily Diary'!E:E,\"GT 110\",'Daily Diary'!K:K,\"WIN\")","v":0},{"$f":"COUNTIFS('Daily Diary'!A:A,'Grafico Strategie Settimanali'!B260,'Daily Diary'!E:E,\"ALERT GOAL\",'Daily Diary'!E:E,\"ALERT GOAL\",'Daily Diary'!K:K,\"WIN\")","v":0},{"$f":"COUNTIFS('Daily Diary'!A:A,'Grafico Strategie Settimanali'!B260,'Daily Diary'!E:E,\"DRAW NO BET\",'Daily Diary'!E:E,\"DRAW NO BET\",'Daily Diary'!K:K,\"WIN\")","v":0},{"$f":"COUNTIFS('Daily Diary'!A:A,'Grafico Strategie Settimanali'!B260,'Daily Diary'!E:E,\"ALTRO\",'Daily Diary'!E:E,\"ALTRO\",'Daily Diary'!K:K,\"WIN\")","v":0},{"$error":"#DIV/0!"},{"$error":"#DIV/0!"},{"$error":"#DIV/0!"},{"$error":"#DIV/0!"},{"$error":"#DIV/0!"},{"$error":"#DIV/0!"},{"$error":"#DIV/0!"},{"$error":"#DIV/0!"},{"$error":"#DIV/0!"},{"$error":"#DIV/0!"},{"$error":"#DIV/0!"},{"$error":"#DIV/0!"}]
[0,"2024-01-18",{"$f":"COUNTIFS('Daily Diary'!A:A,'Grafico Strategie Settimanali'!B261,'Daily Diary'!E:E,\"BANCA PAREGGIO\")","v":0},{"$f":"COUNTIFS('Daily Diary'!A:A,'Grafico Strategie Settimanali'!B261,'Daily Diary'!E:E,\"PUNTA SQ.CASA\")","v":0},{"$f":"COUNTIFS('Daily Diary'!A:A,'Grafico Strategie Settimanali'!B261,'Daily Diary'!E:E,\"PUNTA SQ.OSPITE\")","v":0},{"$f":"COUNTIFS('Daily Diary'!A:A,'Grafico Strategie Settimanali'!B261,'Daily Diary'!E:E,\"BANCA SFAVORITA\")","v":0},{"$f":"COUNTIFS('Daily Diary'!A:A,'Grafico Strategie Settimanali'!B261,'Daily Diary'!E:E,\"PUNTA OVER\")","v":0},{"$f":"COUNTIFS('Daily Diary'!A:A,'Grafico Strategie Settimanali'!B261,'Daily Diary'!E:E,\"PUNTA UNDER\")","v":0},{"$f":"COUNTIFS('Daily Diary'!A:A,'Grafico Strategie Settimanali'!B261,'Daily Diary'!E:E,\"SCALPING\")","v":0},{"$f":"COUNTIFS('Daily Diary'!A:A,'Grafico Strategie Settimanali'!B261,'Daily Diary'!E:E,\"GT90\")","v":0},{"$f":"COUNTIFS('Daily Diary'!A:A,'Grafico Strategie Settimanali'!B261,'Daily Diary'!E:E,\"GT110\")","v":0},{"$f":"COUNTIFS('Daily Diary'!A:A,'Grafico Strategie Settimanali'!B261,'Daily Diary'!E:E,\"ALERT GOAL\")","v":0},{"$f":"COUNTIFS('Daily Diary'!A:A,'Grafico Strategie Settimanali'!B261,'Daily Diary'!E:E,\"DRAW NO BET\")","v":0},{"$f":"COUNTIFS('Daily Diary'!A:A,'Grafico Strategie Settimanali'!B261,'Daily Diary'!E:E,\"ALTRO\")","v":0},{"$f":"COUNTIFS('Daily Diary'!A:A,'Grafico Strategie Settimanali'!B261,'Daily Diary'!E:E,\"BANCA PAREGGIO\",'Daily Diary'!E:E,\"BANCA PAREGGIO\",'Daily Diary'!K:K,\"WIN\")","v":0},{"$f":"COUNTIFS('Daily Diary'!A:A,'Grafico Strategie Settimanali'!B261,'Daily Diary'!E:E,\"PUNTA SQ.CASA\",'Daily Diary'!E:E,\"PUNTA SQ.CASA\",'Daily Diary'!K:K,\"WIN\")","v":0},{"$f":"COUNTIFS('Daily Diary'!A:A,'Grafico Strategie Settimanali'!B261,'Daily Diary'!E:E,\"PUNTA SQ.OSPITE\",'Daily Diary'!E:E,\"PUNTA SQ.OSPITE\",'Daily Diary'!K:K,\"WIN\")","v":0},{"$f":"COUNTIFS('Daily Diary'!A:A,'Grafico Strategie Settimanali'!B261,'Daily Diary'!E:E,\"BANCA SFAVORITA\",'Daily Diary'!E:E,\"BANCA SFAVORITA\",'Daily Diary'!K:K,\"WIN\")","v":0},{"$f":"COUNTIFS('Daily Diary'!A:A,'Grafico Strategie Settimanali'!B261,'Daily Diary'!E:E,\"PUNTA OVER\",'Daily Diary'!E:E,\"PUNTA OVER\",'Daily Diary'!K:K,\"WIN\")","v":0},{"$f":"COUNTIFS('Daily Diary'!A:A,'Grafico Strategie Settimanali'!B261,'Daily Diary'!E:E,\"PUNTA UNDER\",'Daily Diary'!E:E,\"PUNTA UNDER\",'Daily Diary'!K:K,\"WIN\")","v":0},{"$f":"COUNTIFS('Daily Diary'!A:A,'Grafico Strategie Settimanali'!B261,'Daily Diary'!E:E,\"SCALPING\",'Daily Diary'!E:E,\"SCALPING\",'Daily Diary'!K:K,\"WIN\")","v":0},{"$f":"COUNTIFS('Daily Diary'!A:A,'Grafico Strategie Settimanali'!B261,'Daily Diary'!E:E,\"GT 90\",'Daily Diary'!E:E,\"GT 90\",'Daily Diary'!K:K,\"WIN\")","v":0},{"$f":"COUNTIFS('Daily Diary'!A:A,'Grafico Strategie Settimanali'!B261,'Daily Diary'!E:E,\"GT 110\",'Daily Diary'!E:E,\"GT 110\",'Daily Diary'!K:K,\"WIN\")","v":0},{"$f":"COUNTIFS('Daily Diary'!A:A,'Grafico Strategie Settimanali'!B261,'Daily Diary'!E:E,\"ALERT GOAL\",'Daily Diary'!E:E,\"ALERT GOAL\",'Daily Diary'!K:K,\"WIN\")","v":0},{"$f":"COUNTIFS('Daily Diary'!A:A,'Grafico Strategie Settimanali'!B261,'Daily Diary'!E:E,\"DRAW NO BET\",'Daily Diary'!E:E,\"DRAW NO BET\",'Daily Diary'!K:K,\"WIN\")","v":0},{"$f":"COUNTIFS('Daily Diary'!A:A,'Grafico Strategie Settimanali'!B261,'Daily Diary'!E:E,\"ALTRO\",'Daily Diary'!E:E,\"ALTRO\",'Daily Diary'!K:K,\"WIN\")","v":0},{"$error":"#DIV/0!"},{"$error":"#DIV/0!"},{"$error":"#DIV/0!"},{"$error":"#DIV/0!"},{"$error":"#DIV/0!"},{"$error":"#DIV/0!"},{"$error":"#DIV/0!"},{"$error":"#DIV/0!"},{"$error":"#DIV/0!"},{"$error":"#DIV/0!"},{"$error":"#DIV/0!"},{"$error":"#DIV/0!"}]
[0,"2024-01-19",{"$f":"COUNTIFS('Daily Diary'!A:A,'Grafico Strategie Settimanali'!B262,'Daily Diary'!E:E,\"BANCA PAREGGIO\")","v":0},{"$f":"COUNTIFS('Daily Diary'!A:A,'Grafico Strategie Settimanali'!B262,'Daily Diary'!E:E,\"PUNTA SQ.CASA\")","v":0},{"$f":"COUNTIFS('Daily Diary'!A:A,'Grafico Strategie Settimanali'!B262,'Daily Diary'!E:E,\"PUNTA SQ.OSPITE\")","v":0},{"$f":"COUNTIFS('Daily Diary'!A:A,'Grafico Strategie Settimanali'!B262,'Daily Diary'!E:E,\"BANCA SFAVORITA\")","v":0},{"$f":"COUNTIFS('Daily Diary'!A:A,'Grafico Strategie Settimanali'!B262,'Daily Diary'!E:E,\"PUNTA OVER\")","v":0},{"$f":"COUNTIFS('Daily Diary'!A:A,'Grafico Strategie Settimanali'!B262,'Daily Diary'!E:E,\"PUNTA UNDER\")","v":0},{"$f":"COUNTIFS('Daily Diary'!A:A,'Grafico Strategie Settimanali'!B262,'Daily Diary'!E:E,\"SCALPING\")","v":0},{"$f":"COUNTIFS('Daily Diary'!A:A,'Grafico Strategie Settimanali'!B262,'Daily Diary'!E:E,\"GT90\")","v":0},{"$f":"COUNTIFS('Daily Diary'!A:A,'Grafico Strategie Settimanali'!B262,'Daily Diary'!E:E,\"GT110\")","v":0},{"$f":"COUNTIFS('Daily Diary'!A:A,'Grafico Strategie Settimanali'!B262,'Daily Diary'!E:E,\"ALERT GOAL\")","v":0},{"$f":"COUNTIFS('Daily Diary'!A:A,'Grafico Strategie Settimanali'!B262,'Daily Diary'!E:E,\"DRAW NO BET\")","v":0},{"$f":"COUNTIFS('Daily Diary'!A:A,'Grafico Strategie Settimanali'!B262,'Daily Diary'!E:E,\"ALTRO\")","v":0},{"$f":"COUNTIFS('Daily Diary'!A:A,'Grafico Strategie Settimanali'!B262,'Daily Diary'!E:E,\"BANCA PAREGGIO\",'Daily Diary'!E:E,\"BANCA PAREGGIO\",'Daily Diary'!K:K,\"WIN\")","v":0},{"$f":"COUNTIFS('Daily Diary'!A:A,'Grafico Strategie Settimanali'!B262,'Daily Diary'!E:E,\"PUNTA SQ.CASA\",'Daily Diary'!E:E,\"PUNTA SQ.CASA\",'Daily Diary'!K:K,\"WIN\")","v":0},{"$f":"COUNTIFS('Daily Diary'!A:A,'Grafico Strategie Settimanali'!B262,'Daily Diary'!E:E,\"PUNTA SQ.OSPITE\",'Daily Diary'!E:E,\"PUNTA SQ.OSPITE\",'Daily Diary'!K:K,\"WIN\")","v":0},{"$f":"COUNTIFS('Daily Diary'!A:A,'Grafico Strategie Settimanali'!B262,'Daily Diary'!E:E,\"BANCA SFAVORITA\",'Daily Diary'!E:E,\"BANCA SFAVORITA\",'Daily Diary'!K:K,\"WIN\")","v":0},{"$f":"COUNTIFS('Daily Diary'!A:A,'Grafico Strategie Settimanali'!B262,'Daily Diary'!E:E,\"PUNTA OVER\",'Daily Diary'!E:E,\"PUNTA OVER\",'Daily Diary'!K:K,\"WIN\")","v":0},{"$f":"COUNTIFS('Daily Diary'!A:A,'Grafico Strategie Settimanali'!B262,'Daily Diary'!E:E,\"PUNTA UNDER\",'Daily Diary'!E:E,\"PUNTA UNDER\",'Daily Diary'!K:K,\"WIN\")","v":0},{"$f":"COUNTIFS('Daily Diary'!A:A,'Grafico Strategie Settimanali'!B262,'Daily Diary'!E:E,\"SCALPING\",'Daily Diary'!E:E,\"SCALPING\",'Daily Diary'!K:K,\"WIN\")","v":0},{"$f":"COUNTIFS('Daily Diary'!A:A,'Grafico Strategie Settimanali'!B262,'Daily Diary'!E:E,\"GT 90\",'Daily Diary'!E:E,\"GT 90\",'Daily Diary'!K:K,\"WIN\")","v":0},{"$f":"COUNTIFS('Daily Diary'!A:A,'Grafico Strategie Settimanali'!B262,'Daily Diary'!E:E,\"GT 110\",'Daily Diary'!E:E,\"GT 110\",'Daily Diary'!K:K,\"WIN\")","v":0},{"$f":"COUNTIFS('Daily Diary'!A:A,'Grafico Strategie Settimanali'!B262,'Daily Diary'!E:E,\"ALERT GOAL\",'Daily Diary'!E:E,\"ALERT GOAL\",'Daily Diary'!K:K,\"WIN\")","v":0},{"$f":"COUNTIFS('Daily Diary'!A:A,'Grafico Strategie Settimanali'!B262,'Daily Diary'!E:E,\"DRAW NO BET\",'Daily Diary'!E:E,\"DRAW NO BET\",'Daily Diary'!K:K,\"WIN\")","v":0},{"$f":"COUNTIFS('Daily Diary'!A:A,'Grafico Strategie Settimanali'!B262,'Daily Diary'!E:E,\"ALTRO\",'Daily Diary'!E:E,\"ALTRO\",'Daily Diary'!K:K,\"WIN\")","v":0},{"$error":"#DIV/0!"},{"$error":"#DIV/0!"},{"$error":"#DIV/0!"},{"$error":"#DIV/0!"},{"$error":"#DIV/0!"},{"$error":"#DIV/0!"},{"$error":"#DIV/0!"},{"$error":"#DIV/0!"},{"$error":"#DIV/0!"},{"$error":"#DIV/0!"},{"$error":"#DIV/0!"},{"$error":"#DIV/0!"}]
[0,"2024-01-20",{"$f":"COUNTIFS('Daily Diary'!A:A,'Grafico Strategie Settimanali'!B263,'Daily Diary'!E:E,\"BANCA PAREGGIO\")","v":0},{"$f":"COUNTIFS('Daily Diary'!A:A,'Grafico Strategie Settimanali'!B263,'Daily Diary'!E:E,\"PUNTA SQ.CASA\")","v":0},{"$f":"COUNTIFS('Daily Diary'!A:A,'Grafico Strategie Settimanali'!B263,'Daily Diary'!E:E,\"PUNTA SQ.OSPITE\")","v":0},{"$f":"COUNTIFS('Daily Diary'!A:A,'Grafico Strategie Settimanali'!B263,'Daily Diary'!E:E,\"BANCA SFAVORITA\")","v":0},{"$f":"COUNTIFS('Daily Diary'!A:A,'Grafico Strategie Settimanali'!B263,'Daily Diary'!E:E,\"PUNTA OVER\")","v":0},{"$f":"COUNTIFS('Daily Diary'!A:A,'Grafico Strategie Settimanali'!B263,'Daily Diary'!E:E,\"PUNTA UNDER\")","v":0},{"$f":"COUNTIFS('Daily Diary'!A:A,'Grafico Strategie Settimanali'!B263,'Daily Diary'!E:E,\"SCALPING\")","v":0},{"$f":"COUNTIFS('Daily Diary'!A:A,'Grafico Strategie Settimanali'!B263,'Daily Diary'!E:E,\"GT90\")","v":0},{"$f":"COUNTIFS('Daily Diary'!A:A,'Grafico Strategie Settimanali'!B263,'Daily Diary'!E:E,\"GT110\")","v":0},{"$f":"COUNTIFS('Daily Diary'!A:A,'Grafico Strategie Settimanali'!B263,'Daily Diary'!E:E,\"ALERT GOAL\")","v":0},{"$f":"COUNTIFS('Daily Diary'!A:A,'Grafico Strategie Settimanali'!B263,'Daily Diary'!E:E,\"DRAW NO BET\")","v":0},{"$f":"COUNTIFS('Daily Diary'!A:A,'Grafico Strategie Settimanali'!B263,'Daily Diary'!E:E,\"ALTRO\")","v":0},{"$f":"COUNTIFS('Daily Diary'!A:A,'Grafico Strategie Settimanali'!B263,'Daily Diary'!E:E,\"BANCA PAREGGIO\",'Daily Diary'!E:E,\"BANCA PAREGGIO\",'Daily Diary'!K:K,\"WIN\")","v":0},{"$f":"COUNTIFS('Daily Diary'!A:A,'Grafico Strategie Settimanali'!B263,'Daily Diary'!E:E,\"PUNTA SQ.CASA\",'Daily Diary'!E:E,\"PUNTA SQ.CASA\",'Daily Diary'!K:K,\"WIN\")","v":0},{"$f":"COUNTIFS('Daily Diary'!A:A,'Grafico Strategie Settimanali'!B263,'Daily Diary'!E:E,\"PUNTA SQ.OSPITE\",'Daily Diary'!E:E,\"PUNTA SQ.OSPITE\",'Daily Diary'!K:K,\"WIN\")","v":0},{"$f":"COUNTIFS('Daily Diary'!A:A,'Grafico Strategie Settimanali'!B263,'Daily Diary'!E:E,\"BANCA SFAVORITA\",'Daily Diary'!E:E,\"BANCA SFAVORITA\",'Daily Diary'!K:K,\"WIN\")","v":0},{"$f":"COUNTIFS('Daily Diary'!A:A,'Grafico Strategie Settimanali'!B263,'Daily Diary'!E:E,\"PUNTA OVER\",'Daily Diary'!E:E,\"PUNTA OVER\",'Daily Diary'!K:K,\"WIN\")","v":0},{"$f":"COUNTIFS('Daily Diary'!A:A,'Grafico Strategie Settimanali'!B263,'Daily Diary'!E:E,\"PUNTA UNDER\",'Daily Diary'!E:E,\"PUNTA UNDER\",'Daily Diary'!K:K,\"WIN\")","v":0},{"$f":"COUNTIFS('Daily Diary'!A:A,'Grafico Strategie Settimanali'!B263,'Daily Diary'!E:E,\"SCALPING\",'Daily Diary'!E:E,\"SCALPING\",'Daily Diary'!K:K,\"WIN\")","v":0},{"$f":"COUNTIFS('Daily Diary'!A:A,'Grafico Strategie Settimanali'!B263,'Daily Diary'!E:E,\"GT 90\",'Daily Diary'!E:E,\"GT 90\",'Daily Diary'!K:K,\"WIN\")","v":0},{"$f":"COUNTIFS('Daily Diary'!A:A,'Grafico Strategie Settimanali'!B263,'Daily Diary'!E:E,\"GT 110\",'Daily Diary'!E:E,\"GT 110\",'Daily Diary'!K:K,\"WIN\")","v":0},{"$f":"COUNTIFS('Daily Diary'!A:A,'Grafico Strategie Settimanali'!B263,'Daily Diary'!E:E,\"ALERT GOAL\",'Daily Diary'!E:E,\"ALERT GOAL\",'Daily Diary'!K:K,\"WIN\")","v":0},{"$f":"COUNTIFS('Daily Diary'!A:A,'Grafico Strategie Settimanali'!B263,'Daily Diary'!E:E,\"DRAW NO BET\",'Daily Diary'!E:E,\"DRAW NO BET\",'Daily Diary'!K:K,\"WIN\")","v":0},{"$f":"COUNTIFS('Daily Diary'!A:A,'Grafico Strategie Settimanali'!B263,'Daily Diary'!E:E,\"ALTRO\",'Daily Diary'!E:E,\"ALTRO\",'Daily Diary'!K:K,\"WIN\")","v":0},{"$error":"#DIV/0!"},{"$error":"#DIV/0!"},{"$error":"#DIV/0!"},{"$error":"#DIV/0!"},{"$error":"#DIV/0!"},{"$error":"#DIV/0!"},{"$error":"#DIV/0!"},{"$error":"#DIV/0!"},{"$error":"#DIV/0!"},{"$error":"#DIV/0!"},{"$error":"#DIV/0!"},{"$error":"#DIV/0!"}]
[0,"2024-01-21",{"$f":"COUNTIFS('Daily Diary'!A:A,'Grafico Strategie Settimanali'!B264,'Daily Diary'!E:E,\"BANCA PAREGGIO\")","v":0},{"$f":"COUNTIFS('Daily Diary'!A:A,'Grafico Strategie Settimanali'!B264,'Daily Diary'!E:E,\"PUNTA SQ.CASA\")","v":0},{"$f":"COUNTIFS('Daily Diary'!A:A,'Grafico Strategie Settimanali'!B264,'Daily Diary'!E:E,\"PUNTA SQ.OSPITE\")","v":0},{"$f":"COUNTIFS('Daily Diary'!A:A,'Grafico Strategie Settimanali'!B264,'Daily Diary'!E:E,\"BANCA SFAVORITA\")","v":0},{"$f":"COUNTIFS('Daily Diary'!A:A,'Grafico Strategie Settimanali'!B264,'Daily Diary'!E:E,\"PUNTA OVER\")","v":0},{"$f":"COUNTIFS('Daily Diary'!A:A,'Grafico Strategie Settimanali'!B264,'Daily Diary'!E:E,\"PUNTA UNDER\")","v":0},{"$f":"COUNTIFS('Daily Diary'!A:A,'Grafico Strategie Settimanali'!B264,'Daily Diary'!E:E,\"SCALPING\")","v":0},{"$f":"COUNTIFS('Daily Diary'!A:A,'Grafico Strategie Settimanali'!B264,'Daily Diary'!E:E,\"GT90\")","v":0},{"$f":"COUNTIFS('Daily Diary'!A:A,'Grafico Strategie Settimanali'!B264,'Daily Diary'!E:E,\"GT110\")","v":0},{"$f":"COUNTIFS('Daily Diary'!A:A,'Grafico Strategie Settimanali'!B264,'Daily Diary'!E:E,\"ALERT GOAL\")","v":0},{"$f":"COUNTIFS('Daily Diary'!A:A,'Grafico Strategie Settimanali'!B264,'Daily Diary'!E:E,\"DRAW NO BET\")","v":0},{"$f":"COUNTIFS('Daily Diary'!A:A,'Grafico Strategie Settimanali'!B264,'Daily Diary'!E:E,\"ALTRO\")","v":0},{"$f":"COUNTIFS('Daily Diary'!A:A,'Grafico Strategie Settimanali'!B264,'Daily Diary'!E:E,\"BANCA PAREGGIO\",'Daily Diary'!E:E,\"BANCA PAREGGIO\",'Daily Diary'!K:K,\"WIN\")","v":0},{"$f":"COUNTIFS('Daily Diary'!A:A,'Grafico Strategie Settimanali'!B264,'Daily Diary'!E:E,\"PUNTA SQ.CASA\",'Daily Diary'!E:E,\"PUNTA SQ.CASA\",'Daily Diary'!K:K,\"WIN\")","v":0},{"$f":"COUNTIFS('Daily Diary'!A:A,'Grafico Strategie Settimanali'!B264,'Daily Diary'!E:E,\"PUNTA SQ.OSPITE\",'Daily Diary'!E:E,\"PUNTA SQ.OSPITE\",'Daily Diary'!K:K,\"WIN\")","v":0},{"$f":"COUNTIFS('Daily Diary'!A:A,'Grafico Strategie Settimanali'!B264,'Daily Diary'!E:E,\"BANCA SFAVORITA\",'Daily Diary'!E:E,\"BANCA SFAVORITA\",'Daily Diary'!K:K,\"WIN\")","v":0},{"$f":"COUNTIFS('Daily Diary'!A:A,'Grafico Strategie Settimanali'!B264,'Daily Diary'!E:E,\"PUNTA OVER\",'Daily Diary'!E:E,\"PUNTA OVER\",'Daily Diary'!K:K,\"WIN\")","v":0},{"$f":"COUNTIFS('Daily Diary'!A:A,'Grafico Strategie Settimanali'!B264,'Daily Diary'!E:E,\"PUNTA UNDER\",'Daily Diary'!E:E,\"PUNTA UNDER\",'Daily Diary'!K:K,\"WIN\")","v":0},{"$f":"COUNTIFS('Daily Diary'!A:A,'Grafico Strategie Settimanali'!B264,'Daily Diary'!E:E,\"SCALPING\",'Daily Diary'!E:E,\"SCALPING\",'Daily Diary'!K:K,\"WIN\")","v":0},{"$f":"COUNTIFS('Daily Diary'!A:A,'Grafico Strategie Settimanali'!B264,'Daily Diary'!E:E,\"GT 90\",'Daily Diary'!E:E,\"GT 90\",'Daily Diary'!K:K,\"WIN\")","v":0},{"$f":"COUNTIFS('Daily Diary'!A:A,'Grafico Strategie Settimanali'!B264,'Daily Diary'!E:E,\"GT 110\",'Daily Diary'!E:E,\"GT 110\",'Daily Diary'!K:K,\"WIN\")","v":0},{"$f":"COUNTIFS('Daily Diary'!A:A,'Grafico Strategie Settimanali'!B264,'Daily Diary'!E:E,\"ALERT GOAL\",'Daily Diary'!E:E,\"ALERT GOAL\",'Daily Diary'!K:K,\"WIN\")","v":0},{"$f":"COUNTIFS('Daily Diary'!A:A,'Grafico Strategie Settimanali'!B264,'Daily Diary'!E:E,\"DRAW NO BET\",'Daily Diary'!E:E,\"DRAW NO BET\",'Daily Diary'!K:K,\"WIN\")","v":0},{"$f":"COUNTIFS('Daily Diary'!A:A,'Grafico Strategie Settimanali'!B264,'Daily Diary'!E:E,\"ALTRO\",'Daily Diary'!E:E,\"ALTRO\",'Daily Diary'!K:K,\"WIN\")","v":0},{"$error":"#DIV/0!"},{"$error":"#DIV/0!"},{"$error":"#DIV/0!"},{"$error":"#DIV/0!"},{"$error":"#DIV/0!"},{"$error":"#DIV/0!"},{"$error":"#DIV/0!"},{"$error":"#DIV/0!"},{"$error":"#DIV/0!"},{"$error":"#DIV/0!"},{"$error":"#DIV/0!"},{"$error":"#DIV/0!"}]
[0,"2024-01-22",{"$f":"COUNTIFS('Daily Diary'!A:A,'Grafico Strategie Settimanali'!B265,'Daily Diary'!E:E,\"BANCA PAREGGIO\")","v":0},{"$f":"COUNTIFS('Daily Diary'!A:A,'Grafico Strategie Settimanali'!B265,'Daily Diary'!E:E,\"PUNTA SQ.CASA\")","v":0},{"$f":"COUNTIFS('Daily Diary'!A:A,'Grafico Strategie Settimanali'!B265,'Daily Diary'!E:E,\"PUNTA SQ.OSPITE\")","v":0},{"$f":"COUNTIFS('Daily Diary'!A:A,'Grafico Strategie Settimanali'!B265,'Daily Diary'!E:E,\"BANCA SFAVORITA\")","v":0},{"$f":"COUNTIFS('Daily Diary'!A:A,'Grafico Strategie Settimanali'!B265,'Daily Diary'!E:E,\"PUNTA OVER\")","v":0},{"$f":"COUNTIFS('Daily Diary'!A:A,'Grafico Strategie Settimanali'!B265,'Daily Diary'!E:E,\"PUNTA UNDER\")","v":0},{"$f":"COUNTIFS('Daily Diary'!A:A,'Grafico Strategie Settimanali'!B265,'Daily Diary'!E:E,\"SCALPING\")","v":0},{"$f":"COUNTIFS('Daily Diary'!A:A,'Grafico Strategie Settimanali'!B265,'Daily Diary'!E:E,\"GT90\")","v":0},{"$f":"COUNTIFS('Daily Diary'!A:A,'Grafico Strategie Settimanali'!B265,'Daily Diary'!E:E,\"GT110\")","v":0},{"$f":"COUNTIFS('Daily Diary'!A:A,'Grafico Strategie Settimanali'!B265,'Daily Diary'!E:E,\"ALERT GOAL\")","v":0},{"$f":"COUNTIFS('Daily Diary'!A:A,'Grafico Strategie Settimanali'!B265,'Daily Diary'!E:E,\"DRAW NO BET\")","v":0},{"$f":"COUNTIFS('Daily Diary'!A:A,'Grafico Strategie Settimanali'!B265,'Daily Diary'!E:E,\"ALTRO\")","v":0},{"$f":"COUNTIFS('Daily Diary'!A:A,'Grafico Strategie Settimanali'!B265,'Daily Diary'!E:E,\"BANCA PAREGGIO\",'Daily Diary'!E:E,\"BANCA PAREGGIO\",'Daily Diary'!K:K,\"WIN\")","v":0},{"$f":"COUNTIFS('Daily Diary'!A:A,'Grafico Strategie Settimanali'!B265,'Daily Diary'!E:E,\"PUNTA SQ.CASA\",'Daily Diary'!E:E,\"PUNTA SQ.CASA\",'Daily Diary'!K:K,\"WIN\")","v":0},{"$f":"COUNTIFS('Daily Diary'!A:A,'Grafico Strategie Settimanali'!B265,'Daily Diary'!E:E,\"PUNTA SQ.OSPITE\",'Daily Diary'!E:E,\"PUNTA SQ.OSPITE\",'Daily Diary'!K:K,\"WIN\")","v":0},{"$f":"COUNTIFS('Daily Diary'!A:A,'Grafico Strategie Settimanali'!B265,'Daily Diary'!E:E,\"BANCA SFAVORITA\",'Daily Diary'!E:E,\"BANCA SFAVORITA\",'Daily Diary'!K:K,\"WIN\")","v":0},{"$f":"COUNTIFS('Daily Diary'!A:A,'Grafico Strategie Settimanali'!B265,'Daily Diary'!E:E,\"PUNTA OVER\",'Daily Diary'!E:E,\"PUNTA OVER\",'Daily Diary'!K:K,\"WIN\")","v":0},{"$f":"COUNTIFS('Daily Diary'!A:A,'Grafico Strategie Settimanali'!B265,'Daily Diary'!E:E,\"PUNTA UNDER\",'Daily Diary'!E:E,\"PUNTA UNDER\",'Daily Diary'!K:K,\"WIN\")","v":0},{"$f":"COUNTIFS('Daily Diary'!A:A,'Grafico Strategie Settimanali'!B265,'Daily Diary'!E:E,\"SCALPING\",'Daily Diary'!E:E,\"SCALPING\",'Daily Diary'!K:K,\"WIN\")","v":0},{"$f":"COUNTIFS('Daily Diary'!A:A,'Grafico Strategie Settimanali'!B265,'Daily Diary'!E:E,\"GT 90\",'Daily Diary'!E:E,\"GT 90\",'Daily Diary'!K:K,\"WIN\")","v":0},{"$f":"COUNTIFS('Daily Diary'!A:A,'Grafico Strategie Settimanali'!B265,'Daily Diary'!E:E,\"GT 110\",'Daily Diary'!E:E,\"GT 110\",'Daily Diary'!K:K,\"WIN\")","v":0},{"$f":"COUNTIFS('Daily Diary'!A:A,'Grafico Strategie Settimanali'!B265,'Daily Diary'!E:E,\"ALERT GOAL\",'Daily Diary'!E:E,\"ALERT GOAL\",'Daily Diary'!K:K,\"WIN\")","v":0},{"$f":"COUNTIFS('Daily Diary'!A:A,'Grafico Strategie Settimanali'!B265,'Daily Diary'!E:E,\"DRAW NO BET\",'Daily Diary'!E:E,\"DRAW NO BET\",'Daily Diary'!K:K,\"WIN\")","v":0},{"$f":"COUNTIFS('Daily Diary'!A:A,'Grafico Strategie Settimanali'!B265,'Daily Diary'!E:E,\"ALTRO\",'Daily Diary'!E:E,\"ALTRO\",'Daily Diary'!K:K,\"WIN\")","v":0},{"$error":"#DIV/0!"},{"$error":"#DIV/0!"},{"$error":"#DIV/0!"},{"$error":"#DIV/0!"},{"$error":"#DIV/0!"},{"$error":"#DIV/0!"},{"$error":"#DIV/0!"},{"$error":"#DIV/0!"},{"$error":"#DIV/0!"},{"$error":"#DIV/0!"},{"$error":"#DIV/0!"},{"$error":"#DIV/0!"}]
[0,"2024-01-23",{"$f":"COUNTIFS('Daily Diary'!A:A,'Grafico Strategie Settimanali'!B266,'Daily Diary'!E:E,\"BANCA PAREGGIO\")","v":0},{"$f":"COUNTIFS('Daily Diary'!A:A,'Grafico Strategie Settimanali'!B266,'Daily Diary'!E:E,\"PUNTA SQ.CASA\")","v":0},{"$f":"COUNTIFS('Daily Diary'!A:A,'Grafico Strategie Settimanali'!B266,'Daily Diary'!E:E,\"PUNTA SQ.OSPITE\")","v":0},{"$f":"COUNTIFS('Daily Diary'!A:A,'Grafico Strategie Settimanali'!B266,'Daily Diary'!E:E,\"BANCA SFAVORITA\")","v":0},{"$f":"COUNTIFS('Daily Diary'!A:A,'Grafico Strategie Settimanali'!B266,'Daily Diary'!E:E,\"PUNTA OVER\")","v":0},{"$f":"COUNTIFS('Daily Diary'!A:A,'Grafico Strategie Settimanali'!B266,'Daily Diary'!E:E,\"PUNTA UNDER\")","v":0},{"$f":"COUNTIFS('Daily Diary'!A:A,'Grafico Strategie Settimanali'!B266,'Daily Diary'!E:E,\"SCALPING\")","v":0},{"$f":"COUNTIFS('Daily Diary'!A:A,'Grafico Strategie Settimanali'!B266,'Daily Diary'!E:E,\"GT90\")","v":0},{"$f":"COUNTIFS('Daily Diary'!A:A,'Grafico Strategie Settimanali'!B266,'Daily Diary'!E:E,\"GT110\")","v":0},{"$f":"COUNTIFS('Daily Diary'!A:A,'Grafico Strategie Settimanali'!B266,'Daily Diary'!E:E,\"ALERT GOAL\")","v":0},{"$f":"COUNTIFS('Daily Diary'!A:A,'Grafico Strategie Settimanali'!B266,'Daily Diary'!E:E,\"DRAW NO BET\")","v":0},{"$f":"COUNTIFS('Daily Diary'!A:A,'Grafico Strategie Settimanali'!B266,'Daily Diary'!E:E,\"ALTRO\")","v":0},{"$f":"COUNTIFS('Daily Diary'!A:A,'Grafico Strategie Settimanali'!B266,'Daily Diary'!E:E,\"BANCA PAREGGIO\",'Daily Diary'!E:E,\"BANCA PAREGGIO\",'Daily Diary'!K:K,\"WIN\")","v":0},{"$f":"COUNTIFS('Daily Diary'!A:A,'Grafico Strategie Settimanali'!B266,'Daily Diary'!E:E,\"PUNTA SQ.CASA\",'Daily Diary'!E:E,\"PUNTA SQ.CASA\",'Daily Diary'!K:K,\"WIN\")","v":0},{"$f":"COUNTIFS('Daily Diary'!A:A,'Grafico Strategie Settimanali'!B266,'Daily Diary'!E:E,\"PUNTA SQ.OSPITE\",'Daily Diary'!E:E,\"PUNTA SQ.OSPITE\",'Daily Diary'!K:K,\"WIN\")","v":0},{"$f":"COUNTIFS('Daily Diary'!A:A,'Grafico Strategie Settimanali'!B266,'Daily Diary'!E:E,\"BANCA SFAVORITA\",'Daily Diary'!E:E,\"BANCA SFAVORITA\",'Daily Diary'!K:K,\"WIN\")","v":0},{"$f":"COUNTIFS('Daily Diary'!A:A,'Grafico Strategie Settimanali'!B266,'Daily Diary'!E:E,\"PUNTA OVER\",'Daily Diary'!E:E,\"PUNTA OVER\",'Daily Diary'!K:K,\"WIN\")","v":0},{"$f":"COUNTIFS('Daily Diary'!A:A,'Grafico Strategie Settimanali'!B266,'Daily Diary'!E:E,\"PUNTA UNDER\",'Daily Diary'!E:E,\"PUNTA UNDER\",'Daily Diary'!K:K,\"WIN\")","v":0},{"$f":"COUNTIFS('Daily Diary'!A:A,'Grafico Strategie Settimanali'!B266,'Daily Diary'!E:E,\"SCALPING\",'Daily Diary'!E:E,\"SCALPING\",'Daily Diary'!K:K,\"WIN\")","v":0},{"$f":"COUNTIFS('Daily Diary'!A:A,'Grafico Strategie Settimanali'!B266,'Daily Diary'!E:E,\"GT 90\",'Daily Diary'!E:E,\"GT 90\",'Daily Diary'!K:K,\"WIN\")","v":0},{"$f":"COUNTIFS('Daily Diary'!A:A,'Grafico Strategie Settimanali'!B266,'Daily Diary'!E:E,\"GT 110\",'Daily Diary'!E:E,\"GT 110\",'Daily Diary'!K:K,\"WIN\")","v":0},{"$f":"COUNTIFS('Daily Diary'!A:A,'Grafico Strategie Settimanali'!B266,'Daily Diary'!E:E,\"ALERT GOAL\",'Daily Diary'!E:E,\"ALERT GOAL\",'Daily Diary'!K:K,\"WIN\")","v":0},{"$f":"COUNTIFS('Daily Diary'!A:A,'Grafico Strategie Settimanali'!B266,'Daily Diary'!E:E,\"DRAW NO BET\",'Daily Diary'!E:E,\"DRAW NO BET\",'Daily Diary'!K:K,\"WIN\")","v":0},{"$f":"COUNTIFS('Daily Diary'!A:A,'Grafico Strategie Settimanali'!B266,'Daily Diary'!E:E,\"ALTRO\",'Daily Diary'!E:E,\"ALTRO\",'Daily Diary'!K:K,\"WIN\")","v":0},{"$error":"#DIV/0!"},{"$error":"#DIV/0!"},{"$error":"#DIV/0!"},{"$error":"#DIV/0!"},{"$error":"#DIV/0!"},{"$error":"#DIV/0!"},{"$error":"#DIV/0!"},{"$error":"#DIV/0!"},{"$error":"#DIV/0!"},{"$error":"#DIV/0!"},{"$error":"#DIV/0!"},{"$error":"#DIV/0!"}]
[0,"2024-01-24",{"$f":"COUNTIFS('Daily Diary'!A:A,'Grafico Strategie Settimanali'!B267,'Daily Diary'!E:E,\"BANCA PAREGGIO\")","v":0},{"$f":"COUNTIFS('Daily Diary'!A:A,'Grafico Strategie Settimanali'!B267,'Daily Diary'!E:E,\"PUNTA SQ.CASA\")","v":0},{"$f":"COUNTIFS('Daily Diary'!A:A,'Grafico Strategie Settimanali'!B267,'Daily Diary'!E:E,\"PUNTA SQ.OSPITE\")","v":0},{"$f":"COUNTIFS('Daily Diary'!A:A,'Grafico Strategie Settimanali'!B267,'Daily Diary'!E:E,\"BANCA SFAVORITA\")","v":0},{"$f":"COUNTIFS('Daily Diary'!A:A,'Grafico Strategie Settimanali'!B267,'Daily Diary'!E:E,\"PUNTA OVER\")","v":0},{"$f":"COUNTIFS('Daily Diary'!A:A,'Grafico Strategie Settimanali'!B267,'Daily Diary'!E:E,\"PUNTA UNDER\")","v":0},{"$f":"COUNTIFS('Daily Diary'!A:A,'Grafico Strategie Settimanali'!B267,'Daily Diary'!E:E,\"SCALPING\")","v":0},{"$f":"COUNTIFS('Daily Diary'!A:A,'Grafico Strategie Settimanali'!B267,'Daily Diary'!E:E,\"GT90\")","v":0},{"$f":"COUNTIFS('Daily Diary'!A:A,'Grafico Strategie Settimanali'!B267,'Daily Diary'!E:E,\"GT110\")","v":0},{"$f":"COUNTIFS('Daily Diary'!A:A,'Grafico Strategie Settimanali'!B267,'Daily Diary'!E:E,\"ALERT GOAL\")","v":0},{"$f":"COUNTIFS('Daily Diary'!A:A,'Grafico Strategie Settimanali'!B267,'Daily Diary'!E:E,\"DRAW NO BET\")","v":0},{"$f":"COUNTIFS('Daily Diary'!A:A,'Grafico Strategie Settimanali'!B267,'Daily Diary'!E:E,\"ALTRO\")","v":0},{"$f":"COUNTIFS('Daily Diary'!A:A,'Grafico Strategie Settimanali'!B267,'Daily Diary'!E:E,\"BANCA PAREGGIO\",'Daily Diary'!E:E,\"BANCA PAREGGIO\",'Daily Diary'!K:K,\"WIN\")","v":0},{"$f":"COUNTIFS('Daily Diary'!A:A,'Grafico Strategie Settimanali'!B267,'Daily Diary'!E:E,\"PUNTA SQ.CASA\",'Daily Diary'!E:E,\"PUNTA SQ.CASA\",'Daily Diary'!K:K,\"WIN\")","v":0},{"$f":"COUNTIFS('Daily Diary'!A:A,'Grafico Strategie Settimanali'!B267,'Daily Diary'!E:E,\"PUNTA SQ.OSPITE\",'Daily Diary'!E:E,\"PUNTA SQ.OSPITE\",'Daily Diary'!K:K,\"WIN\")","v":0},{"$f":"COUNTIFS('Daily Diary'!A:A,'Grafico Strategie Settimanali'!B267,'Daily Diary'!E:E,\"BANCA SFAVORITA\",'Daily Diary'!E:E,\"BANCA SFAVORITA\",'Daily Diary'!K:K,\"WIN\")","v":0},{"$f":"COUNTIFS('Daily Diary'!A:A,'Grafico Strategie Settimanali'!B267,'Daily Diary'!E:E,\"PUNTA OVER\",'Daily Diary'!E:E,\"PUNTA OVER\",'Daily Diary'!K:K,\"WIN\")","v":0},{"$f":"COUNTIFS('Daily Diary'!A:A,'Grafico Strategie Settimanali'!B267,'Daily Diary'!E:E,\"PUNTA UNDER\",'Daily Diary'!E:E,\"PUNTA UNDER\",'Daily Diary'!K:K,\"WIN\")","v":0},{"$f":"COUNTIFS('Daily Diary'!A:A,'Grafico Strategie Settimanali'!B267,'Daily Diary'!E:E,\"SCALPING\",'Daily Diary'!E:E,\"SCALPING\",'Daily Diary'!K:K,\"WIN\")","v":0},{"$f":"COUNTIFS('Daily Diary'!A:A,'Grafico Strategie Settimanali'!B267,'Daily Diary'!E:E,\"GT 90\",'Daily Diary'!E:E,\"GT 90\",'Daily Diary'!K:K,\"WIN\")","v":0},{"$f":"COUNTIFS('Daily Diary'!A:A,'Grafico Strategie Settimanali'!B267,'Daily Diary'!E:E,\"GT 110\",'Daily Diary'!E:E,\"GT 110\",'Daily Diary'!K:K,\"WIN\")","v":0},{"$f":"COUNTIFS('Daily Diary'!A:A,'Grafico Strategie Settimanali'!B267,'Daily Diary'!E:E,\"ALERT GOAL\",'Daily Diary'!E:E,\"ALERT GOAL\",'Daily Diary'!K:K,\"WIN\")","v":0},{"$f":"COUNTIFS('Daily Diary'!A:A,'Grafico Strategie Settimanali'!B267,'Daily Diary'!E:E,\"DRAW NO BET\",'Daily Diary'!E:E,\"DRAW NO BET\",'Daily Diary'!K:K,\"WIN\")","v":0},{"$f":"COUNTIFS('Daily Diary'!A:A,'Grafico Strategie Settimanali'!B267,'Daily Diary'!E:E,\"ALTRO\",'Daily Diary'!E:E,\"ALTRO\",'Daily Diary'!K:K,\"WIN\")","v":0},{"$error":"#DIV/0!"},{"$error":"#DIV/0!"},{"$error":"#DIV/0!"},{"$error":"#DIV/0!"},{"$error":"#DIV/0!"},{"$error":"#DIV/0!"},{"$error":"#DIV/0!"},{"$error":"#DIV/0!"},{"$error":"#DIV/0!"},{"$error":"#DIV/0!"},{"$error":"#DIV/0!"},{"$error":"#DIV/0!"}]
[0,"2024-01-25",{"$f":"COUNTIFS('Daily Diary'!A:A,'Grafico Strategie Settimanali'!B268,'Daily Diary'!E:E,\"BANCA PAREGGIO\")","v":0},{"$f":"COUNTIFS('Daily Diary'!A:A,'Grafico Strategie Settimanali'!B268,'Daily Diary'!E:E,\"PUNTA SQ.CASA\")","v":0},{"$f":"COUNTIFS('Daily Diary'!A:A,'Grafico Strategie Settimanali'!B268,'Daily Diary'!E:E,\"PUNTA SQ.OSPITE\")","v":0},{"$f":"COUNTIFS('Daily Diary'!A:A,'Grafico Strategie Settimanali'!B268,'Daily Diary'!E:E,\"BANCA SFAVORITA\")","v":0},{"$f":"COUNTIFS('Daily Diary'!A:A,'Grafico Strategie Settimanali'!B268,'Daily Diary'!E:E,\"PUNTA OVER\")","v":0},{"$f":"COUNTIFS('Daily Diary'!A:A,'Grafico Strategie Settimanali'!B268,'Daily Diary'!E:E,\"PUNTA UNDER\")","v":0},{"$f":"COUNTIFS('Daily Diary'!A:A,'Grafico Strategie Settimanali'!B268,'Daily Diary'!E:E,\"SCALPING\")","v":0},{"$f":"COUNTIFS('Daily Diary'!A:A,'Grafico Strategie Settimanali'!B268,'Daily Diary'!E:E,\"GT90\")","v":0},{"$f":"COUNTIFS('Daily Diary'!A:A,'Grafico Strategie Settimanali'!B268,'Daily Diary'!E:E,\"GT110\")","v":0},{"$f":"COUNTIFS('Daily Diary'!A:A,'Grafico Strategie Settimanali'!B268,'Daily Diary'!E:E,\"ALERT GOAL\")","v":0},{"$f":"COUNTIFS('Daily Diary'!A:A,'Grafico Strategie Settimanali'!B268,'Daily Diary'!E:E,\"DRAW NO BET\")","v":0},{"$f":"COUNTIFS('Daily Diary'!A:A,'Grafico Strategie Settimanali'!B268,'Daily Diary'!E:E,\"ALTRO\")","v":0},{"$f":"COUNTIFS('Daily Diary'!A:A,'Grafico Strategie Settimanali'!B268,'Daily Diary'!E:E,\"BANCA PAREGGIO\",'Daily Diary'!E:E,\"BANCA PAREGGIO\",'Daily Diary'!K:K,\"WIN\")","v":0},{"$f":"COUNTIFS('Daily Diary'!A:A,'Grafico Strategie Settimanali'!B268,'Daily Diary'!E:E,\"PUNTA SQ.CASA\",'Daily Diary'!E:E,\"PUNTA SQ.CASA\",'Daily Diary'!K:K,\"WIN\")","v":0},{"$f":"COUNTIFS('Daily Diary'!A:A,'Grafico Strategie Settimanali'!B268,'Daily Diary'!E:E,\"PUNTA SQ.OSPITE\",'Daily Diary'!E:E,\"PUNTA SQ.OSPITE\",'Daily Diary'!K:K,\"WIN\")","v":0},{"$f":"COUNTIFS('Daily Diary'!A:A,'Grafico Strategie Settimanali'!B268,'Daily Diary'!E:E,\"BANCA SFAVORITA\",'Daily Diary'!E:E,\"BANCA SFAVORITA\",'Daily Diary'!K:K,\"WIN\")","v":0},{"$f":"COUNTIFS('Daily Diary'!A:A,'Grafico Strategie Settimanali'!B268,'Daily Diary'!E:E,\"PUNTA OVER\",'Daily Diary'!E:E,\"PUNTA OVER\",'Daily Diary'!K:K,\"WIN\")","v":0},{"$f":"COUNTIFS('Daily Diary'!A:A,'Grafico Strategie Settimanali'!B268,'Daily Diary'!E:E,\"PUNTA UNDER\",'Daily Diary'!E:E,\"PUNTA UNDER\",'Daily Diary'!K:K,\"WIN\")","v":0},{"$f":"COUNTIFS('Daily Diary'!A:A,'Grafico Strategie Settimanali'!B268,'Daily Diary'!E:E,\"SCALPING\",'Daily Diary'!E:E,\"SCALPING\",'Daily Diary'!K:K,\"WIN\")","v":0},{"$f":"COUNTIFS('Daily Diary'!A:A,'Grafico Strategie Settimanali'!B268,'Daily Diary'!E:E,\"GT 90\",'Daily Diary'!E:E,\"GT 90\",'Daily Diary'!K:K,\"WIN\")","v":0},{"$f":"COUNTIFS('Daily Diary'!A:A,'Grafico Strategie Settimanali'!B268,'Daily Diary'!E:E,\"GT 110\",'Daily Diary'!E:E,\"GT 110\",'Daily Diary'!K:K,\"WIN\")","v":0},{"$f":"COUNTIFS('Daily Diary'!A:A,'Grafico Strategie Settimanali'!B268,'Daily Diary'!E:E,\"ALERT GOAL\",'Daily Diary'!E:E,\"ALERT GOAL\",'Daily Diary'!K:K,\"WIN\")","v":0},{"$f":"COUNTIFS('Daily Diary'!A:A,'Grafico Strategie Settimanali'!B268,'Daily Diary'!E:E,\"DRAW NO BET\",'Daily Diary'!E:E,\"DRAW NO BET\",'Daily Diary'!K:K,\"WIN\")","v":0},{"$f":"COUNTIFS('Daily Diary'!A:A,'Grafico Strategie Settimanali'!B268,'Daily Diary'!E:E,\"ALTRO\",'Daily Diary'!E:E,\"ALTRO\",'Daily Diary'!K:K,\"WIN\")","v":0},{"$error":"#DIV/0!"},{"$error":"#DIV/0!"},{"$error":"#DIV/0!"},{"$error":"#DIV/0!"},{"$error":"#DIV/0!"},{"$error":"#DIV/0!"},{"$error":"#DIV/0!"},{"$error":"#DIV/0!"},{"$error":"#DIV/0!"},{"$error":"#DIV/0!"},{"$error":"#DIV/0!"},{"$error":"#DIV/0!"}]
[0,"2024-01-26",{"$f":"COUNTIFS('Daily Diary'!A:A,'Grafico Strategie Settimanali'!B269,'Daily Diary'!E:E,\"BANCA PAREGGIO\")","v":0},{"$f":"COUNTIFS('Daily Diary'!A:A,'Grafico Strategie Settimanali'!B269,'Daily Diary'!E:E,\"PUNTA SQ.CASA\")","v":0},{"$f":"COUNTIFS('Daily Diary'!A:A,'Grafico Strategie Settimanali'!B269,'Daily Diary'!E:E,\"PUNTA SQ.OSPITE\")","v":0},{"$f":"COUNTIFS('Daily Diary'!A:A,'Grafico Strategie Settimanali'!B269,'Daily Diary'!E:E,\"BANCA SFAVORITA\")","v":0},{"$f":"COUNTIFS('Daily Diary'!A:A,'Grafico Strategie Settimanali'!B269,'Daily Diary'!E:E,\"PUNTA OVER\")","v":0},{"$f":"COUNTIFS('Daily Diary'!A:A,'Grafico Strategie Settimanali'!B269,'Daily Diary'!E:E,\"PUNTA UNDER\")","v":0},{"$f":"COUNTIFS('Daily Diary'!A:A,'Grafico Strategie Settimanali'!B269,'Daily Diary'!E:E,\"SCALPING\")","v":0},{"$f":"COUNTIFS('Daily Diary'!A:A,'Grafico Strategie Settimanali'!B269,'Daily Diary'!E:E,\"GT90\")","v":0},{"$f":"COUNTIFS('Daily Diary'!A:A,'Grafico Strategie Settimanali'!B269,'Daily Diary'!E:E,\"GT110\")","v":0},{"$f":"COUNTIFS('Daily Diary'!A:A,'Grafico Strategie Settimanali'!B269,'Daily Diary'!E:E,\"ALERT GOAL\")","v":0},{"$f":"COUNTIFS('Daily Diary'!A:A,'Grafico Strategie Settimanali'!B269,'Daily Diary'!E:E,\"DRAW NO BET\")","v":0},{"$f":"COUNTIFS('Daily Diary'!A:A,'Grafico Strategie Settimanali'!B269,'Daily Diary'!E:E,\"ALTRO\")","v":0},{"$f":"COUNTIFS('Daily Diary'!A:A,'Grafico Strategie Settimanali'!B269,'Daily Diary'!E:E,\"BANCA PAREGGIO\",'Daily Diary'!E:E,\"BANCA PAREGGIO\",'Daily Diary'!K:K,\"WIN\")","v":0},{"$f":"COUNTIFS('Daily Diary'!A:A,'Grafico Strategie Settimanali'!B269,'Daily Diary'!E:E,\"PUNTA SQ.CASA\",'Daily Diary'!E:E,\"PUNTA SQ.CASA\",'Daily Diary'!K:K,\"WIN\")","v":0},{"$f":"COUNTIFS('Daily Diary'!A:A,'Grafico Strategie Settimanali'!B269,'Daily Diary'!E:E,\"PUNTA SQ.OSPITE\",'Daily Diary'!E:E,\"PUNTA SQ.OSPITE\",'Daily Diary'!K:K,\"WIN\")","v":0},{"$f":"COUNTIFS('Daily Diary'!A:A,'Grafico Strategie Settimanali'!B269,'Daily Diary'!E:E,\"BANCA SFAVORITA\",'Daily Diary'!E:E,\"BANCA SFAVORITA\",'Daily Diary'!K:K,\"WIN\")","v":0},{"$f":"COUNTIFS('Daily Diary'!A:A,'Grafico Strategie Settimanali'!B269,'Daily Diary'!E:E,\"PUNTA OVER\",'Daily Diary'!E:E,\"PUNTA OVER\",'Daily Diary'!K:K,\"WIN\")","v":0},{"$f":"COUNTIFS('Daily Diary'!A:A,'Grafico Strategie Settimanali'!B269,'Daily Diary'!E:E,\"PUNTA UNDER\",'Daily Diary'!E:E,\"PUNTA UNDER\",'Daily Diary'!K:K,\"WIN\")","v":0},{"$f":"COUNTIFS('Daily Diary'!A:A,'Grafico Strategie Settimanali'!B269,'Daily Diary'!E:E,\"SCALPING\",'Daily Diary'!E:E,\"SCALPING\",'Daily Diary'!K:K,\"WIN\")","v":0},{"$f":"COUNTIFS('Daily Diary'!A:A,'Grafico Strategie Settimanali'!B269,'Daily Diary'!E:E,\"GT 90\",'Daily Diary'!E:E,\"GT 90\",'Daily Diary'!K:K,\"WIN\")","v":0},{"$f":"COUNTIFS('Daily Diary'!A:A,'Grafico Strategie Settimanali'!B269,'Daily Diary'!E:E,\"GT 110\",'Daily Diary'!E:E,\"GT 110\",'Daily Diary'!K:K,\"WIN\")","v":0},{"$f":"COUNTIFS('Daily Diary'!A:A,'Grafico Strategie Settimanali'!B269,'Daily Diary'!E:E,\"ALERT GOAL\",'Daily Diary'!E:E,\"ALERT GOAL\",'Daily Diary'!K:K,\"WIN\")","v":0},{"$f":"COUNTIFS('Daily Diary'!A:A,'Grafico Strategie Settimanali'!B269,'Daily Diary'!E:E,\"DRAW NO BET\",'Daily Diary'!E:E,\"DRAW NO BET\",'Daily Diary'!K:K,\"WIN\")","v":0},{"$f":"COUNTIFS('Daily Diary'!A:A,'Grafico Strategie Settimanali'!B269,'Daily Diary'!E:E,\"ALTRO\",'Daily Diary'!E:E,\"ALTRO\",'Daily Diary'!K:K,\"WIN\")","v":0},{"$error":"#DIV/0!"},{"$error":"#DIV/0!"},{"$error":"#DIV/0!"},{"$error":"#DIV/0!"},{"$f":"S269/G269","v":{"$error":"#DIV/0!"}},{"$error":"#DIV/0!"},{"$error":"#DIV/0!"},{"$error":"#DIV/0!"},{"$error":"#DIV/0!"},{"$error":"#DIV/0!"},{"$error":"#DIV/0!"},{"$error":"#DIV/0!"}]
[0,"2024-01-27",{"$f":"COUNTIFS('Daily Diary'!A:A,'Grafico Strategie Settimanali'!B270,'Daily Diary'!E:E,\"BANCA PAREGGIO\")","v":0},{"$f":"COUNTIFS('Daily Diary'!A:A,'Grafico Strategie Settimanali'!B270,'Daily Diary'!E:E,\"PUNTA SQ.CASA\")","v":0},{"$f":"COUNTIFS('Daily Diary'!A:A,'Grafico Strategie Settimanali'!B270,'Daily Diary'!E:E,\"PUNTA SQ.OSPITE\")","v":0},{"$f":"COUNTIFS('Daily Diary'!A:A,'Grafico Strategie Settimanali'!B270,'Daily Diary'!E:E,\"BANCA SFAVORITA\")","v":0},{"$f":"COUNTIFS('Daily Diary'!A:A,'Grafico Strategie Settimanali'!B270,'Daily Diary'!E:E,\"PUNTA OVER\")","v":0},{"$f":"COUNTIFS('Daily Diary'!A:A,'Grafico Strategie Settimanali'!B270,'Daily Diary'!E:E,\"PUNTA UNDER\")","v":0},{"$f":"COUNTIFS('Daily Diary'!A:A,'Grafico Strategie Settimanali'!B270,'Daily Diary'!E:E,\"SCALPING\")","v":0},{"$f":"COUNTIFS('Daily Diary'!A:A,'Grafico Strategie Settimanali'!B270,'Daily Diary'!E:E,\"GT90\")","v":0},{"$f":"COUNTIFS('Daily Diary'!A:A,'Grafico Strategie Settimanali'!B270,'Daily Diary'!E:E,\"GT110\")","v":0},{"$f":"COUNTIFS('Daily Diary'!A:A,'Grafico Strategie Settimanali'!B270,'Daily Diary'!E:E,\"ALERT GOAL\")","v":0},{"$f":"COUNTIFS('Daily Diary'!A:A,'Grafico Strategie Settimanali'!B270,'Daily Diary'!E:E,\"DRAW NO BET\")","v":0},{"$f":"COUNTIFS('Daily Diary'!A:A,'Grafico Strategie Settimanali'!B270,'Daily Diary'!E:E,\"ALTRO\")","v":0},{"$f":"COUNTIFS('Daily Diary'!A:A,'Grafico Strategie Settimanali'!B270,'Daily Diary'!E:E,\"BANCA PAREGGIO\",'Daily Diary'!E:E,\"BANCA PAREGGIO\",'Daily Diary'!K:K,\"WIN\")","v":0},{"$f":"COUNTIFS('Daily Diary'!A:A,'Grafico Strategie Settimanali'!B270,'Daily Diary'!E:E,\"PUNTA SQ.CASA\",'Daily Diary'!E:E,\"PUNTA SQ.CASA\",'Daily Diary'!K:K,\"WIN\")","v":0},{"$f":"COUNTIFS('Daily Diary'!A:A,'Grafico Strategie Settimanali'!B270,'Daily Diary'!E:E,\"PUNTA SQ.OSPITE\",'Daily Diary'!E:E,\"PUNTA SQ.OSPITE\",'Daily Diary'!K:K,\"WIN\")","v":0},{"$f":"COUNTIFS('Daily Diary'!A:A,'Grafico Strategie Settimanali'!B270,'Daily Diary'!E:E,\"BANCA SFAVORITA\",'Daily Diary'!E:E,\"BANCA SFAVORITA\",'Daily Diary'!K:K,\"WIN\")","v":0},{"$f":"COUNTIFS('Daily Diary'!A:A,'Grafico Strategie Settimanali'!B270,'Daily Diary'!E:E,\"PUNTA OVER\",'Daily Diary'!E:E,\"PUNTA OVER\",'Daily Diary'!K:K,\"WIN\")","v":0},{"$f":"COUNTIFS('Daily Diary'!A:A,'Grafico Strategie Settimanali'!B270,'Daily Diary'!E:E,\"PUNTA UNDER\",'Daily Diary'!E:E,\"PUNTA UNDER\",'Daily Diary'!K:K,\"WIN\")","v":0},{"$f":"COUNTIFS('Daily Diary'!A:A,'Grafico Strategie Settimanali'!B270,'Daily Diary'!E:E,\"SCALPING\",'Daily Diary'!E:E,\"SCALPING\",'Daily Diary'!K:K,\"WIN\")","v":0},{"$f":"COUNTIFS('Daily Diary'!A:A,'Grafico Strategie Settimanali'!B270,'Daily Diary'!E:E,\"GT 90\",'Daily Diary'!E:E,\"GT 90\",'Daily Diary'!K:K,\"WIN\")","v":0},{"$f":"COUNTIFS('Daily Diary'!A:A,'Grafico Strategie Settimanali'!B270,'Daily Diary'!E:E,\"GT 110\",'Daily Diary'!E:E,\"GT 110\",'Daily Diary'!K:K,\"WIN\")","v":0},{"$f":"COUNTIFS('Daily Diary'!A:A,'Grafico Strategie Settimanali'!B270,'Daily Diary'!E:E,\"ALERT GOAL\",'Daily Diary'!E:E,\"ALERT GOAL\",'Daily Diary'!K:K,\"WIN\")","v":0},{"$f":"COUNTIFS('Daily Diary'!A:A,'Grafico Strategie Settimanali'!B270,'Daily Diary'!E:E,\"DRAW NO BET\",'Daily Diary'!E:E,\"DRAW NO BET\",'Daily Diary'!K:K,\"WIN\")","v":0},{"$f":"COUNTIFS('Daily Diary'!A:A,'Grafico Strategie Settimanali'!B270,'Daily Diary'!E:E,\"ALTRO\",'Daily Diary'!E:E,\"ALTRO\",'Daily Diary'!K:K,\"WIN\")","v":0},{"$f":"O270/C270","v":{"$error":"#DIV/0!"}},{"$f":"P270/D270","v":{"$error":"#DIV/0!"}},{"$error":"#DIV/0!"},{"$error":"#DIV/0!"},{"$error":"#DIV/0!"},{"$error":"#DIV/0!"},{"$error":"#DIV/0!"},{"$error":"#DIV/0!"},{"$error":"#DIV/0!"},{"$f":"X270/L270","v":{"$error":"#DIV/0!"}},{"$error":"#DIV/0!"},{"$error":"#DIV/0!"}]
[{"$f":"SUM(C271:N271)","v":0},{"$f":"B270+1","v":"2024-01-28"},{"$f":"COUNTIFS('Daily Diary'!A:A,'Grafico Strategie Settimanali'!B271,'Daily Diary'!E:E,\"BANCA PAREGGIO\")","v":0},{"$f":"COUNTIFS('Daily Diary'!A:A,'Grafico Strategie Settimanali'!B271,'Daily Diary'!E:E,\"PUNTA SQ.CASA\")","v":0},{"$f":"COUNTIFS('Daily Diary'!A:A,'Grafico Strategie Settimanali'!B271,'Daily Diary'!E:E,\"PUNTA SQ.OSPITE\")","v":0},{"$f":"COUNTIFS('Daily Diary'!A:A,'Grafico Strategie Settimanali'!B271,'Daily Diary'!E:E,\"BANCA SFAVORITA\")","v":0},{"$f":"COUNTIFS('Daily Diary'!A:A,'Grafico Strategie Settimanali'!B271,'Daily Diary'!E:E,\"PUNTA OVER\")","v":0},{"$f":"COUNTIFS('Daily Diary'!A:A,'Grafico Strategie Settimanali'!B271,'Daily Diary'!E:E,\"PUNTA UNDER\")","v":0},{"$f":"COUNTIFS('Daily Diary'!A:A,'Grafico Strategie Settimanali'!B271,'Daily Diary'!E:E,\"SCALPING\")","v":0},{"$f":"COUNTIFS('Daily Diary'!A:A,'Grafico Strategie Settimanali'!B271,'Daily Diary'!E:E,\"GT90\")","v":0},{"$f":"COUNTIFS('Daily Diary'!A:A,'Grafico Strategie Settimanali'!B271,'Daily Diary'!E:E,\"GT110\")","v":0},{"$f":"COUNTIFS('Daily Diary'!A:A,'Grafico Strategie Settimanali'!B271,'Daily Diary'!E:E,\"ALERT GOAL\")","v":0},{"$f":"COUNTIFS('Daily Diary'!A:A,'Grafico Strategie Settimanali'!B271,'Daily Diary'!E:E,\"DRAW NO BET\")","v":0},{"$f":"COUNTIFS('Daily Diary'!A:A,'Grafico Strategie Settimanali'!B271,'Daily Diary'!E:E,\"ALTRO\")","v":0},{"$f":"COUNTIFS('Daily Diary'!A:A,'Grafico Strategie Settimanali'!B271,'Daily Diary'!E:E,\"BANCA PAREGGIO\",'Daily Diary'!E:E,\"BANCA PAREGGIO\",'Daily Diary'!K:K,\"WIN\")","v":0},{"$f":"COUNTIFS('Daily Diary'!A:A,'Grafico Strategie Settimanali'!B271,'Daily Diary'!E:E,\"PUNTA SQ.CASA\",'Daily Diary'!E:E,\"PUNTA SQ.CASA\",'Daily Diary'!K:K,\"WIN\")","v":0},{"$f":"COUNTIFS('Daily Diary'!A:A,'Grafico Strategie Settimanali'!B271,'Daily Diary'!E:E,\"PUNTA SQ.OSPITE\",'Daily Diary'!E:E,\"PUNTA SQ.OSPITE\",'Daily Diary'!K:K,\"WIN\")","v":0},{"$f":"COUNTIFS('Daily Diary'!A:A,'Grafico Strategie Settimanali'!B271,'Daily Diary'!E:E,\"BANCA SFAVORITA\",'Daily Diary'!E:E,\"BANCA SFAVORITA\",'Daily Diary'!K:K,\"WIN\")","v":0},{"$f":"COUNTIFS('Daily Diary'!A:A,'Grafico Strategie Settimanali'!B271,'Daily Diary'!E:E,\"PUNTA OVER\",'Daily Diary'!E:E,\"PUNTA OVER\",'Daily Diary'!K:K,\"WIN\")","v":0},{"$f":"COUNTIFS('Daily Diary'!A:A,'Grafico Strategie Settimanali'!B271,'Daily Diary'!E:E,\"PUNTA UNDER\",'Daily Diary'!E:E,\"PUNTA UNDER\",'Daily Diary'!K:K,\"WIN\")","v":0},{"$f":"COUNTIFS('Daily Diary'!A:A,'Grafico Strategie Settimanali'!B271,'Daily Diary'!E:E,\"SCALPING\",'Daily Diary'!E:E,\"SCALPING\",'Daily Diary'!K:K,\"WIN\")","v":0},{"$f":"COUNTIFS('Daily Diary'!A:A,'Grafico Strategie Settimanali'!B271,'Daily Diary'!E:E,\"GT 90\",'Daily Diary'!E:E,\"GT 90\",'Daily Diary'!K:K,\"WIN\")","v":0},{"$f":"COUNTIFS('Daily Diary'!A:A,'Grafico Strategie Settimanali'!B271,'Daily Diary'!E:E,\"GT 110\",'Daily Diary'!E:E,\"GT 110\",'Daily Diary'!K:K,\"WIN\")","v":0},{"$f":"COUNTIFS('Daily Diary'!A:A,'Grafico Strategie Settimanali'!B271,'Daily Diary'!E:E,\"ALERT GOAL\",'Daily Diary'!E:E,\"ALERT GOAL\",'Daily Diary'!K:K,\"WIN\")","v":0},{"$f":"COUNTIFS('Daily Diary'!A:A,'Grafico Strategie Settimanali'!B271,'Daily Diary'!E:E,\"DRAW NO BET\",'Daily Diary'!E:E,\"DRAW NO BET\",'Daily Diary'!K:K,\"WIN\")","v":0},{"$f":"COUNTIFS('Daily Diary'!A:A,'Grafico Strategie Settimanali'!B271,'Daily Diary'!E:E,\"ALTRO\",'Daily Diary'!E:E,\"ALTRO\",'Daily Diary'!K:K,\"WIN\")","v":0},{"$error":"#DIV/0!"},{"$error":"#DIV/0!"},{"$error":"#DIV/0!"},{"$error":"#DIV/0!"},{"$error":"#DIV/0!"},{"$error":"#DIV/0!"},{"$error":"#DIV/0!"},{"$error":"#DIV/0!"},{"$error":"#DIV/0!"},{"$error":"#DIV/0!"},{"$error":"#DIV/0!"},{"$error":"#DIV/0!"}]
[0,"2024-01-29",{"$f":"COUNTIFS('Daily Diary'!A:A,'Grafico Strategie Settimanali'!B272,'Daily Diary'!E:E,\"BANCA PAREGGIO\")","v":0},{"$f":"COUNTIFS('Daily Diary'!A:A,'Grafico Strategie Settimanali'!B272,'Daily Diary'!E:E,\"PUNTA SQ.CASA\")","v":0},{"$f":"COUNTIFS('Daily Diary'!A:A,'Grafico Strategie Settimanali'!B272,'Daily Diary'!E:E,\"PUNTA SQ.OSPITE\")","v":0},{"$f":"COUNTIFS('Daily Diary'!A:A,'Grafico Strategie Settimanali'!B272,'Daily Diary'!E:E,\"BANCA SFAVORITA\")","v":0},{"$f":"COUNTIFS('Daily Diary'!A:A,'Grafico Strategie Settimanali'!B272,'Daily Diary'!E:E,\"PUNTA OVER\")","v":0},{"$f":"COUNTIFS('Daily Diary'!A:A,'Grafico Strategie Settimanali'!B272,'Daily Diary'!E:E,\"PUNTA UNDER\")","v":0},{"$f":"COUNTIFS('Daily Diary'!A:A,'Grafico Strategie Settimanali'!B272,'Daily Diary'!E:E,\"SCALPING\")","v":0},{"$f":"COUNTIFS('Daily Diary'!A:A,'Grafico Strategie Settimanali'!B272,'Daily Diary'!E:E,\"GT90\")","v":0},{"$f":"COUNTIFS('Daily Diary'!A:A,'Grafico Strategie Settimanali'!B272,'Daily Diary'!E:E,\"GT110\")","v":0},{"$f":"COUNTIFS('Daily Diary'!A:A,'Grafico Strategie Settimanali'!B272,'Daily Diary'!E:E,\"ALERT GOAL\")","v":0},{"$f":"COUNTIFS('Daily Diary'!A:A,'Grafico Strategie Settimanali'!B272,'Daily Diary'!E:E,\"DRAW NO BET\")","v":0},{"$f":"COUNTIFS('Daily Diary'!A:A,'Grafico Strategie Settimanali'!B272,'Daily Diary'!E:E,\"ALTRO\")","v":0},{"$f":"COUNTIFS('Daily Diary'!A:A,'Grafico Strategie Settimanali'!B272,'Daily Diary'!E:E,\"BANCA PAREGGIO\",'Daily Diary'!E:E,\"BANCA PAREGGIO\",'Daily Diary'!K:K,\"WIN\")","v":0},{"$f":"COUNTIFS('Daily Diary'!A:A,'Grafico Strategie Settimanali'!B272,'Daily Diary'!E:E,\"PUNTA SQ.CASA\",'Daily Diary'!E:E,\"PUNTA SQ.CASA\",'Daily Diary'!K:K,\"WIN\")","v":0},{"$f":"COUNTIFS('Daily Diary'!A:A,'Grafico Strategie Settimanali'!B272,'Daily Diary'!E:E,\"PUNTA SQ.OSPITE\",'Daily Diary'!E:E,\"PUNTA SQ.OSPITE\",'Daily Diary'!K:K,\"WIN\")","v":0},{"$f":"COUNTIFS('Daily Diary'!A:A,'Grafico Strategie Settimanali'!B272,'Daily Diary'!E:E,\"BANCA SFAVORITA\",'Daily Diary'!E:E,\"BANCA SFAVORITA\",'Daily Diary'!K:K,\"WIN\")","v":0},{"$f":"COUNTIFS('Daily Diary'!A:A,'Grafico Strategie Settimanali'!B272,'Daily Diary'!E:E,\"PUNTA OVER\",'Daily Diary'!E:E,\"PUNTA OVER\",'Daily Diary'!K:K,\"WIN\")","v":0},{"$f":"COUNTIFS('Daily Diary'!A:A,'Grafico Strategie Settimanali'!B272,'Daily Diary'!E:E,\"PUNTA UNDER\",'Daily Diary'!E:E,\"PUNTA UNDER\",'Daily Diary'!K:K,\"WIN\")","v":0},{"$f":"COUNTIFS('Daily Diary'!A:A,'Grafico Strategie Settimanali'!B272,'Daily Diary'!E:E,\"SCALPING\",'Daily Diary'!E:E,\"SCALPING\",'Daily Diary'!K:K,\"WIN\")","v":0},{"$f":"COUNTIFS('Daily Diary'!A:A,'Grafico Strategie Settimanali'!B272,'Daily Diary'!E:E,\"GT 90\",'Daily Diary'!E:E,\"GT 90\",'Daily Diary'!K:K,\"WIN\")","v":0},{"$f":"COUNTIFS('Daily Diary'!A:A,'Grafico Strategie Settimanali'!B272,'Daily Diary'!E:E,\"GT 110\",'Daily Diary'!E:E,\"GT 110\",'Daily Diary'!K:K,\"WIN\")","v":0},{"$f":"COUNTIFS('Daily Diary'!A:A,'Grafico Strategie Settimanali'!B272,'Daily Diary'!E:E,\"ALERT GOAL\",'Daily Diary'!E:E,\"ALERT GOAL\",'Daily Diary'!K:K,\"WIN\")","v":0},{"$f":"COUNTIFS('Daily Diary'!A:A,'Grafico Strategie Settimanali'!B272,'Daily Diary'!E:E,\"DRAW NO BET\",'Daily Diary'!E:E,\"DRAW NO BET\",'Daily Diary'!K:K,\"WIN\")","v":0},{"$f":"COUNTIFS('Daily Diary'!A:A,'Grafico Strategie Settimanali'!B272,'Daily Diary'!E:E,\"ALTRO\",'Daily Diary'!E:E,\"ALTRO\",'Daily Diary'!K:K,\"WIN\")","v":0},{"$error":"#DIV/0!"},{"$error":"#DIV/0!"},{"$error":"#DIV/0!"},{"$error":"#DIV/0!"},{"$error":"#DIV/0!"},{"$error":"#DIV/0!"},{"$error":"#DIV/0!"},{"$error":"#DIV/0!"},{"$f":"W272/K272","v":{"$error":"#DIV/0!"}},{"$error":"#DIV/0!"},{"$error":"#DIV/0!"},{"$error":"#DIV/0!"}]
[0,"2024-01-30",{"$f":"COUNTIFS('Daily Diary'!A:A,'Grafico Strategie Settimanali'!B273,'Daily Diary'!E:E,\"BANCA PAREGGIO\")","v":0},{"$f":"COUNTIFS('Daily Diary'!A:A,'Grafico Strategie Settimanali'!B273,'Daily Diary'!E:E,\"PUNTA SQ.CASA\")","v":0},{"$f":"COUNTIFS('Daily Diary'!A:A,'Grafico Strategie Settimanali'!B273,'Daily Diary'!E:E,\"PUNTA SQ.OSPITE\")","v":0},{"$f":"COUNTIFS('Daily Diary'!A:A,'Grafico Strategie Settimanali'!B273,'Daily Diary'!E:E,\"BANCA SFAVORITA\")","v":0},{"$f":"COUNTIFS('Daily Diary'!A:A,'Grafico Strategie Settimanali'!B273,'Daily Diary'!E:E,\"PUNTA OVER\")","v":0},{"$f":"COUNTIFS('Daily Diary'!A:A,'Grafico Strategie Settimanali'!B273,'Daily Diary'!E:E,\"PUNTA UNDER\")","v":0},{"$f":"COUNTIFS('Daily Diary'!A:A,'Grafico Strategie Settimanali'!B273,'Daily Diary'!E:E,\"SCALPING\")","v":0},{"$f":"COUNTIFS('Daily Diary'!A:A,'Grafico Strategie Settimanali'!B273,'Daily Diary'!E:E,\"GT90\")","v":0},{"$f":"COUNTIFS('Daily Diary'!A:A,'Grafico Strategie Settimanali'!B273,'Daily Diary'!E:E,\"GT110\")","v":0},{"$f":"COUNTIFS('Daily Diary'!A:A,'Grafico Strategie Settimanali'!B273,'Daily Diary'!E:E,\"ALERT GOAL\")","v":0},{"$f":"COUNTIFS('Daily Diary'!A:A,'Grafico Strategie Settimanali'!B273,'Daily Diary'!E:E,\"DRAW NO BET\")","v":0},{"$f":"COUNTIFS('Daily Diary'!A:A,'Grafico Strategie Settimanali'!B273,'Daily Diary'!E:E,\"ALTRO\")","v":0},{"$f":"COUNTIFS('Daily Diary'!A:A,'Grafico Strategie Settimanali'!B273,'Daily Diary'!E:E,\"BANCA PAREGGIO\",'Daily Diary'!E:E,\"BANCA PAREGGIO\",'Daily Diary'!K:K,\"WIN\")","v":0},{"$f":"COUNTIFS('Daily Diary'!A:A,'Grafico Strategie Settimanali'!B273,'Daily Diary'!E:E,\"PUNTA SQ.CASA\",'Daily Diary'!E:E,\"PUNTA SQ.CASA\",'Daily Diary'!K:K,\"WIN\")","v":0},{"$f":"COUNTIFS('Daily Diary'!A:A,'Grafico Strategie Settimanali'!B273,'Daily Diary'!E:E,\"PUNTA SQ.OSPITE\",'Daily Diary'!E:E,\"PUNTA SQ.OSPITE\",'Daily Diary'!K:K,\"WIN\")","v":0},{"$f":"COUNTIFS('Daily Diary'!A:A,'Grafico Strategie Settimanali'!B273,'Daily Diary'!E:E,\"BANCA SFAVORITA\",'Daily Diary'!E:E,\"BANCA SFAVORITA\",'Daily Diary'!K:K,\"WIN\")","v":0},{"$f":"COUNTIFS('Daily Diary'!A:A,'Grafico Strategie Settimanali'!B273,'Daily Diary'!E:E,\"PUNTA OVER\",'Daily Diary'!E:E,\"PUNTA OVER\",'Daily Diary'!K:K,\"WIN\")","v":0},{"$f":"COUNTIFS('Daily Diary'!A:A,'Grafico Strategie Settimanali'!B273,'Daily Diary'!E:E,\"PUNTA UNDER\",'Daily Diary'!E:E,\"PUNTA UNDER\",'Daily Diary'!K:K,\"WIN\")","v":0},{"$f":"COUNTIFS('Daily Diary'!A:A,'Grafico Strategie Settimanali'!B273,'Daily Diary'!E:E,\"SCALPING\",'Daily Diary'!E:E,\"SCALPING\",'Daily Diary'!K:K,\"WIN\")","v":0},{"$f":"COUNTIFS('Daily Diary'!A:A,'Grafico Strategie Settimanali'!B273,'Daily Diary'!E:E,\"GT 90\",'Daily Diary'!E:E,\"GT 90\",'Daily Diary'!K:K,\"WIN\")","v":0},{"$f":"COUNTIFS('Daily Diary'!A:A,'Grafico Strategie Settimanali'!B273,'Daily Diary'!E:E,\"GT 110\",'Daily Diary'!E:E,\"GT 110\",'Daily Diary'!K:K,\"WIN\")","v":0},{"$f":"COUNTIFS('Daily Diary'!A:A,'Grafico Strategie Settimanali'!B273,'Daily Diary'!E:E,\"ALERT GOAL\",'Daily Diary'!E:E,\"ALERT GOAL\",'Daily Diary'!K:K,\"WIN\")","v":0},{"$f":"COUNTIFS('Daily Diary'!A:A,'Grafico Strategie Settimanali'!B273,'Daily Diary'!E:E,\"DRAW NO BET\",'Daily Diary'!E:E,\"DRAW NO BET\",'Daily Diary'!K:K,\"WIN\")","v":0},{"$f":"COUNTIFS('Daily Diary'!A:A,'Grafico Strategie Settimanali'!B273,'Daily Diary'!E:E,\"ALTRO\",'Daily Diary'!E:E,\"ALTRO\",'Daily Diary'!K:K,\"WIN\")","v":0},{"$error":"#DIV/0!"},{"$error":"#DIV/0!"},{"$error":"#DIV/0!"},{"$error":"#DIV/0!"},{"$error":"#DIV/0!"},{"$error":"#DIV/0!"},{"$error":"#DIV/0!"},{"$error":"#DIV/0!"},{"$error":"#DIV/0!"},{"$error":"#DIV/0!"},{"$error":"#DIV/0!"},{"$error":"#DIV/0!"}]
[0,"2024-01-31",{"$f":"COUNTIFS('Daily Diary'!A:A,'Grafico Strategie Settimanali'!B274,'Daily Diary'!E:E,\"BANCA PAREGGIO\")","v":0},{"$f":"COUNTIFS('Daily Diary'!A:A,'Grafico Strategie Settimanali'!B274,'Daily Diary'!E:E,\"PUNTA SQ.CASA\")","v":0},{"$f":"COUNTIFS('Daily Diary'!A:A,'Grafico Strategie Settimanali'!B274,'Daily Diary'!E:E,\"PUNTA SQ.OSPITE\")","v":0},{"$f":"COUNTIFS('Daily Diary'!A:A,'Grafico Strategie Settimanali'!B274,'Daily Diary'!E:E,\"BANCA SFAVORITA\")","v":0},{"$f":"COUNTIFS('Daily Diary'!A:A,'Grafico Strategie Settimanali'!B274,'Daily Diary'!E:E,\"PUNTA OVER\")","v":0},{"$f":"COUNTIFS('Daily Diary'!A:A,'Grafico Strategie Settimanali'!B274,'Daily Diary'!E:E,\"PUNTA UNDER\")","v":0},{"$f":"COUNTIFS('Daily Diary'!A:A,'Grafico Strategie Settimanali'!B274,'Daily Diary'!E:E,\"SCALPING\")","v":0},{"$f":"COUNTIFS('Daily Diary'!A:A,'Grafico Strategie Settimanali'!B274,'Daily Diary'!E:E,\"GT90\")","v":0},{"$f":"COUNTIFS('Daily Diary'!A:A,'Grafico Strategie Settimanali'!B274,'Daily Diary'!E:E,\"GT110\")","v":0},{"$f":"COUNTIFS('Daily Diary'!A:A,'Grafico Strategie Settimanali'!B274,'Daily Diary'!E:E,\"ALERT GOAL\")","v":0},{"$f":"COUNTIFS('Daily Diary'!A:A,'Grafico Strategie Settimanali'!B274,'Daily Diary'!E:E,\"DRAW NO BET\")","v":0},{"$f":"COUNTIFS('Daily Diary'!A:A,'Grafico Strategie Settimanali'!B274,'Daily Diary'!E:E,\"ALTRO\")","v":0},{"$f":"COUNTIFS('Daily Diary'!A:A,'Grafico Strategie Settimanali'!B274,'Daily Diary'!E:E,\"BANCA PAREGGIO\",'Daily Diary'!E:E,\"BANCA PAREGGIO\",'Daily Diary'!K:K,\"WIN\")","v":0},{"$f":"COUNTIFS('Daily Diary'!A:A,'Grafico Strategie Settimanali'!B274,'Daily Diary'!E:E,\"PUNTA SQ.CASA\",'Daily Diary'!E:E,\"PUNTA SQ.CASA\",'Daily Diary'!K:K,\"WIN\")","v":0},{"$f":"COUNTIFS('Daily Diary'!A:A,'Grafico Strategie Settimanali'!B274,'Daily Diary'!E:E,\"PUNTA SQ.OSPITE\",'Daily Diary'!E:E,\"PUNTA SQ.OSPITE\",'Daily Diary'!K:K,\"WIN\")","v":0},{"$f":"COUNTIFS('Daily Diary'!A:A,'Grafico Strategie Settimanali'!B274,'Daily Diary'!E:E,\"BANCA SFAVORITA\",'Daily Diary'!E:E,\"BANCA SFAVORITA\",'Daily Diary'!K:K,\"WIN\")","v":0},{"$f":"COUNTIFS('Daily Diary'!A:A,'Grafico Strategie Settimanali'!B274,'Daily Diary'!E:E,\"PUNTA OVER\",'Daily Diary'!E:E,\"PUNTA OVER\",'Daily Diary'!K:K,\"WIN\")","v":0},{"$f":"COUNTIFS('Daily Diary'!A:A,'Grafico Strategie Settimanali'!B274,'Daily Diary'!E:E,\"PUNTA UNDER\",'Daily Diary'!E:E,\"PUNTA UNDER\",'Daily Diary'!K:K,\"WIN\")","v":0},{"$f":"COUNTIFS('Daily Diary'!A:A,'Grafico Strategie Settimanali'!B274,'Daily Diary'!E:E,\"SCALPING\",'Daily Diary'!E:E,\"SCALPING\",'Daily Diary'!K:K,\"WIN\")","v":0},{"$f":"COUNTIFS('Daily Diary'!A:A,'Grafico Strategie Settimanali'!B274,'Daily Diary'!E:E,\"GT 90\",'Daily Diary'!E:E,\"GT 90\",'Daily Diary'!K:K,\"WIN\")","v":0},{"$f":"COUNTIFS('Daily Diary'!A:A,'Grafico Strategie Settimanali'!B274,'Daily Diary'!E:E,\"GT 110\",'Daily Diary'!E:E,\"GT 110\",'Daily Diary'!K:K,\"WIN\")","v":0},{"$f":"COUNTIFS('Daily Diary'!A:A,'Grafico Strategie Settimanali'!B274,'Daily Diary'!E:E,\"ALERT GOAL\",'Daily Diary'!E:E,\"ALERT GOAL\",'Daily Diary'!K:K,\"WIN\")","v":0},{"$f":"COUNTIFS('Daily Diary'!A:A,'Grafico Strategie Settimanali'!B274,'Daily Diary'!E:E,\"DRAW NO BET\",'Daily Diary'!E:E,\"DRAW NO BET\",'Daily Diary'!K:K,\"WIN\")","v":0},{"$f":"COUNTIFS('Daily Diary'!A:A,'Grafico Strategie Settimanali'!B274,'Daily Diary'!E:E,\"ALTRO\",'Daily Diary'!E:E,\"ALTRO\",'Daily Diary'!K:K,\"WIN\")","v":0},{"$error":"#DIV/0!"},{"$error":"#DIV/0!"},{"$error":"#DIV/0!"},{"$error":"#DIV/0!"},{"$error":"#DIV/0!"},{"$error":"#DIV/0!"},{"$error":"#DIV/0!"},{"$error":"#DIV/0!"},{"$error":"#DIV/0!"},{"$error":"#DIV/0!"},{"$error":"#DIV/0!"},{"$error":"#DIV/0!"}]
[0,"2024-02-01",{"$f":"COUNTIFS('Daily Diary'!A:A,'Grafico Strategie Settimanali'!B275,'Daily Diary'!E:E,\"BANCA PAREGGIO\")","v":0},{"$f":"COUNTIFS('Daily Diary'!A:A,'Grafico Strategie Settimanali'!B275,'Daily Diary'!E:E,\"PUNTA SQ.CASA\")","v":0},{"$f":"COUNTIFS('Daily Diary'!A:A,'Grafico Strategie Settimanali'!B275,'Daily Diary'!E:E,\"PUNTA SQ.OSPITE\")","v":0},{"$f":"COUNTIFS('Daily Diary'!A:A,'Grafico Strategie Settimanali'!B275,'Daily Diary'!E:E,\"BANCA SFAVORITA\")","v":0},{"$f":"COUNTIFS('Daily Diary'!A:A,'Grafico Strategie Settimanali'!B275,'Daily Diary'!E:E,\"PUNTA OVER\")","v":0},{"$f":"COUNTIFS('Daily Diary'!A:A,'Grafico Strategie Settimanali'!B275,'Daily Diary'!E:E,\"PUNTA UNDER\")","v":0},{"$f":"COUNTIFS('Daily Diary'!A:A,'Grafico Strategie Settimanali'!B275,'Daily Diary'!E:E,\"SCALPING\")","v":0},{"$f":"COUNTIFS('Daily Diary'!A:A,'Grafico Strategie Settimanali'!B275,'Daily Diary'!E:E,\"GT90\")","v":0},{"$f":"COUNTIFS('Daily Diary'!A:A,'Grafico Strategie Settimanali'!B275,'Daily Diary'!E:E,\"GT110\")","v":0},{"$f":"COUNTIFS('Daily Diary'!A:A,'Grafico Strategie Settimanali'!B275,'Daily Diary'!E:E,\"ALERT GOAL\")","v":0},{"$f":"COUNTIFS('Daily Diary'!A:A,'Grafico Strategie Settimanali'!B275,'Daily Diary'!E:E,\"DRAW NO BET\")","v":0},{"$f":"COUNTIFS('Daily Diary'!A:A,'Grafico Strategie Settimanali'!B275,'Daily Diary'!E:E,\"ALTRO\")","v":0},{"$f":"COUNTIFS('Daily Diary'!A:A,'Grafico Strategie Settimanali'!B275,'Daily Diary'!E:E,\"BANCA PAREGGIO\",'Daily Diary'!E:E,\"BANCA PAREGGIO\",'Daily Diary'!K:K,\"WIN\")","v":0},{"$f":"COUNTIFS('Daily Diary'!A:A,'Grafico Strategie Settimanali'!B275,'Daily Diary'!E:E,\"PUNTA SQ.CASA\",'Daily Diary'!E:E,\"PUNTA SQ.CASA\",'Daily Diary'!K:K,\"WIN\")","v":0},{"$f":"COUNTIFS('Daily Diary'!A:A,'Grafico Strategie Settimanali'!B275,'Daily Diary'!E:E,\"PUNTA SQ.OSPITE\",'Daily Diary'!E:E,\"PUNTA SQ.OSPITE\",'Daily Diary'!K:K,\"WIN\")","v":0},{"$f":"COUNTIFS('Daily Diary'!A:A,'Grafico Strategie Settimanali'!B275,'Daily Diary'!E:E,\"BANCA SFAVORITA\",'Daily Diary'!E:E,\"BANCA SFAVORITA\",'Daily Diary'!K:K,\"WIN\")","v":0},{"$f":"COUNTIFS('Daily Diary'!A:A,'Grafico Strategie Settimanali'!B275,'Daily Diary'!E:E,\"PUNTA OVER\",'Daily Diary'!E:E,\"PUNTA OVER\",'Daily Diary'!K:K,\"WIN\")","v":0},{"$f":"COUNTIFS('Daily Diary'!A:A,'Grafico Strategie Settimanali'!B275,'Daily Diary'!E:E,\"PUNTA UNDER\",'Daily Diary'!E:E,\"PUNTA UNDER\",'Daily Diary'!K:K,\"WIN\")","v":0},{"$f":"COUNTIFS('Daily Diary'!A:A,'Grafico Strategie Settimanali'!B275,'Daily Diary'!E:E,\"SCALPING\",'Daily Diary'!E:E,\"SCALPING\",'Daily Diary'!K:K,\"WIN\")","v":0},{"$f":"COUNTIFS('Daily Diary'!A:A,'Grafico Strategie Settimanali'!B275,'Daily Diary'!E:E,\"GT 90\",'Daily Diary'!E:E,\"GT 90\",'Daily Diary'!K:K,\"WIN\")","v":0},{"$f":"COUNTIFS('Daily Diary'!A:A,'Grafico Strategie Settimanali'!B275,'Daily Diary'!E:E,\"GT 110\",'Daily Diary'!E:E,\"GT 110\",'Daily Diary'!K:K,\"WIN\")","v":0},{"$f":"COUNTIFS('Daily Diary'!A:A,'Grafico Strategie Settimanali'!B275,'Daily Diary'!E:E,\"ALERT GOAL\",'Daily Diary'!E:E,\"ALERT GOAL\",'Daily Diary'!K:K,\"WIN\")","v":0},{"$f":"COUNTIFS('Daily Diary'!A:A,'Grafico Strategie Settimanali'!B275,'Daily Diary'!E:E,\"DRAW NO BET\",'Daily Diary'!E:E,\"DRAW NO BET\",'Daily Diary'!K:K,\"WIN\")","v":0},{"$f":"COUNTIFS('Daily Diary'!A:A,'Grafico Strategie Settimanali'!B275,'Daily Diary'!E:E,\"ALTRO\",'Daily Diary'!E:E,\"ALTRO\",'Daily Diary'!K:K,\"WIN\")","v":0},{"$error":"#DIV/0!"},{"$error":"#DIV/0!"},{"$error":"#DIV/0!"},{"$error":"#DIV/0!"},{"$error":"#DIV/0!"},{"$error":"#DIV/0!"},{"$error":"#DIV/0!"},{"$error":"#DIV/0!"},{"$error":"#DIV/0!"},{"$error":"#DIV/0!"},{"$error":"#DIV/0!"},{"$error":"#DIV/0!"}]
[0,"2024-02-02",{"$f":"COUNTIFS('Daily Diary'!A:A,'Grafico Strategie Settimanali'!B276,'Daily Diary'!E:E,\"BANCA PAREGGIO\")","v":0},{"$f":"COUNTIFS('Daily Diary'!A:A,'Grafico Strategie Settimanali'!B276,'Daily Diary'!E:E,\"PUNTA SQ.CASA\")","v":0},{"$f":"COUNTIFS('Daily Diary'!A:A,'Grafico Strategie Settimanali'!B276,'Daily Diary'!E:E,\"PUNTA SQ.OSPITE\")","v":0},{"$f":"COUNTIFS('Daily Diary'!A:A,'Grafico Strategie Settimanali'!B276,'Daily Diary'!E:E,\"BANCA SFAVORITA\")","v":0},{"$f":"COUNTIFS('Daily Diary'!A:A,'Grafico Strategie Settimanali'!B276,'Daily Diary'!E:E,\"PUNTA OVER\")","v":0},{"$f":"COUNTIFS('Daily Diary'!A:A,'Grafico Strategie Settimanali'!B276,'Daily Diary'!E:E,\"PUNTA UNDER\")","v":0},{"$f":"COUNTIFS('Daily Diary'!A:A,'Grafico Strategie Settimanali'!B276,'Daily Diary'!E:E,\"SCALPING\")","v":0},{"$f":"COUNTIFS('Daily Diary'!A:A,'Grafico Strategie Settimanali'!B276,'Daily Diary'!E:E,\"GT90\")","v":0},{"$f":"COUNTIFS('Daily Diary'!A:A,'Grafico Strategie Settimanali'!B276,'Daily Diary'!E:E,\"GT110\")","v":0},{"$f":"COUNTIFS('Daily Diary'!A:A,'Grafico Strategie Settimanali'!B276,'Daily Diary'!E:E,\"ALERT GOAL\")","v":0},{"$f":"COUNTIFS('Daily Diary'!A:A,'Grafico Strategie Settimanali'!B276,'Daily Diary'!E:E,\"DRAW NO BET\")","v":0},{"$f":"COUNTIFS('Daily Diary'!A:A,'Grafico Strategie Settimanali'!B276,'Daily Diary'!E:E,\"ALTRO\")","v":0},{"$f":"COUNTIFS('Daily Diary'!A:A,'Grafico Strategie Settimanali'!B276,'Daily Diary'!E:E,\"BANCA PAREGGIO\",'Daily Diary'!E:E,\"BANCA PAREGGIO\",'Daily Diary'!K:K,\"WIN\")","v":0},{"$f":"COUNTIFS('Daily Diary'!A:A,'Grafico Strategie Settimanali'!B276,'Daily Diary'!E:E,\"PUNTA SQ.CASA\",'Daily Diary'!E:E,\"PUNTA SQ.CASA\",'Daily Diary'!K:K,\"WIN\")","v":0},{"$f":"COUNTIFS('Daily Diary'!A:A,'Grafico Strategie Settimanali'!B276,'Daily Diary'!E:E,\"PUNTA SQ.OSPITE\",'Daily Diary'!E:E,\"PUNTA SQ.OSPITE\",'Daily Diary'!K:K,\"WIN\")","v":0},{"$f":"COUNTIFS('Daily Diary'!A:A,'Grafico Strategie Settimanali'!B276,'Daily Diary'!E:E,\"BANCA SFAVORITA\",'Daily Diary'!E:E,\"BANCA SFAVORITA\",'Daily Diary'!K:K,\"WIN\")","v":0},{"$f":"COUNTIFS('Daily Diary'!A:A,'Grafico Strategie Settimanali'!B276,'Daily Diary'!E:E,\"PUNTA OVER\",'Daily Diary'!E:E,\"PUNTA OVER\",'Daily Diary'!K:K,\"WIN\")","v":0},{"$f":"COUNTIFS('Daily Diary'!A:A,'Grafico Strategie Settimanali'!B276,'Daily Diary'!E:E,\"PUNTA UNDER\",'Daily Diary'!E:E,\"PUNTA UNDER\",'Daily Diary'!K:K,\"WIN\")","v":0},{"$f":"COUNTIFS('Daily Diary'!A:A,'Grafico Strategie Settimanali'!B276,'Daily Diary'!E:E,\"SCALPING\",'Daily Diary'!E:E,\"SCALPING\",'Daily Diary'!K:K,\"WIN\")","v":0},{"$f":"COUNTIFS('Daily Diary'!A:A,'Grafico Strategie Settimanali'!B276,'Daily Diary'!E:E,\"GT 90\",'Daily Diary'!E:E,\"GT 90\",'Daily Diary'!K:K,\"WIN\")","v":0},{"$f":"COUNTIFS('Daily Diary'!A:A,'Grafico Strategie Settimanali'!B276,'Daily Diary'!E:E,\"GT 110\",'Daily Diary'!E:E,\"GT 110\",'Daily Diary'!K:K,\"WIN\")","v":0},{"$f":"COUNTIFS('Daily Diary'!A:A,'Grafico Strategie Settimanali'!B276,'Daily Diary'!E:E,\"ALERT GOAL\",'Daily Diary'!E:E,\"ALERT GOAL\",'Daily Diary'!K:K,\"WIN\")","v":0},{"$f":"COUNTIFS('Daily Diary'!A:A,'Grafico Strategie Settimanali'!B276,'Daily Diary'!E:E,\"DRAW NO BET\",'Daily Diary'!E:E,\"DRAW NO BET\",'Daily Diary'!K:K,\"WIN\")","v":0},{"$f":"COUNTIFS('Daily Diary'!A:A,'Grafico Strategie Settimanali'!B276,'Daily Diary'!E:E,\"ALTRO\",'Daily Diary'!E:E,\"ALTRO\",'Daily Diary'!K:K,\"WIN\")","v":0},{"$error":"#DIV/0!"},{"$error":"#DIV/0!"},{"$error":"#DIV/0!"},{"$error":"#DIV/0!"},{"$error":"#DIV/0!"},{"$error":"#DIV/0!"},{"$error":"#DIV/0!"},{"$error":"#DIV/0!"},{"$error":"#DIV/0!"},{"$error":"#DIV/0!"},{"$error":"#DIV/0!"},{"$error":"#DIV/0!"}]
[0,"2024-02-03",{"$f":"COUNTIFS('Daily Diary'!A:A,'Grafico Strategie Settimanali'!B277,'Daily Diary'!E:E,\"BANCA PAREGGIO\")","v":0},{"$f":"COUNTIFS('Daily Diary'!A:A,'Grafico Strategie Settimanali'!B277,'Daily Diary'!E:E,\"PUNTA SQ.CASA\")","v":0},{"$f":"COUNTIFS('Daily Diary'!A:A,'Grafico Strategie Settimanali'!B277,'Daily Diary'!E:E,\"PUNTA SQ.OSPITE\")","v":0},{"$f":"COUNTIFS('Daily Diary'!A:A,'Grafico Strategie Settimanali'!B277,'Daily Diary'!E:E,\"BANCA SFAVORITA\")","v":0},{"$f":"COUNTIFS('Daily Diary'!A:A,'Grafico Strategie Settimanali'!B277,'Daily Diary'!E:E,\"PUNTA OVER\")","v":0},{"$f":"COUNTIFS('Daily Diary'!A:A,'Grafico Strategie Settimanali'!B277,'Daily Diary'!E:E,\"PUNTA UNDER\")","v":0},{"$f":"COUNTIFS('Daily Diary'!A:A,'Grafico Strategie Settimanali'!B277,'Daily Diary'!E:E,\"SCALPING\")","v":0},{"$f":"COUNTIFS('Daily Diary'!A:A,'Grafico Strategie Settimanali'!B277,'Daily Diary'!E:E,\"GT90\")","v":0},{"$f":"COUNTIFS('Daily Diary'!A:A,'Grafico Strategie Settimanali'!B277,'Daily Diary'!E:E,\"GT110\")","v":0},{"$f":"COUNTIFS('Daily Diary'!A:A,'Grafico Strategie Settimanali'!B277,'Daily Diary'!E:E,\"ALERT GOAL\")","v":0},{"$f":"COUNTIFS('Daily Diary'!A:A,'Grafico Strategie Settimanali'!B277,'Daily Diary'!E:E,\"DRAW NO BET\")","v":0},{"$f":"COUNTIFS('Daily Diary'!A:A,'Grafico Strategie Settimanali'!B277,'Daily Diary'!E:E,\"ALTRO\")","v":0},{"$f":"COUNTIFS('Daily Diary'!A:A,'Grafico Strategie Settimanali'!B277,'Daily Diary'!E:E,\"BANCA PAREGGIO\",'Daily Diary'!E:E,\"BANCA PAREGGIO\",'Daily Diary'!K:K,\"WIN\")","v":0},{"$f":"COUNTIFS('Daily Diary'!A:A,'Grafico Strategie Settimanali'!B277,'Daily Diary'!E:E,\"PUNTA SQ.CASA\",'Daily Diary'!E:E,\"PUNTA SQ.CASA\",'Daily Diary'!K:K,\"WIN\")","v":0},{"$f":"COUNTIFS('Daily Diary'!A:A,'Grafico Strategie Settimanali'!B277,'Daily Diary'!E:E,\"PUNTA SQ.OSPITE\",'Daily Diary'!E:E,\"PUNTA SQ.OSPITE\",'Daily Diary'!K:K,\"WIN\")","v":0},{"$f":"COUNTIFS('Daily Diary'!A:A,'Grafico Strategie Settimanali'!B277,'Daily Diary'!E:E,\"BANCA SFAVORITA\",'Daily Diary'!E:E,\"BANCA SFAVORITA\",'Daily Diary'!K:K,\"WIN\")","v":0},{"$f":"COUNTIFS('Daily Diary'!A:A,'Grafico Strategie Settimanali'!B277,'Daily Diary'!E:E,\"PUNTA OVER\",'Daily Diary'!E:E,\"PUNTA OVER\",'Daily Diary'!K:K,\"WIN\")","v":0},{"$f":"COUNTIFS('Daily Diary'!A:A,'Grafico Strategie Settimanali'!B277,'Daily Diary'!E:E,\"PUNTA UNDER\",'Daily Diary'!E:E,\"PUNTA UNDER\",'Daily Diary'!K:K,\"WIN\")","v":0},{"$f":"COUNTIFS('Daily Diary'!A:A,'Grafico Strategie Settimanali'!B277,'Daily Diary'!E:E,\"SCALPING\",'Daily Diary'!E:E,\"SCALPING\",'Daily Diary'!K:K,\"WIN\")","v":0},{"$f":"COUNTIFS('Daily Diary'!A:A,'Grafico Strategie Settimanali'!B277,'Daily Diary'!E:E,\"GT 90\",'Daily Diary'!E:E,\"GT 90\",'Daily Diary'!K:K,\"WIN\")","v":0},{"$f":"COUNTIFS('Daily Diary'!A:A,'Grafico Strategie Settimanali'!B277,'Daily Diary'!E:E,\"GT 110\",'Daily Diary'!E:E,\"GT 110\",'Daily Diary'!K:K,\"WIN\")","v":0},{"$f":"COUNTIFS('Daily Diary'!A:A,'Grafico Strategie Settimanali'!B277,'Daily Diary'!E:E,\"ALERT GOAL\",'Daily Diary'!E:E,\"ALERT GOAL\",'Daily Diary'!K:K,\"WIN\")","v":0},{"$f":"COUNTIFS('Daily Diary'!A:A,'Grafico Strategie Settimanali'!B277,'Daily Diary'!E:E,\"DRAW NO BET\",'Daily Diary'!E:E,\"DRAW NO BET\",'Daily Diary'!K:K,\"WIN\")","v":0},{"$f":"COUNTIFS('Daily Diary'!A:A,'Grafico Strategie Settimanali'!B277,'Daily Diary'!E:E,\"ALTRO\",'Daily Diary'!E:E,\"ALTRO\",'Daily Diary'!K:K,\"WIN\")","v":0},{"$error":"#DIV/0!"},{"$error":"#DIV/0!"},{"$error":"#DIV/0!"},{"$error":"#DIV/0!"},{"$error":"#DIV/0!"},{"$error":"#DIV/0!"},{"$error":"#DIV/0!"},{"$error":"#DIV/0!"},{"$error":"#DIV/0!"},{"$error":"#DIV/0!"},{"$error":"#DIV/0!"},{"$error":"#DIV/0!"}]
[0,"2024-02-04",{"$f":"COUNTIFS('Daily Diary'!A:A,'Grafico Strategie Settimanali'!B278,'Daily Diary'!E:E,\"BANCA PAREGGIO\")","v":0},{"$f":"COUNTIFS('Daily Diary'!A:A,'Grafico Strategie Settimanali'!B278,'Daily Diary'!E:E,\"PUNTA SQ.CASA\")","v":0},{"$f":"COUNTIFS('Daily Diary'!A:A,'Grafico Strategie Settimanali'!B278,'Daily Diary'!E:E,\"PUNTA SQ.OSPITE\")","v":0},{"$f":"COUNTIFS('Daily Diary'!A:A,'Grafico Strategie Settimanali'!B278,'Daily Diary'!E:E,\"BANCA SFAVORITA\")","v":0},{"$f":"COUNTIFS('Daily Diary'!A:A,'Grafico Strategie Settimanali'!B278,'Daily Diary'!E:E,\"PUNTA OVER\")","v":0},{"$f":"COUNTIFS('Daily Diary'!A:A,'Grafico Strategie Settimanali'!B278,'Daily Diary'!E:E,\"PUNTA UNDER\")","v":0},{"$f":"COUNTIFS('Daily Diary'!A:A,'Grafico Strategie Settimanali'!B278,'Daily Diary'!E:E,\"SCALPING\")","v":0},{"$f":"COUNTIFS('Daily Diary'!A:A,'Grafico Strategie Settimanali'!B278,'Daily Diary'!E:E,\"GT90\")","v":0},{"$f":"COUNTIFS('Daily Diary'!A:A,'Grafico Strategie Settimanali'!B278,'Daily Diary'!E:E,\"GT110\")","v":0},{"$f":"COUNTIFS('Daily Diary'!A:A,'Grafico Strategie Settimanali'!B278,'Daily Diary'!E:E,\"ALERT GOAL\")","v":0},{"$f":"COUNTIFS('Daily Diary'!A:A,'Grafico Strategie Settimanali'!B278,'Daily Diary'!E:E,\"DRAW NO BET\")","v":0},{"$f":"COUNTIFS('Daily Diary'!A:A,'Grafico Strategie Settimanali'!B278,'Daily Diary'!E:E,\"ALTRO\")","v":0},{"$f":"COUNTIFS('Daily Diary'!A:A,'Grafico Strategie Settimanali'!B278,'Daily Diary'!E:E,\"BANCA PAREGGIO\",'Daily Diary'!E:E,\"BANCA PAREGGIO\",'Daily Diary'!K:K,\"WIN\")","v":0},{"$f":"COUNTIFS('Daily Diary'!A:A,'Grafico Strategie Settimanali'!B278,'Daily Diary'!E:E,\"PUNTA SQ.CASA\",'Daily Diary'!E:E,\"PUNTA SQ.CASA\",'Daily Diary'!K:K,\"WIN\")","v":0},{"$f":"COUNTIFS('Daily Diary'!A:A,'Grafico Strategie Settimanali'!B278,'Daily Diary'!E:E,\"PUNTA SQ.OSPITE\",'Daily Diary'!E:E,\"PUNTA SQ.OSPITE\",'Daily Diary'!K:K,\"WIN\")","v":0},{"$f":"COUNTIFS('Daily Diary'!A:A,'Grafico Strategie Settimanali'!B278,'Daily Diary'!E:E,\"BANCA SFAVORITA\",'Daily Diary'!E:E,\"BANCA SFAVORITA\",'Daily Diary'!K:K,\"WIN\")","v":0},{"$f":"COUNTIFS('Daily Diary'!A:A,'Grafico Strategie Settimanali'!B278,'Daily Diary'!E:E,\"PUNTA OVER\",'Daily Diary'!E:E,\"PUNTA OVER\",'Daily Diary'!K:K,\"WIN\")","v":0},{"$f":"COUNTIFS('Daily Diary'!A:A,'Grafico Strategie Settimanali'!B278,'Daily Diary'!E:E,\"PUNTA UNDER\",'Daily Diary'!E:E,\"PUNTA UNDER\",'Daily Diary'!K:K,\"WIN\")","v":0},{"$f":"COUNTIFS('Daily Diary'!A:A,'Grafico Strategie Settimanali'!B278,'Daily Diary'!E:E,\"SCALPING\",'Daily Diary'!E:E,\"SCALPING\",'Daily Diary'!K:K,\"WIN\")","v":0},{"$f":"COUNTIFS('Daily Diary'!A:A,'Grafico Strategie Settimanali'!B278,'Daily Diary'!E:E,\"GT 90\",'Daily Diary'!E:E,\"GT 90\",'Daily Diary'!K:K,\"WIN\")","v":0},{"$f":"COUNTIFS('Daily Diary'!A:A,'Grafico Strategie Settimanali'!B278,'Daily Diary'!E:E,\"GT 110\",'Daily Diary'!E:E,\"GT 110\",'Daily Diary'!K:K,\"WIN\")","v":0},{"$f":"COUNTIFS('Daily Diary'!A:A,'Grafico Strategie Settimanali'!B278,'Daily Diary'!E:E,\"ALERT GOAL\",'Daily Diary'!E:E,\"ALERT GOAL\",'Daily Diary'!K:K,\"WIN\")","v":0},{"$f":"COUNTIFS('Daily Diary'!A:A,'Grafico Strategie Settimanali'!B278,'Daily Diary'!E:E,\"DRAW NO BET\",'Daily Diary'!E:E,\"DRAW NO BET\",'Daily Diary'!K:K,\"WIN\")","v":0},{"$f":"COUNTIFS('Daily Diary'!A:A,'Grafico Strategie Settimanali'!B278,'Daily Diary'!E:E,\"ALTRO\",'Daily Diary'!E:E,\"ALTRO\",'Daily Diary'!K:K,\"WIN\")","v":0},{"$error":"#DIV/0!"},{"$error":"#DIV/0!"},{"$error":"#DIV/0!"},{"$error":"#DIV/0!"},{"$error":"#DIV/0!"},{"$error":"#DIV/0!"},{"$error":"#DIV/0!"},{"$error":"#DIV/0!"},{"$error":"#DIV/0!"},{"$error":"#DIV/0!"},{"$error":"#DIV/0!"},{"$error":"#DIV/0!"}]
[0,"2024-02-05",{"$f":"COUNTIFS('Daily Diary'!A:A,'Grafico Strategie Settimanali'!B279,'Daily Diary'!E:E,\"BANCA PAREGGIO\")","v":0},{"$f":"COUNTIFS('Daily Diary'!A:A,'Grafico Strategie Settimanali'!B279,'Daily Diary'!E:E,\"PUNTA SQ.CASA\")","v":0},{"$f":"COUNTIFS('Daily Diary'!A:A,'Grafico Strategie Settimanali'!B279,'Daily Diary'!E:E,\"PUNTA SQ.OSPITE\")","v":0},{"$f":"COUNTIFS('Daily Diary'!A:A,'Grafico Strategie Settimanali'!B279,'Daily Diary'!E:E,\"BANCA SFAVORITA\")","v":0},{"$f":"COUNTIFS('Daily Diary'!A:A,'Grafico Strategie Settimanali'!B279,'Daily Diary'!E:E,\"PUNTA OVER\")","v":0},{"$f":"COUNTIFS('Daily Diary'!A:A,'Grafico Strategie Settimanali'!B279,'Daily Diary'!E:E,\"PUNTA UNDER\")","v":0},{"$f":"COUNTIFS('Daily Diary'!A:A,'Grafico Strategie Settimanali'!B279,'Daily Diary'!E:E,\"SCALPING\")","v":0},{"$f":"COUNTIFS('Daily Diary'!A:A,'Grafico Strategie Settimanali'!B279,'Daily Diary'!E:E,\"GT90\")","v":0},{"$f":"COUNTIFS('Daily Diary'!A:A,'Grafico Strategie Settimanali'!B279,'Daily Diary'!E:E,\"GT110\")","v":0},{"$f":"COUNTIFS('Daily Diary'!A:A,'Grafico Strategie Settimanali'!B279,'Daily Diary'!E:E,\"ALERT GOAL\")","v":0},{"$f":"COUNTIFS('Daily Diary'!A:A,'Grafico Strategie Settimanali'!B279,'Daily Diary'!E:E,\"DRAW NO BET\")","v":0},{"$f":"COUNTIFS('Daily Diary'!A:A,'Grafico Strategie Settimanali'!B279,'Daily Diary'!E:E,\"ALTRO\")","v":0},{"$f":"COUNTIFS('Daily Diary'!A:A,'Grafico Strategie Settimanali'!B279,'Daily Diary'!E:E,\"BANCA PAREGGIO\",'Daily Diary'!E:E,\"BANCA PAREGGIO\",'Daily Diary'!K:K,\"WIN\")","v":0},{"$f":"COUNTIFS('Daily Diary'!A:A,'Grafico Strategie Settimanali'!B279,'Daily Diary'!E:E,\"PUNTA SQ.CASA\",'Daily Diary'!E:E,\"PUNTA SQ.CASA\",'Daily Diary'!K:K,\"WIN\")","v":0},{"$f":"COUNTIFS('Daily Diary'!A:A,'Grafico Strategie Settimanali'!B279,'Daily Diary'!E:E,\"PUNTA SQ.OSPITE\",'Daily Diary'!E:E,\"PUNTA SQ.OSPITE\",'Daily Diary'!K:K,\"WIN\")","v":0},{"$f":"COUNTIFS('Daily Diary'!A:A,'Grafico Strategie Settimanali'!B279,'Daily Diary'!E:E,\"BANCA SFAVORITA\",'Daily Diary'!E:E,\"BANCA SFAVORITA\",'Daily Diary'!K:K,\"WIN\")","v":0},{"$f":"COUNTIFS('Daily Diary'!A:A,'Grafico Strategie Settimanali'!B279,'Daily Diary'!E:E,\"PUNTA OVER\",'Daily Diary'!E:E,\"PUNTA OVER\",'Daily Diary'!K:K,\"WIN\")","v":0},{"$f":"COUNTIFS('Daily Diary'!A:A,'Grafico Strategie Settimanali'!B279,'Daily Diary'!E:E,\"PUNTA UNDER\",'Daily Diary'!E:E,\"PUNTA UNDER\",'Daily Diary'!K:K,\"WIN\")","v":0},{"$f":"COUNTIFS('Daily Diary'!A:A,'Grafico Strategie Settimanali'!B279,'Daily Diary'!E:E,\"SCALPING\",'Daily Diary'!E:E,\"SCALPING\",'Daily Diary'!K:K,\"WIN\")","v":0},{"$f":"COUNTIFS('Daily Diary'!A:A,'Grafico Strategie Settimanali'!B279,'Daily Diary'!E:E,\"GT 90\",'Daily Diary'!E:E,\"GT 90\",'Daily Diary'!K:K,\"WIN\")","v":0},{"$f":"COUNTIFS('Daily Diary'!A:A,'Grafico Strategie Settimanali'!B279,'Daily Diary'!E:E,\"GT 110\",'Daily Diary'!E:E,\"GT 110\",'Daily Diary'!K:K,\"WIN\")","v":0},{"$f":"COUNTIFS('Daily Diary'!A:A,'Grafico Strategie Settimanali'!B279,'Daily Diary'!E:E,\"ALERT GOAL\",'Daily Diary'!E:E,\"ALERT GOAL\",'Daily Diary'!K:K,\"WIN\")","v":0},{"$f":"COUNTIFS('Daily Diary'!A:A,'Grafico Strategie Settimanali'!B279,'Daily Diary'!E:E,\"DRAW NO BET\",'Daily Diary'!E:E,\"DRAW NO BET\",'Daily Diary'!K:K,\"WIN\")","v":0},{"$f":"COUNTIFS('Daily Diary'!A:A,'Grafico Strategie Settimanali'!B279,'Daily Diary'!E:E,\"ALTRO\",'Daily Diary'!E:E,\"ALTRO\",'Daily Diary'!K:K,\"WIN\")","v":0},{"$error":"#DIV/0!"},{"$error":"#DIV/0!"},{"$error":"#DIV/0!"},{"$error":"#DIV/0!"},{"$error":"#DIV/0!"},{"$error":"#DIV/0!"},{"$error":"#DIV/0!"},{"$error":"#DIV/0!"},{"$error":"#DIV/0!"},{"$error":"#DIV/0!"},{"$error":"#DIV/0!"},{"$error":"#DIV/0!"}]
[0,"2024-02-06",{"$f":"COUNTIFS('Daily Diary'!A:A,'Grafico Strategie Settimanali'!B280,'Daily Diary'!E:E,\"BANCA PAREGGIO\")","v":0},{"$f":"COUNTIFS('Daily Diary'!A:A,'Grafico Strategie Settimanali'!B280,'Daily Diary'!E:E,\"PUNTA SQ.CASA\")","v":0},{"$f":"COUNTIFS('Daily Diary'!A:A,'Grafico Strategie Settimanali'!B280,'Daily Diary'!E:E,\"PUNTA SQ.OSPITE\")","v":0},{"$f":"COUNTIFS('Daily Diary'!A:A,'Grafico Strategie Settimanali'!B280,'Daily Diary'!E:E,\"BANCA SFAVORITA\")","v":0},{"$f":"COUNTIFS('Daily Diary'!A:A,'Grafico Strategie Settimanali'!B280,'Daily Diary'!E:E,\"PUNTA OVER\")","v":0},{"$f":"COUNTIFS('Daily Diary'!A:A,'Grafico Strategie Settimanali'!B280,'Daily Diary'!E:E,\"PUNTA UNDER\")","v":0},{"$f":"COUNTIFS('Daily Diary'!A:A,'Grafico Strategie Settimanali'!B280,'Daily Diary'!E:E,\"SCALPING\")","v":0},{"$f":"COUNTIFS('Daily Diary'!A:A,'Grafico Strategie Settimanali'!B280,'Daily Diary'!E:E,\"GT90\")","v":0},{"$f":"COUNTIFS('Daily Diary'!A:A,'Grafico Strategie Settimanali'!B280,'Daily Diary'!E:E,\"GT110\")","v":0},{"$f":"COUNTIFS('Daily Diary'!A:A,'Grafico Strategie Settimanali'!B280,'Daily Diary'!E:E,\"ALERT GOAL\")","v":0},{"$f":"COUNTIFS('Daily Diary'!A:A,'Grafico Strategie Settimanali'!B280,'Daily Diary'!E:E,\"DRAW NO BET\")","v":0},{"$f":"COUNTIFS('Daily Diary'!A:A,'Grafico Strategie Settimanali'!B280,'Daily Diary'!E:E,\"ALTRO\")","v":0},{"$f":"COUNTIFS('Daily Diary'!A:A,'Grafico Strategie Settimanali'!B280,'Daily Diary'!E:E,\"BANCA PAREGGIO\",'Daily Diary'!E:E,\"BANCA PAREGGIO\",'Daily Diary'!K:K,\"WIN\")","v":0},{"$f":"COUNTIFS('Daily Diary'!A:A,'Grafico Strategie Settimanali'!B280,'Daily Diary'!E:E,\"PUNTA SQ.CASA\",'Daily Diary'!E:E,\"PUNTA SQ.CASA\",'Daily Diary'!K:K,\"WIN\")","v":0},{"$f":"COUNTIFS('Daily Diary'!A:A,'Grafico Strategie Settimanali'!B280,'Daily Diary'!E:E,\"PUNTA SQ.OSPITE\",'Daily Diary'!E:E,\"PUNTA SQ.OSPITE\",'Daily Diary'!K:K,\"WIN\")","v":0},{"$f":"COUNTIFS('Daily Diary'!A:A,'Grafico Strategie Settimanali'!B280,'Daily Diary'!E:E,\"BANCA SFAVORITA\",'Daily Diary'!E:E,\"BANCA SFAVORITA\",'Daily Diary'!K:K,\"WIN\")","v":0},{"$f":"COUNTIFS('Daily Diary'!A:A,'Grafico Strategie Settimanali'!B280,'Daily Diary'!E:E,\"PUNTA OVER\",'Daily Diary'!E:E,\"PUNTA OVER\",'Daily Diary'!K:K,\"WIN\")","v":0},{"$f":"COUNTIFS('Daily Diary'!A:A,'Grafico Strategie Settimanali'!B280,'Daily Diary'!E:E,\"PUNTA UNDER\",'Daily Diary'!E:E,\"PUNTA UNDER\",'Daily Diary'!K:K,\"WIN\")","v":0},{"$f":"COUNTIFS('Daily Diary'!A:A,'Grafico Strategie Settimanali'!B280,'Daily Diary'!E:E,\"SCALPING\",'Daily Diary'!E:E,\"SCALPING\",'Daily Diary'!K:K,\"WIN\")","v":0},{"$f":"COUNTIFS('Daily Diary'!A:A,'Grafico Strategie Settimanali'!B280,'Daily Diary'!E:E,\"GT 90\",'Daily Diary'!E:E,\"GT 90\",'Daily Diary'!K:K,\"WIN\")","v":0},{"$f":"COUNTIFS('Daily Diary'!A:A,'Grafico Strategie Settimanali'!B280,'Daily Diary'!E:E,\"GT 110\",'Daily Diary'!E:E,\"GT 110\",'Daily Diary'!K:K,\"WIN\")","v":0},{"$f":"COUNTIFS('Daily Diary'!A:A,'Grafico Strategie Settimanali'!B280,'Daily Diary'!E:E,\"ALERT GOAL\",'Daily Diary'!E:E,\"ALERT GOAL\",'Daily Diary'!K:K,\"WIN\")","v":0},{"$f":"COUNTIFS('Daily Diary'!A:A,'Grafico Strategie Settimanali'!B280,'Daily Diary'!E:E,\"DRAW NO BET\",'Daily Diary'!E:E,\"DRAW NO BET\",'Daily Diary'!K:K,\"WIN\")","v":0},{"$f":"COUNTIFS('Daily Diary'!A:A,'Grafico Strategie Settimanali'!B280,'Daily Diary'!E:E,\"ALTRO\",'Daily Diary'!E:E,\"ALTRO\",'Daily Diary'!K:K,\"WIN\")","v":0},{"$error":"#DIV/0!"},{"$error":"#DIV/0!"},{"$error":"#DIV/0!"},{"$error":"#DIV/0!"},{"$error":"#DIV/0!"},{"$error":"#DIV/0!"},{"$error":"#DIV/0!"},{"$error":"#DIV/0!"},{"$error":"#DIV/0!"},{"$error":"#DIV/0!"},{"$error":"#DIV/0!"},{"$error":"#DIV/0!"}]
[0,"2024-02-07",{"$f":"COUNTIFS('Daily Diary'!A:A,'Grafico Strategie Settimanali'!B281,'Daily Diary'!E:E,\"BANCA PAREGGIO\")","v":0},{"$f":"COUNTIFS('Daily Diary'!A:A,'Grafico Strategie Settimanali'!B281,'Daily Diary'!E:E,\"PUNTA SQ.CASA\")","v":0},{"$f":"COUNTIFS('Daily Diary'!A:A,'Grafico Strategie Settimanali'!B281,'Daily Diary'!E:E,\"PUNTA SQ.OSPITE\")","v":0},{"$f":"COUNTIFS('Daily Diary'!A:A,'Grafico Strategie Settimanali'!B281,'Daily Diary'!E:E,\"BANCA SFAVORITA\")","v":0},{"$f":"COUNTIFS('Daily Diary'!A:A,'Grafico Strategie Settimanali'!B281,'Daily Diary'!E:E,\"PUNTA OVER\")","v":0},{"$f":"COUNTIFS('Daily Diary'!A:A,'Grafico Strategie Settimanali'!B281,'Daily Diary'!E:E,\"PUNTA UNDER\")","v":0},{"$f":"COUNTIFS('Daily Diary'!A:A,'Grafico Strategie Settimanali'!B281,'Daily Diary'!E:E,\"SCALPING\")","v":0},{"$f":"COUNTIFS('Daily Diary'!A:A,'Grafico Strategie Settimanali'!B281,'Daily Diary'!E:E,\"GT90\")","v":0},{"$f":"COUNTIFS('Daily Diary'!A:A,'Grafico Strategie Settimanali'!B281,'Daily Diary'!E:E,\"GT110\")","v":0},{"$f":"COUNTIFS('Daily Diary'!A:A,'Grafico Strategie Settimanali'!B281,'Daily Diary'!E:E,\"ALERT GOAL\")","v":0},{"$f":"COUNTIFS('Daily Diary'!A:A,'Grafico Strategie Settimanali'!B281,'Daily Diary'!E:E,\"DRAW NO BET\")","v":0},{"$f":"COUNTIFS('Daily Diary'!A:A,'Grafico Strategie Settimanali'!B281,'Daily Diary'!E:E,\"ALTRO\")","v":0},{"$f":"COUNTIFS('Daily Diary'!A:A,'Grafico Strategie Settimanali'!B281,'Daily Diary'!E:E,\"BANCA PAREGGIO\",'Daily Diary'!E:E,\"BANCA PAREGGIO\",'Daily Diary'!K:K,\"WIN\")","v":0},{"$f":"COUNTIFS('Daily Diary'!A:A,'Grafico Strategie Settimanali'!B281,'Daily Diary'!E:E,\"PUNTA SQ.CASA\",'Daily Diary'!E:E,\"PUNTA SQ.CASA\",'Daily Diary'!K:K,\"WIN\")","v":0},{"$f":"COUNTIFS('Daily Diary'!A:A,'Grafico Strategie Settimanali'!B281,'Daily Diary'!E:E,\"PUNTA SQ.OSPITE\",'Daily Diary'!E:E,\"PUNTA SQ.OSPITE\",'Daily Diary'!K:K,\"WIN\")","v":0},{"$f":"COUNTIFS('Daily Diary'!A:A,'Grafico Strategie Settimanali'!B281,'Daily Diary'!E:E,\"BANCA SFAVORITA\",'Daily Diary'!E:E,\"BANCA SFAVORITA\",'Daily Diary'!K:K,\"WIN\")","v":0},{"$f":"COUNTIFS('Daily Diary'!A:A,'Grafico Strategie Settimanali'!B281,'Daily Diary'!E:E,\"PUNTA OVER\",'Daily Diary'!E:E,\"PUNTA OVER\",'Daily Diary'!K:K,\"WIN\")","v":0},{"$f":"COUNTIFS('Daily Diary'!A:A,'Grafico Strategie Settimanali'!B281,'Daily Diary'!E:E,\"PUNTA UNDER\",'Daily Diary'!E:E,\"PUNTA UNDER\",'Daily Diary'!K:K,\"WIN\")","v":0},{"$f":"COUNTIFS('Daily Diary'!A:A,'Grafico Strategie Settimanali'!B281,'Daily Diary'!E:E,\"SCALPING\",'Daily Diary'!E:E,\"SCALPING\",'Daily Diary'!K:K,\"WIN\")","v":0},{"$f":"COUNTIFS('Daily Diary'!A:A,'Grafico Strategie Settimanali'!B281,'Daily Diary'!E:E,\"GT 90\",'Daily Diary'!E:E,\"GT 90\",'Daily Diary'!K:K,\"WIN\")","v":0},{"$f":"COUNTIFS('Daily Diary'!A:A,'Grafico Strategie Settimanali'!B281,'Daily Diary'!E:E,\"GT 110\",'Daily Diary'!E:E,\"GT 110\",'Daily Diary'!K:K,\"WIN\")","v":0},{"$f":"COUNTIFS('Daily Diary'!A:A,'Grafico Strategie Settimanali'!B281,'Daily Diary'!E:E,\"ALERT GOAL\",'Daily Diary'!E:E,\"ALERT GOAL\",'Daily Diary'!K:K,\"WIN\")","v":0},{"$f":"COUNTIFS('Daily Diary'!A:A,'Grafico Strategie Settimanali'!B281,'Daily Diary'!E:E,\"DRAW NO BET\",'Daily Diary'!E:E,\"DRAW NO BET\",'Daily Diary'!K:K,\"WIN\")","v":0},{"$f":"COUNTIFS('Daily Diary'!A:A,'Grafico Strategie Settimanali'!B281,'Daily Diary'!E:E,\"ALTRO\",'Daily Diary'!E:E,\"ALTRO\",'Daily Diary'!K:K,\"WIN\")","v":0},{"$error":"#DIV/0!"},{"$error":"#DIV/0!"},{"$error":"#DIV/0!"},{"$error":"#DIV/0!"},{"$error":"#DIV/0!"},{"$error":"#DIV/0!"},{"$error":"#DIV/0!"},{"$error":"#DIV/0!"},{"$error":"#DIV/0!"},{"$error":"#DIV/0!"},{"$error":"#DIV/0!"},{"$error":"#DIV/0!"}]
[0,"2024-02-08",{"$f":"COUNTIFS('Daily Diary'!A:A,'Grafico Strategie Settimanali'!B282,'Daily Diary'!E:E,\"BANCA PAREGGIO\")","v":0},{"$f":"COUNTIFS('Daily Diary'!A:A,'Grafico Strategie Settimanali'!B282,'Daily Diary'!E:E,\"PUNTA SQ.CASA\")","v":0},{"$f":"COUNTIFS('Daily Diary'!A:A,'Grafico Strategie Settimanali'!B282,'Daily Diary'!E:E,\"PUNTA SQ.OSPITE\")","v":0},{"$f":"COUNTIFS('Daily Diary'!A:A,'Grafico Strategie Settimanali'!B282,'Daily Diary'!E:E,\"BANCA SFAVORITA\")","v":0},{"$f":"COUNTIFS('Daily Diary'!A:A,'Grafico Strategie Settimanali'!B282,'Daily Diary'!E:E,\"PUNTA OVER\")","v":0},{"$f":"COUNTIFS('Daily Diary'!A:A,'Grafico Strategie Settimanali'!B282,'Daily Diary'!E:E,\"PUNTA UNDER\")","v":0},{"$f":"COUNTIFS('Daily Diary'!A:A,'Grafico Strategie Settimanali'!B282,'Daily Diary'!E:E,\"SCALPING\")","v":0},{"$f":"COUNTIFS('Daily Diary'!A:A,'Grafico Strategie Settimanali'!B282,'Daily Diary'!E:E,\"GT90\")","v":0},{"$f":"COUNTIFS('Daily Diary'!A:A,'Grafico Strategie Settimanali'!B282,'Daily Diary'!E:E,\"GT110\")","v":0},{"$f":"COUNTIFS('Daily Diary'!A:A,'Grafico Strategie Settimanali'!B282,'Daily Diary'!E:E,\"ALERT GOAL\")","v":0},{"$f":"COUNTIFS('Daily Diary'!A:A,'Grafico Strategie Settimanali'!B282,'Daily Diary'!E:E,\"DRAW NO BET\")","v":0},{"$f":"COUNTIFS('Daily Diary'!A:A,'Grafico Strategie Settimanali'!B282,'Daily Diary'!E:E,\"ALTRO\")","v":0},{"$f":"COUNTIFS('Daily Diary'!A:A,'Grafico Strategie Settimanali'!B282,'Daily Diary'!E:E,\"BANCA PAREGGIO\",'Daily Diary'!E:E,\"BANCA PAREGGIO\",'Daily Diary'!K:K,\"WIN\")","v":0},{"$f":"COUNTIFS('Daily Diary'!A:A,'Grafico Strategie Settimanali'!B282,'Daily Diary'!E:E,\"PUNTA SQ.CASA\",'Daily Diary'!E:E,\"PUNTA SQ.CASA\",'Daily Diary'!K:K,\"WIN\")","v":0},{"$f":"COUNTIFS('Daily Diary'!A:A,'Grafico Strategie Settimanali'!B282,'Daily Diary'!E:E,\"PUNTA SQ.OSPITE\",'Daily Diary'!E:E,\"PUNTA SQ.OSPITE\",'Daily Diary'!K:K,\"WIN\")","v":0},{"$f":"COUNTIFS('Daily Diary'!A:A,'Grafico Strategie Settimanali'!B282,'Daily Diary'!E:E,\"BANCA SFAVORITA\",'Daily Diary'!E:E,\"BANCA SFAVORITA\",'Daily Diary'!K:K,\"WIN\")","v":0},{"$f":"COUNTIFS('Daily Diary'!A:A,'Grafico Strategie Settimanali'!B282,'Daily Diary'!E:E,\"PUNTA OVER\",'Daily Diary'!E:E,\"PUNTA OVER\",'Daily Diary'!K:K,\"WIN\")","v":0},{"$f":"COUNTIFS('Daily Diary'!A:A,'Grafico Strategie Settimanali'!B282,'Daily Diary'!E:E,\"PUNTA UNDER\",'Daily Diary'!E:E,\"PUNTA UNDER\",'Daily Diary'!K:K,\"WIN\")","v":0},{"$f":"COUNTIFS('Daily Diary'!A:A,'Grafico Strategie Settimanali'!B282,'Daily Diary'!E:E,\"SCALPING\",'Daily Diary'!E:E,\"SCALPING\",'Daily Diary'!K:K,\"WIN\")","v":0},{"$f":"COUNTIFS('Daily Diary'!A:A,'Grafico Strategie Settimanali'!B282,'Daily Diary'!E:E,\"GT 90\",'Daily Diary'!E:E,\"GT 90\",'Daily Diary'!K:K,\"WIN\")","v":0},{"$f":"COUNTIFS('Daily Diary'!A:A,'Grafico Strategie Settimanali'!B282,'Daily Diary'!E:E,\"GT 110\",'Daily Diary'!E:E,\"GT 110\",'Daily Diary'!K:K,\"WIN\")","v":0},{"$f":"COUNTIFS('Daily Diary'!A:A,'Grafico Strategie Settimanali'!B282,'Daily Diary'!E:E,\"ALERT GOAL\",'Daily Diary'!E:E,\"ALERT GOAL\",'Daily Diary'!K:K,\"WIN\")","v":0},{"$f":"COUNTIFS('Daily Diary'!A:A,'Grafico Strategie Settimanali'!B282,'Daily Diary'!E:E,\"DRAW NO BET\",'Daily Diary'!E:E,\"DRAW NO BET\",'Daily Diary'!K:K,\"WIN\")","v":0},{"$f":"COUNTIFS('Daily Diary'!A:A,'Grafico Strategie Settimanali'!B282,'Daily Diary'!E:E,\"ALTRO\",'Daily Diary'!E:E,\"ALTRO\",'Daily Diary'!K:K,\"WIN\")","v":0},{"$error":"#DIV/0!"},{"$error":"#DIV/0!"},{"$error":"#DIV/0!"},{"$error":"#DIV/0!"},{"$error":"#DIV/0!"},{"$error":"#DIV/0!"},{"$error":"#DIV/0!"},{"$error":"#DIV/0!"},{"$error":"#DIV/0!"},{"$error":"#DIV/0!"},{"$error":"#DIV/0!"},{"$error":"#DIV/0!"}]
[0,"2024-02-09",{"$f":"COUNTIFS('Daily Diary'!A:A,'Grafico Strategie Settimanali'!B283,'Daily Diary'!E:E,\"BANCA PAREGGIO\")","v":0},{"$f":"COUNTIFS('Daily Diary'!A:A,'Grafico Strategie Settimanali'!B283,'Daily Diary'!E:E,\"PUNTA SQ.CASA\")","v":0},{"$f":"COUNTIFS('Daily Diary'!A:A,'Grafico Strategie Settimanali'!B283,'Daily Diary'!E:E,\"PUNTA SQ.OSPITE\")","v":0},{"$f":"COUNTIFS('Daily Diary'!A:A,'Grafico Strategie Settimanali'!B283,'Daily Diary'!E:E,\"BANCA SFAVORITA\")","v":0},{"$f":"COUNTIFS('Daily Diary'!A:A,'Grafico Strategie Settimanali'!B283,'Daily Diary'!E:E,\"PUNTA OVER\")","v":0},{"$f":"COUNTIFS('Daily Diary'!A:A,'Grafico Strategie Settimanali'!B283,'Daily Diary'!E:E,\"PUNTA UNDER\")","v":0},{"$f":"COUNTIFS('Daily Diary'!A:A,'Grafico Strategie Settimanali'!B283,'Daily Diary'!E:E,\"SCALPING\")","v":0},{"$f":"COUNTIFS('Daily Diary'!A:A,'Grafico Strategie Settimanali'!B283,'Daily Diary'!E:E,\"GT90\")","v":0},{"$f":"COUNTIFS('Daily Diary'!A:A,'Grafico Strategie Settimanali'!B283,'Daily Diary'!E:E,\"GT110\")","v":0},{"$f":"COUNTIFS('Daily Diary'!A:A,'Grafico Strategie Settimanali'!B283,'Daily Diary'!E:E,\"ALERT GOAL\")","v":0},{"$f":"COUNTIFS('Daily Diary'!A:A,'Grafico Strategie Settimanali'!B283,'Daily Diary'!E:E,\"DRAW NO BET\")","v":0},{"$f":"COUNTIFS('Daily Diary'!A:A,'Grafico Strategie Settimanali'!B283,'Daily Diary'!E:E,\"ALTRO\")","v":0},{"$f":"COUNTIFS('Daily Diary'!A:A,'Grafico Strategie Settimanali'!B283,'Daily Diary'!E:E,\"BANCA PAREGGIO\",'Daily Diary'!E:E,\"BANCA PAREGGIO\",'Daily Diary'!K:K,\"WIN\")","v":0},{"$f":"COUNTIFS('Daily Diary'!A:A,'Grafico Strategie Settimanali'!B283,'Daily Diary'!E:E,\"PUNTA SQ.CASA\",'Daily Diary'!E:E,\"PUNTA SQ.CASA\",'Daily Diary'!K:K,\"WIN\")","v":0},{"$f":"COUNTIFS('Daily Diary'!A:A,'Grafico Strategie Settimanali'!B283,'Daily Diary'!E:E,\"PUNTA SQ.OSPITE\",'Daily Diary'!E:E,\"PUNTA SQ.OSPITE\",'Daily Diary'!K:K,\"WIN\")","v":0},{"$f":"COUNTIFS('Daily Diary'!A:A,'Grafico Strategie Settimanali'!B283,'Daily Diary'!E:E,\"BANCA SFAVORITA\",'Daily Diary'!E:E,\"BANCA SFAVORITA\",'Daily Diary'!K:K,\"WIN\")","v":0},{"$f":"COUNTIFS('Daily Diary'!A:A,'Grafico Strategie Settimanali'!B283,'Daily Diary'!E:E,\"PUNTA OVER\",'Daily Diary'!E:E,\"PUNTA OVER\",'Daily Diary'!K:K,\"WIN\")","v":0},{"$f":"COUNTIFS('Daily Diary'!A:A,'Grafico Strategie Settimanali'!B283,'Daily Diary'!E:E,\"PUNTA UNDER\",'Daily Diary'!E:E,\"PUNTA UNDER\",'Daily Diary'!K:K,\"WIN\")","v":0},{"$f":"COUNTIFS('Daily Diary'!A:A,'Grafico Strategie Settimanali'!B283,'Daily Diary'!E:E,\"SCALPING\",'Daily Diary'!E:E,\"SCALPING\",'Daily Diary'!K:K,\"WIN\")","v":0},{"$f":"COUNTIFS('Daily Diary'!A:A,'Grafico Strategie Settimanali'!B283,'Daily Diary'!E:E,\"GT 90\",'Daily Diary'!E:E,\"GT 90\",'Daily Diary'!K:K,\"WIN\")","v":0},{"$f":"COUNTIFS('Daily Diary'!A:A,'Grafico Strategie Settimanali'!B283,'Daily Diary'!E:E,\"GT 110\",'Daily Diary'!E:E,\"GT 110\",'Daily Diary'!K:K,\"WIN\")","v":0},{"$f":"COUNTIFS('Daily Diary'!A:A,'Grafico Strategie Settimanali'!B283,'Daily Diary'!E:E,\"ALERT GOAL\",'Daily Diary'!E:E,\"ALERT GOAL\",'Daily Diary'!K:K,\"WIN\")","v":0},{"$f":"COUNTIFS('Daily Diary'!A:A,'Grafico Strategie Settimanali'!B283,'Daily Diary'!E:E,\"DRAW NO BET\",'Daily Diary'!E:E,\"DRAW NO BET\",'Daily Diary'!K:K,\"WIN\")","v":0},{"$f":"COUNTIFS('Daily Diary'!A:A,'Grafico Strategie Settimanali'!B283,'Daily Diary'!E:E,\"ALTRO\",'Daily Diary'!E:E,\"ALTRO\",'Daily Diary'!K:K,\"WIN\")","v":0},{"$error":"#DIV/0!"},{"$error":"#DIV/0!"},{"$error":"#DIV/0!"},{"$error":"#DIV/0!"},{"$error":"#DIV/0!"},{"$error":"#DIV/0!"},{"$error":"#DIV/0!"},{"$error":"#DIV/0!"},{"$error":"#DIV/0!"},{"$error":"#DIV/0!"},{"$error":"#DIV/0!"},{"$error":"#DIV/0!"}]
[0,"2024-02-10",{"$f":"COUNTIFS('Daily Diary'!A:A,'Grafico Strategie Settimanali'!B284,'Daily Diary'!E:E,\"BANCA PAREGGIO\")","v":0},{"$f":"COUNTIFS('Daily Diary'!A:A,'Grafico Strategie Settimanali'!B284,'Daily Diary'!E:E,\"PUNTA SQ.CASA\")","v":0},{"$f":"COUNTIFS('Daily Diary'!A:A,'Grafico Strategie Settimanali'!B284,'Daily Diary'!E:E,\"PUNTA SQ.OSPITE\")","v":0},{"$f":"COUNTIFS('Daily Diary'!A:A,'Grafico Strategie Settimanali'!B284,'Daily Diary'!E:E,\"BANCA SFAVORITA\")","v":0},{"$f":"COUNTIFS('Daily Diary'!A:A,'Grafico Strategie Settimanali'!B284,'Daily Diary'!E:E,\"PUNTA OVER\")","v":0},{"$f":"COUNTIFS('Daily Diary'!A:A,'Grafico Strategie Settimanali'!B284,'Daily Diary'!E:E,\"PUNTA UNDER\")","v":0},{"$f":"COUNTIFS('Daily Diary'!A:A,'Grafico Strategie Settimanali'!B284,'Daily Diary'!E:E,\"SCALPING\")","v":0},{"$f":"COUNTIFS('Daily Diary'!A:A,'Grafico Strategie Settimanali'!B284,'Daily Diary'!E:E,\"GT90\")","v":0},{"$f":"COUNTIFS('Daily Diary'!A:A,'Grafico Strategie Settimanali'!B284,'Daily Diary'!E:E,\"GT110\")","v":0},{"$f":"COUNTIFS('Daily Diary'!A:A,'Grafico Strategie Settimanali'!B284,'Daily Diary'!E:E,\"ALERT GOAL\")","v":0},{"$f":"COUNTIFS('Daily Diary'!A:A,'Grafico Strategie Settimanali'!B284,'Daily Diary'!E:E,\"DRAW NO BET\")","v":0},{"$f":"COUNTIFS('Daily Diary'!A:A,'Grafico Strategie Settimanali'!B284,'Daily Diary'!E:E,\"ALTRO\")","v":0},{"$f":"COUNTIFS('Daily Diary'!A:A,'Grafico Strategie Settimanali'!B284,'Daily Diary'!E:E,\"BANCA PAREGGIO\",'Daily Diary'!E:E,\"BANCA PAREGGIO\",'Daily Diary'!K:K,\"WIN\")","v":0},{"$f":"COUNTIFS('Daily Diary'!A:A,'Grafico Strategie Settimanali'!B284,'Daily Diary'!E:E,\"PUNTA SQ.CASA\",'Daily Diary'!E:E,\"PUNTA SQ.CASA\",'Daily Diary'!K:K,\"WIN\")","v":0},{"$f":"COUNTIFS('Daily Diary'!A:A,'Grafico Strategie Settimanali'!B284,'Daily Diary'!E:E,\"PUNTA SQ.OSPITE\",'Daily Diary'!E:E,\"PUNTA SQ.OSPITE\",'Daily Diary'!K:K,\"WIN\")","v":0},{"$f":"COUNTIFS('Daily Diary'!A:A,'Grafico Strategie Settimanali'!B284,'Daily Diary'!E:E,\"BANCA SFAVORITA\",'Daily Diary'!E:E,\"BANCA SFAVORITA\",'Daily Diary'!K:K,\"WIN\")","v":0},{"$f":"COUNTIFS('Daily Diary'!A:A,'Grafico Strategie Settimanali'!B284,'Daily Diary'!E:E,\"PUNTA OVER\",'Daily Diary'!E:E,\"PUNTA OVER\",'Daily Diary'!K:K,\"WIN\")","v":0},{"$f":"COUNTIFS('Daily Diary'!A:A,'Grafico Strategie Settimanali'!B284,'Daily Diary'!E:E,\"PUNTA UNDER\",'Daily Diary'!E:E,\"PUNTA UNDER\",'Daily Diary'!K:K,\"WIN\")","v":0},{"$f":"COUNTIFS('Daily Diary'!A:A,'Grafico Strategie Settimanali'!B284,'Daily Diary'!E:E,\"SCALPING\",'Daily Diary'!E:E,\"SCALPING\",'Daily Diary'!K:K,\"WIN\")","v":0},{"$f":"COUNTIFS('Daily Diary'!A:A,'Grafico Strategie Settimanali'!B284,'Daily Diary'!E:E,\"GT 90\",'Daily Diary'!E:E,\"GT 90\",'Daily Diary'!K:K,\"WIN\")","v":0},{"$f":"COUNTIFS('Daily Diary'!A:A,'Grafico Strategie Settimanali'!B284,'Daily Diary'!E:E,\"GT 110\",'Daily Diary'!E:E,\"GT 110\",'Daily Diary'!K:K,\"WIN\")","v":0},{"$f":"COUNTIFS('Daily Diary'!A:A,'Grafico Strategie Settimanali'!B284,'Daily Diary'!E:E,\"ALERT GOAL\",'Daily Diary'!E:E,\"ALERT GOAL\",'Daily Diary'!K:K,\"WIN\")","v":0},{"$f":"COUNTIFS('Daily Diary'!A:A,'Grafico Strategie Settimanali'!B284,'Daily Diary'!E:E,\"DRAW NO BET\",'Daily Diary'!E:E,\"DRAW NO BET\",'Daily Diary'!K:K,\"WIN\")","v":0},{"$f":"COUNTIFS('Daily Diary'!A:A,'Grafico Strategie Settimanali'!B284,'Daily Diary'!E:E,\"ALTRO\",'Daily Diary'!E:E,\"ALTRO\",'Daily Diary'!K:K,\"WIN\")","v":0},{"$error":"#DIV/0!"},{"$error":"#DIV/0!"},{"$error":"#DIV/0!"},{"$error":"#DIV/0!"},{"$error":"#DIV/0!"},{"$error":"#DIV/0!"},{"$error":"#DIV/0!"},{"$error":"#DIV/0!"},{"$error":"#DIV/0!"},{"$error":"#DIV/0!"},{"$error":"#DIV/0!"},{"$error":"#DIV/0!"}]
[0,"2024-02-11",{"$f":"COUNTIFS('Daily Diary'!A:A,'Grafico Strategie Settimanali'!B285,'Daily Diary'!E:E,\"BANCA PAREGGIO\")","v":0},{"$f":"COUNTIFS('Daily Diary'!A:A,'Grafico Strategie Settimanali'!B285,'Daily Diary'!E:E,\"PUNTA SQ.CASA\")","v":0},{"$f":"COUNTIFS('Daily Diary'!A:A,'Grafico Strategie Settimanali'!B285,'Daily Diary'!E:E,\"PUNTA SQ.OSPITE\")","v":0},{"$f":"COUNTIFS('Daily Diary'!A:A,'Grafico Strategie Settimanali'!B285,'Daily Diary'!E:E,\"BANCA SFAVORITA\")","v":0},{"$f":"COUNTIFS('Daily Diary'!A:A,'Grafico Strategie Settimanali'!B285,'Daily Diary'!E:E,\"PUNTA OVER\")","v":0},{"$f":"COUNTIFS('Daily Diary'!A:A,'Grafico Strategie Settimanali'!B285,'Daily Diary'!E:E,\"PUNTA UNDER\")","v":0},{"$f":"COUNTIFS('Daily Diary'!A:A,'Grafico Strategie Settimanali'!B285,'Daily Diary'!E:E,\"SCALPING\")","v":0},{"$f":"COUNTIFS('Daily Diary'!A:A,'Grafico Strategie Settimanali'!B285,'Daily Diary'!E:E,\"GT90\")","v":0},{"$f":"COUNTIFS('Daily Diary'!A:A,'Grafico Strategie Settimanali'!B285,'Daily Diary'!E:E,\"GT110\")","v":0},{"$f":"COUNTIFS('Daily Diary'!A:A,'Grafico Strategie Settimanali'!B285,'Daily Diary'!E:E,\"ALERT GOAL\")","v":0},{"$f":"COUNTIFS('Daily Diary'!A:A,'Grafico Strategie Settimanali'!B285,'Daily Diary'!E:E,\"DRAW NO BET\")","v":0},{"$f":"COUNTIFS('Daily Diary'!A:A,'Grafico Strategie Settimanali'!B285,'Daily Diary'!E:E,\"ALTRO\")","v":0},{"$f":"COUNTIFS('Daily Diary'!A:A,'Grafico Strategie Settimanali'!B285,'Daily Diary'!E:E,\"BANCA PAREGGIO\",'Daily Diary'!E:E,\"BANCA PAREGGIO\",'Daily Diary'!K:K,\"WIN\")","v":0},{"$f":"COUNTIFS('Daily Diary'!A:A,'Grafico Strategie Settimanali'!B285,'Daily Diary'!E:E,\"PUNTA SQ.CASA\",'Daily Diary'!E:E,\"PUNTA SQ.CASA\",'Daily Diary'!K:K,\"WIN\")","v":0},{"$f":"COUNTIFS('Daily Diary'!A:A,'Grafico Strategie Settimanali'!B285,'Daily Diary'!E:E,\"PUNTA SQ.OSPITE\",'Daily Diary'!E:E,\"PUNTA SQ.OSPITE\",'Daily Diary'!K:K,\"WIN\")","v":0},{"$f":"COUNTIFS('Daily Diary'!A:A,'Grafico Strategie Settimanali'!B285,'Daily Diary'!E:E,\"BANCA SFAVORITA\",'Daily Diary'!E:E,\"BANCA SFAVORITA\",'Daily Diary'!K:K,\"WIN\")","v":0},{"$f":"COUNTIFS('Daily Diary'!A:A,'Grafico Strategie Settimanali'!B285,'Daily Diary'!E:E,\"PUNTA OVER\",'Daily Diary'!E:E,\"PUNTA OVER\",'Daily Diary'!K:K,\"WIN\")","v":0},{"$f":"COUNTIFS('Daily Diary'!A:A,'Grafico Strategie Settimanali'!B285,'Daily Diary'!E:E,\"PUNTA UNDER\",'Daily Diary'!E:E,\"PUNTA UNDER\",'Daily Diary'!K:K,\"WIN\")","v":0},{"$f":"COUNTIFS('Daily Diary'!A:A,'Grafico Strategie Settimanali'!B285,'Daily Diary'!E:E,\"SCALPING\",'Daily Diary'!E:E,\"SCALPING\",'Daily Diary'!K:K,\"WIN\")","v":0},{"$f":"COUNTIFS('Daily Diary'!A:A,'Grafico Strategie Settimanali'!B285,'Daily Diary'!E:E,\"GT 90\",'Daily Diary'!E:E,\"GT 90\",'Daily Diary'!K:K,\"WIN\")","v":0},{"$f":"COUNTIFS('Daily Diary'!A:A,'Grafico Strategie Settimanali'!B285,'Daily Diary'!E:E,\"GT 110\",'Daily Diary'!E:E,\"GT 110\",'Daily Diary'!K:K,\"WIN\")","v":0},{"$f":"COUNTIFS('Daily Diary'!A:A,'Grafico Strategie Settimanali'!B285,'Daily Diary'!E:E,\"ALERT GOAL\",'Daily Diary'!E:E,\"ALERT GOAL\",'Daily Diary'!K:K,\"WIN\")","v":0},{"$f":"COUNTIFS('Daily Diary'!A:A,'Grafico Strategie Settimanali'!B285,'Daily Diary'!E:E,\"DRAW NO BET\",'Daily Diary'!E:E,\"DRAW NO BET\",'Daily Diary'!K:K,\"WIN\")","v":0},{"$f":"COUNTIFS('Daily Diary'!A:A,'Grafico Strategie Settimanali'!B285,'Daily Diary'!E:E,\"ALTRO\",'Daily Diary'!E:E,\"ALTRO\",'Daily Diary'!K:K,\"WIN\")","v":0},{"$error":"#DIV/0!"},{"$error":"#DIV/0!"},{"$error":"#DIV/0!"},{"$error":"#DIV/0!"},{"$error":"#DIV/0!"},{"$error":"#DIV/0!"},{"$error":"#DIV/0!"},{"$error":"#DIV/0!"},{"$error":"#DIV/0!"},{"$error":"#DIV/0!"},{"$error":"#DIV/0!"},{"$error":"#DIV/0!"}]
[0,"2024-02-12",{"$f":"COUNTIFS('Daily Diary'!A:A,'Grafico Strategie Settimanali'!B286,'Daily Diary'!E:E,\"BANCA PAREGGIO\")","v":0},{"$f":"COUNTIFS('Daily Diary'!A:A,'Grafico Strategie Settimanali'!B286,'Daily Diary'!E:E,\"PUNTA SQ.CASA\")","v":0},{"$f":"COUNTIFS('Daily Diary'!A:A,'Grafico Strategie Settimanali'!B286,'Daily Diary'!E:E,\"PUNTA SQ.OSPITE\")","v":0},{"$f":"COUNTIFS('Daily Diary'!A:A,'Grafico Strategie Settimanali'!B286,'Daily Diary'!E:E,\"BANCA SFAVORITA\")","v":0},{"$f":"COUNTIFS('Daily Diary'!A:A,'Grafico Strategie Settimanali'!B286,'Daily Diary'!E:E,\"PUNTA OVER\")","v":0},{"$f":"COUNTIFS('Daily Diary'!A:A,'Grafico Strategie Settimanali'!B286,'Daily Diary'!E:E,\"PUNTA UNDER\")","v":0},{"$f":"COUNTIFS('Daily Diary'!A:A,'Grafico Strategie Settimanali'!B286,'Daily Diary'!E:E,\"SCALPING\")","v":0},{"$f":"COUNTIFS('Daily Diary'!A:A,'Grafico Strategie Settimanali'!B286,'Daily Diary'!E:E,\"GT90\")","v":0},{"$f":"COUNTIFS('Daily Diary'!A:A,'Grafico Strategie Settimanali'!B286,'Daily Diary'!E:E,\"GT110\")","v":0},{"$f":"COUNTIFS('Daily Diary'!A:A,'Grafico Strategie Settimanali'!B286,'Daily Diary'!E:E,\"ALERT GOAL\")","v":0},{"$f":"COUNTIFS('Daily Diary'!A:A,'Grafico Strategie Settimanali'!B286,'Daily Diary'!E:E,\"DRAW NO BET\")","v":0},{"$f":"COUNTIFS('Daily Diary'!A:A,'Grafico Strategie Settimanali'!B286,'Daily Diary'!E:E,\"ALTRO\")","v":0},{"$f":"COUNTIFS('Daily Diary'!A:A,'Grafico Strategie Settimanali'!B286,'Daily Diary'!E:E,\"BANCA PAREGGIO\",'Daily Diary'!E:E,\"BANCA PAREGGIO\",'Daily Diary'!K:K,\"WIN\")","v":0},{"$f":"COUNTIFS('Daily Diary'!A:A,'Grafico Strategie Settimanali'!B286,'Daily Diary'!E:E,\"PUNTA SQ.CASA\",'Daily Diary'!E:E,\"PUNTA SQ.CASA\",'Daily Diary'!K:K,\"WIN\")","v":0},{"$f":"COUNTIFS('Daily Diary'!A:A,'Grafico Strategie Settimanali'!B286,'Daily Diary'!E:E,\"PUNTA SQ.OSPITE\",'Daily Diary'!E:E,\"PUNTA SQ.OSPITE\",'Daily Diary'!K:K,\"WIN\")","v":0},{"$f":"COUNTIFS('Daily Diary'!A:A,'Grafico Strategie Settimanali'!B286,'Daily Diary'!E:E,\"BANCA SFAVORITA\",'Daily Diary'!E:E,\"BANCA SFAVORITA\",'Daily Diary'!K:K,\"WIN\")","v":0},{"$f":"COUNTIFS('Daily Diary'!A:A,'Grafico Strategie Settimanali'!B286,'Daily Diary'!E:E,\"PUNTA OVER\",'Daily Diary'!E:E,\"PUNTA OVER\",'Daily Diary'!K:K,\"WIN\")","v":0},{"$f":"COUNTIFS('Daily Diary'!A:A,'Grafico Strategie Settimanali'!B286,'Daily Diary'!E:E,\"PUNTA UNDER\",'Daily Diary'!E:E,\"PUNTA UNDER\",'Daily Diary'!K:K,\"WIN\")","v":0},{"$f":"COUNTIFS('Daily Diary'!A:A,'Grafico Strategie Settimanali'!B286,'Daily Diary'!E:E,\"SCALPING\",'Daily Diary'!E:E,\"SCALPING\",'Daily Diary'!K:K,\"WIN\")","v":0},{"$f":"COUNTIFS('Daily Diary'!A:A,'Grafico Strategie Settimanali'!B286,'Daily Diary'!E:E,\"GT 90\",'Daily Diary'!E:E,\"GT 90\",'Daily Diary'!K:K,\"WIN\")","v":0},{"$f":"COUNTIFS('Daily Diary'!A:A,'Grafico Strategie Settimanali'!B286,'Daily Diary'!E:E,\"GT 110\",'Daily Diary'!E:E,\"GT 110\",'Daily Diary'!K:K,\"WIN\")","v":0},{"$f":"COUNTIFS('Daily Diary'!A:A,'Grafico Strategie Settimanali'!B286,'Daily Diary'!E:E,\"ALERT GOAL\",'Daily Diary'!E:E,\"ALERT GOAL\",'Daily Diary'!K:K,\"WIN\")","v":0},{"$f":"COUNTIFS('Daily Diary'!A:A,'Grafico Strategie Settimanali'!B286,'Daily Diary'!E:E,\"DRAW NO BET\",'Daily Diary'!E:E,\"DRAW NO BET\",'Daily Diary'!K:K,\"WIN\")","v":0},{"$f":"COUNTIFS('Daily Diary'!A:A,'Grafico Strategie Settimanali'!B286,'Daily Diary'!E:E,\"ALTRO\",'Daily Diary'!E:E,\"ALTRO\",'Daily Diary'!K:K,\"WIN\")","v":0},{"$error":"#DIV/0!"},{"$error":"#DIV/0!"},{"$error":"#DIV/0!"},{"$error":"#DIV/0!"},{"$error":"#DIV/0!"},{"$error":"#DIV/0!"},{"$error":"#DIV/0!"},{"$error":"#DIV/0!"},{"$error":"#DIV/0!"},{"$error":"#DIV/0!"},{"$error":"#DIV/0!"},{"$error":"#DIV/0!"}]
[0,"2024-02-13",{"$f":"COUNTIFS('Daily Diary'!A:A,'Grafico Strategie Settimanali'!B287,'Daily Diary'!E:E,\"BANCA PAREGGIO\")","v":0},{"$f":"COUNTIFS('Daily Diary'!A:A,'Grafico Strategie Settimanali'!B287,'Daily Diary'!E:E,\"PUNTA SQ.CASA\")","v":0},{"$f":"COUNTIFS('Daily Diary'!A:A,'Grafico Strategie Settimanali'!B287,'Daily Diary'!E:E,\"PUNTA SQ.OSPITE\")","v":0},{"$f":"COUNTIFS('Daily Diary'!A:A,'Grafico Strategie Settimanali'!B287,'Daily Diary'!E:E,\"BANCA SFAVORITA\")","v":0},{"$f":"COUNTIFS('Daily Diary'!A:A,'Grafico Strategie Settimanali'!B287,'Daily Diary'!E:E,\"PUNTA OVER\")","v":0},{"$f":"COUNTIFS('Daily Diary'!A:A,'Grafico Strategie Settimanali'!B287,'Daily Diary'!E:E,\"PUNTA UNDER\")","v":0},{"$f":"COUNTIFS('Daily Diary'!A:A,'Grafico Strategie Settimanali'!B287,'Daily Diary'!E:E,\"SCALPING\")","v":0},{"$f":"COUNTIFS('Daily Diary'!A:A,'Grafico Strategie Settimanali'!B287,'Daily Diary'!E:E,\"GT90\")","v":0},{"$f":"COUNTIFS('Daily Diary'!A:A,'Grafico Strategie Settimanali'!B287,'Daily Diary'!E:E,\"GT110\")","v":0},{"$f":"COUNTIFS('Daily Diary'!A:A,'Grafico Strategie Settimanali'!B287,'Daily Diary'!E:E,\"ALERT GOAL\")","v":0},{"$f":"COUNTIFS('Daily Diary'!A:A,'Grafico Strategie Settimanali'!B287,'Daily Diary'!E:E,\"DRAW NO BET\")","v":0},{"$f":"COUNTIFS('Daily Diary'!A:A,'Grafico Strategie Settimanali'!B287,'Daily Diary'!E:E,\"ALTRO\")","v":0},{"$f":"COUNTIFS('Daily Diary'!A:A,'Grafico Strategie Settimanali'!B287,'Daily Diary'!E:E,\"BANCA PAREGGIO\",'Daily Diary'!E:E,\"BANCA PAREGGIO\",'Daily Diary'!K:K,\"WIN\")","v":0},{"$f":"COUNTIFS('Daily Diary'!A:A,'Grafico Strategie Settimanali'!B287,'Daily Diary'!E:E,\"PUNTA SQ.CASA\",'Daily Diary'!E:E,\"PUNTA SQ.CASA\",'Daily Diary'!K:K,\"WIN\")","v":0},{"$f":"COUNTIFS('Daily Diary'!A:A,'Grafico Strategie Settimanali'!B287,'Daily Diary'!E:E,\"PUNTA SQ.OSPITE\",'Daily Diary'!E:E,\"PUNTA SQ.OSPITE\",'Daily Diary'!K:K,\"WIN\")","v":0},{"$f":"COUNTIFS('Daily Diary'!A:A,'Grafico Strategie Settimanali'!B287,'Daily Diary'!E:E,\"BANCA SFAVORITA\",'Daily Diary'!E:E,\"BANCA SFAVORITA\",'Daily Diary'!K:K,\"WIN\")","v":0},{"$f":"COUNTIFS('Daily Diary'!A:A,'Grafico Strategie Settimanali'!B287,'Daily Diary'!E:E,\"PUNTA OVER\",'Daily Diary'!E:E,\"PUNTA OVER\",'Daily Diary'!K:K,\"WIN\")","v":0},{"$f":"COUNTIFS('Daily Diary'!A:A,'Grafico Strategie Settimanali'!B287,'Daily Diary'!E:E,\"PUNTA UNDER\",'Daily Diary'!E:E,\"PUNTA UNDER\",'Daily Diary'!K:K,\"WIN\")","v":0},{"$f":"COUNTIFS('Daily Diary'!A:A,'Grafico Strategie Settimanali'!B287,'Daily Diary'!E:E,\"SCALPING\",'Daily Diary'!E:E,\"SCALPING\",'Daily Diary'!K:K,\"WIN\")","v":0},{"$f":"COUNTIFS('Daily Diary'!A:A,'Grafico Strategie Settimanali'!B287,'Daily Diary'!E:E,\"GT 90\",'Daily Diary'!E:E,\"GT 90\",'Daily Diary'!K:K,\"WIN\")","v":0},{"$f":"COUNTIFS('Daily Diary'!A:A,'Grafico Strategie Settimanali'!B287,'Daily Diary'!E:E,\"GT 110\",'Daily Diary'!E:E,\"GT 110\",'Daily Diary'!K:K,\"WIN\")","v":0},{"$f":"COUNTIFS('Daily Diary'!A:A,'Grafico Strategie Settimanali'!B287,'Daily Diary'!E:E,\"ALERT GOAL\",'Daily Diary'!E:E,\"ALERT GOAL\",'Daily Diary'!K:K,\"WIN\")","v":0},{"$f":"COUNTIFS('Daily Diary'!A:A,'Grafico Strategie Settimanali'!B287,'Daily Diary'!E:E,\"DRAW NO BET\",'Daily Diary'!E:E,\"DRAW NO BET\",'Daily Diary'!K:K,\"WIN\")","v":0},{"$f":"COUNTIFS('Daily Diary'!A:A,'Grafico Strategie Settimanali'!B287,'Daily Diary'!E:E,\"ALTRO\",'Daily Diary'!E:E,\"ALTRO\",'Daily Diary'!K:K,\"WIN\")","v":0},{"$error":"#DIV/0!"},{"$error":"#DIV/0!"},{"$error":"#DIV/0!"},{"$error":"#DIV/0!"},{"$error":"#DIV/0!"},{"$error":"#DIV/0!"},{"$error":"#DIV/0!"},{"$error":"#DIV/0!"},{"$error":"#DIV/0!"},{"$error":"#DIV/0!"},{"$error":"#DIV/0!"},{"$error":"#DIV/0!"}]
[0,"2024-02-14",{"$f":"COUNTIFS('Daily Diary'!A:A,'Grafico Strategie Settimanali'!B288,'Daily Diary'!E:E,\"BANCA PAREGGIO\")","v":0},{"$f":"COUNTIFS('Daily Diary'!A:A,'Grafico Strategie Settimanali'!B288,'Daily Diary'!E:E,\"PUNTA SQ.CASA\")","v":0},{"$f":"COUNTIFS('Daily Diary'!A:A,'Grafico Strategie Settimanali'!B288,'Daily Diary'!E:E,\"PUNTA SQ.OSPITE\")","v":0},{"$f":"COUNTIFS('Daily Diary'!A:A,'Grafico Strategie Settimanali'!B288,'Daily Diary'!E:E,\"BANCA SFAVORITA\")","v":0},{"$f":"COUNTIFS('Daily Diary'!A:A,'Grafico Strategie Settimanali'!B288,'Daily Diary'!E:E,\"PUNTA OVER\")","v":0},{"$f":"COUNTIFS('Daily Diary'!A:A,'Grafico Strategie Settimanali'!B288,'Daily Diary'!E:E,\"PUNTA UNDER\")","v":0},{"$f":"COUNTIFS('Daily Diary'!A:A,'Grafico Strategie Settimanali'!B288,'Daily Diary'!E:E,\"SCALPING\")","v":0},{"$f":"COUNTIFS('Daily Diary'!A:A,'Grafico Strategie Settimanali'!B288,'Daily Diary'!E:E,\"GT90\")","v":0},{"$f":"COUNTIFS('Daily Diary'!A:A,'Grafico Strategie Settimanali'!B288,'Daily Diary'!E:E,\"GT110\")","v":0},{"$f":"COUNTIFS('Daily Diary'!A:A,'Grafico Strategie Settimanali'!B288,'Daily Diary'!E:E,\"ALERT GOAL\")","v":0},{"$f":"COUNTIFS('Daily Diary'!A:A,'Grafico Strategie Settimanali'!B288,'Daily Diary'!E:E,\"DRAW NO BET\")","v":0},{"$f":"COUNTIFS('Daily Diary'!A:A,'Grafico Strategie Settimanali'!B288,'Daily Diary'!E:E,\"ALTRO\")","v":0},{"$f":"COUNTIFS('Daily Diary'!A:A,'Grafico Strategie Settimanali'!B288,'Daily Diary'!E:E,\"BANCA PAREGGIO\",'Daily Diary'!E:E,\"BANCA PAREGGIO\",'Daily Diary'!K:K,\"WIN\")","v":0},{"$f":"COUNTIFS('Daily Diary'!A:A,'Grafico Strategie Settimanali'!B288,'Daily Diary'!E:E,\"PUNTA SQ.CASA\",'Daily Diary'!E:E,\"PUNTA SQ.CASA\",'Daily Diary'!K:K,\"WIN\")","v":0},{"$f":"COUNTIFS('Daily Diary'!A:A,'Grafico Strategie Settimanali'!B288,'Daily Diary'!E:E,\"PUNTA SQ.OSPITE\",'Daily Diary'!E:E,\"PUNTA SQ.OSPITE\",'Daily Diary'!K:K,\"WIN\")","v":0},{"$f":"COUNTIFS('Daily Diary'!A:A,'Grafico Strategie Settimanali'!B288,'Daily Diary'!E:E,\"BANCA SFAVORITA\",'Daily Diary'!E:E,\"BANCA SFAVORITA\",'Daily Diary'!K:K,\"WIN\")","v":0},{"$f":"COUNTIFS('Daily Diary'!A:A,'Grafico Strategie Settimanali'!B288,'Daily Diary'!E:E,\"PUNTA OVER\",'Daily Diary'!E:E,\"PUNTA OVER\",'Daily Diary'!K:K,\"WIN\")","v":0},{"$f":"COUNTIFS('Daily Diary'!A:A,'Grafico Strategie Settimanali'!B288,'Daily Diary'!E:E,\"PUNTA UNDER\",'Daily Diary'!E:E,\"PUNTA UNDER\",'Daily Diary'!K:K,\"WIN\")","v":0},{"$f":"COUNTIFS('Daily Diary'!A:A,'Grafico Strategie Settimanali'!B288,'Daily Diary'!E:E,\"SCALPING\",'Daily Diary'!E:E,\"SCALPING\",'Daily Diary'!K:K,\"WIN\")","v":0},{"$f":"COUNTIFS('Daily Diary'!A:A,'Grafico Strategie Settimanali'!B288,'Daily Diary'!E:E,\"GT 90\",'Daily Diary'!E:E,\"GT 90\",'Daily Diary'!K:K,\"WIN\")","v":0},{"$f":"COUNTIFS('Daily Diary'!A:A,'Grafico Strategie Settimanali'!B288,'Daily Diary'!E:E,\"GT 110\",'Daily Diary'!E:E,\"GT 110\",'Daily Diary'!K:K,\"WIN\")","v":0},{"$f":"COUNTIFS('Daily Diary'!A:A,'Grafico Strategie Settimanali'!B288,'Daily Diary'!E:E,\"ALERT GOAL\",'Daily Diary'!E:E,\"ALERT GOAL\",'Daily Diary'!K:K,\"WIN\")","v":0},{"$f":"COUNTIFS('Daily Diary'!A:A,'Grafico Strategie Settimanali'!B288,'Daily Diary'!E:E,\"DRAW NO BET\",'Daily Diary'!E:E,\"DRAW NO BET\",'Daily Diary'!K:K,\"WIN\")","v":0},{"$f":"COUNTIFS('Daily Diary'!A:A,'Grafico Strategie Settimanali'!B288,'Daily Diary'!E:E,\"ALTRO\",'Daily Diary'!E:E,\"ALTRO\",'Daily Diary'!K:K,\"WIN\")","v":0},{"$error":"#DIV/0!"},{"$error":"#DIV/0!"},{"$error":"#DIV/0!"},{"$error":"#DIV/0!"},{"$error":"#DIV/0!"},{"$error":"#DIV/0!"},{"$error":"#DIV/0!"},{"$error":"#DIV/0!"},{"$error":"#DIV/0!"},{"$error":"#DIV/0!"},{"$error":"#DIV/0!"},{"$error":"#DIV/0!"}]
[0,"2024-02-15",{"$f":"COUNTIFS('Daily Diary'!A:A,'Grafico Strategie Settimanali'!B289,'Daily Diary'!E:E,\"BANCA PAREGGIO\")","v":0},{"$f":"COUNTIFS('Daily Diary'!A:A,'Grafico Strategie Settimanali'!B289,'Daily Diary'!E:E,\"PUNTA SQ.CASA\")","v":0},{"$f":"COUNTIFS('Daily Diary'!A:A,'Grafico Strategie Settimanali'!B289,'Daily Diary'!E:E,\"PUNTA SQ.OSPITE\")","v":0},{"$f":"COUNTIFS('Daily Diary'!A:A,'Grafico Strategie Settimanali'!B289,'Daily Diary'!E:E,\"BANCA SFAVORITA\")","v":0},{"$f":"COUNTIFS('Daily Diary'!A:A,'Grafico Strategie Settimanali'!B289,'Daily Diary'!E:E,\"PUNTA OVER\")","v":0},{"$f":"COUNTIFS('Daily Diary'!A:A,'Grafico Strategie Settimanali'!B289,'Daily Diary'!E:E,\"PUNTA UNDER\")","v":0},{"$f":"COUNTIFS('Daily Diary'!A:A,'Grafico Strategie Settimanali'!B289,'Daily Diary'!E:E,\"SCALPING\")","v":0},{"$f":"COUNTIFS('Daily Diary'!A:A,'Grafico Strategie Settimanali'!B289,'Daily Diary'!E:E,\"GT90\")","v":0},{"$f":"COUNTIFS('Daily Diary'!A:A,'Grafico Strategie Settimanali'!B289,'Daily Diary'!E:E,\"GT110\")","v":0},{"$f":"COUNTIFS('Daily Diary'!A:A,'Grafico Strategie Settimanali'!B289,'Daily Diary'!E:E,\"ALERT GOAL\")","v":0},{"$f":"COUNTIFS('Daily Diary'!A:A,'Grafico Strategie Settimanali'!B289,'Daily Diary'!E:E,\"DRAW NO BET\")","v":0},{"$f":"COUNTIFS('Daily Diary'!A:A,'Grafico Strategie Settimanali'!B289,'Daily Diary'!E:E,\"ALTRO\")","v":0},{"$f":"COUNTIFS('Daily Diary'!A:A,'Grafico Strategie Settimanali'!B289,'Daily Diary'!E:E,\"BANCA PAREGGIO\",'Daily Diary'!E:E,\"BANCA PAREGGIO\",'Daily Diary'!K:K,\"WIN\")","v":0},{"$f":"COUNTIFS('Daily Diary'!A:A,'Grafico Strategie Settimanali'!B289,'Daily Diary'!E:E,\"PUNTA SQ.CASA\",'Daily Diary'!E:E,\"PUNTA SQ.CASA\",'Daily Diary'!K:K,\"WIN\")","v":0},{"$f":"COUNTIFS('Daily Diary'!A:A,'Grafico Strategie Settimanali'!B289,'Daily Diary'!E:E,\"PUNTA SQ.OSPITE\",'Daily Diary'!E:E,\"PUNTA SQ.OSPITE\",'Daily Diary'!K:K,\"WIN\")","v":0},{"$f":"COUNTIFS('Daily Diary'!A:A,'Grafico Strategie Settimanali'!B289,'Daily Diary'!E:E,\"BANCA SFAVORITA\",'Daily Diary'!E:E,\"BANCA SFAVORITA\",'Daily Diary'!K:K,\"WIN\")","v":0},{"$f":"COUNTIFS('Daily Diary'!A:A,'Grafico Strategie Settimanali'!B289,'Daily Diary'!E:E,\"PUNTA OVER\",'Daily Diary'!E:E,\"PUNTA OVER\",'Daily Diary'!K:K,\"WIN\")","v":0},{"$f":"COUNTIFS('Daily Diary'!A:A,'Grafico Strategie Settimanali'!B289,'Daily Diary'!E:E,\"PUNTA UNDER\",'Daily Diary'!E:E,\"PUNTA UNDER\",'Daily Diary'!K:K,\"WIN\")","v":0},{"$f":"COUNTIFS('Daily Diary'!A:A,'Grafico Strategie Settimanali'!B289,'Daily Diary'!E:E,\"SCALPING\",'Daily Diary'!E:E,\"SCALPING\",'Daily Diary'!K:K,\"WIN\")","v":0},{"$f":"COUNTIFS('Daily Diary'!A:A,'Grafico Strategie Settimanali'!B289,'Daily Diary'!E:E,\"GT 90\",'Daily Diary'!E:E,\"GT 90\",'Daily Diary'!K:K,\"WIN\")","v":0},{"$f":"COUNTIFS('Daily Diary'!A:A,'Grafico Strategie Settimanali'!B289,'Daily Diary'!E:E,\"GT 110\",'Daily Diary'!E:E,\"GT 110\",'Daily Diary'!K:K,\"WIN\")","v":0},{"$f":"COUNTIFS('Daily Diary'!A:A,'Grafico Strategie Settimanali'!B289,'Daily Diary'!E:E,\"ALERT GOAL\",'Daily Diary'!E:E,\"ALERT GOAL\",'Daily Diary'!K:K,\"WIN\")","v":0},{"$f":"COUNTIFS('Daily Diary'!A:A,'Grafico Strategie Settimanali'!B289,'Daily Diary'!E:E,\"DRAW NO BET\",'Daily Diary'!E:E,\"DRAW NO BET\",'Daily Diary'!K:K,\"WIN\")","v":0},{"$f":"COUNTIFS('Daily Diary'!A:A,'Grafico Strategie Settimanali'!B289,'Daily Diary'!E:E,\"ALTRO\",'Daily Diary'!E:E,\"ALTRO\",'Daily Diary'!K:K,\"WIN\")","v":0},{"$error":"#DIV/0!"},{"$error":"#DIV/0!"},{"$error":"#DIV/0!"},{"$error":"#DIV/0!"},{"$error":"#DIV/0!"},{"$error":"#DIV/0!"},{"$error":"#DIV/0!"},{"$error":"#DIV/0!"},{"$error":"#DIV/0!"},{"$error":"#DIV/0!"},{"$error":"#DIV/0!"},{"$error":"#DIV/0!"}]
[0,"2024-02-16",{"$f":"COUNTIFS('Daily Diary'!A:A,'Grafico Strategie Settimanali'!B290,'Daily Diary'!E:E,\"BANCA PAREGGIO\")","v":0},{"$f":"COUNTIFS('Daily Diary'!A:A,'Grafico Strategie Settimanali'!B290,'Daily Diary'!E:E,\"PUNTA SQ.CASA\")","v":0},{"$f":"COUNTIFS('Daily Diary'!A:A,'Grafico Strategie Settimanali'!B290,'Daily Diary'!E:E,\"PUNTA SQ.OSPITE\")","v":0},{"$f":"COUNTIFS('Daily Diary'!A:A,'Grafico Strategie Settimanali'!B290,'Daily Diary'!E:E,\"BANCA SFAVORITA\")","v":0},{"$f":"COUNTIFS('Daily Diary'!A:A,'Grafico Strategie Settimanali'!B290,'Daily Diary'!E:E,\"PUNTA OVER\")","v":0},{"$f":"COUNTIFS('Daily Diary'!A:A,'Grafico Strategie Settimanali'!B290,'Daily Diary'!E:E,\"PUNTA UNDER\")","v":0},{"$f":"COUNTIFS('Daily Diary'!A:A,'Grafico Strategie Settimanali'!B290,'Daily Diary'!E:E,\"SCALPING\")","v":0},{"$f":"COUNTIFS('Daily Diary'!A:A,'Grafico Strategie Settimanali'!B290,'Daily Diary'!E:E,\"GT90\")","v":0},{"$f":"COUNTIFS('Daily Diary'!A:A,'Grafico Strategie Settimanali'!B290,'Daily Diary'!E:E,\"GT110\")","v":0},{"$f":"COUNTIFS('Daily Diary'!A:A,'Grafico Strategie Settimanali'!B290,'Daily Diary'!E:E,\"ALERT GOAL\")","v":0},{"$f":"COUNTIFS('Daily Diary'!A:A,'Grafico Strategie Settimanali'!B290,'Daily Diary'!E:E,\"DRAW NO BET\")","v":0},{"$f":"COUNTIFS('Daily Diary'!A:A,'Grafico Strategie Settimanali'!B290,'Daily Diary'!E:E,\"ALTRO\")","v":0},{"$f":"COUNTIFS('Daily Diary'!A:A,'Grafico Strategie Settimanali'!B290,'Daily Diary'!E:E,\"BANCA PAREGGIO\",'Daily Diary'!E:E,\"BANCA PAREGGIO\",'Daily Diary'!K:K,\"WIN\")","v":0},{"$f":"COUNTIFS('Daily Diary'!A:A,'Grafico Strategie Settimanali'!B290,'Daily Diary'!E:E,\"PUNTA SQ.CASA\",'Daily Diary'!E:E,\"PUNTA SQ.CASA\",'Daily Diary'!K:K,\"WIN\")","v":0},{"$f":"COUNTIFS('Daily Diary'!A:A,'Grafico Strategie Settimanali'!B290,'Daily Diary'!E:E,\"PUNTA SQ.OSPITE\",'Daily Diary'!E:E,\"PUNTA SQ.OSPITE\",'Daily Diary'!K:K,\"WIN\")","v":0},{"$f":"COUNTIFS('Daily Diary'!A:A,'Grafico Strategie Settimanali'!B290,'Daily Diary'!E:E,\"BANCA SFAVORITA\",'Daily Diary'!E:E,\"BANCA SFAVORITA\",'Daily Diary'!K:K,\"WIN\")","v":0},{"$f":"COUNTIFS('Daily Diary'!A:A,'Grafico Strategie Settimanali'!B290,'Daily Diary'!E:E,\"PUNTA OVER\",'Daily Diary'!E:E,\"PUNTA OVER\",'Daily Diary'!K:K,\"WIN\")","v":0},{"$f":"COUNTIFS('Daily Diary'!A:A,'Grafico Strategie Settimanali'!B290,'Daily Diary'!E:E,\"PUNTA UNDER\",'Daily Diary'!E:E,\"PUNTA UNDER\",'Daily Diary'!K:K,\"WIN\")","v":0},{"$f":"COUNTIFS('Daily Diary'!A:A,'Grafico Strategie Settimanali'!B290,'Daily Diary'!E:E,\"SCALPING\",'Daily Diary'!E:E,\"SCALPING\",'Daily Diary'!K:K,\"WIN\")","v":0},{"$f":"COUNTIFS('Daily Diary'!A:A,'Grafico Strategie Settimanali'!B290,'Daily Diary'!E:E,\"GT 90\",'Daily Diary'!E:E,\"GT 90\",'Daily Diary'!K:K,\"WIN\")","v":0},{"$f":"COUNTIFS('Daily Diary'!A:A,'Grafico Strategie Settimanali'!B290,'Daily Diary'!E:E,\"GT 110\",'Daily Diary'!E:E,\"GT 110\",'Daily Diary'!K:K,\"WIN\")","v":0},{"$f":"COUNTIFS('Daily Diary'!A:A,'Grafico Strategie Settimanali'!B290,'Daily Diary'!E:E,\"ALERT GOAL\",'Daily Diary'!E:E,\"ALERT GOAL\",'Daily Diary'!K:K,\"WIN\")","v":0},{"$f":"COUNTIFS('Daily Diary'!A:A,'Grafico Strategie Settimanali'!B290,'Daily Diary'!E:E,\"DRAW NO BET\",'Daily Diary'!E:E,\"DRAW NO BET\",'Daily Diary'!K:K,\"WIN\")","v":0},{"$f":"COUNTIFS('Daily Diary'!A:A,'Grafico Strategie Settimanali'!B290,'Daily Diary'!E:E,\"ALTRO\",'Daily Diary'!E:E,\"ALTRO\",'Daily Diary'!K:K,\"WIN\")","v":0},{"$error":"#DIV/0!"},{"$error":"#DIV/0!"},{"$error":"#DIV/0!"},{"$error":"#DIV/0!"},{"$error":"#DIV/0!"},{"$error":"#DIV/0!"},{"$error":"#DIV/0!"},{"$error":"#DIV/0!"},{"$error":"#DIV/0!"},{"$error":"#DIV/0!"},{"$error":"#DIV/0!"},{"$error":"#DIV/0!"}]
[0,"2024-02-17",{"$f":"COUNTIFS('Daily Diary'!A:A,'Grafico Strategie Settimanali'!B291,'Daily Diary'!E:E,\"BANCA PAREGGIO\")","v":0},{"$f":"COUNTIFS('Daily Diary'!A:A,'Grafico Strategie Settimanali'!B291,'Daily Diary'!E:E,\"PUNTA SQ.CASA\")","v":0},{"$f":"COUNTIFS('Daily Diary'!A:A,'Grafico Strategie Settimanali'!B291,'Daily Diary'!E:E,\"PUNTA SQ.OSPITE\")","v":0},{"$f":"COUNTIFS('Daily Diary'!A:A,'Grafico Strategie Settimanali'!B291,'Daily Diary'!E:E,\"BANCA SFAVORITA\")","v":0},{"$f":"COUNTIFS('Daily Diary'!A:A,'Grafico Strategie Settimanali'!B291,'Daily Diary'!E:E,\"PUNTA OVER\")","v":0},{"$f":"COUNTIFS('Daily Diary'!A:A,'Grafico Strategie Settimanali'!B291,'Daily Diary'!E:E,\"PUNTA UNDER\")","v":0},{"$f":"COUNTIFS('Daily Diary'!A:A,'Grafico Strategie Settimanali'!B291,'Daily Diary'!E:E,\"SCALPING\")","v":0},{"$f":"COUNTIFS('Daily Diary'!A:A,'Grafico Strategie Settimanali'!B291,'Daily Diary'!E:E,\"GT90\")","v":0},{"$f":"COUNTIFS('Daily Diary'!A:A,'Grafico Strategie Settimanali'!B291,'Daily Diary'!E:E,\"GT110\")","v":0},{"$f":"COUNTIFS('Daily Diary'!A:A,'Grafico Strategie Settimanali'!B291,'Daily Diary'!E:E,\"ALERT GOAL\")","v":0},{"$f":"COUNTIFS('Daily Diary'!A:A,'Grafico Strategie Settimanali'!B291,'Daily Diary'!E:E,\"DRAW NO BET\")","v":0},{"$f":"COUNTIFS('Daily Diary'!A:A,'Grafico Strategie Settimanali'!B291,'Daily Diary'!E:E,\"ALTRO\")","v":0},{"$f":"COUNTIFS('Daily Diary'!A:A,'Grafico Strategie Settimanali'!B291,'Daily Diary'!E:E,\"BANCA PAREGGIO\",'Daily Diary'!E:E,\"BANCA PAREGGIO\",'Daily Diary'!K:K,\"WIN\")","v":0},{"$f":"COUNTIFS('Daily Diary'!A:A,'Grafico Strategie Settimanali'!B291,'Daily Diary'!E:E,\"PUNTA SQ.CASA\",'Daily Diary'!E:E,\"PUNTA SQ.CASA\",'Daily Diary'!K:K,\"WIN\")","v":0},{"$f":"COUNTIFS('Daily Diary'!A:A,'Grafico Strategie Settimanali'!B291,'Daily Diary'!E:E,\"PUNTA SQ.OSPITE\",'Daily Diary'!E:E,\"PUNTA SQ.OSPITE\",'Daily Diary'!K:K,\"WIN\")","v":0},{"$f":"COUNTIFS('Daily Diary'!A:A,'Grafico Strategie Settimanali'!B291,'Daily Diary'!E:E,\"BANCA SFAVORITA\",'Daily Diary'!E:E,\"BANCA SFAVORITA\",'Daily Diary'!K:K,\"WIN\")","v":0},{"$f":"COUNTIFS('Daily Diary'!A:A,'Grafico Strategie Settimanali'!B291,'Daily Diary'!E:E,\"PUNTA OVER\",'Daily Diary'!E:E,\"PUNTA OVER\",'Daily Diary'!K:K,\"WIN\")","v":0},{"$f":"COUNTIFS('Daily Diary'!A:A,'Grafico Strategie Settimanali'!B291,'Daily Diary'!E:E,\"PUNTA UNDER\",'Daily Diary'!E:E,\"PUNTA UNDER\",'Daily Diary'!K:K,\"WIN\")","v":0},{"$f":"COUNTIFS('Daily Diary'!A:A,'Grafico Strategie Settimanali'!B291,'Daily Diary'!E:E,\"SCALPING\",'Daily Diary'!E:E,\"SCALPING\",'Daily Diary'!K:K,\"WIN\")","v":0},{"$f":"COUNTIFS('Daily Diary'!A:A,'Grafico Strategie Settimanali'!B291,'Daily Diary'!E:E,\"GT 90\",'Daily Diary'!E:E,\"GT 90\",'Daily Diary'!K:K,\"WIN\")","v":0},{"$f":"COUNTIFS('Daily Diary'!A:A,'Grafico Strategie Settimanali'!B291,'Daily Diary'!E:E,\"GT 110\",'Daily Diary'!E:E,\"GT 110\",'Daily Diary'!K:K,\"WIN\")","v":0},{"$f":"COUNTIFS('Daily Diary'!A:A,'Grafico Strategie Settimanali'!B291,'Daily Diary'!E:E,\"ALERT GOAL\",'Daily Diary'!E:E,\"ALERT GOAL\",'Daily Diary'!K:K,\"WIN\")","v":0},{"$f":"COUNTIFS('Daily Diary'!A:A,'Grafico Strategie Settimanali'!B291,'Daily Diary'!E:E,\"DRAW NO BET\",'Daily Diary'!E:E,\"DRAW NO BET\",'Daily Diary'!K:K,\"WIN\")","v":0},{"$f":"COUNTIFS('Daily Diary'!A:A,'Grafico Strategie Settimanali'!B291,'Daily Diary'!E:E,\"ALTRO\",'Daily Diary'!E:E,\"ALTRO\",'Daily Diary'!K:K,\"WIN\")","v":0},{"$error":"#DIV/0!"},{"$error":"#DIV/0!"},{"$error":"#DIV/0!"},{"$error":"#DIV/0!"},{"$error":"#DIV/0!"},{"$error":"#DIV/0!"},{"$error":"#DIV/0!"},{"$error":"#DIV/0!"},{"$error":"#DIV/0!"},{"$error":"#DIV/0!"},{"$error":"#DIV/0!"},{"$error":"#DIV/0!"}]
[0,"2024-02-18",{"$f":"COUNTIFS('Daily Diary'!A:A,'Grafico Strategie Settimanali'!B292,'Daily Diary'!E:E,\"BANCA PAREGGIO\")","v":0},{"$f":"COUNTIFS('Daily Diary'!A:A,'Grafico Strategie Settimanali'!B292,'Daily Diary'!E:E,\"PUNTA SQ.CASA\")","v":0},{"$f":"COUNTIFS('Daily Diary'!A:A,'Grafico Strategie Settimanali'!B292,'Daily Diary'!E:E,\"PUNTA SQ.OSPITE\")","v":0},{"$f":"COUNTIFS('Daily Diary'!A:A,'Grafico Strategie Settimanali'!B292,'Daily Diary'!E:E,\"BANCA SFAVORITA\")","v":0},{"$f":"COUNTIFS('Daily Diary'!A:A,'Grafico Strategie Settimanali'!B292,'Daily Diary'!E:E,\"PUNTA OVER\")","v":0},{"$f":"COUNTIFS('Daily Diary'!A:A,'Grafico Strategie Settimanali'!B292,'Daily Diary'!E:E,\"PUNTA UNDER\")","v":0},{"$f":"COUNTIFS('Daily Diary'!A:A,'Grafico Strategie Settimanali'!B292,'Daily Diary'!E:E,\"SCALPING\")","v":0},{"$f":"COUNTIFS('Daily Diary'!A:A,'Grafico Strategie Settimanali'!B292,'Daily Diary'!E:E,\"GT90\")","v":0},{"$f":"COUNTIFS('Daily Diary'!A:A,'Grafico Strategie Settimanali'!B292,'Daily Diary'!E:E,\"GT110\")","v":0},{"$f":"COUNTIFS('Daily Diary'!A:A,'Grafico Strategie Settimanali'!B292,'Daily Diary'!E:E,\"ALERT GOAL\")","v":0},{"$f":"COUNTIFS('Daily Diary'!A:A,'Grafico Strategie Settimanali'!B292,'Daily Diary'!E:E,\"DRAW NO BET\")","v":0},{"$f":"COUNTIFS('Daily Diary'!A:A,'Grafico Strategie Settimanali'!B292,'Daily Diary'!E:E,\"ALTRO\")","v":0},{"$f":"COUNTIFS('Daily Diary'!A:A,'Grafico Strategie Settimanali'!B292,'Daily Diary'!E:E,\"BANCA PAREGGIO\",'Daily Diary'!E:E,\"BANCA PAREGGIO\",'Daily Diary'!K:K,\"WIN\")","v":0},{"$f":"COUNTIFS('Daily Diary'!A:A,'Grafico Strategie Settimanali'!B292,'Daily Diary'!E:E,\"PUNTA SQ.CASA\",'Daily Diary'!E:E,\"PUNTA SQ.CASA\",'Daily Diary'!K:K,\"WIN\")","v":0},{"$f":"COUNTIFS('Daily Diary'!A:A,'Grafico Strategie Settimanali'!B292,'Daily Diary'!E:E,\"PUNTA SQ.OSPITE\",'Daily Diary'!E:E,\"PUNTA SQ.OSPITE\",'Daily Diary'!K:K,\"WIN\")","v":0},{"$f":"COUNTIFS('Daily Diary'!A:A,'Grafico Strategie Settimanali'!B292,'Daily Diary'!E:E,\"BANCA SFAVORITA\",'Daily Diary'!E:E,\"BANCA SFAVORITA\",'Daily Diary'!K:K,\"WIN\")","v":0},{"$f":"COUNTIFS('Daily Diary'!A:A,'Grafico Strategie Settimanali'!B292,'Daily Diary'!E:E,\"PUNTA OVER\",'Daily Diary'!E:E,\"PUNTA OVER\",'Daily Diary'!K:K,\"WIN\")","v":0},{"$f":"COUNTIFS('Daily Diary'!A:A,'Grafico Strategie Settimanali'!B292,'Daily Diary'!E:E,\"PUNTA UNDER\",'Daily Diary'!E:E,\"PUNTA UNDER\",'Daily Diary'!K:K,\"WIN\")","v":0},{"$f":"COUNTIFS('Daily Diary'!A:A,'Grafico Strategie Settimanali'!B292,'Daily Diary'!E:E,\"SCALPING\",'Daily Diary'!E:E,\"SCALPING\",'Daily Diary'!K:K,\"WIN\")","v":0},{"$f":"COUNTIFS('Daily Diary'!A:A,'Grafico Strategie Settimanali'!B292,'Daily Diary'!E:E,\"GT 90\",'Daily Diary'!E:E,\"GT 90\",'Daily Diary'!K:K,\"WIN\")","v":0},{"$f":"COUNTIFS('Daily Diary'!A:A,'Grafico Strategie Settimanali'!B292,'Daily Diary'!E:E,\"GT 110\",'Daily Diary'!E:E,\"GT 110\",'Daily Diary'!K:K,\"WIN\")","v":0},{"$f":"COUNTIFS('Daily Diary'!A:A,'Grafico Strategie Settimanali'!B292,'Daily Diary'!E:E,\"ALERT GOAL\",'Daily Diary'!E:E,\"ALERT GOAL\",'Daily Diary'!K:K,\"WIN\")","v":0},{"$f":"COUNTIFS('Daily Diary'!A:A,'Grafico Strategie Settimanali'!B292,'Daily Diary'!E:E,\"DRAW NO BET\",'Daily Diary'!E:E,\"DRAW NO BET\",'Daily Diary'!K:K,\"WIN\")","v":0},{"$f":"COUNTIFS('Daily Diary'!A:A,'Grafico Strategie Settimanali'!B292,'Daily Diary'!E:E,\"ALTRO\",'Daily Diary'!E:E,\"ALTRO\",'Daily Diary'!K:K,\"WIN\")","v":0},{"$error":"#DIV/0!"},{"$error":"#DIV/0!"},{"$error":"#DIV/0!"},{"$error":"#DIV/0!"},{"$error":"#DIV/0!"},{"$error":"#DIV/0!"},{"$error":"#DIV/0!"},{"$error":"#DIV/0!"},{"$error":"#DIV/0!"},{"$error":"#DIV/0!"},{"$error":"#DIV/0!"},{"$error":"#DIV/0!"}]
[0,"2024-02-19",{"$f":"COUNTIFS('Daily Diary'!A:A,'Grafico Strategie Settimanali'!B293,'Daily Diary'!E:E,\"BANCA PAREGGIO\")","v":0},{"$f":"COUNTIFS('Daily Diary'!A:A,'Grafico Strategie Settimanali'!B293,'Daily Diary'!E:E,\"PUNTA SQ.CASA\")","v":0},{"$f":"COUNTIFS('Daily Diary'!A:A,'Grafico Strategie Settimanali'!B293,'Daily Diary'!E:E,\"PUNTA SQ.OSPITE\")","v":0},{"$f":"COUNTIFS('Daily Diary'!A:A,'Grafico Strategie Settimanali'!B293,'Daily Diary'!E:E,\"BANCA SFAVORITA\")","v":0},{"$f":"COUNTIFS('Daily Diary'!A:A,'Grafico Strategie Settimanali'!B293,'Daily Diary'!E:E,\"PUNTA OVER\")","v":0},{"$f":"COUNTIFS('Daily Diary'!A:A,'Grafico Strategie Settimanali'!B293,'Daily Diary'!E:E,\"PUNTA UNDER\")","v":0},{"$f":"COUNTIFS('Daily Diary'!A:A,'Grafico Strategie Settimanali'!B293,'Daily Diary'!E:E,\"SCALPING\")","v":0},{"$f":"COUNTIFS('Daily Diary'!A:A,'Grafico Strategie Settimanali'!B293,'Daily Diary'!E:E,\"GT90\")","v":0},{"$f":"COUNTIFS('Daily Diary'!A:A,'Grafico Strategie Settimanali'!B293,'Daily Diary'!E:E,\"GT110\")","v":0},{"$f":"COUNTIFS('Daily Diary'!A:A,'Grafico Strategie Settimanali'!B293,'Daily Diary'!E:E,\"ALERT GOAL\")","v":0},{"$f":"COUNTIFS('Daily Diary'!A:A,'Grafico Strategie Settimanali'!B293,'Daily Diary'!E:E,\"DRAW NO BET\")","v":0},{"$f":"COUNTIFS('Daily Diary'!A:A,'Grafico Strategie Settimanali'!B293,'Daily Diary'!E:E,\"ALTRO\")","v":0},{"$f":"COUNTIFS('Daily Diary'!A:A,'Grafico Strategie Settimanali'!B293,'Daily Diary'!E:E,\"BANCA PAREGGIO\",'Daily Diary'!E:E,\"BANCA PAREGGIO\",'Daily Diary'!K:K,\"WIN\")","v":0},{"$f":"COUNTIFS('Daily Diary'!A:A,'Grafico Strategie Settimanali'!B293,'Daily Diary'!E:E,\"PUNTA SQ.CASA\",'Daily Diary'!E:E,\"PUNTA SQ.CASA\",'Daily Diary'!K:K,\"WIN\")","v":0},{"$f":"COUNTIFS('Daily Diary'!A:A,'Grafico Strategie Settimanali'!B293,'Daily Diary'!E:E,\"PUNTA SQ.OSPITE\",'Daily Diary'!E:E,\"PUNTA SQ.OSPITE\",'Daily Diary'!K:K,\"WIN\")","v":0},{"$f":"COUNTIFS('Daily Diary'!A:A,'Grafico Strategie Settimanali'!B293,'Daily Diary'!E:E,\"BANCA SFAVORITA\",'Daily Diary'!E:E,\"BANCA SFAVORITA\",'Daily Diary'!K:K,\"WIN\")","v":0},{"$f":"COUNTIFS('Daily Diary'!A:A,'Grafico Strategie Settimanali'!B293,'Daily Diary'!E:E,\"PUNTA OVER\",'Daily Diary'!E:E,\"PUNTA OVER\",'Daily Diary'!K:K,\"WIN\")","v":0},{"$f":"COUNTIFS('Daily Diary'!A:A,'Grafico Strategie Settimanali'!B293,'Daily Diary'!E:E,\"PUNTA UNDER\",'Daily Diary'!E:E,\"PUNTA UNDER\",'Daily Diary'!K:K,\"WIN\")","v":0},{"$f":"COUNTIFS('Daily Diary'!A:A,'Grafico Strategie Settimanali'!B293,'Daily Diary'!E:E,\"SCALPING\",'Daily Diary'!E:E,\"SCALPING\",'Daily Diary'!K:K,\"WIN\")","v":0},{"$f":"COUNTIFS('Daily Diary'!A:A,'Grafico Strategie Settimanali'!B293,'Daily Diary'!E:E,\"GT 90\",'Daily Diary'!E:E,\"GT 90\",'Daily Diary'!K:K,\"WIN\")","v":0},{"$f":"COUNTIFS('Daily Diary'!A:A,'Grafico Strategie Settimanali'!B293,'Daily Diary'!E:E,\"GT 110\",'Daily Diary'!E:E,\"GT 110\",'Daily Diary'!K:K,\"WIN\")","v":0},{"$f":"COUNTIFS('Daily Diary'!A:A,'Grafico Strategie Settimanali'!B293,'Daily Diary'!E:E,\"ALERT GOAL\",'Daily Diary'!E:E,\"ALERT GOAL\",'Daily Diary'!K:K,\"WIN\")","v":0},{"$f":"COUNTIFS('Daily Diary'!A:A,'Grafico Strategie Settimanali'!B293,'Daily Diary'!E:E,\"DRAW NO BET\",'Daily Diary'!E:E,\"DRAW NO BET\",'Daily Diary'!K:K,\"WIN\")","v":0},{"$f":"COUNTIFS('Daily Diary'!A:A,'Grafico Strategie Settimanali'!B293,'Daily Diary'!E:E,\"ALTRO\",'Daily Diary'!E:E,\"ALTRO\",'Daily Diary'!K:K,\"WIN\")","v":0},{"$error":"#DIV/0!"},{"$error":"#DIV/0!"},{"$error":"#DIV/0!"},{"$error":"#DIV/0!"},{"$error":"#DIV/0!"},{"$error":"#DIV/0!"},{"$error":"#DIV/0!"},{"$error":"#DIV/0!"},{"$error":"#DIV/0!"},{"$error":"#DIV/0!"},{"$error":"#DIV/0!"},{"$error":"#DIV/0!"}]
[0,"2024-02-20",{"$f":"COUNTIFS('Daily Diary'!A:A,'Grafico Strategie Settimanali'!B294,'Daily Diary'!E:E,\"BANCA PAREGGIO\")","v":0},{"$f":"COUNTIFS('Daily Diary'!A:A,'Grafico Strategie Settimanali'!B294,'Daily Diary'!E:E,\"PUNTA SQ.CASA\")","v":0},{"$f":"COUNTIFS('Daily Diary'!A:A,'Grafico Strategie Settimanali'!B294,'Daily Diary'!E:E,\"PUNTA SQ.OSPITE\")","v":0},{"$f":"COUNTIFS('Daily Diary'!A:A,'Grafico Strategie Settimanali'!B294,'Daily Diary'!E:E,\"BANCA SFAVORITA\")","v":0},{"$f":"COUNTIFS('Daily Diary'!A:A,'Grafico Strategie Settimanali'!B294,'Daily Diary'!E:E,\"PUNTA OVER\")","v":0},{"$f":"COUNTIFS('Daily Diary'!A:A,'Grafico Strategie Settimanali'!B294,'Daily Diary'!E:E,\"PUNTA UNDER\")","v":0},{"$f":"COUNTIFS('Daily Diary'!A:A,'Grafico Strategie Settimanali'!B294,'Daily Diary'!E:E,\"SCALPING\")","v":0},{"$f":"COUNTIFS('Daily Diary'!A:A,'Grafico Strategie Settimanali'!B294,'Daily Diary'!E:E,\"GT90\")","v":0},{"$f":"COUNTIFS('Daily Diary'!A:A,'Grafico Strategie Settimanali'!B294,'Daily Diary'!E:E,\"GT110\")","v":0},{"$f":"COUNTIFS('Daily Diary'!A:A,'Grafico Strategie Settimanali'!B294,'Daily Diary'!E:E,\"ALERT GOAL\")","v":0},{"$f":"COUNTIFS('Daily Diary'!A:A,'Grafico Strategie Settimanali'!B294,'Daily Diary'!E:E,\"DRAW NO BET\")","v":0},{"$f":"COUNTIFS('Daily Diary'!A:A,'Grafico Strategie Settimanali'!B294,'Daily Diary'!E:E,\"ALTRO\")","v":0},{"$f":"COUNTIFS('Daily Diary'!A:A,'Grafico Strategie Settimanali'!B294,'Daily Diary'!E:E,\"BANCA PAREGGIO\",'Daily Diary'!E:E,\"BANCA PAREGGIO\",'Daily Diary'!K:K,\"WIN\")","v":0},{"$f":"COUNTIFS('Daily Diary'!A:A,'Grafico Strategie Settimanali'!B294,'Daily Diary'!E:E,\"PUNTA SQ.CASA\",'Daily Diary'!E:E,\"PUNTA SQ.CASA\",'Daily Diary'!K:K,\"WIN\")","v":0},{"$f":"COUNTIFS('Daily Diary'!A:A,'Grafico Strategie Settimanali'!B294,'Daily Diary'!E:E,\"PUNTA SQ.OSPITE\",'Daily Diary'!E:E,\"PUNTA SQ.OSPITE\",'Daily Diary'!K:K,\"WIN\")","v":0},{"$f":"COUNTIFS('Daily Diary'!A:A,'Grafico Strategie Settimanali'!B294,'Daily Diary'!E:E,\"BANCA SFAVORITA\",'Daily Diary'!E:E,\"BANCA SFAVORITA\",'Daily Diary'!K:K,\"WIN\")","v":0},{"$f":"COUNTIFS('Daily Diary'!A:A,'Grafico Strategie Settimanali'!B294,'Daily Diary'!E:E,\"PUNTA OVER\",'Daily Diary'!E:E,\"PUNTA OVER\",'Daily Diary'!K:K,\"WIN\")","v":0},{"$f":"COUNTIFS('Daily Diary'!A:A,'Grafico Strategie Settimanali'!B294,'Daily Diary'!E:E,\"PUNTA UNDER\",'Daily Diary'!E:E,\"PUNTA UNDER\",'Daily Diary'!K:K,\"WIN\")","v":0},{"$f":"COUNTIFS('Daily Diary'!A:A,'Grafico Strategie Settimanali'!B294,'Daily Diary'!E:E,\"SCALPING\",'Daily Diary'!E:E,\"SCALPING\",'Daily Diary'!K:K,\"WIN\")","v":0},{"$f":"COUNTIFS('Daily Diary'!A:A,'Grafico Strategie Settimanali'!B294,'Daily Diary'!E:E,\"GT 90\",'Daily Diary'!E:E,\"GT 90\",'Daily Diary'!K:K,\"WIN\")","v":0},{"$f":"COUNTIFS('Daily Diary'!A:A,'Grafico Strategie Settimanali'!B294,'Daily Diary'!E:E,\"GT 110\",'Daily Diary'!E:E,\"GT 110\",'Daily Diary'!K:K,\"WIN\")","v":0},{"$f":"COUNTIFS('Daily Diary'!A:A,'Grafico Strategie Settimanali'!B294,'Daily Diary'!E:E,\"ALERT GOAL\",'Daily Diary'!E:E,\"ALERT GOAL\",'Daily Diary'!K:K,\"WIN\")","v":0},{"$f":"COUNTIFS('Daily Diary'!A:A,'Grafico Strategie Settimanali'!B294,'Daily Diary'!E:E,\"DRAW NO BET\",'Daily Diary'!E:E,\"DRAW NO BET\",'Daily Diary'!K:K,\"WIN\")","v":0},{"$f":"COUNTIFS('Daily Diary'!A:A,'Grafico Strategie Settimanali'!B294,'Daily Diary'!E:E,\"ALTRO\",'Daily Diary'!E:E,\"ALTRO\",'Daily Diary'!K:K,\"WIN\")","v":0},{"$error":"#DIV/0!"},{"$error":"#DIV/0!"},{"$error":"#DIV/0!"},{"$error":"#DIV/0!"},{"$error":"#DIV/0!"},{"$error":"#DIV/0!"},{"$error":"#DIV/0!"},{"$error":"#DIV/0!"},{"$error":"#DIV/0!"},{"$error":"#DIV/0!"},{"$error":"#DIV/0!"},{"$error":"#DIV/0!"}]
[0,"2024-02-21",{"$f":"COUNTIFS('Daily Diary'!A:A,'Grafico Strategie Settimanali'!B295,'Daily Diary'!E:E,\"BANCA PAREGGIO\")","v":0},{"$f":"COUNTIFS('Daily Diary'!A:A,'Grafico Strategie Settimanali'!B295,'Daily Diary'!E:E,\"PUNTA SQ.CASA\")","v":0},{"$f":"COUNTIFS('Daily Diary'!A:A,'Grafico Strategie Settimanali'!B295,'Daily Diary'!E:E,\"PUNTA SQ.OSPITE\")","v":0},{"$f":"COUNTIFS('Daily Diary'!A:A,'Grafico Strategie Settimanali'!B295,'Daily Diary'!E:E,\"BANCA SFAVORITA\")","v":0},{"$f":"COUNTIFS('Daily Diary'!A:A,'Grafico Strategie Settimanali'!B295,'Daily Diary'!E:E,\"PUNTA OVER\")","v":0},{"$f":"COUNTIFS('Daily Diary'!A:A,'Grafico Strategie Settimanali'!B295,'Daily Diary'!E:E,\"PUNTA UNDER\")","v":0},{"$f":"COUNTIFS('Daily Diary'!A:A,'Grafico Strategie Settimanali'!B295,'Daily Diary'!E:E,\"SCALPING\")","v":0},{"$f":"COUNTIFS('Daily Diary'!A:A,'Grafico Strategie Settimanali'!B295,'Daily Diary'!E:E,\"GT90\")","v":0},{"$f":"COUNTIFS('Daily Diary'!A:A,'Grafico Strategie Settimanali'!B295,'Daily Diary'!E:E,\"GT110\")","v":0},{"$f":"COUNTIFS('Daily Diary'!A:A,'Grafico Strategie Settimanali'!B295,'Daily Diary'!E:E,\"ALERT GOAL\")","v":0},{"$f":"COUNTIFS('Daily Diary'!A:A,'Grafico Strategie Settimanali'!B295,'Daily Diary'!E:E,\"DRAW NO BET\")","v":0},{"$f":"COUNTIFS('Daily Diary'!A:A,'Grafico Strategie Settimanali'!B295,'Daily Diary'!E:E,\"ALTRO\")","v":0},{"$f":"COUNTIFS('Daily Diary'!A:A,'Grafico Strategie Settimanali'!B295,'Daily Diary'!E:E,\"BANCA PAREGGIO\",'Daily Diary'!E:E,\"BANCA PAREGGIO\",'Daily Diary'!K:K,\"WIN\")","v":0},{"$f":"COUNTIFS('Daily Diary'!A:A,'Grafico Strategie Settimanali'!B295,'Daily Diary'!E:E,\"PUNTA SQ.CASA\",'Daily Diary'!E:E,\"PUNTA SQ.CASA\",'Daily Diary'!K:K,\"WIN\")","v":0},{"$f":"COUNTIFS('Daily Diary'!A:A,'Grafico Strategie Settimanali'!B295,'Daily Diary'!E:E,\"PUNTA SQ.OSPITE\",'Daily Diary'!E:E,\"PUNTA SQ.OSPITE\",'Daily Diary'!K:K,\"WIN\")","v":0},{"$f":"COUNTIFS('Daily Diary'!A:A,'Grafico Strategie Settimanali'!B295,'Daily Diary'!E:E,\"BANCA SFAVORITA\",'Daily Diary'!E:E,\"BANCA SFAVORITA\",'Daily Diary'!K:K,\"WIN\")","v":0},{"$f":"COUNTIFS('Daily Diary'!A:A,'Grafico Strategie Settimanali'!B295,'Daily Diary'!E:E,\"PUNTA OVER\",'Daily Diary'!E:E,\"PUNTA OVER\",'Daily Diary'!K:K,\"WIN\")","v":0},{"$f":"COUNTIFS('Daily Diary'!A:A,'Grafico Strategie Settimanali'!B295,'Daily Diary'!E:E,\"PUNTA UNDER\",'Daily Diary'!E:E,\"PUNTA UNDER\",'Daily Diary'!K:K,\"WIN\")","v":0},{"$f":"COUNTIFS('Daily Diary'!A:A,'Grafico Strategie Settimanali'!B295,'Daily Diary'!E:E,\"SCALPING\",'Daily Diary'!E:E,\"SCALPING\",'Daily Diary'!K:K,\"WIN\")","v":0},{"$f":"COUNTIFS('Daily Diary'!A:A,'Grafico Strategie Settimanali'!B295,'Daily Diary'!E:E,\"GT 90\",'Daily Diary'!E:E,\"GT 90\",'Daily Diary'!K:K,\"WIN\")","v":0},{"$f":"COUNTIFS('Daily Diary'!A:A,'Grafico Strategie Settimanali'!B295,'Daily Diary'!E:E,\"GT 110\",'Daily Diary'!E:E,\"GT 110\",'Daily Diary'!K:K,\"WIN\")","v":0},{"$f":"COUNTIFS('Daily Diary'!A:A,'Grafico Strategie Settimanali'!B295,'Daily Diary'!E:E,\"ALERT GOAL\",'Daily Diary'!E:E,\"ALERT GOAL\",'Daily Diary'!K:K,\"WIN\")","v":0},{"$f":"COUNTIFS('Daily Diary'!A:A,'Grafico Strategie Settimanali'!B295,'Daily Diary'!E:E,\"DRAW NO BET\",'Daily Diary'!E:E,\"DRAW NO BET\",'Daily Diary'!K:K,\"WIN\")","v":0},{"$f":"COUNTIFS('Daily Diary'!A:A,'Grafico Strategie Settimanali'!B295,'Daily Diary'!E:E,\"ALTRO\",'Daily Diary'!E:E,\"ALTRO\",'Daily Diary'!K:K,\"WIN\")","v":0},{"$error":"#DIV/0!"},{"$error":"#DIV/0!"},{"$error":"#DIV/0!"},{"$error":"#DIV/0!"},{"$error":"#DIV/0!"},{"$error":"#DIV/0!"},{"$error":"#DIV/0!"},{"$error":"#DIV/0!"},{"$error":"#DIV/0!"},{"$error":"#DIV/0!"},{"$error":"#DIV/0!"},{"$error":"#DIV/0!"}]
[0,"2024-02-22",{"$f":"COUNTIFS('Daily Diary'!A:A,'Grafico Strategie Settimanali'!B296,'Daily Diary'!E:E,\"BANCA PAREGGIO\")","v":0},{"$f":"COUNTIFS('Daily Diary'!A:A,'Grafico Strategie Settimanali'!B296,'Daily Diary'!E:E,\"PUNTA SQ.CASA\")","v":0},{"$f":"COUNTIFS('Daily Diary'!A:A,'Grafico Strategie Settimanali'!B296,'Daily Diary'!E:E,\"PUNTA SQ.OSPITE\")","v":0},{"$f":"COUNTIFS('Daily Diary'!A:A,'Grafico Strategie Settimanali'!B296,'Daily Diary'!E:E,\"BANCA SFAVORITA\")","v":0},{"$f":"COUNTIFS('Daily Diary'!A:A,'Grafico Strategie Settimanali'!B296,'Daily Diary'!E:E,\"PUNTA OVER\")","v":0},{"$f":"COUNTIFS('Daily Diary'!A:A,'Grafico Strategie Settimanali'!B296,'Daily Diary'!E:E,\"PUNTA UNDER\")","v":0},{"$f":"COUNTIFS('Daily Diary'!A:A,'Grafico Strategie Settimanali'!B296,'Daily Diary'!E:E,\"SCALPING\")","v":0},{"$f":"COUNTIFS('Daily Diary'!A:A,'Grafico Strategie Settimanali'!B296,'Daily Diary'!E:E,\"GT90\")","v":0},{"$f":"COUNTIFS('Daily Diary'!A:A,'Grafico Strategie Settimanali'!B296,'Daily Diary'!E:E,\"GT110\")","v":0},{"$f":"COUNTIFS('Daily Diary'!A:A,'Grafico Strategie Settimanali'!B296,'Daily Diary'!E:E,\"ALERT GOAL\")","v":0},{"$f":"COUNTIFS('Daily Diary'!A:A,'Grafico Strategie Settimanali'!B296,'Daily Diary'!E:E,\"DRAW NO BET\")","v":0},{"$f":"COUNTIFS('Daily Diary'!A:A,'Grafico Strategie Settimanali'!B296,'Daily Diary'!E:E,\"ALTRO\")","v":0},{"$f":"COUNTIFS('Daily Diary'!A:A,'Grafico Strategie Settimanali'!B296,'Daily Diary'!E:E,\"BANCA PAREGGIO\",'Daily Diary'!E:E,\"BANCA PAREGGIO\",'Daily Diary'!K:K,\"WIN\")","v":0},{"$f":"COUNTIFS('Daily Diary'!A:A,'Grafico Strategie Settimanali'!B296,'Daily Diary'!E:E,\"PUNTA SQ.CASA\",'Daily Diary'!E:E,\"PUNTA SQ.CASA\",'Daily Diary'!K:K,\"WIN\")","v":0},{"$f":"COUNTIFS('Daily Diary'!A:A,'Grafico Strategie Settimanali'!B296,'Daily Diary'!E:E,\"PUNTA SQ.OSPITE\",'Daily Diary'!E:E,\"PUNTA SQ.OSPITE\",'Daily Diary'!K:K,\"WIN\")","v":0},{"$f":"COUNTIFS('Daily Diary'!A:A,'Grafico Strategie Settimanali'!B296,'Daily Diary'!E:E,\"BANCA SFAVORITA\",'Daily Diary'!E:E,\"BANCA SFAVORITA\",'Daily Diary'!K:K,\"WIN\")","v":0},{"$f":"COUNTIFS('Daily Diary'!A:A,'Grafico Strategie Settimanali'!B296,'Daily Diary'!E:E,\"PUNTA OVER\",'Daily Diary'!E:E,\"PUNTA OVER\",'Daily Diary'!K:K,\"WIN\")","v":0},{"$f":"COUNTIFS('Daily Diary'!A:A,'Grafico Strategie Settimanali'!B296,'Daily Diary'!E:E,\"PUNTA UNDER\",'Daily Diary'!E:E,\"PUNTA UNDER\",'Daily Diary'!K:K,\"WIN\")","v":0},{"$f":"COUNTIFS('Daily Diary'!A:A,'Grafico Strategie Settimanali'!B296,'Daily Diary'!E:E,\"SCALPING\",'Daily Diary'!E:E,\"SCALPING\",'Daily Diary'!K:K,\"WIN\")","v":0},{"$f":"COUNTIFS('Daily Diary'!A:A,'Grafico Strategie Settimanali'!B296,'Daily Diary'!E:E,\"GT 90\",'Daily Diary'!E:E,\"GT 90\",'Daily Diary'!K:K,\"WIN\")","v":0},{"$f":"COUNTIFS('Daily Diary'!A:A,'Grafico Strategie Settimanali'!B296,'Daily Diary'!E:E,\"GT 110\",'Daily Diary'!E:E,\"GT 110\",'Daily Diary'!K:K,\"WIN\")","v":0},{"$f":"COUNTIFS('Daily Diary'!A:A,'Grafico Strategie Settimanali'!B296,'Daily Diary'!E:E,\"ALERT GOAL\",'Daily Diary'!E:E,\"ALERT GOAL\",'Daily Diary'!K:K,\"WIN\")","v":0},{"$f":"COUNTIFS('Daily Diary'!A:A,'Grafico Strategie Settimanali'!B296,'Daily Diary'!E:E,\"DRAW NO BET\",'Daily Diary'!E:E,\"DRAW NO BET\",'Daily Diary'!K:K,\"WIN\")","v":0},{"$f":"COUNTIFS('Daily Diary'!A:A,'Grafico Strategie Settimanali'!B296,'Daily Diary'!E:E,\"ALTRO\",'Daily Diary'!E:E,\"ALTRO\",'Daily Diary'!K:K,\"WIN\")","v":0},{"$error":"#DIV/0!"},{"$error":"#DIV/0!"},{"$error":"#DIV/0!"},{"$error":"#DIV/0!"},{"$error":"#DIV/0!"},{"$error":"#DIV/0!"},{"$error":"#DIV/0!"},{"$error":"#DIV/0!"},{"$error":"#DIV/0!"},{"$error":"#DIV/0!"},{"$error":"#DIV/0!"},{"$error":"#DIV/0!"}]
[0,"2024-02-23",{"$f":"COUNTIFS('Daily Diary'!A:A,'Grafico Strategie Settimanali'!B297,'Daily Diary'!E:E,\"BANCA PAREGGIO\")","v":0},{"$f":"COUNTIFS('Daily Diary'!A:A,'Grafico Strategie Settimanali'!B297,'Daily Diary'!E:E,\"PUNTA SQ.CASA\")","v":0},{"$f":"COUNTIFS('Daily Diary'!A:A,'Grafico Strategie Settimanali'!B297,'Daily Diary'!E:E,\"PUNTA SQ.OSPITE\")","v":0},{"$f":"COUNTIFS('Daily Diary'!A:A,'Grafico Strategie Settimanali'!B297,'Daily Diary'!E:E,\"BANCA SFAVORITA\")","v":0},{"$f":"COUNTIFS('Daily Diary'!A:A,'Grafico Strategie Settimanali'!B297,'Daily Diary'!E:E,\"PUNTA OVER\")","v":0},{"$f":"COUNTIFS('Daily Diary'!A:A,'Grafico Strategie Settimanali'!B297,'Daily Diary'!E:E,\"PUNTA UNDER\")","v":0},{"$f":"COUNTIFS('Daily Diary'!A:A,'Grafico Strategie Settimanali'!B297,'Daily Diary'!E:E,\"SCALPING\")","v":0},{"$f":"COUNTIFS('Daily Diary'!A:A,'Grafico Strategie Settimanali'!B297,'Daily Diary'!E:E,\"GT90\")","v":0},{"$f":"COUNTIFS('Daily Diary'!A:A,'Grafico Strategie Settimanali'!B297,'Daily Diary'!E:E,\"GT110\")","v":0},{"$f":"COUNTIFS('Daily Diary'!A:A,'Grafico Strategie Settimanali'!B297,'Daily Diary'!E:E,\"ALERT GOAL\")","v":0},{"$f":"COUNTIFS('Daily Diary'!A:A,'Grafico Strategie Settimanali'!B297,'Daily Diary'!E:E,\"DRAW NO BET\")","v":0},{"$f":"COUNTIFS('Daily Diary'!A:A,'Grafico Strategie Settimanali'!B297,'Daily Diary'!E:E,\"ALTRO\")","v":0},{"$f":"COUNTIFS('Daily Diary'!A:A,'Grafico Strategie Settimanali'!B297,'Daily Diary'!E:E,\"BANCA PAREGGIO\",'Daily Diary'!E:E,\"BANCA PAREGGIO\",'Daily Diary'!K:K,\"WIN\")","v":0},{"$f":"COUNTIFS('Daily Diary'!A:A,'Grafico Strategie Settimanali'!B297,'Daily Diary'!E:E,\"PUNTA SQ.CASA\",'Daily Diary'!E:E,\"PUNTA SQ.CASA\",'Daily Diary'!K:K,\"WIN\")","v":0},{"$f":"COUNTIFS('Daily Diary'!A:A,'Grafico Strategie Settimanali'!B297,'Daily Diary'!E:E,\"PUNTA SQ.OSPITE\",'Daily Diary'!E:E,\"PUNTA SQ.OSPITE\",'Daily Diary'!K:K,\"WIN\")","v":0},{"$f":"COUNTIFS('Daily Diary'!A:A,'Grafico Strategie Settimanali'!B297,'Daily Diary'!E:E,\"BANCA SFAVORITA\",'Daily Diary'!E:E,\"BANCA SFAVORITA\",'Daily Diary'!K:K,\"WIN\")","v":0},{"$f":"COUNTIFS('Daily Diary'!A:A,'Grafico Strategie Settimanali'!B297,'Daily Diary'!E:E,\"PUNTA OVER\",'Daily Diary'!E:E,\"PUNTA OVER\",'Daily Diary'!K:K,\"WIN\")","v":0},{"$f":"COUNTIFS('Daily Diary'!A:A,'Grafico Strategie Settimanali'!B297,'Daily Diary'!E:E,\"PUNTA UNDER\",'Daily Diary'!E:E,\"PUNTA UNDER\",'Daily Diary'!K:K,\"WIN\")","v":0},{"$f":"COUNTIFS('Daily Diary'!A:A,'Grafico Strategie Settimanali'!B297,'Daily Diary'!E:E,\"SCALPING\",'Daily Diary'!E:E,\"SCALPING\",'Daily Diary'!K:K,\"WIN\")","v":0},{"$f":"COUNTIFS('Daily Diary'!A:A,'Grafico Strategie Settimanali'!B297,'Daily Diary'!E:E,\"GT 90\",'Daily Diary'!E:E,\"GT 90\",'Daily Diary'!K:K,\"WIN\")","v":0},{"$f":"COUNTIFS('Daily Diary'!A:A,'Grafico Strategie Settimanali'!B297,'Daily Diary'!E:E,\"GT 110\",'Daily Diary'!E:E,\"GT 110\",'Daily Diary'!K:K,\"WIN\")","v":0},{"$f":"COUNTIFS('Daily Diary'!A:A,'Grafico Strategie Settimanali'!B297,'Daily Diary'!E:E,\"ALERT GOAL\",'Daily Diary'!E:E,\"ALERT GOAL\",'Daily Diary'!K:K,\"WIN\")","v":0},{"$f":"COUNTIFS('Daily Diary'!A:A,'Grafico Strategie Settimanali'!B297,'Daily Diary'!E:E,\"DRAW NO BET\",'Daily Diary'!E:E,\"DRAW NO BET\",'Daily Diary'!K:K,\"WIN\")","v":0},{"$f":"COUNTIFS('Daily Diary'!A:A,'Grafico Strategie Settimanali'!B297,'Daily Diary'!E:E,\"ALTRO\",'Daily Diary'!E:E,\"ALTRO\",'Daily Diary'!K:K,\"WIN\")","v":0},{"$error":"#DIV/0!"},{"$error":"#DIV/0!"},{"$error":"#DIV/0!"},{"$error":"#DIV/0!"},{"$error":"#DIV/0!"},{"$error":"#DIV/0!"},{"$error":"#DIV/0!"},{"$error":"#DIV/0!"},{"$error":"#DIV/0!"},{"$error":"#DIV/0!"},{"$error":"#DIV/0!"},{"$error":"#DIV/0!"}]
[0,"2024-02-24",{"$f":"COUNTIFS('Daily Diary'!A:A,'Grafico Strategie Settimanali'!B298,'Daily Diary'!E:E,\"BANCA PAREGGIO\")","v":0},{"$f":"COUNTIFS('Daily Diary'!A:A,'Grafico Strategie Settimanali'!B298,'Daily Diary'!E:E,\"PUNTA SQ.CASA\")","v":0},{"$f":"COUNTIFS('Daily Diary'!A:A,'Grafico Strategie Settimanali'!B298,'Daily Diary'!E:E,\"PUNTA SQ.OSPITE\")","v":0},{"$f":"COUNTIFS('Daily Diary'!A:A,'Grafico Strategie Settimanali'!B298,'Daily Diary'!E:E,\"BANCA SFAVORITA\")","v":0},{"$f":"COUNTIFS('Daily Diary'!A:A,'Grafico Strategie Settimanali'!B298,'Daily Diary'!E:E,\"PUNTA OVER\")","v":0},{"$f":"COUNTIFS('Daily Diary'!A:A,'Grafico Strategie Settimanali'!B298,'Daily Diary'!E:E,\"PUNTA UNDER\")","v":0},{"$f":"COUNTIFS('Daily Diary'!A:A,'Grafico Strategie Settimanali'!B298,'Daily Diary'!E:E,\"SCALPING\")","v":0},{"$f":"COUNTIFS('Daily Diary'!A:A,'Grafico Strategie Settimanali'!B298,'Daily Diary'!E:E,\"GT90\")","v":0},{"$f":"COUNTIFS('Daily Diary'!A:A,'Grafico Strategie Settimanali'!B298,'Daily Diary'!E:E,\"GT110\")","v":0},{"$f":"COUNTIFS('Daily Diary'!A:A,'Grafico Strategie Settimanali'!B298,'Daily Diary'!E:E,\"ALERT GOAL\")","v":0},{"$f":"COUNTIFS('Daily Diary'!A:A,'Grafico Strategie Settimanali'!B298,'Daily Diary'!E:E,\"DRAW NO BET\")","v":0},{"$f":"COUNTIFS('Daily Diary'!A:A,'Grafico Strategie Settimanali'!B298,'Daily Diary'!E:E,\"ALTRO\")","v":0},{"$f":"COUNTIFS('Daily Diary'!A:A,'Grafico Strategie Settimanali'!B298,'Daily Diary'!E:E,\"BANCA PAREGGIO\",'Daily Diary'!E:E,\"BANCA PAREGGIO\",'Daily Diary'!K:K,\"WIN\")","v":0},{"$f":"COUNTIFS('Daily Diary'!A:A,'Grafico Strategie Settimanali'!B298,'Daily Diary'!E:E,\"PUNTA SQ.CASA\",'Daily Diary'!E:E,\"PUNTA SQ.CASA\",'Daily Diary'!K:K,\"WIN\")","v":0},{"$f":"COUNTIFS('Daily Diary'!A:A,'Grafico Strategie Settimanali'!B298,'Daily Diary'!E:E,\"PUNTA SQ.OSPITE\",'Daily Diary'!E:E,\"PUNTA SQ.OSPITE\",'Daily Diary'!K:K,\"WIN\")","v":0},{"$f":"COUNTIFS('Daily Diary'!A:A,'Grafico Strategie Settimanali'!B298,'Daily Diary'!E:E,\"BANCA SFAVORITA\",'Daily Diary'!E:E,\"BANCA SFAVORITA\",'Daily Diary'!K:K,\"WIN\")","v":0},{"$f":"COUNTIFS('Daily Diary'!A:A,'Grafico Strategie Settimanali'!B298,'Daily Diary'!E:E,\"PUNTA OVER\",'Daily Diary'!E:E,\"PUNTA OVER\",'Daily Diary'!K:K,\"WIN\")","v":0},{"$f":"COUNTIFS('Daily Diary'!A:A,'Grafico Strategie Settimanali'!B298,'Daily Diary'!E:E,\"PUNTA UNDER\",'Daily Diary'!E:E,\"PUNTA UNDER\",'Daily Diary'!K:K,\"WIN\")","v":0},{"$f":"COUNTIFS('Daily Diary'!A:A,'Grafico Strategie Settimanali'!B298,'Daily Diary'!E:E,\"SCALPING\",'Daily Diary'!E:E,\"SCALPING\",'Daily Diary'!K:K,\"WIN\")","v":0},{"$f":"COUNTIFS('Daily Diary'!A:A,'Grafico Strategie Settimanali'!B298,'Daily Diary'!E:E,\"GT 90\",'Daily Diary'!E:E,\"GT 90\",'Daily Diary'!K:K,\"WIN\")","v":0},{"$f":"COUNTIFS('Daily Diary'!A:A,'Grafico Strategie Settimanali'!B298,'Daily Diary'!E:E,\"GT 110\",'Daily Diary'!E:E,\"GT 110\",'Daily Diary'!K:K,\"WIN\")","v":0},{"$f":"COUNTIFS('Daily Diary'!A:A,'Grafico Strategie Settimanali'!B298,'Daily Diary'!E:E,\"ALERT GOAL\",'Daily Diary'!E:E,\"ALERT GOAL\",'Daily Diary'!K:K,\"WIN\")","v":0},{"$f":"COUNTIFS('Daily Diary'!A:A,'Grafico Strategie Settimanali'!B298,'Daily Diary'!E:E,\"DRAW NO BET\",'Daily Diary'!E:E,\"DRAW NO BET\",'Daily Diary'!K:K,\"WIN\")","v":0},{"$f":"COUNTIFS('Daily Diary'!A:A,'Grafico Strategie Settimanali'!B298,'Daily Diary'!E:E,\"ALTRO\",'Daily Diary'!E:E,\"ALTRO\",'Daily Diary'!K:K,\"WIN\")","v":0},{"$error":"#DIV/0!"},{"$error":"#DIV/0!"},{"$error":"#DIV/0!"},{"$error":"#DIV/0!"},{"$error":"#DIV/0!"},{"$error":"#DIV/0!"},{"$error":"#DIV/0!"},{"$error":"#DIV/0!"},{"$error":"#DIV/0!"},{"$error":"#DIV/0!"},{"$error":"#DIV/0!"},{"$error":"#DIV/0!"}]
[0,"2024-02-25",{"$f":"COUNTIFS('Daily Diary'!A:A,'Grafico Strategie Settimanali'!B299,'Daily Diary'!E:E,\"BANCA PAREGGIO\")","v":0},{"$f":"COUNTIFS('Daily Diary'!A:A,'Grafico Strategie Settimanali'!B299,'Daily Diary'!E:E,\"PUNTA SQ.CASA\")","v":0},{"$f":"COUNTIFS('Daily Diary'!A:A,'Grafico Strategie Settimanali'!B299,'Daily Diary'!E:E,\"PUNTA SQ.OSPITE\")","v":0},{"$f":"COUNTIFS('Daily Diary'!A:A,'Grafico Strategie Settimanali'!B299,'Daily Diary'!E:E,\"BANCA SFAVORITA\")","v":0},{"$f":"COUNTIFS('Daily Diary'!A:A,'Grafico Strategie Settimanali'!B299,'Daily Diary'!E:E,\"PUNTA OVER\")","v":0},{"$f":"COUNTIFS('Daily Diary'!A:A,'Grafico Strategie Settimanali'!B299,'Daily Diary'!E:E,\"PUNTA UNDER\")","v":0},{"$f":"COUNTIFS('Daily Diary'!A:A,'Grafico Strategie Settimanali'!B299,'Daily Diary'!E:E,\"SCALPING\")","v":0},{"$f":"COUNTIFS('Daily Diary'!A:A,'Grafico Strategie Settimanali'!B299,'Daily Diary'!E:E,\"GT90\")","v":0},{"$f":"COUNTIFS('Daily Diary'!A:A,'Grafico Strategie Settimanali'!B299,'Daily Diary'!E:E,\"GT110\")","v":0},{"$f":"COUNTIFS('Daily Diary'!A:A,'Grafico Strategie Settimanali'!B299,'Daily Diary'!E:E,\"ALERT GOAL\")","v":0},{"$f":"COUNTIFS('Daily Diary'!A:A,'Grafico Strategie Settimanali'!B299,'Daily Diary'!E:E,\"DRAW NO BET\")","v":0},{"$f":"COUNTIFS('Daily Diary'!A:A,'Grafico Strategie Settimanali'!B299,'Daily Diary'!E:E,\"ALTRO\")","v":0},{"$f":"COUNTIFS('Daily Diary'!A:A,'Grafico Strategie Settimanali'!B299,'Daily Diary'!E:E,\"BANCA PAREGGIO\",'Daily Diary'!E:E,\"BANCA PAREGGIO\",'Daily Diary'!K:K,\"WIN\")","v":0},{"$f":"COUNTIFS('Daily Diary'!A:A,'Grafico Strategie Settimanali'!B299,'Daily Diary'!E:E,\"PUNTA SQ.CASA\",'Daily Diary'!E:E,\"PUNTA SQ.CASA\",'Daily Diary'!K:K,\"WIN\")","v":0},{"$f":"COUNTIFS('Daily Diary'!A:A,'Grafico Strategie Settimanali'!B299,'Daily Diary'!E:E,\"PUNTA SQ.OSPITE\",'Daily Diary'!E:E,\"PUNTA SQ.OSPITE\",'Daily Diary'!K:K,\"WIN\")","v":0},{"$f":"COUNTIFS('Daily Diary'!A:A,'Grafico Strategie Settimanali'!B299,'Daily Diary'!E:E,\"BANCA SFAVORITA\",'Daily Diary'!E:E,\"BANCA SFAVORITA\",'Daily Diary'!K:K,\"WIN\")","v":0},{"$f":"COUNTIFS('Daily Diary'!A:A,'Grafico Strategie Settimanali'!B299,'Daily Diary'!E:E,\"PUNTA OVER\",'Daily Diary'!E:E,\"PUNTA OVER\",'Daily Diary'!K:K,\"WIN\")","v":0},{"$f":"COUNTIFS('Daily Diary'!A:A,'Grafico Strategie Settimanali'!B299,'Daily Diary'!E:E,\"PUNTA UNDER\",'Daily Diary'!E:E,\"PUNTA UNDER\",'Daily Diary'!K:K,\"WIN\")","v":0},{"$f":"COUNTIFS('Daily Diary'!A:A,'Grafico Strategie Settimanali'!B299,'Daily Diary'!E:E,\"SCALPING\",'Daily Diary'!E:E,\"SCALPING\",'Daily Diary'!K:K,\"WIN\")","v":0},{"$f":"COUNTIFS('Daily Diary'!A:A,'Grafico Strategie Settimanali'!B299,'Daily Diary'!E:E,\"GT 90\",'Daily Diary'!E:E,\"GT 90\",'Daily Diary'!K:K,\"WIN\")","v":0},{"$f":"COUNTIFS('Daily Diary'!A:A,'Grafico Strategie Settimanali'!B299,'Daily Diary'!E:E,\"GT 110\",'Daily Diary'!E:E,\"GT 110\",'Daily Diary'!K:K,\"WIN\")","v":0},{"$f":"COUNTIFS('Daily Diary'!A:A,'Grafico Strategie Settimanali'!B299,'Daily Diary'!E:E,\"ALERT GOAL\",'Daily Diary'!E:E,\"ALERT GOAL\",'Daily Diary'!K:K,\"WIN\")","v":0},{"$f":"COUNTIFS('Daily Diary'!A:A,'Grafico Strategie Settimanali'!B299,'Daily Diary'!E:E,\"DRAW NO BET\",'Daily Diary'!E:E,\"DRAW NO BET\",'Daily Diary'!K:K,\"WIN\")","v":0},{"$f":"COUNTIFS('Daily Diary'!A:A,'Grafico Strategie Settimanali'!B299,'Daily Diary'!E:E,\"ALTRO\",'Daily Diary'!E:E,\"ALTRO\",'Daily Diary'!K:K,\"WIN\")","v":0},{"$error":"#DIV/0!"},{"$error":"#DIV/0!"},{"$error":"#DIV/0!"},{"$error":"#DIV/0!"},{"$error":"#DIV/0!"},{"$error":"#DIV/0!"},{"$error":"#DIV/0!"},{"$error":"#DIV/0!"},{"$error":"#DIV/0!"},{"$error":"#DIV/0!"},{"$error":"#DIV/0!"},{"$error":"#DIV/0!"}]
[0,"2024-02-26",{"$f":"COUNTIFS('Daily Diary'!A:A,'Grafico Strategie Settimanali'!B300,'Daily Diary'!E:E,\"BANCA PAREGGIO\")","v":0},{"$f":"COUNTIFS('Daily Diary'!A:A,'Grafico Strategie Settimanali'!B300,'Daily Diary'!E:E,\"PUNTA SQ.CASA\")","v":0},{"$f":"COUNTIFS('Daily Diary'!A:A,'Grafico Strategie Settimanali'!B300,'Daily Diary'!E:E,\"PUNTA SQ.OSPITE\")","v":0},{"$f":"COUNTIFS('Daily Diary'!A:A,'Grafico Strategie Settimanali'!B300,'Daily Diary'!E:E,\"BANCA SFAVORITA\")","v":0},{"$f":"COUNTIFS('Daily Diary'!A:A,'Grafico Strategie Settimanali'!B300,'Daily Diary'!E:E,\"PUNTA OVER\")","v":0},{"$f":"COUNTIFS('Daily Diary'!A:A,'Grafico Strategie Settimanali'!B300,'Daily Diary'!E:E,\"PUNTA UNDER\")","v":0},{"$f":"COUNTIFS('Daily Diary'!A:A,'Grafico Strategie Settimanali'!B300,'Daily Diary'!E:E,\"SCALPING\")","v":0},{"$f":"COUNTIFS('Daily Diary'!A:A,'Grafico Strategie Settimanali'!B300,'Daily Diary'!E:E,\"GT90\")","v":0},{"$f":"COUNTIFS('Daily Diary'!A:A,'Grafico Strategie Settimanali'!B300,'Daily Diary'!E:E,\"GT110\")","v":0},{"$f":"COUNTIFS('Daily Diary'!A:A,'Grafico Strategie Settimanali'!B300,'Daily Diary'!E:E,\"ALERT GOAL\")","v":0},{"$f":"COUNTIFS('Daily Diary'!A:A,'Grafico Strategie Settimanali'!B300,'Daily Diary'!E:E,\"DRAW NO BET\")","v":0},{"$f":"COUNTIFS('Daily Diary'!A:A,'Grafico Strategie Settimanali'!B300,'Daily Diary'!E:E,\"ALTRO\")","v":0},{"$f":"COUNTIFS('Daily Diary'!A:A,'Grafico Strategie Settimanali'!B300,'Daily Diary'!E:E,\"BANCA PAREGGIO\",'Daily Diary'!E:E,\"BANCA PAREGGIO\",'Daily Diary'!K:K,\"WIN\")","v":0},{"$f":"COUNTIFS('Daily Diary'!A:A,'Grafico Strategie Settimanali'!B300,'Daily Diary'!E:E,\"PUNTA SQ.CASA\",'Daily Diary'!E:E,\"PUNTA SQ.CASA\",'Daily Diary'!K:K,\"WIN\")","v":0},{"$f":"COUNTIFS('Daily Diary'!A:A,'Grafico Strategie Settimanali'!B300,'Daily Diary'!E:E,\"PUNTA SQ.OSPITE\",'Daily Diary'!E:E,\"PUNTA SQ.OSPITE\",'Daily Diary'!K:K,\"WIN\")","v":0},{"$f":"COUNTIFS('Daily Diary'!A:A,'Grafico Strategie Settimanali'!B300,'Daily Diary'!E:E,\"BANCA SFAVORITA\",'Daily Diary'!E:E,\"BANCA SFAVORITA\",'Daily Diary'!K:K,\"WIN\")","v":0},{"$f":"COUNTIFS('Daily Diary'!A:A,'Grafico Strategie Settimanali'!B300,'Daily Diary'!E:E,\"PUNTA OVER\",'Daily Diary'!E:E,\"PUNTA OVER\",'Daily Diary'!K:K,\"WIN\")","v":0},{"$f":"COUNTIFS('Daily Diary'!A:A,'Grafico Strategie Settimanali'!B300,'Daily Diary'!E:E,\"PUNTA UNDER\",'Daily Diary'!E:E,\"PUNTA UNDER\",'Daily Diary'!K:K,\"WIN\")","v":0},{"$f":"COUNTIFS('Daily Diary'!A:A,'Grafico Strategie Settimanali'!B300,'Daily Diary'!E:E,\"SCALPING\",'Daily Diary'!E:E,\"SCALPING\",'Daily Diary'!K:K,\"WIN\")","v":0},{"$f":"COUNTIFS('Daily Diary'!A:A,'Grafico Strategie Settimanali'!B300,'Daily Diary'!E:E,\"GT 90\",'Daily Diary'!E:E,\"GT 90\",'Daily Diary'!K:K,\"WIN\")","v":0},{"$f":"COUNTIFS('Daily Diary'!A:A,'Grafico Strategie Settimanali'!B300,'Daily Diary'!E:E,\"GT 110\",'Daily Diary'!E:E,\"GT 110\",'Daily Diary'!K:K,\"WIN\")","v":0},{"$f":"COUNTIFS('Daily Diary'!A:A,'Grafico Strategie Settimanali'!B300,'Daily Diary'!E:E,\"ALERT GOAL\",'Daily Diary'!E:E,\"ALERT GOAL\",'Daily Diary'!K:K,\"WIN\")","v":0},{"$f":"COUNTIFS('Daily Diary'!A:A,'Grafico Strategie Settimanali'!B300,'Daily Diary'!E:E,\"DRAW NO BET\",'Daily Diary'!E:E,\"DRAW NO BET\",'Daily Diary'!K:K,\"WIN\")","v":0},{"$f":"COUNTIFS('Daily Diary'!A:A,'Grafico Strategie Settimanali'!B300,'Daily Diary'!E:E,\"ALTRO\",'Daily Diary'!E:E,\"ALTRO\",'Daily Diary'!K:K,\"WIN\")","v":0},{"$error":"#DIV/0!"},{"$error":"#DIV/0!"},{"$error":"#DIV/0!"},{"$error":"#DIV/0!"},{"$error":"#DIV/0!"},{"$error":"#DIV/0!"},{"$error":"#DIV/0!"},{"$error":"#DIV/0!"},{"$error":"#DIV/0!"},{"$error":"#DIV/0!"},{"$error":"#DIV/0!"},{"$error":"#DIV/0!"}]
[0,"2024-02-27",{"$f":"COUNTIFS('Daily Diary'!A:A,'Grafico Strategie Settimanali'!B301,'Daily Diary'!E:E,\"BANCA PAREGGIO\")","v":0},{"$f":"COUNTIFS('Daily Diary'!A:A,'Grafico Strategie Settimanali'!B301,'Daily Diary'!E:E,\"PUNTA SQ.CASA\")","v":0},{"$f":"COUNTIFS('Daily Diary'!A:A,'Grafico Strategie Settimanali'!B301,'Daily Diary'!E:E,\"PUNTA SQ.OSPITE\")","v":0},{"$f":"COUNTIFS('Daily Diary'!A:A,'Grafico Strategie Settimanali'!B301,'Daily Diary'!E:E,\"BANCA SFAVORITA\")","v":0},{"$f":"COUNTIFS('Daily Diary'!A:A,'Grafico Strategie Settimanali'!B301,'Daily Diary'!E:E,\"PUNTA OVER\")","v":0},{"$f":"COUNTIFS('Daily Diary'!A:A,'Grafico Strategie Settimanali'!B301,'Daily Diary'!E:E,\"PUNTA UNDER\")","v":0},{"$f":"COUNTIFS('Daily Diary'!A:A,'Grafico Strategie Settimanali'!B301,'Daily Diary'!E:E,\"SCALPING\")","v":0},{"$f":"COUNTIFS('Daily Diary'!A:A,'Grafico Strategie Settimanali'!B301,'Daily Diary'!E:E,\"GT90\")","v":0},{"$f":"COUNTIFS('Daily Diary'!A:A,'Grafico Strategie Settimanali'!B301,'Daily Diary'!E:E,\"GT110\")","v":0},{"$f":"COUNTIFS('Daily Diary'!A:A,'Grafico Strategie Settimanali'!B301,'Daily Diary'!E:E,\"ALERT GOAL\")","v":0},{"$f":"COUNTIFS('Daily Diary'!A:A,'Grafico Strategie Settimanali'!B301,'Daily Diary'!E:E,\"DRAW NO BET\")","v":0},{"$f":"COUNTIFS('Daily Diary'!A:A,'Grafico Strategie Settimanali'!B301,'Daily Diary'!E:E,\"ALTRO\")","v":0},{"$f":"COUNTIFS('Daily Diary'!A:A,'Grafico Strategie Settimanali'!B301,'Daily Diary'!E:E,\"BANCA PAREGGIO\",'Daily Diary'!E:E,\"BANCA PAREGGIO\",'Daily Diary'!K:K,\"WIN\")","v":0},{"$f":"COUNTIFS('Daily Diary'!A:A,'Grafico Strategie Settimanali'!B301,'Daily Diary'!E:E,\"PUNTA SQ.CASA\",'Daily Diary'!E:E,\"PUNTA SQ.CASA\",'Daily Diary'!K:K,\"WIN\")","v":0},{"$f":"COUNTIFS('Daily Diary'!A:A,'Grafico Strategie Settimanali'!B301,'Daily Diary'!E:E,\"PUNTA SQ.OSPITE\",'Daily Diary'!E:E,\"PUNTA SQ.OSPITE\",'Daily Diary'!K:K,\"WIN\")","v":0},{"$f":"COUNTIFS('Daily Diary'!A:A,'Grafico Strategie Settimanali'!B301,'Daily Diary'!E:E,\"BANCA SFAVORITA\",'Daily Diary'!E:E,\"BANCA SFAVORITA\",'Daily Diary'!K:K,\"WIN\")","v":0},{"$f":"COUNTIFS('Daily Diary'!A:A,'Grafico Strategie Settimanali'!B301,'Daily Diary'!E:E,\"PUNTA OVER\",'Daily Diary'!E:E,\"PUNTA OVER\",'Daily Diary'!K:K,\"WIN\")","v":0},{"$f":"COUNTIFS('Daily Diary'!A:A,'Grafico Strategie Settimanali'!B301,'Daily Diary'!E:E,\"PUNTA UNDER\",'Daily Diary'!E:E,\"PUNTA UNDER\",'Daily Diary'!K:K,\"WIN\")","v":0},{"$f":"COUNTIFS('Daily Diary'!A:A,'Grafico Strategie Settimanali'!B301,'Daily Diary'!E:E,\"SCALPING\",'Daily Diary'!E:E,\"SCALPING\",'Daily Diary'!K:K,\"WIN\")","v":0},{"$f":"COUNTIFS('Daily Diary'!A:A,'Grafico Strategie Settimanali'!B301,'Daily Diary'!E:E,\"GT 90\",'Daily Diary'!E:E,\"GT 90\",'Daily Diary'!K:K,\"WIN\")","v":0},{"$f":"COUNTIFS('Daily Diary'!A:A,'Grafico Strategie Settimanali'!B301,'Daily Diary'!E:E,\"GT 110\",'Daily Diary'!E:E,\"GT 110\",'Daily Diary'!K:K,\"WIN\")","v":0},{"$f":"COUNTIFS('Daily Diary'!A:A,'Grafico Strategie Settimanali'!B301,'Daily Diary'!E:E,\"ALERT GOAL\",'Daily Diary'!E:E,\"ALERT GOAL\",'Daily Diary'!K:K,\"WIN\")","v":0},{"$f":"COUNTIFS('Daily Diary'!A:A,'Grafico Strategie Settimanali'!B301,'Daily Diary'!E:E,\"DRAW NO BET\",'Daily Diary'!E:E,\"DRAW NO BET\",'Daily Diary'!K:K,\"WIN\")","v":0},{"$f":"COUNTIFS('Daily Diary'!A:A,'Grafico Strategie Settimanali'!B301,'Daily Diary'!E:E,\"ALTRO\",'Daily Diary'!E:E,\"ALTRO\",'Daily Diary'!K:K,\"WIN\")","v":0},{"$error":"#DIV/0!"},{"$error":"#DIV/0!"},{"$error":"#DIV/0!"},{"$error":"#DIV/0!"},{"$error":"#DIV/0!"},{"$error":"#DIV/0!"},{"$error":"#DIV/0!"},{"$error":"#DIV/0!"},{"$error":"#DIV/0!"},{"$error":"#DIV/0!"},{"$error":"#DIV/0!"},{"$error":"#DIV/0!"}]
[0,"2024-02-28",{"$f":"COUNTIFS('Daily Diary'!A:A,'Grafico Strategie Settimanali'!B302,'Daily Diary'!E:E,\"BANCA PAREGGIO\")","v":0},{"$f":"COUNTIFS('Daily Diary'!A:A,'Grafico Strategie Settimanali'!B302,'Daily Diary'!E:E,\"PUNTA SQ.CASA\")","v":0},{"$f":"COUNTIFS('Daily Diary'!A:A,'Grafico Strategie Settimanali'!B302,'Daily Diary'!E:E,\"PUNTA SQ.OSPITE\")","v":0},{"$f":"COUNTIFS('Daily Diary'!A:A,'Grafico Strategie Settimanali'!B302,'Daily Diary'!E:E,\"BANCA SFAVORITA\")","v":0},{"$f":"COUNTIFS('Daily Diary'!A:A,'Grafico Strategie Settimanali'!B302,'Daily Diary'!E:E,\"PUNTA OVER\")","v":0},{"$f":"COUNTIFS('Daily Diary'!A:A,'Grafico Strategie Settimanali'!B302,'Daily Diary'!E:E,\"PUNTA UNDER\")","v":0},{"$f":"COUNTIFS('Daily Diary'!A:A,'Grafico Strategie Settimanali'!B302,'Daily Diary'!E:E,\"SCALPING\")","v":0},{"$f":"COUNTIFS('Daily Diary'!A:A,'Grafico Strategie Settimanali'!B302,'Daily Diary'!E:E,\"GT90\")","v":0},{"$f":"COUNTIFS('Daily Diary'!A:A,'Grafico Strategie Settimanali'!B302,'Daily Diary'!E:E,\"GT110\")","v":0},{"$f":"COUNTIFS('Daily Diary'!A:A,'Grafico Strategie Settimanali'!B302,'Daily Diary'!E:E,\"ALERT GOAL\")","v":0},{"$f":"COUNTIFS('Daily Diary'!A:A,'Grafico Strategie Settimanali'!B302,'Daily Diary'!E:E,\"DRAW NO BET\")","v":0},{"$f":"COUNTIFS('Daily Diary'!A:A,'Grafico Strategie Settimanali'!B302,'Daily Diary'!E:E,\"ALTRO\")","v":0},{"$f":"COUNTIFS('Daily Diary'!A:A,'Grafico Strategie Settimanali'!B302,'Daily Diary'!E:E,\"BANCA PAREGGIO\",'Daily Diary'!E:E,\"BANCA PAREGGIO\",'Daily Diary'!K:K,\"WIN\")","v":0},{"$f":"COUNTIFS('Daily Diary'!A:A,'Grafico Strategie Settimanali'!B302,'Daily Diary'!E:E,\"PUNTA SQ.CASA\",'Daily Diary'!E:E,\"PUNTA SQ.CASA\",'Daily Diary'!K:K,\"WIN\")","v":0},{"$f":"COUNTIFS('Daily Diary'!A:A,'Grafico Strategie Settimanali'!B302,'Daily Diary'!E:E,\"PUNTA SQ.OSPITE\",'Daily Diary'!E:E,\"PUNTA SQ.OSPITE\",'Daily Diary'!K:K,\"WIN\")","v":0},{"$f":"COUNTIFS('Daily Diary'!A:A,'Grafico Strategie Settimanali'!B302,'Daily Diary'!E:E,\"BANCA SFAVORITA\",'Daily Diary'!E:E,\"BANCA SFAVORITA\",'Daily Diary'!K:K,\"WIN\")","v":0},{"$f":"COUNTIFS('Daily Diary'!A:A,'Grafico Strategie Settimanali'!B302,'Daily Diary'!E:E,\"PUNTA OVER\",'Daily Diary'!E:E,\"PUNTA OVER\",'Daily Diary'!K:K,\"WIN\")","v":0},{"$f":"COUNTIFS('Daily Diary'!A:A,'Grafico Strategie Settimanali'!B302,'Daily Diary'!E:E,\"PUNTA UNDER\",'Daily Diary'!E:E,\"PUNTA UNDER\",'Daily Diary'!K:K,\"WIN\")","v":0},{"$f":"COUNTIFS('Daily Diary'!A:A,'Grafico Strategie Settimanali'!B302,'Daily Diary'!E:E,\"SCALPING\",'Daily Diary'!E:E,\"SCALPING\",'Daily Diary'!K:K,\"WIN\")","v":0},{"$f":"COUNTIFS('Daily Diary'!A:A,'Grafico Strategie Settimanali'!B302,'Daily Diary'!E:E,\"GT 90\",'Daily Diary'!E:E,\"GT 90\",'Daily Diary'!K:K,\"WIN\")","v":0},{"$f":"COUNTIFS('Daily Diary'!A:A,'Grafico Strategie Settimanali'!B302,'Daily Diary'!E:E,\"GT 110\",'Daily Diary'!E:E,\"GT 110\",'Daily Diary'!K:K,\"WIN\")","v":0},{"$f":"COUNTIFS('Daily Diary'!A:A,'Grafico Strategie Settimanali'!B302,'Daily Diary'!E:E,\"ALERT GOAL\",'Daily Diary'!E:E,\"ALERT GOAL\",'Daily Diary'!K:K,\"WIN\")","v":0},{"$f":"COUNTIFS('Daily Diary'!A:A,'Grafico Strategie Settimanali'!B302,'Daily Diary'!E:E,\"DRAW NO BET\",'Daily Diary'!E:E,\"DRAW NO BET\",'Daily Diary'!K:K,\"WIN\")","v":0},{"$f":"COUNTIFS('Daily Diary'!A:A,'Grafico Strategie Settimanali'!B302,'Daily Diary'!E:E,\"ALTRO\",'Daily Diary'!E:E,\"ALTRO\",'Daily Diary'!K:K,\"WIN\")","v":0},{"$error":"#DIV/0!"},{"$error":"#DIV/0!"},{"$error":"#DIV/0!"},{"$error":"#DIV/0!"},{"$error":"#DIV/0!"},{"$error":"#DIV/0!"},{"$error":"#DIV/0!"},{"$error":"#DIV/0!"},{"$error":"#DIV/0!"},{"$error":"#DIV/0!"},{"$error":"#DIV/0!"},{"$error":"#DIV/0!"}]
[0,"2024-02-29",{"$f":"COUNTIFS('Daily Diary'!A:A,'Grafico Strategie Settimanali'!B303,'Daily Diary'!E:E,\"BANCA PAREGGIO\")","v":0},{"$f":"COUNTIFS('Daily Diary'!A:A,'Grafico Strategie Settimanali'!B303,'Daily Diary'!E:E,\"PUNTA SQ.CASA\")","v":0},{"$f":"COUNTIFS('Daily Diary'!A:A,'Grafico Strategie Settimanali'!B303,'Daily Diary'!E:E,\"PUNTA SQ.OSPITE\")","v":0},{"$f":"COUNTIFS('Daily Diary'!A:A,'Grafico Strategie Settimanali'!B303,'Daily Diary'!E:E,\"BANCA SFAVORITA\")","v":0},{"$f":"COUNTIFS('Daily Diary'!A:A,'Grafico Strategie Settimanali'!B303,'Daily Diary'!E:E,\"PUNTA OVER\")","v":0},{"$f":"COUNTIFS('Daily Diary'!A:A,'Grafico Strategie Settimanali'!B303,'Daily Diary'!E:E,\"PUNTA UNDER\")","v":0},{"$f":"COUNTIFS('Daily Diary'!A:A,'Grafico Strategie Settimanali'!B303,'Daily Diary'!E:E,\"SCALPING\")","v":0},{"$f":"COUNTIFS('Daily Diary'!A:A,'Grafico Strategie Settimanali'!B303,'Daily Diary'!E:E,\"GT90\")","v":0},{"$f":"COUNTIFS('Daily Diary'!A:A,'Grafico Strategie Settimanali'!B303,'Daily Diary'!E:E,\"GT110\")","v":0},{"$f":"COUNTIFS('Daily Diary'!A:A,'Grafico Strategie Settimanali'!B303,'Daily Diary'!E:E,\"ALERT GOAL\")","v":0},{"$f":"COUNTIFS('Daily Diary'!A:A,'Grafico Strategie Settimanali'!B303,'Daily Diary'!E:E,\"DRAW NO BET\")","v":0},{"$f":"COUNTIFS('Daily Diary'!A:A,'Grafico Strategie Settimanali'!B303,'Daily Diary'!E:E,\"ALTRO\")","v":0},{"$f":"COUNTIFS('Daily Diary'!A:A,'Grafico Strategie Settimanali'!B303,'Daily Diary'!E:E,\"BANCA PAREGGIO\",'Daily Diary'!E:E,\"BANCA PAREGGIO\",'Daily Diary'!K:K,\"WIN\")","v":0},{"$f":"COUNTIFS('Daily Diary'!A:A,'Grafico Strategie Settimanali'!B303,'Daily Diary'!E:E,\"PUNTA SQ.CASA\",'Daily Diary'!E:E,\"PUNTA SQ.CASA\",'Daily Diary'!K:K,\"WIN\")","v":0},{"$f":"COUNTIFS('Daily Diary'!A:A,'Grafico Strategie Settimanali'!B303,'Daily Diary'!E:E,\"PUNTA SQ.OSPITE\",'Daily Diary'!E:E,\"PUNTA SQ.OSPITE\",'Daily Diary'!K:K,\"WIN\")","v":0},{"$f":"COUNTIFS('Daily Diary'!A:A,'Grafico Strategie Settimanali'!B303,'Daily Diary'!E:E,\"BANCA SFAVORITA\",'Daily Diary'!E:E,\"BANCA SFAVORITA\",'Daily Diary'!K:K,\"WIN\")","v":0},{"$f":"COUNTIFS('Daily Diary'!A:A,'Grafico Strategie Settimanali'!B303,'Daily Diary'!E:E,\"PUNTA OVER\",'Daily Diary'!E:E,\"PUNTA OVER\",'Daily Diary'!K:K,\"WIN\")","v":0},{"$f":"COUNTIFS('Daily Diary'!A:A,'Grafico Strategie Settimanali'!B303,'Daily Diary'!E:E,\"PUNTA UNDER\",'Daily Diary'!E:E,\"PUNTA UNDER\",'Daily Diary'!K:K,\"WIN\")","v":0},{"$f":"COUNTIFS('Daily Diary'!A:A,'Grafico Strategie Settimanali'!B303,'Daily Diary'!E:E,\"SCALPING\",'Daily Diary'!E:E,\"SCALPING\",'Daily Diary'!K:K,\"WIN\")","v":0},{"$f":"COUNTIFS('Daily Diary'!A:A,'Grafico Strategie Settimanali'!B303,'Daily Diary'!E:E,\"GT 90\",'Daily Diary'!E:E,\"GT 90\",'Daily Diary'!K:K,\"WIN\")","v":0},{"$f":"COUNTIFS('Daily Diary'!A:A,'Grafico Strategie Settimanali'!B303,'Daily Diary'!E:E,\"GT 110\",'Daily Diary'!E:E,\"GT 110\",'Daily Diary'!K:K,\"WIN\")","v":0},{"$f":"COUNTIFS('Daily Diary'!A:A,'Grafico Strategie Settimanali'!B303,'Daily Diary'!E:E,\"ALERT GOAL\",'Daily Diary'!E:E,\"ALERT GOAL\",'Daily Diary'!K:K,\"WIN\")","v":0},{"$f":"COUNTIFS('Daily Diary'!A:A,'Grafico Strategie Settimanali'!B303,'Daily Diary'!E:E,\"DRAW NO BET\",'Daily Diary'!E:E,\"DRAW NO BET\",'Daily Diary'!K:K,\"WIN\")","v":0},{"$f":"COUNTIFS('Daily Diary'!A:A,'Grafico Strategie Settimanali'!B303,'Daily Diary'!E:E,\"ALTRO\",'Daily Diary'!E:E,\"ALTRO\",'Daily Diary'!K:K,\"WIN\")","v":0},{"$error":"#DIV/0!"},{"$error":"#DIV/0!"},{"$error":"#DIV/0!"},{"$error":"#DIV/0!"},{"$error":"#DIV/0!"},{"$error":"#DIV/0!"},{"$error":"#DIV/0!"},{"$error":"#DIV/0!"},{"$error":"#DIV/0!"},{"$error":"#DIV/0!"},{"$error":"#DIV/0!"},{"$error":"#DIV/0!"}]
[0,"2024-03-01",{"$f":"COUNTIFS('Daily Diary'!A:A,'Grafico Strategie Settimanali'!B304,'Daily Diary'!E:E,\"BANCA PAREGGIO\")","v":0},{"$f":"COUNTIFS('Daily Diary'!A:A,'Grafico Strategie Settimanali'!B304,'Daily Diary'!E:E,\"PUNTA SQ.CASA\")","v":0},{"$f":"COUNTIFS('Daily Diary'!A:A,'Grafico Strategie Settimanali'!B304,'Daily Diary'!E:E,\"PUNTA SQ.OSPITE\")","v":0},{"$f":"COUNTIFS('Daily Diary'!A:A,'Grafico Strategie Settimanali'!B304,'Daily Diary'!E:E,\"BANCA SFAVORITA\")","v":0},{"$f":"COUNTIFS('Daily Diary'!A:A,'Grafico Strategie Settimanali'!B304,'Daily Diary'!E:E,\"PUNTA OVER\")","v":0},{"$f":"COUNTIFS('Daily Diary'!A:A,'Grafico Strategie Settimanali'!B304,'Daily Diary'!E:E,\"PUNTA UNDER\")","v":0},{"$f":"COUNTIFS('Daily Diary'!A:A,'Grafico Strategie Settimanali'!B304,'Daily Diary'!E:E,\"SCALPING\")","v":0},{"$f":"COUNTIFS('Daily Diary'!A:A,'Grafico Strategie Settimanali'!B304,'Daily Diary'!E:E,\"GT90\")","v":0},{"$f":"COUNTIFS('Daily Diary'!A:A,'Grafico Strategie Settimanali'!B304,'Daily Diary'!E:E,\"GT110\")","v":0},{"$f":"COUNTIFS('Daily Diary'!A:A,'Grafico Strategie Settimanali'!B304,'Daily Diary'!E:E,\"ALERT GOAL\")","v":0},{"$f":"COUNTIFS('Daily Diary'!A:A,'Grafico Strategie Settimanali'!B304,'Daily Diary'!E:E,\"DRAW NO BET\")","v":0},{"$f":"COUNTIFS('Daily Diary'!A:A,'Grafico Strategie Settimanali'!B304,'Daily Diary'!E:E,\"ALTRO\")","v":0},{"$f":"COUNTIFS('Daily Diary'!A:A,'Grafico Strategie Settimanali'!B304,'Daily Diary'!E:E,\"BANCA PAREGGIO\",'Daily Diary'!E:E,\"BANCA PAREGGIO\",'Daily Diary'!K:K,\"WIN\")","v":0},{"$f":"COUNTIFS('Daily Diary'!A:A,'Grafico Strategie Settimanali'!B304,'Daily Diary'!E:E,\"PUNTA SQ.CASA\",'Daily Diary'!E:E,\"PUNTA SQ.CASA\",'Daily Diary'!K:K,\"WIN\")","v":0},{"$f":"COUNTIFS('Daily Diary'!A:A,'Grafico Strategie Settimanali'!B304,'Daily Diary'!E:E,\"PUNTA SQ.OSPITE\",'Daily Diary'!E:E,\"PUNTA SQ.OSPITE\",'Daily Diary'!K:K,\"WIN\")","v":0},{"$f":"COUNTIFS('Daily Diary'!A:A,'Grafico Strategie Settimanali'!B304,'Daily Diary'!E:E,\"BANCA SFAVORITA\",'Daily Diary'!E:E,\"BANCA SFAVORITA\",'Daily Diary'!K:K,\"WIN\")","v":0},{"$f":"COUNTIFS('Daily Diary'!A:A,'Grafico Strategie Settimanali'!B304,'Daily Diary'!E:E,\"PUNTA OVER\",'Daily Diary'!E:E,\"PUNTA OVER\",'Daily Diary'!K:K,\"WIN\")","v":0},{"$f":"COUNTIFS('Daily Diary'!A:A,'Grafico Strategie Settimanali'!B304,'Daily Diary'!E:E,\"PUNTA UNDER\",'Daily Diary'!E:E,\"PUNTA UNDER\",'Daily Diary'!K:K,\"WIN\")","v":0},{"$f":"COUNTIFS('Daily Diary'!A:A,'Grafico Strategie Settimanali'!B304,'Daily Diary'!E:E,\"SCALPING\",'Daily Diary'!E:E,\"SCALPING\",'Daily Diary'!K:K,\"WIN\")","v":0},{"$f":"COUNTIFS('Daily Diary'!A:A,'Grafico Strategie Settimanali'!B304,'Daily Diary'!E:E,\"GT 90\",'Daily Diary'!E:E,\"GT 90\",'Daily Diary'!K:K,\"WIN\")","v":0},{"$f":"COUNTIFS('Daily Diary'!A:A,'Grafico Strategie Settimanali'!B304,'Daily Diary'!E:E,\"GT 110\",'Daily Diary'!E:E,\"GT 110\",'Daily Diary'!K:K,\"WIN\")","v":0},{"$f":"COUNTIFS('Daily Diary'!A:A,'Grafico Strategie Settimanali'!B304,'Daily Diary'!E:E,\"ALERT GOAL\",'Daily Diary'!E:E,\"ALERT GOAL\",'Daily Diary'!K:K,\"WIN\")","v":0},{"$f":"COUNTIFS('Daily Diary'!A:A,'Grafico Strategie Settimanali'!B304,'Daily Diary'!E:E,\"DRAW NO BET\",'Daily Diary'!E:E,\"DRAW NO BET\",'Daily Diary'!K:K,\"WIN\")","v":0},{"$f":"COUNTIFS('Daily Diary'!A:A,'Grafico Strategie Settimanali'!B304,'Daily Diary'!E:E,\"ALTRO\",'Daily Diary'!E:E,\"ALTRO\",'Daily Diary'!K:K,\"WIN\")","v":0},{"$error":"#DIV/0!"},{"$error":"#DIV/0!"},{"$error":"#DIV/0!"},{"$error":"#DIV/0!"},{"$error":"#DIV/0!"},{"$error":"#DIV/0!"},{"$error":"#DIV/0!"},{"$error":"#DIV/0!"},{"$error":"#DIV/0!"},{"$error":"#DIV/0!"},{"$error":"#DIV/0!"},{"$error":"#DIV/0!"}]
[0,"2024-03-02",{"$f":"COUNTIFS('Daily Diary'!A:A,'Grafico Strategie Settimanali'!B305,'Daily Diary'!E:E,\"BANCA PAREGGIO\")","v":0},{"$f":"COUNTIFS('Daily Diary'!A:A,'Grafico Strategie Settimanali'!B305,'Daily Diary'!E:E,\"PUNTA SQ.CASA\")","v":0},{"$f":"COUNTIFS('Daily Diary'!A:A,'Grafico Strategie Settimanali'!B305,'Daily Diary'!E:E,\"PUNTA SQ.OSPITE\")","v":0},{"$f":"COUNTIFS('Daily Diary'!A:A,'Grafico Strategie Settimanali'!B305,'Daily Diary'!E:E,\"BANCA SFAVORITA\")","v":0},{"$f":"COUNTIFS('Daily Diary'!A:A,'Grafico Strategie Settimanali'!B305,'Daily Diary'!E:E,\"PUNTA OVER\")","v":0},{"$f":"COUNTIFS('Daily Diary'!A:A,'Grafico Strategie Settimanali'!B305,'Daily Diary'!E:E,\"PUNTA UNDER\")","v":0},{"$f":"COUNTIFS('Daily Diary'!A:A,'Grafico Strategie Settimanali'!B305,'Daily Diary'!E:E,\"SCALPING\")","v":0},{"$f":"COUNTIFS('Daily Diary'!A:A,'Grafico Strategie Settimanali'!B305,'Daily Diary'!E:E,\"GT90\")","v":0},{"$f":"COUNTIFS('Daily Diary'!A:A,'Grafico Strategie Settimanali'!B305,'Daily Diary'!E:E,\"GT110\")","v":0},{"$f":"COUNTIFS('Daily Diary'!A:A,'Grafico Strategie Settimanali'!B305,'Daily Diary'!E:E,\"ALERT GOAL\")","v":0},{"$f":"COUNTIFS('Daily Diary'!A:A,'Grafico Strategie Settimanali'!B305,'Daily Diary'!E:E,\"DRAW NO BET\")","v":0},{"$f":"COUNTIFS('Daily Diary'!A:A,'Grafico Strategie Settimanali'!B305,'Daily Diary'!E:E,\"ALTRO\")","v":0},{"$f":"COUNTIFS('Daily Diary'!A:A,'Grafico Strategie Settimanali'!B305,'Daily Diary'!E:E,\"BANCA PAREGGIO\",'Daily Diary'!E:E,\"BANCA PAREGGIO\",'Daily Diary'!K:K,\"WIN\")","v":0},{"$f":"COUNTIFS('Daily Diary'!A:A,'Grafico Strategie Settimanali'!B305,'Daily Diary'!E:E,\"PUNTA SQ.CASA\",'Daily Diary'!E:E,\"PUNTA SQ.CASA\",'Daily Diary'!K:K,\"WIN\")","v":0},{"$f":"COUNTIFS('Daily Diary'!A:A,'Grafico Strategie Settimanali'!B305,'Daily Diary'!E:E,\"PUNTA SQ.OSPITE\",'Daily Diary'!E:E,\"PUNTA SQ.OSPITE\",'Daily Diary'!K:K,\"WIN\")","v":0},{"$f":"COUNTIFS('Daily Diary'!A:A,'Grafico Strategie Settimanali'!B305,'Daily Diary'!E:E,\"BANCA SFAVORITA\",'Daily Diary'!E:E,\"BANCA SFAVORITA\",'Daily Diary'!K:K,\"WIN\")","v":0},{"$f":"COUNTIFS('Daily Diary'!A:A,'Grafico Strategie Settimanali'!B305,'Daily Diary'!E:E,\"PUNTA OVER\",'Daily Diary'!E:E,\"PUNTA OVER\",'Daily Diary'!K:K,\"WIN\")","v":0},{"$f":"COUNTIFS('Daily Diary'!A:A,'Grafico Strategie Settimanali'!B305,'Daily Diary'!E:E,\"PUNTA UNDER\",'Daily Diary'!E:E,\"PUNTA UNDER\",'Daily Diary'!K:K,\"WIN\")","v":0},{"$f":"COUNTIFS('Daily Diary'!A:A,'Grafico Strategie Settimanali'!B305,'Daily Diary'!E:E,\"SCALPING\",'Daily Diary'!E:E,\"SCALPING\",'Daily Diary'!K:K,\"WIN\")","v":0},{"$f":"COUNTIFS('Daily Diary'!A:A,'Grafico Strategie Settimanali'!B305,'Daily Diary'!E:E,\"GT 90\",'Daily Diary'!E:E,\"GT 90\",'Daily Diary'!K:K,\"WIN\")","v":0},{"$f":"COUNTIFS('Daily Diary'!A:A,'Grafico Strategie Settimanali'!B305,'Daily Diary'!E:E,\"GT 110\",'Daily Diary'!E:E,\"GT 110\",'Daily Diary'!K:K,\"WIN\")","v":0},{"$f":"COUNTIFS('Daily Diary'!A:A,'Grafico Strategie Settimanali'!B305,'Daily Diary'!E:E,\"ALERT GOAL\",'Daily Diary'!E:E,\"ALERT GOAL\",'Daily Diary'!K:K,\"WIN\")","v":0},{"$f":"COUNTIFS('Daily Diary'!A:A,'Grafico Strategie Settimanali'!B305,'Daily Diary'!E:E,\"DRAW NO BET\",'Daily Diary'!E:E,\"DRAW NO BET\",'Daily Diary'!K:K,\"WIN\")","v":0},{"$f":"COUNTIFS('Daily Diary'!A:A,'Grafico Strategie Settimanali'!B305,'Daily Diary'!E:E,\"ALTRO\",'Daily Diary'!E:E,\"ALTRO\",'Daily Diary'!K:K,\"WIN\")","v":0},{"$error":"#DIV/0!"},{"$error":"#DIV/0!"},{"$error":"#DIV/0!"},{"$error":"#DIV/0!"},{"$error":"#DIV/0!"},{"$error":"#DIV/0!"},{"$error":"#DIV/0!"},{"$error":"#DIV/0!"},{"$error":"#DIV/0!"},{"$error":"#DIV/0!"},{"$error":"#DIV/0!"},{"$error":"#DIV/0!"}]
[0,"2024-03-03",{"$f":"COUNTIFS('Daily Diary'!A:A,'Grafico Strategie Settimanali'!B306,'Daily Diary'!E:E,\"BANCA PAREGGIO\")","v":0},{"$f":"COUNTIFS('Daily Diary'!A:A,'Grafico Strategie Settimanali'!B306,'Daily Diary'!E:E,\"PUNTA SQ.CASA\")","v":0},{"$f":"COUNTIFS('Daily Diary'!A:A,'Grafico Strategie Settimanali'!B306,'Daily Diary'!E:E,\"PUNTA SQ.OSPITE\")","v":0},{"$f":"COUNTIFS('Daily Diary'!A:A,'Grafico Strategie Settimanali'!B306,'Daily Diary'!E:E,\"BANCA SFAVORITA\")","v":0},{"$f":"COUNTIFS('Daily Diary'!A:A,'Grafico Strategie Settimanali'!B306,'Daily Diary'!E:E,\"PUNTA OVER\")","v":0},{"$f":"COUNTIFS('Daily Diary'!A:A,'Grafico Strategie Settimanali'!B306,'Daily Diary'!E:E,\"PUNTA UNDER\")","v":0},{"$f":"COUNTIFS('Daily Diary'!A:A,'Grafico Strategie Settimanali'!B306,'Daily Diary'!E:E,\"SCALPING\")","v":0},{"$f":"COUNTIFS('Daily Diary'!A:A,'Grafico Strategie Settimanali'!B306,'Daily Diary'!E:E,\"GT90\")","v":0},{"$f":"COUNTIFS('Daily Diary'!A:A,'Grafico Strategie Settimanali'!B306,'Daily Diary'!E:E,\"GT110\")","v":0},{"$f":"COUNTIFS('Daily Diary'!A:A,'Grafico Strategie Settimanali'!B306,'Daily Diary'!E:E,\"ALERT GOAL\")","v":0},{"$f":"COUNTIFS('Daily Diary'!A:A,'Grafico Strategie Settimanali'!B306,'Daily Diary'!E:E,\"DRAW NO BET\")","v":0},{"$f":"COUNTIFS('Daily Diary'!A:A,'Grafico Strategie Settimanali'!B306,'Daily Diary'!E:E,\"ALTRO\")","v":0},{"$f":"COUNTIFS('Daily Diary'!A:A,'Grafico Strategie Settimanali'!B306,'Daily Diary'!E:E,\"BANCA PAREGGIO\",'Daily Diary'!E:E,\"BANCA PAREGGIO\",'Daily Diary'!K:K,\"WIN\")","v":0},{"$f":"COUNTIFS('Daily Diary'!A:A,'Grafico Strategie Settimanali'!B306,'Daily Diary'!E:E,\"PUNTA SQ.CASA\",'Daily Diary'!E:E,\"PUNTA SQ.CASA\",'Daily Diary'!K:K,\"WIN\")","v":0},{"$f":"COUNTIFS('Daily Diary'!A:A,'Grafico Strategie Settimanali'!B306,'Daily Diary'!E:E,\"PUNTA SQ.OSPITE\",'Daily Diary'!E:E,\"PUNTA SQ.OSPITE\",'Daily Diary'!K:K,\"WIN\")","v":0},{"$f":"COUNTIFS('Daily Diary'!A:A,'Grafico Strategie Settimanali'!B306,'Daily Diary'!E:E,\"BANCA SFAVORITA\",'Daily Diary'!E:E,\"BANCA SFAVORITA\",'Daily Diary'!K:K,\"WIN\")","v":0},{"$f":"COUNTIFS('Daily Diary'!A:A,'Grafico Strategie Settimanali'!B306,'Daily Diary'!E:E,\"PUNTA OVER\",'Daily Diary'!E:E,\"PUNTA OVER\",'Daily Diary'!K:K,\"WIN\")","v":0},{"$f":"COUNTIFS('Daily Diary'!A:A,'Grafico Strategie Settimanali'!B306,'Daily Diary'!E:E,\"PUNTA UNDER\",'Daily Diary'!E:E,\"PUNTA UNDER\",'Daily Diary'!K:K,\"WIN\")","v":0},{"$f":"COUNTIFS('Daily Diary'!A:A,'Grafico Strategie Settimanali'!B306,'Daily Diary'!E:E,\"SCALPING\",'Daily Diary'!E:E,\"SCALPING\",'Daily Diary'!K:K,\"WIN\")","v":0},{"$f":"COUNTIFS('Daily Diary'!A:A,'Grafico Strategie Settimanali'!B306,'Daily Diary'!E:E,\"GT 90\",'Daily Diary'!E:E,\"GT 90\",'Daily Diary'!K:K,\"WIN\")","v":0},{"$f":"COUNTIFS('Daily Diary'!A:A,'Grafico Strategie Settimanali'!B306,'Daily Diary'!E:E,\"GT 110\",'Daily Diary'!E:E,\"GT 110\",'Daily Diary'!K:K,\"WIN\")","v":0},{"$f":"COUNTIFS('Daily Diary'!A:A,'Grafico Strategie Settimanali'!B306,'Daily Diary'!E:E,\"ALERT GOAL\",'Daily Diary'!E:E,\"ALERT GOAL\",'Daily Diary'!K:K,\"WIN\")","v":0},{"$f":"COUNTIFS('Daily Diary'!A:A,'Grafico Strategie Settimanali'!B306,'Daily Diary'!E:E,\"DRAW NO BET\",'Daily Diary'!E:E,\"DRAW NO BET\",'Daily Diary'!K:K,\"WIN\")","v":0},{"$f":"COUNTIFS('Daily Diary'!A:A,'Grafico Strategie Settimanali'!B306,'Daily Diary'!E:E,\"ALTRO\",'Daily Diary'!E:E,\"ALTRO\",'Daily Diary'!K:K,\"WIN\")","v":0},{"$error":"#DIV/0!"},{"$error":"#DIV/0!"},{"$error":"#DIV/0!"},{"$error":"#DIV/0!"},{"$error":"#DIV/0!"},{"$error":"#DIV/0!"},{"$error":"#DIV/0!"},{"$error":"#DIV/0!"},{"$error":"#DIV/0!"},{"$error":"#DIV/0!"},{"$error":"#DIV/0!"},{"$error":"#DIV/0!"}]
[0,"2024-03-04",{"$f":"COUNTIFS('Daily Diary'!A:A,'Grafico Strategie Settimanali'!B307,'Daily Diary'!E:E,\"BANCA PAREGGIO\")","v":0},{"$f":"COUNTIFS('Daily Diary'!A:A,'Grafico Strategie Settimanali'!B307,'Daily Diary'!E:E,\"PUNTA SQ.CASA\")","v":0},{"$f":"COUNTIFS('Daily Diary'!A:A,'Grafico Strategie Settimanali'!B307,'Daily Diary'!E:E,\"PUNTA SQ.OSPITE\")","v":0},{"$f":"COUNTIFS('Daily Diary'!A:A,'Grafico Strategie Settimanali'!B307,'Daily Diary'!E:E,\"BANCA SFAVORITA\")","v":0},{"$f":"COUNTIFS('Daily Diary'!A:A,'Grafico Strategie Settimanali'!B307,'Daily Diary'!E:E,\"PUNTA OVER\")","v":0},{"$f":"COUNTIFS('Daily Diary'!A:A,'Grafico Strategie Settimanali'!B307,'Daily Diary'!E:E,\"PUNTA UNDER\")","v":0},{"$f":"COUNTIFS('Daily Diary'!A:A,'Grafico Strategie Settimanali'!B307,'Daily Diary'!E:E,\"SCALPING\")","v":0},{"$f":"COUNTIFS('Daily Diary'!A:A,'Grafico Strategie Settimanali'!B307,'Daily Diary'!E:E,\"GT90\")","v":0},{"$f":"COUNTIFS('Daily Diary'!A:A,'Grafico Strategie Settimanali'!B307,'Daily Diary'!E:E,\"GT110\")","v":0},{"$f":"COUNTIFS('Daily Diary'!A:A,'Grafico Strategie Settimanali'!B307,'Daily Diary'!E:E,\"ALERT GOAL\")","v":0},{"$f":"COUNTIFS('Daily Diary'!A:A,'Grafico Strategie Settimanali'!B307,'Daily Diary'!E:E,\"DRAW NO BET\")","v":0},{"$f":"COUNTIFS('Daily Diary'!A:A,'Grafico Strategie Settimanali'!B307,'Daily Diary'!E:E,\"ALTRO\")","v":0},{"$f":"COUNTIFS('Daily Diary'!A:A,'Grafico Strategie Settimanali'!B307,'Daily Diary'!E:E,\"BANCA PAREGGIO\",'Daily Diary'!E:E,\"BANCA PAREGGIO\",'Daily Diary'!K:K,\"WIN\")","v":0},{"$f":"COUNTIFS('Daily Diary'!A:A,'Grafico Strategie Settimanali'!B307,'Daily Diary'!E:E,\"PUNTA SQ.CASA\",'Daily Diary'!E:E,\"PUNTA SQ.CASA\",'Daily Diary'!K:K,\"WIN\")","v":0},{"$f":"COUNTIFS('Daily Diary'!A:A,'Grafico Strategie Settimanali'!B307,'Daily Diary'!E:E,\"PUNTA SQ.OSPITE\",'Daily Diary'!E:E,\"PUNTA SQ.OSPITE\",'Daily Diary'!K:K,\"WIN\")","v":0},{"$f":"COUNTIFS('Daily Diary'!A:A,'Grafico Strategie Settimanali'!B307,'Daily Diary'!E:E,\"BANCA SFAVORITA\",'Daily Diary'!E:E,\"BANCA SFAVORITA\",'Daily Diary'!K:K,\"WIN\")","v":0},{"$f":"COUNTIFS('Daily Diary'!A:A,'Grafico Strategie Settimanali'!B307,'Daily Diary'!E:E,\"PUNTA OVER\",'Daily Diary'!E:E,\"PUNTA OVER\",'Daily Diary'!K:K,\"WIN\")","v":0},{"$f":"COUNTIFS('Daily Diary'!A:A,'Grafico Strategie Settimanali'!B307,'Daily Diary'!E:E,\"PUNTA UNDER\",'Daily Diary'!E:E,\"PUNTA UNDER\",'Daily Diary'!K:K,\"WIN\")","v":0},{"$f":"COUNTIFS('Daily Diary'!A:A,'Grafico Strategie Settimanali'!B307,'Daily Diary'!E:E,\"SCALPING\",'Daily Diary'!E:E,\"SCALPING\",'Daily Diary'!K:K,\"WIN\")","v":0},{"$f":"COUNTIFS('Daily Diary'!A:A,'Grafico Strategie Settimanali'!B307,'Daily Diary'!E:E,\"GT 90\",'Daily Diary'!E:E,\"GT 90\",'Daily Diary'!K:K,\"WIN\")","v":0},{"$f":"COUNTIFS('Daily Diary'!A:A,'Grafico Strategie Settimanali'!B307,'Daily Diary'!E:E,\"GT 110\",'Daily Diary'!E:E,\"GT 110\",'Daily Diary'!K:K,\"WIN\")","v":0},{"$f":"COUNTIFS('Daily Diary'!A:A,'Grafico Strategie Settimanali'!B307,'Daily Diary'!E:E,\"ALERT GOAL\",'Daily Diary'!E:E,\"ALERT GOAL\",'Daily Diary'!K:K,\"WIN\")","v":0},{"$f":"COUNTIFS('Daily Diary'!A:A,'Grafico Strategie Settimanali'!B307,'Daily Diary'!E:E,\"DRAW NO BET\",'Daily Diary'!E:E,\"DRAW NO BET\",'Daily Diary'!K:K,\"WIN\")","v":0},{"$f":"COUNTIFS('Daily Diary'!A:A,'Grafico Strategie Settimanali'!B307,'Daily Diary'!E:E,\"ALTRO\",'Daily Diary'!E:E,\"ALTRO\",'Daily Diary'!K:K,\"WIN\")","v":0},{"$error":"#DIV/0!"},{"$error":"#DIV/0!"},{"$error":"#DIV/0!"},{"$error":"#DIV/0!"},{"$error":"#DIV/0!"},{"$error":"#DIV/0!"},{"$error":"#DIV/0!"},{"$error":"#DIV/0!"},{"$error":"#DIV/0!"},{"$error":"#DIV/0!"},{"$error":"#DIV/0!"},{"$error":"#DIV/0!"}]
[0,"2024-03-05",{"$f":"COUNTIFS('Daily Diary'!A:A,'Grafico Strategie Settimanali'!B308,'Daily Diary'!E:E,\"BANCA PAREGGIO\")","v":0},{"$f":"COUNTIFS('Daily Diary'!A:A,'Grafico Strategie Settimanali'!B308,'Daily Diary'!E:E,\"PUNTA SQ.CASA\")","v":0},{"$f":"COUNTIFS('Daily Diary'!A:A,'Grafico Strategie Settimanali'!B308,'Daily Diary'!E:E,\"PUNTA SQ.OSPITE\")","v":0},{"$f":"COUNTIFS('Daily Diary'!A:A,'Grafico Strategie Settimanali'!B308,'Daily Diary'!E:E,\"BANCA SFAVORITA\")","v":0},{"$f":"COUNTIFS('Daily Diary'!A:A,'Grafico Strategie Settimanali'!B308,'Daily Diary'!E:E,\"PUNTA OVER\")","v":0},{"$f":"COUNTIFS('Daily Diary'!A:A,'Grafico Strategie Settimanali'!B308,'Daily Diary'!E:E,\"PUNTA UNDER\")","v":0},{"$f":"COUNTIFS('Daily Diary'!A:A,'Grafico Strategie Settimanali'!B308,'Daily Diary'!E:E,\"SCALPING\")","v":0},{"$f":"COUNTIFS('Daily Diary'!A:A,'Grafico Strategie Settimanali'!B308,'Daily Diary'!E:E,\"GT90\")","v":0},{"$f":"COUNTIFS('Daily Diary'!A:A,'Grafico Strategie Settimanali'!B308,'Daily Diary'!E:E,\"GT110\")","v":0},{"$f":"COUNTIFS('Daily Diary'!A:A,'Grafico Strategie Settimanali'!B308,'Daily Diary'!E:E,\"ALERT GOAL\")","v":0},{"$f":"COUNTIFS('Daily Diary'!A:A,'Grafico Strategie Settimanali'!B308,'Daily Diary'!E:E,\"DRAW NO BET\")","v":0},{"$f":"COUNTIFS('Daily Diary'!A:A,'Grafico Strategie Settimanali'!B308,'Daily Diary'!E:E,\"ALTRO\")","v":0},{"$f":"COUNTIFS('Daily Diary'!A:A,'Grafico Strategie Settimanali'!B308,'Daily Diary'!E:E,\"BANCA PAREGGIO\",'Daily Diary'!E:E,\"BANCA PAREGGIO\",'Daily Diary'!K:K,\"WIN\")","v":0},{"$f":"COUNTIFS('Daily Diary'!A:A,'Grafico Strategie Settimanali'!B308,'Daily Diary'!E:E,\"PUNTA SQ.CASA\",'Daily Diary'!E:E,\"PUNTA SQ.CASA\",'Daily Diary'!K:K,\"WIN\")","v":0},{"$f":"COUNTIFS('Daily Diary'!A:A,'Grafico Strategie Settimanali'!B308,'Daily Diary'!E:E,\"PUNTA SQ.OSPITE\",'Daily Diary'!E:E,\"PUNTA SQ.OSPITE\",'Daily Diary'!K:K,\"WIN\")","v":0},{"$f":"COUNTIFS('Daily Diary'!A:A,'Grafico Strategie Settimanali'!B308,'Daily Diary'!E:E,\"BANCA SFAVORITA\",'Daily Diary'!E:E,\"BANCA SFAVORITA\",'Daily Diary'!K:K,\"WIN\")","v":0},{"$f":"COUNTIFS('Daily Diary'!A:A,'Grafico Strategie Settimanali'!B308,'Daily Diary'!E:E,\"PUNTA OVER\",'Daily Diary'!E:E,\"PUNTA OVER\",'Daily Diary'!K:K,\"WIN\")","v":0},{"$f":"COUNTIFS('Daily Diary'!A:A,'Grafico Strategie Settimanali'!B308,'Daily Diary'!E:E,\"PUNTA UNDER\",'Daily Diary'!E:E,\"PUNTA UNDER\",'Daily Diary'!K:K,\"WIN\")","v":0},{"$f":"COUNTIFS('Daily Diary'!A:A,'Grafico Strategie Settimanali'!B308,'Daily Diary'!E:E,\"SCALPING\",'Daily Diary'!E:E,\"SCALPING\",'Daily Diary'!K:K,\"WIN\")","v":0},{"$f":"COUNTIFS('Daily Diary'!A:A,'Grafico Strategie Settimanali'!B308,'Daily Diary'!E:E,\"GT 90\",'Daily Diary'!E:E,\"GT 90\",'Daily Diary'!K:K,\"WIN\")","v":0},{"$f":"COUNTIFS('Daily Diary'!A:A,'Grafico Strategie Settimanali'!B308,'Daily Diary'!E:E,\"GT 110\",'Daily Diary'!E:E,\"GT 110\",'Daily Diary'!K:K,\"WIN\")","v":0},{"$f":"COUNTIFS('Daily Diary'!A:A,'Grafico Strategie Settimanali'!B308,'Daily Diary'!E:E,\"ALERT GOAL\",'Daily Diary'!E:E,\"ALERT GOAL\",'Daily Diary'!K:K,\"WIN\")","v":0},{"$f":"COUNTIFS('Daily Diary'!A:A,'Grafico Strategie Settimanali'!B308,'Daily Diary'!E:E,\"DRAW NO BET\",'Daily Diary'!E:E,\"DRAW NO BET\",'Daily Diary'!K:K,\"WIN\")","v":0},{"$f":"COUNTIFS('Daily Diary'!A:A,'Grafico Strategie Settimanali'!B308,'Daily Diary'!E:E,\"ALTRO\",'Daily Diary'!E:E,\"ALTRO\",'Daily Diary'!K:K,\"WIN\")","v":0},{"$error":"#DIV/0!"},{"$error":"#DIV/0!"},{"$error":"#DIV/0!"},{"$error":"#DIV/0!"},{"$error":"#DIV/0!"},{"$error":"#DIV/0!"},{"$error":"#DIV/0!"},{"$error":"#DIV/0!"},{"$error":"#DIV/0!"},{"$error":"#DIV/0!"},{"$error":"#DIV/0!"},{"$error":"#DIV/0!"}]
[0,"2024-03-06",{"$f":"COUNTIFS('Daily Diary'!A:A,'Grafico Strategie Settimanali'!B309,'Daily Diary'!E:E,\"BANCA PAREGGIO\")","v":0},{"$f":"COUNTIFS('Daily Diary'!A:A,'Grafico Strategie Settimanali'!B309,'Daily Diary'!E:E,\"PUNTA SQ.CASA\")","v":0},{"$f":"COUNTIFS('Daily Diary'!A:A,'Grafico Strategie Settimanali'!B309,'Daily Diary'!E:E,\"PUNTA SQ.OSPITE\")","v":0},{"$f":"COUNTIFS('Daily Diary'!A:A,'Grafico Strategie Settimanali'!B309,'Daily Diary'!E:E,\"BANCA SFAVORITA\")","v":0},{"$f":"COUNTIFS('Daily Diary'!A:A,'Grafico Strategie Settimanali'!B309,'Daily Diary'!E:E,\"PUNTA OVER\")","v":0},{"$f":"COUNTIFS('Daily Diary'!A:A,'Grafico Strategie Settimanali'!B309,'Daily Diary'!E:E,\"PUNTA UNDER\")","v":0},{"$f":"COUNTIFS('Daily Diary'!A:A,'Grafico Strategie Settimanali'!B309,'Daily Diary'!E:E,\"SCALPING\")","v":0},{"$f":"COUNTIFS('Daily Diary'!A:A,'Grafico Strategie Settimanali'!B309,'Daily Diary'!E:E,\"GT90\")","v":0},{"$f":"COUNTIFS('Daily Diary'!A:A,'Grafico Strategie Settimanali'!B309,'Daily Diary'!E:E,\"GT110\")","v":0},{"$f":"COUNTIFS('Daily Diary'!A:A,'Grafico Strategie Settimanali'!B309,'Daily Diary'!E:E,\"ALERT GOAL\")","v":0},{"$f":"COUNTIFS('Daily Diary'!A:A,'Grafico Strategie Settimanali'!B309,'Daily Diary'!E:E,\"DRAW NO BET\")","v":0},{"$f":"COUNTIFS('Daily Diary'!A:A,'Grafico Strategie Settimanali'!B309,'Daily Diary'!E:E,\"ALTRO\")","v":0},{"$f":"COUNTIFS('Daily Diary'!A:A,'Grafico Strategie Settimanali'!B309,'Daily Diary'!E:E,\"BANCA PAREGGIO\",'Daily Diary'!E:E,\"BANCA PAREGGIO\",'Daily Diary'!K:K,\"WIN\")","v":0},{"$f":"COUNTIFS('Daily Diary'!A:A,'Grafico Strategie Settimanali'!B309,'Daily Diary'!E:E,\"PUNTA SQ.CASA\",'Daily Diary'!E:E,\"PUNTA SQ.CASA\",'Daily Diary'!K:K,\"WIN\")","v":0},{"$f":"COUNTIFS('Daily Diary'!A:A,'Grafico Strategie Settimanali'!B309,'Daily Diary'!E:E,\"PUNTA SQ.OSPITE\",'Daily Diary'!E:E,\"PUNTA SQ.OSPITE\",'Daily Diary'!K:K,\"WIN\")","v":0},{"$f":"COUNTIFS('Daily Diary'!A:A,'Grafico Strategie Settimanali'!B309,'Daily Diary'!E:E,\"BANCA SFAVORITA\",'Daily Diary'!E:E,\"BANCA SFAVORITA\",'Daily Diary'!K:K,\"WIN\")","v":0},{"$f":"COUNTIFS('Daily Diary'!A:A,'Grafico Strategie Settimanali'!B309,'Daily Diary'!E:E,\"PUNTA OVER\",'Daily Diary'!E:E,\"PUNTA OVER\",'Daily Diary'!K:K,\"WIN\")","v":0},{"$f":"COUNTIFS('Daily Diary'!A:A,'Grafico Strategie Settimanali'!B309,'Daily Diary'!E:E,\"PUNTA UNDER\",'Daily Diary'!E:E,\"PUNTA UNDER\",'Daily Diary'!K:K,\"WIN\")","v":0},{"$f":"COUNTIFS('Daily Diary'!A:A,'Grafico Strategie Settimanali'!B309,'Daily Diary'!E:E,\"SCALPING\",'Daily Diary'!E:E,\"SCALPING\",'Daily Diary'!K:K,\"WIN\")","v":0},{"$f":"COUNTIFS('Daily Diary'!A:A,'Grafico Strategie Settimanali'!B309,'Daily Diary'!E:E,\"GT 90\",'Daily Diary'!E:E,\"GT 90\",'Daily Diary'!K:K,\"WIN\")","v":0},{"$f":"COUNTIFS('Daily Diary'!A:A,'Grafico Strategie Settimanali'!B309,'Daily Diary'!E:E,\"GT 110\",'Daily Diary'!E:E,\"GT 110\",'Daily Diary'!K:K,\"WIN\")","v":0},{"$f":"COUNTIFS('Daily Diary'!A:A,'Grafico Strategie Settimanali'!B309,'Daily Diary'!E:E,\"ALERT GOAL\",'Daily Diary'!E:E,\"ALERT GOAL\",'Daily Diary'!K:K,\"WIN\")","v":0},{"$f":"COUNTIFS('Daily Diary'!A:A,'Grafico Strategie Settimanali'!B309,'Daily Diary'!E:E,\"DRAW NO BET\",'Daily Diary'!E:E,\"DRAW NO BET\",'Daily Diary'!K:K,\"WIN\")","v":0},{"$f":"COUNTIFS('Daily Diary'!A:A,'Grafico Strategie Settimanali'!B309,'Daily Diary'!E:E,\"ALTRO\",'Daily Diary'!E:E,\"ALTRO\",'Daily Diary'!K:K,\"WIN\")","v":0},{"$error":"#DIV/0!"},{"$error":"#DIV/0!"},{"$error":"#DIV/0!"},{"$error":"#DIV/0!"},{"$error":"#DIV/0!"},{"$error":"#DIV/0!"},{"$error":"#DIV/0!"},{"$error":"#DIV/0!"},{"$error":"#DIV/0!"},{"$error":"#DIV/0!"},{"$error":"#DIV/0!"},{"$error":"#DIV/0!"}]
[0,"2024-03-07",{"$f":"COUNTIFS('Daily Diary'!A:A,'Grafico Strategie Settimanali'!B310,'Daily Diary'!E:E,\"BANCA PAREGGIO\")","v":0},{"$f":"COUNTIFS('Daily Diary'!A:A,'Grafico Strategie Settimanali'!B310,'Daily Diary'!E:E,\"PUNTA SQ.CASA\")","v":0},{"$f":"COUNTIFS('Daily Diary'!A:A,'Grafico Strategie Settimanali'!B310,'Daily Diary'!E:E,\"PUNTA SQ.OSPITE\")","v":0},{"$f":"COUNTIFS('Daily Diary'!A:A,'Grafico Strategie Settimanali'!B310,'Daily Diary'!E:E,\"BANCA SFAVORITA\")","v":0},{"$f":"COUNTIFS('Daily Diary'!A:A,'Grafico Strategie Settimanali'!B310,'Daily Diary'!E:E,\"PUNTA OVER\")","v":0},{"$f":"COUNTIFS('Daily Diary'!A:A,'Grafico Strategie Settimanali'!B310,'Daily Diary'!E:E,\"PUNTA UNDER\")","v":0},{"$f":"COUNTIFS('Daily Diary'!A:A,'Grafico Strategie Settimanali'!B310,'Daily Diary'!E:E,\"SCALPING\")","v":0},{"$f":"COUNTIFS('Daily Diary'!A:A,'Grafico Strategie Settimanali'!B310,'Daily Diary'!E:E,\"GT90\")","v":0},{"$f":"COUNTIFS('Daily Diary'!A:A,'Grafico Strategie Settimanali'!B310,'Daily Diary'!E:E,\"GT110\")","v":0},{"$f":"COUNTIFS('Daily Diary'!A:A,'Grafico Strategie Settimanali'!B310,'Daily Diary'!E:E,\"ALERT GOAL\")","v":0},{"$f":"COUNTIFS('Daily Diary'!A:A,'Grafico Strategie Settimanali'!B310,'Daily Diary'!E:E,\"DRAW NO BET\")","v":0},{"$f":"COUNTIFS('Daily Diary'!A:A,'Grafico Strategie Settimanali'!B310,'Daily Diary'!E:E,\"ALTRO\")","v":0},{"$f":"COUNTIFS('Daily Diary'!A:A,'Grafico Strategie Settimanali'!B310,'Daily Diary'!E:E,\"BANCA PAREGGIO\",'Daily Diary'!E:E,\"BANCA PAREGGIO\",'Daily Diary'!K:K,\"WIN\")","v":0},{"$f":"COUNTIFS('Daily Diary'!A:A,'Grafico Strategie Settimanali'!B310,'Daily Diary'!E:E,\"PUNTA SQ.CASA\",'Daily Diary'!E:E,\"PUNTA SQ.CASA\",'Daily Diary'!K:K,\"WIN\")","v":0},{"$f":"COUNTIFS('Daily Diary'!A:A,'Grafico Strategie Settimanali'!B310,'Daily Diary'!E:E,\"PUNTA SQ.OSPITE\",'Daily Diary'!E:E,\"PUNTA SQ.OSPITE\",'Daily Diary'!K:K,\"WIN\")","v":0},{"$f":"COUNTIFS('Daily Diary'!A:A,'Grafico Strategie Settimanali'!B310,'Daily Diary'!E:E,\"BANCA SFAVORITA\",'Daily Diary'!E:E,\"BANCA SFAVORITA\",'Daily Diary'!K:K,\"WIN\")","v":0},{"$f":"COUNTIFS('Daily Diary'!A:A,'Grafico Strategie Settimanali'!B310,'Daily Diary'!E:E,\"PUNTA OVER\",'Daily Diary'!E:E,\"PUNTA OVER\",'Daily Diary'!K:K,\"WIN\")","v":0},{"$f":"COUNTIFS('Daily Diary'!A:A,'Grafico Strategie Settimanali'!B310,'Daily Diary'!E:E,\"PUNTA UNDER\",'Daily Diary'!E:E,\"PUNTA UNDER\",'Daily Diary'!K:K,\"WIN\")","v":0},{"$f":"COUNTIFS('Daily Diary'!A:A,'Grafico Strategie Settimanali'!B310,'Daily Diary'!E:E,\"SCALPING\",'Daily Diary'!E:E,\"SCALPING\",'Daily Diary'!K:K,\"WIN\")","v":0},{"$f":"COUNTIFS('Daily Diary'!A:A,'Grafico Strategie Settimanali'!B310,'Daily Diary'!E:E,\"GT 90\",'Daily Diary'!E:E,\"GT 90\",'Daily Diary'!K:K,\"WIN\")","v":0},{"$f":"COUNTIFS('Daily Diary'!A:A,'Grafico Strategie Settimanali'!B310,'Daily Diary'!E:E,\"GT 110\",'Daily Diary'!E:E,\"GT 110\",'Daily Diary'!K:K,\"WIN\")","v":0},{"$f":"COUNTIFS('Daily Diary'!A:A,'Grafico Strategie Settimanali'!B310,'Daily Diary'!E:E,\"ALERT GOAL\",'Daily Diary'!E:E,\"ALERT GOAL\",'Daily Diary'!K:K,\"WIN\")","v":0},{"$f":"COUNTIFS('Daily Diary'!A:A,'Grafico Strategie Settimanali'!B310,'Daily Diary'!E:E,\"DRAW NO BET\",'Daily Diary'!E:E,\"DRAW NO BET\",'Daily Diary'!K:K,\"WIN\")","v":0},{"$f":"COUNTIFS('Daily Diary'!A:A,'Grafico Strategie Settimanali'!B310,'Daily Diary'!E:E,\"ALTRO\",'Daily Diary'!E:E,\"ALTRO\",'Daily Diary'!K:K,\"WIN\")","v":0},{"$error":"#DIV/0!"},{"$error":"#DIV/0!"},{"$error":"#DIV/0!"},{"$error":"#DIV/0!"},{"$error":"#DIV/0!"},{"$error":"#DIV/0!"},{"$error":"#DIV/0!"},{"$error":"#DIV/0!"},{"$error":"#DIV/0!"},{"$error":"#DIV/0!"},{"$error":"#DIV/0!"},{"$error":"#DIV/0!"}]
[0,"2024-03-08",{"$f":"COUNTIFS('Daily Diary'!A:A,'Grafico Strategie Settimanali'!B311,'Daily Diary'!E:E,\"BANCA PAREGGIO\")","v":0},{"$f":"COUNTIFS('Daily Diary'!A:A,'Grafico Strategie Settimanali'!B311,'Daily Diary'!E:E,\"PUNTA SQ.CASA\")","v":0},{"$f":"COUNTIFS('Daily Diary'!A:A,'Grafico Strategie Settimanali'!B311,'Daily Diary'!E:E,\"PUNTA SQ.OSPITE\")","v":0},{"$f":"COUNTIFS('Daily Diary'!A:A,'Grafico Strategie Settimanali'!B311,'Daily Diary'!E:E,\"BANCA SFAVORITA\")","v":0},{"$f":"COUNTIFS('Daily Diary'!A:A,'Grafico Strategie Settimanali'!B311,'Daily Diary'!E:E,\"PUNTA OVER\")","v":0},{"$f":"COUNTIFS('Daily Diary'!A:A,'Grafico Strategie Settimanali'!B311,'Daily Diary'!E:E,\"PUNTA UNDER\")","v":0},{"$f":"COUNTIFS('Daily Diary'!A:A,'Grafico Strategie Settimanali'!B311,'Daily Diary'!E:E,\"SCALPING\")","v":0},{"$f":"COUNTIFS('Daily Diary'!A:A,'Grafico Strategie Settimanali'!B311,'Daily Diary'!E:E,\"GT90\")","v":0},{"$f":"COUNTIFS('Daily Diary'!A:A,'Grafico Strategie Settimanali'!B311,'Daily Diary'!E:E,\"GT110\")","v":0},{"$f":"COUNTIFS('Daily Diary'!A:A,'Grafico Strategie Settimanali'!B311,'Daily Diary'!E:E,\"ALERT GOAL\")","v":0},{"$f":"COUNTIFS('Daily Diary'!A:A,'Grafico Strategie Settimanali'!B311,'Daily Diary'!E:E,\"DRAW NO BET\")","v":0},{"$f":"COUNTIFS('Daily Diary'!A:A,'Grafico Strategie Settimanali'!B311,'Daily Diary'!E:E,\"ALTRO\")","v":0},{"$f":"COUNTIFS('Daily Diary'!A:A,'Grafico Strategie Settimanali'!B311,'Daily Diary'!E:E,\"BANCA PAREGGIO\",'Daily Diary'!E:E,\"BANCA PAREGGIO\",'Daily Diary'!K:K,\"WIN\")","v":0},{"$f":"COUNTIFS('Daily Diary'!A:A,'Grafico Strategie Settimanali'!B311,'Daily Diary'!E:E,\"PUNTA SQ.CASA\",'Daily Diary'!E:E,\"PUNTA SQ.CASA\",'Daily Diary'!K:K,\"WIN\")","v":0},{"$f":"COUNTIFS('Daily Diary'!A:A,'Grafico Strategie Settimanali'!B311,'Daily Diary'!E:E,\"PUNTA SQ.OSPITE\",'Daily Diary'!E:E,\"PUNTA SQ.OSPITE\",'Daily Diary'!K:K,\"WIN\")","v":0},{"$f":"COUNTIFS('Daily Diary'!A:A,'Grafico Strategie Settimanali'!B311,'Daily Diary'!E:E,\"BANCA SFAVORITA\",'Daily Diary'!E:E,\"BANCA SFAVORITA\",'Daily Diary'!K:K,\"WIN\")","v":0},{"$f":"COUNTIFS('Daily Diary'!A:A,'Grafico Strategie Settimanali'!B311,'Daily Diary'!E:E,\"PUNTA OVER\",'Daily Diary'!E:E,\"PUNTA OVER\",'Daily Diary'!K:K,\"WIN\")","v":0},{"$f":"COUNTIFS('Daily Diary'!A:A,'Grafico Strategie Settimanali'!B311,'Daily Diary'!E:E,\"PUNTA UNDER\",'Daily Diary'!E:E,\"PUNTA UNDER\",'Daily Diary'!K:K,\"WIN\")","v":0},{"$f":"COUNTIFS('Daily Diary'!A:A,'Grafico Strategie Settimanali'!B311,'Daily Diary'!E:E,\"SCALPING\",'Daily Diary'!E:E,\"SCALPING\",'Daily Diary'!K:K,\"WIN\")","v":0},{"$f":"COUNTIFS('Daily Diary'!A:A,'Grafico Strategie Settimanali'!B311,'Daily Diary'!E:E,\"GT 90\",'Daily Diary'!E:E,\"GT 90\",'Daily Diary'!K:K,\"WIN\")","v":0},{"$f":"COUNTIFS('Daily Diary'!A:A,'Grafico Strategie Settimanali'!B311,'Daily Diary'!E:E,\"GT 110\",'Daily Diary'!E:E,\"GT 110\",'Daily Diary'!K:K,\"WIN\")","v":0},{"$f":"COUNTIFS('Daily Diary'!A:A,'Grafico Strategie Settimanali'!B311,'Daily Diary'!E:E,\"ALERT GOAL\",'Daily Diary'!E:E,\"ALERT GOAL\",'Daily Diary'!K:K,\"WIN\")","v":0},{"$f":"COUNTIFS('Daily Diary'!A:A,'Grafico Strategie Settimanali'!B311,'Daily Diary'!E:E,\"DRAW NO BET\",'Daily Diary'!E:E,\"DRAW NO BET\",'Daily Diary'!K:K,\"WIN\")","v":0},{"$f":"COUNTIFS('Daily Diary'!A:A,'Grafico Strategie Settimanali'!B311,'Daily Diary'!E:E,\"ALTRO\",'Daily Diary'!E:E,\"ALTRO\",'Daily Diary'!K:K,\"WIN\")","v":0},{"$error":"#DIV/0!"},{"$error":"#DIV/0!"},{"$error":"#DIV/0!"},{"$error":"#DIV/0!"},{"$error":"#DIV/0!"},{"$error":"#DIV/0!"},{"$error":"#DIV/0!"},{"$error":"#DIV/0!"},{"$error":"#DIV/0!"},{"$error":"#DIV/0!"},{"$error":"#DIV/0!"},{"$error":"#DIV/0!"}]
[0,"2024-03-09",{"$f":"COUNTIFS('Daily Diary'!A:A,'Grafico Strategie Settimanali'!B312,'Daily Diary'!E:E,\"BANCA PAREGGIO\")","v":0},{"$f":"COUNTIFS('Daily Diary'!A:A,'Grafico Strategie Settimanali'!B312,'Daily Diary'!E:E,\"PUNTA SQ.CASA\")","v":0},{"$f":"COUNTIFS('Daily Diary'!A:A,'Grafico Strategie Settimanali'!B312,'Daily Diary'!E:E,\"PUNTA SQ.OSPITE\")","v":0},{"$f":"COUNTIFS('Daily Diary'!A:A,'Grafico Strategie Settimanali'!B312,'Daily Diary'!E:E,\"BANCA SFAVORITA\")","v":0},{"$f":"COUNTIFS('Daily Diary'!A:A,'Grafico Strategie Settimanali'!B312,'Daily Diary'!E:E,\"PUNTA OVER\")","v":0},{"$f":"COUNTIFS('Daily Diary'!A:A,'Grafico Strategie Settimanali'!B312,'Daily Diary'!E:E,\"PUNTA UNDER\")","v":0},{"$f":"COUNTIFS('Daily Diary'!A:A,'Grafico Strategie Settimanali'!B312,'Daily Diary'!E:E,\"SCALPING\")","v":0},{"$f":"COUNTIFS('Daily Diary'!A:A,'Grafico Strategie Settimanali'!B312,'Daily Diary'!E:E,\"GT90\")","v":0},{"$f":"COUNTIFS('Daily Diary'!A:A,'Grafico Strategie Settimanali'!B312,'Daily Diary'!E:E,\"GT110\")","v":0},{"$f":"COUNTIFS('Daily Diary'!A:A,'Grafico Strategie Settimanali'!B312,'Daily Diary'!E:E,\"ALERT GOAL\")","v":0},{"$f":"COUNTIFS('Daily Diary'!A:A,'Grafico Strategie Settimanali'!B312,'Daily Diary'!E:E,\"DRAW NO BET\")","v":0},{"$f":"COUNTIFS('Daily Diary'!A:A,'Grafico Strategie Settimanali'!B312,'Daily Diary'!E:E,\"ALTRO\")","v":0},{"$f":"COUNTIFS('Daily Diary'!A:A,'Grafico Strategie Settimanali'!B312,'Daily Diary'!E:E,\"BANCA PAREGGIO\",'Daily Diary'!E:E,\"BANCA PAREGGIO\",'Daily Diary'!K:K,\"WIN\")","v":0},{"$f":"COUNTIFS('Daily Diary'!A:A,'Grafico Strategie Settimanali'!B312,'Daily Diary'!E:E,\"PUNTA SQ.CASA\",'Daily Diary'!E:E,\"PUNTA SQ.CASA\",'Daily Diary'!K:K,\"WIN\")","v":0},{"$f":"COUNTIFS('Daily Diary'!A:A,'Grafico Strategie Settimanali'!B312,'Daily Diary'!E:E,\"PUNTA SQ.OSPITE\",'Daily Diary'!E:E,\"PUNTA SQ.OSPITE\",'Daily Diary'!K:K,\"WIN\")","v":0},{"$f":"COUNTIFS('Daily Diary'!A:A,'Grafico Strategie Settimanali'!B312,'Daily Diary'!E:E,\"BANCA SFAVORITA\",'Daily Diary'!E:E,\"BANCA SFAVORITA\",'Daily Diary'!K:K,\"WIN\")","v":0},{"$f":"COUNTIFS('Daily Diary'!A:A,'Grafico Strategie Settimanali'!B312,'Daily Diary'!E:E,\"PUNTA OVER\",'Daily Diary'!E:E,\"PUNTA OVER\",'Daily Diary'!K:K,\"WIN\")","v":0},{"$f":"COUNTIFS('Daily Diary'!A:A,'Grafico Strategie Settimanali'!B312,'Daily Diary'!E:E,\"PUNTA UNDER\",'Daily Diary'!E:E,\"PUNTA UNDER\",'Daily Diary'!K:K,\"WIN\")","v":0},{"$f":"COUNTIFS('Daily Diary'!A:A,'Grafico Strategie Settimanali'!B312,'Daily Diary'!E:E,\"SCALPING\",'Daily Diary'!E:E,\"SCALPING\",'Daily Diary'!K:K,\"WIN\")","v":0},{"$f":"COUNTIFS('Daily Diary'!A:A,'Grafico Strategie Settimanali'!B312,'Daily Diary'!E:E,\"GT 90\",'Daily Diary'!E:E,\"GT 90\",'Daily Diary'!K:K,\"WIN\")","v":0},{"$f":"COUNTIFS('Daily Diary'!A:A,'Grafico Strategie Settimanali'!B312,'Daily Diary'!E:E,\"GT 110\",'Daily Diary'!E:E,\"GT 110\",'Daily Diary'!K:K,\"WIN\")","v":0},{"$f":"COUNTIFS('Daily Diary'!A:A,'Grafico Strategie Settimanali'!B312,'Daily Diary'!E:E,\"ALERT GOAL\",'Daily Diary'!E:E,\"ALERT GOAL\",'Daily Diary'!K:K,\"WIN\")","v":0},{"$f":"COUNTIFS('Daily Diary'!A:A,'Grafico Strategie Settimanali'!B312,'Daily Diary'!E:E,\"DRAW NO BET\",'Daily Diary'!E:E,\"DRAW NO BET\",'Daily Diary'!K:K,\"WIN\")","v":0},{"$f":"COUNTIFS('Daily Diary'!A:A,'Grafico Strategie Settimanali'!B312,'Daily Diary'!E:E,\"ALTRO\",'Daily Diary'!E:E,\"ALTRO\",'Daily Diary'!K:K,\"WIN\")","v":0},{"$error":"#DIV/0!"},{"$error":"#DIV/0!"},{"$error":"#DIV/0!"},{"$error":"#DIV/0!"},{"$error":"#DIV/0!"},{"$error":"#DIV/0!"},{"$error":"#DIV/0!"},{"$error":"#DIV/0!"},{"$error":"#DIV/0!"},{"$error":"#DIV/0!"},{"$error":"#DIV/0!"},{"$error":"#DIV/0!"}]
[0,"2024-03-10",{"$f":"COUNTIFS('Daily Diary'!A:A,'Grafico Strategie Settimanali'!B313,'Daily Diary'!E:E,\"BANCA PAREGGIO\")","v":0},{"$f":"COUNTIFS('Daily Diary'!A:A,'Grafico Strategie Settimanali'!B313,'Daily Diary'!E:E,\"PUNTA SQ.CASA\")","v":0},{"$f":"COUNTIFS('Daily Diary'!A:A,'Grafico Strategie Settimanali'!B313,'Daily Diary'!E:E,\"PUNTA SQ.OSPITE\")","v":0},{"$f":"COUNTIFS('Daily Diary'!A:A,'Grafico Strategie Settimanali'!B313,'Daily Diary'!E:E,\"BANCA SFAVORITA\")","v":0},{"$f":"COUNTIFS('Daily Diary'!A:A,'Grafico Strategie Settimanali'!B313,'Daily Diary'!E:E,\"PUNTA OVER\")","v":0},{"$f":"COUNTIFS('Daily Diary'!A:A,'Grafico Strategie Settimanali'!B313,'Daily Diary'!E:E,\"PUNTA UNDER\")","v":0},{"$f":"COUNTIFS('Daily Diary'!A:A,'Grafico Strategie Settimanali'!B313,'Daily Diary'!E:E,\"SCALPING\")","v":0},{"$f":"COUNTIFS('Daily Diary'!A:A,'Grafico Strategie Settimanali'!B313,'Daily Diary'!E:E,\"GT90\")","v":0},{"$f":"COUNTIFS('Daily Diary'!A:A,'Grafico Strategie Settimanali'!B313,'Daily Diary'!E:E,\"GT110\")","v":0},{"$f":"COUNTIFS('Daily Diary'!A:A,'Grafico Strategie Settimanali'!B313,'Daily Diary'!E:E,\"ALERT GOAL\")","v":0},{"$f":"COUNTIFS('Daily Diary'!A:A,'Grafico Strategie Settimanali'!B313,'Daily Diary'!E:E,\"DRAW NO BET\")","v":0},{"$f":"COUNTIFS('Daily Diary'!A:A,'Grafico Strategie Settimanali'!B313,'Daily Diary'!E:E,\"ALTRO\")","v":0},{"$f":"COUNTIFS('Daily Diary'!A:A,'Grafico Strategie Settimanali'!B313,'Daily Diary'!E:E,\"BANCA PAREGGIO\",'Daily Diary'!E:E,\"BANCA PAREGGIO\",'Daily Diary'!K:K,\"WIN\")","v":0},{"$f":"COUNTIFS('Daily Diary'!A:A,'Grafico Strategie Settimanali'!B313,'Daily Diary'!E:E,\"PUNTA SQ.CASA\",'Daily Diary'!E:E,\"PUNTA SQ.CASA\",'Daily Diary'!K:K,\"WIN\")","v":0},{"$f":"COUNTIFS('Daily Diary'!A:A,'Grafico Strategie Settimanali'!B313,'Daily Diary'!E:E,\"PUNTA SQ.OSPITE\",'Daily Diary'!E:E,\"PUNTA SQ.OSPITE\",'Daily Diary'!K:K,\"WIN\")","v":0},{"$f":"COUNTIFS('Daily Diary'!A:A,'Grafico Strategie Settimanali'!B313,'Daily Diary'!E:E,\"BANCA SFAVORITA\",'Daily Diary'!E:E,\"BANCA SFAVORITA\",'Daily Diary'!K:K,\"WIN\")","v":0},{"$f":"COUNTIFS('Daily Diary'!A:A,'Grafico Strategie Settimanali'!B313,'Daily Diary'!E:E,\"PUNTA OVER\",'Daily Diary'!E:E,\"PUNTA OVER\",'Daily Diary'!K:K,\"WIN\")","v":0},{"$f":"COUNTIFS('Daily Diary'!A:A,'Grafico Strategie Settimanali'!B313,'Daily Diary'!E:E,\"PUNTA UNDER\",'Daily Diary'!E:E,\"PUNTA UNDER\",'Daily Diary'!K:K,\"WIN\")","v":0},{"$f":"COUNTIFS('Daily Diary'!A:A,'Grafico Strategie Settimanali'!B313,'Daily Diary'!E:E,\"SCALPING\",'Daily Diary'!E:E,\"SCALPING\",'Daily Diary'!K:K,\"WIN\")","v":0},{"$f":"COUNTIFS('Daily Diary'!A:A,'Grafico Strategie Settimanali'!B313,'Daily Diary'!E:E,\"GT 90\",'Daily Diary'!E:E,\"GT 90\",'Daily Diary'!K:K,\"WIN\")","v":0},{"$f":"COUNTIFS('Daily Diary'!A:A,'Grafico Strategie Settimanali'!B313,'Daily Diary'!E:E,\"GT 110\",'Daily Diary'!E:E,\"GT 110\",'Daily Diary'!K:K,\"WIN\")","v":0},{"$f":"COUNTIFS('Daily Diary'!A:A,'Grafico Strategie Settimanali'!B313,'Daily Diary'!E:E,\"ALERT GOAL\",'Daily Diary'!E:E,\"ALERT GOAL\",'Daily Diary'!K:K,\"WIN\")","v":0},{"$f":"COUNTIFS('Daily Diary'!A:A,'Grafico Strategie Settimanali'!B313,'Daily Diary'!E:E,\"DRAW NO BET\",'Daily Diary'!E:E,\"DRAW NO BET\",'Daily Diary'!K:K,\"WIN\")","v":0},{"$f":"COUNTIFS('Daily Diary'!A:A,'Grafico Strategie Settimanali'!B313,'Daily Diary'!E:E,\"ALTRO\",'Daily Diary'!E:E,\"ALTRO\",'Daily Diary'!K:K,\"WIN\")","v":0},{"$error":"#DIV/0!"},{"$error":"#DIV/0!"},{"$error":"#DIV/0!"},{"$error":"#DIV/0!"},{"$error":"#DIV/0!"},{"$error":"#DIV/0!"},{"$error":"#DIV/0!"},{"$error":"#DIV/0!"},{"$error":"#DIV/0!"},{"$error":"#DIV/0!"},{"$error":"#DIV/0!"},{"$error":"#DIV/0!"}]
[0,"2024-03-11",{"$f":"COUNTIFS('Daily Diary'!A:A,'Grafico Strategie Settimanali'!B314,'Daily Diary'!E:E,\"BANCA PAREGGIO\")","v":0},{"$f":"COUNTIFS('Daily Diary'!A:A,'Grafico Strategie Settimanali'!B314,'Daily Diary'!E:E,\"PUNTA SQ.CASA\")","v":0},{"$f":"COUNTIFS('Daily Diary'!A:A,'Grafico Strategie Settimanali'!B314,'Daily Diary'!E:E,\"PUNTA SQ.OSPITE\")","v":0},{"$f":"COUNTIFS('Daily Diary'!A:A,'Grafico Strategie Settimanali'!B314,'Daily Diary'!E:E,\"BANCA SFAVORITA\")","v":0},{"$f":"COUNTIFS('Daily Diary'!A:A,'Grafico Strategie Settimanali'!B314,'Daily Diary'!E:E,\"PUNTA OVER\")","v":0},{"$f":"COUNTIFS('Daily Diary'!A:A,'Grafico Strategie Settimanali'!B314,'Daily Diary'!E:E,\"PUNTA UNDER\")","v":0},{"$f":"COUNTIFS('Daily Diary'!A:A,'Grafico Strategie Settimanali'!B314,'Daily Diary'!E:E,\"SCALPING\")","v":0},{"$f":"COUNTIFS('Daily Diary'!A:A,'Grafico Strategie Settimanali'!B314,'Daily Diary'!E:E,\"GT90\")","v":0},{"$f":"COUNTIFS('Daily Diary'!A:A,'Grafico Strategie Settimanali'!B314,'Daily Diary'!E:E,\"GT110\")","v":0},{"$f":"COUNTIFS('Daily Diary'!A:A,'Grafico Strategie Settimanali'!B314,'Daily Diary'!E:E,\"ALERT GOAL\")","v":0},{"$f":"COUNTIFS('Daily Diary'!A:A,'Grafico Strategie Settimanali'!B314,'Daily Diary'!E:E,\"DRAW NO BET\")","v":0},{"$f":"COUNTIFS('Daily Diary'!A:A,'Grafico Strategie Settimanali'!B314,'Daily Diary'!E:E,\"ALTRO\")","v":0},{"$f":"COUNTIFS('Daily Diary'!A:A,'Grafico Strategie Settimanali'!B314,'Daily Diary'!E:E,\"BANCA PAREGGIO\",'Daily Diary'!E:E,\"BANCA PAREGGIO\",'Daily Diary'!K:K,\"WIN\")","v":0},{"$f":"COUNTIFS('Daily Diary'!A:A,'Grafico Strategie Settimanali'!B314,'Daily Diary'!E:E,\"PUNTA SQ.CASA\",'Daily Diary'!E:E,\"PUNTA SQ.CASA\",'Daily Diary'!K:K,\"WIN\")","v":0},{"$f":"COUNTIFS('Daily Diary'!A:A,'Grafico Strategie Settimanali'!B314,'Daily Diary'!E:E,\"PUNTA SQ.OSPITE\",'Daily Diary'!E:E,\"PUNTA SQ.OSPITE\",'Daily Diary'!K:K,\"WIN\")","v":0},{"$f":"COUNTIFS('Daily Diary'!A:A,'Grafico Strategie Settimanali'!B314,'Daily Diary'!E:E,\"BANCA SFAVORITA\",'Daily Diary'!E:E,\"BANCA SFAVORITA\",'Daily Diary'!K:K,\"WIN\")","v":0},{"$f":"COUNTIFS('Daily Diary'!A:A,'Grafico Strategie Settimanali'!B314,'Daily Diary'!E:E,\"PUNTA OVER\",'Daily Diary'!E:E,\"PUNTA OVER\",'Daily Diary'!K:K,\"WIN\")","v":0},{"$f":"COUNTIFS('Daily Diary'!A:A,'Grafico Strategie Settimanali'!B314,'Daily Diary'!E:E,\"PUNTA UNDER\",'Daily Diary'!E:E,\"PUNTA UNDER\",'Daily Diary'!K:K,\"WIN\")","v":0},{"$f":"COUNTIFS('Daily Diary'!A:A,'Grafico Strategie Settimanali'!B314,'Daily Diary'!E:E,\"SCALPING\",'Daily Diary'!E:E,\"SCALPING\",'Daily Diary'!K:K,\"WIN\")","v":0},{"$f":"COUNTIFS('Daily Diary'!A:A,'Grafico Strategie Settimanali'!B314,'Daily Diary'!E:E,\"GT 90\",'Daily Diary'!E:E,\"GT 90\",'Daily Diary'!K:K,\"WIN\")","v":0},{"$f":"COUNTIFS('Daily Diary'!A:A,'Grafico Strategie Settimanali'!B314,'Daily Diary'!E:E,\"GT 110\",'Daily Diary'!E:E,\"GT 110\",'Daily Diary'!K:K,\"WIN\")","v":0},{"$f":"COUNTIFS('Daily Diary'!A:A,'Grafico Strategie Settimanali'!B314,'Daily Diary'!E:E,\"ALERT GOAL\",'Daily Diary'!E:E,\"ALERT GOAL\",'Daily Diary'!K:K,\"WIN\")","v":0},{"$f":"COUNTIFS('Daily Diary'!A:A,'Grafico Strategie Settimanali'!B314,'Daily Diary'!E:E,\"DRAW NO BET\",'Daily Diary'!E:E,\"DRAW NO BET\",'Daily Diary'!K:K,\"WIN\")","v":0},{"$f":"COUNTIFS('Daily Diary'!A:A,'Grafico Strategie Settimanali'!B314,'Daily Diary'!E:E,\"ALTRO\",'Daily Diary'!E:E,\"ALTRO\",'Daily Diary'!K:K,\"WIN\")","v":0},{"$error":"#DIV/0!"},{"$error":"#DIV/0!"},{"$error":"#DIV/0!"},{"$error":"#DIV/0!"},{"$error":"#DIV/0!"},{"$error":"#DIV/0!"},{"$error":"#DIV/0!"},{"$error":"#DIV/0!"},{"$error":"#DIV/0!"},{"$error":"#DIV/0!"},{"$error":"#DIV/0!"},{"$error":"#DIV/0!"}]
[0,"2024-03-12",{"$f":"COUNTIFS('Daily Diary'!A:A,'Grafico Strategie Settimanali'!B315,'Daily Diary'!E:E,\"BANCA PAREGGIO\")","v":0},{"$f":"COUNTIFS('Daily Diary'!A:A,'Grafico Strategie Settimanali'!B315,'Daily Diary'!E:E,\"PUNTA SQ.CASA\")","v":0},{"$f":"COUNTIFS('Daily Diary'!A:A,'Grafico Strategie Settimanali'!B315,'Daily Diary'!E:E,\"PUNTA SQ.OSPITE\")","v":0},{"$f":"COUNTIFS('Daily Diary'!A:A,'Grafico Strategie Settimanali'!B315,'Daily Diary'!E:E,\"BANCA SFAVORITA\")","v":0},{"$f":"COUNTIFS('Daily Diary'!A:A,'Grafico Strategie Settimanali'!B315,'Daily Diary'!E:E,\"PUNTA OVER\")","v":0},{"$f":"COUNTIFS('Daily Diary'!A:A,'Grafico Strategie Settimanali'!B315,'Daily Diary'!E:E,\"PUNTA UNDER\")","v":0},{"$f":"COUNTIFS('Daily Diary'!A:A,'Grafico Strategie Settimanali'!B315,'Daily Diary'!E:E,\"SCALPING\")","v":0},{"$f":"COUNTIFS('Daily Diary'!A:A,'Grafico Strategie Settimanali'!B315,'Daily Diary'!E:E,\"GT90\")","v":0},{"$f":"COUNTIFS('Daily Diary'!A:A,'Grafico Strategie Settimanali'!B315,'Daily Diary'!E:E,\"GT110\")","v":0},{"$f":"COUNTIFS('Daily Diary'!A:A,'Grafico Strategie Settimanali'!B315,'Daily Diary'!E:E,\"ALERT GOAL\")","v":0},{"$f":"COUNTIFS('Daily Diary'!A:A,'Grafico Strategie Settimanali'!B315,'Daily Diary'!E:E,\"DRAW NO BET\")","v":0},{"$f":"COUNTIFS('Daily Diary'!A:A,'Grafico Strategie Settimanali'!B315,'Daily Diary'!E:E,\"ALTRO\")","v":0},{"$f":"COUNTIFS('Daily Diary'!A:A,'Grafico Strategie Settimanali'!B315,'Daily Diary'!E:E,\"BANCA PAREGGIO\",'Daily Diary'!E:E,\"BANCA PAREGGIO\",'Daily Diary'!K:K,\"WIN\")","v":0},{"$f":"COUNTIFS('Daily Diary'!A:A,'Grafico Strategie Settimanali'!B315,'Daily Diary'!E:E,\"PUNTA SQ.CASA\",'Daily Diary'!E:E,\"PUNTA SQ.CASA\",'Daily Diary'!K:K,\"WIN\")","v":0},{"$f":"COUNTIFS('Daily Diary'!A:A,'Grafico Strategie Settimanali'!B315,'Daily Diary'!E:E,\"PUNTA SQ.OSPITE\",'Daily Diary'!E:E,\"PUNTA SQ.OSPITE\",'Daily Diary'!K:K,\"WIN\")","v":0},{"$f":"COUNTIFS('Daily Diary'!A:A,'Grafico Strategie Settimanali'!B315,'Daily Diary'!E:E,\"BANCA SFAVORITA\",'Daily Diary'!E:E,\"BANCA SFAVORITA\",'Daily Diary'!K:K,\"WIN\")","v":0},{"$f":"COUNTIFS('Daily Diary'!A:A,'Grafico Strategie Settimanali'!B315,'Daily Diary'!E:E,\"PUNTA OVER\",'Daily Diary'!E:E,\"PUNTA OVER\",'Daily Diary'!K:K,\"WIN\")","v":0},{"$f":"COUNTIFS('Daily Diary'!A:A,'Grafico Strategie Settimanali'!B315,'Daily Diary'!E:E,\"PUNTA UNDER\",'Daily Diary'!E:E,\"PUNTA UNDER\",'Daily Diary'!K:K,\"WIN\")","v":0},{"$f":"COUNTIFS('Daily Diary'!A:A,'Grafico Strategie Settimanali'!B315,'Daily Diary'!E:E,\"SCALPING\",'Daily Diary'!E:E,\"SCALPING\",'Daily Diary'!K:K,\"WIN\")","v":0},{"$f":"COUNTIFS('Daily Diary'!A:A,'Grafico Strategie Settimanali'!B315,'Daily Diary'!E:E,\"GT 90\",'Daily Diary'!E:E,\"GT 90\",'Daily Diary'!K:K,\"WIN\")","v":0},{"$f":"COUNTIFS('Daily Diary'!A:A,'Grafico Strategie Settimanali'!B315,'Daily Diary'!E:E,\"GT 110\",'Daily Diary'!E:E,\"GT 110\",'Daily Diary'!K:K,\"WIN\")","v":0},{"$f":"COUNTIFS('Daily Diary'!A:A,'Grafico Strategie Settimanali'!B315,'Daily Diary'!E:E,\"ALERT GOAL\",'Daily Diary'!E:E,\"ALERT GOAL\",'Daily Diary'!K:K,\"WIN\")","v":0},{"$f":"COUNTIFS('Daily Diary'!A:A,'Grafico Strategie Settimanali'!B315,'Daily Diary'!E:E,\"DRAW NO BET\",'Daily Diary'!E:E,\"DRAW NO BET\",'Daily Diary'!K:K,\"WIN\")","v":0},{"$f":"COUNTIFS('Daily Diary'!A:A,'Grafico Strategie Settimanali'!B315,'Daily Diary'!E:E,\"ALTRO\",'Daily Diary'!E:E,\"ALTRO\",'Daily Diary'!K:K,\"WIN\")","v":0},{"$error":"#DIV/0!"},{"$error":"#DIV/0!"},{"$error":"#DIV/0!"},{"$error":"#DIV/0!"},{"$error":"#DIV/0!"},{"$error":"#DIV/0!"},{"$error":"#DIV/0!"},{"$error":"#DIV/0!"},{"$error":"#DIV/0!"},{"$error":"#DIV/0!"},{"$error":"#DIV/0!"},{"$error":"#DIV/0!"}]
[0,"2024-03-13",{"$f":"COUNTIFS('Daily Diary'!A:A,'Grafico Strategie Settimanali'!B316,'Daily Diary'!E:E,\"BANCA PAREGGIO\")","v":0},{"$f":"COUNTIFS('Daily Diary'!A:A,'Grafico Strategie Settimanali'!B316,'Daily Diary'!E:E,\"PUNTA SQ.CASA\")","v":0},{"$f":"COUNTIFS('Daily Diary'!A:A,'Grafico Strategie Settimanali'!B316,'Daily Diary'!E:E,\"PUNTA SQ.OSPITE\")","v":0},{"$f":"COUNTIFS('Daily Diary'!A:A,'Grafico Strategie Settimanali'!B316,'Daily Diary'!E:E,\"BANCA SFAVORITA\")","v":0},{"$f":"COUNTIFS('Daily Diary'!A:A,'Grafico Strategie Settimanali'!B316,'Daily Diary'!E:E,\"PUNTA OVER\")","v":0},{"$f":"COUNTIFS('Daily Diary'!A:A,'Grafico Strategie Settimanali'!B316,'Daily Diary'!E:E,\"PUNTA UNDER\")","v":0},{"$f":"COUNTIFS('Daily Diary'!A:A,'Grafico Strategie Settimanali'!B316,'Daily Diary'!E:E,\"SCALPING\")","v":0},{"$f":"COUNTIFS('Daily Diary'!A:A,'Grafico Strategie Settimanali'!B316,'Daily Diary'!E:E,\"GT90\")","v":0},{"$f":"COUNTIFS('Daily Diary'!A:A,'Grafico Strategie Settimanali'!B316,'Daily Diary'!E:E,\"GT110\")","v":0},{"$f":"COUNTIFS('Daily Diary'!A:A,'Grafico Strategie Settimanali'!B316,'Daily Diary'!E:E,\"ALERT GOAL\")","v":0},{"$f":"COUNTIFS('Daily Diary'!A:A,'Grafico Strategie Settimanali'!B316,'Daily Diary'!E:E,\"DRAW NO BET\")","v":0},{"$f":"COUNTIFS('Daily Diary'!A:A,'Grafico Strategie Settimanali'!B316,'Daily Diary'!E:E,\"ALTRO\")","v":0},{"$f":"COUNTIFS('Daily Diary'!A:A,'Grafico Strategie Settimanali'!B316,'Daily Diary'!E:E,\"BANCA PAREGGIO\",'Daily Diary'!E:E,\"BANCA PAREGGIO\",'Daily Diary'!K:K,\"WIN\")","v":0},{"$f":"COUNTIFS('Daily Diary'!A:A,'Grafico Strategie Settimanali'!B316,'Daily Diary'!E:E,\"PUNTA SQ.CASA\",'Daily Diary'!E:E,\"PUNTA SQ.CASA\",'Daily Diary'!K:K,\"WIN\")","v":0},{"$f":"COUNTIFS('Daily Diary'!A:A,'Grafico Strategie Settimanali'!B316,'Daily Diary'!E:E,\"PUNTA SQ.OSPITE\",'Daily Diary'!E:E,\"PUNTA SQ.OSPITE\",'Daily Diary'!K:K,\"WIN\")","v":0},{"$f":"COUNTIFS('Daily Diary'!A:A,'Grafico Strategie Settimanali'!B316,'Daily Diary'!E:E,\"BANCA SFAVORITA\",'Daily Diary'!E:E,\"BANCA SFAVORITA\",'Daily Diary'!K:K,\"WIN\")","v":0},{"$f":"COUNTIFS('Daily Diary'!A:A,'Grafico Strategie Settimanali'!B316,'Daily Diary'!E:E,\"PUNTA OVER\",'Daily Diary'!E:E,\"PUNTA OVER\",'Daily Diary'!K:K,\"WIN\")","v":0},{"$f":"COUNTIFS('Daily Diary'!A:A,'Grafico Strategie Settimanali'!B316,'Daily Diary'!E:E,\"PUNTA UNDER\",'Daily Diary'!E:E,\"PUNTA UNDER\",'Daily Diary'!K:K,\"WIN\")","v":0},{"$f":"COUNTIFS('Daily Diary'!A:A,'Grafico Strategie Settimanali'!B316,'Daily Diary'!E:E,\"SCALPING\",'Daily Diary'!E:E,\"SCALPING\",'Daily Diary'!K:K,\"WIN\")","v":0},{"$f":"COUNTIFS('Daily Diary'!A:A,'Grafico Strategie Settimanali'!B316,'Daily Diary'!E:E,\"GT 90\",'Daily Diary'!E:E,\"GT 90\",'Daily Diary'!K:K,\"WIN\")","v":0},{"$f":"COUNTIFS('Daily Diary'!A:A,'Grafico Strategie Settimanali'!B316,'Daily Diary'!E:E,\"GT 110\",'Daily Diary'!E:E,\"GT 110\",'Daily Diary'!K:K,\"WIN\")","v":0},{"$f":"COUNTIFS('Daily Diary'!A:A,'Grafico Strategie Settimanali'!B316,'Daily Diary'!E:E,\"ALERT GOAL\",'Daily Diary'!E:E,\"ALERT GOAL\",'Daily Diary'!K:K,\"WIN\")","v":0},{"$f":"COUNTIFS('Daily Diary'!A:A,'Grafico Strategie Settimanali'!B316,'Daily Diary'!E:E,\"DRAW NO BET\",'Daily Diary'!E:E,\"DRAW NO BET\",'Daily Diary'!K:K,\"WIN\")","v":0},{"$f":"COUNTIFS('Daily Diary'!A:A,'Grafico Strategie Settimanali'!B316,'Daily Diary'!E:E,\"ALTRO\",'Daily Diary'!E:E,\"ALTRO\",'Daily Diary'!K:K,\"WIN\")","v":0},{"$error":"#DIV/0!"},{"$error":"#DIV/0!"},{"$error":"#DIV/0!"},{"$error":"#DIV/0!"},{"$error":"#DIV/0!"},{"$error":"#DIV/0!"},{"$error":"#DIV/0!"},{"$error":"#DIV/0!"},{"$error":"#DIV/0!"},{"$error":"#DIV/0!"},{"$error":"#DIV/0!"},{"$error":"#DIV/0!"}]
[0,"2024-03-14",{"$f":"COUNTIFS('Daily Diary'!A:A,'Grafico Strategie Settimanali'!B317,'Daily Diary'!E:E,\"BANCA PAREGGIO\")","v":0},{"$f":"COUNTIFS('Daily Diary'!A:A,'Grafico Strategie Settimanali'!B317,'Daily Diary'!E:E,\"PUNTA SQ.CASA\")","v":0},{"$f":"COUNTIFS('Daily Diary'!A:A,'Grafico Strategie Settimanali'!B317,'Daily Diary'!E:E,\"PUNTA SQ.OSPITE\")","v":0},{"$f":"COUNTIFS('Daily Diary'!A:A,'Grafico Strategie Settimanali'!B317,'Daily Diary'!E:E,\"BANCA SFAVORITA\")","v":0},{"$f":"COUNTIFS('Daily Diary'!A:A,'Grafico Strategie Settimanali'!B317,'Daily Diary'!E:E,\"PUNTA OVER\")","v":0},{"$f":"COUNTIFS('Daily Diary'!A:A,'Grafico Strategie Settimanali'!B317,'Daily Diary'!E:E,\"PUNTA UNDER\")","v":0},{"$f":"COUNTIFS('Daily Diary'!A:A,'Grafico Strategie Settimanali'!B317,'Daily Diary'!E:E,\"SCALPING\")","v":0},{"$f":"COUNTIFS('Daily Diary'!A:A,'Grafico Strategie Settimanali'!B317,'Daily Diary'!E:E,\"GT90\")","v":0},{"$f":"COUNTIFS('Daily Diary'!A:A,'Grafico Strategie Settimanali'!B317,'Daily Diary'!E:E,\"GT110\")","v":0},{"$f":"COUNTIFS('Daily Diary'!A:A,'Grafico Strategie Settimanali'!B317,'Daily Diary'!E:E,\"ALERT GOAL\")","v":0},{"$f":"COUNTIFS('Daily Diary'!A:A,'Grafico Strategie Settimanali'!B317,'Daily Diary'!E:E,\"DRAW NO BET\")","v":0},{"$f":"COUNTIFS('Daily Diary'!A:A,'Grafico Strategie Settimanali'!B317,'Daily Diary'!E:E,\"ALTRO\")","v":0},{"$f":"COUNTIFS('Daily Diary'!A:A,'Grafico Strategie Settimanali'!B317,'Daily Diary'!E:E,\"BANCA PAREGGIO\",'Daily Diary'!E:E,\"BANCA PAREGGIO\",'Daily Diary'!K:K,\"WIN\")","v":0},{"$f":"COUNTIFS('Daily Diary'!A:A,'Grafico Strategie Settimanali'!B317,'Daily Diary'!E:E,\"PUNTA SQ.CASA\",'Daily Diary'!E:E,\"PUNTA SQ.CASA\",'Daily Diary'!K:K,\"WIN\")","v":0},{"$f":"COUNTIFS('Daily Diary'!A:A,'Grafico Strategie Settimanali'!B317,'Daily Diary'!E:E,\"PUNTA SQ.OSPITE\",'Daily Diary'!E:E,\"PUNTA SQ.OSPITE\",'Daily Diary'!K:K,\"WIN\")","v":0},{"$f":"COUNTIFS('Daily Diary'!A:A,'Grafico Strategie Settimanali'!B317,'Daily Diary'!E:E,\"BANCA SFAVORITA\",'Daily Diary'!E:E,\"BANCA SFAVORITA\",'Daily Diary'!K:K,\"WIN\")","v":0},{"$f":"COUNTIFS('Daily Diary'!A:A,'Grafico Strategie Settimanali'!B317,'Daily Diary'!E:E,\"PUNTA OVER\",'Daily Diary'!E:E,\"PUNTA OVER\",'Daily Diary'!K:K,\"WIN\")","v":0},{"$f":"COUNTIFS('Daily Diary'!A:A,'Grafico Strategie Settimanali'!B317,'Daily Diary'!E:E,\"PUNTA UNDER\",'Daily Diary'!E:E,\"PUNTA UNDER\",'Daily Diary'!K:K,\"WIN\")","v":0},{"$f":"COUNTIFS('Daily Diary'!A:A,'Grafico Strategie Settimanali'!B317,'Daily Diary'!E:E,\"SCALPING\",'Daily Diary'!E:E,\"SCALPING\",'Daily Diary'!K:K,\"WIN\")","v":0},{"$f":"COUNTIFS('Daily Diary'!A:A,'Grafico Strategie Settimanali'!B317,'Daily Diary'!E:E,\"GT 90\",'Daily Diary'!E:E,\"GT 90\",'Daily Diary'!K:K,\"WIN\")","v":0},{"$f":"COUNTIFS('Daily Diary'!A:A,'Grafico Strategie Settimanali'!B317,'Daily Diary'!E:E,\"GT 110\",'Daily Diary'!E:E,\"GT 110\",'Daily Diary'!K:K,\"WIN\")","v":0},{"$f":"COUNTIFS('Daily Diary'!A:A,'Grafico Strategie Settimanali'!B317,'Daily Diary'!E:E,\"ALERT GOAL\",'Daily Diary'!E:E,\"ALERT GOAL\",'Daily Diary'!K:K,\"WIN\")","v":0},{"$f":"COUNTIFS('Daily Diary'!A:A,'Grafico Strategie Settimanali'!B317,'Daily Diary'!E:E,\"DRAW NO BET\",'Daily Diary'!E:E,\"DRAW NO BET\",'Daily Diary'!K:K,\"WIN\")","v":0},{"$f":"COUNTIFS('Daily Diary'!A:A,'Grafico Strategie Settimanali'!B317,'Daily Diary'!E:E,\"ALTRO\",'Daily Diary'!E:E,\"ALTRO\",'Daily Diary'!K:K,\"WIN\")","v":0},{"$error":"#DIV/0!"},{"$error":"#DIV/0!"},{"$error":"#DIV/0!"},{"$error":"#DIV/0!"},{"$error":"#DIV/0!"},{"$error":"#DIV/0!"},{"$error":"#DIV/0!"},{"$error":"#DIV/0!"},{"$error":"#DIV/0!"},{"$error":"#DIV/0!"},{"$error":"#DIV/0!"},{"$error":"#DIV/0!"}]
[0,"2024-03-15",{"$f":"COUNTIFS('Daily Diary'!A:A,'Grafico Strategie Settimanali'!B318,'Daily Diary'!E:E,\"BANCA PAREGGIO\")","v":0},{"$f":"COUNTIFS('Daily Diary'!A:A,'Grafico Strategie Settimanali'!B318,'Daily Diary'!E:E,\"PUNTA SQ.CASA\")","v":0},{"$f":"COUNTIFS('Daily Diary'!A:A,'Grafico Strategie Settimanali'!B318,'Daily Diary'!E:E,\"PUNTA SQ.OSPITE\")","v":0},{"$f":"COUNTIFS('Daily Diary'!A:A,'Grafico Strategie Settimanali'!B318,'Daily Diary'!E:E,\"BANCA SFAVORITA\")","v":0},{"$f":"COUNTIFS('Daily Diary'!A:A,'Grafico Strategie Settimanali'!B318,'Daily Diary'!E:E,\"PUNTA OVER\")","v":0},{"$f":"COUNTIFS('Daily Diary'!A:A,'Grafico Strategie Settimanali'!B318,'Daily Diary'!E:E,\"PUNTA UNDER\")","v":0},{"$f":"COUNTIFS('Daily Diary'!A:A,'Grafico Strategie Settimanali'!B318,'Daily Diary'!E:E,\"SCALPING\")","v":0},{"$f":"COUNTIFS('Daily Diary'!A:A,'Grafico Strategie Settimanali'!B318,'Daily Diary'!E:E,\"GT90\")","v":0},{"$f":"COUNTIFS('Daily Diary'!A:A,'Grafico Strategie Settimanali'!B318,'Daily Diary'!E:E,\"GT110\")","v":0},{"$f":"COUNTIFS('Daily Diary'!A:A,'Grafico Strategie Settimanali'!B318,'Daily Diary'!E:E,\"ALERT GOAL\")","v":0},{"$f":"COUNTIFS('Daily Diary'!A:A,'Grafico Strategie Settimanali'!B318,'Daily Diary'!E:E,\"DRAW NO BET\")","v":0},{"$f":"COUNTIFS('Daily Diary'!A:A,'Grafico Strategie Settimanali'!B318,'Daily Diary'!E:E,\"ALTRO\")","v":0},{"$f":"COUNTIFS('Daily Diary'!A:A,'Grafico Strategie Settimanali'!B318,'Daily Diary'!E:E,\"BANCA PAREGGIO\",'Daily Diary'!E:E,\"BANCA PAREGGIO\",'Daily Diary'!K:K,\"WIN\")","v":0},{"$f":"COUNTIFS('Daily Diary'!A:A,'Grafico Strategie Settimanali'!B318,'Daily Diary'!E:E,\"PUNTA SQ.CASA\",'Daily Diary'!E:E,\"PUNTA SQ.CASA\",'Daily Diary'!K:K,\"WIN\")","v":0},{"$f":"COUNTIFS('Daily Diary'!A:A,'Grafico Strategie Settimanali'!B318,'Daily Diary'!E:E,\"PUNTA SQ.OSPITE\",'Daily Diary'!E:E,\"PUNTA SQ.OSPITE\",'Daily Diary'!K:K,\"WIN\")","v":0},{"$f":"COUNTIFS('Daily Diary'!A:A,'Grafico Strategie Settimanali'!B318,'Daily Diary'!E:E,\"BANCA SFAVORITA\",'Daily Diary'!E:E,\"BANCA SFAVORITA\",'Daily Diary'!K:K,\"WIN\")","v":0},{"$f":"COUNTIFS('Daily Diary'!A:A,'Grafico Strategie Settimanali'!B318,'Daily Diary'!E:E,\"PUNTA OVER\",'Daily Diary'!E:E,\"PUNTA OVER\",'Daily Diary'!K:K,\"WIN\")","v":0},{"$f":"COUNTIFS('Daily Diary'!A:A,'Grafico Strategie Settimanali'!B318,'Daily Diary'!E:E,\"PUNTA UNDER\",'Daily Diary'!E:E,\"PUNTA UNDER\",'Daily Diary'!K:K,\"WIN\")","v":0},{"$f":"COUNTIFS('Daily Diary'!A:A,'Grafico Strategie Settimanali'!B318,'Daily Diary'!E:E,\"SCALPING\",'Daily Diary'!E:E,\"SCALPING\",'Daily Diary'!K:K,\"WIN\")","v":0},{"$f":"COUNTIFS('Daily Diary'!A:A,'Grafico Strategie Settimanali'!B318,'Daily Diary'!E:E,\"GT 90\",'Daily Diary'!E:E,\"GT 90\",'Daily Diary'!K:K,\"WIN\")","v":0},{"$f":"COUNTIFS('Daily Diary'!A:A,'Grafico Strategie Settimanali'!B318,'Daily Diary'!E:E,\"GT 110\",'Daily Diary'!E:E,\"GT 110\",'Daily Diary'!K:K,\"WIN\")","v":0},{"$f":"COUNTIFS('Daily Diary'!A:A,'Grafico Strategie Settimanali'!B318,'Daily Diary'!E:E,\"ALERT GOAL\",'Daily Diary'!E:E,\"ALERT GOAL\",'Daily Diary'!K:K,\"WIN\")","v":0},{"$f":"COUNTIFS('Daily Diary'!A:A,'Grafico Strategie Settimanali'!B318,'Daily Diary'!E:E,\"DRAW NO BET\",'Daily Diary'!E:E,\"DRAW NO BET\",'Daily Diary'!K:K,\"WIN\")","v":0},{"$f":"COUNTIFS('Daily Diary'!A:A,'Grafico Strategie Settimanali'!B318,'Daily Diary'!E:E,\"ALTRO\",'Daily Diary'!E:E,\"ALTRO\",'Daily Diary'!K:K,\"WIN\")","v":0},{"$error":"#DIV/0!"},{"$error":"#DIV/0!"},{"$error":"#DIV/0!"},{"$error":"#DIV/0!"},{"$error":"#DIV/0!"},{"$error":"#DIV/0!"},{"$error":"#DIV/0!"},{"$error":"#DIV/0!"},{"$error":"#DIV/0!"},{"$error":"#DIV/0!"},{"$error":"#DIV/0!"},{"$error":"#DIV/0!"}]
[0,"2024-03-16",{"$f":"COUNTIFS('Daily Diary'!A:A,'Grafico Strategie Settimanali'!B319,'Daily Diary'!E:E,\"BANCA PAREGGIO\")","v":0},{"$f":"COUNTIFS('Daily Diary'!A:A,'Grafico Strategie Settimanali'!B319,'Daily Diary'!E:E,\"PUNTA SQ.CASA\")","v":0},{"$f":"COUNTIFS('Daily Diary'!A:A,'Grafico Strategie Settimanali'!B319,'Daily Diary'!E:E,\"PUNTA SQ.OSPITE\")","v":0},{"$f":"COUNTIFS('Daily Diary'!A:A,'Grafico Strategie Settimanali'!B319,'Daily Diary'!E:E,\"BANCA SFAVORITA\")","v":0},{"$f":"COUNTIFS('Daily Diary'!A:A,'Grafico Strategie Settimanali'!B319,'Daily Diary'!E:E,\"PUNTA OVER\")","v":0},{"$f":"COUNTIFS('Daily Diary'!A:A,'Grafico Strategie Settimanali'!B319,'Daily Diary'!E:E,\"PUNTA UNDER\")","v":0},{"$f":"COUNTIFS('Daily Diary'!A:A,'Grafico Strategie Settimanali'!B319,'Daily Diary'!E:E,\"SCALPING\")","v":0},{"$f":"COUNTIFS('Daily Diary'!A:A,'Grafico Strategie Settimanali'!B319,'Daily Diary'!E:E,\"GT90\")","v":0},{"$f":"COUNTIFS('Daily Diary'!A:A,'Grafico Strategie Settimanali'!B319,'Daily Diary'!E:E,\"GT110\")","v":0},{"$f":"COUNTIFS('Daily Diary'!A:A,'Grafico Strategie Settimanali'!B319,'Daily Diary'!E:E,\"ALERT GOAL\")","v":0},{"$f":"COUNTIFS('Daily Diary'!A:A,'Grafico Strategie Settimanali'!B319,'Daily Diary'!E:E,\"DRAW NO BET\")","v":0},{"$f":"COUNTIFS('Daily Diary'!A:A,'Grafico Strategie Settimanali'!B319,'Daily Diary'!E:E,\"ALTRO\")","v":0},{"$f":"COUNTIFS('Daily Diary'!A:A,'Grafico Strategie Settimanali'!B319,'Daily Diary'!E:E,\"BANCA PAREGGIO\",'Daily Diary'!E:E,\"BANCA PAREGGIO\",'Daily Diary'!K:K,\"WIN\")","v":0},{"$f":"COUNTIFS('Daily Diary'!A:A,'Grafico Strategie Settimanali'!B319,'Daily Diary'!E:E,\"PUNTA SQ.CASA\",'Daily Diary'!E:E,\"PUNTA SQ.CASA\",'Daily Diary'!K:K,\"WIN\")","v":0},{"$f":"COUNTIFS('Daily Diary'!A:A,'Grafico Strategie Settimanali'!B319,'Daily Diary'!E:E,\"PUNTA SQ.OSPITE\",'Daily Diary'!E:E,\"PUNTA SQ.OSPITE\",'Daily Diary'!K:K,\"WIN\")","v":0},{"$f":"COUNTIFS('Daily Diary'!A:A,'Grafico Strategie Settimanali'!B319,'Daily Diary'!E:E,\"BANCA SFAVORITA\",'Daily Diary'!E:E,\"BANCA SFAVORITA\",'Daily Diary'!K:K,\"WIN\")","v":0},{"$f":"COUNTIFS('Daily Diary'!A:A,'Grafico Strategie Settimanali'!B319,'Daily Diary'!E:E,\"PUNTA OVER\",'Daily Diary'!E:E,\"PUNTA OVER\",'Daily Diary'!K:K,\"WIN\")","v":0},{"$f":"COUNTIFS('Daily Diary'!A:A,'Grafico Strategie Settimanali'!B319,'Daily Diary'!E:E,\"PUNTA UNDER\",'Daily Diary'!E:E,\"PUNTA UNDER\",'Daily Diary'!K:K,\"WIN\")","v":0},{"$f":"COUNTIFS('Daily Diary'!A:A,'Grafico Strategie Settimanali'!B319,'Daily Diary'!E:E,\"SCALPING\",'Daily Diary'!E:E,\"SCALPING\",'Daily Diary'!K:K,\"WIN\")","v":0},{"$f":"COUNTIFS('Daily Diary'!A:A,'Grafico Strategie Settimanali'!B319,'Daily Diary'!E:E,\"GT 90\",'Daily Diary'!E:E,\"GT 90\",'Daily Diary'!K:K,\"WIN\")","v":0},{"$f":"COUNTIFS('Daily Diary'!A:A,'Grafico Strategie Settimanali'!B319,'Daily Diary'!E:E,\"GT 110\",'Daily Diary'!E:E,\"GT 110\",'Daily Diary'!K:K,\"WIN\")","v":0},{"$f":"COUNTIFS('Daily Diary'!A:A,'Grafico Strategie Settimanali'!B319,'Daily Diary'!E:E,\"ALERT GOAL\",'Daily Diary'!E:E,\"ALERT GOAL\",'Daily Diary'!K:K,\"WIN\")","v":0},{"$f":"COUNTIFS('Daily Diary'!A:A,'Grafico Strategie Settimanali'!B319,'Daily Diary'!E:E,\"DRAW NO BET\",'Daily Diary'!E:E,\"DRAW NO BET\",'Daily Diary'!K:K,\"WIN\")","v":0},{"$f":"COUNTIFS('Daily Diary'!A:A,'Grafico Strategie Settimanali'!B319,'Daily Diary'!E:E,\"ALTRO\",'Daily Diary'!E:E,\"ALTRO\",'Daily Diary'!K:K,\"WIN\")","v":0},{"$error":"#DIV/0!"},{"$error":"#DIV/0!"},{"$error":"#DIV/0!"},{"$error":"#DIV/0!"},{"$error":"#DIV/0!"},{"$error":"#DIV/0!"},{"$error":"#DIV/0!"},{"$error":"#DIV/0!"},{"$error":"#DIV/0!"},{"$error":"#DIV/0!"},{"$error":"#DIV/0!"},{"$error":"#DIV/0!"}]
[0,"2024-03-17",{"$f":"COUNTIFS('Daily Diary'!A:A,'Grafico Strategie Settimanali'!B320,'Daily Diary'!E:E,\"BANCA PAREGGIO\")","v":0},{"$f":"COUNTIFS('Daily Diary'!A:A,'Grafico Strategie Settimanali'!B320,'Daily Diary'!E:E,\"PUNTA SQ.CASA\")","v":0},{"$f":"COUNTIFS('Daily Diary'!A:A,'Grafico Strategie Settimanali'!B320,'Daily Diary'!E:E,\"PUNTA SQ.OSPITE\")","v":0},{"$f":"COUNTIFS('Daily Diary'!A:A,'Grafico Strategie Settimanali'!B320,'Daily Diary'!E:E,\"BANCA SFAVORITA\")","v":0},{"$f":"COUNTIFS('Daily Diary'!A:A,'Grafico Strategie Settimanali'!B320,'Daily Diary'!E:E,\"PUNTA OVER\")","v":0},{"$f":"COUNTIFS('Daily Diary'!A:A,'Grafico Strategie Settimanali'!B320,'Daily Diary'!E:E,\"PUNTA UNDER\")","v":0},{"$f":"COUNTIFS('Daily Diary'!A:A,'Grafico Strategie Settimanali'!B320,'Daily Diary'!E:E,\"SCALPING\")","v":0},{"$f":"COUNTIFS('Daily Diary'!A:A,'Grafico Strategie Settimanali'!B320,'Daily Diary'!E:E,\"GT90\")","v":0},{"$f":"COUNTIFS('Daily Diary'!A:A,'Grafico Strategie Settimanali'!B320,'Daily Diary'!E:E,\"GT110\")","v":0},{"$f":"COUNTIFS('Daily Diary'!A:A,'Grafico Strategie Settimanali'!B320,'Daily Diary'!E:E,\"ALERT GOAL\")","v":0},{"$f":"COUNTIFS('Daily Diary'!A:A,'Grafico Strategie Settimanali'!B320,'Daily Diary'!E:E,\"DRAW NO BET\")","v":0},{"$f":"COUNTIFS('Daily Diary'!A:A,'Grafico Strategie Settimanali'!B320,'Daily Diary'!E:E,\"ALTRO\")","v":0},{"$f":"COUNTIFS('Daily Diary'!A:A,'Grafico Strategie Settimanali'!B320,'Daily Diary'!E:E,\"BANCA PAREGGIO\",'Daily Diary'!E:E,\"BANCA PAREGGIO\",'Daily Diary'!K:K,\"WIN\")","v":0},{"$f":"COUNTIFS('Daily Diary'!A:A,'Grafico Strategie Settimanali'!B320,'Daily Diary'!E:E,\"PUNTA SQ.CASA\",'Daily Diary'!E:E,\"PUNTA SQ.CASA\",'Daily Diary'!K:K,\"WIN\")","v":0},{"$f":"COUNTIFS('Daily Diary'!A:A,'Grafico Strategie Settimanali'!B320,'Daily Diary'!E:E,\"PUNTA SQ.OSPITE\",'Daily Diary'!E:E,\"PUNTA SQ.OSPITE\",'Daily Diary'!K:K,\"WIN\")","v":0},{"$f":"COUNTIFS('Daily Diary'!A:A,'Grafico Strategie Settimanali'!B320,'Daily Diary'!E:E,\"BANCA SFAVORITA\",'Daily Diary'!E:E,\"BANCA SFAVORITA\",'Daily Diary'!K:K,\"WIN\")","v":0},{"$f":"COUNTIFS('Daily Diary'!A:A,'Grafico Strategie Settimanali'!B320,'Daily Diary'!E:E,\"PUNTA OVER\",'Daily Diary'!E:E,\"PUNTA OVER\",'Daily Diary'!K:K,\"WIN\")","v":0},{"$f":"COUNTIFS('Daily Diary'!A:A,'Grafico Strategie Settimanali'!B320,'Daily Diary'!E:E,\"PUNTA UNDER\",'Daily Diary'!E:E,\"PUNTA UNDER\",'Daily Diary'!K:K,\"WIN\")","v":0},{"$f":"COUNTIFS('Daily Diary'!A:A,'Grafico Strategie Settimanali'!B320,'Daily Diary'!E:E,\"SCALPING\",'Daily Diary'!E:E,\"SCALPING\",'Daily Diary'!K:K,\"WIN\")","v":0},{"$f":"COUNTIFS('Daily Diary'!A:A,'Grafico Strategie Settimanali'!B320,'Daily Diary'!E:E,\"GT 90\",'Daily Diary'!E:E,\"GT 90\",'Daily Diary'!K:K,\"WIN\")","v":0},{"$f":"COUNTIFS('Daily Diary'!A:A,'Grafico Strategie Settimanali'!B320,'Daily Diary'!E:E,\"GT 110\",'Daily Diary'!E:E,\"GT 110\",'Daily Diary'!K:K,\"WIN\")","v":0},{"$f":"COUNTIFS('Daily Diary'!A:A,'Grafico Strategie Settimanali'!B320,'Daily Diary'!E:E,\"ALERT GOAL\",'Daily Diary'!E:E,\"ALERT GOAL\",'Daily Diary'!K:K,\"WIN\")","v":0},{"$f":"COUNTIFS('Daily Diary'!A:A,'Grafico Strategie Settimanali'!B320,'Daily Diary'!E:E,\"DRAW NO BET\",'Daily Diary'!E:E,\"DRAW NO BET\",'Daily Diary'!K:K,\"WIN\")","v":0},{"$f":"COUNTIFS('Daily Diary'!A:A,'Grafico Strategie Settimanali'!B320,'Daily Diary'!E:E,\"ALTRO\",'Daily Diary'!E:E,\"ALTRO\",'Daily Diary'!K:K,\"WIN\")","v":0},{"$error":"#DIV/0!"},{"$error":"#DIV/0!"},{"$error":"#DIV/0!"},{"$error":"#DIV/0!"},{"$error":"#DIV/0!"},{"$error":"#DIV/0!"},{"$error":"#DIV/0!"},{"$error":"#DIV/0!"},{"$error":"#DIV/0!"},{"$error":"#DIV/0!"},{"$error":"#DIV/0!"},{"$error":"#DIV/0!"}]
[0,"2024-03-18",{"$f":"COUNTIFS('Daily Diary'!A:A,'Grafico Strategie Settimanali'!B321,'Daily Diary'!E:E,\"BANCA PAREGGIO\")","v":0},{"$f":"COUNTIFS('Daily Diary'!A:A,'Grafico Strategie Settimanali'!B321,'Daily Diary'!E:E,\"PUNTA SQ.CASA\")","v":0},{"$f":"COUNTIFS('Daily Diary'!A:A,'Grafico Strategie Settimanali'!B321,'Daily Diary'!E:E,\"PUNTA SQ.OSPITE\")","v":0},{"$f":"COUNTIFS('Daily Diary'!A:A,'Grafico Strategie Settimanali'!B321,'Daily Diary'!E:E,\"BANCA SFAVORITA\")","v":0},{"$f":"COUNTIFS('Daily Diary'!A:A,'Grafico Strategie Settimanali'!B321,'Daily Diary'!E:E,\"PUNTA OVER\")","v":0},{"$f":"COUNTIFS('Daily Diary'!A:A,'Grafico Strategie Settimanali'!B321,'Daily Diary'!E:E,\"PUNTA UNDER\")","v":0},{"$f":"COUNTIFS('Daily Diary'!A:A,'Grafico Strategie Settimanali'!B321,'Daily Diary'!E:E,\"SCALPING\")","v":0},{"$f":"COUNTIFS('Daily Diary'!A:A,'Grafico Strategie Settimanali'!B321,'Daily Diary'!E:E,\"GT90\")","v":0},{"$f":"COUNTIFS('Daily Diary'!A:A,'Grafico Strategie Settimanali'!B321,'Daily Diary'!E:E,\"GT110\")","v":0},{"$f":"COUNTIFS('Daily Diary'!A:A,'Grafico Strategie Settimanali'!B321,'Daily Diary'!E:E,\"ALERT GOAL\")","v":0},{"$f":"COUNTIFS('Daily Diary'!A:A,'Grafico Strategie Settimanali'!B321,'Daily Diary'!E:E,\"DRAW NO BET\")","v":0},{"$f":"COUNTIFS('Daily Diary'!A:A,'Grafico Strategie Settimanali'!B321,'Daily Diary'!E:E,\"ALTRO\")","v":0},{"$f":"COUNTIFS('Daily Diary'!A:A,'Grafico Strategie Settimanali'!B321,'Daily Diary'!E:E,\"BANCA PAREGGIO\",'Daily Diary'!E:E,\"BANCA PAREGGIO\",'Daily Diary'!K:K,\"WIN\")","v":0},{"$f":"COUNTIFS('Daily Diary'!A:A,'Grafico Strategie Settimanali'!B321,'Daily Diary'!E:E,\"PUNTA SQ.CASA\",'Daily Diary'!E:E,\"PUNTA SQ.CASA\",'Daily Diary'!K:K,\"WIN\")","v":0},{"$f":"COUNTIFS('Daily Diary'!A:A,'Grafico Strategie Settimanali'!B321,'Daily Diary'!E:E,\"PUNTA SQ.OSPITE\",'Daily Diary'!E:E,\"PUNTA SQ.OSPITE\",'Daily Diary'!K:K,\"WIN\")","v":0},{"$f":"COUNTIFS('Daily Diary'!A:A,'Grafico Strategie Settimanali'!B321,'Daily Diary'!E:E,\"BANCA SFAVORITA\",'Daily Diary'!E:E,\"BANCA SFAVORITA\",'Daily Diary'!K:K,\"WIN\")","v":0},{"$f":"COUNTIFS('Daily Diary'!A:A,'Grafico Strategie Settimanali'!B321,'Daily Diary'!E:E,\"PUNTA OVER\",'Daily Diary'!E:E,\"PUNTA OVER\",'Daily Diary'!K:K,\"WIN\")","v":0},{"$f":"COUNTIFS('Daily Diary'!A:A,'Grafico Strategie Settimanali'!B321,'Daily Diary'!E:E,\"PUNTA UNDER\",'Daily Diary'!E:E,\"PUNTA UNDER\",'Daily Diary'!K:K,\"WIN\")","v":0},{"$f":"COUNTIFS('Daily Diary'!A:A,'Grafico Strategie Settimanali'!B321,'Daily Diary'!E:E,\"SCALPING\",'Daily Diary'!E:E,\"SCALPING\",'Daily Diary'!K:K,\"WIN\")","v":0},{"$f":"COUNTIFS('Daily Diary'!A:A,'Grafico Strategie Settimanali'!B321,'Daily Diary'!E:E,\"GT 90\",'Daily Diary'!E:E,\"GT 90\",'Daily Diary'!K:K,\"WIN\")","v":0},{"$f":"COUNTIFS('Daily Diary'!A:A,'Grafico Strategie Settimanali'!B321,'Daily Diary'!E:E,\"GT 110\",'Daily Diary'!E:E,\"GT 110\",'Daily Diary'!K:K,\"WIN\")","v":0},{"$f":"COUNTIFS('Daily Diary'!A:A,'Grafico Strategie Settimanali'!B321,'Daily Diary'!E:E,\"ALERT GOAL\",'Daily Diary'!E:E,\"ALERT GOAL\",'Daily Diary'!K:K,\"WIN\")","v":0},{"$f":"COUNTIFS('Daily Diary'!A:A,'Grafico Strategie Settimanali'!B321,'Daily Diary'!E:E,\"DRAW NO BET\",'Daily Diary'!E:E,\"DRAW NO BET\",'Daily Diary'!K:K,\"WIN\")","v":0},{"$f":"COUNTIFS('Daily Diary'!A:A,'Grafico Strategie Settimanali'!B321,'Daily Diary'!E:E,\"ALTRO\",'Daily Diary'!E:E,\"ALTRO\",'Daily Diary'!K:K,\"WIN\")","v":0},{"$error":"#DIV/0!"},{"$error":"#DIV/0!"},{"$error":"#DIV/0!"},{"$error":"#DIV/0!"},{"$error":"#DIV/0!"},{"$error":"#DIV/0!"},{"$error":"#DIV/0!"},{"$error":"#DIV/0!"},{"$error":"#DIV/0!"},{"$error":"#DIV/0!"},{"$error":"#DIV/0!"},{"$error":"#DIV/0!"}]
[0,"2024-03-19",{"$f":"COUNTIFS('Daily Diary'!A:A,'Grafico Strategie Settimanali'!B322,'Daily Diary'!E:E,\"BANCA PAREGGIO\")","v":0},{"$f":"COUNTIFS('Daily Diary'!A:A,'Grafico Strategie Settimanali'!B322,'Daily Diary'!E:E,\"PUNTA SQ.CASA\")","v":0},{"$f":"COUNTIFS('Daily Diary'!A:A,'Grafico Strategie Settimanali'!B322,'Daily Diary'!E:E,\"PUNTA SQ.OSPITE\")","v":0},{"$f":"COUNTIFS('Daily Diary'!A:A,'Grafico Strategie Settimanali'!B322,'Daily Diary'!E:E,\"BANCA SFAVORITA\")","v":0},{"$f":"COUNTIFS('Daily Diary'!A:A,'Grafico Strategie Settimanali'!B322,'Daily Diary'!E:E,\"PUNTA OVER\")","v":0},{"$f":"COUNTIFS('Daily Diary'!A:A,'Grafico Strategie Settimanali'!B322,'Daily Diary'!E:E,\"PUNTA UNDER\")","v":0},{"$f":"COUNTIFS('Daily Diary'!A:A,'Grafico Strategie Settimanali'!B322,'Daily Diary'!E:E,\"SCALPING\")","v":0},{"$f":"COUNTIFS('Daily Diary'!A:A,'Grafico Strategie Settimanali'!B322,'Daily Diary'!E:E,\"GT90\")","v":0},{"$f":"COUNTIFS('Daily Diary'!A:A,'Grafico Strategie Settimanali'!B322,'Daily Diary'!E:E,\"GT110\")","v":0},{"$f":"COUNTIFS('Daily Diary'!A:A,'Grafico Strategie Settimanali'!B322,'Daily Diary'!E:E,\"ALERT GOAL\")","v":0},{"$f":"COUNTIFS('Daily Diary'!A:A,'Grafico Strategie Settimanali'!B322,'Daily Diary'!E:E,\"DRAW NO BET\")","v":0},{"$f":"COUNTIFS('Daily Diary'!A:A,'Grafico Strategie Settimanali'!B322,'Daily Diary'!E:E,\"ALTRO\")","v":0},{"$f":"COUNTIFS('Daily Diary'!A:A,'Grafico Strategie Settimanali'!B322,'Daily Diary'!E:E,\"BANCA PAREGGIO\",'Daily Diary'!E:E,\"BANCA PAREGGIO\",'Daily Diary'!K:K,\"WIN\")","v":0},{"$f":"COUNTIFS('Daily Diary'!A:A,'Grafico Strategie Settimanali'!B322,'Daily Diary'!E:E,\"PUNTA SQ.CASA\",'Daily Diary'!E:E,\"PUNTA SQ.CASA\",'Daily Diary'!K:K,\"WIN\")","v":0},{"$f":"COUNTIFS('Daily Diary'!A:A,'Grafico Strategie Settimanali'!B322,'Daily Diary'!E:E,\"PUNTA SQ.OSPITE\",'Daily Diary'!E:E,\"PUNTA SQ.OSPITE\",'Daily Diary'!K:K,\"WIN\")","v":0},{"$f":"COUNTIFS('Daily Diary'!A:A,'Grafico Strategie Settimanali'!B322,'Daily Diary'!E:E,\"BANCA SFAVORITA\",'Daily Diary'!E:E,\"BANCA SFAVORITA\",'Daily Diary'!K:K,\"WIN\")","v":0},{"$f":"COUNTIFS('Daily Diary'!A:A,'Grafico Strategie Settimanali'!B322,'Daily Diary'!E:E,\"PUNTA OVER\",'Daily Diary'!E:E,\"PUNTA OVER\",'Daily Diary'!K:K,\"WIN\")","v":0},{"$f":"COUNTIFS('Daily Diary'!A:A,'Grafico Strategie Settimanali'!B322,'Daily Diary'!E:E,\"PUNTA UNDER\",'Daily Diary'!E:E,\"PUNTA UNDER\",'Daily Diary'!K:K,\"WIN\")","v":0},{"$f":"COUNTIFS('Daily Diary'!A:A,'Grafico Strategie Settimanali'!B322,'Daily Diary'!E:E,\"SCALPING\",'Daily Diary'!E:E,\"SCALPING\",'Daily Diary'!K:K,\"WIN\")","v":0},{"$f":"COUNTIFS('Daily Diary'!A:A,'Grafico Strategie Settimanali'!B322,'Daily Diary'!E:E,\"GT 90\",'Daily Diary'!E:E,\"GT 90\",'Daily Diary'!K:K,\"WIN\")","v":0},{"$f":"COUNTIFS('Daily Diary'!A:A,'Grafico Strategie Settimanali'!B322,'Daily Diary'!E:E,\"GT 110\",'Daily Diary'!E:E,\"GT 110\",'Daily Diary'!K:K,\"WIN\")","v":0},{"$f":"COUNTIFS('Daily Diary'!A:A,'Grafico Strategie Settimanali'!B322,'Daily Diary'!E:E,\"ALERT GOAL\",'Daily Diary'!E:E,\"ALERT GOAL\",'Daily Diary'!K:K,\"WIN\")","v":0},{"$f":"COUNTIFS('Daily Diary'!A:A,'Grafico Strategie Settimanali'!B322,'Daily Diary'!E:E,\"DRAW NO BET\",'Daily Diary'!E:E,\"DRAW NO BET\",'Daily Diary'!K:K,\"WIN\")","v":0},{"$f":"COUNTIFS('Daily Diary'!A:A,'Grafico Strategie Settimanali'!B322,'Daily Diary'!E:E,\"ALTRO\",'Daily Diary'!E:E,\"ALTRO\",'Daily Diary'!K:K,\"WIN\")","v":0},{"$error":"#DIV/0!"},{"$error":"#DIV/0!"},{"$error":"#DIV/0!"},{"$error":"#DIV/0!"},{"$error":"#DIV/0!"},{"$error":"#DIV/0!"},{"$error":"#DIV/0!"},{"$error":"#DIV/0!"},{"$error":"#DIV/0!"},{"$error":"#DIV/0!"},{"$error":"#DIV/0!"},{"$error":"#DIV/0!"}]
[0,"2024-03-20",{"$f":"COUNTIFS('Daily Diary'!A:A,'Grafico Strategie Settimanali'!B323,'Daily Diary'!E:E,\"BANCA PAREGGIO\")","v":0},{"$f":"COUNTIFS('Daily Diary'!A:A,'Grafico Strategie Settimanali'!B323,'Daily Diary'!E:E,\"PUNTA SQ.CASA\")","v":0},{"$f":"COUNTIFS('Daily Diary'!A:A,'Grafico Strategie Settimanali'!B323,'Daily Diary'!E:E,\"PUNTA SQ.OSPITE\")","v":0},{"$f":"COUNTIFS('Daily Diary'!A:A,'Grafico Strategie Settimanali'!B323,'Daily Diary'!E:E,\"BANCA SFAVORITA\")","v":0},{"$f":"COUNTIFS('Daily Diary'!A:A,'Grafico Strategie Settimanali'!B323,'Daily Diary'!E:E,\"PUNTA OVER\")","v":0},{"$f":"COUNTIFS('Daily Diary'!A:A,'Grafico Strategie Settimanali'!B323,'Daily Diary'!E:E,\"PUNTA UNDER\")","v":0},{"$f":"COUNTIFS('Daily Diary'!A:A,'Grafico Strategie Settimanali'!B323,'Daily Diary'!E:E,\"SCALPING\")","v":0},{"$f":"COUNTIFS('Daily Diary'!A:A,'Grafico Strategie Settimanali'!B323,'Daily Diary'!E:E,\"GT90\")","v":0},{"$f":"COUNTIFS('Daily Diary'!A:A,'Grafico Strategie Settimanali'!B323,'Daily Diary'!E:E,\"GT110\")","v":0},{"$f":"COUNTIFS('Daily Diary'!A:A,'Grafico Strategie Settimanali'!B323,'Daily Diary'!E:E,\"ALERT GOAL\")","v":0},{"$f":"COUNTIFS('Daily Diary'!A:A,'Grafico Strategie Settimanali'!B323,'Daily Diary'!E:E,\"DRAW NO BET\")","v":0},{"$f":"COUNTIFS('Daily Diary'!A:A,'Grafico Strategie Settimanali'!B323,'Daily Diary'!E:E,\"ALTRO\")","v":0},{"$f":"COUNTIFS('Daily Diary'!A:A,'Grafico Strategie Settimanali'!B323,'Daily Diary'!E:E,\"BANCA PAREGGIO\",'Daily Diary'!E:E,\"BANCA PAREGGIO\",'Daily Diary'!K:K,\"WIN\")","v":0},{"$f":"COUNTIFS('Daily Diary'!A:A,'Grafico Strategie Settimanali'!B323,'Daily Diary'!E:E,\"PUNTA SQ.CASA\",'Daily Diary'!E:E,\"PUNTA SQ.CASA\",'Daily Diary'!K:K,\"WIN\")","v":0},{"$f":"COUNTIFS('Daily Diary'!A:A,'Grafico Strategie Settimanali'!B323,'Daily Diary'!E:E,\"PUNTA SQ.OSPITE\",'Daily Diary'!E:E,\"PUNTA SQ.OSPITE\",'Daily Diary'!K:K,\"WIN\")","v":0},{"$f":"COUNTIFS('Daily Diary'!A:A,'Grafico Strategie Settimanali'!B323,'Daily Diary'!E:E,\"BANCA SFAVORITA\",'Daily Diary'!E:E,\"BANCA SFAVORITA\",'Daily Diary'!K:K,\"WIN\")","v":0},{"$f":"COUNTIFS('Daily Diary'!A:A,'Grafico Strategie Settimanali'!B323,'Daily Diary'!E:E,\"PUNTA OVER\",'Daily Diary'!E:E,\"PUNTA OVER\",'Daily Diary'!K:K,\"WIN\")","v":0},{"$f":"COUNTIFS('Daily Diary'!A:A,'Grafico Strategie Settimanali'!B323,'Daily Diary'!E:E,\"PUNTA UNDER\",'Daily Diary'!E:E,\"PUNTA UNDER\",'Daily Diary'!K:K,\"WIN\")","v":0},{"$f":"COUNTIFS('Daily Diary'!A:A,'Grafico Strategie Settimanali'!B323,'Daily Diary'!E:E,\"SCALPING\",'Daily Diary'!E:E,\"SCALPING\",'Daily Diary'!K:K,\"WIN\")","v":0},{"$f":"COUNTIFS('Daily Diary'!A:A,'Grafico Strategie Settimanali'!B323,'Daily Diary'!E:E,\"GT 90\",'Daily Diary'!E:E,\"GT 90\",'Daily Diary'!K:K,\"WIN\")","v":0},{"$f":"COUNTIFS('Daily Diary'!A:A,'Grafico Strategie Settimanali'!B323,'Daily Diary'!E:E,\"GT 110\",'Daily Diary'!E:E,\"GT 110\",'Daily Diary'!K:K,\"WIN\")","v":0},{"$f":"COUNTIFS('Daily Diary'!A:A,'Grafico Strategie Settimanali'!B323,'Daily Diary'!E:E,\"ALERT GOAL\",'Daily Diary'!E:E,\"ALERT GOAL\",'Daily Diary'!K:K,\"WIN\")","v":0},{"$f":"COUNTIFS('Daily Diary'!A:A,'Grafico Strategie Settimanali'!B323,'Daily Diary'!E:E,\"DRAW NO BET\",'Daily Diary'!E:E,\"DRAW NO BET\",'Daily Diary'!K:K,\"WIN\")","v":0},{"$f":"COUNTIFS('Daily Diary'!A:A,'Grafico Strategie Settimanali'!B323,'Daily Diary'!E:E,\"ALTRO\",'Daily Diary'!E:E,\"ALTRO\",'Daily Diary'!K:K,\"WIN\")","v":0},{"$error":"#DIV/0!"},{"$error":"#DIV/0!"},{"$error":"#DIV/0!"},{"$error":"#DIV/0!"},{"$error":"#DIV/0!"},{"$error":"#DIV/0!"},{"$error":"#DIV/0!"},{"$error":"#DIV/0!"},{"$error":"#DIV/0!"},{"$error":"#DIV/0!"},{"$error":"#DIV/0!"},{"$error":"#DIV/0!"}]
[0,"2024-03-21",{"$f":"COUNTIFS('Daily Diary'!A:A,'Grafico Strategie Settimanali'!B324,'Daily Diary'!E:E,\"BANCA PAREGGIO\")","v":0},{"$f":"COUNTIFS('Daily Diary'!A:A,'Grafico Strategie Settimanali'!B324,'Daily Diary'!E:E,\"PUNTA SQ.CASA\")","v":0},{"$f":"COUNTIFS('Daily Diary'!A:A,'Grafico Strategie Settimanali'!B324,'Daily Diary'!E:E,\"PUNTA SQ.OSPITE\")","v":0},{"$f":"COUNTIFS('Daily Diary'!A:A,'Grafico Strategie Settimanali'!B324,'Daily Diary'!E:E,\"BANCA SFAVORITA\")","v":0},{"$f":"COUNTIFS('Daily Diary'!A:A,'Grafico Strategie Settimanali'!B324,'Daily Diary'!E:E,\"PUNTA OVER\")","v":0},{"$f":"COUNTIFS('Daily Diary'!A:A,'Grafico Strategie Settimanali'!B324,'Daily Diary'!E:E,\"PUNTA UNDER\")","v":0},{"$f":"COUNTIFS('Daily Diary'!A:A,'Grafico Strategie Settimanali'!B324,'Daily Diary'!E:E,\"SCALPING\")","v":0},{"$f":"COUNTIFS('Daily Diary'!A:A,'Grafico Strategie Settimanali'!B324,'Daily Diary'!E:E,\"GT90\")","v":0},{"$f":"COUNTIFS('Daily Diary'!A:A,'Grafico Strategie Settimanali'!B324,'Daily Diary'!E:E,\"GT110\")","v":0},{"$f":"COUNTIFS('Daily Diary'!A:A,'Grafico Strategie Settimanali'!B324,'Daily Diary'!E:E,\"ALERT GOAL\")","v":0},{"$f":"COUNTIFS('Daily Diary'!A:A,'Grafico Strategie Settimanali'!B324,'Daily Diary'!E:E,\"DRAW NO BET\")","v":0},{"$f":"COUNTIFS('Daily Diary'!A:A,'Grafico Strategie Settimanali'!B324,'Daily Diary'!E:E,\"ALTRO\")","v":0},{"$f":"COUNTIFS('Daily Diary'!A:A,'Grafico Strategie Settimanali'!B324,'Daily Diary'!E:E,\"BANCA PAREGGIO\",'Daily Diary'!E:E,\"BANCA PAREGGIO\",'Daily Diary'!K:K,\"WIN\")","v":0},{"$f":"COUNTIFS('Daily Diary'!A:A,'Grafico Strategie Settimanali'!B324,'Daily Diary'!E:E,\"PUNTA SQ.CASA\",'Daily Diary'!E:E,\"PUNTA SQ.CASA\",'Daily Diary'!K:K,\"WIN\")","v":0},{"$f":"COUNTIFS('Daily Diary'!A:A,'Grafico Strategie Settimanali'!B324,'Daily Diary'!E:E,\"PUNTA SQ.OSPITE\",'Daily Diary'!E:E,\"PUNTA SQ.OSPITE\",'Daily Diary'!K:K,\"WIN\")","v":0},{"$f":"COUNTIFS('Daily Diary'!A:A,'Grafico Strategie Settimanali'!B324,'Daily Diary'!E:E,\"BANCA SFAVORITA\",'Daily Diary'!E:E,\"BANCA SFAVORITA\",'Daily Diary'!K:K,\"WIN\")","v":0},{"$f":"COUNTIFS('Daily Diary'!A:A,'Grafico Strategie Settimanali'!B324,'Daily Diary'!E:E,\"PUNTA OVER\",'Daily Diary'!E:E,\"PUNTA OVER\",'Daily Diary'!K:K,\"WIN\")","v":0},{"$f":"COUNTIFS('Daily Diary'!A:A,'Grafico Strategie Settimanali'!B324,'Daily Diary'!E:E,\"PUNTA UNDER\",'Daily Diary'!E:E,\"PUNTA UNDER\",'Daily Diary'!K:K,\"WIN\")","v":0},{"$f":"COUNTIFS('Daily Diary'!A:A,'Grafico Strategie Settimanali'!B324,'Daily Diary'!E:E,\"SCALPING\",'Daily Diary'!E:E,\"SCALPING\",'Daily Diary'!K:K,\"WIN\")","v":0},{"$f":"COUNTIFS('Daily Diary'!A:A,'Grafico Strategie Settimanali'!B324,'Daily Diary'!E:E,\"GT 90\",'Daily Diary'!E:E,\"GT 90\",'Daily Diary'!K:K,\"WIN\")","v":0},{"$f":"COUNTIFS('Daily Diary'!A:A,'Grafico Strategie Settimanali'!B324,'Daily Diary'!E:E,\"GT 110\",'Daily Diary'!E:E,\"GT 110\",'Daily Diary'!K:K,\"WIN\")","v":0},{"$f":"COUNTIFS('Daily Diary'!A:A,'Grafico Strategie Settimanali'!B324,'Daily Diary'!E:E,\"ALERT GOAL\",'Daily Diary'!E:E,\"ALERT GOAL\",'Daily Diary'!K:K,\"WIN\")","v":0},{"$f":"COUNTIFS('Daily Diary'!A:A,'Grafico Strategie Settimanali'!B324,'Daily Diary'!E:E,\"DRAW NO BET\",'Daily Diary'!E:E,\"DRAW NO BET\",'Daily Diary'!K:K,\"WIN\")","v":0},{"$f":"COUNTIFS('Daily Diary'!A:A,'Grafico Strategie Settimanali'!B324,'Daily Diary'!E:E,\"ALTRO\",'Daily Diary'!E:E,\"ALTRO\",'Daily Diary'!K:K,\"WIN\")","v":0},{"$error":"#DIV/0!"},{"$error":"#DIV/0!"},{"$error":"#DIV/0!"},{"$error":"#DIV/0!"},{"$error":"#DIV/0!"},{"$error":"#DIV/0!"},{"$error":"#DIV/0!"},{"$error":"#DIV/0!"},{"$error":"#DIV/0!"},{"$error":"#DIV/0!"},{"$error":"#DIV/0!"},{"$error":"#DIV/0!"}]
[0,"2024-03-22",{"$f":"COUNTIFS('Daily Diary'!A:A,'Grafico Strategie Settimanali'!B325,'Daily Diary'!E:E,\"BANCA PAREGGIO\")","v":0},{"$f":"COUNTIFS('Daily Diary'!A:A,'Grafico Strategie Settimanali'!B325,'Daily Diary'!E:E,\"PUNTA SQ.CASA\")","v":0},{"$f":"COUNTIFS('Daily Diary'!A:A,'Grafico Strategie Settimanali'!B325,'Daily Diary'!E:E,\"PUNTA SQ.OSPITE\")","v":0},{"$f":"COUNTIFS('Daily Diary'!A:A,'Grafico Strategie Settimanali'!B325,'Daily Diary'!E:E,\"BANCA SFAVORITA\")","v":0},{"$f":"COUNTIFS('Daily Diary'!A:A,'Grafico Strategie Settimanali'!B325,'Daily Diary'!E:E,\"PUNTA OVER\")","v":0},{"$f":"COUNTIFS('Daily Diary'!A:A,'Grafico Strategie Settimanali'!B325,'Daily Diary'!E:E,\"PUNTA UNDER\")","v":0},{"$f":"COUNTIFS('Daily Diary'!A:A,'Grafico Strategie Settimanali'!B325,'Daily Diary'!E:E,\"SCALPING\")","v":0},{"$f":"COUNTIFS('Daily Diary'!A:A,'Grafico Strategie Settimanali'!B325,'Daily Diary'!E:E,\"GT90\")","v":0},{"$f":"COUNTIFS('Daily Diary'!A:A,'Grafico Strategie Settimanali'!B325,'Daily Diary'!E:E,\"GT110\")","v":0},{"$f":"COUNTIFS('Daily Diary'!A:A,'Grafico Strategie Settimanali'!B325,'Daily Diary'!E:E,\"ALERT GOAL\")","v":0},{"$f":"COUNTIFS('Daily Diary'!A:A,'Grafico Strategie Settimanali'!B325,'Daily Diary'!E:E,\"DRAW NO BET\")","v":0},{"$f":"COUNTIFS('Daily Diary'!A:A,'Grafico Strategie Settimanali'!B325,'Daily Diary'!E:E,\"ALTRO\")","v":0},{"$f":"COUNTIFS('Daily Diary'!A:A,'Grafico Strategie Settimanali'!B325,'Daily Diary'!E:E,\"BANCA PAREGGIO\",'Daily Diary'!E:E,\"BANCA PAREGGIO\",'Daily Diary'!K:K,\"WIN\")","v":0},{"$f":"COUNTIFS('Daily Diary'!A:A,'Grafico Strategie Settimanali'!B325,'Daily Diary'!E:E,\"PUNTA SQ.CASA\",'Daily Diary'!E:E,\"PUNTA SQ.CASA\",'Daily Diary'!K:K,\"WIN\")","v":0},{"$f":"COUNTIFS('Daily Diary'!A:A,'Grafico Strategie Settimanali'!B325,'Daily Diary'!E:E,\"PUNTA SQ.OSPITE\",'Daily Diary'!E:E,\"PUNTA SQ.OSPITE\",'Daily Diary'!K:K,\"WIN\")","v":0},{"$f":"COUNTIFS('Daily Diary'!A:A,'Grafico Strategie Settimanali'!B325,'Daily Diary'!E:E,\"BANCA SFAVORITA\",'Daily Diary'!E:E,\"BANCA SFAVORITA\",'Daily Diary'!K:K,\"WIN\")","v":0},{"$f":"COUNTIFS('Daily Diary'!A:A,'Grafico Strategie Settimanali'!B325,'Daily Diary'!E:E,\"PUNTA OVER\",'Daily Diary'!E:E,\"PUNTA OVER\",'Daily Diary'!K:K,\"WIN\")","v":0},{"$f":"COUNTIFS('Daily Diary'!A:A,'Grafico Strategie Settimanali'!B325,'Daily Diary'!E:E,\"PUNTA UNDER\",'Daily Diary'!E:E,\"PUNTA UNDER\",'Daily Diary'!K:K,\"WIN\")","v":0},{"$f":"COUNTIFS('Daily Diary'!A:A,'Grafico Strategie Settimanali'!B325,'Daily Diary'!E:E,\"SCALPING\",'Daily Diary'!E:E,\"SCALPING\",'Daily Diary'!K:K,\"WIN\")","v":0},{"$f":"COUNTIFS('Daily Diary'!A:A,'Grafico Strategie Settimanali'!B325,'Daily Diary'!E:E,\"GT 90\",'Daily Diary'!E:E,\"GT 90\",'Daily Diary'!K:K,\"WIN\")","v":0},{"$f":"COUNTIFS('Daily Diary'!A:A,'Grafico Strategie Settimanali'!B325,'Daily Diary'!E:E,\"GT 110\",'Daily Diary'!E:E,\"GT 110\",'Daily Diary'!K:K,\"WIN\")","v":0},{"$f":"COUNTIFS('Daily Diary'!A:A,'Grafico Strategie Settimanali'!B325,'Daily Diary'!E:E,\"ALERT GOAL\",'Daily Diary'!E:E,\"ALERT GOAL\",'Daily Diary'!K:K,\"WIN\")","v":0},{"$f":"COUNTIFS('Daily Diary'!A:A,'Grafico Strategie Settimanali'!B325,'Daily Diary'!E:E,\"DRAW NO BET\",'Daily Diary'!E:E,\"DRAW NO BET\",'Daily Diary'!K:K,\"WIN\")","v":0},{"$f":"COUNTIFS('Daily Diary'!A:A,'Grafico Strategie Settimanali'!B325,'Daily Diary'!E:E,\"ALTRO\",'Daily Diary'!E:E,\"ALTRO\",'Daily Diary'!K:K,\"WIN\")","v":0},{"$error":"#DIV/0!"},{"$error":"#DIV/0!"},{"$error":"#DIV/0!"},{"$error":"#DIV/0!"},{"$error":"#DIV/0!"},{"$error":"#DIV/0!"},{"$error":"#DIV/0!"},{"$error":"#DIV/0!"},{"$error":"#DIV/0!"},{"$error":"#DIV/0!"},{"$error":"#DIV/0!"},{"$error":"#DIV/0!"}]
[0,"2024-03-23",{"$f":"COUNTIFS('Daily Diary'!A:A,'Grafico Strategie Settimanali'!B326,'Daily Diary'!E:E,\"BANCA PAREGGIO\")","v":0},{"$f":"COUNTIFS('Daily Diary'!A:A,'Grafico Strategie Settimanali'!B326,'Daily Diary'!E:E,\"PUNTA SQ.CASA\")","v":0},{"$f":"COUNTIFS('Daily Diary'!A:A,'Grafico Strategie Settimanali'!B326,'Daily Diary'!E:E,\"PUNTA SQ.OSPITE\")","v":0},{"$f":"COUNTIFS('Daily Diary'!A:A,'Grafico Strategie Settimanali'!B326,'Daily Diary'!E:E,\"BANCA SFAVORITA\")","v":0},{"$f":"COUNTIFS('Daily Diary'!A:A,'Grafico Strategie Settimanali'!B326,'Daily Diary'!E:E,\"PUNTA OVER\")","v":0},{"$f":"COUNTIFS('Daily Diary'!A:A,'Grafico Strategie Settimanali'!B326,'Daily Diary'!E:E,\"PUNTA UNDER\")","v":0},{"$f":"COUNTIFS('Daily Diary'!A:A,'Grafico Strategie Settimanali'!B326,'Daily Diary'!E:E,\"SCALPING\")","v":0},{"$f":"COUNTIFS('Daily Diary'!A:A,'Grafico Strategie Settimanali'!B326,'Daily Diary'!E:E,\"GT90\")","v":0},{"$f":"COUNTIFS('Daily Diary'!A:A,'Grafico Strategie Settimanali'!B326,'Daily Diary'!E:E,\"GT110\")","v":0},{"$f":"COUNTIFS('Daily Diary'!A:A,'Grafico Strategie Settimanali'!B326,'Daily Diary'!E:E,\"ALERT GOAL\")","v":0},{"$f":"COUNTIFS('Daily Diary'!A:A,'Grafico Strategie Settimanali'!B326,'Daily Diary'!E:E,\"DRAW NO BET\")","v":0},{"$f":"COUNTIFS('Daily Diary'!A:A,'Grafico Strategie Settimanali'!B326,'Daily Diary'!E:E,\"ALTRO\")","v":0},{"$f":"COUNTIFS('Daily Diary'!A:A,'Grafico Strategie Settimanali'!B326,'Daily Diary'!E:E,\"BANCA PAREGGIO\",'Daily Diary'!E:E,\"BANCA PAREGGIO\",'Daily Diary'!K:K,\"WIN\")","v":0},{"$f":"COUNTIFS('Daily Diary'!A:A,'Grafico Strategie Settimanali'!B326,'Daily Diary'!E:E,\"PUNTA SQ.CASA\",'Daily Diary'!E:E,\"PUNTA SQ.CASA\",'Daily Diary'!K:K,\"WIN\")","v":0},{"$f":"COUNTIFS('Daily Diary'!A:A,'Grafico Strategie Settimanali'!B326,'Daily Diary'!E:E,\"PUNTA SQ.OSPITE\",'Daily Diary'!E:E,\"PUNTA SQ.OSPITE\",'Daily Diary'!K:K,\"WIN\")","v":0},{"$f":"COUNTIFS('Daily Diary'!A:A,'Grafico Strategie Settimanali'!B326,'Daily Diary'!E:E,\"BANCA SFAVORITA\",'Daily Diary'!E:E,\"BANCA SFAVORITA\",'Daily Diary'!K:K,\"WIN\")","v":0},{"$f":"COUNTIFS('Daily Diary'!A:A,'Grafico Strategie Settimanali'!B326,'Daily Diary'!E:E,\"PUNTA OVER\",'Daily Diary'!E:E,\"PUNTA OVER\",'Daily Diary'!K:K,\"WIN\")","v":0},{"$f":"COUNTIFS('Daily Diary'!A:A,'Grafico Strategie Settimanali'!B326,'Daily Diary'!E:E,\"PUNTA UNDER\",'Daily Diary'!E:E,\"PUNTA UNDER\",'Daily Diary'!K:K,\"WIN\")","v":0},{"$f":"COUNTIFS('Daily Diary'!A:A,'Grafico Strategie Settimanali'!B326,'Daily Diary'!E:E,\"SCALPING\",'Daily Diary'!E:E,\"SCALPING\",'Daily Diary'!K:K,\"WIN\")","v":0},{"$f":"COUNTIFS('Daily Diary'!A:A,'Grafico Strategie Settimanali'!B326,'Daily Diary'!E:E,\"GT 90\",'Daily Diary'!E:E,\"GT 90\",'Daily Diary'!K:K,\"WIN\")","v":0},{"$f":"COUNTIFS('Daily Diary'!A:A,'Grafico Strategie Settimanali'!B326,'Daily Diary'!E:E,\"GT 110\",'Daily Diary'!E:E,\"GT 110\",'Daily Diary'!K:K,\"WIN\")","v":0},{"$f":"COUNTIFS('Daily Diary'!A:A,'Grafico Strategie Settimanali'!B326,'Daily Diary'!E:E,\"ALERT GOAL\",'Daily Diary'!E:E,\"ALERT GOAL\",'Daily Diary'!K:K,\"WIN\")","v":0},{"$f":"COUNTIFS('Daily Diary'!A:A,'Grafico Strategie Settimanali'!B326,'Daily Diary'!E:E,\"DRAW NO BET\",'Daily Diary'!E:E,\"DRAW NO BET\",'Daily Diary'!K:K,\"WIN\")","v":0},{"$f":"COUNTIFS('Daily Diary'!A:A,'Grafico Strategie Settimanali'!B326,'Daily Diary'!E:E,\"ALTRO\",'Daily Diary'!E:E,\"ALTRO\",'Daily Diary'!K:K,\"WIN\")","v":0},{"$error":"#DIV/0!"},{"$error":"#DIV/0!"},{"$error":"#DIV/0!"},{"$error":"#DIV/0!"},{"$error":"#DIV/0!"},{"$error":"#DIV/0!"},{"$error":"#DIV/0!"},{"$error":"#DIV/0!"},{"$error":"#DIV/0!"},{"$error":"#DIV/0!"},{"$error":"#DIV/0!"},{"$error":"#DIV/0!"}]
[0,"2024-03-24",{"$f":"COUNTIFS('Daily Diary'!A:A,'Grafico Strategie Settimanali'!B327,'Daily Diary'!E:E,\"BANCA PAREGGIO\")","v":0},{"$f":"COUNTIFS('Daily Diary'!A:A,'Grafico Strategie Settimanali'!B327,'Daily Diary'!E:E,\"PUNTA SQ.CASA\")","v":0},{"$f":"COUNTIFS('Daily Diary'!A:A,'Grafico Strategie Settimanali'!B327,'Daily Diary'!E:E,\"PUNTA SQ.OSPITE\")","v":0},{"$f":"COUNTIFS('Daily Diary'!A:A,'Grafico Strategie Settimanali'!B327,'Daily Diary'!E:E,\"BANCA SFAVORITA\")","v":0},{"$f":"COUNTIFS('Daily Diary'!A:A,'Grafico Strategie Settimanali'!B327,'Daily Diary'!E:E,\"PUNTA OVER\")","v":0},{"$f":"COUNTIFS('Daily Diary'!A:A,'Grafico Strategie Settimanali'!B327,'Daily Diary'!E:E,\"PUNTA UNDER\")","v":0},{"$f":"COUNTIFS('Daily Diary'!A:A,'Grafico Strategie Settimanali'!B327,'Daily Diary'!E:E,\"SCALPING\")","v":0},{"$f":"COUNTIFS('Daily Diary'!A:A,'Grafico Strategie Settimanali'!B327,'Daily Diary'!E:E,\"GT90\")","v":0},{"$f":"COUNTIFS('Daily Diary'!A:A,'Grafico Strategie Settimanali'!B327,'Daily Diary'!E:E,\"GT110\")","v":0},{"$f":"COUNTIFS('Daily Diary'!A:A,'Grafico Strategie Settimanali'!B327,'Daily Diary'!E:E,\"ALERT GOAL\")","v":0},{"$f":"COUNTIFS('Daily Diary'!A:A,'Grafico Strategie Settimanali'!B327,'Daily Diary'!E:E,\"DRAW NO BET\")","v":0},{"$f":"COUNTIFS('Daily Diary'!A:A,'Grafico Strategie Settimanali'!B327,'Daily Diary'!E:E,\"ALTRO\")","v":0},{"$f":"COUNTIFS('Daily Diary'!A:A,'Grafico Strategie Settimanali'!B327,'Daily Diary'!E:E,\"BANCA PAREGGIO\",'Daily Diary'!E:E,\"BANCA PAREGGIO\",'Daily Diary'!K:K,\"WIN\")","v":0},{"$f":"COUNTIFS('Daily Diary'!A:A,'Grafico Strategie Settimanali'!B327,'Daily Diary'!E:E,\"PUNTA SQ.CASA\",'Daily Diary'!E:E,\"PUNTA SQ.CASA\",'Daily Diary'!K:K,\"WIN\")","v":0},{"$f":"COUNTIFS('Daily Diary'!A:A,'Grafico Strategie Settimanali'!B327,'Daily Diary'!E:E,\"PUNTA SQ.OSPITE\",'Daily Diary'!E:E,\"PUNTA SQ.OSPITE\",'Daily Diary'!K:K,\"WIN\")","v":0},{"$f":"COUNTIFS('Daily Diary'!A:A,'Grafico Strategie Settimanali'!B327,'Daily Diary'!E:E,\"BANCA SFAVORITA\",'Daily Diary'!E:E,\"BANCA SFAVORITA\",'Daily Diary'!K:K,\"WIN\")","v":0},{"$f":"COUNTIFS('Daily Diary'!A:A,'Grafico Strategie Settimanali'!B327,'Daily Diary'!E:E,\"PUNTA OVER\",'Daily Diary'!E:E,\"PUNTA OVER\",'Daily Diary'!K:K,\"WIN\")","v":0},{"$f":"COUNTIFS('Daily Diary'!A:A,'Grafico Strategie Settimanali'!B327,'Daily Diary'!E:E,\"PUNTA UNDER\",'Daily Diary'!E:E,\"PUNTA UNDER\",'Daily Diary'!K:K,\"WIN\")","v":0},{"$f":"COUNTIFS('Daily Diary'!A:A,'Grafico Strategie Settimanali'!B327,'Daily Diary'!E:E,\"SCALPING\",'Daily Diary'!E:E,\"SCALPING\",'Daily Diary'!K:K,\"WIN\")","v":0},{"$f":"COUNTIFS('Daily Diary'!A:A,'Grafico Strategie Settimanali'!B327,'Daily Diary'!E:E,\"GT 90\",'Daily Diary'!E:E,\"GT 90\",'Daily Diary'!K:K,\"WIN\")","v":0},{"$f":"COUNTIFS('Daily Diary'!A:A,'Grafico Strategie Settimanali'!B327,'Daily Diary'!E:E,\"GT 110\",'Daily Diary'!E:E,\"GT 110\",'Daily Diary'!K:K,\"WIN\")","v":0},{"$f":"COUNTIFS('Daily Diary'!A:A,'Grafico Strategie Settimanali'!B327,'Daily Diary'!E:E,\"ALERT GOAL\",'Daily Diary'!E:E,\"ALERT GOAL\",'Daily Diary'!K:K,\"WIN\")","v":0},{"$f":"COUNTIFS('Daily Diary'!A:A,'Grafico Strategie Settimanali'!B327,'Daily Diary'!E:E,\"DRAW NO BET\",'Daily Diary'!E:E,\"DRAW NO BET\",'Daily Diary'!K:K,\"WIN\")","v":0},{"$f":"COUNTIFS('Daily Diary'!A:A,'Grafico Strategie Settimanali'!B327,'Daily Diary'!E:E,\"ALTRO\",'Daily Diary'!E:E,\"ALTRO\",'Daily Diary'!K:K,\"WIN\")","v":0},{"$error":"#DIV/0!"},{"$error":"#DIV/0!"},{"$error":"#DIV/0!"},{"$error":"#DIV/0!"},{"$error":"#DIV/0!"},{"$error":"#DIV/0!"},{"$error":"#DIV/0!"},{"$error":"#DIV/0!"},{"$error":"#DIV/0!"},{"$error":"#DIV/0!"},{"$error":"#DIV/0!"},{"$error":"#DIV/0!"}]
[0,"2024-03-25",{"$f":"COUNTIFS('Daily Diary'!A:A,'Grafico Strategie Settimanali'!B328,'Daily Diary'!E:E,\"BANCA PAREGGIO\")","v":0},{"$f":"COUNTIFS('Daily Diary'!A:A,'Grafico Strategie Settimanali'!B328,'Daily Diary'!E:E,\"PUNTA SQ.CASA\")","v":0},{"$f":"COUNTIFS('Daily Diary'!A:A,'Grafico Strategie Settimanali'!B328,'Daily Diary'!E:E,\"PUNTA SQ.OSPITE\")","v":0},{"$f":"COUNTIFS('Daily Diary'!A:A,'Grafico Strategie Settimanali'!B328,'Daily Diary'!E:E,\"BANCA SFAVORITA\")","v":0},{"$f":"COUNTIFS('Daily Diary'!A:A,'Grafico Strategie Settimanali'!B328,'Daily Diary'!E:E,\"PUNTA OVER\")","v":0},{"$f":"COUNTIFS('Daily Diary'!A:A,'Grafico Strategie Settimanali'!B328,'Daily Diary'!E:E,\"PUNTA UNDER\")","v":0},{"$f":"COUNTIFS('Daily Diary'!A:A,'Grafico Strategie Settimanali'!B328,'Daily Diary'!E:E,\"SCALPING\")","v":0},{"$f":"COUNTIFS('Daily Diary'!A:A,'Grafico Strategie Settimanali'!B328,'Daily Diary'!E:E,\"GT90\")","v":0},{"$f":"COUNTIFS('Daily Diary'!A:A,'Grafico Strategie Settimanali'!B328,'Daily Diary'!E:E,\"GT110\")","v":0},{"$f":"COUNTIFS('Daily Diary'!A:A,'Grafico Strategie Settimanali'!B328,'Daily Diary'!E:E,\"ALERT GOAL\")","v":0},{"$f":"COUNTIFS('Daily Diary'!A:A,'Grafico Strategie Settimanali'!B328,'Daily Diary'!E:E,\"DRAW NO BET\")","v":0},{"$f":"COUNTIFS('Daily Diary'!A:A,'Grafico Strategie Settimanali'!B328,'Daily Diary'!E:E,\"ALTRO\")","v":0},{"$f":"COUNTIFS('Daily Diary'!A:A,'Grafico Strategie Settimanali'!B328,'Daily Diary'!E:E,\"BANCA PAREGGIO\",'Daily Diary'!E:E,\"BANCA PAREGGIO\",'Daily Diary'!K:K,\"WIN\")","v":0},{"$f":"COUNTIFS('Daily Diary'!A:A,'Grafico Strategie Settimanali'!B328,'Daily Diary'!E:E,\"PUNTA SQ.CASA\",'Daily Diary'!E:E,\"PUNTA SQ.CASA\",'Daily Diary'!K:K,\"WIN\")","v":0},{"$f":"COUNTIFS('Daily Diary'!A:A,'Grafico Strategie Settimanali'!B328,'Daily Diary'!E:E,\"PUNTA SQ.OSPITE\",'Daily Diary'!E:E,\"PUNTA SQ.OSPITE\",'Daily Diary'!K:K,\"WIN\")","v":0},{"$f":"COUNTIFS('Daily Diary'!A:A,'Grafico Strategie Settimanali'!B328,'Daily Diary'!E:E,\"BANCA SFAVORITA\",'Daily Diary'!E:E,\"BANCA SFAVORITA\",'Daily Diary'!K:K,\"WIN\")","v":0},{"$f":"COUNTIFS('Daily Diary'!A:A,'Grafico Strategie Settimanali'!B328,'Daily Diary'!E:E,\"PUNTA OVER\",'Daily Diary'!E:E,\"PUNTA OVER\",'Daily Diary'!K:K,\"WIN\")","v":0},{"$f":"COUNTIFS('Daily Diary'!A:A,'Grafico Strategie Settimanali'!B328,'Daily Diary'!E:E,\"PUNTA UNDER\",'Daily Diary'!E:E,\"PUNTA UNDER\",'Daily Diary'!K:K,\"WIN\")","v":0},{"$f":"COUNTIFS('Daily Diary'!A:A,'Grafico Strategie Settimanali'!B328,'Daily Diary'!E:E,\"SCALPING\",'Daily Diary'!E:E,\"SCALPING\",'Daily Diary'!K:K,\"WIN\")","v":0},{"$f":"COUNTIFS('Daily Diary'!A:A,'Grafico Strategie Settimanali'!B328,'Daily Diary'!E:E,\"GT 90\",'Daily Diary'!E:E,\"GT 90\",'Daily Diary'!K:K,\"WIN\")","v":0},{"$f":"COUNTIFS('Daily Diary'!A:A,'Grafico Strategie Settimanali'!B328,'Daily Diary'!E:E,\"GT 110\",'Daily Diary'!E:E,\"GT 110\",'Daily Diary'!K:K,\"WIN\")","v":0},{"$f":"COUNTIFS('Daily Diary'!A:A,'Grafico Strategie Settimanali'!B328,'Daily Diary'!E:E,\"ALERT GOAL\",'Daily Diary'!E:E,\"ALERT GOAL\",'Daily Diary'!K:K,\"WIN\")","v":0},{"$f":"COUNTIFS('Daily Diary'!A:A,'Grafico Strategie Settimanali'!B328,'Daily Diary'!E:E,\"DRAW NO BET\",'Daily Diary'!E:E,\"DRAW NO BET\",'Daily Diary'!K:K,\"WIN\")","v":0},{"$f":"COUNTIFS('Daily Diary'!A:A,'Grafico Strategie Settimanali'!B328,'Daily Diary'!E:E,\"ALTRO\",'Daily Diary'!E:E,\"ALTRO\",'Daily Diary'!K:K,\"WIN\")","v":0},{"$error":"#DIV/0!"},{"$error":"#DIV/0!"},{"$error":"#DIV/0!"},{"$error":"#DIV/0!"},{"$error":"#DIV/0!"},{"$error":"#DIV/0!"},{"$error":"#DIV/0!"},{"$error":"#DIV/0!"},{"$error":"#DIV/0!"},{"$error":"#DIV/0!"},{"$error":"#DIV/0!"},{"$error":"#DIV/0!"}]
[0,"2024-03-26",{"$f":"COUNTIFS('Daily Diary'!A:A,'Grafico Strategie Settimanali'!B329,'Daily Diary'!E:E,\"BANCA PAREGGIO\")","v":0},{"$f":"COUNTIFS('Daily Diary'!A:A,'Grafico Strategie Settimanali'!B329,'Daily Diary'!E:E,\"PUNTA SQ.CASA\")","v":0},{"$f":"COUNTIFS('Daily Diary'!A:A,'Grafico Strategie Settimanali'!B329,'Daily Diary'!E:E,\"PUNTA SQ.OSPITE\")","v":0},{"$f":"COUNTIFS('Daily Diary'!A:A,'Grafico Strategie Settimanali'!B329,'Daily Diary'!E:E,\"BANCA SFAVORITA\")","v":0},{"$f":"COUNTIFS('Daily Diary'!A:A,'Grafico Strategie Settimanali'!B329,'Daily Diary'!E:E,\"PUNTA OVER\")","v":0},{"$f":"COUNTIFS('Daily Diary'!A:A,'Grafico Strategie Settimanali'!B329,'Daily Diary'!E:E,\"PUNTA UNDER\")","v":0},{"$f":"COUNTIFS('Daily Diary'!A:A,'Grafico Strategie Settimanali'!B329,'Daily Diary'!E:E,\"SCALPING\")","v":0},{"$f":"COUNTIFS('Daily Diary'!A:A,'Grafico Strategie Settimanali'!B329,'Daily Diary'!E:E,\"GT90\")","v":0},{"$f":"COUNTIFS('Daily Diary'!A:A,'Grafico Strategie Settimanali'!B329,'Daily Diary'!E:E,\"GT110\")","v":0},{"$f":"COUNTIFS('Daily Diary'!A:A,'Grafico Strategie Settimanali'!B329,'Daily Diary'!E:E,\"ALERT GOAL\")","v":0},{"$f":"COUNTIFS('Daily Diary'!A:A,'Grafico Strategie Settimanali'!B329,'Daily Diary'!E:E,\"DRAW NO BET\")","v":0},{"$f":"COUNTIFS('Daily Diary'!A:A,'Grafico Strategie Settimanali'!B329,'Daily Diary'!E:E,\"ALTRO\")","v":0},{"$f":"COUNTIFS('Daily Diary'!A:A,'Grafico Strategie Settimanali'!B329,'Daily Diary'!E:E,\"BANCA PAREGGIO\",'Daily Diary'!E:E,\"BANCA PAREGGIO\",'Daily Diary'!K:K,\"WIN\")","v":0},{"$f":"COUNTIFS('Daily Diary'!A:A,'Grafico Strategie Settimanali'!B329,'Daily Diary'!E:E,\"PUNTA SQ.CASA\",'Daily Diary'!E:E,\"PUNTA SQ.CASA\",'Daily Diary'!K:K,\"WIN\")","v":0},{"$f":"COUNTIFS('Daily Diary'!A:A,'Grafico Strategie Settimanali'!B329,'Daily Diary'!E:E,\"PUNTA SQ.OSPITE\",'Daily Diary'!E:E,\"PUNTA SQ.OSPITE\",'Daily Diary'!K:K,\"WIN\")","v":0},{"$f":"COUNTIFS('Daily Diary'!A:A,'Grafico Strategie Settimanali'!B329,'Daily Diary'!E:E,\"BANCA SFAVORITA\",'Daily Diary'!E:E,\"BANCA SFAVORITA\",'Daily Diary'!K:K,\"WIN\")","v":0},{"$f":"COUNTIFS('Daily Diary'!A:A,'Grafico Strategie Settimanali'!B329,'Daily Diary'!E:E,\"PUNTA OVER\",'Daily Diary'!E:E,\"PUNTA OVER\",'Daily Diary'!K:K,\"WIN\")","v":0},{"$f":"COUNTIFS('Daily Diary'!A:A,'Grafico Strategie Settimanali'!B329,'Daily Diary'!E:E,\"PUNTA UNDER\",'Daily Diary'!E:E,\"PUNTA UNDER\",'Daily Diary'!K:K,\"WIN\")","v":0},{"$f":"COUNTIFS('Daily Diary'!A:A,'Grafico Strategie Settimanali'!B329,'Daily Diary'!E:E,\"SCALPING\",'Daily Diary'!E:E,\"SCALPING\",'Daily Diary'!K:K,\"WIN\")","v":0},{"$f":"COUNTIFS('Daily Diary'!A:A,'Grafico Strategie Settimanali'!B329,'Daily Diary'!E:E,\"GT 90\",'Daily Diary'!E:E,\"GT 90\",'Daily Diary'!K:K,\"WIN\")","v":0},{"$f":"COUNTIFS('Daily Diary'!A:A,'Grafico Strategie Settimanali'!B329,'Daily Diary'!E:E,\"GT 110\",'Daily Diary'!E:E,\"GT 110\",'Daily Diary'!K:K,\"WIN\")","v":0},{"$f":"COUNTIFS('Daily Diary'!A:A,'Grafico Strategie Settimanali'!B329,'Daily Diary'!E:E,\"ALERT GOAL\",'Daily Diary'!E:E,\"ALERT GOAL\",'Daily Diary'!K:K,\"WIN\")","v":0},{"$f":"COUNTIFS('Daily Diary'!A:A,'Grafico Strategie Settimanali'!B329,'Daily Diary'!E:E,\"DRAW NO BET\",'Daily Diary'!E:E,\"DRAW NO BET\",'Daily Diary'!K:K,\"WIN\")","v":0},{"$f":"COUNTIFS('Daily Diary'!A:A,'Grafico Strategie Settimanali'!B329,'Daily Diary'!E:E,\"ALTRO\",'Daily Diary'!E:E,\"ALTRO\",'Daily Diary'!K:K,\"WIN\")","v":0},{"$error":"#DIV/0!"},{"$error":"#DIV/0!"},{"$error":"#DIV/0!"},{"$error":"#DIV/0!"},{"$error":"#DIV/0!"},{"$error":"#DIV/0!"},{"$error":"#DIV/0!"},{"$error":"#DIV/0!"},{"$error":"#DIV/0!"},{"$error":"#DIV/0!"},{"$error":"#DIV/0!"},{"$error":"#DIV/0!"}]
[0,"2024-03-27",{"$f":"COUNTIFS('Daily Diary'!A:A,'Grafico Strategie Settimanali'!B330,'Daily Diary'!E:E,\"BANCA PAREGGIO\")","v":0},{"$f":"COUNTIFS('Daily Diary'!A:A,'Grafico Strategie Settimanali'!B330,'Daily Diary'!E:E,\"PUNTA SQ.CASA\")","v":0},{"$f":"COUNTIFS('Daily Diary'!A:A,'Grafico Strategie Settimanali'!B330,'Daily Diary'!E:E,\"PUNTA SQ.OSPITE\")","v":0},{"$f":"COUNTIFS('Daily Diary'!A:A,'Grafico Strategie Settimanali'!B330,'Daily Diary'!E:E,\"BANCA SFAVORITA\")","v":0},{"$f":"COUNTIFS('Daily Diary'!A:A,'Grafico Strategie Settimanali'!B330,'Daily Diary'!E:E,\"PUNTA OVER\")","v":0},{"$f":"COUNTIFS('Daily Diary'!A:A,'Grafico Strategie Settimanali'!B330,'Daily Diary'!E:E,\"PUNTA UNDER\")","v":0},{"$f":"COUNTIFS('Daily Diary'!A:A,'Grafico Strategie Settimanali'!B330,'Daily Diary'!E:E,\"SCALPING\")","v":0},{"$f":"COUNTIFS('Daily Diary'!A:A,'Grafico Strategie Settimanali'!B330,'Daily Diary'!E:E,\"GT90\")","v":0},{"$f":"COUNTIFS('Daily Diary'!A:A,'Grafico Strategie Settimanali'!B330,'Daily Diary'!E:E,\"GT110\")","v":0},{"$f":"COUNTIFS('Daily Diary'!A:A,'Grafico Strategie Settimanali'!B330,'Daily Diary'!E:E,\"ALERT GOAL\")","v":0},{"$f":"COUNTIFS('Daily Diary'!A:A,'Grafico Strategie Settimanali'!B330,'Daily Diary'!E:E,\"DRAW NO BET\")","v":0},{"$f":"COUNTIFS('Daily Diary'!A:A,'Grafico Strategie Settimanali'!B330,'Daily Diary'!E:E,\"ALTRO\")","v":0},{"$f":"COUNTIFS('Daily Diary'!A:A,'Grafico Strategie Settimanali'!B330,'Daily Diary'!E:E,\"BANCA PAREGGIO\",'Daily Diary'!E:E,\"BANCA PAREGGIO\",'Daily Diary'!K:K,\"WIN\")","v":0},{"$f":"COUNTIFS('Daily Diary'!A:A,'Grafico Strategie Settimanali'!B330,'Daily Diary'!E:E,\"PUNTA SQ.CASA\",'Daily Diary'!E:E,\"PUNTA SQ.CASA\",'Daily Diary'!K:K,\"WIN\")","v":0},{"$f":"COUNTIFS('Daily Diary'!A:A,'Grafico Strategie Settimanali'!B330,'Daily Diary'!E:E,\"PUNTA SQ.OSPITE\",'Daily Diary'!E:E,\"PUNTA SQ.OSPITE\",'Daily Diary'!K:K,\"WIN\")","v":0},{"$f":"COUNTIFS('Daily Diary'!A:A,'Grafico Strategie Settimanali'!B330,'Daily Diary'!E:E,\"BANCA SFAVORITA\",'Daily Diary'!E:E,\"BANCA SFAVORITA\",'Daily Diary'!K:K,\"WIN\")","v":0},{"$f":"COUNTIFS('Daily Diary'!A:A,'Grafico Strategie Settimanali'!B330,'Daily Diary'!E:E,\"PUNTA OVER\",'Daily Diary'!E:E,\"PUNTA OVER\",'Daily Diary'!K:K,\"WIN\")","v":0},{"$f":"COUNTIFS('Daily Diary'!A:A,'Grafico Strategie Settimanali'!B330,'Daily Diary'!E:E,\"PUNTA UNDER\",'Daily Diary'!E:E,\"PUNTA UNDER\",'Daily Diary'!K:K,\"WIN\")","v":0},{"$f":"COUNTIFS('Daily Diary'!A:A,'Grafico Strategie Settimanali'!B330,'Daily Diary'!E:E,\"SCALPING\",'Daily Diary'!E:E,\"SCALPING\",'Daily Diary'!K:K,\"WIN\")","v":0},{"$f":"COUNTIFS('Daily Diary'!A:A,'Grafico Strategie Settimanali'!B330,'Daily Diary'!E:E,\"GT 90\",'Daily Diary'!E:E,\"GT 90\",'Daily Diary'!K:K,\"WIN\")","v":0},{"$f":"COUNTIFS('Daily Diary'!A:A,'Grafico Strategie Settimanali'!B330,'Daily Diary'!E:E,\"GT 110\",'Daily Diary'!E:E,\"GT 110\",'Daily Diary'!K:K,\"WIN\")","v":0},{"$f":"COUNTIFS('Daily Diary'!A:A,'Grafico Strategie Settimanali'!B330,'Daily Diary'!E:E,\"ALERT GOAL\",'Daily Diary'!E:E,\"ALERT GOAL\",'Daily Diary'!K:K,\"WIN\")","v":0},{"$f":"COUNTIFS('Daily Diary'!A:A,'Grafico Strategie Settimanali'!B330,'Daily Diary'!E:E,\"DRAW NO BET\",'Daily Diary'!E:E,\"DRAW NO BET\",'Daily Diary'!K:K,\"WIN\")","v":0},{"$f":"COUNTIFS('Daily Diary'!A:A,'Grafico Strategie Settimanali'!B330,'Daily Diary'!E:E,\"ALTRO\",'Daily Diary'!E:E,\"ALTRO\",'Daily Diary'!K:K,\"WIN\")","v":0},{"$error":"#DIV/0!"},{"$error":"#DIV/0!"},{"$error":"#DIV/0!"},{"$error":"#DIV/0!"},{"$error":"#DIV/0!"},{"$error":"#DIV/0!"},{"$error":"#DIV/0!"},{"$error":"#DIV/0!"},{"$error":"#DIV/0!"},{"$error":"#DIV/0!"},{"$error":"#DIV/0!"},{"$error":"#DIV/0!"}]
[0,"2024-03-28",{"$f":"COUNTIFS('Daily Diary'!A:A,'Grafico Strategie Settimanali'!B331,'Daily Diary'!E:E,\"BANCA PAREGGIO\")","v":0},{"$f":"COUNTIFS('Daily Diary'!A:A,'Grafico Strategie Settimanali'!B331,'Daily Diary'!E:E,\"PUNTA SQ.CASA\")","v":0},{"$f":"COUNTIFS('Daily Diary'!A:A,'Grafico Strategie Settimanali'!B331,'Daily Diary'!E:E,\"PUNTA SQ.OSPITE\")","v":0},{"$f":"COUNTIFS('Daily Diary'!A:A,'Grafico Strategie Settimanali'!B331,'Daily Diary'!E:E,\"BANCA SFAVORITA\")","v":0},{"$f":"COUNTIFS('Daily Diary'!A:A,'Grafico Strategie Settimanali'!B331,'Daily Diary'!E:E,\"PUNTA OVER\")","v":0},{"$f":"COUNTIFS('Daily Diary'!A:A,'Grafico Strategie Settimanali'!B331,'Daily Diary'!E:E,\"PUNTA UNDER\")","v":0},{"$f":"COUNTIFS('Daily Diary'!A:A,'Grafico Strategie Settimanali'!B331,'Daily Diary'!E:E,\"SCALPING\")","v":0},{"$f":"COUNTIFS('Daily Diary'!A:A,'Grafico Strategie Settimanali'!B331,'Daily Diary'!E:E,\"GT90\")","v":0},{"$f":"COUNTIFS('Daily Diary'!A:A,'Grafico Strategie Settimanali'!B331,'Daily Diary'!E:E,\"GT110\")","v":0},{"$f":"COUNTIFS('Daily Diary'!A:A,'Grafico Strategie Settimanali'!B331,'Daily Diary'!E:E,\"ALERT GOAL\")","v":0},{"$f":"COUNTIFS('Daily Diary'!A:A,'Grafico Strategie Settimanali'!B331,'Daily Diary'!E:E,\"DRAW NO BET\")","v":0},{"$f":"COUNTIFS('Daily Diary'!A:A,'Grafico Strategie Settimanali'!B331,'Daily Diary'!E:E,\"ALTRO\")","v":0},{"$f":"COUNTIFS('Daily Diary'!A:A,'Grafico Strategie Settimanali'!B331,'Daily Diary'!E:E,\"BANCA PAREGGIO\",'Daily Diary'!E:E,\"BANCA PAREGGIO\",'Daily Diary'!K:K,\"WIN\")","v":0},{"$f":"COUNTIFS('Daily Diary'!A:A,'Grafico Strategie Settimanali'!B331,'Daily Diary'!E:E,\"PUNTA SQ.CASA\",'Daily Diary'!E:E,\"PUNTA SQ.CASA\",'Daily Diary'!K:K,\"WIN\")","v":0},{"$f":"COUNTIFS('Daily Diary'!A:A,'Grafico Strategie Settimanali'!B331,'Daily Diary'!E:E,\"PUNTA SQ.OSPITE\",'Daily Diary'!E:E,\"PUNTA SQ.OSPITE\",'Daily Diary'!K:K,\"WIN\")","v":0},{"$f":"COUNTIFS('Daily Diary'!A:A,'Grafico Strategie Settimanali'!B331,'Daily Diary'!E:E,\"BANCA SFAVORITA\",'Daily Diary'!E:E,\"BANCA SFAVORITA\",'Daily Diary'!K:K,\"WIN\")","v":0},{"$f":"COUNTIFS('Daily Diary'!A:A,'Grafico Strategie Settimanali'!B331,'Daily Diary'!E:E,\"PUNTA OVER\",'Daily Diary'!E:E,\"PUNTA OVER\",'Daily Diary'!K:K,\"WIN\")","v":0},{"$f":"COUNTIFS('Daily Diary'!A:A,'Grafico Strategie Settimanali'!B331,'Daily Diary'!E:E,\"PUNTA UNDER\",'Daily Diary'!E:E,\"PUNTA UNDER\",'Daily Diary'!K:K,\"WIN\")","v":0},{"$f":"COUNTIFS('Daily Diary'!A:A,'Grafico Strategie Settimanali'!B331,'Daily Diary'!E:E,\"SCALPING\",'Daily Diary'!E:E,\"SCALPING\",'Daily Diary'!K:K,\"WIN\")","v":0},{"$f":"COUNTIFS('Daily Diary'!A:A,'Grafico Strategie Settimanali'!B331,'Daily Diary'!E:E,\"GT 90\",'Daily Diary'!E:E,\"GT 90\",'Daily Diary'!K:K,\"WIN\")","v":0},{"$f":"COUNTIFS('Daily Diary'!A:A,'Grafico Strategie Settimanali'!B331,'Daily Diary'!E:E,\"GT 110\",'Daily Diary'!E:E,\"GT 110\",'Daily Diary'!K:K,\"WIN\")","v":0},{"$f":"COUNTIFS('Daily Diary'!A:A,'Grafico Strategie Settimanali'!B331,'Daily Diary'!E:E,\"ALERT GOAL\",'Daily Diary'!E:E,\"ALERT GOAL\",'Daily Diary'!K:K,\"WIN\")","v":0},{"$f":"COUNTIFS('Daily Diary'!A:A,'Grafico Strategie Settimanali'!B331,'Daily Diary'!E:E,\"DRAW NO BET\",'Daily Diary'!E:E,\"DRAW NO BET\",'Daily Diary'!K:K,\"WIN\")","v":0},{"$f":"COUNTIFS('Daily Diary'!A:A,'Grafico Strategie Settimanali'!B331,'Daily Diary'!E:E,\"ALTRO\",'Daily Diary'!E:E,\"ALTRO\",'Daily Diary'!K:K,\"WIN\")","v":0},{"$error":"#DIV/0!"},{"$error":"#DIV/0!"},{"$error":"#DIV/0!"},{"$error":"#DIV/0!"},{"$error":"#DIV/0!"},{"$error":"#DIV/0!"},{"$error":"#DIV/0!"},{"$error":"#DIV/0!"},{"$error":"#DIV/0!"},{"$error":"#DIV/0!"},{"$error":"#DIV/0!"},{"$error":"#DIV/0!"}]
[0,"2024-03-29",{"$f":"COUNTIFS('Daily Diary'!A:A,'Grafico Strategie Settimanali'!B332,'Daily Diary'!E:E,\"BANCA PAREGGIO\")","v":0},{"$f":"COUNTIFS('Daily Diary'!A:A,'Grafico Strategie Settimanali'!B332,'Daily Diary'!E:E,\"PUNTA SQ.CASA\")","v":0},{"$f":"COUNTIFS('Daily Diary'!A:A,'Grafico Strategie Settimanali'!B332,'Daily Diary'!E:E,\"PUNTA SQ.OSPITE\")","v":0},{"$f":"COUNTIFS('Daily Diary'!A:A,'Grafico Strategie Settimanali'!B332,'Daily Diary'!E:E,\"BANCA SFAVORITA\")","v":0},{"$f":"COUNTIFS('Daily Diary'!A:A,'Grafico Strategie Settimanali'!B332,'Daily Diary'!E:E,\"PUNTA OVER\")","v":0},{"$f":"COUNTIFS('Daily Diary'!A:A,'Grafico Strategie Settimanali'!B332,'Daily Diary'!E:E,\"PUNTA UNDER\")","v":0},{"$f":"COUNTIFS('Daily Diary'!A:A,'Grafico Strategie Settimanali'!B332,'Daily Diary'!E:E,\"SCALPING\")","v":0},{"$f":"COUNTIFS('Daily Diary'!A:A,'Grafico Strategie Settimanali'!B332,'Daily Diary'!E:E,\"GT90\")","v":0},{"$f":"COUNTIFS('Daily Diary'!A:A,'Grafico Strategie Settimanali'!B332,'Daily Diary'!E:E,\"GT110\")","v":0},{"$f":"COUNTIFS('Daily Diary'!A:A,'Grafico Strategie Settimanali'!B332,'Daily Diary'!E:E,\"ALERT GOAL\")","v":0},{"$f":"COUNTIFS('Daily Diary'!A:A,'Grafico Strategie Settimanali'!B332,'Daily Diary'!E:E,\"DRAW NO BET\")","v":0},{"$f":"COUNTIFS('Daily Diary'!A:A,'Grafico Strategie Settimanali'!B332,'Daily Diary'!E:E,\"ALTRO\")","v":0},{"$f":"COUNTIFS('Daily Diary'!A:A,'Grafico Strategie Settimanali'!B332,'Daily Diary'!E:E,\"BANCA PAREGGIO\",'Daily Diary'!E:E,\"BANCA PAREGGIO\",'Daily Diary'!K:K,\"WIN\")","v":0},{"$f":"COUNTIFS('Daily Diary'!A:A,'Grafico Strategie Settimanali'!B332,'Daily Diary'!E:E,\"PUNTA SQ.CASA\",'Daily Diary'!E:E,\"PUNTA SQ.CASA\",'Daily Diary'!K:K,\"WIN\")","v":0},{"$f":"COUNTIFS('Daily Diary'!A:A,'Grafico Strategie Settimanali'!B332,'Daily Diary'!E:E,\"PUNTA SQ.OSPITE\",'Daily Diary'!E:E,\"PUNTA SQ.OSPITE\",'Daily Diary'!K:K,\"WIN\")","v":0},{"$f":"COUNTIFS('Daily Diary'!A:A,'Grafico Strategie Settimanali'!B332,'Daily Diary'!E:E,\"BANCA SFAVORITA\",'Daily Diary'!E:E,\"BANCA SFAVORITA\",'Daily Diary'!K:K,\"WIN\")","v":0},{"$f":"COUNTIFS('Daily Diary'!A:A,'Grafico Strategie Settimanali'!B332,'Daily Diary'!E:E,\"PUNTA OVER\",'Daily Diary'!E:E,\"PUNTA OVER\",'Daily Diary'!K:K,\"WIN\")","v":0},{"$f":"COUNTIFS('Daily Diary'!A:A,'Grafico Strategie Settimanali'!B332,'Daily Diary'!E:E,\"PUNTA UNDER\",'Daily Diary'!E:E,\"PUNTA UNDER\",'Daily Diary'!K:K,\"WIN\")","v":0},{"$f":"COUNTIFS('Daily Diary'!A:A,'Grafico Strategie Settimanali'!B332,'Daily Diary'!E:E,\"SCALPING\",'Daily Diary'!E:E,\"SCALPING\",'Daily Diary'!K:K,\"WIN\")","v":0},{"$f":"COUNTIFS('Daily Diary'!A:A,'Grafico Strategie Settimanali'!B332,'Daily Diary'!E:E,\"GT 90\",'Daily Diary'!E:E,\"GT 90\",'Daily Diary'!K:K,\"WIN\")","v":0},{"$f":"COUNTIFS('Daily Diary'!A:A,'Grafico Strategie Settimanali'!B332,'Daily Diary'!E:E,\"GT 110\",'Daily Diary'!E:E,\"GT 110\",'Daily Diary'!K:K,\"WIN\")","v":0},{"$f":"COUNTIFS('Daily Diary'!A:A,'Grafico Strategie Settimanali'!B332,'Daily Diary'!E:E,\"ALERT GOAL\",'Daily Diary'!E:E,\"ALERT GOAL\",'Daily Diary'!K:K,\"WIN\")","v":0},{"$f":"COUNTIFS('Daily Diary'!A:A,'Grafico Strategie Settimanali'!B332,'Daily Diary'!E:E,\"DRAW NO BET\",'Daily Diary'!E:E,\"DRAW NO BET\",'Daily Diary'!K:K,\"WIN\")","v":0},{"$f":"COUNTIFS('Daily Diary'!A:A,'Grafico Strategie Settimanali'!B332,'Daily Diary'!E:E,\"ALTRO\",'Daily Diary'!E:E,\"ALTRO\",'Daily Diary'!K:K,\"WIN\")","v":0},{"$error":"#DIV/0!"},{"$error":"#DIV/0!"},{"$error":"#DIV/0!"},{"$error":"#DIV/0!"},{"$error":"#DIV/0!"},{"$error":"#DIV/0!"},{"$error":"#DIV/0!"},{"$error":"#DIV/0!"},{"$error":"#DIV/0!"},{"$error":"#DIV/0!"},{"$error":"#DIV/0!"},{"$error":"#DIV/0!"}]
[0,"2024-03-30",{"$f":"COUNTIFS('Daily Diary'!A:A,'Grafico Strategie Settimanali'!B333,'Daily Diary'!E:E,\"BANCA PAREGGIO\")","v":0},{"$f":"COUNTIFS('Daily Diary'!A:A,'Grafico Strategie Settimanali'!B333,'Daily Diary'!E:E,\"PUNTA SQ.CASA\")","v":0},{"$f":"COUNTIFS('Daily Diary'!A:A,'Grafico Strategie Settimanali'!B333,'Daily Diary'!E:E,\"PUNTA SQ.OSPITE\")","v":0},{"$f":"COUNTIFS('Daily Diary'!A:A,'Grafico Strategie Settimanali'!B333,'Daily Diary'!E:E,\"BANCA SFAVORITA\")","v":0},{"$f":"COUNTIFS('Daily Diary'!A:A,'Grafico Strategie Settimanali'!B333,'Daily Diary'!E:E,\"PUNTA OVER\")","v":0},{"$f":"COUNTIFS('Daily Diary'!A:A,'Grafico Strategie Settimanali'!B333,'Daily Diary'!E:E,\"PUNTA UNDER\")","v":0},{"$f":"COUNTIFS('Daily Diary'!A:A,'Grafico Strategie Settimanali'!B333,'Daily Diary'!E:E,\"SCALPING\")","v":0},{"$f":"COUNTIFS('Daily Diary'!A:A,'Grafico Strategie Settimanali'!B333,'Daily Diary'!E:E,\"GT90\")","v":0},{"$f":"COUNTIFS('Daily Diary'!A:A,'Grafico Strategie Settimanali'!B333,'Daily Diary'!E:E,\"GT110\")","v":0},{"$f":"COUNTIFS('Daily Diary'!A:A,'Grafico Strategie Settimanali'!B333,'Daily Diary'!E:E,\"ALERT GOAL\")","v":0},{"$f":"COUNTIFS('Daily Diary'!A:A,'Grafico Strategie Settimanali'!B333,'Daily Diary'!E:E,\"DRAW NO BET\")","v":0},{"$f":"COUNTIFS('Daily Diary'!A:A,'Grafico Strategie Settimanali'!B333,'Daily Diary'!E:E,\"ALTRO\")","v":0},{"$f":"COUNTIFS('Daily Diary'!A:A,'Grafico Strategie Settimanali'!B333,'Daily Diary'!E:E,\"BANCA PAREGGIO\",'Daily Diary'!E:E,\"BANCA PAREGGIO\",'Daily Diary'!K:K,\"WIN\")","v":0},{"$f":"COUNTIFS('Daily Diary'!A:A,'Grafico Strategie Settimanali'!B333,'Daily Diary'!E:E,\"PUNTA SQ.CASA\",'Daily Diary'!E:E,\"PUNTA SQ.CASA\",'Daily Diary'!K:K,\"WIN\")","v":0},{"$f":"COUNTIFS('Daily Diary'!A:A,'Grafico Strategie Settimanali'!B333,'Daily Diary'!E:E,\"PUNTA SQ.OSPITE\",'Daily Diary'!E:E,\"PUNTA SQ.OSPITE\",'Daily Diary'!K:K,\"WIN\")","v":0},{"$f":"COUNTIFS('Daily Diary'!A:A,'Grafico Strategie Settimanali'!B333,'Daily Diary'!E:E,\"BANCA SFAVORITA\",'Daily Diary'!E:E,\"BANCA SFAVORITA\",'Daily Diary'!K:K,\"WIN\")","v":0},{"$f":"COUNTIFS('Daily Diary'!A:A,'Grafico Strategie Settimanali'!B333,'Daily Diary'!E:E,\"PUNTA OVER\",'Daily Diary'!E:E,\"PUNTA OVER\",'Daily Diary'!K:K,\"WIN\")","v":0},{"$f":"COUNTIFS('Daily Diary'!A:A,'Grafico Strategie Settimanali'!B333,'Daily Diary'!E:E,\"PUNTA UNDER\",'Daily Diary'!E:E,\"PUNTA UNDER\",'Daily Diary'!K:K,\"WIN\")","v":0},{"$f":"COUNTIFS('Daily Diary'!A:A,'Grafico Strategie Settimanali'!B333,'Daily Diary'!E:E,\"SCALPING\",'Daily Diary'!E:E,\"SCALPING\",'Daily Diary'!K:K,\"WIN\")","v":0},{"$f":"COUNTIFS('Daily Diary'!A:A,'Grafico Strategie Settimanali'!B333,'Daily Diary'!E:E,\"GT 90\",'Daily Diary'!E:E,\"GT 90\",'Daily Diary'!K:K,\"WIN\")","v":0},{"$f":"COUNTIFS('Daily Diary'!A:A,'Grafico Strategie Settimanali'!B333,'Daily Diary'!E:E,\"GT 110\",'Daily Diary'!E:E,\"GT 110\",'Daily Diary'!K:K,\"WIN\")","v":0},{"$f":"COUNTIFS('Daily Diary'!A:A,'Grafico Strategie Settimanali'!B333,'Daily Diary'!E:E,\"ALERT GOAL\",'Daily Diary'!E:E,\"ALERT GOAL\",'Daily Diary'!K:K,\"WIN\")","v":0},{"$f":"COUNTIFS('Daily Diary'!A:A,'Grafico Strategie Settimanali'!B333,'Daily Diary'!E:E,\"DRAW NO BET\",'Daily Diary'!E:E,\"DRAW NO BET\",'Daily Diary'!K:K,\"WIN\")","v":0},{"$f":"COUNTIFS('Daily Diary'!A:A,'Grafico Strategie Settimanali'!B333,'Daily Diary'!E:E,\"ALTRO\",'Daily Diary'!E:E,\"ALTRO\",'Daily Diary'!K:K,\"WIN\")","v":0},{"$error":"#DIV/0!"},{"$error":"#DIV/0!"},{"$error":"#DIV/0!"},{"$error":"#DIV/0!"},{"$error":"#DIV/0!"},{"$error":"#DIV/0!"},{"$error":"#DIV/0!"},{"$error":"#DIV/0!"},{"$error":"#DIV/0!"},{"$error":"#DIV/0!"},{"$error":"#DIV/0!"},{"$error":"#DIV/0!"}]
[0,"2024-03-31",{"$f":"COUNTIFS('Daily Diary'!A:A,'Grafico Strategie Settimanali'!B334,'Daily Diary'!E:E,\"BANCA PAREGGIO\")","v":0},{"$f":"COUNTIFS('Daily Diary'!A:A,'Grafico Strategie Settimanali'!B334,'Daily Diary'!E:E,\"PUNTA SQ.CASA\")","v":0},{"$f":"COUNTIFS('Daily Diary'!A:A,'Grafico Strategie Settimanali'!B334,'Daily Diary'!E:E,\"PUNTA SQ.OSPITE\")","v":0},{"$f":"COUNTIFS('Daily Diary'!A:A,'Grafico Strategie Settimanali'!B334,'Daily Diary'!E:E,\"BANCA SFAVORITA\")","v":0},{"$f":"COUNTIFS('Daily Diary'!A:A,'Grafico Strategie Settimanali'!B334,'Daily Diary'!E:E,\"PUNTA OVER\")","v":0},{"$f":"COUNTIFS('Daily Diary'!A:A,'Grafico Strategie Settimanali'!B334,'Daily Diary'!E:E,\"PUNTA UNDER\")","v":0},{"$f":"COUNTIFS('Daily Diary'!A:A,'Grafico Strategie Settimanali'!B334,'Daily Diary'!E:E,\"SCALPING\")","v":0},{"$f":"COUNTIFS('Daily Diary'!A:A,'Grafico Strategie Settimanali'!B334,'Daily Diary'!E:E,\"GT90\")","v":0},{"$f":"COUNTIFS('Daily Diary'!A:A,'Grafico Strategie Settimanali'!B334,'Daily Diary'!E:E,\"GT110\")","v":0},{"$f":"COUNTIFS('Daily Diary'!A:A,'Grafico Strategie Settimanali'!B334,'Daily Diary'!E:E,\"ALERT GOAL\")","v":0},{"$f":"COUNTIFS('Daily Diary'!A:A,'Grafico Strategie Settimanali'!B334,'Daily Diary'!E:E,\"DRAW NO BET\")","v":0},{"$f":"COUNTIFS('Daily Diary'!A:A,'Grafico Strategie Settimanali'!B334,'Daily Diary'!E:E,\"ALTRO\")","v":0},{"$f":"COUNTIFS('Daily Diary'!A:A,'Grafico Strategie Settimanali'!B334,'Daily Diary'!E:E,\"BANCA PAREGGIO\",'Daily Diary'!E:E,\"BANCA PAREGGIO\",'Daily Diary'!K:K,\"WIN\")","v":0},{"$f":"COUNTIFS('Daily Diary'!A:A,'Grafico Strategie Settimanali'!B334,'Daily Diary'!E:E,\"PUNTA SQ.CASA\",'Daily Diary'!E:E,\"PUNTA SQ.CASA\",'Daily Diary'!K:K,\"WIN\")","v":0},{"$f":"COUNTIFS('Daily Diary'!A:A,'Grafico Strategie Settimanali'!B334,'Daily Diary'!E:E,\"PUNTA SQ.OSPITE\",'Daily Diary'!E:E,\"PUNTA SQ.OSPITE\",'Daily Diary'!K:K,\"WIN\")","v":0},{"$f":"COUNTIFS('Daily Diary'!A:A,'Grafico Strategie Settimanali'!B334,'Daily Diary'!E:E,\"BANCA SFAVORITA\",'Daily Diary'!E:E,\"BANCA SFAVORITA\",'Daily Diary'!K:K,\"WIN\")","v":0},{"$f":"COUNTIFS('Daily Diary'!A:A,'Grafico Strategie Settimanali'!B334,'Daily Diary'!E:E,\"PUNTA OVER\",'Daily Diary'!E:E,\"PUNTA OVER\",'Daily Diary'!K:K,\"WIN\")","v":0},{"$f":"COUNTIFS('Daily Diary'!A:A,'Grafico Strategie Settimanali'!B334,'Daily Diary'!E:E,\"PUNTA UNDER\",'Daily Diary'!E:E,\"PUNTA UNDER\",'Daily Diary'!K:K,\"WIN\")","v":0},{"$f":"COUNTIFS('Daily Diary'!A:A,'Grafico Strategie Settimanali'!B334,'Daily Diary'!E:E,\"SCALPING\",'Daily Diary'!E:E,\"SCALPING\",'Daily Diary'!K:K,\"WIN\")","v":0},{"$f":"COUNTIFS('Daily Diary'!A:A,'Grafico Strategie Settimanali'!B334,'Daily Diary'!E:E,\"GT 90\",'Daily Diary'!E:E,\"GT 90\",'Daily Diary'!K:K,\"WIN\")","v":0},{"$f":"COUNTIFS('Daily Diary'!A:A,'Grafico Strategie Settimanali'!B334,'Daily Diary'!E:E,\"GT 110\",'Daily Diary'!E:E,\"GT 110\",'Daily Diary'!K:K,\"WIN\")","v":0},{"$f":"COUNTIFS('Daily Diary'!A:A,'Grafico Strategie Settimanali'!B334,'Daily Diary'!E:E,\"ALERT GOAL\",'Daily Diary'!E:E,\"ALERT GOAL\",'Daily Diary'!K:K,\"WIN\")","v":0},{"$f":"COUNTIFS('Daily Diary'!A:A,'Grafico Strategie Settimanali'!B334,'Daily Diary'!E:E,\"DRAW NO BET\",'Daily Diary'!E:E,\"DRAW NO BET\",'Daily Diary'!K:K,\"WIN\")","v":0},{"$f":"COUNTIFS('Daily Diary'!A:A,'Grafico Strategie Settimanali'!B334,'Daily Diary'!E:E,\"ALTRO\",'Daily Diary'!E:E,\"ALTRO\",'Daily Diary'!K:K,\"WIN\")","v":0},{"$f":"O334/C334","v":{"$error":"#DIV/0!"}},{"$f":"P334/D334","v":{"$error":"#DIV/0!"}},{"$error":"#DIV/0!"},{"$error":"#DIV/0!"},{"$error":"#DIV/0!"},{"$error":"#DIV/0!"},{"$error":"#DIV/0!"},{"$f":"V334/J334","v":{"$error":"#DIV/0!"}},{"$error":"#DIV/0!"},{"$error":"#DIV/0!"},{"$error":"#DIV/0!"},{"$error":"#DIV/0!"}]
[{"$f":"SUM(C335:N335)","v":0},{"$f":"B334+1","v":"2024-04-01"},{"$f":"COUNTIFS('Daily Diary'!A:A,'Grafico Strategie Settimanali'!B335,'Daily Diary'!E:E,\"BANCA PAREGGIO\")","v":0},{"$f":"COUNTIFS('Daily Diary'!A:A,'Grafico Strategie Settimanali'!B335,'Daily Diary'!E:E,\"PUNTA SQ.CASA\")","v":0},{"$f":"COUNTIFS('Daily Diary'!A:A,'Grafico Strategie Settimanali'!B335,'Daily Diary'!E:E,\"PUNTA SQ.OSPITE\")","v":0},{"$f":"COUNTIFS('Daily Diary'!A:A,'Grafico Strategie Settimanali'!B335,'Daily Diary'!E:E,\"BANCA SFAVORITA\")","v":0},{"$f":"COUNTIFS('Daily Diary'!A:A,'Grafico Strategie Settimanali'!B335,'Daily Diary'!E:E,\"PUNTA OVER\")","v":0},{"$f":"COUNTIFS('Daily Diary'!A:A,'Grafico Strategie Settimanali'!B335,'Daily Diary'!E:E,\"PUNTA UNDER\")","v":0},{"$f":"COUNTIFS('Daily Diary'!A:A,'Grafico Strategie Settimanali'!B335,'Daily Diary'!E:E,\"SCALPING\")","v":0},{"$f":"COUNTIFS('Daily Diary'!A:A,'Grafico Strategie Settimanali'!B335,'Daily Diary'!E:E,\"GT90\")","v":0},{"$f":"COUNTIFS('Daily Diary'!A:A,'Grafico Strategie Settimanali'!B335,'Daily Diary'!E:E,\"GT110\")","v":0},{"$f":"COUNTIFS('Daily Diary'!A:A,'Grafico Strategie Settimanali'!B335,'Daily Diary'!E:E,\"ALERT GOAL\")","v":0},{"$f":"COUNTIFS('Daily Diary'!A:A,'Grafico Strategie Settimanali'!B335,'Daily Diary'!E:E,\"DRAW NO BET\")","v":0},{"$f":"COUNTIFS('Daily Diary'!A:A,'Grafico Strategie Settimanali'!B335,'Daily Diary'!E:E,\"ALTRO\")","v":0},{"$f":"COUNTIFS('Daily Diary'!A:A,'Grafico Strategie Settimanali'!B335,'Daily Diary'!E:E,\"BANCA PAREGGIO\",'Daily Diary'!E:E,\"BANCA PAREGGIO\",'Daily Diary'!K:K,\"WIN\")","v":0},{"$f":"COUNTIFS('Daily Diary'!A:A,'Grafico Strategie Settimanali'!B335,'Daily Diary'!E:E,\"PUNTA SQ.CASA\",'Daily Diary'!E:E,\"PUNTA SQ.CASA\",'Daily Diary'!K:K,\"WIN\")","v":0},{"$f":"COUNTIFS('Daily Diary'!A:A,'Grafico Strategie Settimanali'!B335,'Daily Diary'!E:E,\"PUNTA SQ.OSPITE\",'Daily Diary'!E:E,\"PUNTA SQ.OSPITE\",'Daily Diary'!K:K,\"WIN\")","v":0},{"$f":"COUNTIFS('Daily Diary'!A:A,'Grafico Strategie Settimanali'!B335,'Daily Diary'!E:E,\"BANCA SFAVORITA\",'Daily Diary'!E:E,\"BANCA SFAVORITA\",'Daily Diary'!K:K,\"WIN\")","v":0},{"$f":"COUNTIFS('Daily Diary'!A:A,'Grafico Strategie Settimanali'!B335,'Daily Diary'!E:E,\"PUNTA OVER\",'Daily Diary'!E:E,\"PUNTA OVER\",'Daily Diary'!K:K,\"WIN\")","v":0},{"$f":"COUNTIFS('Daily Diary'!A:A,'Grafico Strategie Settimanali'!B335,'Daily Diary'!E:E,\"PUNTA UNDER\",'Daily Diary'!E:E,\"PUNTA UNDER\",'Daily Diary'!K:K,\"WIN\")","v":0},{"$f":"COUNTIFS('Daily Diary'!A:A,'Grafico Strategie Settimanali'!B335,'Daily Diary'!E:E,\"SCALPING\",'Daily Diary'!E:E,\"SCALPING\",'Daily Diary'!K:K,\"WIN\")","v":0},{"$f":"COUNTIFS('Daily Diary'!A:A,'Grafico Strategie Settimanali'!B335,'Daily Diary'!E:E,\"GT 90\",'Daily Diary'!E:E,\"GT 90\",'Daily Diary'!K:K,\"WIN\")","v":0},{"$f":"COUNTIFS('Daily Diary'!A:A,'Grafico Strategie Settimanali'!B335,'Daily Diary'!E:E,\"GT 110\",'Daily Diary'!E:E,\"GT 110\",'Daily Diary'!K:K,\"WIN\")","v":0},{"$f":"COUNTIFS('Daily Diary'!A:A,'Grafico Strategie Settimanali'!B335,'Daily Diary'!E:E,\"ALERT GOAL\",'Daily Diary'!E:E,\"ALERT GOAL\",'Daily Diary'!K:K,\"WIN\")","v":0},{"$f":"COUNTIFS('Daily Diary'!A:A,'Grafico Strategie Settimanali'!B335,'Daily Diary'!E:E,\"DRAW NO BET\",'Daily Diary'!E:E,\"DRAW NO BET\",'Daily Diary'!K:K,\"WIN\")","v":0},{"$f":"COUNTIFS('Daily Diary'!A:A,'Grafico Strategie Settimanali'!B335,'Daily Diary'!E:E,\"ALTRO\",'Daily Diary'!E:E,\"ALTRO\",'Daily Diary'!K:K,\"WIN\")","v":0},{"$error":"#DIV/0!"},{"$error":"#DIV/0!"},{"$error":"#DIV/0!"},{"$error":"#DIV/0!"},{"$error":"#DIV/0!"},{"$error":"#DIV/0!"},{"$error":"#DIV/0!"},{"$error":"#DIV/0!"},{"$error":"#DIV/0!"},{"$error":"#DIV/0!"},{"$error":"#DIV/0!"},{"$error":"#DIV/0!"}]
[0,"2024-04-02",{"$f":"COUNTIFS('Daily Diary'!A:A,'Grafico Strategie Settimanali'!B336,'Daily Diary'!E:E,\"BANCA PAREGGIO\")","v":0},{"$f":"COUNTIFS('Daily Diary'!A:A,'Grafico Strategie Settimanali'!B336,'Daily Diary'!E:E,\"PUNTA SQ.CASA\")","v":0},{"$f":"COUNTIFS('Daily Diary'!A:A,'Grafico Strategie Settimanali'!B336,'Daily Diary'!E:E,\"PUNTA SQ.OSPITE\")","v":0},{"$f":"COUNTIFS('Daily Diary'!A:A,'Grafico Strategie Settimanali'!B336,'Daily Diary'!E:E,\"BANCA SFAVORITA\")","v":0},{"$f":"COUNTIFS('Daily Diary'!A:A,'Grafico Strategie Settimanali'!B336,'Daily Diary'!E:E,\"PUNTA OVER\")","v":0},{"$f":"COUNTIFS('Daily Diary'!A:A,'Grafico Strategie Settimanali'!B336,'Daily Diary'!E:E,\"PUNTA UNDER\")","v":0},{"$f":"COUNTIFS('Daily Diary'!A:A,'Grafico Strategie Settimanali'!B336,'Daily Diary'!E:E,\"SCALPING\")","v":0},{"$f":"COUNTIFS('Daily Diary'!A:A,'Grafico Strategie Settimanali'!B336,'Daily Diary'!E:E,\"GT90\")","v":0},{"$f":"COUNTIFS('Daily Diary'!A:A,'Grafico Strategie Settimanali'!B336,'Daily Diary'!E:E,\"GT110\")","v":0},{"$f":"COUNTIFS('Daily Diary'!A:A,'Grafico Strategie Settimanali'!B336,'Daily Diary'!E:E,\"ALERT GOAL\")","v":0},{"$f":"COUNTIFS('Daily Diary'!A:A,'Grafico Strategie Settimanali'!B336,'Daily Diary'!E:E,\"DRAW NO BET\")","v":0},{"$f":"COUNTIFS('Daily Diary'!A:A,'Grafico Strategie Settimanali'!B336,'Daily Diary'!E:E,\"ALTRO\")","v":0},{"$f":"COUNTIFS('Daily Diary'!A:A,'Grafico Strategie Settimanali'!B336,'Daily Diary'!E:E,\"BANCA PAREGGIO\",'Daily Diary'!E:E,\"BANCA PAREGGIO\",'Daily Diary'!K:K,\"WIN\")","v":0},{"$f":"COUNTIFS('Daily Diary'!A:A,'Grafico Strategie Settimanali'!B336,'Daily Diary'!E:E,\"PUNTA SQ.CASA\",'Daily Diary'!E:E,\"PUNTA SQ.CASA\",'Daily Diary'!K:K,\"WIN\")","v":0},{"$f":"COUNTIFS('Daily Diary'!A:A,'Grafico Strategie Settimanali'!B336,'Daily Diary'!E:E,\"PUNTA SQ.OSPITE\",'Daily Diary'!E:E,\"PUNTA SQ.OSPITE\",'Daily Diary'!K:K,\"WIN\")","v":0},{"$f":"COUNTIFS('Daily Diary'!A:A,'Grafico Strategie Settimanali'!B336,'Daily Diary'!E:E,\"BANCA SFAVORITA\",'Daily Diary'!E:E,\"BANCA SFAVORITA\",'Daily Diary'!K:K,\"WIN\")","v":0},{"$f":"COUNTIFS('Daily Diary'!A:A,'Grafico Strategie Settimanali'!B336,'Daily Diary'!E:E,\"PUNTA OVER\",'Daily Diary'!E:E,\"PUNTA OVER\",'Daily Diary'!K:K,\"WIN\")","v":0},{"$f":"COUNTIFS('Daily Diary'!A:A,'Grafico Strategie Settimanali'!B336,'Daily Diary'!E:E,\"PUNTA UNDER\",'Daily Diary'!E:E,\"PUNTA UNDER\",'Daily Diary'!K:K,\"WIN\")","v":0},{"$f":"COUNTIFS('Daily Diary'!A:A,'Grafico Strategie Settimanali'!B336,'Daily Diary'!E:E,\"SCALPING\",'Daily Diary'!E:E,\"SCALPING\",'Daily Diary'!K:K,\"WIN\")","v":0},{"$f":"COUNTIFS('Daily Diary'!A:A,'Grafico Strategie Settimanali'!B336,'Daily Diary'!E:E,\"GT 90\",'Daily Diary'!E:E,\"GT 90\",'Daily Diary'!K:K,\"WIN\")","v":0},{"$f":"COUNTIFS('Daily Diary'!A:A,'Grafico Strategie Settimanali'!B336,'Daily Diary'!E:E,\"GT 110\",'Daily Diary'!E:E,\"GT 110\",'Daily Diary'!K:K,\"WIN\")","v":0},{"$f":"COUNTIFS('Daily Diary'!A:A,'Grafico Strategie Settimanali'!B336,'Daily Diary'!E:E,\"ALERT GOAL\",'Daily Diary'!E:E,\"ALERT GOAL\",'Daily Diary'!K:K,\"WIN\")","v":0},{"$f":"COUNTIFS('Daily Diary'!A:A,'Grafico Strategie Settimanali'!B336,'Daily Diary'!E:E,\"DRAW NO BET\",'Daily Diary'!E:E,\"DRAW NO BET\",'Daily Diary'!K:K,\"WIN\")","v":0},{"$f":"COUNTIFS('Daily Diary'!A:A,'Grafico Strategie Settimanali'!B336,'Daily Diary'!E:E,\"ALTRO\",'Daily Diary'!E:E,\"ALTRO\",'Daily Diary'!K:K,\"WIN\")","v":0},{"$error":"#DIV/0!"},{"$error":"#DIV/0!"},{"$error":"#DIV/0!"},{"$error":"#DIV/0!"},{"$error":"#DIV/0!"},{"$error":"#DIV/0!"},{"$error":"#DIV/0!"},{"$error":"#DIV/0!"},{"$error":"#DIV/0!"},{"$error":"#DIV/0!"},{"$error":"#DIV/0!"},{"$error":"#DIV/0!"}]
[0,"2024-04-03",{"$f":"COUNTIFS('Daily Diary'!A:A,'Grafico Strategie Settimanali'!B337,'Daily Diary'!E:E,\"BANCA PAREGGIO\")","v":0},{"$f":"COUNTIFS('Daily Diary'!A:A,'Grafico Strategie Settimanali'!B337,'Daily Diary'!E:E,\"PUNTA SQ.CASA\")","v":0},{"$f":"COUNTIFS('Daily Diary'!A:A,'Grafico Strategie Settimanali'!B337,'Daily Diary'!E:E,\"PUNTA SQ.OSPITE\")","v":0},{"$f":"COUNTIFS('Daily Diary'!A:A,'Grafico Strategie Settimanali'!B337,'Daily Diary'!E:E,\"BANCA SFAVORITA\")","v":0},{"$f":"COUNTIFS('Daily Diary'!A:A,'Grafico Strategie Settimanali'!B337,'Daily Diary'!E:E,\"PUNTA OVER\")","v":0},{"$f":"COUNTIFS('Daily Diary'!A:A,'Grafico Strategie Settimanali'!B337,'Daily Diary'!E:E,\"PUNTA UNDER\")","v":0},{"$f":"COUNTIFS('Daily Diary'!A:A,'Grafico Strategie Settimanali'!B337,'Daily Diary'!E:E,\"SCALPING\")","v":0},{"$f":"COUNTIFS('Daily Diary'!A:A,'Grafico Strategie Settimanali'!B337,'Daily Diary'!E:E,\"GT90\")","v":0},{"$f":"COUNTIFS('Daily Diary'!A:A,'Grafico Strategie Settimanali'!B337,'Daily Diary'!E:E,\"GT110\")","v":0},{"$f":"COUNTIFS('Daily Diary'!A:A,'Grafico Strategie Settimanali'!B337,'Daily Diary'!E:E,\"ALERT GOAL\")","v":0},{"$f":"COUNTIFS('Daily Diary'!A:A,'Grafico Strategie Settimanali'!B337,'Daily Diary'!E:E,\"DRAW NO BET\")","v":0},{"$f":"COUNTIFS('Daily Diary'!A:A,'Grafico Strategie Settimanali'!B337,'Daily Diary'!E:E,\"ALTRO\")","v":0},{"$f":"COUNTIFS('Daily Diary'!A:A,'Grafico Strategie Settimanali'!B337,'Daily Diary'!E:E,\"BANCA PAREGGIO\",'Daily Diary'!E:E,\"BANCA PAREGGIO\",'Daily Diary'!K:K,\"WIN\")","v":0},{"$f":"COUNTIFS('Daily Diary'!A:A,'Grafico Strategie Settimanali'!B337,'Daily Diary'!E:E,\"PUNTA SQ.CASA\",'Daily Diary'!E:E,\"PUNTA SQ.CASA\",'Daily Diary'!K:K,\"WIN\")","v":0},{"$f":"COUNTIFS('Daily Diary'!A:A,'Grafico Strategie Settimanali'!B337,'Daily Diary'!E:E,\"PUNTA SQ.OSPITE\",'Daily Diary'!E:E,\"PUNTA SQ.OSPITE\",'Daily Diary'!K:K,\"WIN\")","v":0},{"$f":"COUNTIFS('Daily Diary'!A:A,'Grafico Strategie Settimanali'!B337,'Daily Diary'!E:E,\"BANCA SFAVORITA\",'Daily Diary'!E:E,\"BANCA SFAVORITA\",'Daily Diary'!K:K,\"WIN\")","v":0},{"$f":"COUNTIFS('Daily Diary'!A:A,'Grafico Strategie Settimanali'!B337,'Daily Diary'!E:E,\"PUNTA OVER\",'Daily Diary'!E:E,\"PUNTA OVER\",'Daily Diary'!K:K,\"WIN\")","v":0},{"$f":"COUNTIFS('Daily Diary'!A:A,'Grafico Strategie Settimanali'!B337,'Daily Diary'!E:E,\"PUNTA UNDER\",'Daily Diary'!E:E,\"PUNTA UNDER\",'Daily Diary'!K:K,\"WIN\")","v":0},{"$f":"COUNTIFS('Daily Diary'!A:A,'Grafico Strategie Settimanali'!B337,'Daily Diary'!E:E,\"SCALPING\",'Daily Diary'!E:E,\"SCALPING\",'Daily Diary'!K:K,\"WIN\")","v":0},{"$f":"COUNTIFS('Daily Diary'!A:A,'Grafico Strategie Settimanali'!B337,'Daily Diary'!E:E,\"GT 90\",'Daily Diary'!E:E,\"GT 90\",'Daily Diary'!K:K,\"WIN\")","v":0},{"$f":"COUNTIFS('Daily Diary'!A:A,'Grafico Strategie Settimanali'!B337,'Daily Diary'!E:E,\"GT 110\",'Daily Diary'!E:E,\"GT 110\",'Daily Diary'!K:K,\"WIN\")","v":0},{"$f":"COUNTIFS('Daily Diary'!A:A,'Grafico Strategie Settimanali'!B337,'Daily Diary'!E:E,\"ALERT GOAL\",'Daily Diary'!E:E,\"ALERT GOAL\",'Daily Diary'!K:K,\"WIN\")","v":0},{"$f":"COUNTIFS('Daily Diary'!A:A,'Grafico Strategie Settimanali'!B337,'Daily Diary'!E:E,\"DRAW NO BET\",'Daily Diary'!E:E,\"DRAW NO BET\",'Daily Diary'!K:K,\"WIN\")","v":0},{"$f":"COUNTIFS('Daily Diary'!A:A,'Grafico Strategie Settimanali'!B337,'Daily Diary'!E:E,\"ALTRO\",'Daily Diary'!E:E,\"ALTRO\",'Daily Diary'!K:K,\"WIN\")","v":0},{"$error":"#DIV/0!"},{"$error":"#DIV/0!"},{"$error":"#DIV/0!"},{"$error":"#DIV/0!"},{"$error":"#DIV/0!"},{"$error":"#DIV/0!"},{"$error":"#DIV/0!"},{"$error":"#DIV/0!"},{"$error":"#DIV/0!"},{"$error":"#DIV/0!"},{"$error":"#DIV/0!"},{"$error":"#DIV/0!"}]
[0,"2024-04-04",{"$f":"COUNTIFS('Daily Diary'!A:A,'Grafico Strategie Settimanali'!B338,'Daily Diary'!E:E,\"BANCA PAREGGIO\")","v":0},{"$f":"COUNTIFS('Daily Diary'!A:A,'Grafico Strategie Settimanali'!B338,'Daily Diary'!E:E,\"PUNTA SQ.CASA\")","v":0},{"$f":"COUNTIFS('Daily Diary'!A:A,'Grafico Strategie Settimanali'!B338,'Daily Diary'!E:E,\"PUNTA SQ.OSPITE\")","v":0},{"$f":"COUNTIFS('Daily Diary'!A:A,'Grafico Strategie Settimanali'!B338,'Daily Diary'!E:E,\"BANCA SFAVORITA\")","v":0},{"$f":"COUNTIFS('Daily Diary'!A:A,'Grafico Strategie Settimanali'!B338,'Daily Diary'!E:E,\"PUNTA OVER\")","v":0},{"$f":"COUNTIFS('Daily Diary'!A:A,'Grafico Strategie Settimanali'!B338,'Daily Diary'!E:E,\"PUNTA UNDER\")","v":0},{"$f":"COUNTIFS('Daily Diary'!A:A,'Grafico Strategie Settimanali'!B338,'Daily Diary'!E:E,\"SCALPING\")","v":0},{"$f":"COUNTIFS('Daily Diary'!A:A,'Grafico Strategie Settimanali'!B338,'Daily Diary'!E:E,\"GT90\")","v":0},{"$f":"COUNTIFS('Daily Diary'!A:A,'Grafico Strategie Settimanali'!B338,'Daily Diary'!E:E,\"GT110\")","v":0},{"$f":"COUNTIFS('Daily Diary'!A:A,'Grafico Strategie Settimanali'!B338,'Daily Diary'!E:E,\"ALERT GOAL\")","v":0},{"$f":"COUNTIFS('Daily Diary'!A:A,'Grafico Strategie Settimanali'!B338,'Daily Diary'!E:E,\"DRAW NO BET\")","v":0},{"$f":"COUNTIFS('Daily Diary'!A:A,'Grafico Strategie Settimanali'!B338,'Daily Diary'!E:E,\"ALTRO\")","v":0},{"$f":"COUNTIFS('Daily Diary'!A:A,'Grafico Strategie Settimanali'!B338,'Daily Diary'!E:E,\"BANCA PAREGGIO\",'Daily Diary'!E:E,\"BANCA PAREGGIO\",'Daily Diary'!K:K,\"WIN\")","v":0},{"$f":"COUNTIFS('Daily Diary'!A:A,'Grafico Strategie Settimanali'!B338,'Daily Diary'!E:E,\"PUNTA SQ.CASA\",'Daily Diary'!E:E,\"PUNTA SQ.CASA\",'Daily Diary'!K:K,\"WIN\")","v":0},{"$f":"COUNTIFS('Daily Diary'!A:A,'Grafico Strategie Settimanali'!B338,'Daily Diary'!E:E,\"PUNTA SQ.OSPITE\",'Daily Diary'!E:E,\"PUNTA SQ.OSPITE\",'Daily Diary'!K:K,\"WIN\")","v":0},{"$f":"COUNTIFS('Daily Diary'!A:A,'Grafico Strategie Settimanali'!B338,'Daily Diary'!E:E,\"BANCA SFAVORITA\",'Daily Diary'!E:E,\"BANCA SFAVORITA\",'Daily Diary'!K:K,\"WIN\")","v":0},{"$f":"COUNTIFS('Daily Diary'!A:A,'Grafico Strategie Settimanali'!B338,'Daily Diary'!E:E,\"PUNTA OVER\",'Daily Diary'!E:E,\"PUNTA OVER\",'Daily Diary'!K:K,\"WIN\")","v":0},{"$f":"COUNTIFS('Daily Diary'!A:A,'Grafico Strategie Settimanali'!B338,'Daily Diary'!E:E,\"PUNTA UNDER\",'Daily Diary'!E:E,\"PUNTA UNDER\",'Daily Diary'!K:K,\"WIN\")","v":0},{"$f":"COUNTIFS('Daily Diary'!A:A,'Grafico Strategie Settimanali'!B338,'Daily Diary'!E:E,\"SCALPING\",'Daily Diary'!E:E,\"SCALPING\",'Daily Diary'!K:K,\"WIN\")","v":0},{"$f":"COUNTIFS('Daily Diary'!A:A,'Grafico Strategie Settimanali'!B338,'Daily Diary'!E:E,\"GT 90\",'Daily Diary'!E:E,\"GT 90\",'Daily Diary'!K:K,\"WIN\")","v":0},{"$f":"COUNTIFS('Daily Diary'!A:A,'Grafico Strategie Settimanali'!B338,'Daily Diary'!E:E,\"GT 110\",'Daily Diary'!E:E,\"GT 110\",'Daily Diary'!K:K,\"WIN\")","v":0},{"$f":"COUNTIFS('Daily Diary'!A:A,'Grafico Strategie Settimanali'!B338,'Daily Diary'!E:E,\"ALERT GOAL\",'Daily Diary'!E:E,\"ALERT GOAL\",'Daily Diary'!K:K,\"WIN\")","v":0},{"$f":"COUNTIFS('Daily Diary'!A:A,'Grafico Strategie Settimanali'!B338,'Daily Diary'!E:E,\"DRAW NO BET\",'Daily Diary'!E:E,\"DRAW NO BET\",'Daily Diary'!K:K,\"WIN\")","v":0},{"$f":"COUNTIFS('Daily Diary'!A:A,'Grafico Strategie Settimanali'!B338,'Daily Diary'!E:E,\"ALTRO\",'Daily Diary'!E:E,\"ALTRO\",'Daily Diary'!K:K,\"WIN\")","v":0},{"$error":"#DIV/0!"},{"$error":"#DIV/0!"},{"$error":"#DIV/0!"},{"$error":"#DIV/0!"},{"$error":"#DIV/0!"},{"$error":"#DIV/0!"},{"$error":"#DIV/0!"},{"$error":"#DIV/0!"},{"$error":"#DIV/0!"},{"$error":"#DIV/0!"},{"$error":"#DIV/0!"},{"$error":"#DIV/0!"}]
[0,"2024-04-05",{"$f":"COUNTIFS('Daily Diary'!A:A,'Grafico Strategie Settimanali'!B339,'Daily Diary'!E:E,\"BANCA PAREGGIO\")","v":0},{"$f":"COUNTIFS('Daily Diary'!A:A,'Grafico Strategie Settimanali'!B339,'Daily Diary'!E:E,\"PUNTA SQ.CASA\")","v":0},{"$f":"COUNTIFS('Daily Diary'!A:A,'Grafico Strategie Settimanali'!B339,'Daily Diary'!E:E,\"PUNTA SQ.OSPITE\")","v":0},{"$f":"COUNTIFS('Daily Diary'!A:A,'Grafico Strategie Settimanali'!B339,'Daily Diary'!E:E,\"BANCA SFAVORITA\")","v":0},{"$f":"COUNTIFS('Daily Diary'!A:A,'Grafico Strategie Settimanali'!B339,'Daily Diary'!E:E,\"PUNTA OVER\")","v":0},{"$f":"COUNTIFS('Daily Diary'!A:A,'Grafico Strategie Settimanali'!B339,'Daily Diary'!E:E,\"PUNTA UNDER\")","v":0},{"$f":"COUNTIFS('Daily Diary'!A:A,'Grafico Strategie Settimanali'!B339,'Daily Diary'!E:E,\"SCALPING\")","v":0},{"$f":"COUNTIFS('Daily Diary'!A:A,'Grafico Strategie Settimanali'!B339,'Daily Diary'!E:E,\"GT90\")","v":0},{"$f":"COUNTIFS('Daily Diary'!A:A,'Grafico Strategie Settimanali'!B339,'Daily Diary'!E:E,\"GT110\")","v":0},{"$f":"COUNTIFS('Daily Diary'!A:A,'Grafico Strategie Settimanali'!B339,'Daily Diary'!E:E,\"ALERT GOAL\")","v":0},{"$f":"COUNTIFS('Daily Diary'!A:A,'Grafico Strategie Settimanali'!B339,'Daily Diary'!E:E,\"DRAW NO BET\")","v":0},{"$f":"COUNTIFS('Daily Diary'!A:A,'Grafico Strategie Settimanali'!B339,'Daily Diary'!E:E,\"ALTRO\")","v":0},{"$f":"COUNTIFS('Daily Diary'!A:A,'Grafico Strategie Settimanali'!B339,'Daily Diary'!E:E,\"BANCA PAREGGIO\",'Daily Diary'!E:E,\"BANCA PAREGGIO\",'Daily Diary'!K:K,\"WIN\")","v":0},{"$f":"COUNTIFS('Daily Diary'!A:A,'Grafico Strategie Settimanali'!B339,'Daily Diary'!E:E,\"PUNTA SQ.CASA\",'Daily Diary'!E:E,\"PUNTA SQ.CASA\",'Daily Diary'!K:K,\"WIN\")","v":0},{"$f":"COUNTIFS('Daily Diary'!A:A,'Grafico Strategie Settimanali'!B339,'Daily Diary'!E:E,\"PUNTA SQ.OSPITE\",'Daily Diary'!E:E,\"PUNTA SQ.OSPITE\",'Daily Diary'!K:K,\"WIN\")","v":0},{"$f":"COUNTIFS('Daily Diary'!A:A,'Grafico Strategie Settimanali'!B339,'Daily Diary'!E:E,\"BANCA SFAVORITA\",'Daily Diary'!E:E,\"BANCA SFAVORITA\",'Daily Diary'!K:K,\"WIN\")","v":0},{"$f":"COUNTIFS('Daily Diary'!A:A,'Grafico Strategie Settimanali'!B339,'Daily Diary'!E:E,\"PUNTA OVER\",'Daily Diary'!E:E,\"PUNTA OVER\",'Daily Diary'!K:K,\"WIN\")","v":0},{"$f":"COUNTIFS('Daily Diary'!A:A,'Grafico Strategie Settimanali'!B339,'Daily Diary'!E:E,\"PUNTA UNDER\",'Daily Diary'!E:E,\"PUNTA UNDER\",'Daily Diary'!K:K,\"WIN\")","v":0},{"$f":"COUNTIFS('Daily Diary'!A:A,'Grafico Strategie Settimanali'!B339,'Daily Diary'!E:E,\"SCALPING\",'Daily Diary'!E:E,\"SCALPING\",'Daily Diary'!K:K,\"WIN\")","v":0},{"$f":"COUNTIFS('Daily Diary'!A:A,'Grafico Strategie Settimanali'!B339,'Daily Diary'!E:E,\"GT 90\",'Daily Diary'!E:E,\"GT 90\",'Daily Diary'!K:K,\"WIN\")","v":0},{"$f":"COUNTIFS('Daily Diary'!A:A,'Grafico Strategie Settimanali'!B339,'Daily Diary'!E:E,\"GT 110\",'Daily Diary'!E:E,\"GT 110\",'Daily Diary'!K:K,\"WIN\")","v":0},{"$f":"COUNTIFS('Daily Diary'!A:A,'Grafico Strategie Settimanali'!B339,'Daily Diary'!E:E,\"ALERT GOAL\",'Daily Diary'!E:E,\"ALERT GOAL\",'Daily Diary'!K:K,\"WIN\")","v":0},{"$f":"COUNTIFS('Daily Diary'!A:A,'Grafico Strategie Settimanali'!B339,'Daily Diary'!E:E,\"DRAW NO BET\",'Daily Diary'!E:E,\"DRAW NO BET\",'Daily Diary'!K:K,\"WIN\")","v":0},{"$f":"COUNTIFS('Daily Diary'!A:A,'Grafico Strategie Settimanali'!B339,'Daily Diary'!E:E,\"ALTRO\",'Daily Diary'!E:E,\"ALTRO\",'Daily Diary'!K:K,\"WIN\")","v":0},{"$error":"#DIV/0!"},{"$error":"#DIV/0!"},{"$error":"#DIV/0!"},{"$error":"#DIV/0!"},{"$error":"#DIV/0!"},{"$error":"#DIV/0!"},{"$error":"#DIV/0!"},{"$error":"#DIV/0!"},{"$error":"#DIV/0!"},{"$error":"#DIV/0!"},{"$error":"#DIV/0!"},{"$error":"#DIV/0!"}]
[0,"2024-04-06",{"$f":"COUNTIFS('Daily Diary'!A:A,'Grafico Strategie Settimanali'!B340,'Daily Diary'!E:E,\"BANCA PAREGGIO\")","v":0},{"$f":"COUNTIFS('Daily Diary'!A:A,'Grafico Strategie Settimanali'!B340,'Daily Diary'!E:E,\"PUNTA SQ.CASA\")","v":0},{"$f":"COUNTIFS('Daily Diary'!A:A,'Grafico Strategie Settimanali'!B340,'Daily Diary'!E:E,\"PUNTA SQ.OSPITE\")","v":0},{"$f":"COUNTIFS('Daily Diary'!A:A,'Grafico Strategie Settimanali'!B340,'Daily Diary'!E:E,\"BANCA SFAVORITA\")","v":0},{"$f":"COUNTIFS('Daily Diary'!A:A,'Grafico Strategie Settimanali'!B340,'Daily Diary'!E:E,\"PUNTA OVER\")","v":0},{"$f":"COUNTIFS('Daily Diary'!A:A,'Grafico Strategie Settimanali'!B340,'Daily Diary'!E:E,\"PUNTA UNDER\")","v":0},{"$f":"COUNTIFS('Daily Diary'!A:A,'Grafico Strategie Settimanali'!B340,'Daily Diary'!E:E,\"SCALPING\")","v":0},{"$f":"COUNTIFS('Daily Diary'!A:A,'Grafico Strategie Settimanali'!B340,'Daily Diary'!E:E,\"GT90\")","v":0},{"$f":"COUNTIFS('Daily Diary'!A:A,'Grafico Strategie Settimanali'!B340,'Daily Diary'!E:E,\"GT110\")","v":0},{"$f":"COUNTIFS('Daily Diary'!A:A,'Grafico Strategie Settimanali'!B340,'Daily Diary'!E:E,\"ALERT GOAL\")","v":0},{"$f":"COUNTIFS('Daily Diary'!A:A,'Grafico Strategie Settimanali'!B340,'Daily Diary'!E:E,\"DRAW NO BET\")","v":0},{"$f":"COUNTIFS('Daily Diary'!A:A,'Grafico Strategie Settimanali'!B340,'Daily Diary'!E:E,\"ALTRO\")","v":0},{"$f":"COUNTIFS('Daily Diary'!A:A,'Grafico Strategie Settimanali'!B340,'Daily Diary'!E:E,\"BANCA PAREGGIO\",'Daily Diary'!E:E,\"BANCA PAREGGIO\",'Daily Diary'!K:K,\"WIN\")","v":0},{"$f":"COUNTIFS('Daily Diary'!A:A,'Grafico Strategie Settimanali'!B340,'Daily Diary'!E:E,\"PUNTA SQ.CASA\",'Daily Diary'!E:E,\"PUNTA SQ.CASA\",'Daily Diary'!K:K,\"WIN\")","v":0},{"$f":"COUNTIFS('Daily Diary'!A:A,'Grafico Strategie Settimanali'!B340,'Daily Diary'!E:E,\"PUNTA SQ.OSPITE\",'Daily Diary'!E:E,\"PUNTA SQ.OSPITE\",'Daily Diary'!K:K,\"WIN\")","v":0},{"$f":"COUNTIFS('Daily Diary'!A:A,'Grafico Strategie Settimanali'!B340,'Daily Diary'!E:E,\"BANCA SFAVORITA\",'Daily Diary'!E:E,\"BANCA SFAVORITA\",'Daily Diary'!K:K,\"WIN\")","v":0},{"$f":"COUNTIFS('Daily Diary'!A:A,'Grafico Strategie Settimanali'!B340,'Daily Diary'!E:E,\"PUNTA OVER\",'Daily Diary'!E:E,\"PUNTA OVER\",'Daily Diary'!K:K,\"WIN\")","v":0},{"$f":"COUNTIFS('Daily Diary'!A:A,'Grafico Strategie Settimanali'!B340,'Daily Diary'!E:E,\"PUNTA UNDER\",'Daily Diary'!E:E,\"PUNTA UNDER\",'Daily Diary'!K:K,\"WIN\")","v":0},{"$f":"COUNTIFS('Daily Diary'!A:A,'Grafico Strategie Settimanali'!B340,'Daily Diary'!E:E,\"SCALPING\",'Daily Diary'!E:E,\"SCALPING\",'Daily Diary'!K:K,\"WIN\")","v":0},{"$f":"COUNTIFS('Daily Diary'!A:A,'Grafico Strategie Settimanali'!B340,'Daily Diary'!E:E,\"GT 90\",'Daily Diary'!E:E,\"GT 90\",'Daily Diary'!K:K,\"WIN\")","v":0},{"$f":"COUNTIFS('Daily Diary'!A:A,'Grafico Strategie Settimanali'!B340,'Daily Diary'!E:E,\"GT 110\",'Daily Diary'!E:E,\"GT 110\",'Daily Diary'!K:K,\"WIN\")","v":0},{"$f":"COUNTIFS('Daily Diary'!A:A,'Grafico Strategie Settimanali'!B340,'Daily Diary'!E:E,\"ALERT GOAL\",'Daily Diary'!E:E,\"ALERT GOAL\",'Daily Diary'!K:K,\"WIN\")","v":0},{"$f":"COUNTIFS('Daily Diary'!A:A,'Grafico Strategie Settimanali'!B340,'Daily Diary'!E:E,\"DRAW NO BET\",'Daily Diary'!E:E,\"DRAW NO BET\",'Daily Diary'!K:K,\"WIN\")","v":0},{"$f":"COUNTIFS('Daily Diary'!A:A,'Grafico Strategie Settimanali'!B340,'Daily Diary'!E:E,\"ALTRO\",'Daily Diary'!E:E,\"ALTRO\",'Daily Diary'!K:K,\"WIN\")","v":0},{"$error":"#DIV/0!"},{"$error":"#DIV/0!"},{"$error":"#DIV/0!"},{"$error":"#DIV/0!"},{"$error":"#DIV/0!"},{"$error":"#DIV/0!"},{"$error":"#DIV/0!"},{"$error":"#DIV/0!"},{"$error":"#DIV/0!"},{"$error":"#DIV/0!"},{"$error":"#DIV/0!"},{"$error":"#DIV/0!"}]
[0,"2024-04-07",{"$f":"COUNTIFS('Daily Diary'!A:A,'Grafico Strategie Settimanali'!B341,'Daily Diary'!E:E,\"BANCA PAREGGIO\")","v":0},{"$f":"COUNTIFS('Daily Diary'!A:A,'Grafico Strategie Settimanali'!B341,'Daily Diary'!E:E,\"PUNTA SQ.CASA\")","v":0},{"$f":"COUNTIFS('Daily Diary'!A:A,'Grafico Strategie Settimanali'!B341,'Daily Diary'!E:E,\"PUNTA SQ.OSPITE\")","v":0},{"$f":"COUNTIFS('Daily Diary'!A:A,'Grafico Strategie Settimanali'!B341,'Daily Diary'!E:E,\"BANCA SFAVORITA\")","v":0},{"$f":"COUNTIFS('Daily Diary'!A:A,'Grafico Strategie Settimanali'!B341,'Daily Diary'!E:E,\"PUNTA OVER\")","v":0},{"$f":"COUNTIFS('Daily Diary'!A:A,'Grafico Strategie Settimanali'!B341,'Daily Diary'!E:E,\"PUNTA UNDER\")","v":0},{"$f":"COUNTIFS('Daily Diary'!A:A,'Grafico Strategie Settimanali'!B341,'Daily Diary'!E:E,\"SCALPING\")","v":0},{"$f":"COUNTIFS('Daily Diary'!A:A,'Grafico Strategie Settimanali'!B341,'Daily Diary'!E:E,\"GT90\")","v":0},{"$f":"COUNTIFS('Daily Diary'!A:A,'Grafico Strategie Settimanali'!B341,'Daily Diary'!E:E,\"GT110\")","v":0},{"$f":"COUNTIFS('Daily Diary'!A:A,'Grafico Strategie Settimanali'!B341,'Daily Diary'!E:E,\"ALERT GOAL\")","v":0},{"$f":"COUNTIFS('Daily Diary'!A:A,'Grafico Strategie Settimanali'!B341,'Daily Diary'!E:E,\"DRAW NO BET\")","v":0},{"$f":"COUNTIFS('Daily Diary'!A:A,'Grafico Strategie Settimanali'!B341,'Daily Diary'!E:E,\"ALTRO\")","v":0},{"$f":"COUNTIFS('Daily Diary'!A:A,'Grafico Strategie Settimanali'!B341,'Daily Diary'!E:E,\"BANCA PAREGGIO\",'Daily Diary'!E:E,\"BANCA PAREGGIO\",'Daily Diary'!K:K,\"WIN\")","v":0},{"$f":"COUNTIFS('Daily Diary'!A:A,'Grafico Strategie Settimanali'!B341,'Daily Diary'!E:E,\"PUNTA SQ.CASA\",'Daily Diary'!E:E,\"PUNTA SQ.CASA\",'Daily Diary'!K:K,\"WIN\")","v":0},{"$f":"COUNTIFS('Daily Diary'!A:A,'Grafico Strategie Settimanali'!B341,'Daily Diary'!E:E,\"PUNTA SQ.OSPITE\",'Daily Diary'!E:E,\"PUNTA SQ.OSPITE\",'Daily Diary'!K:K,\"WIN\")","v":0},{"$f":"COUNTIFS('Daily Diary'!A:A,'Grafico Strategie Settimanali'!B341,'Daily Diary'!E:E,\"BANCA SFAVORITA\",'Daily Diary'!E:E,\"BANCA SFAVORITA\",'Daily Diary'!K:K,\"WIN\")","v":0},{"$f":"COUNTIFS('Daily Diary'!A:A,'Grafico Strategie Settimanali'!B341,'Daily Diary'!E:E,\"PUNTA OVER\",'Daily Diary'!E:E,\"PUNTA OVER\",'Daily Diary'!K:K,\"WIN\")","v":0},{"$f":"COUNTIFS('Daily Diary'!A:A,'Grafico Strategie Settimanali'!B341,'Daily Diary'!E:E,\"PUNTA UNDER\",'Daily Diary'!E:E,\"PUNTA UNDER\",'Daily Diary'!K:K,\"WIN\")","v":0},{"$f":"COUNTIFS('Daily Diary'!A:A,'Grafico Strategie Settimanali'!B341,'Daily Diary'!E:E,\"SCALPING\",'Daily Diary'!E:E,\"SCALPING\",'Daily Diary'!K:K,\"WIN\")","v":0},{"$f":"COUNTIFS('Daily Diary'!A:A,'Grafico Strategie Settimanali'!B341,'Daily Diary'!E:E,\"GT 90\",'Daily Diary'!E:E,\"GT 90\",'Daily Diary'!K:K,\"WIN\")","v":0},{"$f":"COUNTIFS('Daily Diary'!A:A,'Grafico Strategie Settimanali'!B341,'Daily Diary'!E:E,\"GT 110\",'Daily Diary'!E:E,\"GT 110\",'Daily Diary'!K:K,\"WIN\")","v":0},{"$f":"COUNTIFS('Daily Diary'!A:A,'Grafico Strategie Settimanali'!B341,'Daily Diary'!E:E,\"ALERT GOAL\",'Daily Diary'!E:E,\"ALERT GOAL\",'Daily Diary'!K:K,\"WIN\")","v":0},{"$f":"COUNTIFS('Daily Diary'!A:A,'Grafico Strategie Settimanali'!B341,'Daily Diary'!E:E,\"DRAW NO BET\",'Daily Diary'!E:E,\"DRAW NO BET\",'Daily Diary'!K:K,\"WIN\")","v":0},{"$f":"COUNTIFS('Daily Diary'!A:A,'Grafico Strategie Settimanali'!B341,'Daily Diary'!E:E,\"ALTRO\",'Daily Diary'!E:E,\"ALTRO\",'Daily Diary'!K:K,\"WIN\")","v":0},{"$error":"#DIV/0!"},{"$error":"#DIV/0!"},{"$error":"#DIV/0!"},{"$error":"#DIV/0!"},{"$error":"#DIV/0!"},{"$error":"#DIV/0!"},{"$error":"#DIV/0!"},{"$error":"#DIV/0!"},{"$error":"#DIV/0!"},{"$error":"#DIV/0!"},{"$error":"#DIV/0!"},{"$error":"#DIV/0!"}]
[0,"2024-04-08",{"$f":"COUNTIFS('Daily Diary'!A:A,'Grafico Strategie Settimanali'!B342,'Daily Diary'!E:E,\"BANCA PAREGGIO\")","v":0},{"$f":"COUNTIFS('Daily Diary'!A:A,'Grafico Strategie Settimanali'!B342,'Daily Diary'!E:E,\"PUNTA SQ.CASA\")","v":0},{"$f":"COUNTIFS('Daily Diary'!A:A,'Grafico Strategie Settimanali'!B342,'Daily Diary'!E:E,\"PUNTA SQ.OSPITE\")","v":0},{"$f":"COUNTIFS('Daily Diary'!A:A,'Grafico Strategie Settimanali'!B342,'Daily Diary'!E:E,\"BANCA SFAVORITA\")","v":0},{"$f":"COUNTIFS('Daily Diary'!A:A,'Grafico Strategie Settimanali'!B342,'Daily Diary'!E:E,\"PUNTA OVER\")","v":0},{"$f":"COUNTIFS('Daily Diary'!A:A,'Grafico Strategie Settimanali'!B342,'Daily Diary'!E:E,\"PUNTA UNDER\")","v":0},{"$f":"COUNTIFS('Daily Diary'!A:A,'Grafico Strategie Settimanali'!B342,'Daily Diary'!E:E,\"SCALPING\")","v":0},{"$f":"COUNTIFS('Daily Diary'!A:A,'Grafico Strategie Settimanali'!B342,'Daily Diary'!E:E,\"GT90\")","v":0},{"$f":"COUNTIFS('Daily Diary'!A:A,'Grafico Strategie Settimanali'!B342,'Daily Diary'!E:E,\"GT110\")","v":0},{"$f":"COUNTIFS('Daily Diary'!A:A,'Grafico Strategie Settimanali'!B342,'Daily Diary'!E:E,\"ALERT GOAL\")","v":0},{"$f":"COUNTIFS('Daily Diary'!A:A,'Grafico Strategie Settimanali'!B342,'Daily Diary'!E:E,\"DRAW NO BET\")","v":0},{"$f":"COUNTIFS('Daily Diary'!A:A,'Grafico Strategie Settimanali'!B342,'Daily Diary'!E:E,\"ALTRO\")","v":0},{"$f":"COUNTIFS('Daily Diary'!A:A,'Grafico Strategie Settimanali'!B342,'Daily Diary'!E:E,\"BANCA PAREGGIO\",'Daily Diary'!E:E,\"BANCA PAREGGIO\",'Daily Diary'!K:K,\"WIN\")","v":0},{"$f":"COUNTIFS('Daily Diary'!A:A,'Grafico Strategie Settimanali'!B342,'Daily Diary'!E:E,\"PUNTA SQ.CASA\",'Daily Diary'!E:E,\"PUNTA SQ.CASA\",'Daily Diary'!K:K,\"WIN\")","v":0},{"$f":"COUNTIFS('Daily Diary'!A:A,'Grafico Strategie Settimanali'!B342,'Daily Diary'!E:E,\"PUNTA SQ.OSPITE\",'Daily Diary'!E:E,\"PUNTA SQ.OSPITE\",'Daily Diary'!K:K,\"WIN\")","v":0},{"$f":"COUNTIFS('Daily Diary'!A:A,'Grafico Strategie Settimanali'!B342,'Daily Diary'!E:E,\"BANCA SFAVORITA\",'Daily Diary'!E:E,\"BANCA SFAVORITA\",'Daily Diary'!K:K,\"WIN\")","v":0},{"$f":"COUNTIFS('Daily Diary'!A:A,'Grafico Strategie Settimanali'!B342,'Daily Diary'!E:E,\"PUNTA OVER\",'Daily Diary'!E:E,\"PUNTA OVER\",'Daily Diary'!K:K,\"WIN\")","v":0},{"$f":"COUNTIFS('Daily Diary'!A:A,'Grafico Strategie Settimanali'!B342,'Daily Diary'!E:E,\"PUNTA UNDER\",'Daily Diary'!E:E,\"PUNTA UNDER\",'Daily Diary'!K:K,\"WIN\")","v":0},{"$f":"COUNTIFS('Daily Diary'!A:A,'Grafico Strategie Settimanali'!B342,'Daily Diary'!E:E,\"SCALPING\",'Daily Diary'!E:E,\"SCALPING\",'Daily Diary'!K:K,\"WIN\")","v":0},{"$f":"COUNTIFS('Daily Diary'!A:A,'Grafico Strategie Settimanali'!B342,'Daily Diary'!E:E,\"GT 90\",'Daily Diary'!E:E,\"GT 90\",'Daily Diary'!K:K,\"WIN\")","v":0},{"$f":"COUNTIFS('Daily Diary'!A:A,'Grafico Strategie Settimanali'!B342,'Daily Diary'!E:E,\"GT 110\",'Daily Diary'!E:E,\"GT 110\",'Daily Diary'!K:K,\"WIN\")","v":0},{"$f":"COUNTIFS('Daily Diary'!A:A,'Grafico Strategie Settimanali'!B342,'Daily Diary'!E:E,\"ALERT GOAL\",'Daily Diary'!E:E,\"ALERT GOAL\",'Daily Diary'!K:K,\"WIN\")","v":0},{"$f":"COUNTIFS('Daily Diary'!A:A,'Grafico Strategie Settimanali'!B342,'Daily Diary'!E:E,\"DRAW NO BET\",'Daily Diary'!E:E,\"DRAW NO BET\",'Daily Diary'!K:K,\"WIN\")","v":0},{"$f":"COUNTIFS('Daily Diary'!A:A,'Grafico Strategie Settimanali'!B342,'Daily Diary'!E:E,\"ALTRO\",'Daily Diary'!E:E,\"ALTRO\",'Daily Diary'!K:K,\"WIN\")","v":0},{"$error":"#DIV/0!"},{"$error":"#DIV/0!"},{"$error":"#DIV/0!"},{"$error":"#DIV/0!"},{"$error":"#DIV/0!"},{"$error":"#DIV/0!"},{"$error":"#DIV/0!"},{"$error":"#DIV/0!"},{"$error":"#DIV/0!"},{"$error":"#DIV/0!"},{"$error":"#DIV/0!"},{"$error":"#DIV/0!"}]
[0,"2024-04-09",{"$f":"COUNTIFS('Daily Diary'!A:A,'Grafico Strategie Settimanali'!B343,'Daily Diary'!E:E,\"BANCA PAREGGIO\")","v":0},{"$f":"COUNTIFS('Daily Diary'!A:A,'Grafico Strategie Settimanali'!B343,'Daily Diary'!E:E,\"PUNTA SQ.CASA\")","v":0},{"$f":"COUNTIFS('Daily Diary'!A:A,'Grafico Strategie Settimanali'!B343,'Daily Diary'!E:E,\"PUNTA SQ.OSPITE\")","v":0},{"$f":"COUNTIFS('Daily Diary'!A:A,'Grafico Strategie Settimanali'!B343,'Daily Diary'!E:E,\"BANCA SFAVORITA\")","v":0},{"$f":"COUNTIFS('Daily Diary'!A:A,'Grafico Strategie Settimanali'!B343,'Daily Diary'!E:E,\"PUNTA OVER\")","v":0},{"$f":"COUNTIFS('Daily Diary'!A:A,'Grafico Strategie Settimanali'!B343,'Daily Diary'!E:E,\"PUNTA UNDER\")","v":0},{"$f":"COUNTIFS('Daily Diary'!A:A,'Grafico Strategie Settimanali'!B343,'Daily Diary'!E:E,\"SCALPING\")","v":0},{"$f":"COUNTIFS('Daily Diary'!A:A,'Grafico Strategie Settimanali'!B343,'Daily Diary'!E:E,\"GT90\")","v":0},{"$f":"COUNTIFS('Daily Diary'!A:A,'Grafico Strategie Settimanali'!B343,'Daily Diary'!E:E,\"GT110\")","v":0},{"$f":"COUNTIFS('Daily Diary'!A:A,'Grafico Strategie Settimanali'!B343,'Daily Diary'!E:E,\"ALERT GOAL\")","v":0},{"$f":"COUNTIFS('Daily Diary'!A:A,'Grafico Strategie Settimanali'!B343,'Daily Diary'!E:E,\"DRAW NO BET\")","v":0},{"$f":"COUNTIFS('Daily Diary'!A:A,'Grafico Strategie Settimanali'!B343,'Daily Diary'!E:E,\"ALTRO\")","v":0},{"$f":"COUNTIFS('Daily Diary'!A:A,'Grafico Strategie Settimanali'!B343,'Daily Diary'!E:E,\"BANCA PAREGGIO\",'Daily Diary'!E:E,\"BANCA PAREGGIO\",'Daily Diary'!K:K,\"WIN\")","v":0},{"$f":"COUNTIFS('Daily Diary'!A:A,'Grafico Strategie Settimanali'!B343,'Daily Diary'!E:E,\"PUNTA SQ.CASA\",'Daily Diary'!E:E,\"PUNTA SQ.CASA\",'Daily Diary'!K:K,\"WIN\")","v":0},{"$f":"COUNTIFS('Daily Diary'!A:A,'Grafico Strategie Settimanali'!B343,'Daily Diary'!E:E,\"PUNTA SQ.OSPITE\",'Daily Diary'!E:E,\"PUNTA SQ.OSPITE\",'Daily Diary'!K:K,\"WIN\")","v":0},{"$f":"COUNTIFS('Daily Diary'!A:A,'Grafico Strategie Settimanali'!B343,'Daily Diary'!E:E,\"BANCA SFAVORITA\",'Daily Diary'!E:E,\"BANCA SFAVORITA\",'Daily Diary'!K:K,\"WIN\")","v":0},{"$f":"COUNTIFS('Daily Diary'!A:A,'Grafico Strategie Settimanali'!B343,'Daily Diary'!E:E,\"PUNTA OVER\",'Daily Diary'!E:E,\"PUNTA OVER\",'Daily Diary'!K:K,\"WIN\")","v":0},{"$f":"COUNTIFS('Daily Diary'!A:A,'Grafico Strategie Settimanali'!B343,'Daily Diary'!E:E,\"PUNTA UNDER\",'Daily Diary'!E:E,\"PUNTA UNDER\",'Daily Diary'!K:K,\"WIN\")","v":0},{"$f":"COUNTIFS('Daily Diary'!A:A,'Grafico Strategie Settimanali'!B343,'Daily Diary'!E:E,\"SCALPING\",'Daily Diary'!E:E,\"SCALPING\",'Daily Diary'!K:K,\"WIN\")","v":0},{"$f":"COUNTIFS('Daily Diary'!A:A,'Grafico Strategie Settimanali'!B343,'Daily Diary'!E:E,\"GT 90\",'Daily Diary'!E:E,\"GT 90\",'Daily Diary'!K:K,\"WIN\")","v":0},{"$f":"COUNTIFS('Daily Diary'!A:A,'Grafico Strategie Settimanali'!B343,'Daily Diary'!E:E,\"GT 110\",'Daily Diary'!E:E,\"GT 110\",'Daily Diary'!K:K,\"WIN\")","v":0},{"$f":"COUNTIFS('Daily Diary'!A:A,'Grafico Strategie Settimanali'!B343,'Daily Diary'!E:E,\"ALERT GOAL\",'Daily Diary'!E:E,\"ALERT GOAL\",'Daily Diary'!K:K,\"WIN\")","v":0},{"$f":"COUNTIFS('Daily Diary'!A:A,'Grafico Strategie Settimanali'!B343,'Daily Diary'!E:E,\"DRAW NO BET\",'Daily Diary'!E:E,\"DRAW NO BET\",'Daily Diary'!K:K,\"WIN\")","v":0},{"$f":"COUNTIFS('Daily Diary'!A:A,'Grafico Strategie Settimanali'!B343,'Daily Diary'!E:E,\"ALTRO\",'Daily Diary'!E:E,\"ALTRO\",'Daily Diary'!K:K,\"WIN\")","v":0},{"$error":"#DIV/0!"},{"$error":"#DIV/0!"},{"$error":"#DIV/0!"},{"$error":"#DIV/0!"},{"$error":"#DIV/0!"},{"$error":"#DIV/0!"},{"$error":"#DIV/0!"},{"$error":"#DIV/0!"},{"$error":"#DIV/0!"},{"$error":"#DIV/0!"},{"$error":"#DIV/0!"},{"$error":"#DIV/0!"}]
[0,"2024-04-10",{"$f":"COUNTIFS('Daily Diary'!A:A,'Grafico Strategie Settimanali'!B344,'Daily Diary'!E:E,\"BANCA PAREGGIO\")","v":0},{"$f":"COUNTIFS('Daily Diary'!A:A,'Grafico Strategie Settimanali'!B344,'Daily Diary'!E:E,\"PUNTA SQ.CASA\")","v":0},{"$f":"COUNTIFS('Daily Diary'!A:A,'Grafico Strategie Settimanali'!B344,'Daily Diary'!E:E,\"PUNTA SQ.OSPITE\")","v":0},{"$f":"COUNTIFS('Daily Diary'!A:A,'Grafico Strategie Settimanali'!B344,'Daily Diary'!E:E,\"BANCA SFAVORITA\")","v":0},{"$f":"COUNTIFS('Daily Diary'!A:A,'Grafico Strategie Settimanali'!B344,'Daily Diary'!E:E,\"PUNTA OVER\")","v":0},{"$f":"COUNTIFS('Daily Diary'!A:A,'Grafico Strategie Settimanali'!B344,'Daily Diary'!E:E,\"PUNTA UNDER\")","v":0},{"$f":"COUNTIFS('Daily Diary'!A:A,'Grafico Strategie Settimanali'!B344,'Daily Diary'!E:E,\"SCALPING\")","v":0},{"$f":"COUNTIFS('Daily Diary'!A:A,'Grafico Strategie Settimanali'!B344,'Daily Diary'!E:E,\"GT90\")","v":0},{"$f":"COUNTIFS('Daily Diary'!A:A,'Grafico Strategie Settimanali'!B344,'Daily Diary'!E:E,\"GT110\")","v":0},{"$f":"COUNTIFS('Daily Diary'!A:A,'Grafico Strategie Settimanali'!B344,'Daily Diary'!E:E,\"ALERT GOAL\")","v":0},{"$f":"COUNTIFS('Daily Diary'!A:A,'Grafico Strategie Settimanali'!B344,'Daily Diary'!E:E,\"DRAW NO BET\")","v":0},{"$f":"COUNTIFS('Daily Diary'!A:A,'Grafico Strategie Settimanali'!B344,'Daily Diary'!E:E,\"ALTRO\")","v":0},{"$f":"COUNTIFS('Daily Diary'!A:A,'Grafico Strategie Settimanali'!B344,'Daily Diary'!E:E,\"BANCA PAREGGIO\",'Daily Diary'!E:E,\"BANCA PAREGGIO\",'Daily Diary'!K:K,\"WIN\")","v":0},{"$f":"COUNTIFS('Daily Diary'!A:A,'Grafico Strategie Settimanali'!B344,'Daily Diary'!E:E,\"PUNTA SQ.CASA\",'Daily Diary'!E:E,\"PUNTA SQ.CASA\",'Daily Diary'!K:K,\"WIN\")","v":0},{"$f":"COUNTIFS('Daily Diary'!A:A,'Grafico Strategie Settimanali'!B344,'Daily Diary'!E:E,\"PUNTA SQ.OSPITE\",'Daily Diary'!E:E,\"PUNTA SQ.OSPITE\",'Daily Diary'!K:K,\"WIN\")","v":0},{"$f":"COUNTIFS('Daily Diary'!A:A,'Grafico Strategie Settimanali'!B344,'Daily Diary'!E:E,\"BANCA SFAVORITA\",'Daily Diary'!E:E,\"BANCA SFAVORITA\",'Daily Diary'!K:K,\"WIN\")","v":0},{"$f":"COUNTIFS('Daily Diary'!A:A,'Grafico Strategie Settimanali'!B344,'Daily Diary'!E:E,\"PUNTA OVER\",'Daily Diary'!E:E,\"PUNTA OVER\",'Daily Diary'!K:K,\"WIN\")","v":0},{"$f":"COUNTIFS('Daily Diary'!A:A,'Grafico Strategie Settimanali'!B344,'Daily Diary'!E:E,\"PUNTA UNDER\",'Daily Diary'!E:E,\"PUNTA UNDER\",'Daily Diary'!K:K,\"WIN\")","v":0},{"$f":"COUNTIFS('Daily Diary'!A:A,'Grafico Strategie Settimanali'!B344,'Daily Diary'!E:E,\"SCALPING\",'Daily Diary'!E:E,\"SCALPING\",'Daily Diary'!K:K,\"WIN\")","v":0},{"$f":"COUNTIFS('Daily Diary'!A:A,'Grafico Strategie Settimanali'!B344,'Daily Diary'!E:E,\"GT 90\",'Daily Diary'!E:E,\"GT 90\",'Daily Diary'!K:K,\"WIN\")","v":0},{"$f":"COUNTIFS('Daily Diary'!A:A,'Grafico Strategie Settimanali'!B344,'Daily Diary'!E:E,\"GT 110\",'Daily Diary'!E:E,\"GT 110\",'Daily Diary'!K:K,\"WIN\")","v":0},{"$f":"COUNTIFS('Daily Diary'!A:A,'Grafico Strategie Settimanali'!B344,'Daily Diary'!E:E,\"ALERT GOAL\",'Daily Diary'!E:E,\"ALERT GOAL\",'Daily Diary'!K:K,\"WIN\")","v":0},{"$f":"COUNTIFS('Daily Diary'!A:A,'Grafico Strategie Settimanali'!B344,'Daily Diary'!E:E,\"DRAW NO BET\",'Daily Diary'!E:E,\"DRAW NO BET\",'Daily Diary'!K:K,\"WIN\")","v":0},{"$f":"COUNTIFS('Daily Diary'!A:A,'Grafico Strategie Settimanali'!B344,'Daily Diary'!E:E,\"ALTRO\",'Daily Diary'!E:E,\"ALTRO\",'Daily Diary'!K:K,\"WIN\")","v":0},{"$error":"#DIV/0!"},{"$error":"#DIV/0!"},{"$error":"#DIV/0!"},{"$error":"#DIV/0!"},{"$error":"#DIV/0!"},{"$error":"#DIV/0!"},{"$error":"#DIV/0!"},{"$error":"#DIV/0!"},{"$error":"#DIV/0!"},{"$error":"#DIV/0!"},{"$error":"#DIV/0!"},{"$error":"#DIV/0!"}]
[0,"2024-04-11",{"$f":"COUNTIFS('Daily Diary'!A:A,'Grafico Strategie Settimanali'!B345,'Daily Diary'!E:E,\"BANCA PAREGGIO\")","v":0},{"$f":"COUNTIFS('Daily Diary'!A:A,'Grafico Strategie Settimanali'!B345,'Daily Diary'!E:E,\"PUNTA SQ.CASA\")","v":0},{"$f":"COUNTIFS('Daily Diary'!A:A,'Grafico Strategie Settimanali'!B345,'Daily Diary'!E:E,\"PUNTA SQ.OSPITE\")","v":0},{"$f":"COUNTIFS('Daily Diary'!A:A,'Grafico Strategie Settimanali'!B345,'Daily Diary'!E:E,\"BANCA SFAVORITA\")","v":0},{"$f":"COUNTIFS('Daily Diary'!A:A,'Grafico Strategie Settimanali'!B345,'Daily Diary'!E:E,\"PUNTA OVER\")","v":0},{"$f":"COUNTIFS('Daily Diary'!A:A,'Grafico Strategie Settimanali'!B345,'Daily Diary'!E:E,\"PUNTA UNDER\")","v":0},{"$f":"COUNTIFS('Daily Diary'!A:A,'Grafico Strategie Settimanali'!B345,'Daily Diary'!E:E,\"SCALPING\")","v":0},{"$f":"COUNTIFS('Daily Diary'!A:A,'Grafico Strategie Settimanali'!B345,'Daily Diary'!E:E,\"GT90\")","v":0},{"$f":"COUNTIFS('Daily Diary'!A:A,'Grafico Strategie Settimanali'!B345,'Daily Diary'!E:E,\"GT110\")","v":0},{"$f":"COUNTIFS('Daily Diary'!A:A,'Grafico Strategie Settimanali'!B345,'Daily Diary'!E:E,\"ALERT GOAL\")","v":0},{"$f":"COUNTIFS('Daily Diary'!A:A,'Grafico Strategie Settimanali'!B345,'Daily Diary'!E:E,\"DRAW NO BET\")","v":0},{"$f":"COUNTIFS('Daily Diary'!A:A,'Grafico Strategie Settimanali'!B345,'Daily Diary'!E:E,\"ALTRO\")","v":0},{"$f":"COUNTIFS('Daily Diary'!A:A,'Grafico Strategie Settimanali'!B345,'Daily Diary'!E:E,\"BANCA PAREGGIO\",'Daily Diary'!E:E,\"BANCA PAREGGIO\",'Daily Diary'!K:K,\"WIN\")","v":0},{"$f":"COUNTIFS('Daily Diary'!A:A,'Grafico Strategie Settimanali'!B345,'Daily Diary'!E:E,\"PUNTA SQ.CASA\",'Daily Diary'!E:E,\"PUNTA SQ.CASA\",'Daily Diary'!K:K,\"WIN\")","v":0},{"$f":"COUNTIFS('Daily Diary'!A:A,'Grafico Strategie Settimanali'!B345,'Daily Diary'!E:E,\"PUNTA SQ.OSPITE\",'Daily Diary'!E:E,\"PUNTA SQ.OSPITE\",'Daily Diary'!K:K,\"WIN\")","v":0},{"$f":"COUNTIFS('Daily Diary'!A:A,'Grafico Strategie Settimanali'!B345,'Daily Diary'!E:E,\"BANCA SFAVORITA\",'Daily Diary'!E:E,\"BANCA SFAVORITA\",'Daily Diary'!K:K,\"WIN\")","v":0},{"$f":"COUNTIFS('Daily Diary'!A:A,'Grafico Strategie Settimanali'!B345,'Daily Diary'!E:E,\"PUNTA OVER\",'Daily Diary'!E:E,\"PUNTA OVER\",'Daily Diary'!K:K,\"WIN\")","v":0},{"$f":"COUNTIFS('Daily Diary'!A:A,'Grafico Strategie Settimanali'!B345,'Daily Diary'!E:E,\"PUNTA UNDER\",'Daily Diary'!E:E,\"PUNTA UNDER\",'Daily Diary'!K:K,\"WIN\")","v":0},{"$f":"COUNTIFS('Daily Diary'!A:A,'Grafico Strategie Settimanali'!B345,'Daily Diary'!E:E,\"SCALPING\",'Daily Diary'!E:E,\"SCALPING\",'Daily Diary'!K:K,\"WIN\")","v":0},{"$f":"COUNTIFS('Daily Diary'!A:A,'Grafico Strategie Settimanali'!B345,'Daily Diary'!E:E,\"GT 90\",'Daily Diary'!E:E,\"GT 90\",'Daily Diary'!K:K,\"WIN\")","v":0},{"$f":"COUNTIFS('Daily Diary'!A:A,'Grafico Strategie Settimanali'!B345,'Daily Diary'!E:E,\"GT 110\",'Daily Diary'!E:E,\"GT 110\",'Daily Diary'!K:K,\"WIN\")","v":0},{"$f":"COUNTIFS('Daily Diary'!A:A,'Grafico Strategie Settimanali'!B345,'Daily Diary'!E:E,\"ALERT GOAL\",'Daily Diary'!E:E,\"ALERT GOAL\",'Daily Diary'!K:K,\"WIN\")","v":0},{"$f":"COUNTIFS('Daily Diary'!A:A,'Grafico Strategie Settimanali'!B345,'Daily Diary'!E:E,\"DRAW NO BET\",'Daily Diary'!E:E,\"DRAW NO BET\",'Daily Diary'!K:K,\"WIN\")","v":0},{"$f":"COUNTIFS('Daily Diary'!A:A,'Grafico Strategie Settimanali'!B345,'Daily Diary'!E:E,\"ALTRO\",'Daily Diary'!E:E,\"ALTRO\",'Daily Diary'!K:K,\"WIN\")","v":0},{"$error":"#DIV/0!"},{"$error":"#DIV/0!"},{"$error":"#DIV/0!"},{"$error":"#DIV/0!"},{"$error":"#DIV/0!"},{"$error":"#DIV/0!"},{"$error":"#DIV/0!"},{"$error":"#DIV/0!"},{"$error":"#DIV/0!"},{"$error":"#DIV/0!"},{"$error":"#DIV/0!"},{"$error":"#DIV/0!"}]
[0,"2024-04-12",{"$f":"COUNTIFS('Daily Diary'!A:A,'Grafico Strategie Settimanali'!B346,'Daily Diary'!E:E,\"BANCA PAREGGIO\")","v":0},{"$f":"COUNTIFS('Daily Diary'!A:A,'Grafico Strategie Settimanali'!B346,'Daily Diary'!E:E,\"PUNTA SQ.CASA\")","v":0},{"$f":"COUNTIFS('Daily Diary'!A:A,'Grafico Strategie Settimanali'!B346,'Daily Diary'!E:E,\"PUNTA SQ.OSPITE\")","v":0},{"$f":"COUNTIFS('Daily Diary'!A:A,'Grafico Strategie Settimanali'!B346,'Daily Diary'!E:E,\"BANCA SFAVORITA\")","v":0},{"$f":"COUNTIFS('Daily Diary'!A:A,'Grafico Strategie Settimanali'!B346,'Daily Diary'!E:E,\"PUNTA OVER\")","v":0},{"$f":"COUNTIFS('Daily Diary'!A:A,'Grafico Strategie Settimanali'!B346,'Daily Diary'!E:E,\"PUNTA UNDER\")","v":0},{"$f":"COUNTIFS('Daily Diary'!A:A,'Grafico Strategie Settimanali'!B346,'Daily Diary'!E:E,\"SCALPING\")","v":0},{"$f":"COUNTIFS('Daily Diary'!A:A,'Grafico Strategie Settimanali'!B346,'Daily Diary'!E:E,\"GT90\")","v":0},{"$f":"COUNTIFS('Daily Diary'!A:A,'Grafico Strategie Settimanali'!B346,'Daily Diary'!E:E,\"GT110\")","v":0},{"$f":"COUNTIFS('Daily Diary'!A:A,'Grafico Strategie Settimanali'!B346,'Daily Diary'!E:E,\"ALERT GOAL\")","v":0},{"$f":"COUNTIFS('Daily Diary'!A:A,'Grafico Strategie Settimanali'!B346,'Daily Diary'!E:E,\"DRAW NO BET\")","v":0},{"$f":"COUNTIFS('Daily Diary'!A:A,'Grafico Strategie Settimanali'!B346,'Daily Diary'!E:E,\"ALTRO\")","v":0},{"$f":"COUNTIFS('Daily Diary'!A:A,'Grafico Strategie Settimanali'!B346,'Daily Diary'!E:E,\"BANCA PAREGGIO\",'Daily Diary'!E:E,\"BANCA PAREGGIO\",'Daily Diary'!K:K,\"WIN\")","v":0},{"$f":"COUNTIFS('Daily Diary'!A:A,'Grafico Strategie Settimanali'!B346,'Daily Diary'!E:E,\"PUNTA SQ.CASA\",'Daily Diary'!E:E,\"PUNTA SQ.CASA\",'Daily Diary'!K:K,\"WIN\")","v":0},{"$f":"COUNTIFS('Daily Diary'!A:A,'Grafico Strategie Settimanali'!B346,'Daily Diary'!E:E,\"PUNTA SQ.OSPITE\",'Daily Diary'!E:E,\"PUNTA SQ.OSPITE\",'Daily Diary'!K:K,\"WIN\")","v":0},{"$f":"COUNTIFS('Daily Diary'!A:A,'Grafico Strategie Settimanali'!B346,'Daily Diary'!E:E,\"BANCA SFAVORITA\",'Daily Diary'!E:E,\"BANCA SFAVORITA\",'Daily Diary'!K:K,\"WIN\")","v":0},{"$f":"COUNTIFS('Daily Diary'!A:A,'Grafico Strategie Settimanali'!B346,'Daily Diary'!E:E,\"PUNTA OVER\",'Daily Diary'!E:E,\"PUNTA OVER\",'Daily Diary'!K:K,\"WIN\")","v":0},{"$f":"COUNTIFS('Daily Diary'!A:A,'Grafico Strategie Settimanali'!B346,'Daily Diary'!E:E,\"PUNTA UNDER\",'Daily Diary'!E:E,\"PUNTA UNDER\",'Daily Diary'!K:K,\"WIN\")","v":0},{"$f":"COUNTIFS('Daily Diary'!A:A,'Grafico Strategie Settimanali'!B346,'Daily Diary'!E:E,\"SCALPING\",'Daily Diary'!E:E,\"SCALPING\",'Daily Diary'!K:K,\"WIN\")","v":0},{"$f":"COUNTIFS('Daily Diary'!A:A,'Grafico Strategie Settimanali'!B346,'Daily Diary'!E:E,\"GT 90\",'Daily Diary'!E:E,\"GT 90\",'Daily Diary'!K:K,\"WIN\")","v":0},{"$f":"COUNTIFS('Daily Diary'!A:A,'Grafico Strategie Settimanali'!B346,'Daily Diary'!E:E,\"GT 110\",'Daily Diary'!E:E,\"GT 110\",'Daily Diary'!K:K,\"WIN\")","v":0},{"$f":"COUNTIFS('Daily Diary'!A:A,'Grafico Strategie Settimanali'!B346,'Daily Diary'!E:E,\"ALERT GOAL\",'Daily Diary'!E:E,\"ALERT GOAL\",'Daily Diary'!K:K,\"WIN\")","v":0},{"$f":"COUNTIFS('Daily Diary'!A:A,'Grafico Strategie Settimanali'!B346,'Daily Diary'!E:E,\"DRAW NO BET\",'Daily Diary'!E:E,\"DRAW NO BET\",'Daily Diary'!K:K,\"WIN\")","v":0},{"$f":"COUNTIFS('Daily Diary'!A:A,'Grafico Strategie Settimanali'!B346,'Daily Diary'!E:E,\"ALTRO\",'Daily Diary'!E:E,\"ALTRO\",'Daily Diary'!K:K,\"WIN\")","v":0},{"$error":"#DIV/0!"},{"$error":"#DIV/0!"},{"$error":"#DIV/0!"},{"$error":"#DIV/0!"},{"$error":"#DIV/0!"},{"$error":"#DIV/0!"},{"$error":"#DIV/0!"},{"$error":"#DIV/0!"},{"$error":"#DIV/0!"},{"$error":"#DIV/0!"},{"$error":"#DIV/0!"},{"$error":"#DIV/0!"}]
[0,"2024-04-13",{"$f":"COUNTIFS('Daily Diary'!A:A,'Grafico Strategie Settimanali'!B347,'Daily Diary'!E:E,\"BANCA PAREGGIO\")","v":0},{"$f":"COUNTIFS('Daily Diary'!A:A,'Grafico Strategie Settimanali'!B347,'Daily Diary'!E:E,\"PUNTA SQ.CASA\")","v":0},{"$f":"COUNTIFS('Daily Diary'!A:A,'Grafico Strategie Settimanali'!B347,'Daily Diary'!E:E,\"PUNTA SQ.OSPITE\")","v":0},{"$f":"COUNTIFS('Daily Diary'!A:A,'Grafico Strategie Settimanali'!B347,'Daily Diary'!E:E,\"BANCA SFAVORITA\")","v":0},{"$f":"COUNTIFS('Daily Diary'!A:A,'Grafico Strategie Settimanali'!B347,'Daily Diary'!E:E,\"PUNTA OVER\")","v":0},{"$f":"COUNTIFS('Daily Diary'!A:A,'Grafico Strategie Settimanali'!B347,'Daily Diary'!E:E,\"PUNTA UNDER\")","v":0},{"$f":"COUNTIFS('Daily Diary'!A:A,'Grafico Strategie Settimanali'!B347,'Daily Diary'!E:E,\"SCALPING\")","v":0},{"$f":"COUNTIFS('Daily Diary'!A:A,'Grafico Strategie Settimanali'!B347,'Daily Diary'!E:E,\"GT90\")","v":0},{"$f":"COUNTIFS('Daily Diary'!A:A,'Grafico Strategie Settimanali'!B347,'Daily Diary'!E:E,\"GT110\")","v":0},{"$f":"COUNTIFS('Daily Diary'!A:A,'Grafico Strategie Settimanali'!B347,'Daily Diary'!E:E,\"ALERT GOAL\")","v":0},{"$f":"COUNTIFS('Daily Diary'!A:A,'Grafico Strategie Settimanali'!B347,'Daily Diary'!E:E,\"DRAW NO BET\")","v":0},{"$f":"COUNTIFS('Daily Diary'!A:A,'Grafico Strategie Settimanali'!B347,'Daily Diary'!E:E,\"ALTRO\")","v":0},{"$f":"COUNTIFS('Daily Diary'!A:A,'Grafico Strategie Settimanali'!B347,'Daily Diary'!E:E,\"BANCA PAREGGIO\",'Daily Diary'!E:E,\"BANCA PAREGGIO\",'Daily Diary'!K:K,\"WIN\")","v":0},{"$f":"COUNTIFS('Daily Diary'!A:A,'Grafico Strategie Settimanali'!B347,'Daily Diary'!E:E,\"PUNTA SQ.CASA\",'Daily Diary'!E:E,\"PUNTA SQ.CASA\",'Daily Diary'!K:K,\"WIN\")","v":0},{"$f":"COUNTIFS('Daily Diary'!A:A,'Grafico Strategie Settimanali'!B347,'Daily Diary'!E:E,\"PUNTA SQ.OSPITE\",'Daily Diary'!E:E,\"PUNTA SQ.OSPITE\",'Daily Diary'!K:K,\"WIN\")","v":0},{"$f":"COUNTIFS('Daily Diary'!A:A,'Grafico Strategie Settimanali'!B347,'Daily Diary'!E:E,\"BANCA SFAVORITA\",'Daily Diary'!E:E,\"BANCA SFAVORITA\",'Daily Diary'!K:K,\"WIN\")","v":0},{"$f":"COUNTIFS('Daily Diary'!A:A,'Grafico Strategie Settimanali'!B347,'Daily Diary'!E:E,\"PUNTA OVER\",'Daily Diary'!E:E,\"PUNTA OVER\",'Daily Diary'!K:K,\"WIN\")","v":0},{"$f":"COUNTIFS('Daily Diary'!A:A,'Grafico Strategie Settimanali'!B347,'Daily Diary'!E:E,\"PUNTA UNDER\",'Daily Diary'!E:E,\"PUNTA UNDER\",'Daily Diary'!K:K,\"WIN\")","v":0},{"$f":"COUNTIFS('Daily Diary'!A:A,'Grafico Strategie Settimanali'!B347,'Daily Diary'!E:E,\"SCALPING\",'Daily Diary'!E:E,\"SCALPING\",'Daily Diary'!K:K,\"WIN\")","v":0},{"$f":"COUNTIFS('Daily Diary'!A:A,'Grafico Strategie Settimanali'!B347,'Daily Diary'!E:E,\"GT 90\",'Daily Diary'!E:E,\"GT 90\",'Daily Diary'!K:K,\"WIN\")","v":0},{"$f":"COUNTIFS('Daily Diary'!A:A,'Grafico Strategie Settimanali'!B347,'Daily Diary'!E:E,\"GT 110\",'Daily Diary'!E:E,\"GT 110\",'Daily Diary'!K:K,\"WIN\")","v":0},{"$f":"COUNTIFS('Daily Diary'!A:A,'Grafico Strategie Settimanali'!B347,'Daily Diary'!E:E,\"ALERT GOAL\",'Daily Diary'!E:E,\"ALERT GOAL\",'Daily Diary'!K:K,\"WIN\")","v":0},{"$f":"COUNTIFS('Daily Diary'!A:A,'Grafico Strategie Settimanali'!B347,'Daily Diary'!E:E,\"DRAW NO BET\",'Daily Diary'!E:E,\"DRAW NO BET\",'Daily Diary'!K:K,\"WIN\")","v":0},{"$f":"COUNTIFS('Daily Diary'!A:A,'Grafico Strategie Settimanali'!B347,'Daily Diary'!E:E,\"ALTRO\",'Daily Diary'!E:E,\"ALTRO\",'Daily Diary'!K:K,\"WIN\")","v":0},{"$error":"#DIV/0!"},{"$error":"#DIV/0!"},{"$error":"#DIV/0!"},{"$error":"#DIV/0!"},{"$error":"#DIV/0!"},{"$error":"#DIV/0!"},{"$error":"#DIV/0!"},{"$error":"#DIV/0!"},{"$error":"#DIV/0!"},{"$error":"#DIV/0!"},{"$error":"#DIV/0!"},{"$error":"#DIV/0!"}]
[0,"2024-04-14",{"$f":"COUNTIFS('Daily Diary'!A:A,'Grafico Strategie Settimanali'!B348,'Daily Diary'!E:E,\"BANCA PAREGGIO\")","v":0},{"$f":"COUNTIFS('Daily Diary'!A:A,'Grafico Strategie Settimanali'!B348,'Daily Diary'!E:E,\"PUNTA SQ.CASA\")","v":0},{"$f":"COUNTIFS('Daily Diary'!A:A,'Grafico Strategie Settimanali'!B348,'Daily Diary'!E:E,\"PUNTA SQ.OSPITE\")","v":0},{"$f":"COUNTIFS('Daily Diary'!A:A,'Grafico Strategie Settimanali'!B348,'Daily Diary'!E:E,\"BANCA SFAVORITA\")","v":0},{"$f":"COUNTIFS('Daily Diary'!A:A,'Grafico Strategie Settimanali'!B348,'Daily Diary'!E:E,\"PUNTA OVER\")","v":0},{"$f":"COUNTIFS('Daily Diary'!A:A,'Grafico Strategie Settimanali'!B348,'Daily Diary'!E:E,\"PUNTA UNDER\")","v":0},{"$f":"COUNTIFS('Daily Diary'!A:A,'Grafico Strategie Settimanali'!B348,'Daily Diary'!E:E,\"SCALPING\")","v":0},{"$f":"COUNTIFS('Daily Diary'!A:A,'Grafico Strategie Settimanali'!B348,'Daily Diary'!E:E,\"GT90\")","v":0},{"$f":"COUNTIFS('Daily Diary'!A:A,'Grafico Strategie Settimanali'!B348,'Daily Diary'!E:E,\"GT110\")","v":0},{"$f":"COUNTIFS('Daily Diary'!A:A,'Grafico Strategie Settimanali'!B348,'Daily Diary'!E:E,\"ALERT GOAL\")","v":0},{"$f":"COUNTIFS('Daily Diary'!A:A,'Grafico Strategie Settimanali'!B348,'Daily Diary'!E:E,\"DRAW NO BET\")","v":0},{"$f":"COUNTIFS('Daily Diary'!A:A,'Grafico Strategie Settimanali'!B348,'Daily Diary'!E:E,\"ALTRO\")","v":0},{"$f":"COUNTIFS('Daily Diary'!A:A,'Grafico Strategie Settimanali'!B348,'Daily Diary'!E:E,\"BANCA PAREGGIO\",'Daily Diary'!E:E,\"BANCA PAREGGIO\",'Daily Diary'!K:K,\"WIN\")","v":0},{"$f":"COUNTIFS('Daily Diary'!A:A,'Grafico Strategie Settimanali'!B348,'Daily Diary'!E:E,\"PUNTA SQ.CASA\",'Daily Diary'!E:E,\"PUNTA SQ.CASA\",'Daily Diary'!K:K,\"WIN\")","v":0},{"$f":"COUNTIFS('Daily Diary'!A:A,'Grafico Strategie Settimanali'!B348,'Daily Diary'!E:E,\"PUNTA SQ.OSPITE\",'Daily Diary'!E:E,\"PUNTA SQ.OSPITE\",'Daily Diary'!K:K,\"WIN\")","v":0},{"$f":"COUNTIFS('Daily Diary'!A:A,'Grafico Strategie Settimanali'!B348,'Daily Diary'!E:E,\"BANCA SFAVORITA\",'Daily Diary'!E:E,\"BANCA SFAVORITA\",'Daily Diary'!K:K,\"WIN\")","v":0},{"$f":"COUNTIFS('Daily Diary'!A:A,'Grafico Strategie Settimanali'!B348,'Daily Diary'!E:E,\"PUNTA OVER\",'Daily Diary'!E:E,\"PUNTA OVER\",'Daily Diary'!K:K,\"WIN\")","v":0},{"$f":"COUNTIFS('Daily Diary'!A:A,'Grafico Strategie Settimanali'!B348,'Daily Diary'!E:E,\"PUNTA UNDER\",'Daily Diary'!E:E,\"PUNTA UNDER\",'Daily Diary'!K:K,\"WIN\")","v":0},{"$f":"COUNTIFS('Daily Diary'!A:A,'Grafico Strategie Settimanali'!B348,'Daily Diary'!E:E,\"SCALPING\",'Daily Diary'!E:E,\"SCALPING\",'Daily Diary'!K:K,\"WIN\")","v":0},{"$f":"COUNTIFS('Daily Diary'!A:A,'Grafico Strategie Settimanali'!B348,'Daily Diary'!E:E,\"GT 90\",'Daily Diary'!E:E,\"GT 90\",'Daily Diary'!K:K,\"WIN\")","v":0},{"$f":"COUNTIFS('Daily Diary'!A:A,'Grafico Strategie Settimanali'!B348,'Daily Diary'!E:E,\"GT 110\",'Daily Diary'!E:E,\"GT 110\",'Daily Diary'!K:K,\"WIN\")","v":0},{"$f":"COUNTIFS('Daily Diary'!A:A,'Grafico Strategie Settimanali'!B348,'Daily Diary'!E:E,\"ALERT GOAL\",'Daily Diary'!E:E,\"ALERT GOAL\",'Daily Diary'!K:K,\"WIN\")","v":0},{"$f":"COUNTIFS('Daily Diary'!A:A,'Grafico Strategie Settimanali'!B348,'Daily Diary'!E:E,\"DRAW NO BET\",'Daily Diary'!E:E,\"DRAW NO BET\",'Daily Diary'!K:K,\"WIN\")","v":0},{"$f":"COUNTIFS('Daily Diary'!A:A,'Grafico Strategie Settimanali'!B348,'Daily Diary'!E:E,\"ALTRO\",'Daily Diary'!E:E,\"ALTRO\",'Daily Diary'!K:K,\"WIN\")","v":0},{"$error":"#DIV/0!"},{"$error":"#DIV/0!"},{"$error":"#DIV/0!"},{"$error":"#DIV/0!"},{"$error":"#DIV/0!"},{"$error":"#DIV/0!"},{"$error":"#DIV/0!"},{"$error":"#DIV/0!"},{"$error":"#DIV/0!"},{"$error":"#DIV/0!"},{"$error":"#DIV/0!"},{"$error":"#DIV/0!"}]
[0,"2024-04-15",{"$f":"COUNTIFS('Daily Diary'!A:A,'Grafico Strategie Settimanali'!B349,'Daily Diary'!E:E,\"BANCA PAREGGIO\")","v":0},{"$f":"COUNTIFS('Daily Diary'!A:A,'Grafico Strategie Settimanali'!B349,'Daily Diary'!E:E,\"PUNTA SQ.CASA\")","v":0},{"$f":"COUNTIFS('Daily Diary'!A:A,'Grafico Strategie Settimanali'!B349,'Daily Diary'!E:E,\"PUNTA SQ.OSPITE\")","v":0},{"$f":"COUNTIFS('Daily Diary'!A:A,'Grafico Strategie Settimanali'!B349,'Daily Diary'!E:E,\"BANCA SFAVORITA\")","v":0},{"$f":"COUNTIFS('Daily Diary'!A:A,'Grafico Strategie Settimanali'!B349,'Daily Diary'!E:E,\"PUNTA OVER\")","v":0},{"$f":"COUNTIFS('Daily Diary'!A:A,'Grafico Strategie Settimanali'!B349,'Daily Diary'!E:E,\"PUNTA UNDER\")","v":0},{"$f":"COUNTIFS('Daily Diary'!A:A,'Grafico Strategie Settimanali'!B349,'Daily Diary'!E:E,\"SCALPING\")","v":0},{"$f":"COUNTIFS('Daily Diary'!A:A,'Grafico Strategie Settimanali'!B349,'Daily Diary'!E:E,\"GT90\")","v":0},{"$f":"COUNTIFS('Daily Diary'!A:A,'Grafico Strategie Settimanali'!B349,'Daily Diary'!E:E,\"GT110\")","v":0},{"$f":"COUNTIFS('Daily Diary'!A:A,'Grafico Strategie Settimanali'!B349,'Daily Diary'!E:E,\"ALERT GOAL\")","v":0},{"$f":"COUNTIFS('Daily Diary'!A:A,'Grafico Strategie Settimanali'!B349,'Daily Diary'!E:E,\"DRAW NO BET\")","v":0},{"$f":"COUNTIFS('Daily Diary'!A:A,'Grafico Strategie Settimanali'!B349,'Daily Diary'!E:E,\"ALTRO\")","v":0},{"$f":"COUNTIFS('Daily Diary'!A:A,'Grafico Strategie Settimanali'!B349,'Daily Diary'!E:E,\"BANCA PAREGGIO\",'Daily Diary'!E:E,\"BANCA PAREGGIO\",'Daily Diary'!K:K,\"WIN\")","v":0},{"$f":"COUNTIFS('Daily Diary'!A:A,'Grafico Strategie Settimanali'!B349,'Daily Diary'!E:E,\"PUNTA SQ.CASA\",'Daily Diary'!E:E,\"PUNTA SQ.CASA\",'Daily Diary'!K:K,\"WIN\")","v":0},{"$f":"COUNTIFS('Daily Diary'!A:A,'Grafico Strategie Settimanali'!B349,'Daily Diary'!E:E,\"PUNTA SQ.OSPITE\",'Daily Diary'!E:E,\"PUNTA SQ.OSPITE\",'Daily Diary'!K:K,\"WIN\")","v":0},{"$f":"COUNTIFS('Daily Diary'!A:A,'Grafico Strategie Settimanali'!B349,'Daily Diary'!E:E,\"BANCA SFAVORITA\",'Daily Diary'!E:E,\"BANCA SFAVORITA\",'Daily Diary'!K:K,\"WIN\")","v":0},{"$f":"COUNTIFS('Daily Diary'!A:A,'Grafico Strategie Settimanali'!B349,'Daily Diary'!E:E,\"PUNTA OVER\",'Daily Diary'!E:E,\"PUNTA OVER\",'Daily Diary'!K:K,\"WIN\")","v":0},{"$f":"COUNTIFS('Daily Diary'!A:A,'Grafico Strategie Settimanali'!B349,'Daily Diary'!E:E,\"PUNTA UNDER\",'Daily Diary'!E:E,\"PUNTA UNDER\",'Daily Diary'!K:K,\"WIN\")","v":0},{"$f":"COUNTIFS('Daily Diary'!A:A,'Grafico Strategie Settimanali'!B349,'Daily Diary'!E:E,\"SCALPING\",'Daily Diary'!E:E,\"SCALPING\",'Daily Diary'!K:K,\"WIN\")","v":0},{"$f":"COUNTIFS('Daily Diary'!A:A,'Grafico Strategie Settimanali'!B349,'Daily Diary'!E:E,\"GT 90\",'Daily Diary'!E:E,\"GT 90\",'Daily Diary'!K:K,\"WIN\")","v":0},{"$f":"COUNTIFS('Daily Diary'!A:A,'Grafico Strategie Settimanali'!B349,'Daily Diary'!E:E,\"GT 110\",'Daily Diary'!E:E,\"GT 110\",'Daily Diary'!K:K,\"WIN\")","v":0},{"$f":"COUNTIFS('Daily Diary'!A:A,'Grafico Strategie Settimanali'!B349,'Daily Diary'!E:E,\"ALERT GOAL\",'Daily Diary'!E:E,\"ALERT GOAL\",'Daily Diary'!K:K,\"WIN\")","v":0},{"$f":"COUNTIFS('Daily Diary'!A:A,'Grafico Strategie Settimanali'!B349,'Daily Diary'!E:E,\"DRAW NO BET\",'Daily Diary'!E:E,\"DRAW NO BET\",'Daily Diary'!K:K,\"WIN\")","v":0},{"$f":"COUNTIFS('Daily Diary'!A:A,'Grafico Strategie Settimanali'!B349,'Daily Diary'!E:E,\"ALTRO\",'Daily Diary'!E:E,\"ALTRO\",'Daily Diary'!K:K,\"WIN\")","v":0},{"$error":"#DIV/0!"},{"$error":"#DIV/0!"},{"$error":"#DIV/0!"},{"$error":"#DIV/0!"},{"$error":"#DIV/0!"},{"$error":"#DIV/0!"},{"$error":"#DIV/0!"},{"$error":"#DIV/0!"},{"$error":"#DIV/0!"},{"$error":"#DIV/0!"},{"$error":"#DIV/0!"},{"$error":"#DIV/0!"}]
[0,"2024-04-16",{"$f":"COUNTIFS('Daily Diary'!A:A,'Grafico Strategie Settimanali'!B350,'Daily Diary'!E:E,\"BANCA PAREGGIO\")","v":0},{"$f":"COUNTIFS('Daily Diary'!A:A,'Grafico Strategie Settimanali'!B350,'Daily Diary'!E:E,\"PUNTA SQ.CASA\")","v":0},{"$f":"COUNTIFS('Daily Diary'!A:A,'Grafico Strategie Settimanali'!B350,'Daily Diary'!E:E,\"PUNTA SQ.OSPITE\")","v":0},{"$f":"COUNTIFS('Daily Diary'!A:A,'Grafico Strategie Settimanali'!B350,'Daily Diary'!E:E,\"BANCA SFAVORITA\")","v":0},{"$f":"COUNTIFS('Daily Diary'!A:A,'Grafico Strategie Settimanali'!B350,'Daily Diary'!E:E,\"PUNTA OVER\")","v":0},{"$f":"COUNTIFS('Daily Diary'!A:A,'Grafico Strategie Settimanali'!B350,'Daily Diary'!E:E,\"PUNTA UNDER\")","v":0},{"$f":"COUNTIFS('Daily Diary'!A:A,'Grafico Strategie Settimanali'!B350,'Daily Diary'!E:E,\"SCALPING\")","v":0},{"$f":"COUNTIFS('Daily Diary'!A:A,'Grafico Strategie Settimanali'!B350,'Daily Diary'!E:E,\"GT90\")","v":0},{"$f":"COUNTIFS('Daily Diary'!A:A,'Grafico Strategie Settimanali'!B350,'Daily Diary'!E:E,\"GT110\")","v":0},{"$f":"COUNTIFS('Daily Diary'!A:A,'Grafico Strategie Settimanali'!B350,'Daily Diary'!E:E,\"ALERT GOAL\")","v":0},{"$f":"COUNTIFS('Daily Diary'!A:A,'Grafico Strategie Settimanali'!B350,'Daily Diary'!E:E,\"DRAW NO BET\")","v":0},{"$f":"COUNTIFS('Daily Diary'!A:A,'Grafico Strategie Settimanali'!B350,'Daily Diary'!E:E,\"ALTRO\")","v":0},{"$f":"COUNTIFS('Daily Diary'!A:A,'Grafico Strategie Settimanali'!B350,'Daily Diary'!E:E,\"BANCA PAREGGIO\",'Daily Diary'!E:E,\"BANCA PAREGGIO\",'Daily Diary'!K:K,\"WIN\")","v":0},{"$f":"COUNTIFS('Daily Diary'!A:A,'Grafico Strategie Settimanali'!B350,'Daily Diary'!E:E,\"PUNTA SQ.CASA\",'Daily Diary'!E:E,\"PUNTA SQ.CASA\",'Daily Diary'!K:K,\"WIN\")","v":0},{"$f":"COUNTIFS('Daily Diary'!A:A,'Grafico Strategie Settimanali'!B350,'Daily Diary'!E:E,\"PUNTA SQ.OSPITE\",'Daily Diary'!E:E,\"PUNTA SQ.OSPITE\",'Daily Diary'!K:K,\"WIN\")","v":0},{"$f":"COUNTIFS('Daily Diary'!A:A,'Grafico Strategie Settimanali'!B350,'Daily Diary'!E:E,\"BANCA SFAVORITA\",'Daily Diary'!E:E,\"BANCA SFAVORITA\",'Daily Diary'!K:K,\"WIN\")","v":0},{"$f":"COUNTIFS('Daily Diary'!A:A,'Grafico Strategie Settimanali'!B350,'Daily Diary'!E:E,\"PUNTA OVER\",'Daily Diary'!E:E,\"PUNTA OVER\",'Daily Diary'!K:K,\"WIN\")","v":0},{"$f":"COUNTIFS('Daily Diary'!A:A,'Grafico Strategie Settimanali'!B350,'Daily Diary'!E:E,\"PUNTA UNDER\",'Daily Diary'!E:E,\"PUNTA UNDER\",'Daily Diary'!K:K,\"WIN\")","v":0},{"$f":"COUNTIFS('Daily Diary'!A:A,'Grafico Strategie Settimanali'!B350,'Daily Diary'!E:E,\"SCALPING\",'Daily Diary'!E:E,\"SCALPING\",'Daily Diary'!K:K,\"WIN\")","v":0},{"$f":"COUNTIFS('Daily Diary'!A:A,'Grafico Strategie Settimanali'!B350,'Daily Diary'!E:E,\"GT 90\",'Daily Diary'!E:E,\"GT 90\",'Daily Diary'!K:K,\"WIN\")","v":0},{"$f":"COUNTIFS('Daily Diary'!A:A,'Grafico Strategie Settimanali'!B350,'Daily Diary'!E:E,\"GT 110\",'Daily Diary'!E:E,\"GT 110\",'Daily Diary'!K:K,\"WIN\")","v":0},{"$f":"COUNTIFS('Daily Diary'!A:A,'Grafico Strategie Settimanali'!B350,'Daily Diary'!E:E,\"ALERT GOAL\",'Daily Diary'!E:E,\"ALERT GOAL\",'Daily Diary'!K:K,\"WIN\")","v":0},{"$f":"COUNTIFS('Daily Diary'!A:A,'Grafico Strategie Settimanali'!B350,'Daily Diary'!E:E,\"DRAW NO BET\",'Daily Diary'!E:E,\"DRAW NO BET\",'Daily Diary'!K:K,\"WIN\")","v":0},{"$f":"COUNTIFS('Daily Diary'!A:A,'Grafico Strategie Settimanali'!B350,'Daily Diary'!E:E,\"ALTRO\",'Daily Diary'!E:E,\"ALTRO\",'Daily Diary'!K:K,\"WIN\")","v":0},{"$error":"#DIV/0!"},{"$error":"#DIV/0!"},{"$error":"#DIV/0!"},{"$error":"#DIV/0!"},{"$error":"#DIV/0!"},{"$error":"#DIV/0!"},{"$error":"#DIV/0!"},{"$error":"#DIV/0!"},{"$error":"#DIV/0!"},{"$error":"#DIV/0!"},{"$error":"#DIV/0!"},{"$error":"#DIV/0!"}]
[0,"2024-04-17",{"$f":"COUNTIFS('Daily Diary'!A:A,'Grafico Strategie Settimanali'!B351,'Daily Diary'!E:E,\"BANCA PAREGGIO\")","v":0},{"$f":"COUNTIFS('Daily Diary'!A:A,'Grafico Strategie Settimanali'!B351,'Daily Diary'!E:E,\"PUNTA SQ.CASA\")","v":0},{"$f":"COUNTIFS('Daily Diary'!A:A,'Grafico Strategie Settimanali'!B351,'Daily Diary'!E:E,\"PUNTA SQ.OSPITE\")","v":0},{"$f":"COUNTIFS('Daily Diary'!A:A,'Grafico Strategie Settimanali'!B351,'Daily Diary'!E:E,\"BANCA SFAVORITA\")","v":0},{"$f":"COUNTIFS('Daily Diary'!A:A,'Grafico Strategie Settimanali'!B351,'Daily Diary'!E:E,\"PUNTA OVER\")","v":0},{"$f":"COUNTIFS('Daily Diary'!A:A,'Grafico Strategie Settimanali'!B351,'Daily Diary'!E:E,\"PUNTA UNDER\")","v":0},{"$f":"COUNTIFS('Daily Diary'!A:A,'Grafico Strategie Settimanali'!B351,'Daily Diary'!E:E,\"SCALPING\")","v":0},{"$f":"COUNTIFS('Daily Diary'!A:A,'Grafico Strategie Settimanali'!B351,'Daily Diary'!E:E,\"GT90\")","v":0},{"$f":"COUNTIFS('Daily Diary'!A:A,'Grafico Strategie Settimanali'!B351,'Daily Diary'!E:E,\"GT110\")","v":0},{"$f":"COUNTIFS('Daily Diary'!A:A,'Grafico Strategie Settimanali'!B351,'Daily Diary'!E:E,\"ALERT GOAL\")","v":0},{"$f":"COUNTIFS('Daily Diary'!A:A,'Grafico Strategie Settimanali'!B351,'Daily Diary'!E:E,\"DRAW NO BET\")","v":0},{"$f":"COUNTIFS('Daily Diary'!A:A,'Grafico Strategie Settimanali'!B351,'Daily Diary'!E:E,\"ALTRO\")","v":0},{"$f":"COUNTIFS('Daily Diary'!A:A,'Grafico Strategie Settimanali'!B351,'Daily Diary'!E:E,\"BANCA PAREGGIO\",'Daily Diary'!E:E,\"BANCA PAREGGIO\",'Daily Diary'!K:K,\"WIN\")","v":0},{"$f":"COUNTIFS('Daily Diary'!A:A,'Grafico Strategie Settimanali'!B351,'Daily Diary'!E:E,\"PUNTA SQ.CASA\",'Daily Diary'!E:E,\"PUNTA SQ.CASA\",'Daily Diary'!K:K,\"WIN\")","v":0},{"$f":"COUNTIFS('Daily Diary'!A:A,'Grafico Strategie Settimanali'!B351,'Daily Diary'!E:E,\"PUNTA SQ.OSPITE\",'Daily Diary'!E:E,\"PUNTA SQ.OSPITE\",'Daily Diary'!K:K,\"WIN\")","v":0},{"$f":"COUNTIFS('Daily Diary'!A:A,'Grafico Strategie Settimanali'!B351,'Daily Diary'!E:E,\"BANCA SFAVORITA\",'Daily Diary'!E:E,\"BANCA SFAVORITA\",'Daily Diary'!K:K,\"WIN\")","v":0},{"$f":"COUNTIFS('Daily Diary'!A:A,'Grafico Strategie Settimanali'!B351,'Daily Diary'!E:E,\"PUNTA OVER\",'Daily Diary'!E:E,\"PUNTA OVER\",'Daily Diary'!K:K,\"WIN\")","v":0},{"$f":"COUNTIFS('Daily Diary'!A:A,'Grafico Strategie Settimanali'!B351,'Daily Diary'!E:E,\"PUNTA UNDER\",'Daily Diary'!E:E,\"PUNTA UNDER\",'Daily Diary'!K:K,\"WIN\")","v":0},{"$f":"COUNTIFS('Daily Diary'!A:A,'Grafico Strategie Settimanali'!B351,'Daily Diary'!E:E,\"SCALPING\",'Daily Diary'!E:E,\"SCALPING\",'Daily Diary'!K:K,\"WIN\")","v":0},{"$f":"COUNTIFS('Daily Diary'!A:A,'Grafico Strategie Settimanali'!B351,'Daily Diary'!E:E,\"GT 90\",'Daily Diary'!E:E,\"GT 90\",'Daily Diary'!K:K,\"WIN\")","v":0},{"$f":"COUNTIFS('Daily Diary'!A:A,'Grafico Strategie Settimanali'!B351,'Daily Diary'!E:E,\"GT 110\",'Daily Diary'!E:E,\"GT 110\",'Daily Diary'!K:K,\"WIN\")","v":0},{"$f":"COUNTIFS('Daily Diary'!A:A,'Grafico Strategie Settimanali'!B351,'Daily Diary'!E:E,\"ALERT GOAL\",'Daily Diary'!E:E,\"ALERT GOAL\",'Daily Diary'!K:K,\"WIN\")","v":0},{"$f":"COUNTIFS('Daily Diary'!A:A,'Grafico Strategie Settimanali'!B351,'Daily Diary'!E:E,\"DRAW NO BET\",'Daily Diary'!E:E,\"DRAW NO BET\",'Daily Diary'!K:K,\"WIN\")","v":0},{"$f":"COUNTIFS('Daily Diary'!A:A,'Grafico Strategie Settimanali'!B351,'Daily Diary'!E:E,\"ALTRO\",'Daily Diary'!E:E,\"ALTRO\",'Daily Diary'!K:K,\"WIN\")","v":0},{"$error":"#DIV/0!"},{"$error":"#DIV/0!"},{"$error":"#DIV/0!"},{"$error":"#DIV/0!"},{"$error":"#DIV/0!"},{"$error":"#DIV/0!"},{"$error":"#DIV/0!"},{"$error":"#DIV/0!"},{"$error":"#DIV/0!"},{"$error":"#DIV/0!"},{"$error":"#DIV/0!"},{"$error":"#DIV/0!"}]
[0,"2024-04-18",{"$f":"COUNTIFS('Daily Diary'!A:A,'Grafico Strategie Settimanali'!B352,'Daily Diary'!E:E,\"BANCA PAREGGIO\")","v":0},{"$f":"COUNTIFS('Daily Diary'!A:A,'Grafico Strategie Settimanali'!B352,'Daily Diary'!E:E,\"PUNTA SQ.CASA\")","v":0},{"$f":"COUNTIFS('Daily Diary'!A:A,'Grafico Strategie Settimanali'!B352,'Daily Diary'!E:E,\"PUNTA SQ.OSPITE\")","v":0},{"$f":"COUNTIFS('Daily Diary'!A:A,'Grafico Strategie Settimanali'!B352,'Daily Diary'!E:E,\"BANCA SFAVORITA\")","v":0},{"$f":"COUNTIFS('Daily Diary'!A:A,'Grafico Strategie Settimanali'!B352,'Daily Diary'!E:E,\"PUNTA OVER\")","v":0},{"$f":"COUNTIFS('Daily Diary'!A:A,'Grafico Strategie Settimanali'!B352,'Daily Diary'!E:E,\"PUNTA UNDER\")","v":0},{"$f":"COUNTIFS('Daily Diary'!A:A,'Grafico Strategie Settimanali'!B352,'Daily Diary'!E:E,\"SCALPING\")","v":0},{"$f":"COUNTIFS('Daily Diary'!A:A,'Grafico Strategie Settimanali'!B352,'Daily Diary'!E:E,\"GT90\")","v":0},{"$f":"COUNTIFS('Daily Diary'!A:A,'Grafico Strategie Settimanali'!B352,'Daily Diary'!E:E,\"GT110\")","v":0},{"$f":"COUNTIFS('Daily Diary'!A:A,'Grafico Strategie Settimanali'!B352,'Daily Diary'!E:E,\"ALERT GOAL\")","v":0},{"$f":"COUNTIFS('Daily Diary'!A:A,'Grafico Strategie Settimanali'!B352,'Daily Diary'!E:E,\"DRAW NO BET\")","v":0},{"$f":"COUNTIFS('Daily Diary'!A:A,'Grafico Strategie Settimanali'!B352,'Daily Diary'!E:E,\"ALTRO\")","v":0},{"$f":"COUNTIFS('Daily Diary'!A:A,'Grafico Strategie Settimanali'!B352,'Daily Diary'!E:E,\"BANCA PAREGGIO\",'Daily Diary'!E:E,\"BANCA PAREGGIO\",'Daily Diary'!K:K,\"WIN\")","v":0},{"$f":"COUNTIFS('Daily Diary'!A:A,'Grafico Strategie Settimanali'!B352,'Daily Diary'!E:E,\"PUNTA SQ.CASA\",'Daily Diary'!E:E,\"PUNTA SQ.CASA\",'Daily Diary'!K:K,\"WIN\")","v":0},{"$f":"COUNTIFS('Daily Diary'!A:A,'Grafico Strategie Settimanali'!B352,'Daily Diary'!E:E,\"PUNTA SQ.OSPITE\",'Daily Diary'!E:E,\"PUNTA SQ.OSPITE\",'Daily Diary'!K:K,\"WIN\")","v":0},{"$f":"COUNTIFS('Daily Diary'!A:A,'Grafico Strategie Settimanali'!B352,'Daily Diary'!E:E,\"BANCA SFAVORITA\",'Daily Diary'!E:E,\"BANCA SFAVORITA\",'Daily Diary'!K:K,\"WIN\")","v":0},{"$f":"COUNTIFS('Daily Diary'!A:A,'Grafico Strategie Settimanali'!B352,'Daily Diary'!E:E,\"PUNTA OVER\",'Daily Diary'!E:E,\"PUNTA OVER\",'Daily Diary'!K:K,\"WIN\")","v":0},{"$f":"COUNTIFS('Daily Diary'!A:A,'Grafico Strategie Settimanali'!B352,'Daily Diary'!E:E,\"PUNTA UNDER\",'Daily Diary'!E:E,\"PUNTA UNDER\",'Daily Diary'!K:K,\"WIN\")","v":0},{"$f":"COUNTIFS('Daily Diary'!A:A,'Grafico Strategie Settimanali'!B352,'Daily Diary'!E:E,\"SCALPING\",'Daily Diary'!E:E,\"SCALPING\",'Daily Diary'!K:K,\"WIN\")","v":0},{"$f":"COUNTIFS('Daily Diary'!A:A,'Grafico Strategie Settimanali'!B352,'Daily Diary'!E:E,\"GT 90\",'Daily Diary'!E:E,\"GT 90\",'Daily Diary'!K:K,\"WIN\")","v":0},{"$f":"COUNTIFS('Daily Diary'!A:A,'Grafico Strategie Settimanali'!B352,'Daily Diary'!E:E,\"GT 110\",'Daily Diary'!E:E,\"GT 110\",'Daily Diary'!K:K,\"WIN\")","v":0},{"$f":"COUNTIFS('Daily Diary'!A:A,'Grafico Strategie Settimanali'!B352,'Daily Diary'!E:E,\"ALERT GOAL\",'Daily Diary'!E:E,\"ALERT GOAL\",'Daily Diary'!K:K,\"WIN\")","v":0},{"$f":"COUNTIFS('Daily Diary'!A:A,'Grafico Strategie Settimanali'!B352,'Daily Diary'!E:E,\"DRAW NO BET\",'Daily Diary'!E:E,\"DRAW NO BET\",'Daily Diary'!K:K,\"WIN\")","v":0},{"$f":"COUNTIFS('Daily Diary'!A:A,'Grafico Strategie Settimanali'!B352,'Daily Diary'!E:E,\"ALTRO\",'Daily Diary'!E:E,\"ALTRO\",'Daily Diary'!K:K,\"WIN\")","v":0},{"$error":"#DIV/0!"},{"$error":"#DIV/0!"},{"$error":"#DIV/0!"},{"$error":"#DIV/0!"},{"$error":"#DIV/0!"},{"$error":"#DIV/0!"},{"$error":"#DIV/0!"},{"$error":"#DIV/0!"},{"$error":"#DIV/0!"},{"$error":"#DIV/0!"},{"$error":"#DIV/0!"},{"$error":"#DIV/0!"}]
[0,"2024-04-19",{"$f":"COUNTIFS('Daily Diary'!A:A,'Grafico Strategie Settimanali'!B353,'Daily Diary'!E:E,\"BANCA PAREGGIO\")","v":0},{"$f":"COUNTIFS('Daily Diary'!A:A,'Grafico Strategie Settimanali'!B353,'Daily Diary'!E:E,\"PUNTA SQ.CASA\")","v":0},{"$f":"COUNTIFS('Daily Diary'!A:A,'Grafico Strategie Settimanali'!B353,'Daily Diary'!E:E,\"PUNTA SQ.OSPITE\")","v":0},{"$f":"COUNTIFS('Daily Diary'!A:A,'Grafico Strategie Settimanali'!B353,'Daily Diary'!E:E,\"BANCA SFAVORITA\")","v":0},{"$f":"COUNTIFS('Daily Diary'!A:A,'Grafico Strategie Settimanali'!B353,'Daily Diary'!E:E,\"PUNTA OVER\")","v":0},{"$f":"COUNTIFS('Daily Diary'!A:A,'Grafico Strategie Settimanali'!B353,'Daily Diary'!E:E,\"PUNTA UNDER\")","v":0},{"$f":"COUNTIFS('Daily Diary'!A:A,'Grafico Strategie Settimanali'!B353,'Daily Diary'!E:E,\"SCALPING\")","v":0},{"$f":"COUNTIFS('Daily Diary'!A:A,'Grafico Strategie Settimanali'!B353,'Daily Diary'!E:E,\"GT90\")","v":0},{"$f":"COUNTIFS('Daily Diary'!A:A,'Grafico Strategie Settimanali'!B353,'Daily Diary'!E:E,\"GT110\")","v":0},{"$f":"COUNTIFS('Daily Diary'!A:A,'Grafico Strategie Settimanali'!B353,'Daily Diary'!E:E,\"ALERT GOAL\")","v":0},{"$f":"COUNTIFS('Daily Diary'!A:A,'Grafico Strategie Settimanali'!B353,'Daily Diary'!E:E,\"DRAW NO BET\")","v":0},{"$f":"COUNTIFS('Daily Diary'!A:A,'Grafico Strategie Settimanali'!B353,'Daily Diary'!E:E,\"ALTRO\")","v":0},{"$f":"COUNTIFS('Daily Diary'!A:A,'Grafico Strategie Settimanali'!B353,'Daily Diary'!E:E,\"BANCA PAREGGIO\",'Daily Diary'!E:E,\"BANCA PAREGGIO\",'Daily Diary'!K:K,\"WIN\")","v":0},{"$f":"COUNTIFS('Daily Diary'!A:A,'Grafico Strategie Settimanali'!B353,'Daily Diary'!E:E,\"PUNTA SQ.CASA\",'Daily Diary'!E:E,\"PUNTA SQ.CASA\",'Daily Diary'!K:K,\"WIN\")","v":0},{"$f":"COUNTIFS('Daily Diary'!A:A,'Grafico Strategie Settimanali'!B353,'Daily Diary'!E:E,\"PUNTA SQ.OSPITE\",'Daily Diary'!E:E,\"PUNTA SQ.OSPITE\",'Daily Diary'!K:K,\"WIN\")","v":0},{"$f":"COUNTIFS('Daily Diary'!A:A,'Grafico Strategie Settimanali'!B353,'Daily Diary'!E:E,\"BANCA SFAVORITA\",'Daily Diary'!E:E,\"BANCA SFAVORITA\",'Daily Diary'!K:K,\"WIN\")","v":0},{"$f":"COUNTIFS('Daily Diary'!A:A,'Grafico Strategie Settimanali'!B353,'Daily Diary'!E:E,\"PUNTA OVER\",'Daily Diary'!E:E,\"PUNTA OVER\",'Daily Diary'!K:K,\"WIN\")","v":0},{"$f":"COUNTIFS('Daily Diary'!A:A,'Grafico Strategie Settimanali'!B353,'Daily Diary'!E:E,\"PUNTA UNDER\",'Daily Diary'!E:E,\"PUNTA UNDER\",'Daily Diary'!K:K,\"WIN\")","v":0},{"$f":"COUNTIFS('Daily Diary'!A:A,'Grafico Strategie Settimanali'!B353,'Daily Diary'!E:E,\"SCALPING\",'Daily Diary'!E:E,\"SCALPING\",'Daily Diary'!K:K,\"WIN\")","v":0},{"$f":"COUNTIFS('Daily Diary'!A:A,'Grafico Strategie Settimanali'!B353,'Daily Diary'!E:E,\"GT 90\",'Daily Diary'!E:E,\"GT 90\",'Daily Diary'!K:K,\"WIN\")","v":0},{"$f":"COUNTIFS('Daily Diary'!A:A,'Grafico Strategie Settimanali'!B353,'Daily Diary'!E:E,\"GT 110\",'Daily Diary'!E:E,\"GT 110\",'Daily Diary'!K:K,\"WIN\")","v":0},{"$f":"COUNTIFS('Daily Diary'!A:A,'Grafico Strategie Settimanali'!B353,'Daily Diary'!E:E,\"ALERT GOAL\",'Daily Diary'!E:E,\"ALERT GOAL\",'Daily Diary'!K:K,\"WIN\")","v":0},{"$f":"COUNTIFS('Daily Diary'!A:A,'Grafico Strategie Settimanali'!B353,'Daily Diary'!E:E,\"DRAW NO BET\",'Daily Diary'!E:E,\"DRAW NO BET\",'Daily Diary'!K:K,\"WIN\")","v":0},{"$f":"COUNTIFS('Daily Diary'!A:A,'Grafico Strategie Settimanali'!B353,'Daily Diary'!E:E,\"ALTRO\",'Daily Diary'!E:E,\"ALTRO\",'Daily Diary'!K:K,\"WIN\")","v":0},{"$error":"#DIV/0!"},{"$error":"#DIV/0!"},{"$error":"#DIV/0!"},{"$error":"#DIV/0!"},{"$error":"#DIV/0!"},{"$error":"#DIV/0!"},{"$error":"#DIV/0!"},{"$error":"#DIV/0!"},{"$error":"#DIV/0!"},{"$error":"#DIV/0!"},{"$error":"#DIV/0!"},{"$error":"#DIV/0!"}]
[0,"2024-04-20",{"$f":"COUNTIFS('Daily Diary'!A:A,'Grafico Strategie Settimanali'!B354,'Daily Diary'!E:E,\"BANCA PAREGGIO\")","v":0},{"$f":"COUNTIFS('Daily Diary'!A:A,'Grafico Strategie Settimanali'!B354,'Daily Diary'!E:E,\"PUNTA SQ.CASA\")","v":0},{"$f":"COUNTIFS('Daily Diary'!A:A,'Grafico Strategie Settimanali'!B354,'Daily Diary'!E:E,\"PUNTA SQ.OSPITE\")","v":0},{"$f":"COUNTIFS('Daily Diary'!A:A,'Grafico Strategie Settimanali'!B354,'Daily Diary'!E:E,\"BANCA SFAVORITA\")","v":0},{"$f":"COUNTIFS('Daily Diary'!A:A,'Grafico Strategie Settimanali'!B354,'Daily Diary'!E:E,\"PUNTA OVER\")","v":0},{"$f":"COUNTIFS('Daily Diary'!A:A,'Grafico Strategie Settimanali'!B354,'Daily Diary'!E:E,\"PUNTA UNDER\")","v":0},{"$f":"COUNTIFS('Daily Diary'!A:A,'Grafico Strategie Settimanali'!B354,'Daily Diary'!E:E,\"SCALPING\")","v":0},{"$f":"COUNTIFS('Daily Diary'!A:A,'Grafico Strategie Settimanali'!B354,'Daily Diary'!E:E,\"GT90\")","v":0},{"$f":"COUNTIFS('Daily Diary'!A:A,'Grafico Strategie Settimanali'!B354,'Daily Diary'!E:E,\"GT110\")","v":0},{"$f":"COUNTIFS('Daily Diary'!A:A,'Grafico Strategie Settimanali'!B354,'Daily Diary'!E:E,\"ALERT GOAL\")","v":0},{"$f":"COUNTIFS('Daily Diary'!A:A,'Grafico Strategie Settimanali'!B354,'Daily Diary'!E:E,\"DRAW NO BET\")","v":0},{"$f":"COUNTIFS('Daily Diary'!A:A,'Grafico Strategie Settimanali'!B354,'Daily Diary'!E:E,\"ALTRO\")","v":0},{"$f":"COUNTIFS('Daily Diary'!A:A,'Grafico Strategie Settimanali'!B354,'Daily Diary'!E:E,\"BANCA PAREGGIO\",'Daily Diary'!E:E,\"BANCA PAREGGIO\",'Daily Diary'!K:K,\"WIN\")","v":0},{"$f":"COUNTIFS('Daily Diary'!A:A,'Grafico Strategie Settimanali'!B354,'Daily Diary'!E:E,\"PUNTA SQ.CASA\",'Daily Diary'!E:E,\"PUNTA SQ.CASA\",'Daily Diary'!K:K,\"WIN\")","v":0},{"$f":"COUNTIFS('Daily Diary'!A:A,'Grafico Strategie Settimanali'!B354,'Daily Diary'!E:E,\"PUNTA SQ.OSPITE\",'Daily Diary'!E:E,\"PUNTA SQ.OSPITE\",'Daily Diary'!K:K,\"WIN\")","v":0},{"$f":"COUNTIFS('Daily Diary'!A:A,'Grafico Strategie Settimanali'!B354,'Daily Diary'!E:E,\"BANCA SFAVORITA\",'Daily Diary'!E:E,\"BANCA SFAVORITA\",'Daily Diary'!K:K,\"WIN\")","v":0},{"$f":"COUNTIFS('Daily Diary'!A:A,'Grafico Strategie Settimanali'!B354,'Daily Diary'!E:E,\"PUNTA OVER\",'Daily Diary'!E:E,\"PUNTA OVER\",'Daily Diary'!K:K,\"WIN\")","v":0},{"$f":"COUNTIFS('Daily Diary'!A:A,'Grafico Strategie Settimanali'!B354,'Daily Diary'!E:E,\"PUNTA UNDER\",'Daily Diary'!E:E,\"PUNTA UNDER\",'Daily Diary'!K:K,\"WIN\")","v":0},{"$f":"COUNTIFS('Daily Diary'!A:A,'Grafico Strategie Settimanali'!B354,'Daily Diary'!E:E,\"SCALPING\",'Daily Diary'!E:E,\"SCALPING\",'Daily Diary'!K:K,\"WIN\")","v":0},{"$f":"COUNTIFS('Daily Diary'!A:A,'Grafico Strategie Settimanali'!B354,'Daily Diary'!E:E,\"GT 90\",'Daily Diary'!E:E,\"GT 90\",'Daily Diary'!K:K,\"WIN\")","v":0},{"$f":"COUNTIFS('Daily Diary'!A:A,'Grafico Strategie Settimanali'!B354,'Daily Diary'!E:E,\"GT 110\",'Daily Diary'!E:E,\"GT 110\",'Daily Diary'!K:K,\"WIN\")","v":0},{"$f":"COUNTIFS('Daily Diary'!A:A,'Grafico Strategie Settimanali'!B354,'Daily Diary'!E:E,\"ALERT GOAL\",'Daily Diary'!E:E,\"ALERT GOAL\",'Daily Diary'!K:K,\"WIN\")","v":0},{"$f":"COUNTIFS('Daily Diary'!A:A,'Grafico Strategie Settimanali'!B354,'Daily Diary'!E:E,\"DRAW NO BET\",'Daily Diary'!E:E,\"DRAW NO BET\",'Daily Diary'!K:K,\"WIN\")","v":0},{"$f":"COUNTIFS('Daily Diary'!A:A,'Grafico Strategie Settimanali'!B354,'Daily Diary'!E:E,\"ALTRO\",'Daily Diary'!E:E,\"ALTRO\",'Daily Diary'!K:K,\"WIN\")","v":0},{"$error":"#DIV/0!"},{"$error":"#DIV/0!"},{"$error":"#DIV/0!"},{"$error":"#DIV/0!"},{"$error":"#DIV/0!"},{"$error":"#DIV/0!"},{"$error":"#DIV/0!"},{"$error":"#DIV/0!"},{"$error":"#DIV/0!"},{"$error":"#DIV/0!"},{"$error":"#DIV/0!"},{"$error":"#DIV/0!"}]
[0,"2024-04-21",{"$f":"COUNTIFS('Daily Diary'!A:A,'Grafico Strategie Settimanali'!B355,'Daily Diary'!E:E,\"BANCA PAREGGIO\")","v":0},{"$f":"COUNTIFS('Daily Diary'!A:A,'Grafico Strategie Settimanali'!B355,'Daily Diary'!E:E,\"PUNTA SQ.CASA\")","v":0},{"$f":"COUNTIFS('Daily Diary'!A:A,'Grafico Strategie Settimanali'!B355,'Daily Diary'!E:E,\"PUNTA SQ.OSPITE\")","v":0},{"$f":"COUNTIFS('Daily Diary'!A:A,'Grafico Strategie Settimanali'!B355,'Daily Diary'!E:E,\"BANCA SFAVORITA\")","v":0},{"$f":"COUNTIFS('Daily Diary'!A:A,'Grafico Strategie Settimanali'!B355,'Daily Diary'!E:E,\"PUNTA OVER\")","v":0},{"$f":"COUNTIFS('Daily Diary'!A:A,'Grafico Strategie Settimanali'!B355,'Daily Diary'!E:E,\"PUNTA UNDER\")","v":0},{"$f":"COUNTIFS('Daily Diary'!A:A,'Grafico Strategie Settimanali'!B355,'Daily Diary'!E:E,\"SCALPING\")","v":0},{"$f":"COUNTIFS('Daily Diary'!A:A,'Grafico Strategie Settimanali'!B355,'Daily Diary'!E:E,\"GT90\")","v":0},{"$f":"COUNTIFS('Daily Diary'!A:A,'Grafico Strategie Settimanali'!B355,'Daily Diary'!E:E,\"GT110\")","v":0},{"$f":"COUNTIFS('Daily Diary'!A:A,'Grafico Strategie Settimanali'!B355,'Daily Diary'!E:E,\"ALERT GOAL\")","v":0},{"$f":"COUNTIFS('Daily Diary'!A:A,'Grafico Strategie Settimanali'!B355,'Daily Diary'!E:E,\"DRAW NO BET\")","v":0},{"$f":"COUNTIFS('Daily Diary'!A:A,'Grafico Strategie Settimanali'!B355,'Daily Diary'!E:E,\"ALTRO\")","v":0},{"$f":"COUNTIFS('Daily Diary'!A:A,'Grafico Strategie Settimanali'!B355,'Daily Diary'!E:E,\"BANCA PAREGGIO\",'Daily Diary'!E:E,\"BANCA PAREGGIO\",'Daily Diary'!K:K,\"WIN\")","v":0},{"$f":"COUNTIFS('Daily Diary'!A:A,'Grafico Strategie Settimanali'!B355,'Daily Diary'!E:E,\"PUNTA SQ.CASA\",'Daily Diary'!E:E,\"PUNTA SQ.CASA\",'Daily Diary'!K:K,\"WIN\")","v":0},{"$f":"COUNTIFS('Daily Diary'!A:A,'Grafico Strategie Settimanali'!B355,'Daily Diary'!E:E,\"PUNTA SQ.OSPITE\",'Daily Diary'!E:E,\"PUNTA SQ.OSPITE\",'Daily Diary'!K:K,\"WIN\")","v":0},{"$f":"COUNTIFS('Daily Diary'!A:A,'Grafico Strategie Settimanali'!B355,'Daily Diary'!E:E,\"BANCA SFAVORITA\",'Daily Diary'!E:E,\"BANCA SFAVORITA\",'Daily Diary'!K:K,\"WIN\")","v":0},{"$f":"COUNTIFS('Daily Diary'!A:A,'Grafico Strategie Settimanali'!B355,'Daily Diary'!E:E,\"PUNTA OVER\",'Daily Diary'!E:E,\"PUNTA OVER\",'Daily Diary'!K:K,\"WIN\")","v":0},{"$f":"COUNTIFS('Daily Diary'!A:A,'Grafico Strategie Settimanali'!B355,'Daily Diary'!E:E,\"PUNTA UNDER\",'Daily Diary'!E:E,\"PUNTA UNDER\",'Daily Diary'!K:K,\"WIN\")","v":0},{"$f":"COUNTIFS('Daily Diary'!A:A,'Grafico Strategie Settimanali'!B355,'Daily Diary'!E:E,\"SCALPING\",'Daily Diary'!E:E,\"SCALPING\",'Daily Diary'!K:K,\"WIN\")","v":0},{"$f":"COUNTIFS('Daily Diary'!A:A,'Grafico Strategie Settimanali'!B355,'Daily Diary'!E:E,\"GT 90\",'Daily Diary'!E:E,\"GT 90\",'Daily Diary'!K:K,\"WIN\")","v":0},{"$f":"COUNTIFS('Daily Diary'!A:A,'Grafico Strategie Settimanali'!B355,'Daily Diary'!E:E,\"GT 110\",'Daily Diary'!E:E,\"GT 110\",'Daily Diary'!K:K,\"WIN\")","v":0},{"$f":"COUNTIFS('Daily Diary'!A:A,'Grafico Strategie Settimanali'!B355,'Daily Diary'!E:E,\"ALERT GOAL\",'Daily Diary'!E:E,\"ALERT GOAL\",'Daily Diary'!K:K,\"WIN\")","v":0},{"$f":"COUNTIFS('Daily Diary'!A:A,'Grafico Strategie Settimanali'!B355,'Daily Diary'!E:E,\"DRAW NO BET\",'Daily Diary'!E:E,\"DRAW NO BET\",'Daily Diary'!K:K,\"WIN\")","v":0},{"$f":"COUNTIFS('Daily Diary'!A:A,'Grafico Strategie Settimanali'!B355,'Daily Diary'!E:E,\"ALTRO\",'Daily Diary'!E:E,\"ALTRO\",'Daily Diary'!K:K,\"WIN\")","v":0},{"$error":"#DIV/0!"},{"$error":"#DIV/0!"},{"$error":"#DIV/0!"},{"$error":"#DIV/0!"},{"$error":"#DIV/0!"},{"$error":"#DIV/0!"},{"$error":"#DIV/0!"},{"$error":"#DIV/0!"},{"$error":"#DIV/0!"},{"$error":"#DIV/0!"},{"$error":"#DIV/0!"},{"$error":"#DIV/0!"}]
[0,"2024-04-22",{"$f":"COUNTIFS('Daily Diary'!A:A,'Grafico Strategie Settimanali'!B356,'Daily Diary'!E:E,\"BANCA PAREGGIO\")","v":0},{"$f":"COUNTIFS('Daily Diary'!A:A,'Grafico Strategie Settimanali'!B356,'Daily Diary'!E:E,\"PUNTA SQ.CASA\")","v":0},{"$f":"COUNTIFS('Daily Diary'!A:A,'Grafico Strategie Settimanali'!B356,'Daily Diary'!E:E,\"PUNTA SQ.OSPITE\")","v":0},{"$f":"COUNTIFS('Daily Diary'!A:A,'Grafico Strategie Settimanali'!B356,'Daily Diary'!E:E,\"BANCA SFAVORITA\")","v":0},{"$f":"COUNTIFS('Daily Diary'!A:A,'Grafico Strategie Settimanali'!B356,'Daily Diary'!E:E,\"PUNTA OVER\")","v":0},{"$f":"COUNTIFS('Daily Diary'!A:A,'Grafico Strategie Settimanali'!B356,'Daily Diary'!E:E,\"PUNTA UNDER\")","v":0},{"$f":"COUNTIFS('Daily Diary'!A:A,'Grafico Strategie Settimanali'!B356,'Daily Diary'!E:E,\"SCALPING\")","v":0},{"$f":"COUNTIFS('Daily Diary'!A:A,'Grafico Strategie Settimanali'!B356,'Daily Diary'!E:E,\"GT90\")","v":0},{"$f":"COUNTIFS('Daily Diary'!A:A,'Grafico Strategie Settimanali'!B356,'Daily Diary'!E:E,\"GT110\")","v":0},{"$f":"COUNTIFS('Daily Diary'!A:A,'Grafico Strategie Settimanali'!B356,'Daily Diary'!E:E,\"ALERT GOAL\")","v":0},{"$f":"COUNTIFS('Daily Diary'!A:A,'Grafico Strategie Settimanali'!B356,'Daily Diary'!E:E,\"DRAW NO BET\")","v":0},{"$f":"COUNTIFS('Daily Diary'!A:A,'Grafico Strategie Settimanali'!B356,'Daily Diary'!E:E,\"ALTRO\")","v":0},{"$f":"COUNTIFS('Daily Diary'!A:A,'Grafico Strategie Settimanali'!B356,'Daily Diary'!E:E,\"BANCA PAREGGIO\",'Daily Diary'!E:E,\"BANCA PAREGGIO\",'Daily Diary'!K:K,\"WIN\")","v":0},{"$f":"COUNTIFS('Daily Diary'!A:A,'Grafico Strategie Settimanali'!B356,'Daily Diary'!E:E,\"PUNTA SQ.CASA\",'Daily Diary'!E:E,\"PUNTA SQ.CASA\",'Daily Diary'!K:K,\"WIN\")","v":0},{"$f":"COUNTIFS('Daily Diary'!A:A,'Grafico Strategie Settimanali'!B356,'Daily Diary'!E:E,\"PUNTA SQ.OSPITE\",'Daily Diary'!E:E,\"PUNTA SQ.OSPITE\",'Daily Diary'!K:K,\"WIN\")","v":0},{"$f":"COUNTIFS('Daily Diary'!A:A,'Grafico Strategie Settimanali'!B356,'Daily Diary'!E:E,\"BANCA SFAVORITA\",'Daily Diary'!E:E,\"BANCA SFAVORITA\",'Daily Diary'!K:K,\"WIN\")","v":0},{"$f":"COUNTIFS('Daily Diary'!A:A,'Grafico Strategie Settimanali'!B356,'Daily Diary'!E:E,\"PUNTA OVER\",'Daily Diary'!E:E,\"PUNTA OVER\",'Daily Diary'!K:K,\"WIN\")","v":0},{"$f":"COUNTIFS('Daily Diary'!A:A,'Grafico Strategie Settimanali'!B356,'Daily Diary'!E:E,\"PUNTA UNDER\",'Daily Diary'!E:E,\"PUNTA UNDER\",'Daily Diary'!K:K,\"WIN\")","v":0},{"$f":"COUNTIFS('Daily Diary'!A:A,'Grafico Strategie Settimanali'!B356,'Daily Diary'!E:E,\"SCALPING\",'Daily Diary'!E:E,\"SCALPING\",'Daily Diary'!K:K,\"WIN\")","v":0},{"$f":"COUNTIFS('Daily Diary'!A:A,'Grafico Strategie Settimanali'!B356,'Daily Diary'!E:E,\"GT 90\",'Daily Diary'!E:E,\"GT 90\",'Daily Diary'!K:K,\"WIN\")","v":0},{"$f":"COUNTIFS('Daily Diary'!A:A,'Grafico Strategie Settimanali'!B356,'Daily Diary'!E:E,\"GT 110\",'Daily Diary'!E:E,\"GT 110\",'Daily Diary'!K:K,\"WIN\")","v":0},{"$f":"COUNTIFS('Daily Diary'!A:A,'Grafico Strategie Settimanali'!B356,'Daily Diary'!E:E,\"ALERT GOAL\",'Daily Diary'!E:E,\"ALERT GOAL\",'Daily Diary'!K:K,\"WIN\")","v":0},{"$f":"COUNTIFS('Daily Diary'!A:A,'Grafico Strategie Settimanali'!B356,'Daily Diary'!E:E,\"DRAW NO BET\",'Daily Diary'!E:E,\"DRAW NO BET\",'Daily Diary'!K:K,\"WIN\")","v":0},{"$f":"COUNTIFS('Daily Diary'!A:A,'Grafico Strategie Settimanali'!B356,'Daily Diary'!E:E,\"ALTRO\",'Daily Diary'!E:E,\"ALTRO\",'Daily Diary'!K:K,\"WIN\")","v":0},{"$error":"#DIV/0!"},{"$error":"#DIV/0!"},{"$error":"#DIV/0!"},{"$error":"#DIV/0!"},{"$error":"#DIV/0!"},{"$error":"#DIV/0!"},{"$error":"#DIV/0!"},{"$error":"#DIV/0!"},{"$error":"#DIV/0!"},{"$error":"#DIV/0!"},{"$error":"#DIV/0!"},{"$error":"#DIV/0!"}]
[0,"2024-04-23",{"$f":"COUNTIFS('Daily Diary'!A:A,'Grafico Strategie Settimanali'!B357,'Daily Diary'!E:E,\"BANCA PAREGGIO\")","v":0},{"$f":"COUNTIFS('Daily Diary'!A:A,'Grafico Strategie Settimanali'!B357,'Daily Diary'!E:E,\"PUNTA SQ.CASA\")","v":0},{"$f":"COUNTIFS('Daily Diary'!A:A,'Grafico Strategie Settimanali'!B357,'Daily Diary'!E:E,\"PUNTA SQ.OSPITE\")","v":0},{"$f":"COUNTIFS('Daily Diary'!A:A,'Grafico Strategie Settimanali'!B357,'Daily Diary'!E:E,\"BANCA SFAVORITA\")","v":0},{"$f":"COUNTIFS('Daily Diary'!A:A,'Grafico Strategie Settimanali'!B357,'Daily Diary'!E:E,\"PUNTA OVER\")","v":0},{"$f":"COUNTIFS('Daily Diary'!A:A,'Grafico Strategie Settimanali'!B357,'Daily Diary'!E:E,\"PUNTA UNDER\")","v":0},{"$f":"COUNTIFS('Daily Diary'!A:A,'Grafico Strategie Settimanali'!B357,'Daily Diary'!E:E,\"SCALPING\")","v":0},{"$f":"COUNTIFS('Daily Diary'!A:A,'Grafico Strategie Settimanali'!B357,'Daily Diary'!E:E,\"GT90\")","v":0},{"$f":"COUNTIFS('Daily Diary'!A:A,'Grafico Strategie Settimanali'!B357,'Daily Diary'!E:E,\"GT110\")","v":0},{"$f":"COUNTIFS('Daily Diary'!A:A,'Grafico Strategie Settimanali'!B357,'Daily Diary'!E:E,\"ALERT GOAL\")","v":0},{"$f":"COUNTIFS('Daily Diary'!A:A,'Grafico Strategie Settimanali'!B357,'Daily Diary'!E:E,\"DRAW NO BET\")","v":0},{"$f":"COUNTIFS('Daily Diary'!A:A,'Grafico Strategie Settimanali'!B357,'Daily Diary'!E:E,\"ALTRO\")","v":0},{"$f":"COUNTIFS('Daily Diary'!A:A,'Grafico Strategie Settimanali'!B357,'Daily Diary'!E:E,\"BANCA PAREGGIO\",'Daily Diary'!E:E,\"BANCA PAREGGIO\",'Daily Diary'!K:K,\"WIN\")","v":0},{"$f":"COUNTIFS('Daily Diary'!A:A,'Grafico Strategie Settimanali'!B357,'Daily Diary'!E:E,\"PUNTA SQ.CASA\",'Daily Diary'!E:E,\"PUNTA SQ.CASA\",'Daily Diary'!K:K,\"WIN\")","v":0},{"$f":"COUNTIFS('Daily Diary'!A:A,'Grafico Strategie Settimanali'!B357,'Daily Diary'!E:E,\"PUNTA SQ.OSPITE\",'Daily Diary'!E:E,\"PUNTA SQ.OSPITE\",'Daily Diary'!K:K,\"WIN\")","v":0},{"$f":"COUNTIFS('Daily Diary'!A:A,'Grafico Strategie Settimanali'!B357,'Daily Diary'!E:E,\"BANCA SFAVORITA\",'Daily Diary'!E:E,\"BANCA SFAVORITA\",'Daily Diary'!K:K,\"WIN\")","v":0},{"$f":"COUNTIFS('Daily Diary'!A:A,'Grafico Strategie Settimanali'!B357,'Daily Diary'!E:E,\"PUNTA OVER\",'Daily Diary'!E:E,\"PUNTA OVER\",'Daily Diary'!K:K,\"WIN\")","v":0},{"$f":"COUNTIFS('Daily Diary'!A:A,'Grafico Strategie Settimanali'!B357,'Daily Diary'!E:E,\"PUNTA UNDER\",'Daily Diary'!E:E,\"PUNTA UNDER\",'Daily Diary'!K:K,\"WIN\")","v":0},{"$f":"COUNTIFS('Daily Diary'!A:A,'Grafico Strategie Settimanali'!B357,'Daily Diary'!E:E,\"SCALPING\",'Daily Diary'!E:E,\"SCALPING\",'Daily Diary'!K:K,\"WIN\")","v":0},{"$f":"COUNTIFS('Daily Diary'!A:A,'Grafico Strategie Settimanali'!B357,'Daily Diary'!E:E,\"GT 90\",'Daily Diary'!E:E,\"GT 90\",'Daily Diary'!K:K,\"WIN\")","v":0},{"$f":"COUNTIFS('Daily Diary'!A:A,'Grafico Strategie Settimanali'!B357,'Daily Diary'!E:E,\"GT 110\",'Daily Diary'!E:E,\"GT 110\",'Daily Diary'!K:K,\"WIN\")","v":0},{"$f":"COUNTIFS('Daily Diary'!A:A,'Grafico Strategie Settimanali'!B357,'Daily Diary'!E:E,\"ALERT GOAL\",'Daily Diary'!E:E,\"ALERT GOAL\",'Daily Diary'!K:K,\"WIN\")","v":0},{"$f":"COUNTIFS('Daily Diary'!A:A,'Grafico Strategie Settimanali'!B357,'Daily Diary'!E:E,\"DRAW NO BET\",'Daily Diary'!E:E,\"DRAW NO BET\",'Daily Diary'!K:K,\"WIN\")","v":0},{"$f":"COUNTIFS('Daily Diary'!A:A,'Grafico Strategie Settimanali'!B357,'Daily Diary'!E:E,\"ALTRO\",'Daily Diary'!E:E,\"ALTRO\",'Daily Diary'!K:K,\"WIN\")","v":0},{"$error":"#DIV/0!"},{"$error":"#DIV/0!"},{"$error":"#DIV/0!"},{"$error":"#DIV/0!"},{"$error":"#DIV/0!"},{"$error":"#DIV/0!"},{"$error":"#DIV/0!"},{"$error":"#DIV/0!"},{"$error":"#DIV/0!"},{"$error":"#DIV/0!"},{"$error":"#DIV/0!"},{"$error":"#DIV/0!"}]
[0,"2024-04-24",{"$f":"COUNTIFS('Daily Diary'!A:A,'Grafico Strategie Settimanali'!B358,'Daily Diary'!E:E,\"BANCA PAREGGIO\")","v":0},{"$f":"COUNTIFS('Daily Diary'!A:A,'Grafico Strategie Settimanali'!B358,'Daily Diary'!E:E,\"PUNTA SQ.CASA\")","v":0},{"$f":"COUNTIFS('Daily Diary'!A:A,'Grafico Strategie Settimanali'!B358,'Daily Diary'!E:E,\"PUNTA SQ.OSPITE\")","v":0},{"$f":"COUNTIFS('Daily Diary'!A:A,'Grafico Strategie Settimanali'!B358,'Daily Diary'!E:E,\"BANCA SFAVORITA\")","v":0},{"$f":"COUNTIFS('Daily Diary'!A:A,'Grafico Strategie Settimanali'!B358,'Daily Diary'!E:E,\"PUNTA OVER\")","v":0},{"$f":"COUNTIFS('Daily Diary'!A:A,'Grafico Strategie Settimanali'!B358,'Daily Diary'!E:E,\"PUNTA UNDER\")","v":0},{"$f":"COUNTIFS('Daily Diary'!A:A,'Grafico Strategie Settimanali'!B358,'Daily Diary'!E:E,\"SCALPING\")","v":0},{"$f":"COUNTIFS('Daily Diary'!A:A,'Grafico Strategie Settimanali'!B358,'Daily Diary'!E:E,\"GT90\")","v":0},{"$f":"COUNTIFS('Daily Diary'!A:A,'Grafico Strategie Settimanali'!B358,'Daily Diary'!E:E,\"GT110\")","v":0},{"$f":"COUNTIFS('Daily Diary'!A:A,'Grafico Strategie Settimanali'!B358,'Daily Diary'!E:E,\"ALERT GOAL\")","v":0},{"$f":"COUNTIFS('Daily Diary'!A:A,'Grafico Strategie Settimanali'!B358,'Daily Diary'!E:E,\"DRAW NO BET\")","v":0},{"$f":"COUNTIFS('Daily Diary'!A:A,'Grafico Strategie Settimanali'!B358,'Daily Diary'!E:E,\"ALTRO\")","v":0},{"$f":"COUNTIFS('Daily Diary'!A:A,'Grafico Strategie Settimanali'!B358,'Daily Diary'!E:E,\"BANCA PAREGGIO\",'Daily Diary'!E:E,\"BANCA PAREGGIO\",'Daily Diary'!K:K,\"WIN\")","v":0},{"$f":"COUNTIFS('Daily Diary'!A:A,'Grafico Strategie Settimanali'!B358,'Daily Diary'!E:E,\"PUNTA SQ.CASA\",'Daily Diary'!E:E,\"PUNTA SQ.CASA\",'Daily Diary'!K:K,\"WIN\")","v":0},{"$f":"COUNTIFS('Daily Diary'!A:A,'Grafico Strategie Settimanali'!B358,'Daily Diary'!E:E,\"PUNTA SQ.OSPITE\",'Daily Diary'!E:E,\"PUNTA SQ.OSPITE\",'Daily Diary'!K:K,\"WIN\")","v":0},{"$f":"COUNTIFS('Daily Diary'!A:A,'Grafico Strategie Settimanali'!B358,'Daily Diary'!E:E,\"BANCA SFAVORITA\",'Daily Diary'!E:E,\"BANCA SFAVORITA\",'Daily Diary'!K:K,\"WIN\")","v":0},{"$f":"COUNTIFS('Daily Diary'!A:A,'Grafico Strategie Settimanali'!B358,'Daily Diary'!E:E,\"PUNTA OVER\",'Daily Diary'!E:E,\"PUNTA OVER\",'Daily Diary'!K:K,\"WIN\")","v":0},{"$f":"COUNTIFS('Daily Diary'!A:A,'Grafico Strategie Settimanali'!B358,'Daily Diary'!E:E,\"PUNTA UNDER\",'Daily Diary'!E:E,\"PUNTA UNDER\",'Daily Diary'!K:K,\"WIN\")","v":0},{"$f":"COUNTIFS('Daily Diary'!A:A,'Grafico Strategie Settimanali'!B358,'Daily Diary'!E:E,\"SCALPING\",'Daily Diary'!E:E,\"SCALPING\",'Daily Diary'!K:K,\"WIN\")","v":0},{"$f":"COUNTIFS('Daily Diary'!A:A,'Grafico Strategie Settimanali'!B358,'Daily Diary'!E:E,\"GT 90\",'Daily Diary'!E:E,\"GT 90\",'Daily Diary'!K:K,\"WIN\")","v":0},{"$f":"COUNTIFS('Daily Diary'!A:A,'Grafico Strategie Settimanali'!B358,'Daily Diary'!E:E,\"GT 110\",'Daily Diary'!E:E,\"GT 110\",'Daily Diary'!K:K,\"WIN\")","v":0},{"$f":"COUNTIFS('Daily Diary'!A:A,'Grafico Strategie Settimanali'!B358,'Daily Diary'!E:E,\"ALERT GOAL\",'Daily Diary'!E:E,\"ALERT GOAL\",'Daily Diary'!K:K,\"WIN\")","v":0},{"$f":"COUNTIFS('Daily Diary'!A:A,'Grafico Strategie Settimanali'!B358,'Daily Diary'!E:E,\"DRAW NO BET\",'Daily Diary'!E:E,\"DRAW NO BET\",'Daily Diary'!K:K,\"WIN\")","v":0},{"$f":"COUNTIFS('Daily Diary'!A:A,'Grafico Strategie Settimanali'!B358,'Daily Diary'!E:E,\"ALTRO\",'Daily Diary'!E:E,\"ALTRO\",'Daily Diary'!K:K,\"WIN\")","v":0},{"$error":"#DIV/0!"},{"$error":"#DIV/0!"},{"$error":"#DIV/0!"},{"$error":"#DIV/0!"},{"$error":"#DIV/0!"},{"$error":"#DIV/0!"},{"$error":"#DIV/0!"},{"$error":"#DIV/0!"},{"$error":"#DIV/0!"},{"$error":"#DIV/0!"},{"$error":"#DIV/0!"},{"$error":"#DIV/0!"}]
[0,"2024-04-25",{"$f":"COUNTIFS('Daily Diary'!A:A,'Grafico Strategie Settimanali'!B359,'Daily Diary'!E:E,\"BANCA PAREGGIO\")","v":0},{"$f":"COUNTIFS('Daily Diary'!A:A,'Grafico Strategie Settimanali'!B359,'Daily Diary'!E:E,\"PUNTA SQ.CASA\")","v":0},{"$f":"COUNTIFS('Daily Diary'!A:A,'Grafico Strategie Settimanali'!B359,'Daily Diary'!E:E,\"PUNTA SQ.OSPITE\")","v":0},{"$f":"COUNTIFS('Daily Diary'!A:A,'Grafico Strategie Settimanali'!B359,'Daily Diary'!E:E,\"BANCA SFAVORITA\")","v":0},{"$f":"COUNTIFS('Daily Diary'!A:A,'Grafico Strategie Settimanali'!B359,'Daily Diary'!E:E,\"PUNTA OVER\")","v":0},{"$f":"COUNTIFS('Daily Diary'!A:A,'Grafico Strategie Settimanali'!B359,'Daily Diary'!E:E,\"PUNTA UNDER\")","v":0},{"$f":"COUNTIFS('Daily Diary'!A:A,'Grafico Strategie Settimanali'!B359,'Daily Diary'!E:E,\"SCALPING\")","v":0},{"$f":"COUNTIFS('Daily Diary'!A:A,'Grafico Strategie Settimanali'!B359,'Daily Diary'!E:E,\"GT90\")","v":0},{"$f":"COUNTIFS('Daily Diary'!A:A,'Grafico Strategie Settimanali'!B359,'Daily Diary'!E:E,\"GT110\")","v":0},{"$f":"COUNTIFS('Daily Diary'!A:A,'Grafico Strategie Settimanali'!B359,'Daily Diary'!E:E,\"ALERT GOAL\")","v":0},{"$f":"COUNTIFS('Daily Diary'!A:A,'Grafico Strategie Settimanali'!B359,'Daily Diary'!E:E,\"DRAW NO BET\")","v":0},{"$f":"COUNTIFS('Daily Diary'!A:A,'Grafico Strategie Settimanali'!B359,'Daily Diary'!E:E,\"ALTRO\")","v":0},{"$f":"COUNTIFS('Daily Diary'!A:A,'Grafico Strategie Settimanali'!B359,'Daily Diary'!E:E,\"BANCA PAREGGIO\",'Daily Diary'!E:E,\"BANCA PAREGGIO\",'Daily Diary'!K:K,\"WIN\")","v":0},{"$f":"COUNTIFS('Daily Diary'!A:A,'Grafico Strategie Settimanali'!B359,'Daily Diary'!E:E,\"PUNTA SQ.CASA\",'Daily Diary'!E:E,\"PUNTA SQ.CASA\",'Daily Diary'!K:K,\"WIN\")","v":0},{"$f":"COUNTIFS('Daily Diary'!A:A,'Grafico Strategie Settimanali'!B359,'Daily Diary'!E:E,\"PUNTA SQ.OSPITE\",'Daily Diary'!E:E,\"PUNTA SQ.OSPITE\",'Daily Diary'!K:K,\"WIN\")","v":0},{"$f":"COUNTIFS('Daily Diary'!A:A,'Grafico Strategie Settimanali'!B359,'Daily Diary'!E:E,\"BANCA SFAVORITA\",'Daily Diary'!E:E,\"BANCA SFAVORITA\",'Daily Diary'!K:K,\"WIN\")","v":0},{"$f":"COUNTIFS('Daily Diary'!A:A,'Grafico Strategie Settimanali'!B359,'Daily Diary'!E:E,\"PUNTA OVER\",'Daily Diary'!E:E,\"PUNTA OVER\",'Daily Diary'!K:K,\"WIN\")","v":0},{"$f":"COUNTIFS('Daily Diary'!A:A,'Grafico Strategie Settimanali'!B359,'Daily Diary'!E:E,\"PUNTA UNDER\",'Daily Diary'!E:E,\"PUNTA UNDER\",'Daily Diary'!K:K,\"WIN\")","v":0},{"$f":"COUNTIFS('Daily Diary'!A:A,'Grafico Strategie Settimanali'!B359,'Daily Diary'!E:E,\"SCALPING\",'Daily Diary'!E:E,\"SCALPING\",'Daily Diary'!K:K,\"WIN\")","v":0},{"$f":"COUNTIFS('Daily Diary'!A:A,'Grafico Strategie Settimanali'!B359,'Daily Diary'!E:E,\"GT 90\",'Daily Diary'!E:E,\"GT 90\",'Daily Diary'!K:K,\"WIN\")","v":0},{"$f":"COUNTIFS('Daily Diary'!A:A,'Grafico Strategie Settimanali'!B359,'Daily Diary'!E:E,\"GT 110\",'Daily Diary'!E:E,\"GT 110\",'Daily Diary'!K:K,\"WIN\")","v":0},{"$f":"COUNTIFS('Daily Diary'!A:A,'Grafico Strategie Settimanali'!B359,'Daily Diary'!E:E,\"ALERT GOAL\",'Daily Diary'!E:E,\"ALERT GOAL\",'Daily Diary'!K:K,\"WIN\")","v":0},{"$f":"COUNTIFS('Daily Diary'!A:A,'Grafico Strategie Settimanali'!B359,'Daily Diary'!E:E,\"DRAW NO BET\",'Daily Diary'!E:E,\"DRAW NO BET\",'Daily Diary'!K:K,\"WIN\")","v":0},{"$f":"COUNTIFS('Daily Diary'!A:A,'Grafico Strategie Settimanali'!B359,'Daily Diary'!E:E,\"ALTRO\",'Daily Diary'!E:E,\"ALTRO\",'Daily Diary'!K:K,\"WIN\")","v":0},{"$error":"#DIV/0!"},{"$error":"#DIV/0!"},{"$error":"#DIV/0!"},{"$error":"#DIV/0!"},{"$error":"#DIV/0!"},{"$error":"#DIV/0!"},{"$error":"#DIV/0!"},{"$error":"#DIV/0!"},{"$error":"#DIV/0!"},{"$error":"#DIV/0!"},{"$error":"#DIV/0!"},{"$error":"#DIV/0!"}]
[0,"2024-04-26",{"$f":"COUNTIFS('Daily Diary'!A:A,'Grafico Strategie Settimanali'!B360,'Daily Diary'!E:E,\"BANCA PAREGGIO\")","v":0},{"$f":"COUNTIFS('Daily Diary'!A:A,'Grafico Strategie Settimanali'!B360,'Daily Diary'!E:E,\"PUNTA SQ.CASA\")","v":0},{"$f":"COUNTIFS('Daily Diary'!A:A,'Grafico Strategie Settimanali'!B360,'Daily Diary'!E:E,\"PUNTA SQ.OSPITE\")","v":0},{"$f":"COUNTIFS('Daily Diary'!A:A,'Grafico Strategie Settimanali'!B360,'Daily Diary'!E:E,\"BANCA SFAVORITA\")","v":0},{"$f":"COUNTIFS('Daily Diary'!A:A,'Grafico Strategie Settimanali'!B360,'Daily Diary'!E:E,\"PUNTA OVER\")","v":0},{"$f":"COUNTIFS('Daily Diary'!A:A,'Grafico Strategie Settimanali'!B360,'Daily Diary'!E:E,\"PUNTA UNDER\")","v":0},{"$f":"COUNTIFS('Daily Diary'!A:A,'Grafico Strategie Settimanali'!B360,'Daily Diary'!E:E,\"SCALPING\")","v":0},{"$f":"COUNTIFS('Daily Diary'!A:A,'Grafico Strategie Settimanali'!B360,'Daily Diary'!E:E,\"GT90\")","v":0},{"$f":"COUNTIFS('Daily Diary'!A:A,'Grafico Strategie Settimanali'!B360,'Daily Diary'!E:E,\"GT110\")","v":0},{"$f":"COUNTIFS('Daily Diary'!A:A,'Grafico Strategie Settimanali'!B360,'Daily Diary'!E:E,\"ALERT GOAL\")","v":0},{"$f":"COUNTIFS('Daily Diary'!A:A,'Grafico Strategie Settimanali'!B360,'Daily Diary'!E:E,\"DRAW NO BET\")","v":0},{"$f":"COUNTIFS('Daily Diary'!A:A,'Grafico Strategie Settimanali'!B360,'Daily Diary'!E:E,\"ALTRO\")","v":0},{"$f":"COUNTIFS('Daily Diary'!A:A,'Grafico Strategie Settimanali'!B360,'Daily Diary'!E:E,\"BANCA PAREGGIO\",'Daily Diary'!E:E,\"BANCA PAREGGIO\",'Daily Diary'!K:K,\"WIN\")","v":0},{"$f":"COUNTIFS('Daily Diary'!A:A,'Grafico Strategie Settimanali'!B360,'Daily Diary'!E:E,\"PUNTA SQ.CASA\",'Daily Diary'!E:E,\"PUNTA SQ.CASA\",'Daily Diary'!K:K,\"WIN\")","v":0},{"$f":"COUNTIFS('Daily Diary'!A:A,'Grafico Strategie Settimanali'!B360,'Daily Diary'!E:E,\"PUNTA SQ.OSPITE\",'Daily Diary'!E:E,\"PUNTA SQ.OSPITE\",'Daily Diary'!K:K,\"WIN\")","v":0},{"$f":"COUNTIFS('Daily Diary'!A:A,'Grafico Strategie Settimanali'!B360,'Daily Diary'!E:E,\"BANCA SFAVORITA\",'Daily Diary'!E:E,\"BANCA SFAVORITA\",'Daily Diary'!K:K,\"WIN\")","v":0},{"$f":"COUNTIFS('Daily Diary'!A:A,'Grafico Strategie Settimanali'!B360,'Daily Diary'!E:E,\"PUNTA OVER\",'Daily Diary'!E:E,\"PUNTA OVER\",'Daily Diary'!K:K,\"WIN\")","v":0},{"$f":"COUNTIFS('Daily Diary'!A:A,'Grafico Strategie Settimanali'!B360,'Daily Diary'!E:E,\"PUNTA UNDER\",'Daily Diary'!E:E,\"PUNTA UNDER\",'Daily Diary'!K:K,\"WIN\")","v":0},{"$f":"COUNTIFS('Daily Diary'!A:A,'Grafico Strategie Settimanali'!B360,'Daily Diary'!E:E,\"SCALPING\",'Daily Diary'!E:E,\"SCALPING\",'Daily Diary'!K:K,\"WIN\")","v":0},{"$f":"COUNTIFS('Daily Diary'!A:A,'Grafico Strategie Settimanali'!B360,'Daily Diary'!E:E,\"GT 90\",'Daily Diary'!E:E,\"GT 90\",'Daily Diary'!K:K,\"WIN\")","v":0},{"$f":"COUNTIFS('Daily Diary'!A:A,'Grafico Strategie Settimanali'!B360,'Daily Diary'!E:E,\"GT 110\",'Daily Diary'!E:E,\"GT 110\",'Daily Diary'!K:K,\"WIN\")","v":0},{"$f":"COUNTIFS('Daily Diary'!A:A,'Grafico Strategie Settimanali'!B360,'Daily Diary'!E:E,\"ALERT GOAL\",'Daily Diary'!E:E,\"ALERT GOAL\",'Daily Diary'!K:K,\"WIN\")","v":0},{"$f":"COUNTIFS('Daily Diary'!A:A,'Grafico Strategie Settimanali'!B360,'Daily Diary'!E:E,\"DRAW NO BET\",'Daily Diary'!E:E,\"DRAW NO BET\",'Daily Diary'!K:K,\"WIN\")","v":0},{"$f":"COUNTIFS('Daily Diary'!A:A,'Grafico Strategie Settimanali'!B360,'Daily Diary'!E:E,\"ALTRO\",'Daily Diary'!E:E,\"ALTRO\",'Daily Diary'!K:K,\"WIN\")","v":0},{"$error":"#DIV/0!"},{"$error":"#DIV/0!"},{"$error":"#DIV/0!"},{"$error":"#DIV/0!"},{"$error":"#DIV/0!"},{"$error":"#DIV/0!"},{"$error":"#DIV/0!"},{"$error":"#DIV/0!"},{"$error":"#DIV/0!"},{"$error":"#DIV/0!"},{"$error":"#DIV/0!"},{"$error":"#DIV/0!"}]
[0,"2024-04-27",{"$f":"COUNTIFS('Daily Diary'!A:A,'Grafico Strategie Settimanali'!B361,'Daily Diary'!E:E,\"BANCA PAREGGIO\")","v":0},{"$f":"COUNTIFS('Daily Diary'!A:A,'Grafico Strategie Settimanali'!B361,'Daily Diary'!E:E,\"PUNTA SQ.CASA\")","v":0},{"$f":"COUNTIFS('Daily Diary'!A:A,'Grafico Strategie Settimanali'!B361,'Daily Diary'!E:E,\"PUNTA SQ.OSPITE\")","v":0},{"$f":"COUNTIFS('Daily Diary'!A:A,'Grafico Strategie Settimanali'!B361,'Daily Diary'!E:E,\"BANCA SFAVORITA\")","v":0},{"$f":"COUNTIFS('Daily Diary'!A:A,'Grafico Strategie Settimanali'!B361,'Daily Diary'!E:E,\"PUNTA OVER\")","v":0},{"$f":"COUNTIFS('Daily Diary'!A:A,'Grafico Strategie Settimanali'!B361,'Daily Diary'!E:E,\"PUNTA UNDER\")","v":0},{"$f":"COUNTIFS('Daily Diary'!A:A,'Grafico Strategie Settimanali'!B361,'Daily Diary'!E:E,\"SCALPING\")","v":0},{"$f":"COUNTIFS('Daily Diary'!A:A,'Grafico Strategie Settimanali'!B361,'Daily Diary'!E:E,\"GT90\")","v":0},{"$f":"COUNTIFS('Daily Diary'!A:A,'Grafico Strategie Settimanali'!B361,'Daily Diary'!E:E,\"GT110\")","v":0},{"$f":"COUNTIFS('Daily Diary'!A:A,'Grafico Strategie Settimanali'!B361,'Daily Diary'!E:E,\"ALERT GOAL\")","v":0},{"$f":"COUNTIFS('Daily Diary'!A:A,'Grafico Strategie Settimanali'!B361,'Daily Diary'!E:E,\"DRAW NO BET\")","v":0},{"$f":"COUNTIFS('Daily Diary'!A:A,'Grafico Strategie Settimanali'!B361,'Daily Diary'!E:E,\"ALTRO\")","v":0},{"$f":"COUNTIFS('Daily Diary'!A:A,'Grafico Strategie Settimanali'!B361,'Daily Diary'!E:E,\"BANCA PAREGGIO\",'Daily Diary'!E:E,\"BANCA PAREGGIO\",'Daily Diary'!K:K,\"WIN\")","v":0},{"$f":"COUNTIFS('Daily Diary'!A:A,'Grafico Strategie Settimanali'!B361,'Daily Diary'!E:E,\"PUNTA SQ.CASA\",'Daily Diary'!E:E,\"PUNTA SQ.CASA\",'Daily Diary'!K:K,\"WIN\")","v":0},{"$f":"COUNTIFS('Daily Diary'!A:A,'Grafico Strategie Settimanali'!B361,'Daily Diary'!E:E,\"PUNTA SQ.OSPITE\",'Daily Diary'!E:E,\"PUNTA SQ.OSPITE\",'Daily Diary'!K:K,\"WIN\")","v":0},{"$f":"COUNTIFS('Daily Diary'!A:A,'Grafico Strategie Settimanali'!B361,'Daily Diary'!E:E,\"BANCA SFAVORITA\",'Daily Diary'!E:E,\"BANCA SFAVORITA\",'Daily Diary'!K:K,\"WIN\")","v":0},{"$f":"COUNTIFS('Daily Diary'!A:A,'Grafico Strategie Settimanali'!B361,'Daily Diary'!E:E,\"PUNTA OVER\",'Daily Diary'!E:E,\"PUNTA OVER\",'Daily Diary'!K:K,\"WIN\")","v":0},{"$f":"COUNTIFS('Daily Diary'!A:A,'Grafico Strategie Settimanali'!B361,'Daily Diary'!E:E,\"PUNTA UNDER\",'Daily Diary'!E:E,\"PUNTA UNDER\",'Daily Diary'!K:K,\"WIN\")","v":0},{"$f":"COUNTIFS('Daily Diary'!A:A,'Grafico Strategie Settimanali'!B361,'Daily Diary'!E:E,\"SCALPING\",'Daily Diary'!E:E,\"SCALPING\",'Daily Diary'!K:K,\"WIN\")","v":0},{"$f":"COUNTIFS('Daily Diary'!A:A,'Grafico Strategie Settimanali'!B361,'Daily Diary'!E:E,\"GT 90\",'Daily Diary'!E:E,\"GT 90\",'Daily Diary'!K:K,\"WIN\")","v":0},{"$f":"COUNTIFS('Daily Diary'!A:A,'Grafico Strategie Settimanali'!B361,'Daily Diary'!E:E,\"GT 110\",'Daily Diary'!E:E,\"GT 110\",'Daily Diary'!K:K,\"WIN\")","v":0},{"$f":"COUNTIFS('Daily Diary'!A:A,'Grafico Strategie Settimanali'!B361,'Daily Diary'!E:E,\"ALERT GOAL\",'Daily Diary'!E:E,\"ALERT GOAL\",'Daily Diary'!K:K,\"WIN\")","v":0},{"$f":"COUNTIFS('Daily Diary'!A:A,'Grafico Strategie Settimanali'!B361,'Daily Diary'!E:E,\"DRAW NO BET\",'Daily Diary'!E:E,\"DRAW NO BET\",'Daily Diary'!K:K,\"WIN\")","v":0},{"$f":"COUNTIFS('Daily Diary'!A:A,'Grafico Strategie Settimanali'!B361,'Daily Diary'!E:E,\"ALTRO\",'Daily Diary'!E:E,\"ALTRO\",'Daily Diary'!K:K,\"WIN\")","v":0},{"$error":"#DIV/0!"},{"$error":"#DIV/0!"},{"$error":"#DIV/0!"},{"$error":"#DIV/0!"},{"$error":"#DIV/0!"},{"$error":"#DIV/0!"},{"$error":"#DIV/0!"},{"$error":"#DIV/0!"},{"$error":"#DIV/0!"},{"$error":"#DIV/0!"},{"$error":"#DIV/0!"},{"$error":"#DIV/0!"}]
[0,"2024-04-28",{"$f":"COUNTIFS('Daily Diary'!A:A,'Grafico Strategie Settimanali'!B362,'Daily Diary'!E:E,\"BANCA PAREGGIO\")","v":0},{"$f":"COUNTIFS('Daily Diary'!A:A,'Grafico Strategie Settimanali'!B362,'Daily Diary'!E:E,\"PUNTA SQ.CASA\")","v":0},{"$f":"COUNTIFS('Daily Diary'!A:A,'Grafico Strategie Settimanali'!B362,'Daily Diary'!E:E,\"PUNTA SQ.OSPITE\")","v":0},{"$f":"COUNTIFS('Daily Diary'!A:A,'Grafico Strategie Settimanali'!B362,'Daily Diary'!E:E,\"BANCA SFAVORITA\")","v":0},{"$f":"COUNTIFS('Daily Diary'!A:A,'Grafico Strategie Settimanali'!B362,'Daily Diary'!E:E,\"PUNTA OVER\")","v":0},{"$f":"COUNTIFS('Daily Diary'!A:A,'Grafico Strategie Settimanali'!B362,'Daily Diary'!E:E,\"PUNTA UNDER\")","v":0},{"$f":"COUNTIFS('Daily Diary'!A:A,'Grafico Strategie Settimanali'!B362,'Daily Diary'!E:E,\"SCALPING\")","v":0},{"$f":"COUNTIFS('Daily Diary'!A:A,'Grafico Strategie Settimanali'!B362,'Daily Diary'!E:E,\"GT90\")","v":0},{"$f":"COUNTIFS('Daily Diary'!A:A,'Grafico Strategie Settimanali'!B362,'Daily Diary'!E:E,\"GT110\")","v":0},{"$f":"COUNTIFS('Daily Diary'!A:A,'Grafico Strategie Settimanali'!B362,'Daily Diary'!E:E,\"ALERT GOAL\")","v":0},{"$f":"COUNTIFS('Daily Diary'!A:A,'Grafico Strategie Settimanali'!B362,'Daily Diary'!E:E,\"DRAW NO BET\")","v":0},{"$f":"COUNTIFS('Daily Diary'!A:A,'Grafico Strategie Settimanali'!B362,'Daily Diary'!E:E,\"ALTRO\")","v":0},{"$f":"COUNTIFS('Daily Diary'!A:A,'Grafico Strategie Settimanali'!B362,'Daily Diary'!E:E,\"BANCA PAREGGIO\",'Daily Diary'!E:E,\"BANCA PAREGGIO\",'Daily Diary'!K:K,\"WIN\")","v":0},{"$f":"COUNTIFS('Daily Diary'!A:A,'Grafico Strategie Settimanali'!B362,'Daily Diary'!E:E,\"PUNTA SQ.CASA\",'Daily Diary'!E:E,\"PUNTA SQ.CASA\",'Daily Diary'!K:K,\"WIN\")","v":0},{"$f":"COUNTIFS('Daily Diary'!A:A,'Grafico Strategie Settimanali'!B362,'Daily Diary'!E:E,\"PUNTA SQ.OSPITE\",'Daily Diary'!E:E,\"PUNTA SQ.OSPITE\",'Daily Diary'!K:K,\"WIN\")","v":0},{"$f":"COUNTIFS('Daily Diary'!A:A,'Grafico Strategie Settimanali'!B362,'Daily Diary'!E:E,\"BANCA SFAVORITA\",'Daily Diary'!E:E,\"BANCA SFAVORITA\",'Daily Diary'!K:K,\"WIN\")","v":0},{"$f":"COUNTIFS('Daily Diary'!A:A,'Grafico Strategie Settimanali'!B362,'Daily Diary'!E:E,\"PUNTA OVER\",'Daily Diary'!E:E,\"PUNTA OVER\",'Daily Diary'!K:K,\"WIN\")","v":0},{"$f":"COUNTIFS('Daily Diary'!A:A,'Grafico Strategie Settimanali'!B362,'Daily Diary'!E:E,\"PUNTA UNDER\",'Daily Diary'!E:E,\"PUNTA UNDER\",'Daily Diary'!K:K,\"WIN\")","v":0},{"$f":"COUNTIFS('Daily Diary'!A:A,'Grafico Strategie Settimanali'!B362,'Daily Diary'!E:E,\"SCALPING\",'Daily Diary'!E:E,\"SCALPING\",'Daily Diary'!K:K,\"WIN\")","v":0},{"$f":"COUNTIFS('Daily Diary'!A:A,'Grafico Strategie Settimanali'!B362,'Daily Diary'!E:E,\"GT 90\",'Daily Diary'!E:E,\"GT 90\",'Daily Diary'!K:K,\"WIN\")","v":0},{"$f":"COUNTIFS('Daily Diary'!A:A,'Grafico Strategie Settimanali'!B362,'Daily Diary'!E:E,\"GT 110\",'Daily Diary'!E:E,\"GT 110\",'Daily Diary'!K:K,\"WIN\")","v":0},{"$f":"COUNTIFS('Daily Diary'!A:A,'Grafico Strategie Settimanali'!B362,'Daily Diary'!E:E,\"ALERT GOAL\",'Daily Diary'!E:E,\"ALERT GOAL\",'Daily Diary'!K:K,\"WIN\")","v":0},{"$f":"COUNTIFS('Daily Diary'!A:A,'Grafico Strategie Settimanali'!B362,'Daily Diary'!E:E,\"DRAW NO BET\",'Daily Diary'!E:E,\"DRAW NO BET\",'Daily Diary'!K:K,\"WIN\")","v":0},{"$f":"COUNTIFS('Daily Diary'!A:A,'Grafico Strategie Settimanali'!B362,'Daily Diary'!E:E,\"ALTRO\",'Daily Diary'!E:E,\"ALTRO\",'Daily Diary'!K:K,\"WIN\")","v":0},{"$error":"#DIV/0!"},{"$error":"#DIV/0!"},{"$error":"#DIV/0!"},{"$error":"#DIV/0!"},{"$error":"#DIV/0!"},{"$error":"#DIV/0!"},{"$error":"#DIV/0!"},{"$error":"#DIV/0!"},{"$error":"#DIV/0!"},{"$error":"#DIV/0!"},{"$error":"#DIV/0!"},{"$error":"#DIV/0!"}]
[0,"2024-04-29",{"$f":"COUNTIFS('Daily Diary'!A:A,'Grafico Strategie Settimanali'!B363,'Daily Diary'!E:E,\"BANCA PAREGGIO\")","v":0},{"$f":"COUNTIFS('Daily Diary'!A:A,'Grafico Strategie Settimanali'!B363,'Daily Diary'!E:E,\"PUNTA SQ.CASA\")","v":0},{"$f":"COUNTIFS('Daily Diary'!A:A,'Grafico Strategie Settimanali'!B363,'Daily Diary'!E:E,\"PUNTA SQ.OSPITE\")","v":0},{"$f":"COUNTIFS('Daily Diary'!A:A,'Grafico Strategie Settimanali'!B363,'Daily Diary'!E:E,\"BANCA SFAVORITA\")","v":0},{"$f":"COUNTIFS('Daily Diary'!A:A,'Grafico Strategie Settimanali'!B363,'Daily Diary'!E:E,\"PUNTA OVER\")","v":0},{"$f":"COUNTIFS('Daily Diary'!A:A,'Grafico Strategie Settimanali'!B363,'Daily Diary'!E:E,\"PUNTA UNDER\")","v":0},{"$f":"COUNTIFS('Daily Diary'!A:A,'Grafico Strategie Settimanali'!B363,'Daily Diary'!E:E,\"SCALPING\")","v":0},{"$f":"COUNTIFS('Daily Diary'!A:A,'Grafico Strategie Settimanali'!B363,'Daily Diary'!E:E,\"GT90\")","v":0},{"$f":"COUNTIFS('Daily Diary'!A:A,'Grafico Strategie Settimanali'!B363,'Daily Diary'!E:E,\"GT110\")","v":0},{"$f":"COUNTIFS('Daily Diary'!A:A,'Grafico Strategie Settimanali'!B363,'Daily Diary'!E:E,\"ALERT GOAL\")","v":0},{"$f":"COUNTIFS('Daily Diary'!A:A,'Grafico Strategie Settimanali'!B363,'Daily Diary'!E:E,\"DRAW NO BET\")","v":0},{"$f":"COUNTIFS('Daily Diary'!A:A,'Grafico Strategie Settimanali'!B363,'Daily Diary'!E:E,\"ALTRO\")","v":0},{"$f":"COUNTIFS('Daily Diary'!A:A,'Grafico Strategie Settimanali'!B363,'Daily Diary'!E:E,\"BANCA PAREGGIO\",'Daily Diary'!E:E,\"BANCA PAREGGIO\",'Daily Diary'!K:K,\"WIN\")","v":0},{"$f":"COUNTIFS('Daily Diary'!A:A,'Grafico Strategie Settimanali'!B363,'Daily Diary'!E:E,\"PUNTA SQ.CASA\",'Daily Diary'!E:E,\"PUNTA SQ.CASA\",'Daily Diary'!K:K,\"WIN\")","v":0},{"$f":"COUNTIFS('Daily Diary'!A:A,'Grafico Strategie Settimanali'!B363,'Daily Diary'!E:E,\"PUNTA SQ.OSPITE\",'Daily Diary'!E:E,\"PUNTA SQ.OSPITE\",'Daily Diary'!K:K,\"WIN\")","v":0},{"$f":"COUNTIFS('Daily Diary'!A:A,'Grafico Strategie Settimanali'!B363,'Daily Diary'!E:E,\"BANCA SFAVORITA\",'Daily Diary'!E:E,\"BANCA SFAVORITA\",'Daily Diary'!K:K,\"WIN\")","v":0},{"$f":"COUNTIFS('Daily Diary'!A:A,'Grafico Strategie Settimanali'!B363,'Daily Diary'!E:E,\"PUNTA OVER\",'Daily Diary'!E:E,\"PUNTA OVER\",'Daily Diary'!K:K,\"WIN\")","v":0},{"$f":"COUNTIFS('Daily Diary'!A:A,'Grafico Strategie Settimanali'!B363,'Daily Diary'!E:E,\"PUNTA UNDER\",'Daily Diary'!E:E,\"PUNTA UNDER\",'Daily Diary'!K:K,\"WIN\")","v":0},{"$f":"COUNTIFS('Daily Diary'!A:A,'Grafico Strategie Settimanali'!B363,'Daily Diary'!E:E,\"SCALPING\",'Daily Diary'!E:E,\"SCALPING\",'Daily Diary'!K:K,\"WIN\")","v":0},{"$f":"COUNTIFS('Daily Diary'!A:A,'Grafico Strategie Settimanali'!B363,'Daily Diary'!E:E,\"GT 90\",'Daily Diary'!E:E,\"GT 90\",'Daily Diary'!K:K,\"WIN\")","v":0},{"$f":"COUNTIFS('Daily Diary'!A:A,'Grafico Strategie Settimanali'!B363,'Daily Diary'!E:E,\"GT 110\",'Daily Diary'!E:E,\"GT 110\",'Daily Diary'!K:K,\"WIN\")","v":0},{"$f":"COUNTIFS('Daily Diary'!A:A,'Grafico Strategie Settimanali'!B363,'Daily Diary'!E:E,\"ALERT GOAL\",'Daily Diary'!E:E,\"ALERT GOAL\",'Daily Diary'!K:K,\"WIN\")","v":0},{"$f":"COUNTIFS('Daily Diary'!A:A,'Grafico Strategie Settimanali'!B363,'Daily Diary'!E:E,\"DRAW NO BET\",'Daily Diary'!E:E,\"DRAW NO BET\",'Daily Diary'!K:K,\"WIN\")","v":0},{"$f":"COUNTIFS('Daily Diary'!A:A,'Grafico Strategie Settimanali'!B363,'Daily Diary'!E:E,\"ALTRO\",'Daily Diary'!E:E,\"ALTRO\",'Daily Diary'!K:K,\"WIN\")","v":0},{"$error":"#DIV/0!"},{"$error":"#DIV/0!"},{"$error":"#DIV/0!"},{"$error":"#DIV/0!"},{"$error":"#DIV/0!"},{"$error":"#DIV/0!"},{"$error":"#DIV/0!"},{"$error":"#DIV/0!"},{"$error":"#DIV/0!"},{"$error":"#DIV/0!"},{"$error":"#DIV/0!"},{"$error":"#DIV/0!"}]
[0,"2024-04-30",{"$f":"COUNTIFS('Daily Diary'!A:A,'Grafico Strategie Settimanali'!B364,'Daily Diary'!E:E,\"BANCA PAREGGIO\")","v":0},{"$f":"COUNTIFS('Daily Diary'!A:A,'Grafico Strategie Settimanali'!B364,'Daily Diary'!E:E,\"PUNTA SQ.CASA\")","v":0},{"$f":"COUNTIFS('Daily Diary'!A:A,'Grafico Strategie Settimanali'!B364,'Daily Diary'!E:E,\"PUNTA SQ.OSPITE\")","v":0},{"$f":"COUNTIFS('Daily Diary'!A:A,'Grafico Strategie Settimanali'!B364,'Daily Diary'!E:E,\"BANCA SFAVORITA\")","v":0},{"$f":"COUNTIFS('Daily Diary'!A:A,'Grafico Strategie Settimanali'!B364,'Daily Diary'!E:E,\"PUNTA OVER\")","v":0},{"$f":"COUNTIFS('Daily Diary'!A:A,'Grafico Strategie Settimanali'!B364,'Daily Diary'!E:E,\"PUNTA UNDER\")","v":0},{"$f":"COUNTIFS('Daily Diary'!A:A,'Grafico Strategie Settimanali'!B364,'Daily Diary'!E:E,\"SCALPING\")","v":0},{"$f":"COUNTIFS('Daily Diary'!A:A,'Grafico Strategie Settimanali'!B364,'Daily Diary'!E:E,\"GT90\")","v":0},{"$f":"COUNTIFS('Daily Diary'!A:A,'Grafico Strategie Settimanali'!B364,'Daily Diary'!E:E,\"GT110\")","v":0},{"$f":"COUNTIFS('Daily Diary'!A:A,'Grafico Strategie Settimanali'!B364,'Daily Diary'!E:E,\"ALERT GOAL\")","v":0},{"$f":"COUNTIFS('Daily Diary'!A:A,'Grafico Strategie Settimanali'!B364,'Daily Diary'!E:E,\"DRAW NO BET\")","v":0},{"$f":"COUNTIFS('Daily Diary'!A:A,'Grafico Strategie Settimanali'!B364,'Daily Diary'!E:E,\"ALTRO\")","v":0},{"$f":"COUNTIFS('Daily Diary'!A:A,'Grafico Strategie Settimanali'!B364,'Daily Diary'!E:E,\"BANCA PAREGGIO\",'Daily Diary'!E:E,\"BANCA PAREGGIO\",'Daily Diary'!K:K,\"WIN\")","v":0},{"$f":"COUNTIFS('Daily Diary'!A:A,'Grafico Strategie Settimanali'!B364,'Daily Diary'!E:E,\"PUNTA SQ.CASA\",'Daily Diary'!E:E,\"PUNTA SQ.CASA\",'Daily Diary'!K:K,\"WIN\")","v":0},{"$f":"COUNTIFS('Daily Diary'!A:A,'Grafico Strategie Settimanali'!B364,'Daily Diary'!E:E,\"PUNTA SQ.OSPITE\",'Daily Diary'!E:E,\"PUNTA SQ.OSPITE\",'Daily Diary'!K:K,\"WIN\")","v":0},{"$f":"COUNTIFS('Daily Diary'!A:A,'Grafico Strategie Settimanali'!B364,'Daily Diary'!E:E,\"BANCA SFAVORITA\",'Daily Diary'!E:E,\"BANCA SFAVORITA\",'Daily Diary'!K:K,\"WIN\")","v":0},{"$f":"COUNTIFS('Daily Diary'!A:A,'Grafico Strategie Settimanali'!B364,'Daily Diary'!E:E,\"PUNTA OVER\",'Daily Diary'!E:E,\"PUNTA OVER\",'Daily Diary'!K:K,\"WIN\")","v":0},{"$f":"COUNTIFS('Daily Diary'!A:A,'Grafico Strategie Settimanali'!B364,'Daily Diary'!E:E,\"PUNTA UNDER\",'Daily Diary'!E:E,\"PUNTA UNDER\",'Daily Diary'!K:K,\"WIN\")","v":0},{"$f":"COUNTIFS('Daily Diary'!A:A,'Grafico Strategie Settimanali'!B364,'Daily Diary'!E:E,\"SCALPING\",'Daily Diary'!E:E,\"SCALPING\",'Daily Diary'!K:K,\"WIN\")","v":0},{"$f":"COUNTIFS('Daily Diary'!A:A,'Grafico Strategie Settimanali'!B364,'Daily Diary'!E:E,\"GT 90\",'Daily Diary'!E:E,\"GT 90\",'Daily Diary'!K:K,\"WIN\")","v":0},{"$f":"COUNTIFS('Daily Diary'!A:A,'Grafico Strategie Settimanali'!B364,'Daily Diary'!E:E,\"GT 110\",'Daily Diary'!E:E,\"GT 110\",'Daily Diary'!K:K,\"WIN\")","v":0},{"$f":"COUNTIFS('Daily Diary'!A:A,'Grafico Strategie Settimanali'!B364,'Daily Diary'!E:E,\"ALERT GOAL\",'Daily Diary'!E:E,\"ALERT GOAL\",'Daily Diary'!K:K,\"WIN\")","v":0},{"$f":"COUNTIFS('Daily Diary'!A:A,'Grafico Strategie Settimanali'!B364,'Daily Diary'!E:E,\"DRAW NO BET\",'Daily Diary'!E:E,\"DRAW NO BET\",'Daily Diary'!K:K,\"WIN\")","v":0},{"$f":"COUNTIFS('Daily Diary'!A:A,'Grafico Strategie Settimanali'!B364,'Daily Diary'!E:E,\"ALTRO\",'Daily Diary'!E:E,\"ALTRO\",'Daily Diary'!K:K,\"WIN\")","v":0},{"$error":"#DIV/0!"},{"$error":"#DIV/0!"},{"$error":"#DIV/0!"},{"$error":"#DIV/0!"},{"$error":"#DIV/0!"},{"$error":"#DIV/0!"},{"$f":"U364/I364","v":{"$error":"#DIV/0!"}},{"$error":"#DIV/0!"},{"$error":"#DIV/0!"},{"$error":"#DIV/0!"},{"$error":"#DIV/0!"},{"$error":"#DIV/0!"}]
[0,"2024-05-01",{"$f":"COUNTIFS('Daily Diary'!A:A,'Grafico Strategie Settimanali'!B365,'Daily Diary'!E:E,\"BANCA PAREGGIO\")","v":0},{"$f":"COUNTIFS('Daily Diary'!A:A,'Grafico Strategie Settimanali'!B365,'Daily Diary'!E:E,\"PUNTA SQ.CASA\")","v":0},{"$f":"COUNTIFS('Daily Diary'!A:A,'Grafico Strategie Settimanali'!B365,'Daily Diary'!E:E,\"PUNTA SQ.OSPITE\")","v":0},{"$f":"COUNTIFS('Daily Diary'!A:A,'Grafico Strategie Settimanali'!B365,'Daily Diary'!E:E,\"BANCA SFAVORITA\")","v":0},{"$f":"COUNTIFS('Daily Diary'!A:A,'Grafico Strategie Settimanali'!B365,'Daily Diary'!E:E,\"PUNTA OVER\")","v":0},{"$f":"COUNTIFS('Daily Diary'!A:A,'Grafico Strategie Settimanali'!B365,'Daily Diary'!E:E,\"PUNTA UNDER\")","v":0},{"$f":"COUNTIFS('Daily Diary'!A:A,'Grafico Strategie Settimanali'!B365,'Daily Diary'!E:E,\"SCALPING\")","v":0},{"$f":"COUNTIFS('Daily Diary'!A:A,'Grafico Strategie Settimanali'!B365,'Daily Diary'!E:E,\"GT90\")","v":0},{"$f":"COUNTIFS('Daily Diary'!A:A,'Grafico Strategie Settimanali'!B365,'Daily Diary'!E:E,\"GT110\")","v":0},{"$f":"COUNTIFS('Daily Diary'!A:A,'Grafico Strategie Settimanali'!B365,'Daily Diary'!E:E,\"ALERT GOAL\")","v":0},{"$f":"COUNTIFS('Daily Diary'!A:A,'Grafico Strategie Settimanali'!B365,'Daily Diary'!E:E,\"DRAW NO BET\")","v":0},{"$f":"COUNTIFS('Daily Diary'!A:A,'Grafico Strategie Settimanali'!B365,'Daily Diary'!E:E,\"ALTRO\")","v":0},{"$f":"COUNTIFS('Daily Diary'!A:A,'Grafico Strategie Settimanali'!B365,'Daily Diary'!E:E,\"BANCA PAREGGIO\",'Daily Diary'!E:E,\"BANCA PAREGGIO\",'Daily Diary'!K:K,\"WIN\")","v":0},{"$f":"COUNTIFS('Daily Diary'!A:A,'Grafico Strategie Settimanali'!B365,'Daily Diary'!E:E,\"PUNTA SQ.CASA\",'Daily Diary'!E:E,\"PUNTA SQ.CASA\",'Daily Diary'!K:K,\"WIN\")","v":0},{"$f":"COUNTIFS('Daily Diary'!A:A,'Grafico Strategie Settimanali'!B365,'Daily Diary'!E:E,\"PUNTA SQ.OSPITE\",'Daily Diary'!E:E,\"PUNTA SQ.OSPITE\",'Daily Diary'!K:K,\"WIN\")","v":0},{"$f":"COUNTIFS('Daily Diary'!A:A,'Grafico Strategie Settimanali'!B365,'Daily Diary'!E:E,\"BANCA SFAVORITA\",'Daily Diary'!E:E,\"BANCA SFAVORITA\",'Daily Diary'!K:K,\"WIN\")","v":0},{"$f":"COUNTIFS('Daily Diary'!A:A,'Grafico Strategie Settimanali'!B365,'Daily Diary'!E:E,\"PUNTA OVER\",'Daily Diary'!E:E,\"PUNTA OVER\",'Daily Diary'!K:K,\"WIN\")","v":0},{"$f":"COUNTIFS('Daily Diary'!A:A,'Grafico Strategie Settimanali'!B365,'Daily Diary'!E:E,\"PUNTA UNDER\",'Daily Diary'!E:E,\"PUNTA UNDER\",'Daily Diary'!K:K,\"WIN\")","v":0},{"$f":"COUNTIFS('Daily Diary'!A:A,'Grafico Strategie Settimanali'!B365,'Daily Diary'!E:E,\"SCALPING\",'Daily Diary'!E:E,\"SCALPING\",'Daily Diary'!K:K,\"WIN\")","v":0},{"$f":"COUNTIFS('Daily Diary'!A:A,'Grafico Strategie Settimanali'!B365,'Daily Diary'!E:E,\"GT 90\",'Daily Diary'!E:E,\"GT 90\",'Daily Diary'!K:K,\"WIN\")","v":0},{"$f":"COUNTIFS('Daily Diary'!A:A,'Grafico Strategie Settimanali'!B365,'Daily Diary'!E:E,\"GT 110\",'Daily Diary'!E:E,\"GT 110\",'Daily Diary'!K:K,\"WIN\")","v":0},{"$f":"COUNTIFS('Daily Diary'!A:A,'Grafico Strategie Settimanali'!B365,'Daily Diary'!E:E,\"ALERT GOAL\",'Daily Diary'!E:E,\"ALERT GOAL\",'Daily Diary'!K:K,\"WIN\")","v":0},{"$f":"COUNTIFS('Daily Diary'!A:A,'Grafico Strategie Settimanali'!B365,'Daily Diary'!E:E,\"DRAW NO BET\",'Daily Diary'!E:E,\"DRAW NO BET\",'Daily Diary'!K:K,\"WIN\")","v":0},{"$f":"COUNTIFS('Daily Diary'!A:A,'Grafico Strategie Settimanali'!B365,'Daily Diary'!E:E,\"ALTRO\",'Daily Diary'!E:E,\"ALTRO\",'Daily Diary'!K:K,\"WIN\")","v":0},{"$error":"#DIV/0!"},{"$error":"#DIV/0!"},{"$error":"#DIV/0!"},{"$error":"#DIV/0!"},{"$error":"#DIV/0!"},{"$error":"#DIV/0!"},{"$error":"#DIV/0!"},{"$error":"#DIV/0!"},{"$error":"#DIV/0!"},{"$error":"#DIV/0!"},{"$error":"#DIV/0!"},{"$error":"#DIV/0!"}]
[0,"2024-05-02",{"$f":"COUNTIFS('Daily Diary'!A:A,'Grafico Strategie Settimanali'!B366,'Daily Diary'!E:E,\"BANCA PAREGGIO\")","v":0},{"$f":"COUNTIFS('Daily Diary'!A:A,'Grafico Strategie Settimanali'!B366,'Daily Diary'!E:E,\"PUNTA SQ.CASA\")","v":0},{"$f":"COUNTIFS('Daily Diary'!A:A,'Grafico Strategie Settimanali'!B366,'Daily Diary'!E:E,\"PUNTA SQ.OSPITE\")","v":0},{"$f":"COUNTIFS('Daily Diary'!A:A,'Grafico Strategie Settimanali'!B366,'Daily Diary'!E:E,\"BANCA SFAVORITA\")","v":0},{"$f":"COUNTIFS('Daily Diary'!A:A,'Grafico Strategie Settimanali'!B366,'Daily Diary'!E:E,\"PUNTA OVER\")","v":0},{"$f":"COUNTIFS('Daily Diary'!A:A,'Grafico Strategie Settimanali'!B366,'Daily Diary'!E:E,\"PUNTA UNDER\")","v":0},{"$f":"COUNTIFS('Daily Diary'!A:A,'Grafico Strategie Settimanali'!B366,'Daily Diary'!E:E,\"SCALPING\")","v":0},{"$f":"COUNTIFS('Daily Diary'!A:A,'Grafico Strategie Settimanali'!B366,'Daily Diary'!E:E,\"GT90\")","v":0},{"$f":"COUNTIFS('Daily Diary'!A:A,'Grafico Strategie Settimanali'!B366,'Daily Diary'!E:E,\"GT110\")","v":0},{"$f":"COUNTIFS('Daily Diary'!A:A,'Grafico Strategie Settimanali'!B366,'Daily Diary'!E:E,\"ALERT GOAL\")","v":0},{"$f":"COUNTIFS('Daily Diary'!A:A,'Grafico Strategie Settimanali'!B366,'Daily Diary'!E:E,\"DRAW NO BET\")","v":0},{"$f":"COUNTIFS('Daily Diary'!A:A,'Grafico Strategie Settimanali'!B366,'Daily Diary'!E:E,\"ALTRO\")","v":0},{"$f":"COUNTIFS('Daily Diary'!A:A,'Grafico Strategie Settimanali'!B366,'Daily Diary'!E:E,\"BANCA PAREGGIO\",'Daily Diary'!E:E,\"BANCA PAREGGIO\",'Daily Diary'!K:K,\"WIN\")","v":0},{"$f":"COUNTIFS('Daily Diary'!A:A,'Grafico Strategie Settimanali'!B366,'Daily Diary'!E:E,\"PUNTA SQ.CASA\",'Daily Diary'!E:E,\"PUNTA SQ.CASA\",'Daily Diary'!K:K,\"WIN\")","v":0},{"$f":"COUNTIFS('Daily Diary'!A:A,'Grafico Strategie Settimanali'!B366,'Daily Diary'!E:E,\"PUNTA SQ.OSPITE\",'Daily Diary'!E:E,\"PUNTA SQ.OSPITE\",'Daily Diary'!K:K,\"WIN\")","v":0},{"$f":"COUNTIFS('Daily Diary'!A:A,'Grafico Strategie Settimanali'!B366,'Daily Diary'!E:E,\"BANCA SFAVORITA\",'Daily Diary'!E:E,\"BANCA SFAVORITA\",'Daily Diary'!K:K,\"WIN\")","v":0},{"$f":"COUNTIFS('Daily Diary'!A:A,'Grafico Strategie Settimanali'!B366,'Daily Diary'!E:E,\"PUNTA OVER\",'Daily Diary'!E:E,\"PUNTA OVER\",'Daily Diary'!K:K,\"WIN\")","v":0},{"$f":"COUNTIFS('Daily Diary'!A:A,'Grafico Strategie Settimanali'!B366,'Daily Diary'!E:E,\"PUNTA UNDER\",'Daily Diary'!E:E,\"PUNTA UNDER\",'Daily Diary'!K:K,\"WIN\")","v":0},{"$f":"COUNTIFS('Daily Diary'!A:A,'Grafico Strategie Settimanali'!B366,'Daily Diary'!E:E,\"SCALPING\",'Daily Diary'!E:E,\"SCALPING\",'Daily Diary'!K:K,\"WIN\")","v":0},{"$f":"COUNTIFS('Daily Diary'!A:A,'Grafico Strategie Settimanali'!B366,'Daily Diary'!E:E,\"GT 90\",'Daily Diary'!E:E,\"GT 90\",'Daily Diary'!K:K,\"WIN\")","v":0},{"$f":"COUNTIFS('Daily Diary'!A:A,'Grafico Strategie Settimanali'!B366,'Daily Diary'!E:E,\"GT 110\",'Daily Diary'!E:E,\"GT 110\",'Daily Diary'!K:K,\"WIN\")","v":0},{"$f":"COUNTIFS('Daily Diary'!A:A,'Grafico Strategie Settimanali'!B366,'Daily Diary'!E:E,\"ALERT GOAL\",'Daily Diary'!E:E,\"ALERT GOAL\",'Daily Diary'!K:K,\"WIN\")","v":0},{"$f":"COUNTIFS('Daily Diary'!A:A,'Grafico Strategie Settimanali'!B366,'Daily Diary'!E:E,\"DRAW NO BET\",'Daily Diary'!E:E,\"DRAW NO BET\",'Daily Diary'!K:K,\"WIN\")","v":0},{"$f":"COUNTIFS('Daily Diary'!A:A,'Grafico Strategie Settimanali'!B366,'Daily Diary'!E:E,\"ALTRO\",'Daily Diary'!E:E,\"ALTRO\",'Daily Diary'!K:K,\"WIN\")","v":0},{"$error":"#DIV/0!"},{"$error":"#DIV/0!"},{"$error":"#DIV/0!"},{"$error":"#DIV/0!"},{"$error":"#DIV/0!"},{"$error":"#DIV/0!"},{"$error":"#DIV/0!"},{"$error":"#DIV/0!"},{"$error":"#DIV/0!"},{"$error":"#DIV/0!"},{"$error":"#DIV/0!"},{"$error":"#DIV/0!"}]
[0,"2024-05-03",{"$f":"COUNTIFS('Daily Diary'!A:A,'Grafico Strategie Settimanali'!B367,'Daily Diary'!E:E,\"BANCA PAREGGIO\")","v":0},{"$f":"COUNTIFS('Daily Diary'!A:A,'Grafico Strategie Settimanali'!B367,'Daily Diary'!E:E,\"PUNTA SQ.CASA\")","v":0},{"$f":"COUNTIFS('Daily Diary'!A:A,'Grafico Strategie Settimanali'!B367,'Daily Diary'!E:E,\"PUNTA SQ.OSPITE\")","v":0},{"$f":"COUNTIFS('Daily Diary'!A:A,'Grafico Strategie Settimanali'!B367,'Daily Diary'!E:E,\"BANCA SFAVORITA\")","v":0},{"$f":"COUNTIFS('Daily Diary'!A:A,'Grafico Strategie Settimanali'!B367,'Daily Diary'!E:E,\"PUNTA OVER\")","v":0},{"$f":"COUNTIFS('Daily Diary'!A:A,'Grafico Strategie Settimanali'!B367,'Daily Diary'!E:E,\"PUNTA UNDER\")","v":0},{"$f":"COUNTIFS('Daily Diary'!A:A,'Grafico Strategie Settimanali'!B367,'Daily Diary'!E:E,\"SCALPING\")","v":0},{"$f":"COUNTIFS('Daily Diary'!A:A,'Grafico Strategie Settimanali'!B367,'Daily Diary'!E:E,\"GT90\")","v":0},{"$f":"COUNTIFS('Daily Diary'!A:A,'Grafico Strategie Settimanali'!B367,'Daily Diary'!E:E,\"GT110\")","v":0},{"$f":"COUNTIFS('Daily Diary'!A:A,'Grafico Strategie Settimanali'!B367,'Daily Diary'!E:E,\"ALERT GOAL\")","v":0},{"$f":"COUNTIFS('Daily Diary'!A:A,'Grafico Strategie Settimanali'!B367,'Daily Diary'!E:E,\"DRAW NO BET\")","v":0},{"$f":"COUNTIFS('Daily Diary'!A:A,'Grafico Strategie Settimanali'!B367,'Daily Diary'!E:E,\"ALTRO\")","v":0},{"$f":"COUNTIFS('Daily Diary'!A:A,'Grafico Strategie Settimanali'!B367,'Daily Diary'!E:E,\"BANCA PAREGGIO\",'Daily Diary'!E:E,\"BANCA PAREGGIO\",'Daily Diary'!K:K,\"WIN\")","v":0},{"$f":"COUNTIFS('Daily Diary'!A:A,'Grafico Strategie Settimanali'!B367,'Daily Diary'!E:E,\"PUNTA SQ.CASA\",'Daily Diary'!E:E,\"PUNTA SQ.CASA\",'Daily Diary'!K:K,\"WIN\")","v":0},{"$f":"COUNTIFS('Daily Diary'!A:A,'Grafico Strategie Settimanali'!B367,'Daily Diary'!E:E,\"PUNTA SQ.OSPITE\",'Daily Diary'!E:E,\"PUNTA SQ.OSPITE\",'Daily Diary'!K:K,\"WIN\")","v":0},{"$f":"COUNTIFS('Daily Diary'!A:A,'Grafico Strategie Settimanali'!B367,'Daily Diary'!E:E,\"BANCA SFAVORITA\",'Daily Diary'!E:E,\"BANCA SFAVORITA\",'Daily Diary'!K:K,\"WIN\")","v":0},{"$f":"COUNTIFS('Daily Diary'!A:A,'Grafico Strategie Settimanali'!B367,'Daily Diary'!E:E,\"PUNTA OVER\",'Daily Diary'!E:E,\"PUNTA OVER\",'Daily Diary'!K:K,\"WIN\")","v":0},{"$f":"COUNTIFS('Daily Diary'!A:A,'Grafico Strategie Settimanali'!B367,'Daily Diary'!E:E,\"PUNTA UNDER\",'Daily Diary'!E:E,\"PUNTA UNDER\",'Daily Diary'!K:K,\"WIN\")","v":0},{"$f":"COUNTIFS('Daily Diary'!A:A,'Grafico Strategie Settimanali'!B367,'Daily Diary'!E:E,\"SCALPING\",'Daily Diary'!E:E,\"SCALPING\",'Daily Diary'!K:K,\"WIN\")","v":0},{"$f":"COUNTIFS('Daily Diary'!A:A,'Grafico Strategie Settimanali'!B367,'Daily Diary'!E:E,\"GT 90\",'Daily Diary'!E:E,\"GT 90\",'Daily Diary'!K:K,\"WIN\")","v":0},{"$f":"COUNTIFS('Daily Diary'!A:A,'Grafico Strategie Settimanali'!B367,'Daily Diary'!E:E,\"GT 110\",'Daily Diary'!E:E,\"GT 110\",'Daily Diary'!K:K,\"WIN\")","v":0},{"$f":"COUNTIFS('Daily Diary'!A:A,'Grafico Strategie Settimanali'!B367,'Daily Diary'!E:E,\"ALERT GOAL\",'Daily Diary'!E:E,\"ALERT GOAL\",'Daily Diary'!K:K,\"WIN\")","v":0},{"$f":"COUNTIFS('Daily Diary'!A:A,'Grafico Strategie Settimanali'!B367,'Daily Diary'!E:E,\"DRAW NO BET\",'Daily Diary'!E:E,\"DRAW NO BET\",'Daily Diary'!K:K,\"WIN\")","v":0},{"$f":"COUNTIFS('Daily Diary'!A:A,'Grafico Strategie Settimanali'!B367,'Daily Diary'!E:E,\"ALTRO\",'Daily Diary'!E:E,\"ALTRO\",'Daily Diary'!K:K,\"WIN\")","v":0},{"$error":"#DIV/0!"},{"$error":"#DIV/0!"},{"$error":"#DIV/0!"},{"$error":"#DIV/0!"},{"$error":"#DIV/0!"},{"$error":"#DIV/0!"},{"$error":"#DIV/0!"},{"$error":"#DIV/0!"},{"$error":"#DIV/0!"},{"$error":"#DIV/0!"},{"$error":"#DIV/0!"},{"$error":"#DIV/0!"}]
[0,"2024-05-04",{"$f":"COUNTIFS('Daily Diary'!A:A,'Grafico Strategie Settimanali'!B368,'Daily Diary'!E:E,\"BANCA PAREGGIO\")","v":0},{"$f":"COUNTIFS('Daily Diary'!A:A,'Grafico Strategie Settimanali'!B368,'Daily Diary'!E:E,\"PUNTA SQ.CASA\")","v":0},{"$f":"COUNTIFS('Daily Diary'!A:A,'Grafico Strategie Settimanali'!B368,'Daily Diary'!E:E,\"PUNTA SQ.OSPITE\")","v":0},{"$f":"COUNTIFS('Daily Diary'!A:A,'Grafico Strategie Settimanali'!B368,'Daily Diary'!E:E,\"BANCA SFAVORITA\")","v":0},{"$f":"COUNTIFS('Daily Diary'!A:A,'Grafico Strategie Settimanali'!B368,'Daily Diary'!E:E,\"PUNTA OVER\")","v":0},{"$f":"COUNTIFS('Daily Diary'!A:A,'Grafico Strategie Settimanali'!B368,'Daily Diary'!E:E,\"PUNTA UNDER\")","v":0},{"$f":"COUNTIFS('Daily Diary'!A:A,'Grafico Strategie Settimanali'!B368,'Daily Diary'!E:E,\"SCALPING\")","v":0},{"$f":"COUNTIFS('Daily Diary'!A:A,'Grafico Strategie Settimanali'!B368,'Daily Diary'!E:E,\"GT90\")","v":0},{"$f":"COUNTIFS('Daily Diary'!A:A,'Grafico Strategie Settimanali'!B368,'Daily Diary'!E:E,\"GT110\")","v":0},{"$f":"COUNTIFS('Daily Diary'!A:A,'Grafico Strategie Settimanali'!B368,'Daily Diary'!E:E,\"ALERT GOAL\")","v":0},{"$f":"COUNTIFS('Daily Diary'!A:A,'Grafico Strategie Settimanali'!B368,'Daily Diary'!E:E,\"DRAW NO BET\")","v":0},{"$f":"COUNTIFS('Daily Diary'!A:A,'Grafico Strategie Settimanali'!B368,'Daily Diary'!E:E,\"ALTRO\")","v":0},{"$f":"COUNTIFS('Daily Diary'!A:A,'Grafico Strategie Settimanali'!B368,'Daily Diary'!E:E,\"BANCA PAREGGIO\",'Daily Diary'!E:E,\"BANCA PAREGGIO\",'Daily Diary'!K:K,\"WIN\")","v":0},{"$f":"COUNTIFS('Daily Diary'!A:A,'Grafico Strategie Settimanali'!B368,'Daily Diary'!E:E,\"PUNTA SQ.CASA\",'Daily Diary'!E:E,\"PUNTA SQ.CASA\",'Daily Diary'!K:K,\"WIN\")","v":0},{"$f":"COUNTIFS('Daily Diary'!A:A,'Grafico Strategie Settimanali'!B368,'Daily Diary'!E:E,\"PUNTA SQ.OSPITE\",'Daily Diary'!E:E,\"PUNTA SQ.OSPITE\",'Daily Diary'!K:K,\"WIN\")","v":0},{"$f":"COUNTIFS('Daily Diary'!A:A,'Grafico Strategie Settimanali'!B368,'Daily Diary'!E:E,\"BANCA SFAVORITA\",'Daily Diary'!E:E,\"BANCA SFAVORITA\",'Daily Diary'!K:K,\"WIN\")","v":0},{"$f":"COUNTIFS('Daily Diary'!A:A,'Grafico Strategie Settimanali'!B368,'Daily Diary'!E:E,\"PUNTA OVER\",'Daily Diary'!E:E,\"PUNTA OVER\",'Daily Diary'!K:K,\"WIN\")","v":0},{"$f":"COUNTIFS('Daily Diary'!A:A,'Grafico Strategie Settimanali'!B368,'Daily Diary'!E:E,\"PUNTA UNDER\",'Daily Diary'!E:E,\"PUNTA UNDER\",'Daily Diary'!K:K,\"WIN\")","v":0},{"$f":"COUNTIFS('Daily Diary'!A:A,'Grafico Strategie Settimanali'!B368,'Daily Diary'!E:E,\"SCALPING\",'Daily Diary'!E:E,\"SCALPING\",'Daily Diary'!K:K,\"WIN\")","v":0},{"$f":"COUNTIFS('Daily Diary'!A:A,'Grafico Strategie Settimanali'!B368,'Daily Diary'!E:E,\"GT 90\",'Daily Diary'!E:E,\"GT 90\",'Daily Diary'!K:K,\"WIN\")","v":0},{"$f":"COUNTIFS('Daily Diary'!A:A,'Grafico Strategie Settimanali'!B368,'Daily Diary'!E:E,\"GT 110\",'Daily Diary'!E:E,\"GT 110\",'Daily Diary'!K:K,\"WIN\")","v":0},{"$f":"COUNTIFS('Daily Diary'!A:A,'Grafico Strategie Settimanali'!B368,'Daily Diary'!E:E,\"ALERT GOAL\",'Daily Diary'!E:E,\"ALERT GOAL\",'Daily Diary'!K:K,\"WIN\")","v":0},{"$f":"COUNTIFS('Daily Diary'!A:A,'Grafico Strategie Settimanali'!B368,'Daily Diary'!E:E,\"DRAW NO BET\",'Daily Diary'!E:E,\"DRAW NO BET\",'Daily Diary'!K:K,\"WIN\")","v":0},{"$f":"COUNTIFS('Daily Diary'!A:A,'Grafico Strategie Settimanali'!B368,'Daily Diary'!E:E,\"ALTRO\",'Daily Diary'!E:E,\"ALTRO\",'Daily Diary'!K:K,\"WIN\")","v":0},{"$error":"#DIV/0!"},{"$error":"#DIV/0!"},{"$error":"#DIV/0!"},{"$error":"#DIV/0!"},{"$error":"#DIV/0!"},{"$error":"#DIV/0!"},{"$error":"#DIV/0!"},{"$error":"#DIV/0!"},{"$error":"#DIV/0!"},{"$error":"#DIV/0!"},{"$error":"#DIV/0!"},{"$error":"#DIV/0!"}]
[0,"2024-05-05",{"$f":"COUNTIFS('Daily Diary'!A:A,'Grafico Strategie Settimanali'!B369,'Daily Diary'!E:E,\"BANCA PAREGGIO\")","v":0},{"$f":"COUNTIFS('Daily Diary'!A:A,'Grafico Strategie Settimanali'!B369,'Daily Diary'!E:E,\"PUNTA SQ.CASA\")","v":0},{"$f":"COUNTIFS('Daily Diary'!A:A,'Grafico Strategie Settimanali'!B369,'Daily Diary'!E:E,\"PUNTA SQ.OSPITE\")","v":0},{"$f":"COUNTIFS('Daily Diary'!A:A,'Grafico Strategie Settimanali'!B369,'Daily Diary'!E:E,\"BANCA SFAVORITA\")","v":0},{"$f":"COUNTIFS('Daily Diary'!A:A,'Grafico Strategie Settimanali'!B369,'Daily Diary'!E:E,\"PUNTA OVER\")","v":0},{"$f":"COUNTIFS('Daily Diary'!A:A,'Grafico Strategie Settimanali'!B369,'Daily Diary'!E:E,\"PUNTA UNDER\")","v":0},{"$f":"COUNTIFS('Daily Diary'!A:A,'Grafico Strategie Settimanali'!B369,'Daily Diary'!E:E,\"SCALPING\")","v":0},{"$f":"COUNTIFS('Daily Diary'!A:A,'Grafico Strategie Settimanali'!B369,'Daily Diary'!E:E,\"GT90\")","v":0},{"$f":"COUNTIFS('Daily Diary'!A:A,'Grafico Strategie Settimanali'!B369,'Daily Diary'!E:E,\"GT110\")","v":0},{"$f":"COUNTIFS('Daily Diary'!A:A,'Grafico Strategie Settimanali'!B369,'Daily Diary'!E:E,\"ALERT GOAL\")","v":0},{"$f":"COUNTIFS('Daily Diary'!A:A,'Grafico Strategie Settimanali'!B369,'Daily Diary'!E:E,\"DRAW NO BET\")","v":0},{"$f":"COUNTIFS('Daily Diary'!A:A,'Grafico Strategie Settimanali'!B369,'Daily Diary'!E:E,\"ALTRO\")","v":0},{"$f":"COUNTIFS('Daily Diary'!A:A,'Grafico Strategie Settimanali'!B369,'Daily Diary'!E:E,\"BANCA PAREGGIO\",'Daily Diary'!E:E,\"BANCA PAREGGIO\",'Daily Diary'!K:K,\"WIN\")","v":0},{"$f":"COUNTIFS('Daily Diary'!A:A,'Grafico Strategie Settimanali'!B369,'Daily Diary'!E:E,\"PUNTA SQ.CASA\",'Daily Diary'!E:E,\"PUNTA SQ.CASA\",'Daily Diary'!K:K,\"WIN\")","v":0},{"$f":"COUNTIFS('Daily Diary'!A:A,'Grafico Strategie Settimanali'!B369,'Daily Diary'!E:E,\"PUNTA SQ.OSPITE\",'Daily Diary'!E:E,\"PUNTA SQ.OSPITE\",'Daily Diary'!K:K,\"WIN\")","v":0},{"$f":"COUNTIFS('Daily Diary'!A:A,'Grafico Strategie Settimanali'!B369,'Daily Diary'!E:E,\"BANCA SFAVORITA\",'Daily Diary'!E:E,\"BANCA SFAVORITA\",'Daily Diary'!K:K,\"WIN\")","v":0},{"$f":"COUNTIFS('Daily Diary'!A:A,'Grafico Strategie Settimanali'!B369,'Daily Diary'!E:E,\"PUNTA OVER\",'Daily Diary'!E:E,\"PUNTA OVER\",'Daily Diary'!K:K,\"WIN\")","v":0},{"$f":"COUNTIFS('Daily Diary'!A:A,'Grafico Strategie Settimanali'!B369,'Daily Diary'!E:E,\"PUNTA UNDER\",'Daily Diary'!E:E,\"PUNTA UNDER\",'Daily Diary'!K:K,\"WIN\")","v":0},{"$f":"COUNTIFS('Daily Diary'!A:A,'Grafico Strategie Settimanali'!B369,'Daily Diary'!E:E,\"SCALPING\",'Daily Diary'!E:E,\"SCALPING\",'Daily Diary'!K:K,\"WIN\")","v":0},{"$f":"COUNTIFS('Daily Diary'!A:A,'Grafico Strategie Settimanali'!B369,'Daily Diary'!E:E,\"GT 90\",'Daily Diary'!E:E,\"GT 90\",'Daily Diary'!K:K,\"WIN\")","v":0},{"$f":"COUNTIFS('Daily Diary'!A:A,'Grafico Strategie Settimanali'!B369,'Daily Diary'!E:E,\"GT 110\",'Daily Diary'!E:E,\"GT 110\",'Daily Diary'!K:K,\"WIN\")","v":0},{"$f":"COUNTIFS('Daily Diary'!A:A,'Grafico Strategie Settimanali'!B369,'Daily Diary'!E:E,\"ALERT GOAL\",'Daily Diary'!E:E,\"ALERT GOAL\",'Daily Diary'!K:K,\"WIN\")","v":0},{"$f":"COUNTIFS('Daily Diary'!A:A,'Grafico Strategie Settimanali'!B369,'Daily Diary'!E:E,\"DRAW NO BET\",'Daily Diary'!E:E,\"DRAW NO BET\",'Daily Diary'!K:K,\"WIN\")","v":0},{"$f":"COUNTIFS('Daily Diary'!A:A,'Grafico Strategie Settimanali'!B369,'Daily Diary'!E:E,\"ALTRO\",'Daily Diary'!E:E,\"ALTRO\",'Daily Diary'!K:K,\"WIN\")","v":0},{"$error":"#DIV/0!"},{"$error":"#DIV/0!"},{"$error":"#DIV/0!"},{"$error":"#DIV/0!"},{"$error":"#DIV/0!"},{"$error":"#DIV/0!"},{"$error":"#DIV/0!"},{"$error":"#DIV/0!"},{"$error":"#DIV/0!"},{"$error":"#DIV/0!"},{"$error":"#DIV/0!"},{"$error":"#DIV/0!"}]
[0,"2024-05-06",{"$f":"COUNTIFS('Daily Diary'!A:A,'Grafico Strategie Settimanali'!B370,'Daily Diary'!E:E,\"BANCA PAREGGIO\")","v":0},{"$f":"COUNTIFS('Daily Diary'!A:A,'Grafico Strategie Settimanali'!B370,'Daily Diary'!E:E,\"PUNTA SQ.CASA\")","v":0},{"$f":"COUNTIFS('Daily Diary'!A:A,'Grafico Strategie Settimanali'!B370,'Daily Diary'!E:E,\"PUNTA SQ.OSPITE\")","v":0},{"$f":"COUNTIFS('Daily Diary'!A:A,'Grafico Strategie Settimanali'!B370,'Daily Diary'!E:E,\"BANCA SFAVORITA\")","v":0},{"$f":"COUNTIFS('Daily Diary'!A:A,'Grafico Strategie Settimanali'!B370,'Daily Diary'!E:E,\"PUNTA OVER\")","v":0},{"$f":"COUNTIFS('Daily Diary'!A:A,'Grafico Strategie Settimanali'!B370,'Daily Diary'!E:E,\"PUNTA UNDER\")","v":0},{"$f":"COUNTIFS('Daily Diary'!A:A,'Grafico Strategie Settimanali'!B370,'Daily Diary'!E:E,\"SCALPING\")","v":0},{"$f":"COUNTIFS('Daily Diary'!A:A,'Grafico Strategie Settimanali'!B370,'Daily Diary'!E:E,\"GT90\")","v":0},{"$f":"COUNTIFS('Daily Diary'!A:A,'Grafico Strategie Settimanali'!B370,'Daily Diary'!E:E,\"GT110\")","v":0},{"$f":"COUNTIFS('Daily Diary'!A:A,'Grafico Strategie Settimanali'!B370,'Daily Diary'!E:E,\"ALERT GOAL\")","v":0},{"$f":"COUNTIFS('Daily Diary'!A:A,'Grafico Strategie Settimanali'!B370,'Daily Diary'!E:E,\"DRAW NO BET\")","v":0},{"$f":"COUNTIFS('Daily Diary'!A:A,'Grafico Strategie Settimanali'!B370,'Daily Diary'!E:E,\"ALTRO\")","v":0},{"$f":"COUNTIFS('Daily Diary'!A:A,'Grafico Strategie Settimanali'!B370,'Daily Diary'!E:E,\"BANCA PAREGGIO\",'Daily Diary'!E:E,\"BANCA PAREGGIO\",'Daily Diary'!K:K,\"WIN\")","v":0},{"$f":"COUNTIFS('Daily Diary'!A:A,'Grafico Strategie Settimanali'!B370,'Daily Diary'!E:E,\"PUNTA SQ.CASA\",'Daily Diary'!E:E,\"PUNTA SQ.CASA\",'Daily Diary'!K:K,\"WIN\")","v":0},{"$f":"COUNTIFS('Daily Diary'!A:A,'Grafico Strategie Settimanali'!B370,'Daily Diary'!E:E,\"PUNTA SQ.OSPITE\",'Daily Diary'!E:E,\"PUNTA SQ.OSPITE\",'Daily Diary'!K:K,\"WIN\")","v":0},{"$f":"COUNTIFS('Daily Diary'!A:A,'Grafico Strategie Settimanali'!B370,'Daily Diary'!E:E,\"BANCA SFAVORITA\",'Daily Diary'!E:E,\"BANCA SFAVORITA\",'Daily Diary'!K:K,\"WIN\")","v":0},{"$f":"COUNTIFS('Daily Diary'!A:A,'Grafico Strategie Settimanali'!B370,'Daily Diary'!E:E,\"PUNTA OVER\",'Daily Diary'!E:E,\"PUNTA OVER\",'Daily Diary'!K:K,\"WIN\")","v":0},{"$f":"COUNTIFS('Daily Diary'!A:A,'Grafico Strategie Settimanali'!B370,'Daily Diary'!E:E,\"PUNTA UNDER\",'Daily Diary'!E:E,\"PUNTA UNDER\",'Daily Diary'!K:K,\"WIN\")","v":0},{"$f":"COUNTIFS('Daily Diary'!A:A,'Grafico Strategie Settimanali'!B370,'Daily Diary'!E:E,\"SCALPING\",'Daily Diary'!E:E,\"SCALPING\",'Daily Diary'!K:K,\"WIN\")","v":0},{"$f":"COUNTIFS('Daily Diary'!A:A,'Grafico Strategie Settimanali'!B370,'Daily Diary'!E:E,\"GT 90\",'Daily Diary'!E:E,\"GT 90\",'Daily Diary'!K:K,\"WIN\")","v":0},{"$f":"COUNTIFS('Daily Diary'!A:A,'Grafico Strategie Settimanali'!B370,'Daily Diary'!E:E,\"GT 110\",'Daily Diary'!E:E,\"GT 110\",'Daily Diary'!K:K,\"WIN\")","v":0},{"$f":"COUNTIFS('Daily Diary'!A:A,'Grafico Strategie Settimanali'!B370,'Daily Diary'!E:E,\"ALERT GOAL\",'Daily Diary'!E:E,\"ALERT GOAL\",'Daily Diary'!K:K,\"WIN\")","v":0},{"$f":"COUNTIFS('Daily Diary'!A:A,'Grafico Strategie Settimanali'!B370,'Daily Diary'!E:E,\"DRAW NO BET\",'Daily Diary'!E:E,\"DRAW NO BET\",'Daily Diary'!K:K,\"WIN\")","v":0},{"$f":"COUNTIFS('Daily Diary'!A:A,'Grafico Strategie Settimanali'!B370,'Daily Diary'!E:E,\"ALTRO\",'Daily Diary'!E:E,\"ALTRO\",'Daily Diary'!K:K,\"WIN\")","v":0},{"$error":"#DIV/0!"},{"$error":"#DIV/0!"},{"$error":"#DIV/0!"},{"$error":"#DIV/0!"},{"$error":"#DIV/0!"},{"$error":"#DIV/0!"},{"$error":"#DIV/0!"},{"$error":"#DIV/0!"},{"$error":"#DIV/0!"},{"$error":"#DIV/0!"},{"$error":"#DIV/0!"},{"$error":"#DIV/0!"}]
[0,"2024-05-07",{"$f":"COUNTIFS('Daily Diary'!A:A,'Grafico Strategie Settimanali'!B371,'Daily Diary'!E:E,\"BANCA PAREGGIO\")","v":0},{"$f":"COUNTIFS('Daily Diary'!A:A,'Grafico Strategie Settimanali'!B371,'Daily Diary'!E:E,\"PUNTA SQ.CASA\")","v":0},{"$f":"COUNTIFS('Daily Diary'!A:A,'Grafico Strategie Settimanali'!B371,'Daily Diary'!E:E,\"PUNTA SQ.OSPITE\")","v":0},{"$f":"COUNTIFS('Daily Diary'!A:A,'Grafico Strategie Settimanali'!B371,'Daily Diary'!E:E,\"BANCA SFAVORITA\")","v":0},{"$f":"COUNTIFS('Daily Diary'!A:A,'Grafico Strategie Settimanali'!B371,'Daily Diary'!E:E,\"PUNTA OVER\")","v":0},{"$f":"COUNTIFS('Daily Diary'!A:A,'Grafico Strategie Settimanali'!B371,'Daily Diary'!E:E,\"PUNTA UNDER\")","v":0},{"$f":"COUNTIFS('Daily Diary'!A:A,'Grafico Strategie Settimanali'!B371,'Daily Diary'!E:E,\"SCALPING\")","v":0},{"$f":"COUNTIFS('Daily Diary'!A:A,'Grafico Strategie Settimanali'!B371,'Daily Diary'!E:E,\"GT90\")","v":0},{"$f":"COUNTIFS('Daily Diary'!A:A,'Grafico Strategie Settimanali'!B371,'Daily Diary'!E:E,\"GT110\")","v":0},{"$f":"COUNTIFS('Daily Diary'!A:A,'Grafico Strategie Settimanali'!B371,'Daily Diary'!E:E,\"ALERT GOAL\")","v":0},{"$f":"COUNTIFS('Daily Diary'!A:A,'Grafico Strategie Settimanali'!B371,'Daily Diary'!E:E,\"DRAW NO BET\")","v":0},{"$f":"COUNTIFS('Daily Diary'!A:A,'Grafico Strategie Settimanali'!B371,'Daily Diary'!E:E,\"ALTRO\")","v":0},{"$f":"COUNTIFS('Daily Diary'!A:A,'Grafico Strategie Settimanali'!B371,'Daily Diary'!E:E,\"BANCA PAREGGIO\",'Daily Diary'!E:E,\"BANCA PAREGGIO\",'Daily Diary'!K:K,\"WIN\")","v":0},{"$f":"COUNTIFS('Daily Diary'!A:A,'Grafico Strategie Settimanali'!B371,'Daily Diary'!E:E,\"PUNTA SQ.CASA\",'Daily Diary'!E:E,\"PUNTA SQ.CASA\",'Daily Diary'!K:K,\"WIN\")","v":0},{"$f":"COUNTIFS('Daily Diary'!A:A,'Grafico Strategie Settimanali'!B371,'Daily Diary'!E:E,\"PUNTA SQ.OSPITE\",'Daily Diary'!E:E,\"PUNTA SQ.OSPITE\",'Daily Diary'!K:K,\"WIN\")","v":0},{"$f":"COUNTIFS('Daily Diary'!A:A,'Grafico Strategie Settimanali'!B371,'Daily Diary'!E:E,\"BANCA SFAVORITA\",'Daily Diary'!E:E,\"BANCA SFAVORITA\",'Daily Diary'!K:K,\"WIN\")","v":0},{"$f":"COUNTIFS('Daily Diary'!A:A,'Grafico Strategie Settimanali'!B371,'Daily Diary'!E:E,\"PUNTA OVER\",'Daily Diary'!E:E,\"PUNTA OVER\",'Daily Diary'!K:K,\"WIN\")","v":0},{"$f":"COUNTIFS('Daily Diary'!A:A,'Grafico Strategie Settimanali'!B371,'Daily Diary'!E:E,\"PUNTA UNDER\",'Daily Diary'!E:E,\"PUNTA UNDER\",'Daily Diary'!K:K,\"WIN\")","v":0},{"$f":"COUNTIFS('Daily Diary'!A:A,'Grafico Strategie Settimanali'!B371,'Daily Diary'!E:E,\"SCALPING\",'Daily Diary'!E:E,\"SCALPING\",'Daily Diary'!K:K,\"WIN\")","v":0},{"$f":"COUNTIFS('Daily Diary'!A:A,'Grafico Strategie Settimanali'!B371,'Daily Diary'!E:E,\"GT 90\",'Daily Diary'!E:E,\"GT 90\",'Daily Diary'!K:K,\"WIN\")","v":0},{"$f":"COUNTIFS('Daily Diary'!A:A,'Grafico Strategie Settimanali'!B371,'Daily Diary'!E:E,\"GT 110\",'Daily Diary'!E:E,\"GT 110\",'Daily Diary'!K:K,\"WIN\")","v":0},{"$f":"COUNTIFS('Daily Diary'!A:A,'Grafico Strategie Settimanali'!B371,'Daily Diary'!E:E,\"ALERT GOAL\",'Daily Diary'!E:E,\"ALERT GOAL\",'Daily Diary'!K:K,\"WIN\")","v":0},{"$f":"COUNTIFS('Daily Diary'!A:A,'Grafico Strategie Settimanali'!B371,'Daily Diary'!E:E,\"DRAW NO BET\",'Daily Diary'!E:E,\"DRAW NO BET\",'Daily Diary'!K:K,\"WIN\")","v":0},{"$f":"COUNTIFS('Daily Diary'!A:A,'Grafico Strategie Settimanali'!B371,'Daily Diary'!E:E,\"ALTRO\",'Daily Diary'!E:E,\"ALTRO\",'Daily Diary'!K:K,\"WIN\")","v":0},{"$error":"#DIV/0!"},{"$error":"#DIV/0!"},{"$error":"#DIV/0!"},{"$error":"#DIV/0!"},{"$error":"#DIV/0!"},{"$error":"#DIV/0!"},{"$error":"#DIV/0!"},{"$error":"#DIV/0!"},{"$error":"#DIV/0!"},{"$error":"#DIV/0!"},{"$error":"#DIV/0!"},{"$error":"#DIV/0!"}]
[0,"2024-05-08",{"$f":"COUNTIFS('Daily Diary'!A:A,'Grafico Strategie Settimanali'!B372,'Daily Diary'!E:E,\"BANCA PAREGGIO\")","v":0},{"$f":"COUNTIFS('Daily Diary'!A:A,'Grafico Strategie Settimanali'!B372,'Daily Diary'!E:E,\"PUNTA SQ.CASA\")","v":0},{"$f":"COUNTIFS('Daily Diary'!A:A,'Grafico Strategie Settimanali'!B372,'Daily Diary'!E:E,\"PUNTA SQ.OSPITE\")","v":0},{"$f":"COUNTIFS('Daily Diary'!A:A,'Grafico Strategie Settimanali'!B372,'Daily Diary'!E:E,\"BANCA SFAVORITA\")","v":0},{"$f":"COUNTIFS('Daily Diary'!A:A,'Grafico Strategie Settimanali'!B372,'Daily Diary'!E:E,\"PUNTA OVER\")","v":0},{"$f":"COUNTIFS('Daily Diary'!A:A,'Grafico Strategie Settimanali'!B372,'Daily Diary'!E:E,\"PUNTA UNDER\")","v":0},{"$f":"COUNTIFS('Daily Diary'!A:A,'Grafico Strategie Settimanali'!B372,'Daily Diary'!E:E,\"SCALPING\")","v":0},{"$f":"COUNTIFS('Daily Diary'!A:A,'Grafico Strategie Settimanali'!B372,'Daily Diary'!E:E,\"GT90\")","v":0},{"$f":"COUNTIFS('Daily Diary'!A:A,'Grafico Strategie Settimanali'!B372,'Daily Diary'!E:E,\"GT110\")","v":0},{"$f":"COUNTIFS('Daily Diary'!A:A,'Grafico Strategie Settimanali'!B372,'Daily Diary'!E:E,\"ALERT GOAL\")","v":0},{"$f":"COUNTIFS('Daily Diary'!A:A,'Grafico Strategie Settimanali'!B372,'Daily Diary'!E:E,\"DRAW NO BET\")","v":0},{"$f":"COUNTIFS('Daily Diary'!A:A,'Grafico Strategie Settimanali'!B372,'Daily Diary'!E:E,\"ALTRO\")","v":0},{"$f":"COUNTIFS('Daily Diary'!A:A,'Grafico Strategie Settimanali'!B372,'Daily Diary'!E:E,\"BANCA PAREGGIO\",'Daily Diary'!E:E,\"BANCA PAREGGIO\",'Daily Diary'!K:K,\"WIN\")","v":0},{"$f":"COUNTIFS('Daily Diary'!A:A,'Grafico Strategie Settimanali'!B372,'Daily Diary'!E:E,\"PUNTA SQ.CASA\",'Daily Diary'!E:E,\"PUNTA SQ.CASA\",'Daily Diary'!K:K,\"WIN\")","v":0},{"$f":"COUNTIFS('Daily Diary'!A:A,'Grafico Strategie Settimanali'!B372,'Daily Diary'!E:E,\"PUNTA SQ.OSPITE\",'Daily Diary'!E:E,\"PUNTA SQ.OSPITE\",'Daily Diary'!K:K,\"WIN\")","v":0},{"$f":"COUNTIFS('Daily Diary'!A:A,'Grafico Strategie Settimanali'!B372,'Daily Diary'!E:E,\"BANCA SFAVORITA\",'Daily Diary'!E:E,\"BANCA SFAVORITA\",'Daily Diary'!K:K,\"WIN\")","v":0},{"$f":"COUNTIFS('Daily Diary'!A:A,'Grafico Strategie Settimanali'!B372,'Daily Diary'!E:E,\"PUNTA OVER\",'Daily Diary'!E:E,\"PUNTA OVER\",'Daily Diary'!K:K,\"WIN\")","v":0},{"$f":"COUNTIFS('Daily Diary'!A:A,'Grafico Strategie Settimanali'!B372,'Daily Diary'!E:E,\"PUNTA UNDER\",'Daily Diary'!E:E,\"PUNTA UNDER\",'Daily Diary'!K:K,\"WIN\")","v":0},{"$f":"COUNTIFS('Daily Diary'!A:A,'Grafico Strategie Settimanali'!B372,'Daily Diary'!E:E,\"SCALPING\",'Daily Diary'!E:E,\"SCALPING\",'Daily Diary'!K:K,\"WIN\")","v":0},{"$f":"COUNTIFS('Daily Diary'!A:A,'Grafico Strategie Settimanali'!B372,'Daily Diary'!E:E,\"GT 90\",'Daily Diary'!E:E,\"GT 90\",'Daily Diary'!K:K,\"WIN\")","v":0},{"$f":"COUNTIFS('Daily Diary'!A:A,'Grafico Strategie Settimanali'!B372,'Daily Diary'!E:E,\"GT 110\",'Daily Diary'!E:E,\"GT 110\",'Daily Diary'!K:K,\"WIN\")","v":0},{"$f":"COUNTIFS('Daily Diary'!A:A,'Grafico Strategie Settimanali'!B372,'Daily Diary'!E:E,\"ALERT GOAL\",'Daily Diary'!E:E,\"ALERT GOAL\",'Daily Diary'!K:K,\"WIN\")","v":0},{"$f":"COUNTIFS('Daily Diary'!A:A,'Grafico Strategie Settimanali'!B372,'Daily Diary'!E:E,\"DRAW NO BET\",'Daily Diary'!E:E,\"DRAW NO BET\",'Daily Diary'!K:K,\"WIN\")","v":0},{"$f":"COUNTIFS('Daily Diary'!A:A,'Grafico Strategie Settimanali'!B372,'Daily Diary'!E:E,\"ALTRO\",'Daily Diary'!E:E,\"ALTRO\",'Daily Diary'!K:K,\"WIN\")","v":0},{"$error":"#DIV/0!"},{"$error":"#DIV/0!"},{"$error":"#DIV/0!"},{"$error":"#DIV/0!"},{"$error":"#DIV/0!"},{"$error":"#DIV/0!"},{"$error":"#DIV/0!"},{"$error":"#DIV/0!"},{"$error":"#DIV/0!"},{"$error":"#DIV/0!"},{"$error":"#DIV/0!"},{"$error":"#DIV/0!"}]
[0,"2024-05-09",{"$f":"COUNTIFS('Daily Diary'!A:A,'Grafico Strategie Settimanali'!B373,'Daily Diary'!E:E,\"BANCA PAREGGIO\")","v":0},{"$f":"COUNTIFS('Daily Diary'!A:A,'Grafico Strategie Settimanali'!B373,'Daily Diary'!E:E,\"PUNTA SQ.CASA\")","v":0},{"$f":"COUNTIFS('Daily Diary'!A:A,'Grafico Strategie Settimanali'!B373,'Daily Diary'!E:E,\"PUNTA SQ.OSPITE\")","v":0},{"$f":"COUNTIFS('Daily Diary'!A:A,'Grafico Strategie Settimanali'!B373,'Daily Diary'!E:E,\"BANCA SFAVORITA\")","v":0},{"$f":"COUNTIFS('Daily Diary'!A:A,'Grafico Strategie Settimanali'!B373,'Daily Diary'!E:E,\"PUNTA OVER\")","v":0},{"$f":"COUNTIFS('Daily Diary'!A:A,'Grafico Strategie Settimanali'!B373,'Daily Diary'!E:E,\"PUNTA UNDER\")","v":0},{"$f":"COUNTIFS('Daily Diary'!A:A,'Grafico Strategie Settimanali'!B373,'Daily Diary'!E:E,\"SCALPING\")","v":0},{"$f":"COUNTIFS('Daily Diary'!A:A,'Grafico Strategie Settimanali'!B373,'Daily Diary'!E:E,\"GT90\")","v":0},{"$f":"COUNTIFS('Daily Diary'!A:A,'Grafico Strategie Settimanali'!B373,'Daily Diary'!E:E,\"GT110\")","v":0},{"$f":"COUNTIFS('Daily Diary'!A:A,'Grafico Strategie Settimanali'!B373,'Daily Diary'!E:E,\"ALERT GOAL\")","v":0},{"$f":"COUNTIFS('Daily Diary'!A:A,'Grafico Strategie Settimanali'!B373,'Daily Diary'!E:E,\"DRAW NO BET\")","v":0},{"$f":"COUNTIFS('Daily Diary'!A:A,'Grafico Strategie Settimanali'!B373,'Daily Diary'!E:E,\"ALTRO\")","v":0},{"$f":"COUNTIFS('Daily Diary'!A:A,'Grafico Strategie Settimanali'!B373,'Daily Diary'!E:E,\"BANCA PAREGGIO\",'Daily Diary'!E:E,\"BANCA PAREGGIO\",'Daily Diary'!K:K,\"WIN\")","v":0},{"$f":"COUNTIFS('Daily Diary'!A:A,'Grafico Strategie Settimanali'!B373,'Daily Diary'!E:E,\"PUNTA SQ.CASA\",'Daily Diary'!E:E,\"PUNTA SQ.CASA\",'Daily Diary'!K:K,\"WIN\")","v":0},{"$f":"COUNTIFS('Daily Diary'!A:A,'Grafico Strategie Settimanali'!B373,'Daily Diary'!E:E,\"PUNTA SQ.OSPITE\",'Daily Diary'!E:E,\"PUNTA SQ.OSPITE\",'Daily Diary'!K:K,\"WIN\")","v":0},{"$f":"COUNTIFS('Daily Diary'!A:A,'Grafico Strategie Settimanali'!B373,'Daily Diary'!E:E,\"BANCA SFAVORITA\",'Daily Diary'!E:E,\"BANCA SFAVORITA\",'Daily Diary'!K:K,\"WIN\")","v":0},{"$f":"COUNTIFS('Daily Diary'!A:A,'Grafico Strategie Settimanali'!B373,'Daily Diary'!E:E,\"PUNTA OVER\",'Daily Diary'!E:E,\"PUNTA OVER\",'Daily Diary'!K:K,\"WIN\")","v":0},{"$f":"COUNTIFS('Daily Diary'!A:A,'Grafico Strategie Settimanali'!B373,'Daily Diary'!E:E,\"PUNTA UNDER\",'Daily Diary'!E:E,\"PUNTA UNDER\",'Daily Diary'!K:K,\"WIN\")","v":0},{"$f":"COUNTIFS('Daily Diary'!A:A,'Grafico Strategie Settimanali'!B373,'Daily Diary'!E:E,\"SCALPING\",'Daily Diary'!E:E,\"SCALPING\",'Daily Diary'!K:K,\"WIN\")","v":0},{"$f":"COUNTIFS('Daily Diary'!A:A,'Grafico Strategie Settimanali'!B373,'Daily Diary'!E:E,\"GT 90\",'Daily Diary'!E:E,\"GT 90\",'Daily Diary'!K:K,\"WIN\")","v":0},{"$f":"COUNTIFS('Daily Diary'!A:A,'Grafico Strategie Settimanali'!B373,'Daily Diary'!E:E,\"GT 110\",'Daily Diary'!E:E,\"GT 110\",'Daily Diary'!K:K,\"WIN\")","v":0},{"$f":"COUNTIFS('Daily Diary'!A:A,'Grafico Strategie Settimanali'!B373,'Daily Diary'!E:E,\"ALERT GOAL\",'Daily Diary'!E:E,\"ALERT GOAL\",'Daily Diary'!K:K,\"WIN\")","v":0},{"$f":"COUNTIFS('Daily Diary'!A:A,'Grafico Strategie Settimanali'!B373,'Daily Diary'!E:E,\"DRAW NO BET\",'Daily Diary'!E:E,\"DRAW NO BET\",'Daily Diary'!K:K,\"WIN\")","v":0},{"$f":"COUNTIFS('Daily Diary'!A:A,'Grafico Strategie Settimanali'!B373,'Daily Diary'!E:E,\"ALTRO\",'Daily Diary'!E:E,\"ALTRO\",'Daily Diary'!K:K,\"WIN\")","v":0},{"$error":"#DIV/0!"},{"$error":"#DIV/0!"},{"$error":"#DIV/0!"},{"$error":"#DIV/0!"},{"$error":"#DIV/0!"},{"$error":"#DIV/0!"},{"$error":"#DIV/0!"},{"$error":"#DIV/0!"},{"$error":"#DIV/0!"},{"$error":"#DIV/0!"},{"$error":"#DIV/0!"},{"$error":"#DIV/0!"}]
[0,"2024-05-10",{"$f":"COUNTIFS('Daily Diary'!A:A,'Grafico Strategie Settimanali'!B374,'Daily Diary'!E:E,\"BANCA PAREGGIO\")","v":0},{"$f":"COUNTIFS('Daily Diary'!A:A,'Grafico Strategie Settimanali'!B374,'Daily Diary'!E:E,\"PUNTA SQ.CASA\")","v":0},{"$f":"COUNTIFS('Daily Diary'!A:A,'Grafico Strategie Settimanali'!B374,'Daily Diary'!E:E,\"PUNTA SQ.OSPITE\")","v":0},{"$f":"COUNTIFS('Daily Diary'!A:A,'Grafico Strategie Settimanali'!B374,'Daily Diary'!E:E,\"BANCA SFAVORITA\")","v":0},{"$f":"COUNTIFS('Daily Diary'!A:A,'Grafico Strategie Settimanali'!B374,'Daily Diary'!E:E,\"PUNTA OVER\")","v":0},{"$f":"COUNTIFS('Daily Diary'!A:A,'Grafico Strategie Settimanali'!B374,'Daily Diary'!E:E,\"PUNTA UNDER\")","v":0},{"$f":"COUNTIFS('Daily Diary'!A:A,'Grafico Strategie Settimanali'!B374,'Daily Diary'!E:E,\"SCALPING\")","v":0},{"$f":"COUNTIFS('Daily Diary'!A:A,'Grafico Strategie Settimanali'!B374,'Daily Diary'!E:E,\"GT90\")","v":0},{"$f":"COUNTIFS('Daily Diary'!A:A,'Grafico Strategie Settimanali'!B374,'Daily Diary'!E:E,\"GT110\")","v":0},{"$f":"COUNTIFS('Daily Diary'!A:A,'Grafico Strategie Settimanali'!B374,'Daily Diary'!E:E,\"ALERT GOAL\")","v":0},{"$f":"COUNTIFS('Daily Diary'!A:A,'Grafico Strategie Settimanali'!B374,'Daily Diary'!E:E,\"DRAW NO BET\")","v":0},{"$f":"COUNTIFS('Daily Diary'!A:A,'Grafico Strategie Settimanali'!B374,'Daily Diary'!E:E,\"ALTRO\")","v":0},{"$f":"COUNTIFS('Daily Diary'!A:A,'Grafico Strategie Settimanali'!B374,'Daily Diary'!E:E,\"BANCA PAREGGIO\",'Daily Diary'!E:E,\"BANCA PAREGGIO\",'Daily Diary'!K:K,\"WIN\")","v":0},{"$f":"COUNTIFS('Daily Diary'!A:A,'Grafico Strategie Settimanali'!B374,'Daily Diary'!E:E,\"PUNTA SQ.CASA\",'Daily Diary'!E:E,\"PUNTA SQ.CASA\",'Daily Diary'!K:K,\"WIN\")","v":0},{"$f":"COUNTIFS('Daily Diary'!A:A,'Grafico Strategie Settimanali'!B374,'Daily Diary'!E:E,\"PUNTA SQ.OSPITE\",'Daily Diary'!E:E,\"PUNTA SQ.OSPITE\",'Daily Diary'!K:K,\"WIN\")","v":0},{"$f":"COUNTIFS('Daily Diary'!A:A,'Grafico Strategie Settimanali'!B374,'Daily Diary'!E:E,\"BANCA SFAVORITA\",'Daily Diary'!E:E,\"BANCA SFAVORITA\",'Daily Diary'!K:K,\"WIN\")","v":0},{"$f":"COUNTIFS('Daily Diary'!A:A,'Grafico Strategie Settimanali'!B374,'Daily Diary'!E:E,\"PUNTA OVER\",'Daily Diary'!E:E,\"PUNTA OVER\",'Daily Diary'!K:K,\"WIN\")","v":0},{"$f":"COUNTIFS('Daily Diary'!A:A,'Grafico Strategie Settimanali'!B374,'Daily Diary'!E:E,\"PUNTA UNDER\",'Daily Diary'!E:E,\"PUNTA UNDER\",'Daily Diary'!K:K,\"WIN\")","v":0},{"$f":"COUNTIFS('Daily Diary'!A:A,'Grafico Strategie Settimanali'!B374,'Daily Diary'!E:E,\"SCALPING\",'Daily Diary'!E:E,\"SCALPING\",'Daily Diary'!K:K,\"WIN\")","v":0},{"$f":"COUNTIFS('Daily Diary'!A:A,'Grafico Strategie Settimanali'!B374,'Daily Diary'!E:E,\"GT 90\",'Daily Diary'!E:E,\"GT 90\",'Daily Diary'!K:K,\"WIN\")","v":0},{"$f":"COUNTIFS('Daily Diary'!A:A,'Grafico Strategie Settimanali'!B374,'Daily Diary'!E:E,\"GT 110\",'Daily Diary'!E:E,\"GT 110\",'Daily Diary'!K:K,\"WIN\")","v":0},{"$f":"COUNTIFS('Daily Diary'!A:A,'Grafico Strategie Settimanali'!B374,'Daily Diary'!E:E,\"ALERT GOAL\",'Daily Diary'!E:E,\"ALERT GOAL\",'Daily Diary'!K:K,\"WIN\")","v":0},{"$f":"COUNTIFS('Daily Diary'!A:A,'Grafico Strategie Settimanali'!B374,'Daily Diary'!E:E,\"DRAW NO BET\",'Daily Diary'!E:E,\"DRAW NO BET\",'Daily Diary'!K:K,\"WIN\")","v":0},{"$f":"COUNTIFS('Daily Diary'!A:A,'Grafico Strategie Settimanali'!B374,'Daily Diary'!E:E,\"ALTRO\",'Daily Diary'!E:E,\"ALTRO\",'Daily Diary'!K:K,\"WIN\")","v":0},{"$error":"#DIV/0!"},{"$error":"#DIV/0!"},{"$error":"#DIV/0!"},{"$error":"#DIV/0!"},{"$error":"#DIV/0!"},{"$error":"#DIV/0!"},{"$error":"#DIV/0!"},{"$error":"#DIV/0!"},{"$error":"#DIV/0!"},{"$error":"#DIV/0!"},{"$error":"#DIV/0!"},{"$error":"#DIV/0!"}]
[0,"2024-05-11",{"$f":"COUNTIFS('Daily Diary'!A:A,'Grafico Strategie Settimanali'!B375,'Daily Diary'!E:E,\"BANCA PAREGGIO\")","v":0},{"$f":"COUNTIFS('Daily Diary'!A:A,'Grafico Strategie Settimanali'!B375,'Daily Diary'!E:E,\"PUNTA SQ.CASA\")","v":0},{"$f":"COUNTIFS('Daily Diary'!A:A,'Grafico Strategie Settimanali'!B375,'Daily Diary'!E:E,\"PUNTA SQ.OSPITE\")","v":0},{"$f":"COUNTIFS('Daily Diary'!A:A,'Grafico Strategie Settimanali'!B375,'Daily Diary'!E:E,\"BANCA SFAVORITA\")","v":0},{"$f":"COUNTIFS('Daily Diary'!A:A,'Grafico Strategie Settimanali'!B375,'Daily Diary'!E:E,\"PUNTA OVER\")","v":0},{"$f":"COUNTIFS('Daily Diary'!A:A,'Grafico Strategie Settimanali'!B375,'Daily Diary'!E:E,\"PUNTA UNDER\")","v":0},{"$f":"COUNTIFS('Daily Diary'!A:A,'Grafico Strategie Settimanali'!B375,'Daily Diary'!E:E,\"SCALPING\")","v":0},{"$f":"COUNTIFS('Daily Diary'!A:A,'Grafico Strategie Settimanali'!B375,'Daily Diary'!E:E,\"GT90\")","v":0},{"$f":"COUNTIFS('Daily Diary'!A:A,'Grafico Strategie Settimanali'!B375,'Daily Diary'!E:E,\"GT110\")","v":0},{"$f":"COUNTIFS('Daily Diary'!A:A,'Grafico Strategie Settimanali'!B375,'Daily Diary'!E:E,\"ALERT GOAL\")","v":0},{"$f":"COUNTIFS('Daily Diary'!A:A,'Grafico Strategie Settimanali'!B375,'Daily Diary'!E:E,\"DRAW NO BET\")","v":0},{"$f":"COUNTIFS('Daily Diary'!A:A,'Grafico Strategie Settimanali'!B375,'Daily Diary'!E:E,\"ALTRO\")","v":0},{"$f":"COUNTIFS('Daily Diary'!A:A,'Grafico Strategie Settimanali'!B375,'Daily Diary'!E:E,\"BANCA PAREGGIO\",'Daily Diary'!E:E,\"BANCA PAREGGIO\",'Daily Diary'!K:K,\"WIN\")","v":0},{"$f":"COUNTIFS('Daily Diary'!A:A,'Grafico Strategie Settimanali'!B375,'Daily Diary'!E:E,\"PUNTA SQ.CASA\",'Daily Diary'!E:E,\"PUNTA SQ.CASA\",'Daily Diary'!K:K,\"WIN\")","v":0},{"$f":"COUNTIFS('Daily Diary'!A:A,'Grafico Strategie Settimanali'!B375,'Daily Diary'!E:E,\"PUNTA SQ.OSPITE\",'Daily Diary'!E:E,\"PUNTA SQ.OSPITE\",'Daily Diary'!K:K,\"WIN\")","v":0},{"$f":"COUNTIFS('Daily Diary'!A:A,'Grafico Strategie Settimanali'!B375,'Daily Diary'!E:E,\"BANCA SFAVORITA\",'Daily Diary'!E:E,\"BANCA SFAVORITA\",'Daily Diary'!K:K,\"WIN\")","v":0},{"$f":"COUNTIFS('Daily Diary'!A:A,'Grafico Strategie Settimanali'!B375,'Daily Diary'!E:E,\"PUNTA OVER\",'Daily Diary'!E:E,\"PUNTA OVER\",'Daily Diary'!K:K,\"WIN\")","v":0},{"$f":"COUNTIFS('Daily Diary'!A:A,'Grafico Strategie Settimanali'!B375,'Daily Diary'!E:E,\"PUNTA UNDER\",'Daily Diary'!E:E,\"PUNTA UNDER\",'Daily Diary'!K:K,\"WIN\")","v":0},{"$f":"COUNTIFS('Daily Diary'!A:A,'Grafico Strategie Settimanali'!B375,'Daily Diary'!E:E,\"SCALPING\",'Daily Diary'!E:E,\"SCALPING\",'Daily Diary'!K:K,\"WIN\")","v":0},{"$f":"COUNTIFS('Daily Diary'!A:A,'Grafico Strategie Settimanali'!B375,'Daily Diary'!E:E,\"GT 90\",'Daily Diary'!E:E,\"GT 90\",'Daily Diary'!K:K,\"WIN\")","v":0},{"$f":"COUNTIFS('Daily Diary'!A:A,'Grafico Strategie Settimanali'!B375,'Daily Diary'!E:E,\"GT 110\",'Daily Diary'!E:E,\"GT 110\",'Daily Diary'!K:K,\"WIN\")","v":0},{"$f":"COUNTIFS('Daily Diary'!A:A,'Grafico Strategie Settimanali'!B375,'Daily Diary'!E:E,\"ALERT GOAL\",'Daily Diary'!E:E,\"ALERT GOAL\",'Daily Diary'!K:K,\"WIN\")","v":0},{"$f":"COUNTIFS('Daily Diary'!A:A,'Grafico Strategie Settimanali'!B375,'Daily Diary'!E:E,\"DRAW NO BET\",'Daily Diary'!E:E,\"DRAW NO BET\",'Daily Diary'!K:K,\"WIN\")","v":0},{"$f":"COUNTIFS('Daily Diary'!A:A,'Grafico Strategie Settimanali'!B375,'Daily Diary'!E:E,\"ALTRO\",'Daily Diary'!E:E,\"ALTRO\",'Daily Diary'!K:K,\"WIN\")","v":0},{"$error":"#DIV/0!"},{"$error":"#DIV/0!"},{"$error":"#DIV/0!"},{"$error":"#DIV/0!"},{"$error":"#DIV/0!"},{"$error":"#DIV/0!"},{"$error":"#DIV/0!"},{"$error":"#DIV/0!"},{"$error":"#DIV/0!"},{"$error":"#DIV/0!"},{"$error":"#DIV/0!"},{"$error":"#DIV/0!"}]
[0,"2024-05-12",{"$f":"COUNTIFS('Daily Diary'!A:A,'Grafico Strategie Settimanali'!B376,'Daily Diary'!E:E,\"BANCA PAREGGIO\")","v":0},{"$f":"COUNTIFS('Daily Diary'!A:A,'Grafico Strategie Settimanali'!B376,'Daily Diary'!E:E,\"PUNTA SQ.CASA\")","v":0},{"$f":"COUNTIFS('Daily Diary'!A:A,'Grafico Strategie Settimanali'!B376,'Daily Diary'!E:E,\"PUNTA SQ.OSPITE\")","v":0},{"$f":"COUNTIFS('Daily Diary'!A:A,'Grafico Strategie Settimanali'!B376,'Daily Diary'!E:E,\"BANCA SFAVORITA\")","v":0},{"$f":"COUNTIFS('Daily Diary'!A:A,'Grafico Strategie Settimanali'!B376,'Daily Diary'!E:E,\"PUNTA OVER\")","v":0},{"$f":"COUNTIFS('Daily Diary'!A:A,'Grafico Strategie Settimanali'!B376,'Daily Diary'!E:E,\"PUNTA UNDER\")","v":0},{"$f":"COUNTIFS('Daily Diary'!A:A,'Grafico Strategie Settimanali'!B376,'Daily Diary'!E:E,\"SCALPING\")","v":0},{"$f":"COUNTIFS('Daily Diary'!A:A,'Grafico Strategie Settimanali'!B376,'Daily Diary'!E:E,\"GT90\")","v":0},{"$f":"COUNTIFS('Daily Diary'!A:A,'Grafico Strategie Settimanali'!B376,'Daily Diary'!E:E,\"GT110\")","v":0},{"$f":"COUNTIFS('Daily Diary'!A:A,'Grafico Strategie Settimanali'!B376,'Daily Diary'!E:E,\"ALERT GOAL\")","v":0},{"$f":"COUNTIFS('Daily Diary'!A:A,'Grafico Strategie Settimanali'!B376,'Daily Diary'!E:E,\"DRAW NO BET\")","v":0},{"$f":"COUNTIFS('Daily Diary'!A:A,'Grafico Strategie Settimanali'!B376,'Daily Diary'!E:E,\"ALTRO\")","v":0},{"$f":"COUNTIFS('Daily Diary'!A:A,'Grafico Strategie Settimanali'!B376,'Daily Diary'!E:E,\"BANCA PAREGGIO\",'Daily Diary'!E:E,\"BANCA PAREGGIO\",'Daily Diary'!K:K,\"WIN\")","v":0},{"$f":"COUNTIFS('Daily Diary'!A:A,'Grafico Strategie Settimanali'!B376,'Daily Diary'!E:E,\"PUNTA SQ.CASA\",'Daily Diary'!E:E,\"PUNTA SQ.CASA\",'Daily Diary'!K:K,\"WIN\")","v":0},{"$f":"COUNTIFS('Daily Diary'!A:A,'Grafico Strategie Settimanali'!B376,'Daily Diary'!E:E,\"PUNTA SQ.OSPITE\",'Daily Diary'!E:E,\"PUNTA SQ.OSPITE\",'Daily Diary'!K:K,\"WIN\")","v":0},{"$f":"COUNTIFS('Daily Diary'!A:A,'Grafico Strategie Settimanali'!B376,'Daily Diary'!E:E,\"BANCA SFAVORITA\",'Daily Diary'!E:E,\"BANCA SFAVORITA\",'Daily Diary'!K:K,\"WIN\")","v":0},{"$f":"COUNTIFS('Daily Diary'!A:A,'Grafico Strategie Settimanali'!B376,'Daily Diary'!E:E,\"PUNTA OVER\",'Daily Diary'!E:E,\"PUNTA OVER\",'Daily Diary'!K:K,\"WIN\")","v":0},{"$f":"COUNTIFS('Daily Diary'!A:A,'Grafico Strategie Settimanali'!B376,'Daily Diary'!E:E,\"PUNTA UNDER\",'Daily Diary'!E:E,\"PUNTA UNDER\",'Daily Diary'!K:K,\"WIN\")","v":0},{"$f":"COUNTIFS('Daily Diary'!A:A,'Grafico Strategie Settimanali'!B376,'Daily Diary'!E:E,\"SCALPING\",'Daily Diary'!E:E,\"SCALPING\",'Daily Diary'!K:K,\"WIN\")","v":0},{"$f":"COUNTIFS('Daily Diary'!A:A,'Grafico Strategie Settimanali'!B376,'Daily Diary'!E:E,\"GT 90\",'Daily Diary'!E:E,\"GT 90\",'Daily Diary'!K:K,\"WIN\")","v":0},{"$f":"COUNTIFS('Daily Diary'!A:A,'Grafico Strategie Settimanali'!B376,'Daily Diary'!E:E,\"GT 110\",'Daily Diary'!E:E,\"GT 110\",'Daily Diary'!K:K,\"WIN\")","v":0},{"$f":"COUNTIFS('Daily Diary'!A:A,'Grafico Strategie Settimanali'!B376,'Daily Diary'!E:E,\"ALERT GOAL\",'Daily Diary'!E:E,\"ALERT GOAL\",'Daily Diary'!K:K,\"WIN\")","v":0},{"$f":"COUNTIFS('Daily Diary'!A:A,'Grafico Strategie Settimanali'!B376,'Daily Diary'!E:E,\"DRAW NO BET\",'Daily Diary'!E:E,\"DRAW NO BET\",'Daily Diary'!K:K,\"WIN\")","v":0},{"$f":"COUNTIFS('Daily Diary'!A:A,'Grafico Strategie Settimanali'!B376,'Daily Diary'!E:E,\"ALTRO\",'Daily Diary'!E:E,\"ALTRO\",'Daily Diary'!K:K,\"WIN\")","v":0},{"$error":"#DIV/0!"},{"$error":"#DIV/0!"},{"$error":"#DIV/0!"},{"$error":"#DIV/0!"},{"$error":"#DIV/0!"},{"$error":"#DIV/0!"},{"$error":"#DIV/0!"},{"$error":"#DIV/0!"},{"$error":"#DIV/0!"},{"$error":"#DIV/0!"},{"$error":"#DIV/0!"},{"$error":"#DIV/0!"}]
[0,"2024-05-13",{"$f":"COUNTIFS('Daily Diary'!A:A,'Grafico Strategie Settimanali'!B377,'Daily Diary'!E:E,\"BANCA PAREGGIO\")","v":0},{"$f":"COUNTIFS('Daily Diary'!A:A,'Grafico Strategie Settimanali'!B377,'Daily Diary'!E:E,\"PUNTA SQ.CASA\")","v":0},{"$f":"COUNTIFS('Daily Diary'!A:A,'Grafico Strategie Settimanali'!B377,'Daily Diary'!E:E,\"PUNTA SQ.OSPITE\")","v":0},{"$f":"COUNTIFS('Daily Diary'!A:A,'Grafico Strategie Settimanali'!B377,'Daily Diary'!E:E,\"BANCA SFAVORITA\")","v":0},{"$f":"COUNTIFS('Daily Diary'!A:A,'Grafico Strategie Settimanali'!B377,'Daily Diary'!E:E,\"PUNTA OVER\")","v":0},{"$f":"COUNTIFS('Daily Diary'!A:A,'Grafico Strategie Settimanali'!B377,'Daily Diary'!E:E,\"PUNTA UNDER\")","v":0},{"$f":"COUNTIFS('Daily Diary'!A:A,'Grafico Strategie Settimanali'!B377,'Daily Diary'!E:E,\"SCALPING\")","v":0},{"$f":"COUNTIFS('Daily Diary'!A:A,'Grafico Strategie Settimanali'!B377,'Daily Diary'!E:E,\"GT90\")","v":0},{"$f":"COUNTIFS('Daily Diary'!A:A,'Grafico Strategie Settimanali'!B377,'Daily Diary'!E:E,\"GT110\")","v":0},{"$f":"COUNTIFS('Daily Diary'!A:A,'Grafico Strategie Settimanali'!B377,'Daily Diary'!E:E,\"ALERT GOAL\")","v":0},{"$f":"COUNTIFS('Daily Diary'!A:A,'Grafico Strategie Settimanali'!B377,'Daily Diary'!E:E,\"DRAW NO BET\")","v":0},{"$f":"COUNTIFS('Daily Diary'!A:A,'Grafico Strategie Settimanali'!B377,'Daily Diary'!E:E,\"ALTRO\")","v":0},{"$f":"COUNTIFS('Daily Diary'!A:A,'Grafico Strategie Settimanali'!B377,'Daily Diary'!E:E,\"BANCA PAREGGIO\",'Daily Diary'!E:E,\"BANCA PAREGGIO\",'Daily Diary'!K:K,\"WIN\")","v":0},{"$f":"COUNTIFS('Daily Diary'!A:A,'Grafico Strategie Settimanali'!B377,'Daily Diary'!E:E,\"PUNTA SQ.CASA\",'Daily Diary'!E:E,\"PUNTA SQ.CASA\",'Daily Diary'!K:K,\"WIN\")","v":0},{"$f":"COUNTIFS('Daily Diary'!A:A,'Grafico Strategie Settimanali'!B377,'Daily Diary'!E:E,\"PUNTA SQ.OSPITE\",'Daily Diary'!E:E,\"PUNTA SQ.OSPITE\",'Daily Diary'!K:K,\"WIN\")","v":0},{"$f":"COUNTIFS('Daily Diary'!A:A,'Grafico Strategie Settimanali'!B377,'Daily Diary'!E:E,\"BANCA SFAVORITA\",'Daily Diary'!E:E,\"BANCA SFAVORITA\",'Daily Diary'!K:K,\"WIN\")","v":0},{"$f":"COUNTIFS('Daily Diary'!A:A,'Grafico Strategie Settimanali'!B377,'Daily Diary'!E:E,\"PUNTA OVER\",'Daily Diary'!E:E,\"PUNTA OVER\",'Daily Diary'!K:K,\"WIN\")","v":0},{"$f":"COUNTIFS('Daily Diary'!A:A,'Grafico Strategie Settimanali'!B377,'Daily Diary'!E:E,\"PUNTA UNDER\",'Daily Diary'!E:E,\"PUNTA UNDER\",'Daily Diary'!K:K,\"WIN\")","v":0},{"$f":"COUNTIFS('Daily Diary'!A:A,'Grafico Strategie Settimanali'!B377,'Daily Diary'!E:E,\"SCALPING\",'Daily Diary'!E:E,\"SCALPING\",'Daily Diary'!K:K,\"WIN\")","v":0},{"$f":"COUNTIFS('Daily Diary'!A:A,'Grafico Strategie Settimanali'!B377,'Daily Diary'!E:E,\"GT 90\",'Daily Diary'!E:E,\"GT 90\",'Daily Diary'!K:K,\"WIN\")","v":0},{"$f":"COUNTIFS('Daily Diary'!A:A,'Grafico Strategie Settimanali'!B377,'Daily Diary'!E:E,\"GT 110\",'Daily Diary'!E:E,\"GT 110\",'Daily Diary'!K:K,\"WIN\")","v":0},{"$f":"COUNTIFS('Daily Diary'!A:A,'Grafico Strategie Settimanali'!B377,'Daily Diary'!E:E,\"ALERT GOAL\",'Daily Diary'!E:E,\"ALERT GOAL\",'Daily Diary'!K:K,\"WIN\")","v":0},{"$f":"COUNTIFS('Daily Diary'!A:A,'Grafico Strategie Settimanali'!B377,'Daily Diary'!E:E,\"DRAW NO BET\",'Daily Diary'!E:E,\"DRAW NO BET\",'Daily Diary'!K:K,\"WIN\")","v":0},{"$f":"COUNTIFS('Daily Diary'!A:A,'Grafico Strategie Settimanali'!B377,'Daily Diary'!E:E,\"ALTRO\",'Daily Diary'!E:E,\"ALTRO\",'Daily Diary'!K:K,\"WIN\")","v":0},{"$error":"#DIV/0!"},{"$error":"#DIV/0!"},{"$error":"#DIV/0!"},{"$error":"#DIV/0!"},{"$error":"#DIV/0!"},{"$error":"#DIV/0!"},{"$error":"#DIV/0!"},{"$error":"#DIV/0!"},{"$error":"#DIV/0!"},{"$error":"#DIV/0!"},{"$error":"#DIV/0!"},{"$error":"#DIV/0!"}]
[0,{"$f":"B377+1","v":"2024-05-14"},{"$f":"COUNTIFS('Daily Diary'!A:A,'Grafico Strategie Settimanali'!B378,'Daily Diary'!E:E,\"BANCA PAREGGIO\")","v":0},{"$f":"COUNTIFS('Daily Diary'!A:A,'Grafico Strategie Settimanali'!B378,'Daily Diary'!E:E,\"PUNTA SQ.CASA\")","v":0},{"$f":"COUNTIFS('Daily Diary'!A:A,'Grafico Strategie Settimanali'!B378,'Daily Diary'!E:E,\"PUNTA SQ.OSPITE\")","v":0},{"$f":"COUNTIFS('Daily Diary'!A:A,'Grafico Strategie Settimanali'!B378,'Daily Diary'!E:E,\"BANCA SFAVORITA\")","v":0},{"$f":"COUNTIFS('Daily Diary'!A:A,'Grafico Strategie Settimanali'!B378,'Daily Diary'!E:E,\"PUNTA OVER\")","v":0},{"$f":"COUNTIFS('Daily Diary'!A:A,'Grafico Strategie Settimanali'!B378,'Daily Diary'!E:E,\"PUNTA UNDER\")","v":0},{"$f":"COUNTIFS('Daily Diary'!A:A,'Grafico Strategie Settimanali'!B378,'Daily Diary'!E:E,\"SCALPING\")","v":0},{"$f":"COUNTIFS('Daily Diary'!A:A,'Grafico Strategie Settimanali'!B378,'Daily Diary'!E:E,\"GT90\")","v":0},{"$f":"COUNTIFS('Daily Diary'!A:A,'Grafico Strategie Settimanali'!B378,'Daily Diary'!E:E,\"GT110\")","v":0},{"$f":"COUNTIFS('Daily Diary'!A:A,'Grafico Strategie Settimanali'!B378,'Daily Diary'!E:E,\"ALERT GOAL\")","v":0},{"$f":"COUNTIFS('Daily Diary'!A:A,'Grafico Strategie Settimanali'!B378,'Daily Diary'!E:E,\"DRAW NO BET\")","v":0},{"$f":"COUNTIFS('Daily Diary'!A:A,'Grafico Strategie Settimanali'!B378,'Daily Diary'!E:E,\"ALTRO\")","v":0},{"$f":"COUNTIFS('Daily Diary'!A:A,'Grafico Strategie Settimanali'!B378,'Daily Diary'!E:E,\"BANCA PAREGGIO\",'Daily Diary'!E:E,\"BANCA PAREGGIO\",'Daily Diary'!K:K,\"WIN\")","v":0},{"$f":"COUNTIFS('Daily Diary'!A:A,'Grafico Strategie Settimanali'!B378,'Daily Diary'!E:E,\"PUNTA SQ.CASA\",'Daily Diary'!E:E,\"PUNTA SQ.CASA\",'Daily Diary'!K:K,\"WIN\")","v":0},{"$f":"COUNTIFS('Daily Diary'!A:A,'Grafico Strategie Settimanali'!B378,'Daily Diary'!E:E,\"PUNTA SQ.OSPITE\",'Daily Diary'!E:E,\"PUNTA SQ.OSPITE\",'Daily Diary'!K:K,\"WIN\")","v":0},{"$f":"COUNTIFS('Daily Diary'!A:A,'Grafico Strategie Settimanali'!B378,'Daily Diary'!E:E,\"BANCA SFAVORITA\",'Daily Diary'!E:E,\"BANCA SFAVORITA\",'Daily Diary'!K:K,\"WIN\")","v":0},{"$f":"COUNTIFS('Daily Diary'!A:A,'Grafico Strategie Settimanali'!B378,'Daily Diary'!E:E,\"PUNTA OVER\",'Daily Diary'!E:E,\"PUNTA OVER\",'Daily Diary'!K:K,\"WIN\")","v":0},{"$f":"COUNTIFS('Daily Diary'!A:A,'Grafico Strategie Settimanali'!B378,'Daily Diary'!E:E,\"PUNTA UNDER\",'Daily Diary'!E:E,\"PUNTA UNDER\",'Daily Diary'!K:K,\"WIN\")","v":0},{"$f":"COUNTIFS('Daily Diary'!A:A,'Grafico Strategie Settimanali'!B378,'Daily Diary'!E:E,\"SCALPING\",'Daily Diary'!E:E,\"SCALPING\",'Daily Diary'!K:K,\"WIN\")","v":0},{"$f":"COUNTIFS('Daily Diary'!A:A,'Grafico Strategie Settimanali'!B378,'Daily Diary'!E:E,\"GT 90\",'Daily Diary'!E:E,\"GT 90\",'Daily Diary'!K:K,\"WIN\")","v":0},{"$f":"COUNTIFS('Daily Diary'!A:A,'Grafico Strategie Settimanali'!B378,'Daily Diary'!E:E,\"GT 110\",'Daily Diary'!E:E,\"GT 110\",'Daily Diary'!K:K,\"WIN\")","v":0},{"$f":"COUNTIFS('Daily Diary'!A:A,'Grafico Strategie Settimanali'!B378,'Daily Diary'!E:E,\"ALERT GOAL\",'Daily Diary'!E:E,\"ALERT GOAL\",'Daily Diary'!K:K,\"WIN\")","v":0},{"$f":"COUNTIFS('Daily Diary'!A:A,'Grafico Strategie Settimanali'!B378,'Daily Diary'!E:E,\"DRAW NO BET\",'Daily Diary'!E:E,\"DRAW NO BET\",'Daily Diary'!K:K,\"WIN\")","v":0},{"$f":"COUNTIFS('Daily Diary'!A:A,'Grafico Strategie Settimanali'!B378,'Daily Diary'!E:E,\"ALTRO\",'Daily Diary'!E:E,\"ALTRO\",'Daily Diary'!K:K,\"WIN\")","v":0},{"$error":"#DIV/0!"},{"$error":"#DIV/0!"},{"$error":"#DIV/0!"},{"$error":"#DIV/0!"},{"$error":"#DIV/0!"},{"$error":"#DIV/0!"},{"$error":"#DIV/0!"},{"$error":"#DIV/0!"},{"$error":"#DIV/0!"},{"$error":"#DIV/0!"},{"$error":"#DIV/0!"},{"$error":"#DIV/0!"}]

{"sheet":"Pivot Strategie","index":13,"n_rows":2,"n_cols":1,"rows_kept":2,"cut":false,"hidden":true,"merged":[]}
["Somma di Profit/\nLoss"]
[44]